Workbook

Sheet Forecasted Budget
A1: Section L Attachment H
A2: Management and Operating (M&O) Contract for the Savannah River Site (SRS)
A3: The amounts below represent Forecasted Management and Operating, Savannah River Plutonium Processing Facility Project (SRPPF), and SPP Budgets by Contract Period
A4: SUMMARY | B4: Forecasted Budgets
A6: CLIN 0002 - Management and Operating (M&O) | B6: Forecasted Management & Operations Budget | D6: CLIN 0003 - Management and Operating (M&O) | E6: Forecasted Management & Operations Budget
A7: Base Period | D7: Base Period
A8: Year 1 | B8: 876013043 | D8: Year 1 | E8: 489886000
A9: Year 2 | B9: 893533304 | D9: Year 2 | E9: 516507000
A10: Year 3 | B10: 911403970 | D10: Year 3 | E10: 536142000
A11: Year 4 | B11: 929632049 | D11: Year 4 | E11: 572254000
A12: Year 5 | B12: 948224690 | D12: Year 5 | E12: 576195003
A13: Option Period 1 | D13: Option Period 1
A14: Year 1 | B14: 967189184 | D14: Year 1 | E14: 597904501
A15: Year 2 | B15: 986532967 | D15: Year 2 | E15: 609797106
A16: Year 3 | B16: 1006263627 | D16: Year 3 | E16: 419232678
A17: Year 4 | B17: 1026388899 | D17: Year 4 | E17: 403284176
A18: Year 5 | B18: 1046916677 | D18: Year 5 | E18: 370153527
A19: Option Period 2 | D19: Option Period 2
A20: Year 1 | B20: 1067855011 | D20: Year 1 | E20: 356429725
A21: Year 2 | B21: 1089212111 | D21: Year 2 | E21: 316632239
A22: Year 3 | B22: 1110996353 | D22: Year 3 | E22: 384394183
A23: Year 4 | B23: 1133216280 | D23: Year 4 | E23: 409162932
A24: Year 5 | B24: 1155880606 | D24: Year 5 | E24: 402323363
A25: Option Period 3 | D25: Option Period 3
A26: Year 1 | B26: 1178998218 | D26: Year 1 | E26: 485958746
A27: Year 2 | B27: 1202578182 | D27: Year 2 | E27: 526176877
A28: Year 3 | B28: 1226629746 | D28: Year 3 | E28: 485896107
A29: Option Period 4 | D29: Option Period 4
A30: Year 1 | B30: 1251162341 | D30: Year 1 | E30: 399357753
A31: Year 2 | B31: 1276185588 | D31: Year 2 | E31: 551261042
A32: CLIN 0002 Subtotal | B32: =SUM(B8:B31) -> 21284812846 | D32: CLIN 0003 Subtotal | E32: =SUM(E8:E31) -> 9408948958
A34: Sub-CLIN 0004A - SRPPF | B34: Forecasted SRPPF | D34: CLIN 0006 - Strategic Partnership Programs | E34: Forecasted Strategic Partnership Programs Budget
A35: Base Period | D35: Base Period
A36: Year 1 | B36: 1760000000 | D36: Year 1 | E36: 750000
A37: Year 2 | B37: 1930000000 | D37: Year 2 | E37: 765000
A38: Year 3 | B38: 2169000000 | D38: Year 3 | E38: 780300
A39: Year 4 | B39: TBD | D39: Year 4 | E39: 795906
A40: Year 5 | B40: TBD | D40: Year 5 | E40: 811824
A41: Option Period 1 | D41: Option Period 1
A42: Year 1 | B42: TBD | D42: Year 1 | E42: 828060
A43: Year 2 | B43: TBD | D43: Year 2 | E43: 844621
A44: Year 3 | B44: TBD | D44: Year 3 | E44: 861513
A45: Year 4 | B45: TBD | D45: Year 4 | E45: 878743
A46: Year 5 | B46: TBD | D46: Year 5 | E46: 896318
A47: Option Period 2 | D47: Option Period 2
A48: Year 1 | B48: TBD | D48: Year 1 | E48: 914244
A49: Year 2 | B49: TBD | D49: Year 2 | E49: 932529
A50: Year 3 | B50: TBD | D50: Year 3 | E50: 951180
A51: Year 4 | B51: TBD | D51: Year 4 | E51: 970204
A52: Year 5 | B52: TBD | D52: Year 5 | E52: 989608
A53: Option Period 3 | D53: Option Period 3
A54: Year 1 | B54: TBD | D54: Year 1 | E54: 1009400
A55: Year 2 | B55: TBD | D55: Year 2 | E55: 1029588
A56: Year 3 | B56: TBD | D56: Year 3 | E56: 1050180
A57: Option Period 4 | D57: Option Period 4
A58: Year 1 | B58: TBD | D58: Year 1 | E58: 1071184
A59: Year 2 | B59: TBD | D59: Year 2 | E59: 1092608
A60: Sub-CLIN 0004A Subtotal | B60: =SUM(B36:B58) -> 5859000000 | D60: CLIN 0006 Subtotal | E60: =SUM(E36:E59) -> 18223010
A62: Grand Total | B62: =B60+E60+E32+B32 -> 36570984814
A64: The Section L Attachment H shall be submitted in Microsoft (MS) Excel format, version 2013 or older, with formulas and links intact and all cells unprotected.
A65: Offerors are responsible for the accuracy of all formulas, links, and all other relationships within the submitted MS Excel electronic spreadsheets and workbooks.
A66: The estimated amounts above represent the Government's baseline which shall be used to estimate the fee bases that Offerors use to propose fee percentages as outlined under the CLIN 0002, CLIN 0003, sub-CLIN 0004a, and CLIN 0006 Fee worksheets. Actual amounts during contract performance will vary.

Sheet CLIN 0001 Transition Period
A1: Section L Attachment H
A2: Transition Period
A5: CLIN 0001 -- Firm-Fixed-Price (FFP) - Transition of Savannah River Site
A7: *Transition Price $
A9: * Offerors shall populate Cell B7 of this worksheet with the proposed Transition Price.
A10: **Offerors shall not exceed $15,700,000.

Sheet CLIN 0002 M&O Fee
A1: Section L Attachment H
A2: Fee Calculation - Management and Operating
A5: CLIN 0002 -- FEE -- Management and Operating of Savannah River Site*
A7: Contract Period | B7: CLIN 0002 Forecasted Fee Base | C7: Proposed Total Available Fee Rate %** | D7: CLIN 0002 Total Available Fee | E7: Proposed Fixed Fee Allocation%*** | F7: Fixed Fee (FF) Amount $ | G7: Award Fee (AF) Amount $ | H7: Effective Proposed Fixed Fee Rate | I7: Effective Proposed Award Fee Rate
A8: Base Period (Year 1) | B8: =+(('Forecasted Budget'!B8*(1-0.1315))/(1+'CLIN 0002 M&O Fee'!C8)) -> 7.6081733e+08 | D8: =ROUND(B8*C8,0) -> 0 | E8: 0.15 | F8: =ROUND(D8*E8,0) -> 0 | G8: =+D8-F8 -> 0 | H8: =+C8*E8 -> 0 | I8: =+C8-H8 -> 0
A9: Base Period (Year 2) | B9: =+(('Forecasted Budget'!B9*(1-0.1315))/(1+'CLIN 0002 M&O Fee'!C9)) -> 7.7603367e+08 | D9: =ROUND(B9*C9,0) -> 0 | E9: 0.15 | F9: =ROUND(D9*E9,0) -> 0 | G9: =+D9-F9 -> 0 | H9: =+C9*E9 -> 0 | I9: =+C9-H9 -> 0
A10: Base Period (Year 3) | B10: =+(('Forecasted Budget'!B10*(1-0.1315))/(1+'CLIN 0002 M&O Fee'!C10)) -> 7.9155435e+08 | D10: =ROUND(B10*C10,0) -> 0 | E10: 0.15 | F10: =ROUND(D10*E10,0) -> 0 | G10: =+D10-F10 -> 0 | H10: =+C10*E10 -> 0 | I10: =+C10-H10 -> 0
A11: Base Period (Year 4) | B11: =+(('Forecasted Budget'!B11*(1-0.1315))/(1+'CLIN 0002 M&O Fee'!C11)) -> 8.0738543e+08 | D11: =ROUND(B11*C11,0) -> 0 | E11: 0.15 | F11: =ROUND(D11*E11,0) -> 0 | G11: =+D11-F11 -> 0 | H11: =+C11*E11 -> 0 | I11: =+C11-H11 -> 0
A12: Base Period (Year 5) | B12: =+(('Forecasted Budget'!B12*(1-0.1315))/(1+'CLIN 0002 M&O Fee'!C12)) -> 8.2353314e+08 | D12: =ROUND(B12*C12,0) -> 0 | E12: 0.15 | F12: =ROUND(D12*E12,0) -> 0 | G12: =+D12-F12 -> 0 | H12: =+C12*E12 -> 0 | I12: =+C12-H12 -> 0
A14: Option Period 1 (Year 1) | B14: =+(('Forecasted Budget'!B14*(1-0.1315))/(1+'CLIN 0002 M&O Fee'!C14)) -> 8.4000381e+08 | D14: =ROUND(B14*C14,0) -> 0 | E14: 0.15 | F14: =ROUND(D14*E14,0) -> 0 | G14: =+D14-F14 -> 0 | H14: =+C14*E14 -> 0 | I14: =+C14-H14 -> 0
A15: Option Period 1 (Year 2) | B15: =+(('Forecasted Budget'!B15*(1-0.1315))/(1+'CLIN 0002 M&O Fee'!C15)) -> 8.5680388e+08 | D15: =ROUND(B15*C15,0) -> 0 | E15: 0.15 | F15: =ROUND(D15*E15,0) -> 0 | G15: =+D15-F15 -> 0 | H15: =+C15*E15 -> 0 | I15: =+C15-H15 -> 0
A16: Option Period 1 (Year 3) | B16: =+(('Forecasted Budget'!B16*(1-0.1315))/(1+'CLIN 0002 M&O Fee'!C16)) -> 8.7393996e+08 | D16: =ROUND(B16*C16,0) -> 0 | E16: 0.15 | F16: =ROUND(D16*E16,0) -> 0 | G16: =+D16-F16 -> 0 | H16: =+C16*E16 -> 0 | I16: =+C16-H16 -> 0
A17: Option Period 1 (Year 4) | B17: =+(('Forecasted Budget'!B17*(1-0.1315))/(1+'CLIN 0002 M&O Fee'!C17)) -> 8.9141876e+08 | D17: =ROUND(B17*C17,0) -> 0 | E17: 0.15 | F17: =ROUND(D17*E17,0) -> 0 | G17: =+D17-F17 -> 0 | H17: =+C17*E17 -> 0 | I17: =+C17-H17 -> 0
A18: Option Period 1 (Year 5) | B18: =+(('Forecasted Budget'!B18*(1-0.1315))/(1+'CLIN 0002 M&O Fee'!C18)) -> 9.0924713e+08 | D18: =ROUND(B18*C18,0) -> 0 | E18: 0.15 | F18: =ROUND(D18*E18,0) -> 0 | G18: =+D18-F18 -> 0 | H18: =+C18*E18 -> 0 | I18: =+C18-H18 -> 0
A20: Option Period 2 (Year 1) | B20: =+(('Forecasted Budget'!B20*(1-0.1315))/(1+'CLIN 0002 M&O Fee'!C20)) -> 9.2743208e+08 | D20: =ROUND(B20*C20,0) -> 0 | E20: 0.15 | F20: =ROUND(D20*E20,0) -> 0 | G20: =+D20-F20 -> 0 | H20: =+C20*E20 -> 0 | I20: =+C20-H20 -> 0
A21: Option Period 2 (Year 2) | B21: =+(('Forecasted Budget'!B21*(1-0.1315))/(1+'CLIN 0002 M&O Fee'!C21)) -> 9.4598072e+08 | D21: =ROUND(B21*C21,0) -> 0 | E21: 0.15 | F21: =ROUND(D21*E21,0) -> 0 | G21: =+D21-F21 -> 0 | H21: =+C21*E21 -> 0 | I21: =+C21-H21 -> 0
... A31: Option Period 4 (Year 2) | B31: =+(('Forecasted Budget'!B31*(1-0.1315))/(1+'CLIN 0002 M&O Fee'!C31)) -> 1.1083672e+09 | D31: =ROUND(B31*C31,0) -> 0 | E31: 0.15 | F31: =ROUND(D31*E31,0) -> 0 | G31: =+D31-F31 -> 0 | H31: =+C31*E31 -> 0 | I31: =+C31-H31 -> 0
A32: Total | B32: =SUM(B8:B31) -> 1.848586e+10 | D32: =+SUM(D8:D31) -> 0 | F32: =SUM(F8:F31) -> 0 | G32: =+SUM(G8:G31) -> 0
A34: *Offerors shall populate columns C and E of this worksheet with proposed fee rates and fixed fee allocation rates.
A35: **Offerors shall not exceed 2.50% for proposed fee rates.
A36: ***Offerors shall not exceed 15% for proposed fixed fee allocation rates.

Sheet CLIN 0003 M&O Fee
A1: Section L Attachment H
A2: Fee Calculation - Management and Operating
A5: CLIN 0003 -- FEE -- DOE Management and Operating of Savannah River Site
A7: Contract Period | B7: CLIN 0003 Forecasted Fee Base | C7: Proposed Total Available Fee (TAF) Rate %* | D7: CLIN 0003 TAF Amount $
A8: Base Period (Year 1) | B8: =+(('Forecasted Budget'!E8*(1-0.1315))/(1+'CLIN 0003 M&O Fee'!C8)) -> 425465991 | D8: =ROUND(B8*C8,0) -> 0
A9: Base Period (Year 2) | B9: =+(('Forecasted Budget'!E9*(1-0.1315))/(1+'CLIN 0003 M&O Fee'!C9)) -> 4.4858633e+08 | D9: =ROUND(B9*C9,0) -> 0
A10: Base Period (Year 3) | B10: =+(('Forecasted Budget'!E10*(1-0.1315))/(1+'CLIN 0003 M&O Fee'!C10)) -> 465639327 | D10: =ROUND(B10*C10,0) -> 0
A11: Base Period (Year 4) | B11: =+(('Forecasted Budget'!E11*(1-0.1315))/(1+'CLIN 0003 M&O Fee'!C11)) -> 497002599 | D11: =ROUND(B11*C11,0) -> 0
A12: Base Period (Year 5) | B12: =+(('Forecasted Budget'!E12*(1-0.1315))/(1+'CLIN 0003 M&O Fee'!C12)) -> 5.0042536e+08 | D12: =ROUND(B12*C12,0) -> 0
A14: Option Period 1 (Year 1) | B14: =+(('Forecasted Budget'!E14*(1-0.1315))/(1+'CLIN 0003 M&O Fee'!C14)) -> 5.1928006e+08 | D14: =ROUND(B14*C14,0) -> 0
A15: Option Period 1 (Year 2) | B15: =+(('Forecasted Budget'!E15*(1-0.1315))/(1+'CLIN 0003 M&O Fee'!C15)) -> 5.2960879e+08 | D15: =ROUND(B15*C15,0) -> 0
A16: Option Period 1 (Year 3) | B16: =+(('Forecasted Budget'!E16*(1-0.1315))/(1+'CLIN 0003 M&O Fee'!C16)) -> 3.6410358e+08 | D16: =ROUND(B16*C16,0) -> 0
A17: Option Period 1 (Year 4) | B17: =+(('Forecasted Budget'!E17*(1-0.1315))/(1+'CLIN 0003 M&O Fee'!C17)) -> 3.5025231e+08 | D17: =ROUND(B17*C17,0) -> 0
A18: Option Period 1 (Year 5) | B18: =+(('Forecasted Budget'!E18*(1-0.1315))/(1+'CLIN 0003 M&O Fee'!C18)) -> 3.2147834e+08 | D18: =ROUND(B18*C18,0) -> 0
A20: Option Period 2 (Year 1) | B20: =+(('Forecasted Budget'!E20*(1-0.1315))/(1+'CLIN 0003 M&O Fee'!C20)) -> 3.0955922e+08 | D20: =ROUND(B20*C20,0) -> 0
A21: Option Period 2 (Year 2) | B21: =+(('Forecasted Budget'!E21*(1-0.1315))/(1+'CLIN 0003 M&O Fee'!C21)) -> 2.749951e+08 | D21: =ROUND(B21*C21,0) -> 0
... A27: Option Period 3 (Year 2) | B27: =+(('Forecasted Budget'!E27*(1-0.1315))/(1+'CLIN 0003 M&O Fee'!C27)) -> 4.5698462e+08 | D27: =ROUND(B27*C27,0) -> 0
A28: Option Period 3 (Year 3) | B28: =+(('Forecasted Budget'!E28*(1-0.1315))/(1+'CLIN 0003 M&O Fee'!C29)) -> 4.2200077e+08 | D28: =ROUND(B28*C28,0) -> 0
A30: Option Period 4 (Year 1) | B30: =+(('Forecasted Budget'!E30*(1-0.1315))/(1+'CLIN 0003 M&O Fee'!C30)) -> 3.4684221e+08 | D30: =ROUND(B30*C30,0) -> 0
A31: Option Period 4 (Year 2) | B31: =+(('Forecasted Budget'!E31*(1-0.1315))/(1+'CLIN 0003 M&O Fee'!C31)) -> 4.7877021e+08 | D31: =ROUND(B31*C31,0) -> 0
A32: Total | B32: =SUM(B8:B31) -> 8.1716722e+09 | D32: =+SUM(D8:D31) -> 0
A34: *Offerors shall populate column C of this worksheet with proposed fee rates.
A35: *Offerors shall not exceed 2.50% for proposed fee rates.

Sheet Sub-CLIN 0004A SRPPF Fee
A1: Section L Attachment H
A2: Fee Calculation - Management and Operating
A5: Sub-CLIN 0004A -- FEE -- Management and Oversight of the Savannah River Plutonium Processing Facility*
A7: Contract Period | B7: Sub-CLIN 0004A Forecasted Fee Base | C7: Proposed AF Fee Rate%* | D7: Sub-CLIN 0004A Total Available AF Amount $
A8: Base Period (Year 1) | B8: =+(('Forecasted Budget'!B36*(1-0.1315))/(1+C8)) -> #VALUE! | C8: TBD | D8: =ROUND(B8*C8,0) -> #VALUE!
A9: Base Period (Year 2) | B9: =+(('Forecasted Budget'!B37*(1-0.1315))/(1+C9)) -> #VALUE! | C9: TBD | D9: =ROUND(B9*C9,0) -> #VALUE!
A10: Base Period (Year 3) | B10: =+(('Forecasted Budget'!B38*(1-0.1315))/(1+C10)) -> #VALUE! | C10: TBD | D10: =ROUND(B10*C10,0) -> #VALUE!
A11: Base Period (Year 4) | B11: TBD | C11: TBD | D11: TBD
A12: Total | B12: =SUM(B8:B10) -> #VALUE! | D12: =+SUM(D8:D10) -> #VALUE!
A14: *Offerors shall popluate Cells C1 through C3 of this worksheet with proposed fee rates.
A15: **Offerors shall not exceed TBD% for proposed fee rates.
A16: Note: As described in Volume 1 of the Fiscal Year 2025 President's Budget Request, the cost and schedule estimates for SRPPF approved at CD‐1 include an estimated cost range of $6,900,000,000 to $11,100,000,000 and a CD‐4 schedule range of 1st Quarter FY 2032 to 4th Quarter FY 2035. Because the project design has not progressed to a state that would enable an update to the project cost estimate or schedule, the price evaluation for this competition is based on offerors' proposed fee rates multiplied by the estimated fee bases for those contract periods with available budget estimates (Base Period Years 1 through 3). While the price evaluation is based on the first years of the base period, Offerors should contemplate the approved CD-1 cost and schedule ranges when proposing fee rate(s), anticipate possible changes thereto, and understand that the proposed fee rate for base period year 3 shall be used for the remaining life of the project. The fee amounts will be determined annually in accordance with Section B-XX.
A18: Note 2: The Incentive Fee Structure is To Be Determined based on responses to the SRPPF Incentive Fee Feedback Request Questions included as a part of the Draft RFP.

Sheet CLIN 0006 SPP Fixed Fee
A1: Section L Attachment H
A2: Fee Calculation - Strategic Partnership Program
A5: CLIN 0006 -- FEE -- Strategic Partnership Program*
A7: Contract Period | B7: CLIN 0006 Forecasted Fee Base | C7: Proposed FF %** | D7: Total Available FF Amount $
A8: Base Period (Year 1) | B8: =+(('Forecasted Budget'!E36*(1-0.1315))/(1+C8)) -> 651375 | D8: =ROUND(B8*C8,0) -> 0
A9: Base Period (Year 2) | B9: =+(('Forecasted Budget'!E37*(1-0.1315))/(1+C9)) -> 664402.5 | D9: =ROUND(B9*C9,0) -> 0
A10: Base Period (Year 3) | B10: =+(('Forecasted Budget'!E38*(1-0.1315))/(1+C10)) -> 677690.55 | D10: =ROUND(B10*C10,0) -> 0
A11: Base Period (Year 4) | B11: =+(('Forecasted Budget'!E39*(1-0.1315))/(1+C11)) -> 691244.36 | D11: =ROUND(B11*C11,0) -> 0
A12: Base Period (Year 5) | B12: =+(('Forecasted Budget'!E40*(1-0.1315))/(1+C12)) -> 705069.14 | D12: =ROUND(B12*C12,0) -> 0
A14: Option Period 1 (Year 1) | B14: =+(('Forecasted Budget'!E42*(1-0.1315))/(1+C14)) -> 719170.11 | D14: =ROUND(B14*C14,0) -> 0
A15: Option Period 1 (Year 2) | B15: =+(('Forecasted Budget'!E43*(1-0.1315))/(1+C15)) -> 733553.34 | D15: =ROUND(B15*C15,0) -> 0
A16: Option Period 1 (Year 3) | B16: =+(('Forecasted Budget'!E44*(1-0.1315))/(1+C16)) -> 748224.04 | D16: =ROUND(B16*C16,0) -> 0
A17: Option Period 1 (Year 4) | B17: =+(('Forecasted Budget'!E45*(1-0.1315))/(1+C17)) -> 763188.3 | D17: =ROUND(B17*C17,0) -> 0
A18: Option Period 1 (Year 5) | B18: =+(('Forecasted Budget'!E46*(1-0.1315))/(1+C18)) -> 778452.18 | D18: =ROUND(B18*C18,0) -> 0
A20: Option Period 2 (Year 1) | B20: =+(('Forecasted Budget'!E48*(1-0.1315))/(1+C20)) -> 794020.91 | D20: =ROUND(B20*C20,0) -> 0
A21: Option Period 2 (Year 2) | B21: =+(('Forecasted Budget'!E49*(1-0.1315))/(1+C21)) -> 809901.44 | D21: =ROUND(B21*C21,0) -> 0
... A31: Option Period 4 (Year 2) | B31: =+(('Forecasted Budget'!E59*(1-0.1315))/(1+C31)) -> 948930.05 | D31: =ROUND(B31*C31,0) -> 0
A32: Total | B32: =SUM(B8:B31) -> 15826684 | D32: =SUM(D8:D31) -> 0
A34: *Offerors shall populate columns C of this worksheet with proposed fee rates.
A35: **Offerors shall not exceed 2.00% for proposed fee rates.

Sheet Proposed Summary
A1: Section L Attachment H
A2: Proposed Summary
A4: Summary
A6: Transition Period | B6: CLIN 0001 FFP | H6: ='CLIN 0001 Transition Period'!B7 -> 0
A8: Contract Period | B8: *CLIN 0002 FF Amount $ | C8: *CLIN 0002 AF Amount $ | D8: *CLIN 0002 Total Available Fee Amount $ | E8: *CLIN 0003 AF Amount $ | F8: *Sub-CLIN 0004A AF Amount $ | G8: *CLIN 0006 FF Amount $ | H8: Total
A9: Base Period (Year 1) | B9: ='CLIN 0002 M&O Fee'!F8 -> 0 | C9: ='CLIN 0002 M&O Fee'!G8 -> 0 | D9: =SUM(B9:C9) -> 0 | E9: ='CLIN 0003 M&O Fee'!D8 -> 0 | F9: ='Sub-CLIN 0004A SRPPF Fee'!D8 -> #VALUE! | G9: ='CLIN 0006 SPP Fixed Fee'!D8 -> 0 | H9: =SUM(D9:G9) -> #VALUE!
A10: Base Period (Year 2) | B10: ='CLIN 0002 M&O Fee'!F9 -> 0 | C10: ='CLIN 0002 M&O Fee'!G9 -> 0 | D10: =SUM(B10:C10) -> 0 | E10: ='CLIN 0003 M&O Fee'!D9 -> 0 | F10: ='Sub-CLIN 0004A SRPPF Fee'!D9 -> #VALUE! | G10: ='CLIN 0006 SPP Fixed Fee'!D9 -> 0 | H10: =SUM(D10:G10) -> #VALUE!
A11: Base Period (Year 3) | B11: ='CLIN 0002 M&O Fee'!F10 -> 0 | C11: ='CLIN 0002 M&O Fee'!G10 -> 0 | D11: =SUM(B11:C11) -> 0 | E11: ='CLIN 0003 M&O Fee'!D10 -> 0 | F11: ='Sub-CLIN 0004A SRPPF Fee'!D10 -> #VALUE! | G11: ='CLIN 0006 SPP Fixed Fee'!D10 -> 0 | H11: =SUM(D11:G11) -> #VALUE!
A12: Base Period (Year 4) | B12: ='CLIN 0002 M&O Fee'!F11 -> 0 | C12: ='CLIN 0002 M&O Fee'!G11 -> 0 | D12: =SUM(B12:C12) -> 0 | E12: ='CLIN 0003 M&O Fee'!D11 -> 0 | F12: TBD | G12: ='CLIN 0006 SPP Fixed Fee'!D11 -> 0 | H12: =SUM(D12:E12)+G12 -> 0
A13: Base Period (Year 5) | B13: ='CLIN 0002 M&O Fee'!F12 -> 0 | C13: ='CLIN 0002 M&O Fee'!G12 -> 0 | D13: =SUM(B13:C13) -> 0 | E13: ='CLIN 0003 M&O Fee'!D12 -> 0 | G13: ='CLIN 0006 SPP Fixed Fee'!D12 -> 0 | H13: =SUM(D13:E13)+G13 -> 0
G14: ='CLIN 0006 SPP Fixed Fee'!D13 -> 0
A15: Option Period 1 (Year 1) | B15: ='CLIN 0002 M&O Fee'!F14 -> 0 | C15: ='CLIN 0002 M&O Fee'!G14 -> 0 | D15: =SUM(B15:C15) -> 0 | E15: ='CLIN 0003 M&O Fee'!D14 -> 0 | G15: ='CLIN 0006 SPP Fixed Fee'!D14 -> 0 | H15: =SUM(D15:E15)+G15 -> 0
A16: Option Period 1 (Year 2) | B16: ='CLIN 0002 M&O Fee'!F15 -> 0 | C16: ='CLIN 0002 M&O Fee'!G15 -> 0 | D16: =SUM(B16:C16) -> 0 | E16: ='CLIN 0003 M&O Fee'!D15 -> 0 | G16: ='CLIN 0006 SPP Fixed Fee'!D15 -> 0 | H16: =SUM(D16:E16)+G16 -> 0
A17: Option Period 1 (Year 3) | B17: ='CLIN 0002 M&O Fee'!F16 -> 0 | C17: ='CLIN 0002 M&O Fee'!G16 -> 0 | D17: =SUM(B17:C17) -> 0 | E17: ='CLIN 0003 M&O Fee'!D16 -> 0 | G17: ='CLIN 0006 SPP Fixed Fee'!D16 -> 0 | H17: =SUM(D17:E17)+G17 -> 0
A18: Option Period 1 (Year 4) | B18: ='CLIN 0002 M&O Fee'!F17 -> 0 | C18: ='CLIN 0002 M&O Fee'!G17 -> 0 | D18: =SUM(B18:C18) -> 0 | E18: ='CLIN 0003 M&O Fee'!D17 -> 0 | G18: ='CLIN 0006 SPP Fixed Fee'!D17 -> 0 | H18: =SUM(D18:E18)+G18 -> 0
A19: Option Period 1 (Year 5) | B19: ='CLIN 0002 M&O Fee'!F18 -> 0 | C19: ='CLIN 0002 M&O Fee'!G18 -> 0 | D19: =SUM(B19:C19) -> 0 | E19: ='CLIN 0003 M&O Fee'!D18 -> 0 | G19: ='CLIN 0006 SPP Fixed Fee'!D18 -> 0 | H19: =SUM(D19:E19)+G19 -> 0
A21: Option Period 2 (Year 1) | B21: ='CLIN 0002 M&O Fee'!F20 -> 0 | C21: ='CLIN 0002 M&O Fee'!G20 -> 0 | D21: =SUM(B21:C21) -> 0 | E21: ='CLIN 0003 M&O Fee'!D20 -> 0 | G21: ='CLIN 0006 SPP Fixed Fee'!D20 -> 0 | H21: =SUM(D21:E21)+G21 -> 0
A22: Option Period 2 (Year 2) | B22: ='CLIN 0002 M&O Fee'!F21 -> 0 | C22: ='CLIN 0002 M&O Fee'!G21 -> 0 | D22: =SUM(B22:C22) -> 0 | E22: ='CLIN 0003 M&O Fee'!D21 -> 0 | G22: ='CLIN 0006 SPP Fixed Fee'!D21 -> 0 | H22: =SUM(D22:E22)+G22 -> 0
A23: Option Period 2 (Year 3) | B23: ='CLIN 0002 M&O Fee'!F22 -> 0 | C23: ='CLIN 0002 M&O Fee'!G22 -> 0 | D23: =SUM(B23:C23) -> 0 | E23: ='CLIN 0003 M&O Fee'!D22 -> 0 | G23: ='CLIN 0006 SPP Fixed Fee'!D22 -> 0 | H23: =SUM(D23:E23)+G23 -> 0
A24: Option Period 2 (Year 4) | B24: ='CLIN 0002 M&O Fee'!F23 -> 0 | C24: ='CLIN 0002 M&O Fee'!G23 -> 0 | D24: =SUM(B24:C24) -> 0 | E24: ='CLIN 0003 M&O Fee'!D23 -> 0 | G24: ='CLIN 0006 SPP Fixed Fee'!D23 -> 0 | H24: =SUM(D24:E24)+G24 -> 0
A25: Option Period 2 (Year 5) | B25: ='CLIN 0002 M&O Fee'!F24 -> 0 | C25: ='CLIN 0002 M&O Fee'!G24 -> 0 | D25: =SUM(B25:C25) -> 0 | E25: ='CLIN 0003 M&O Fee'!D24 -> 0 | G25: ='CLIN 0006 SPP Fixed Fee'!D24 -> 0 | H25: =SUM(D25:E25)+G25 -> 0
A27: Option Period 3 (Year 1) | B27: ='CLIN 0002 M&O Fee'!F26 -> 0 | C27: ='CLIN 0002 M&O Fee'!G26 -> 0 | D27: =SUM(B27:C27) -> 0 | E27: ='CLIN 0003 M&O Fee'!D26 -> 0 | G27: ='CLIN 0006 SPP Fixed Fee'!D26 -> 0 | H27: =SUM(D27:E27)+G27 -> 0
A28: Option Period 3 (Year 2) | B28: ='CLIN 0002 M&O Fee'!F27 -> 0 | C28: ='CLIN 0002 M&O Fee'!G27 -> 0 | D28: =SUM(B28:C28) -> 0 | E28: ='CLIN 0003 M&O Fee'!D27 -> 0 | G28: ='CLIN 0006 SPP Fixed Fee'!D27 -> 0 | H28: =SUM(D28:E28)+G28 -> 0
... A32: Option Period 4 (Year 2) | B32: ='CLIN 0002 M&O Fee'!F31 -> 0 | C32: ='CLIN 0002 M&O Fee'!G31 -> 0 | D32: =SUM(B32:C32) -> 0 | E32: ='CLIN 0003 M&O Fee'!D31 -> 0 | G32: ='CLIN 0006 SPP Fixed Fee'!D31 -> 0 | H32: =SUM(D32:E32)+G32 -> 0
B33: =SUM(B9:B32) -> 0 | C33: =SUM(C9:C32) -> 0 | D33: =SUM(D9:D32) -> 0 | E33: =SUM(E9:E32) -> 0 | F33: =SUM(F9:F11) -> #VALUE! | G33: =SUM(G9:G32) -> 0 | H33: =SUM(H9:H32)+H6 -> #VALUE!
A35: *The proposed fee amounts represent estimates and will be used for evaluation purposes only. The proposed fee rates and fixed fee allocation rates will be incorporated in the contract at the time of award, for the life of the award,with the available award and fixed fee amounts established annually.
