Workbook
Name Text156: 'j. Cost Share'!#REF!
Name Text157: 'j. Cost Share'!#REF!
Name Text158: 'j. Cost Share'!#REF!

Sheet Instructions and Summary
B1: Instructions and Summary
B3: Award Number: | K3: Date of Submission:
B4: Award Recipient: | K4: Form submitted by:
N5: (May be award recipient or sub-recipient)
B6: Please read the instructions on each worksheet tab before starting. If you have any questions, please ask your DOE contact! Do not modify this template or any cells or formulas!
B7: 1. If using this form for award application, negotiation, or budget revision, fill out the blank white cells in workbook tabs a. through j. with total project costs. 2. Blue colored cells contain instructions, headers, or summary calculations and should not be modified. Only blank white cells should be populated. 3. Enter detailed support for the project costs identified for each Category line item within each worksheet tab to auto populate the summary tab. 4. The total budget presented on tabs a. through i. must include both Federal (DOE) and Non-Federal (cost share) portions. 5. All costs incurred by the preparer's sub-recipients, contractors, and Federal Research and Development Centers (FFRDCs), should be entered only in section f. Contractual. All other sections are for the costs of the preparer only. 6. Ensure all entered costs are allowable, allocable, and reasonable in accordance with the administrative requirements prescribed in 2 CFR 200, and the applicable cost principles for each entity type: FAR Part 31 for For-Profit entities; and 2 CFR Part 200 Subpart E - Cost Principles for all other non-federal entities. 7. Add rows as needed throughout tabs a. through j. If rows are added, formulas/calculations may need to be adjusted by the preparer. Do not add rows to the Instructions and Summary tab. If your project contains more than three budget periods, consult your DOE contact before adding additional budget period rows or columns. 8. ALL budget period cost categories are rounded to the nearest dollar and separated by SOPO (S) or CBP/CBOO (CB) activity. BURDEN DISCLOSURE STATEMENT Public reporting burden for this collection of information is estimated to average 24 hours per response, including the time for reviewing instructions, searching existing data sources, gathering and maintaining the data needed, and completing and reviewing the collection of information. Send comments regarding this burden estimate or any other aspect of this collection of information, including suggestions for reducing this burden, to Office of Information Resources Management Policy, Plans, and Oversight, AD-241-2 - GTN, Paperwork Reduction Project (1910-5162), U.S. Department of Energy 1000 Independence Avenue, S.W., Washington, DC 20585; and to the Office of Management and Budget, Paperwork Reduction Project (1910-5162), Washington, DC 20503.
B9: SUMMARY OF BUDGET CATEGORY COSTS PROPOSED The values in this summary table are from entries made in subsequent tabs, only blank white cells require data entry
B10: Section A - Budget Summary
F11: Federal | I11: Cost Share | L11: Total Costs | M11: Cost Share % | N11: Proposed Budget Period Dates
C12: Budget Period 1 | F12: =L12-I12 -> 0 | I12: ='j. Cost Share'!E17 -> 0 | L12: =E33 -> 0 | M12: =IF(L12>0,I12/L12,0) -> 0 | N12: Example!!! 10/01/2024 – 09/30/27
C13: Budget Period 2 | F13: =L13-I13 -> 0 | I13: ='j. Cost Share'!F17 -> 0 | L13: =H33 -> 0 | M13: =IF(L13>0,I13/L13,0) -> 0
C14: Budget Period 3 | F14: =L14-I14 -> 0 | I14: ='j. Cost Share'!G17 -> 0 | L14: =K33 -> 0 | M14: =IF(L14>0,I14/L14,0) -> 0
C15: Total | F15: =SUM(F12:F14) -> 0 | I15: =SUM(I12:I14) -> 0 | L15: =SUM(L12:L14) -> 0 | M15: =IF(L15>0,I15/L15,0) -> 0
B16: Section B - Budget Categories
B17: CATEGORY | C17: Budget Period 1 | F17: Budget Period 2 | I17: Budget Period 3 | L17: Total Costs | M17: % of Project | N17: Comments (as needed)
C18: S | D18: CB | E18: Total | F18: S | G18: CB | H18: Total | I18: S | J18: CB | K18: Total
B19: a. Personnel | C19: ='a. Personnel'!G34 -> 0 | D19: ='a. Personnel'!G35 -> 0 | E19: ='a. Personnel'!G36 -> 0 | F19: ='a. Personnel'!J34 -> 0 | G19: ='a. Personnel'!J35 -> 0 | H19: ='a. Personnel'!J36 -> 0 | I19: ='a. Personnel'!M34 -> 0 | J19: ='a. Personnel'!M35 -> 0 | K19: ='a. Personnel'!M36 -> 0 | L19: =SUM(E19+H19+K19) -> 0 | M19: =IF(L19>0,L19/L15,0) -> 0
B20: b. Fringe Benefits | C20: N/A | D20: N/A | E20: ='b. Fringe'!E13 -> 0 | F20: N/A | G20: N/A | H20: ='b. Fringe'!H13 -> 0 | I20: N/A | J20: N/A | K20: ='b. Fringe'!K13 -> 0 | L20: =SUM(E20+H20+K20) -> 0 | M20: =IF(L20>0,L20/L15,0) -> 0
B21: c. Travel | C21: =SUMIF('c. Travel'!B9:B14,"S",'c. Travel'!M9:M14) -> 0 | D21: =SUMIF('c. Travel'!B9:B14,"CB",'c. Travel'!M9:M14) -> 0 | E21: ='c. Travel'!M15 -> 0 | F21: =SUMIF('c. Travel'!B17:B22,"S",'c. Travel'!M17:M22) -> 0 | G21: =SUMIF('c. Travel'!B17:B22,"CB",'c. Travel'!M17:M22) -> 0 | H21: ='c. Travel'!M23 -> 0 | I21: =SUMIF('c. Travel'!B25:B30,"S",'c. Travel'!M25:M30) -> 0 | J21: =SUMIF('c. Travel'!B25:B30,"CB",'c. Travel'!M25:M30) -> 0 | K21: ='c. Travel'!M31 -> 0 | L21: =SUM(E21+H21+K21) -> 0 | M21: =IF(L21>0,L21/L15,0) -> 0
B22: d. Equipment | C22: =SUMIF('d. Equipment'!B9:B14,"S",'d. Equipment'!G9:G14) -> 0 | D22: =SUMIF('d. Equipment'!B9:B14,"CB",'d. Equipment'!G9:G14) -> 0 | E22: ='d. Equipment'!G15 -> 0 | F22: =SUMIF('d. Equipment'!B17:B22,"S",'d. Equipment'!G17:G22) -> 0 | G22: =SUMIF('d. Equipment'!B17:B22,"CB",'d. Equipment'!G17:G22) -> 0 | H22: ='d. Equipment'!G23 -> 0 | I22: =SUMIF('d. Equipment'!B25:B30,"S",'d. Equipment'!G25:G30) -> 0 | J22: =SUMIF('d. Equipment'!B25:B30,"CB",'d. Equipment'!G25:G30) -> 0 | K22: ='d. Equipment'!G31 -> 0 | L22: =SUM(E22+H22+K22) -> 0 | M22: =IF(L22>0,L22/L15,0) -> 0
B23: e. Supplies | C23: =SUMIF('e. Supplies'!B9:B16,"S",'e. Supplies'!G9:G16) -> 0 | D23: =SUMIF('e. Supplies'!B9:B16,"CB",'e. Supplies'!G9:G16) -> 0 | E23: ='e. Supplies'!G17 -> 0 | F23: =SUMIF('e. Supplies'!B19:B26,"S",'e. Supplies'!G19:G26) -> 0 | G23: =SUMIF('e. Supplies'!B19:B26,"CB",'e. Supplies'!G19:G26) -> 0 | H23: ='e. Supplies'!G27 -> 0 | I23: =SUMIF('e. Supplies'!B29:B36,"S",'e. Supplies'!G29:G36) -> 0 | J23: =SUMIF('e. Supplies'!B29:B36,"CB",'e. Supplies'!G29:G36) -> 0 | K23: ='e. Supplies'!G37 -> 0 | L23: =SUM(E23+H23+K23) -> 0 | M23: =IF(L23>0,L23/L15,0) -> 0
B24: f. Contractual
B25: Sub-recipient | C25: =SUMIF('f. Contractual'!B7:B12,"S",'f. Contractual'!G7:G12) -> 0 | D25: =SUMIF('f. Contractual'!B7:B12,"CB",'f. Contractual'!G7:G12) -> 0 | E25: ='f. Contractual'!G13 -> 0 | F25: =SUMIF('f. Contractual'!B7:B12,"S",'f. Contractual'!H7:H12) -> 0 | G25: =SUMIF('f. Contractual'!B7:B12,"CB",'f. Contractual'!H7:H12) -> 0 | H25: ='f. Contractual'!H13 -> 0 | I25: =SUMIF('f. Contractual'!B7:B12,"S",'f. Contractual'!I7:I12) -> 0 | J25: =SUMIF('f. Contractual'!B7:B12,"CB",'f. Contractual'!I7:I12) -> 0 | K25: ='f. Contractual'!I13 -> 0 | L25: =SUM(E25+H25+K25) -> 0 | M25: =IF(L25>0,L25/L15,0) -> 0
B26: Contractor | C26: =SUMIF('f. Contractual'!B17:B21,"S",'f. Contractual'!G17:G21) -> 0 | D26: =SUMIF('f. Contractual'!B17:B21,"CB",'f. Contractual'!G17:G21) -> 0 | E26: ='f. Contractual'!G22 -> 0 | F26: =SUMIF('f. Contractual'!B17:B21,"S",'f. Contractual'!H17:H21) -> 0 | G26: =SUMIF('f. Contractual'!B17:B21,"CB",'f. Contractual'!H17:H21) -> 0 | H26: ='f. Contractual'!H22 -> 0 | I26: =SUMIF('f. Contractual'!B17:B21,"S",'f. Contractual'!I17:I21) -> 0 | J26: =SUMIF('f. Contractual'!B17:B21,"CB",'f. Contractual'!I17:I21) -> 0 | K26: ='f. Contractual'!I22 -> 0 | L26: =SUM(E26+H26+K26) -> 0 | M26: =IF(L26>0,L26/L15,0) -> 0
B27: FFRDC | C27: =SUMIF('f. Contractual'!B25:B26,"S",'f. Contractual'!G25:G26) -> 0 | D27: =SUMIF('f. Contractual'!B25:B26,"CB",'f. Contractual'!G25:G26) -> 0 | E27: ='f. Contractual'!G27 -> 0 | F27: =SUMIF('f. Contractual'!B25:B26,"S",'f. Contractual'!H25:H26) -> 0 | G27: =SUMIF('f. Contractual'!B25:B26,"CB",'f. Contractual'!H25:H26) -> 0 | H27: ='f. Contractual'!H27 -> 0 | I27: =SUMIF('f. Contractual'!B25:B26,"S",'f. Contractual'!I25:I26) -> 0 | J27: =SUMIF('f. Contractual'!B25:B26,"CB",'f. Contractual'!I25:I26) -> 0 | K27: ='f. Contractual'!I27 -> 0 | L27: =SUM(E27+H27+K27) -> 0 | M27: =IF(L27>0,L27/L15,0) -> 0
B28: Total Contractual | C28: ='f. Contractual'!G29 -> 0 | D28: ='f. Contractual'!G30 -> 0 | E28: =SUM(E25:E27) -> 0 | F28: ='f. Contractual'!H29 -> 0 | G28: ='f. Contractual'!H30 -> 0 | H28: =SUM(H25:H27) -> 0 | I28: ='f. Contractual'!I29 -> 0 | J28: ='f. Contractual'!I30 -> 0 | K28: =SUM(K25:K27) -> 0 | L28: =SUM(E28+H28+K28) -> 0 | M28: =IF(L28>0,L28/L15,0) -> 0
B29: g. Construction | C29: =SUMIF('g. Construction'!B11:B15,"S",'g. Construction'!E11:E15) -> 0 | D29: =SUMIF('g. Construction'!B11:B15,"CB",'g. Construction'!E11:E15) -> 0 | E29: ='g. Construction'!E16 -> 0 | F29: =SUMIF('g. Construction'!B18:B22,"S",'g. Construction'!E18:E22) -> 0 | G29: =SUMIF('g. Construction'!B18:B22,"CB",'g. Construction'!E18:E22) -> 0 | H29: ='g. Construction'!E23 -> 0 | I29: =SUMIF('g. Construction'!B25:B29,"S",'g. Construction'!E25:E29) -> 0 | J29: =SUMIF('g. Construction'!B25:B29,"CB",'g. Construction'!E25:E29) -> 0 | K29: ='g. Construction'!E30 -> 0 | L29: =SUM(E29+H29+K29) -> 0 | M29: =IF(L29>0,L29/L15,0) -> 0
B30: h. Other Direct Costs | C30: =SUMIF('h. Other'!B9:B14,"S",'h. Other'!E9:E14) -> 0 | D30: =SUMIF('h. Other'!B9:B14,"CB",'h. Other'!E9:E14) -> 0 | E30: ='h. Other'!E15 -> 0 | F30: =SUMIF('h. Other'!B17:B22,"S",'h. Other'!E17:E22) -> 0 | G30: =SUMIF('h. Other'!B17:B22,"CB",'h. Other'!E17:E22) -> 0 | H30: ='h. Other'!E23 -> 0 | I30: =SUMIF('h. Other'!B25:B30,"S",'h. Other'!E25:E30) -> 0 | J30: =SUMIF('h. Other'!B25:B30,"CB",'h. Other'!E25:E30) -> 0 | K30: ='h. Other'!E31 -> 0 | L30: =SUM(E30+H30+K30) -> 0 | M30: =IF(L30>0,L30/L15,0) -> 0
B31: Total Direct Costs | C31: =C19+C21+C22+C23+C28+C29+C30 -> 0 | D31: =D19+D21+D22+D23+D28+D29+D30 -> 0 | E31: =E19+E20+E21+E22+E23+E28+E29+E30 -> 0 | F31: =F19+F21+F22+F23+F28+F29+F30 -> 0 | G31: =G19+G21+G22+G23+G28+G29+G30 -> 0 | H31: =H19+H20+H21+H22+H23+H28+H29+H30 -> 0 | I31: =I19+I21+I22+I23+I28+I29+I30 -> 0 | J31: =J19+J21+J22+J23+J28+J29+J30 -> 0 | K31: =K19+K20+K21+K22+K23+K28+K29+K30 -> 0 | L31: =SUM(E31+H31+K31) -> 0 | M31: =IF(L31>0,L31/L15,0) -> 0
B32: i. Indirect Charges | C32: N/A | D32: N/A | E32: ='i. Indirect'!C16 -> 0 | F32: N/A | G32: N/A | H32: ='i. Indirect'!D16 -> 0 | I32: N/A | J32: N/A | K32: ='i. Indirect'!E16 -> 0 | L32: =SUM(E32+H32+K32) -> 0 | M32: =IF(L32>0,L32/L15,0) -> 0
B33: Total Costs | C33: =C31 -> 0 | D33: =D31 -> 0 | E33: =E31+E32 -> 0 | F33: =F31 -> 0 | G33: =G31 -> 0 | H33: =H31+H32 -> 0 | I33: =I31 -> 0 | J33: =J31 -> 0 | K33: =K31+K32 -> 0 | L33: =L31+L32 -> 0 | M33: =M31+M32 -> 0
B34: Total SOPO Costs | L34: =SUM(C33+F33+I33) -> 0 | M34: =IF(L34>0,L34/L15,0) -> 0
B35: Total CB/CBOO Costs | L35: =SUM(D33+G33+J33) -> 0 | M35: =IF(L35>0,L35/L15,0) -> 0
B37: Additional Explanation (as needed):

Sheet a. Personnel
B1: Detailed Budget Justification
B2: a. Personnel
B3: INSTRUCTIONS - PLEASE READ!!! 1. List project costs solely for employees of the entity completing this form. All personnel costs for subrecipients and contractors must be included under f. Contractual. 2. All personnel should be identified by position title and not employee name. Enter the amount of time (e.g., hours or % of time) and the base hourly rate and the total direct personnel compensation will automatically calculate. Rate basis (e.g., rate negotiated for each hour worked on the project, labor distribution report, state civil service rates, etc.) must also be identified. 3. If loaded labor rates are utilized, a description of the costs the loaded rate is comprised of must be included in the Additional Explanation section below. DOE must review all components of the loaded labor rate for reasonableness and unallowable costs (e.g. fee or profit). 4. If a position and hours are attributed to multiple employees (e.g. Technician working 4000 hours) the number of employees for that position title must be identified. 5. Each budget period is rounded to the nearest dollar. 6. In column B, please indicate if personnel costs are specific to SOPO = S or CBP/CBOO = CB tasks. 7. If personnel costs are related to both SOPO and CBP/CBOO tasks, please ensure those costs are properly separated.
B6: S or CB | C6: Task # | D6: Position Title | E6: Budget Period 1 | H6: Budget Period 2 | K6: Budget Period 3 | N6: Project Total Hours | O6: Project Total Dollars | P6: Rate Basis
E7: Time (Hrs) | F7: Hourly Rate ($/Hr) | G7: Total Budget Period 1 | H7: Time (Hrs) | I7: Hourly Rate ($/Hr) | J7: Total Budget Period 2 | K7: Time (Hrs) | L7: Hourly Rate ($/Hr) | M7: Total Budget Period 3
B8: S | C8: 1 | D8: Sr. Engineer (EXAMPLE!!!) | E8: 2000 | F8: 85 | G8: =E8*F8 -> 170000 | H8: 200 | I8: 85 | J8: =H8*I8 -> 17000 | K8: 200 | L8: 85 | M8: =K8*L8 -> 17000 | N8: =E8+H8+K8 -> 2400 | O8: =G8+J8+M8 -> 204000
B9: CB | C9: 1 | D9: Program Manager (EXAMPLE!!!) | E9: 1500 | F9: 50 | G9: =E9*F9 -> 75000 | H9: 150 | I9: 50 | J9: =H9*I9 -> 7500 | K9: 150 | L9: 50 | M9: =K9*L9 -> 7500 | N9: =E9+H9+K9 -> 1800 | O9: =G9+J9+M9 -> 90000
G10: =E10*F10 -> 0 | J10: =H10*I10 -> 0 | M10: =K10*L10 -> 0 | N10: =SUM(E10+H10+K10) -> 0 | O10: =SUM(G10+J10+M10) -> 0
G11: =E11*F11 -> 0 | J11: =H11*I11 -> 0 | M11: =K11*L11 -> 0 | N11: =SUM(E11+H11+K11) -> 0 | O11: =SUM(G11+J11+M11) -> 0
G12: =E12*F12 -> 0 | J12: =H12*I12 -> 0 | M12: =K12*L12 -> 0 | N12: =SUM(E12+H12+K12) -> 0 | O12: =SUM(G12+J12+M12) -> 0
G13: =E13*F13 -> 0 | J13: =H13*I13 -> 0 | M13: =K13*L13 -> 0 | N13: =SUM(E13+H13+K13) -> 0 | O13: =SUM(G13+J13+M13) -> 0
G14: =E14*F14 -> 0 | J14: =H14*I14 -> 0 | M14: =K14*L14 -> 0 | N14: =SUM(E14+H14+K14) -> 0 | O14: =SUM(G14+J14+M14) -> 0
G15: =E15*F15 -> 0 | J15: =H15*I15 -> 0 | M15: =K15*L15 -> 0 | N15: =SUM(E15+H15+K15) -> 0 | O15: =SUM(G15+J15+M15) -> 0
G16: =E16*F16 -> 0 | J16: =H16*I16 -> 0 | M16: =K16*L16 -> 0 | N16: =SUM(E16+H16+K16) -> 0 | O16: =SUM(G16+J16+M16) -> 0
G17: =E17*F17 -> 0 | J17: =H17*I17 -> 0 | M17: =K17*L17 -> 0 | N17: =SUM(E17+H17+K17) -> 0 | O17: =SUM(G17+J17+M17) -> 0
G18: =E18*F18 -> 0 | J18: =H18*I18 -> 0 | M18: =K18*L18 -> 0 | N18: =SUM(E18+H18+K18) -> 0 | O18: =SUM(G18+J18+M18) -> 0
G19: =E19*F19 -> 0 | J19: =H19*I19 -> 0 | M19: =K19*L19 -> 0 | N19: =SUM(E19+H19+K19) -> 0 | O19: =SUM(G19+J19+M19) -> 0
G20: =E20*F20 -> 0 | J20: =H20*I20 -> 0 | M20: =K20*L20 -> 0 | N20: =SUM(E20+H20+K20) -> 0 | O20: =SUM(G20+J20+M20) -> 0
G21: =E21*F21 -> 0 | J21: =H21*I21 -> 0 | M21: =K21*L21 -> 0 | N21: =SUM(E21+H21+K21) -> 0 | O21: =SUM(G21+J21+M21) -> 0
... G33: =E33*F33 -> 0 | J33: =H33*I33 -> 0 | M33: =K33*L33 -> 0 | N33: =SUM(E33+H33+K33) -> 0 | O33: =SUM(G33+J33+M33) -> 0
B34: TOTAL SOPO PERSONNEL | E34: =SUMIF($B10:$B33,"S",E10:E33) -> 0 | G34: =ROUND(SUMIF($B10:$B33,"S",G10:G33),0) -> 0 | H34: =SUMIF($B10:$B33,"S",H10:H33) -> 0 | J34: =ROUND(SUMIF($B10:$B33,"S",J10:J33),0) -> 0 | K34: =SUMIF($B10:$B33,"S",K10:K33) -> 0 | M34: =ROUND(SUMIF($B10:$B33,"S",M10:M33),0) -> 0 | N34: =SUMIF($B10:$B33,"S",N10:N33) -> 0 | O34: =ROUND(SUMIF($B10:$B33,"S",O10:O33),0) -> 0
B35: TOTAL CBP/CBOO PERSONNEL | E35: =SUMIF($B10:$B33,"CB",E10:E33) -> 0 | G35: =ROUND(SUMIF($B10:$B33,"CB",G10:G33),0) -> 0 | H35: =SUMIF($B10:$B33,"CB",H10:H33) -> 0 | J35: =ROUND(SUMIF($B10:$B33,"CB",J10:J33),0) -> 0 | K35: =SUMIF($B10:$B33,"CB",K10:K33) -> 0 | M35: =ROUND(SUMIF($B10:$B33,"CB",M10:M33),0) -> 0 | N35: =SUMIF($B10:$B33,"CB",N10:N33) -> 0 | O35: =ROUND(SUMIF($B10:$B33,"CB",O10:O33),0) -> 0
B36: TOTAL PERSONNEL | E36: =SUM(E10:E33) -> 0 | G36: =ROUND(SUM(G10:G33),0) -> 0 | H36: =SUM(H10:H33) -> 0 | J36: =ROUND(SUM(J10:J33),0) -> 0 | K36: =SUM(K10:K33) -> 0 | M36: =ROUND(SUM(M10:M33),0) -> 0 | N36: =K36+H36+E36 -> 0 | O36: =ROUND(SUM(M36+J36+G36),0) -> 0
B38: Additional Explanation (as needed):

Sheet b. Fringe
B1: Detailed Budget Justification
B2: b. Fringe Benefits
B3: INSTRUCTIONS - PLEASE READ!!! 1. Fill out the table below by position title. If all employees receive the same fringe benefits, you can show "Total Personnel" in the Labor Type column instead of listing out all position titles. 2. The rates and how they are applied should not be averaged to get one fringe cost percentage. Complex calculations should be described/provided in the Additional Explanation section below. 3. The fringe benefit rates should be applied to all positions, regardless of whether those funds will be supported by Federal Share or Recipient Cost Share. 4. Each budget period is rounded to the nearest dollar.
B5: Labor Type | C5: Budget Period 1 | F5: Budget Period 2 | I5: Budget Period 3 | L5: Total Project
C6: Personnel Costs | D6: Rate | E6: Total | F6: Personnel Costs | G6: Rate | H6: Total | I6: Personnel Costs | J6: Rate | K6: Total
B7: EXAMPLE!!! Sr. Engineer | C7: 170000 | D7: 0.2 | E7: =C7*D7 -> 34000 | F7: 10000 | G7: 0.2 | H7: =F7*G7 -> 2000 | I7: 10000 | J7: 0.2 | K7: =I7*J7 -> 2000 | L7: =E7+H7+K7 -> 38000
E8: =D8*C8 -> 0 | H8: =F8*G8 -> 0 | K8: =I8*J8 -> 0 | L8: =SUM(E8+H8+K8) -> 0
E9: =D9*C9 -> 0 | H9: =F9*G9 -> 0 | K9: =I9*J9 -> 0 | L9: =SUM(E9+H9+K9) -> 0
E10: =D10*C10 -> 0 | H10: =F10*G10 -> 0 | K10: =I10*J10 -> 0 | L10: =SUM(E10+H10+K10) -> 0
E11: =D11*C11 -> 0 | H11: =F11*G11 -> 0 | K11: =I11*J11 -> 0 | L11: =SUM(E11+H11+K11) -> 0
E12: =D12*C12 -> 0 | H12: =F12*G12 -> 0 | K12: =I12*J12 -> 0 | L12: =SUM(E12+H12+K12) -> 0
B13: TOTAL FRINGE | C13: =ROUND(SUM(C8:C12),0) -> 0 | E13: =ROUND(SUM(E8:E12),0) -> 0 | F13: =ROUND(SUM(F8:F12),0) -> 0 | H13: =ROUND(SUM(H8:H12),0) -> 0 | I13: =ROUND(SUM(I8:I12),0) -> 0 | K13: =ROUND(SUM(K8:K12),0) -> 0 | L13: =ROUND(SUM(E13+H13+K13),0) -> 0
B15: A federally approved fringe benefit rate agreement, or a proposed rate supported and agreed upon by DOE for estimating purposes is required at the time of award negotiation if reimbursement for fringe benefits is requested. Please check (X) one of the options below and provide the requested information if not previously submitted.
B16: ______ A fringe benefit rate has been negotiated with, or approved by, a federal government agency. A copy of the latest rate agreement is/was included with the project application.* ______ There is not a current federally approved rate agreement negotiated and available.** *Unless the organization has submitted an indirect rate proposal which encompasses the fringe pool of costs, please provide the organization’s benefit package and/or a list of the components/elements that comprise the fringe pool and the cost or percentage of each component/element allocated to the labor costs identified in the Budget Justification. **When this option is checked, the entity preparing this form shall submit an indirect rate proposal in the format provided in the Sample Rate Proposal at https://www.energy.gov/eere/funding/downloads/sample-indirect-rate-proposal-and-profit-compliance-audit, or a format that provides the same level of information and which will support the rates being proposed for use in the performance of the proposed project.
B21: Additional Explanation (as necessary): Please use this box (or an attachment) to list the elements that comprise your fringe benefits and how they are applied to your base (e.g. Personnel) to arrive at your fringe benefit rate.

Sheet c. Travel
B1: Detailed Budget Justification
B2: c. Travel
B3: INSTRUCTIONS - PLEASE READ!!! 1. Identify Foreign and Domestic Travel as separate items. Examples of Purpose of Travel are subrecipient site visits, DOE meetings, project mgmt. meetings, etc. Examples of Basis for Estimating Costs are past trips, travel quotes, GSA rates, etc. 2. All listed travel must be necessary for performance of the Statement of Project Objectives or CBP/CBOO activities. 3. Only travel that is directly associated with this award should be included as a direct travel cost to the award. 4. Federal travel regulations are contained within the applicable cost principles for all entity types. 5. Travel costs should remain consistent with travel costs incurred by an organization during normal business operations as a result of the organizations written travel policy. In absence of a written travel policy, organizations must follow the regulations prescribed by the General Services Administration. 6. Columns H, I, J, K, and L are total per trip per the total number of travelers. 7. The number of days is inclusive of day of departure and day of return. 8. Recipients should enter City and State (or City and Country for International travel) in the Depart from and Destination fields. 9. Each budget period is rounded to the nearest dollar. 10. In column B, please indicate if travel is specific to SOPO = S or CBP/CBOO = CB tasks. 11. If travel is for both SOPO and CBP/CBOO tasks, please ensure those costs are properly separated.
B5: S or CB | C5: Task # | D5: Purpose of Travel | E5: Depart From | F5: Destination | G5: No. of Days | H5: No. of Travelers | I5: Lodging per Traveler | J5: Flight per Traveler | K5: Vehicle per Traveler | L5: Per Diem Per Traveler | M5: Cost per Trip | N5: Basis for Estimating Costs
D6: Domestic Travel | E6: Budget Period 1
B7: S | C7: 1 | D7: EXAMPLE!!! Visit to PV manufacturer | G7: 2 | H7: 2 | I7: 250 | J7: 500 | K7: 100 | L7: 80 | M7: =SUM(I7:L7)*H7 -> 1860 | N7: Current GSA rates
B8: CB | C8: 4 | D8: EXAMPLE!!! Travel to Community Benefits Workshop | G8: 3 | H8: 1 | I8: 250 | J8: 500 | K8: 100 | L8: 80 | M8: {=SUM(I8:L8*H8)} -> 930 | N8: Current GSA rates
M9: =SUM(I9:L9)*H9 -> 0
M10: =SUM(I11:L11)*H11 -> 0
M11: =SUM(I12:L12)*H12 -> 0
M12: =SUM(I12:L12)*H12 -> 0
D13: International Travel
M14: =SUM(I14:L14)*H14 -> 0
B15: Budget Period 1 Total | M15: =SUM(M9:M14) -> 0
D16: Domestic Travel | E16: Budget Period 2
M17: =SUM(I17:L17)*H17 -> 0
M18: =SUM(I18:L18)*H18 -> 0
M19: =SUM(I19:L19)*H19 -> 0
M20: =SUM(I20:L20)*H20 -> 0
D21: International Travel
M22: =SUM(I22:L22)*H22 -> 0
B23: Budget Period 2 Total | M23: =SUM(M17:M22) -> 0
D24: Domestic Travel | E24: Budget Period 3
M25: =SUM(I25:L25)*H25 -> 0
M26: =SUM(I26:L26)*H26 -> 0
M27: =SUM(I27:L27)*H27 -> 0
M28: =SUM(I28:L28)*H28 -> 0
D29: International Travel
M30: =SUM(I30:L30)*H30 -> 0
B31: Budget Period 3 Total | M31: =SUM(M25:M30) -> 0
B33: TOTAL SOPO TRAVEL | M33: =SUMIF(B9:B14,"S",M9:M14)+SUMIF(B17:B22,"S",M17:M22)+SUMIF(B25:B30,"S",M25:M30) -> 0
B34: TOTAL CBP/CBOO TRAVEL | M34: =SUMIF(B9:B14,"CB",M9:M14)+SUMIF(B17:B22,"CB",M17:M22)+SUMIF(B25:B30,"CB",M25:M30) -> 0
B35: TOTAL TRAVEL | M35: =SUM(M15+M23+M31) -> 0
B37: Additional Explanation (as needed):

Sheet d. Equipment
B1: Detailed Budget Justification
B2: d. Equipment
B3: INSTRUCTIONS - PLEASE READ!!! 1. Equipment means tangible personal property (including information technology systems) having a useful life of more than one year and a per-unit acquisition cost which equals or exceeds the lesser of the capitalization level established by the non-Federal entity for financial statement purposes, or $5,000. Please refer to the applicable Federal regulations in 2 CFR 200 for specific equipment definitions and treatment. 2. List all equipment below, providing a basis of cost (e.g. contractor quotes, catalog prices, prior invoices, etc.). Briefly justify items as they apply to the Statement of Project Objectives. If it is existing equipment, provide logical support for the estimated value shown. 3. During award negotiations, provide a contractor quote for all equipment items over $50,000 in price. If the contractor quote is not an exact price match, provide an explanation in the additional explanation section below. If a contractor quote is not practical, such as for a piece of equipment that is purpose-built, first of its kind, or otherwise not available off the shelf, provide a detailed engineering estimate for how the cost estimate was derived. 4. Each budget period is rounded to the nearest dollar. 5. Please indicate in column B if equipment is related to SOPO = S or CBP/CBOO = CB tasks. 6. If equipment is for both SOPO and CBP/CBOO tasks, please ensure those costs are properly separated.
B5: S or CB | C5: Task # | D5: Equipment Item | E5: Qty | F5: Unit Cost | G5: Total Cost | H5: Basis of Cost | I5: Justification of need
B6: Budget Period 1
B7: S | C7: 3,4,5 | D7: EXAMPLE!!! Thermal shock chamber | E7: 2 | F7: 70000 | G7: =E7*F7 -> 140000 | H7: Contractor Quote - Attached | I7: Reliability testing of PV modules- Task 4.3
B8: CB | C8: 6 | D8: EXAMPLE!!! Audio Visual Equipment | E8: 1 | F8: 6000 | G8: =E8*F8 -> 6000 | H8: Contractor Quote - Attached | I8: Community & Stakeholder Engagement Meeting Facilitation
G9: =E9*F9 -> 0
G10: =E10*F10 -> 0
G11: =E11*F11 -> 0
G12: =E12*F12 -> 0
G13: =E13*F13 -> 0
G14: =E14*F14 -> 0
B15: Budget Period 1 Total | G15: =ROUND(SUM(G9:G14),0) -> 0
B16: Budget Period 2
G17: =E17*F17 -> 0
G18: =E18*F18 -> 0
G19: =E19*F19 -> 0
G20: =E20*F20 -> 0
G21: =E21*F21 -> 0
G22: =E22*F22 -> 0
B23: Budget Period 2 Total | G23: =ROUND(SUM(G17:G22),0) -> 0
B24: Budget Period 3
G25: =E25*F25 -> 0
G26: =E26*F26 -> 0
G27: =E27*F27 -> 0
G28: =E28*F28 -> 0
G29: =E29*F29 -> 0
G30: =E30*F30 -> 0
B31: Budget Period 3 Total | G31: =ROUND(SUM(G25:G30),0) -> 0
B33: TOTAL SOPO EQUIPMENT | G33: =ROUND(SUMIF(B9:B14,"S",G9:G14)+SUMIF(B17:B22,"S",G17:G22)+SUMIF(B25:B30,"S",G25:G30),0) -> 0
B34: TOTAL CBP/CBOO EQUIPMENT | G34: =ROUND(SUMIF(B9:B14,"CB",G9:G14)+SUMIF(B17:B22,"CB",G17:G22)+SUMIF(B25:B30,"CB",G25:G30),0) -> 0
B35: TOTAL EQUIPMENT | G35: =ROUND(G15+G23+G31,0) -> 0
B37: Additional Explanation (as needed):

Sheet e. Supplies
B1: Detailed Budget Justification
B2: e. Supplies
B3: INSTRUCTIONS - PLEASE READ!!! 1. Supplies are generally defined as an item with an acquisition cost of $5,000 or less and a useful life expectancy of less than one year. Supplies are generally consumed during the project performance. Please refer to the applicable Federal regulations in 2 CFR 200 for specific supplies definitions and treatment. A computing device is a supply if the acquisition cost is less than the lesser of the capitalization level established by the non-Federal entity for financial statement purposes or $5,000, regardless of the length of its useful life. 2. List all proposed supplies below, providing a basis of costs (e.g. contractor quotes, catalog prices, prior invoices, etc.). Briefly justify the need for the Supplies as they apply to the Statement of Project Objectives. Note that Supply items must be direct costs to the project at this budget category, and not duplicative of supply costs included in the indirect pool that is the basis of the indirect rate applied for this project. 3. Multiple supply items valued at $5,000 or less used to assemble an equipment item with a value greater than $5,000 with a useful life of more than one year should be included on the equipment tab. If supply items and costs are ambiguous in nature, contact your DOE representative for proper categorization. 4. Add rows as needed. If rows are added, formulas/calculations may need to be adjusted by the preparer. 5. Each budget period is rounded to the nearest dollar. 6. Please indicate in column B if supplies are related to SOPO = S or CBP/CBOO = CB tasks. 7. If supplies are for both SOPO and CB/CBOO tasks, please ensure those costs are properly separated.
B5: S or CB | C5: Task # | D5: General Category of Supplies | E5: Qty | F5: Unit Cost | G5: Total Cost | H5: Basis of Cost | I5: Justification of need
B6: Budget Period 1
B7: S | C7: 1,2 | D7: EXAMPLE!!! Wireless DAS components | E7: 10 | F7: 360 | G7: =E7*F7 -> 3600 | H7: Catalog price | I7: For Alpha prototype - Task 2.4
B8: CB | C8: 3 | D8: EXAMPLE!!! Printed reports | E8: 100 | F8: 2 | G8: =E8*F8 -> 200 | H8: Quote | I8: Project and community analysis reports for stakeholder engagement events.
G9: =E9*F9 -> 0
G10: =E10*F10 -> 0
G11: =E11*F11 -> 0
G12: =E12*F12 -> 0
G13: =E13*F13 -> 0
G14: =E14*F14 -> 0
G15: =E15*F15 -> 0
G16: =E16*F16 -> 0
B17: Budget Period 1 Total | G17: =ROUND(SUM(G9:G16),0) -> 0
B18: Budget Period 2
G19: =E19*F19 -> 0
G20: =E20*F20 -> 0
G21: =E21*F21 -> 0
G22: =E22*F22 -> 0
G23: =E23*F23 -> 0
G24: =E24*F24 -> 0
G25: =E25*F25 -> 0
G26: =E26*F26 -> 0
B27: Budget Period 2 Total | G27: =ROUND(SUM(G19:G26),0) -> 0
B28: Budget Period 3
G29: =E29*F29 -> 0
G30: =E30*F30 -> 0
G31: =E31*F31 -> 0
G32: =E32*F32 -> 0
G33: =E33*F33 -> 0
G34: =E34*F34 -> 0
G35: =E35*F35 -> 0
G36: =E36*F36 -> 0
B37: Budget Period 3 Total | G37: =ROUND(SUM(G29:G36),0) -> 0
B39: TOTAL SOPO SUPPLIES | G39: =ROUND(SUMIF(B9:B16,"S",G9:G16)+SUMIF(B19:B26,"S",G19:G26)+SUMIF(B29:B36,"S",G29:G36),0) -> 0
B40: TOTAL CB/CBOO SUPPLIES | G40: =ROUND(SUMIF(B9:B16,"CB",G9:G16)+SUMIF(B19:B26,"CB",G19:G26)+SUMIF(B29:B36,"CB",G29:G36),0) -> 0
B41: TOTAL SUPPLIES | G41: =ROUND(SUM(G37+G27+G17),0) -> 0
B43: Additional Explanation (as needed):

Sheet f. Contractual
B1: Detailed Budget Justification
B2: f. Contractual
B3: INSTRUCTIONS - PLEASE READ!!! 1. The entity completing this form must provide all costs related to subrecipients, contractors, and FFRDC partners in the applicable boxes below. 2. Subrecipients (partners, sub-awardees): Subrecipients shall submit a Budget Justification describing all project costs and calculations when their total proposed budget exceeds either (1) $250,000 or (2) 25% of total award costs. These subrecipient forms may be completed by either the subrecipients themselves or by the preparer of this form. The budget totals on the subrecipient's forms must match the subrecipient entries below. A subrecipient is a legal entity to which a subaward is made, who has performance measured against whether the objectives of the Federal program are met, is responsible for programmatic decision making, must adhere to applicable Federal program compliance requirements, and uses the Federal funds to carry out a program of the organization. All characteristics may not be present and judgment must be used to determine subrecipient vs. contractor status. 3. Contractors: List all contractors supplying commercial supplies or services used to support the project. For each Contractor cost with total project costs of $250,000 or more, a Contractor quote must be provided. A contractor is a legal entity contracted to provide goods and services within normal business operations, provides similar goods or services to many different purchasers, operates in a competitive environment, provides goods or services that are ancillary to the operation of the Federal program, and is not subject to compliance requirements of the Federal program. All characteristics may not be present and judgment must be used to determine subrecipient vs. contractor status. 4. Federal Funded Research and Development Centers (FFRDCs): FFRDCs must submit a signed Field Work Proposal during award application. The award recipient may allow the FFRDC to provide this information directly to DOE, however project costs must also be provided below. 5. Each budget period is rounded to the nearest dollar. 6. Please indicate in column B if subrecipients/contractors are related to SOPO = S or CBP/CBOO = CB tasks. 7. If subrecipients/contractors are for both SOPO and CB/CBOO tasks, please ensure those costs are properly separated.
B5: S or CB | C5: Task # | D5: Subrecipient Name/Organization | E5: Subrecipient Unique Entity Identifier (UEI) | F5: Purpose and Basis of Cost | G5: Budget Period 1 | H5: Budget Period 2 | I5: Budget Period 3 | J5: Project Total
B6: S | C6: 2,4 | D6: EXAMPLE!!! XYZ Corp. | F6: Partner to develop optimal lens for Gen 2 product. Cost estimate based on personnel hours. | G6: 48000 | H6: 32000 | I6: 16000 | J6: =SUM(G6:I6) -> 96000
J7: =SUM(G7:I7) -> 0
J8: =SUM(G8:I8) -> 0
J9: =SUM(G9:I9) -> 0
J10: =SUM(G10:I10) -> 0
J11: =SUM(G11:I11) -> 0
J12: =SUM(G12:I12) -> 0
B13: Sub-total | G13: =ROUND(SUM(G7:G12),0) -> 0 | H13: =ROUND(SUM(H7:H12),0) -> 0 | I13: =ROUND(SUM(I7:I12),0) -> 0 | J13: =ROUND(SUM(J7:J12),0) -> 0
B15: S or CB | C15: Task # | D15: Contractor Name/Organization | F15: Purpose and Basis of Cost | G15: Budget Period 1 | H15: Budget Period 2 | I15: Budget Period 3 | J15: Project Total
B16: CB | C16: 3 | D16: EXAMPLE!!! ABC Corp. | F16: Contractor for coordinating community engagement activities. Estimate provided by contractor. | G16: 5000 | H16: 10000 | I16: 15000 | J16: =SUM(G16:I16) -> 30000
J17: =SUM(G17:I17) -> 0
J18: =SUM(G18:I18) -> 0
J19: =SUM(G19:I19) -> 0
J20: =SUM(G20:I20) -> 0
J21: =SUM(G21:I21) -> 0
B22: Sub-total | G22: =ROUND(SUM(G17:G21),0) -> 0 | H22: =ROUND(SUM(H17:H21),0) -> 0 | I22: =ROUND(SUM(I17:I21),0) -> 0 | J22: =ROUND(SUM(J17:J21),0) -> 0
B24: SOPO or CBOO | C24: Task # | D24: FFRDC Name/Organization | F24: Purpose and Basis of Cost | G24: Budget Period 1 | H24: Budget Period 2 | I24: Budget Period 3 | J24: Project Total
J25: =SUM(G25:I25) -> 0
J26: =SUM(G26:I26) -> 0
B27: Sub-total | G27: =ROUND(SUM(G25:G26),0) -> 0 | H27: =ROUND(SUM(H25:H26),0) -> 0 | I27: =ROUND(SUM(I25:I26),0) -> 0 | J27: =ROUND(SUM(G27:I27),0) -> 0
B29: TOTAL SOPO CONTRACTUAL | G29: =ROUND(SUMIF(B7:B12,"S",G7:G12)+SUMIF(B17:B21,"S",G17:G21)+SUMIF(B25:B26,"S",G25:G26),0) -> 0 | H29: =ROUND(SUMIF(B7:B12,"S",H7:H12)+SUMIF(B17:B21,"S",H17:H21)+SUMIF(B25:B26,"S",H25:H26),0) -> 0 | I29: =ROUND(SUMIF(B7:B12,"S",I7:I12)+SUMIF(B17:B21,"S",I17:I21)+SUMIF(B25:B26,"S",I25:I26),0) -> 0 | J29: =SUM(G29:I29) -> 0
B30: TOTAL CB/CBOO CONTRACTUAL | G30: =ROUND(SUMIF(B7:B12,"CB",G7:G12)+SUMIF(B17:B21,"CB",G17:G21)+SUMIF(B25:B26,"CB",G25:G26),0) -> 0 | H30: =ROUND(SUMIF(B7:B12,"CB",H7:H12)+SUMIF(B17:B21,"CB",H17:H21)+SUMIF(B25:B26,"CB",H25:H26),0) -> 0 | I30: =ROUND(SUMIF(B7:B12,"CB",I7:I12)+SUMIF(B17:B21,"CB",I17:I21)+SUMIF(B25:B26,"CB",I25:I26),0) -> 0 | J30: =SUM(G30:I30) -> 0
B31: TOTAL CONTRACTUAL | G31: =ROUND(SUM(G13+G22+G27),0) -> 0 | H31: =ROUND(SUM(H13+H22+H27),0) -> 0 | I31: =ROUND(SUM(I13+I22+I27),0) -> 0 | J31: =ROUND(SUM(J13+J22+J27),0) -> 0
B33: Additional Explanation (as needed):

Sheet g. Construction
B1: Detailed Budget Justification
B2: g. Construction
B3: PLEASE READ!!! 1. Construction, for the purpose of budgeting, is defined as all types of work done on a particular building, including erecting, altering, or remodeling. Construction conducted by the award recipient is entered on this page. Any construction work that is performed by a contractor or subrecipient should be entered under f. Contractual. 2. List all proposed construction below, providing a basis of cost such as engineering estimates, prior construction, etc., and briefly justify its need as it applies to the Statement of Project Objectives. 3. Each budget period is rounded to the nearest dollar. 4. Please indicate in column B if construction tasks are related to SOPO = S or CBP/CBOO = CB tasks. 5. If construction tasks are for both SOPO and CB/CBOO tasks, please ensure those costs are properly separated.
B5: Overall description of construction activities: Example Only!!! - Build wind turbine platform
B7: S or CB | C7: Task # | D7: General Description | E7: Cost | F7: Basis of Cost | G7: Justification of need
B8: Budget Period 1
B9: S | C9: 6 | D9: EXAMPLE ONLY!!! Three days of excavation for platform site | E9: 28000 | F9: Engineering estimate | G9: Site must be prepared for construction of platform.
B10: CB | C10: 3 | D10: EXAMPLE ONLY!!! Two days of park equipment assembly | E10: 6000 | F10: Quoted price | G10: Execution of planned community benefit.
B16: Budget Period 1 Total | E16: =SUM(E11:E15) -> 0
B17: Budget Period 2
B23: Budget Period 2 Total | E23: =SUM(E18:E22) -> 0
B24: Budget Period 3
B30: Budget Period 3 Total | E30: =SUM(E25:E29) -> 0
B32: TOTAL SOPO CONSTRUCTION | E32: =SUMIF(B11:B15,"S",E11:E15)+SUMIF(B18:B22,"S",E18:E22)+SUMIF(B25:B29,"S",E25:E29) -> 0
B33: TOTAL CB/CBOO CONSTRUCTION | E33: =SUMIF(B11:B15,"CB",E11:E15)+SUMIF(B18:B22,"CB",E18:E22)+SUMIF(B25:B29,"CB",E25:E29) -> 0
B34: TOTAL CONSTRUCTION | E34: =E16+E23+E30 -> 0
B36: Additional Explanation (as needed):

Sheet h. Other
B1: Detailed Budget Justification
B2: h. Other Direct Costs
B3: INSTRUCTIONS - PLEASE READ!!! 1. Other direct costs are direct cost items required for the project which do not fit clearly into other categories. These direct costs must not be included in the indirect costs (for which the indirect rate is being applied for this project). Examples are: tuition, printing costs, etc. which can be directly charged to the project and are not duplicated in indirect costs (overhead costs). 2. Basis of cost are items such as contractor quotes, prior purchases of similar or like items, published price list, etc. 3. Each budget period is rounded to the nearest dollar. 4. Please indicate in column B if other direct costs are related to SOPO = S or CBP/CBOO = CB tasks. 5. If other direct costs are for both SOPO and CB/CBOO tasks, please ensure those costs are properly separated.
B5: S or CB | C5: Task # | D5: General Description and SOPO Task # | E5: Cost | F5: Basis of Cost | G5: Justification of need
B6: Budget Period 1
B7: S | C7: 5 | D7: EXAMPLE!!! Grad student tuition - tasks 1-3 | E7: 16000 | F7: Established UCD costs | G7: Support of graduate students working on project
B8: CB | C8: 4 | D8: EXAMPLE!!! Room Rental | E8: 500 | F8: Quoted price | G8: Community meeting
B15: Budget Period 1 Total | E15: =ROUND(SUM(E9:E14),0) -> 0
D16: Budget Period 2
B23: Budget Period 2 Total | E23: =ROUND(SUM(E17:E22),0) -> 0
D24: Budget Period 3
B31: Budget Period 3 Total | E31: =ROUND(SUM(E25:E30),0) -> 0
B33: TOTAL SOPO OTHER DIRECT COSTS | E33: =ROUND(SUMIF(B9:B14,"S",E9:E14)+SUMIF(B17:B22,"S",E17:E22)+SUMIF(B25:B30,"S",E25:E30),0) -> 0
B34: TOTAL CB/CBOO OTHER DIRECT COSTS | E34: =ROUND(SUMIF(B9:B14,"CB",E9:E14)+SUMIF(B17:B22,"CB",E17:E22)+SUMIF(B25:B30,"CB",E25:E30),0) -> 0
B35: TOTAL OTHER DIRECT COSTS | E35: =ROUND(SUM(E31+E23+E15),0) -> 0
B37: Additional Explanation (as needed):

Sheet i. Indirect
B1: Detailed Budget Justification
B2: i. Indirect Costs
B3: INSTRUCTIONS - PLEASE READ!!! 1. Fill out the table below to indicate how your indirect costs are calculated. Use the box below to provide additional explanation regarding your indirect rate calculation. 2. The rates and how they are applied should not be averaged to get one indirect cost percentage. Complex calculations or rates that do not do not correspond to the below categories should be described/provided in the Additional Explanation section below. If questions exist, consult with your DOE contact before filling out this section. 3. The indirect rate should be applied to both the Federal Share and Recipient Cost Share. 4. NOTE: A Recipient who elects to employ the 10% de minimis Indirect Cost rate cannot claim resulting costs as a Cost Share contribution, nor can the Recipient claim "unrecovered indirect costs" as a Cost Share contribution. Neither of these costs can be reflected as actual indirect cost rates realized by the organization, and therefore are not verifiable in the Recipient records as required by Federal Regulation (§200.306(b)(1)). 5. Each budget period is rounded to the nearest dollar.
C5: Budget Period 1 | D5: Budget Period 2 | E5: Budget Period 3 | F5: Total | G5: Explanation of BASE
B6: Provide ONLY Applicable Rates:
B7: Overhead Rate | C7: 0 | D7: 0 | E7: 0 | G7: Example: Labor + Fringe
B8: General & Administrative (G&A) | C8: 0 | D8: 0 | E8: 0 | G8: Example: Total Cost Input
B9: FCCM Rate, if applicable | C9: 0 | D9: 0 | E9: 0
B10: OTHER Indirect Rate | C10: 0 | D10: 0 | E10: 0
B11: Indirect Costs (As Applicable):
B12: Overhead Costs | F12: =ROUND(SUM(C12:E12),0) -> 0
B13: G&A Costs | F13: =ROUND(SUM(C13:E13),0) -> 0
B14: FCCM Costs, if applicable | F14: =ROUND(SUM(C14:E14),0) -> 0
B15: OTHER Indirect Costs | F15: =ROUND(SUM(C15:E15),0) -> 0
B16: Total Indirect Costs Requested: | C16: =ROUND(SUM(C12:C15),0) -> 0 | D16: =ROUND(SUM(D12:D15),0) -> 0 | E16: =ROUND(SUM(E12:E15),0) -> 0 | F16: =ROUND(SUM(F12:F15),0) -> 0
B18: A federally approved indirect rate agreement, or rate proposed (supported and agreed upon by DOE for estimating purposes) is required if reimbursement of indirect costs is requested. Please check (X) one of the options below and provide the requested information if it has not already been provided as requested, or has changed.
B19: ______ An indirect rate has been approved or negotiated with a federal government agency. A copy of the latest rate agreement is included with this application and will be provided electronically to the Contracting Officer for this project. ______ The organization does not have a current, federally approved indirect cost rate agreement and has provided an indirect rate proposal in support of the proposed costs. ______ This organization has elected to apply a 10% de minimis rate in accordance with 2 CFR 200.414(f).
B21: Provide an explanation of how your indirect cost rate was applied.
B23: Additional Explanation (as needed): *IMPORTANT: Please use this box (or an attachment) to further explain how your total indirect costs were calculated. If the total indirect costs are a cumulative amount of more than one calculation or rate application, the explanation and calculations should identify all rates used, along with the base they were applied to (and how the base was derived), and a total for each (along with grand total).

Sheet j. Cost Share
B1: Detailed Budget Justification
B2: Cost Share
B3: PLEASE READ!!! 1. A detailed presentation of the cash or cash value of all cost share proposed must be provided in the table below. All items in the chart below must be identified within the applicable cost category tabs a. through i. in addition to the detailed presentation of the cash or cash value of all cost share proposed provided in the table below. Identify the source organization & amount of each cost share item proposed in the award. 2. Cash Cost Share - encompasses all contributions to the project made by the recipient, subrecipient, or third party (an entity that does not have a role in performing the scope of work) for costs incurred and paid for during the project. This includes when an organization pays for personnel, supplies, equipment, etc. for their own company with organizational resources. If the item or service is reimbursed for, it is cash cost share. All cost share items must be necessary to the performance of the project. Contractors may not provide cost share. Any partial donation of goods or services is considered a discount and is not allowable. 3. In Kind Cost Share - encompasses all contributions to the project made by the recipient, subrecipient, or third party (an entity that does not have a role in performing the scope of work) where a value of the contribution can be readily determined, verified and justified but where no actual cash is transacted in securing the good or service comprising the contribution. In Kind cost share items include volunteer personnel hours, the donation of space or use of equipment, etc. The cash value and calculations thereof for all In Kind cost share items must be justified and explained in the Cost Share Item section below. All cost share items must be necessary to the performance of the project. If questions exist, consult your DOE contact before filling out In Kind cost share in this section. Contractors may not provide cost share. Any partial donation of goods or services is considered a discount and is not allowable. 4. Funds from other Federal sources MAY NOT be counted as cost share. This prohibition includes FFRDC sub-recipients. Non-Federal sources include any source not originally derived from Federal funds. Cost sharing commitment letters from subrecipients and third parties must be provided with the original application. 5. Fee or profit, including foregone fee or profit, are not allowable as project costs (including cost share) under any resulting award. The project may only incur those costs that are allowable and allocable to the project (including cost share) as determined in accordance with the applicable cost principles prescribed in FAR Part 31 for For-Profit entities and 2 CFR Part 200 Subpart E - Cost Principles for all other non-federal entities. 6. NOTE: A Recipient who elects to employ the 10% de minimis Indirect Cost rate cannot claim the resulting indirect costs as a Cost Share contribution. 7. NOTE: A Recipient cannot claim "unrecovered indirect costs" as a Cost Share contribution, without prior approval. 8. Each budget period is rounded to the nearest dollar.
B5: Organization/Source | C5: Type (Cash or In Kind) | D5: Cost Share Item | E5: Budget Period 1 | F5: Budget Period 2 | G5: Budget Period 3 | H5: Total Project Cost Share
B6: ABC Company EXAMPLE!!! | C6: Cash | D6: Project partner ABC Company will provide 20 PV modules for product development at the price of $680 per module | E6: 13600 | H6: =SUM(E6:G6) -> 13600
H7: =SUM(E7:G7) -> 0
H8: =SUM(E8:G8) -> 0
H9: =SUM(E9:G9) -> 0
H10: =SUM(E10:G10) -> 0
H11: =SUM(E11:G11) -> 0
H12: =SUM(E12:G12) -> 0
H13: =SUM(E13:G13) -> 0
H14: =SUM(E14:G14) -> 0
H15: =SUM(E15:G15) -> 0
H16: =SUM(E16:G16) -> 0
B17: TOTAL COST SHARE | E17: =ROUND(SUM(E7:E16),0) -> 0 | F17: =ROUND(SUM(F7:F16),0) -> 0 | G17: =ROUND(SUM(G7:G16),0) -> 0 | H17: =ROUND(SUM(H7:H16),0) -> 0
D19: Cost Share Percentage per Budget Period | E19: =IF(E17>0,E17/'Instructions and Summary'!E33,0) -> 0 | F19: =IF(F17>0,F17/'Instructions and Summary'!H33,0) -> 0 | G19: =IF(G17>0,G17/'Instructions and Summary'!K33,0) -> 0
B22: Total Project Cost: | D22: ='Instructions and Summary'!L33 -> 0 | E22: Total Project Cost Share Percent: | H22: =IF(D22>0,H17/D22,0) -> 0
B24: Additional Explanation (as needed):

Sheet SF-424A Cost Categories
B2: Applicant Name: | D2: ='Instructions and Summary'!C4 -> 0 | F2: Award Number: | G2: ='Instructions and Summary'!C3 -> 0
B3: Budget Information - Non Construction Programs
B4: OMB Approval No. 0348-0044
B5: Section A - Budget Summary
C6: Grant Program Function or Activity | D6: Catalog of Federal Domestic Assistance Number | E6: Estimated Unobligated Funds | G6: New or Revised Budget
E7: Federal | F7: Non-Federal | G7: Federal | H7: Non-Federal | I7: Total
C8: (a) | D8: (b) | E8: (c) | F8: (d) | G8: (e) | H8: (f) | I8: (g)
B9: 1. | C9: Budget Period 1 | G9: ='Instructions and Summary'!F12 -> 0 | H9: ='Instructions and Summary'!I12 -> 0 | I9: =ROUND(SUM(E9:H9),0) -> 0
B10: 2. | C10: Budget Period 2 | G10: ='Instructions and Summary'!F13 -> 0 | H10: ='Instructions and Summary'!I13 -> 0 | I10: =ROUND(SUM(E10:H10),0) -> 0
B11: 3. | C11: Budget Period 3 | G11: ='Instructions and Summary'!F14 -> 0 | H11: ='Instructions and Summary'!I14 -> 0 | I11: =ROUND(SUM(E11:H11),0) -> 0
B12: 4.
B13: 5. | C13: Totals | G13: =ROUND(SUM(G9:G12),0) -> 0 | H13: =ROUND(SUM(H9:H12),0) -> 0 | I13: =ROUND(SUM(I9:I12),0) -> 0
B14: Section B - Budget Categories
B15: 6. | C15: Object Class Categories | E15: Grant Program, Function or Activity | I15: Total (5)
E16: Budget Period 1 | F16: Budget Period 2 | G16: Budget Period 3
C17: a. Personnel | E17: =+'Instructions and Summary'!E19 -> 0 | F17: =+'Instructions and Summary'!H19 -> 0 | G17: =+'Instructions and Summary'!K19 -> 0 | I17: =ROUND(SUM(E17:H17),0) -> 0
C18: b. Fringe Benefits | E18: ='Instructions and Summary'!E20 -> 0 | F18: ='Instructions and Summary'!H20 -> 0 | G18: ='Instructions and Summary'!K20 -> 0 | I18: =ROUND(SUM(E18:H18),0) -> 0
C19: c. Travel | E19: ='Instructions and Summary'!E21 -> 0 | F19: ='Instructions and Summary'!H21 -> 0 | G19: ='Instructions and Summary'!K21 -> 0 | I19: =ROUND(SUM(E19:H19),0) -> 0
C20: d. Equipment | E20: ='Instructions and Summary'!E22 -> 0 | F20: ='Instructions and Summary'!H22 -> 0 | G20: ='Instructions and Summary'!K22 -> 0 | I20: =ROUND(SUM(E20:H20),0) -> 0
C21: e. Supplies | E21: ='Instructions and Summary'!E23 -> 0 | F21: ='Instructions and Summary'!H23 -> 0 | G21: ='Instructions and Summary'!K23 -> 0 | I21: =ROUND(SUM(E21:H21),0) -> 0
C22: f. Contractual | E22: ='Instructions and Summary'!E28 -> 0 | F22: ='Instructions and Summary'!H28 -> 0 | G22: ='Instructions and Summary'!K28 -> 0 | I22: =ROUND(SUM(E22:H22),0) -> 0
C23: g. Construction | E23: ='Instructions and Summary'!E29 -> 0 | F23: ='Instructions and Summary'!H29 -> 0 | G23: ='Instructions and Summary'!K29 -> 0 | I23: =ROUND(SUM(E23:H23),0) -> 0
C24: h. Other | E24: ='Instructions and Summary'!E30 -> 0 | F24: ='Instructions and Summary'!H30 -> 0 | G24: ='Instructions and Summary'!K30 -> 0 | I24: =ROUND(SUM(E24:H24),0) -> 0
C25: i. Total Direct Charges (sum of 6a-6h) | E25: =SUM(E17:E24) -> 0 | F25: =SUM(F17:F24) -> 0 | G25: =SUM(G17:G24) -> 0 | I25: =ROUND(SUM(I17:I24),0) -> 0
C26: j. Indirect Charges | E26: ='Instructions and Summary'!E32 -> 0 | F26: ='Instructions and Summary'!H32 -> 0 | G26: ='Instructions and Summary'!K32 -> 0 | I26: =ROUND(SUM(E26:H26),0) -> 0
C27: k. Totals (sum of 6i-6j) | E27: =ROUND(SUM(E25:E26),0) -> 0 | F27: =ROUND(SUM(F25:F26),0) -> 0 | G27: =ROUND(SUM(G25:G26),0) -> 0 | I27: =ROUND(SUM(I25:I26),0) -> 0
B29: 7. | C29: Program Income | I29: =ROUND(SUM(E29:H29),0) -> 0
I31: SF-424A (Rev. 4-92)
B32: Previous Edition Usable | H32: Prescribed by OMB Circular A-102
B33: Authorized for Local Reproduction

Sheet SF-424A Minus FFRDC
B2: Applicant Name: | D2: ='Instructions and Summary'!C4 -> 0 | F2: Award Number: | G2: ='Instructions and Summary'!C3 -> 0
B3: Budget Information - Non Construction Programs
B4: OMB Approval No. 0348-0044
B5: Section A - Budget Summary
C6: Grant Program Function or Activity | D6: Catalog of Federal Domestic Assistance Number | E6: Estimated Unobligated Funds | G6: New or Revised Budget
E7: Federal | F7: Non-Federal | G7: Federal | H7: Non-Federal | I7: Total
C8: (a) | D8: (b) | E8: (c) | F8: (d) | G8: (e) | H8: (f) | I8: (g)
B9: 1. | C9: Budget Period 1 | G9: ='Instructions and Summary'!F12-'Instructions and Summary'!E27 -> 0 | H9: ='Instructions and Summary'!I12 -> 0 | I9: =ROUND(SUM(E9:H9),0) -> 0
B10: 2. | C10: Budget Period 2 | G10: ='Instructions and Summary'!F13-'Instructions and Summary'!H27 -> 0 | H10: ='Instructions and Summary'!I13 -> 0 | I10: =ROUND(SUM(E10:H10),0) -> 0
B11: 3. | C11: Budget Period 3 | G11: ='Instructions and Summary'!F14-'Instructions and Summary'!K27 -> 0 | H11: ='Instructions and Summary'!I14 -> 0 | I11: =ROUND(SUM(E11:H11),0) -> 0
B12: 4.
B13: 5. | C13: Totals | G13: =ROUND(SUM(G9:G12),0) -> 0 | H13: =ROUND(SUM(H9:H12),0) -> 0 | I13: =ROUND(SUM(I9:I12),0) -> 0
B14: Section B - Budget Categories
B15: 6. | C15: Object Class Categories | E15: Grant Program, Function or Activity | I15: Total (5)
E16: Budget Period 1 | F16: Budget Period 2 | G16: Budget Period 3
C17: a. Personnel | E17: =+'Instructions and Summary'!E19 -> 0 | F17: =+'Instructions and Summary'!H19 -> 0 | G17: =+'Instructions and Summary'!K19 -> 0 | I17: =ROUND(SUM(E17:H17),0) -> 0
C18: b. Fringe Benefits | E18: ='Instructions and Summary'!E20 -> 0 | F18: ='Instructions and Summary'!H20 -> 0 | G18: ='Instructions and Summary'!K20 -> 0 | I18: =ROUND(SUM(E18:H18),0) -> 0
C19: c. Travel | E19: ='Instructions and Summary'!E21 -> 0 | F19: ='Instructions and Summary'!H21 -> 0 | G19: ='Instructions and Summary'!K21 -> 0 | I19: =ROUND(SUM(E19:H19),0) -> 0
C20: d. Equipment | E20: ='Instructions and Summary'!E22 -> 0 | F20: ='Instructions and Summary'!H22 -> 0 | G20: ='Instructions and Summary'!K22 -> 0 | I20: =ROUND(SUM(E20:H20),0) -> 0
C21: e. Supplies | E21: ='Instructions and Summary'!E23 -> 0 | F21: ='Instructions and Summary'!H23 -> 0 | G21: ='Instructions and Summary'!K23 -> 0 | I21: =ROUND(SUM(E21:H21),0) -> 0
C22: f. Contractual | E22: ='Instructions and Summary'!E28-'Instructions and Summary'!E27 -> 0 | F22: ='Instructions and Summary'!H28-'Instructions and Summary'!H27 -> 0 | G22: ='Instructions and Summary'!K28-'Instructions and Summary'!K27 -> 0 | I22: =ROUND(SUM(E22:H22),0) -> 0
C23: g. Construction | E23: ='Instructions and Summary'!E29 -> 0 | F23: ='Instructions and Summary'!H29 -> 0 | G23: ='Instructions and Summary'!K29 -> 0 | I23: =ROUND(SUM(E23:H23),0) -> 0
C24: h. Other | E24: ='Instructions and Summary'!E30 -> 0 | F24: ='Instructions and Summary'!H30 -> 0 | G24: ='Instructions and Summary'!K30 -> 0 | I24: =ROUND(SUM(E24:H24),0) -> 0
C25: i. Total Direct Charges (sum of 6a-6h) | E25: =SUM(E17:E24) -> 0 | F25: =SUM(F17:F24) -> 0 | G25: =SUM(G17:G24) -> 0 | I25: =ROUND(SUM(I17:I24),0) -> 0
C26: j. Indirect Charges | E26: ='Instructions and Summary'!E32 -> 0 | F26: ='Instructions and Summary'!H32 -> 0 | G26: ='Instructions and Summary'!K32 -> 0 | I26: =ROUND(SUM(E26:H26),0) -> 0
C27: k. Totals (sum of 6i-6j) | E27: =ROUND(SUM(E25:E26),0) -> 0 | F27: =ROUND(SUM(F25:F26),0) -> 0 | G27: =ROUND(SUM(G25:G26),0) -> 0 | I27: =ROUND(SUM(I25:I26),0) -> 0
B29: 7. | C29: Program Income | I29: =ROUND(SUM(E29:H29),0) -> 0
I31: SF-424A (Rev. 4-92)
B32: Previous Edition Usable | H32: Prescribed by OMB Circular A-102
B33: Authorized for Local Reproduction

Sheet Audit
B1: Instructions and Summary
B3: Award Number: | K3: Date of Submission:
B4: Award Recipient: | K4: Form submitted by:
N5: (May be award recipient or sub-recipient)
B6: Please read the instructions on each worksheet tab before starting. If you have any questions, please ask your DOE contact! Do not modify this template or any cells or formulas!
B7: 1. If using this form for award application, negotiation, or budget revision, fill out the blank white cells in workbook tabs a. through j. with total project costs. 2. Blue colored cells contain instructions, headers, or summary calculations and should not be modified. Only blank white cells should be populated. 3. Enter detailed support for the project costs identified for each Category line item within each worksheet tab to auto populate the summary tab. 4. The total budget presented on tabs a. through i. must include both Federal (DOE) and Non-Federal (cost share) portions. 5. All costs incurred by the preparer's sub-recipients, contractors, and Federal Research and Development Centers (FFRDCs), should be entered only in section f. Contractual. All other sections are for the costs of the preparer only. 6. Ensure all entered costs are allowable, allocable, and reasonable in accordance with the administrative requirements prescribed in 2 CFR 200, and the applicable cost principles for each entity type: FAR Part 31 for For-Profit entities; and 2 CFR Part 200 Subpart E - Cost Principles for all other non-federal entities. 7. Add rows as needed throughout tabs a. through j. If rows are added, formulas/calculations may need to be adjusted by the preparer. Do not add rows to the Instructions and Summary tab. If your project contains more than three budget periods, consult your DOE contact before adding additional budget period rows or columns. 8. ALL budget period cost categories are rounded to the nearest dollar. BURDEN DISCLOSURE STATEMENT Public reporting burden for this collection of information is estimated to average 24 hours per response, including the time for reviewing instructions, searching existing data sources, gathering and maintaining the data needed, and completing and reviewing the collection of information. Send comments regarding this burden estimate or any other aspect of this collection of information, including suggestions for reducing this burden, to Office of Information Resources Management Policy, Plans, and Oversight, AD-241-2 - GTN, Paperwork Reduction Project (1910-5162), U.S. Department of Energy 1000 Independence Avenue, S.W., Washington, DC 20585; and to the Office of Management and Budget, Paperwork Reduction Project (1910-5162), Washington, DC 20503.
B9: SUMMARY OF BUDGET CATEGORY COSTS PROPOSED The values in this summary table are from entries made in subsequent tabs, only blank white cells require data entry
B10: Section A - Budget Summary
F11: Federal | I11: Cost Share | L11: Total Costs | M11: Cost Share % | N11: Proposed Budget Period Dates
C12: Budget Period 1 | F12: =L12-I12 -> 0 | I12: ='j. Cost Share'!E17 -> 0 | L12: =E33 -> 0 | M12: =IF(L12>0,I12/L12,0) -> 0 | N12: Example!!! 01/01/2014 - 12/31/2014
C13: Budget Period 2 | F13: =L13-I13 -> 0 | I13: ='j. Cost Share'!F17 -> 0 | L13: =H33 -> 0 | M13: =IF(L13>0,I13/L13,0) -> 0
C14: Budget Period 3 | F14: =L14-I14 -> 0 | I14: ='j. Cost Share'!G17 -> 0 | L14: =K33 -> 0 | M14: =IF(L14>0,I14/L14,0) -> 0
C15: Total | F15: =SUM(H12:H14) -> 0 | I15: =SUM(K12:K14) -> 0 | L15: =SUM(L12:L14) -> 0 | M15: =IF(L15>0,I15/L15,0) -> 0
B16: Section B - Budget Categories
B17: CATEGORY | C17: Budget Period 1 | F17: Budget Period 2 | I17: Budget Period 3 | L17: Total Costs | M17: % of Project | N17: Comments (as needed)
C18: S | D18: CB | E18: Total | F18: S | G18: CB | H18: Total | I18: S | J18: CB | K18: Total
B19: a. Personnel | C19: ='a. Personnel'!G34 -> 0 | D19: ='a. Personnel'!G35 -> 0 | E19: ='a. Personnel'!G36 -> 0 | F19: ='a. Personnel'!J34 -> 0 | G19: ='a. Personnel'!J35 -> 0 | H19: ='a. Personnel'!J36 -> 0 | I19: ='a. Personnel'!M34 -> 0 | J19: ='a. Personnel'!M35 -> 0 | K19: ='a. Personnel'!M36 -> 0 | L19: =SUM(E19+H19+K19) -> 0 | M19: =IF(L19>0,L19/L15,0) -> 0
B20: b. Fringe Benefits | C20: N/A | D20: N/A | E20: ='b. Fringe'!E13 -> 0 | F20: N/A | G20: N/A | H20: ='b. Fringe'!H13 -> 0 | I20: N/A | J20: N/A | K20: ='b. Fringe'!K13 -> 0 | L20: =SUM(E20+H20+K20) -> 0 | M20: =IF(L20>0,L20/L15,0) -> 0
B21: c. Travel | C21: =SUMIF('c. Travel'!B9:B14,"S",'c. Travel'!M9:M14) -> 0 | D21: =SUMIF('c. Travel'!B9:B14,"CB",'c. Travel'!M9:M14) -> 0 | E21: ='c. Travel'!M15 -> 0 | F21: =SUMIF('c. Travel'!B17:B22,"S",'c. Travel'!M17:M22) -> 0 | G21: =SUMIF('c. Travel'!B17:B22,"CB",'c. Travel'!M17:M22) -> 0 | H21: ='c. Travel'!M23 -> 0 | I21: =SUMIF('c. Travel'!B25:B30,"S",'c. Travel'!M25:M30) -> 0 | J21: =SUMIF('c. Travel'!B25:B30,"CB",'c. Travel'!M25:M30) -> 0 | K21: ='c. Travel'!M31 -> 0 | L21: =SUM(E21+H21+K21) -> 0 | M21: =IF(L21>0,L21/L15,0) -> 0
B22: d. Equipment | C22: =SUMIF('d. Equipment'!B9:B14,"S",'d. Equipment'!G9:G14) -> 0 | D22: =SUMIF('d. Equipment'!B9:B14,"CB",'d. Equipment'!G9:G14) -> 0 | E22: ='d. Equipment'!G15 -> 0 | F22: =SUMIF('d. Equipment'!B17:B22,"S",'d. Equipment'!G17:G22) -> 0 | G22: =SUMIF('d. Equipment'!B17:B22,"CB",'d. Equipment'!G17:G22) -> 0 | H22: ='d. Equipment'!G23 -> 0 | I22: =SUMIF('d. Equipment'!B25:B30,"S",'d. Equipment'!G25:G30) -> 0 | J22: =SUMIF('d. Equipment'!B25:B30,"CB",'d. Equipment'!G25:G30) -> 0 | K22: ='d. Equipment'!G31 -> 0 | L22: =SUM(E22+H22+K22) -> 0 | M22: =IF(L22>0,L22/L15,0) -> 0
B23: e. Supplies | C23: =SUMIF('e. Supplies'!B9:B16,"S",'e. Supplies'!G9:G16) -> 0 | D23: =SUMIF('e. Supplies'!B9:B16,"CB",'e. Supplies'!G9:G16) -> 0 | E23: ='e. Supplies'!G17 -> 0 | F23: =SUMIF('e. Supplies'!B19:B26,"S",'e. Supplies'!G19:G26) -> 0 | G23: =SUMIF('e. Supplies'!B19:B26,"CB",'e. Supplies'!G19:G26) -> 0 | H23: ='e. Supplies'!G27 -> 0 | I23: =SUMIF('e. Supplies'!B29:B36,"S",'e. Supplies'!G29:G36) -> 0 | J23: =SUMIF('e. Supplies'!B29:B36,"CB",'e. Supplies'!G29:G36) -> 0 | K23: ='e. Supplies'!G37 -> 0 | L23: =SUM(E23+H23+K23) -> 0 | M23: =IF(L23>0,L23/L15,0) -> 0
B24: f. Contractual
B25: Sub-recipient | C25: =SUMIF('f. Contractual'!B7:B12,"S",'f. Contractual'!G7:G12) -> 0 | D25: =SUMIF('f. Contractual'!B7:B12,"CB",'f. Contractual'!G7:G12) -> 0 | E25: ='f. Contractual'!G13 -> 0 | F25: =SUMIF('f. Contractual'!B7:B12,"S",'f. Contractual'!H7:H12) -> 0 | G25: =SUMIF('f. Contractual'!B7:B12,"CB",'f. Contractual'!H7:H12) -> 0 | H25: ='f. Contractual'!H13 -> 0 | I25: =SUMIF('f. Contractual'!B7:B12,"S",'f. Contractual'!I7:I12) -> 0 | J25: =SUMIF('f. Contractual'!B7:B12,"CB",'f. Contractual'!I7:I12) -> 0 | K25: ='f. Contractual'!I13 -> 0 | L25: =SUM(E25+H25+K25) -> 0 | M25: =IF(L25>0,L25/L15,0) -> 0
