Workbook
Name Capacity_Slope_Factor: Calculations!$AE$230
Name Compressor_Types: 'Drop-Downs'!$C$19:$E$19
Name Controls_Types: 'Drop-Downs'!$C$13:$D$13
Name Durations: 'Drop-Downs'!$C$11:$D$11
Name Expansion_Device_Setups: 'Drop-Downs'!$C$27:$D$27
Name Fan_Types: 'Drop-Downs'!$C$20:$D$20
Name H1_Types: 'Drop-Downs'!$C$24:$F$24
Name ID_Fan_Types: 'Drop-Downs'!$C$21:$E$21
Name ID_FanType_Input: 'General Info and Test Results'!$C$29
Name ID_FanType_Input3: 'General Info and Test Results'!$C$29
Name ID_FanType_Inpute: 'General Info and Test Results'!$C$29
Name Min_Max: 'Drop-Downs'!$C$12:$D$12
Name OD_FanType_Input: 'General Info and Test Results'!$C$28
Name Power_Slope_Factor: Calculations!$AE$231
Name Product_Subtype_Input: 'General Info and Test Results'!$C$26
Name Product_Subtypes_AC: 'Drop-Downs'!$C$17:$F$17
Name Product_Subtypes_HP: 'Drop-Downs'!$C$18:$F$18
Name Product_Type_Input: 'General Info and Test Results'!$C$25
Name Product_Types: 'Drop-Downs'!$C$16:$E$16
Name Refrigerant_Types: 'Drop-Downs'!$C$22:$E$22
Name Regions: 'Drop-Downs'!$C$23:$H$23
Name Secondary_Test_Methods: 'Drop-Downs'!$C$26:$G$26
Name SHRb1_SS_FS_rounded: 'B Tests'!$E$153
Name SHRb1_SS_VS_rounded: 'B Tests'!$E$154
Name SHRb1_TS_VS_rounded: 'B Tests'!$E$155
Name SHRb1_VS_VS_rounded: 'B Tests'!$E$156
Name SHRb2_SS_VS_rounded: 'B Tests'!$H$154
Name SHRb2_TS_VS_rounded: 'B Tests'!$H$155
Name SHRb2_VS_VS_rounded: 'B Tests'!$H$156
Name SS_FS_round: 'A Tests'!$E$160
Name SS_VS_round: 'A Tests'!$E$161
Name TestMatrix_Columns: Instructions!$F$56:$U$56
Name TestMatrix_Data: Instructions!$F$66:$U$89
Name TestMatrix_Rows: Instructions!$D$66:$D$89
Name TP_Options: 'Drop-Downs'!$C$25
Name TS_VS_round: 'A Tests'!$E$162
Name VS_VS_round: 'A Tests'!$E$163
Name Yes_No: 'Drop-Downs'!$C$14:$D$14
Name Yes_No_NA: 'Drop-Downs'!$C$15:$E$15

Sheet Instructions
B2: Title Block
B3: Test Report Template Name: | C3: ='Version Control'!C3 -> Residential Central Air Conditioners and Heat Pumps_M1
B4: Version Number: | C4: ='Version Control'!C4 -> v1.1
B5: Latest Template Revision: | C5: ='Version Control'!C5 -> 43668
B6: Tab Name: | C6: =MID(CELL("filename",$A$1), FIND("]", CELL("filename", $A$1))+ 1, 255) -> Instructions
B7: File Name: | C7: =MID(CELL("FILENAME"),FIND("[",CELL("FILENAME"))+1,FIND("]",CELL("FILENAME"))-FIND("[",CELL("FILENAME"))-1) -> Residential Central Air Conditioners and Heat Pumps_M1_Notebook.xlsx
B10: Reference Test Procedure
B11: For DOE Testing: Appendix M1 to Subpart B of Part 430—Uniform Test Method for Measuring the Energy Consumption of Central Air Conditioners and Heat Pumps
B13: Table of Contents
B14: Tab | C14: Contents
B15: Instructions | C15: Instructions and table of contents
B16: General Info and Test Results | C16: Lab information, product information and test results
B17: Instrumentation | C17: Input for list of instruments used and instrument calibration data
B18: Setup | C18: Input for description of test setup
B19: Photos | C19: Input for photographs taken of the test setup and device
B20: Test Settings | C20: Specification of settings for each test performed
B21: A Tests | C21: Recorded data for the A Tests (steady-state wet coil cooling mode)
B22: B Tests | C22: Recorded data for the B Tests (steady-state wet coil cooling mode)
B23: Optional C Tests | C23: Recorded data for the Optional C Tests (steady-state dry coil cooling mode)
B24: Optional D Tests | C24: Recorded data for the Optional D Tests (cyclic dry coil cooling mode)
B25: F1 Test | C25: Recorded data for the F Test (steady-state wet coil cooling mode)
... B39: Version Control | C39: Revision history
B41: LEGEND
B42: Tabs | C42: Tabs with input cells
B43: Cells | C43: Input cell
C44: Auto-populated cell
C45: Provided data
C46: NOT USED
C47: NOT APPLICABLE
B49: Instructions for Completing this Template
B50: Follow the steps below, filling in all input cells (shaded light blue) in each tab you are instructed to complete. Using TAB to "hop" from input cell to input cell is useful, but does not ensure that all input cells are reached. To guarantee that you enter all required information, you must visually scan for light blue cells in the entire area bounded by yellow-shaded cells.
B53: Important: Start with a clean (unused) template copy for each new report. Enter only data and information that are unique to the unit tested and the current test of that unit. All abbreviations and variable names should be consistent with the reference test procedure.
D56: HIDE | E56: Column Lookup | F56: =F57&F59&F62 -> Single-SpeedFixed-Speed or Constant-Air-Volume-RateFixed-Speed or Constant-Air-Volume-Rate | G56: =G57&G59&G62 -> Single-SpeedFixed-Speed or Constant-Air-Volume-RateVariable Speed | H56: =H57&H59&H62 -> Single-SpeedVariable SpeedFixed-Speed or Constant-Air-Volume-Rate | I56: =I57&I59&I62 -> Single-SpeedVariable SpeedVariable Speed | J56: =J57&J59&J62 -> Single-SpeedCoil-OnlyFixed-Speed or Constant-Air-Volume-Rate | K56: =K57&K59&K62 -> Single-SpeedCoil-OnlyVariable Speed | L56: =L57&L59&L62 -> Two-SpeedFixed-Speed or Constant-Air-Volume-RateFixed-Speed or Constant-Air-Volume-Rate | M56: =M57&M59&M62 -> Two-SpeedFixed-Speed or Constant-Air-Volume-RateVariable Speed | ... U56: =U57&U59&U62 -> Variable-SpeedVariable SpeedVariable Speed
B57: STEP: | C57: FILL IN INPUT CELLS IN THIS TAB: | E57: Compressor | F57: =INDEX(Compressor_Types,1) -> Single-Speed | G57: =INDEX(Compressor_Types,1) -> Single-Speed | H57: =INDEX(Compressor_Types,1) -> Single-Speed | I57: =INDEX(Compressor_Types,1) -> Single-Speed | J57: =INDEX(Compressor_Types,1) -> Single-Speed | K57: =INDEX(Compressor_Types,1) -> Single-Speed | L57: =INDEX(Compressor_Types,2) -> Two-Speed | M57: =INDEX(Compressor_Types,2) -> Two-Speed | N57: =INDEX(Compressor_Types,2) -> Two-Speed | O57: =INDEX(Compressor_Types,2) -> Two-Speed | P57: =INDEX(Compressor_Types,2) -> Two-Speed | Q57: =INDEX(Compressor_Types,2) -> Two-Speed | R57: =INDEX(Compressor_Types,3) -> Variable-Speed | S57: =INDEX(Compressor_Types,3) -> Variable-Speed | T57: =INDEX(Compressor_Types,3) -> Variable-Speed | U57: =INDEX(Compressor_Types,3) -> Variable-Speed
B59: Step 1 | C59: General Info and Test Results | E59: Indoor Fan | F59: =INDEX(ID_Fan_Types,1) -> Fixed-Speed or Constant-Air-Volume-Rate | G59: =INDEX(ID_Fan_Types,1) -> Fixed-Speed or Constant-Air-Volume-Rate | H59: =INDEX(ID_Fan_Types,2) -> Variable Speed | I59: =INDEX(ID_Fan_Types,2) -> Variable Speed | J59: =INDEX(ID_Fan_Types,3) -> Coil-Only | K59: =INDEX(ID_Fan_Types,3) -> Coil-Only | L59: =INDEX(ID_Fan_Types,1) -> Fixed-Speed or Constant-Air-Volume-Rate | M59: =INDEX(ID_Fan_Types,1) -> Fixed-Speed or Constant-Air-Volume-Rate | N59: =INDEX(ID_Fan_Types,2) -> Variable Speed | O59: =INDEX(ID_Fan_Types,2) -> Variable Speed | P59: =INDEX(ID_Fan_Types,3) -> Coil-Only | Q59: =INDEX(ID_Fan_Types,3) -> Coil-Only | R59: =INDEX(Fan_Types,1) -> Fixed-Speed or Constant-Air-Volume-Rate | S59: =INDEX(Fan_Types,1) -> Fixed-Speed or Constant-Air-Volume-Rate | T59: =INDEX(Fan_Types,2) -> Variable Speed | U59: =INDEX(Fan_Types,2) -> Variable Speed
B60: Step 2 | C60: Instrumentation
B61: Step 3 | C61: Setup
B62: Step 4 | C62: Photos | E62: Outdoor Fan | F62: =INDEX(Fan_Types,1) -> Fixed-Speed or Constant-Air-Volume-Rate | G62: =INDEX(Fan_Types,2) -> Variable Speed | H62: =INDEX(Fan_Types,1) -> Fixed-Speed or Constant-Air-Volume-Rate | I62: =INDEX(Fan_Types,2) -> Variable Speed | J62: =INDEX(Fan_Types,1) -> Fixed-Speed or Constant-Air-Volume-Rate | K62: =INDEX(Fan_Types,2) -> Variable Speed | L62: =INDEX(Fan_Types,1) -> Fixed-Speed or Constant-Air-Volume-Rate | M62: =INDEX(Fan_Types,2) -> Variable Speed | N62: =INDEX(Fan_Types,1) -> Fixed-Speed or Constant-Air-Volume-Rate | O62: =INDEX(Fan_Types,2) -> Variable Speed | P62: =INDEX(Fan_Types,1) -> Fixed-Speed or Constant-Air-Volume-Rate | Q62: =INDEX(Fan_Types,2) -> Variable Speed | R62: =INDEX(Fan_Types,1) -> Fixed-Speed or Constant-Air-Volume-Rate | S62: =INDEX(Fan_Types,2) -> Variable Speed | T62: =INDEX(Fan_Types,1) -> Fixed-Speed or Constant-Air-Volume-Rate | U62: =INDEX(Fan_Types,2) -> Variable Speed
B63: Step 5 | C63: Test Settings
B64: Step 6 | C64: Fill in the Recorded Data tabs for the appropriate completed tests (see table at right): | D64: HIDE
B65: HIDE | C65: Note: these names must match the tab names exactly | D65: Row Lookup
B66: Step 6-1 | C66: A Tests | D66: =C66&E66 -> A Tests1st Test | E66: 1st Test | F66: A | G66: A | H66: A2 | I66: A2 | J66: A | K66: A | L66: A2 | M66: A2 | N66: A2 | O66: A2 | P66: A2 | Q66: A2 | R66: A2 | S66: A2 | T66: A2 | U66: A2
C67: =C66 -> A Tests | D67: =C67&E67 -> A Tests2nd Test | E67: 2nd Test | F67: - | G67: - | H67: A1 | I67: A1 | J67: - | K67: - | L67: - | M67: - | N67: - | O67: - | P67: - | Q67: - | R67: - | S67: - | T67: - | U67: -
B68: Step 6-2 | C68: B Tests | D68: =C68&E68 -> B Tests1st Test | E68: 1st Test | F68: B | G68: B | H68: B2 | I68: B2 | J68: B | K68: B | L68: B2 | M68: B2 | N68: B2 | O68: B2 | P68: B2 | Q68: B2 | R68: B2 | S68: B2 | T68: B2 | U68: B2
C69: =C68 -> B Tests | D69: =C69&E69 -> B Tests2nd Test | E69: 2nd Test | F69: - | G69: - | H69: B1 | I69: B1 | J69: - | K69: - | L69: B1 | M69: B1 | N69: B1 | O69: B1 | P69: B1 | Q69: B1 | R69: B1 | S69: B1 | T69: B1 | U69: B1
B70: Step 6-3 | C70: F1 Test | D70: =C70&E70 -> F1 Test | F70: - | G70: - | H70: - | I70: - | J70: - | K70: - | L70: - | M70: - | N70: F1 | O70: F1 | P70: - | Q70: - | R70: F1 | S70: F1 | T70: F1 | U70: F1
B71: Step 6-4 | C71: Ev Test | D71: =C71&E71 -> Ev Test | F71: - | G71: - | H71: - | I71: - | J71: - | K71: - | L71: - | M71: - | N71: - | O71: - | P71: - | Q71: - | R71: Ev | S71: Ev | T71: Ev | U71: Ev
B72: Step 6-5 | C72: Optional C Tests | D72: =C72&E72 -> Optional C Tests1st Test | E72: 1st Test | F72: Optional C | G72: Optional C | H72: Optional C1 | I72: Optional C1 | J72: Optional C | K72: Optional C | L72: Optional C2 | M72: Optional C2 | N72: Optional C2 | O72: Optional C2 | P72: Optional C2 | Q72: Optional C2 | R72: - | S72: - | T72: - | U72: -
C73: =C72 -> Optional C Tests | D73: =C73&E73 -> Optional C Tests2nd Test | E73: 2nd Test | F73: - | G73: - | H73: - | I73: - | J73: - | K73: - | L73: Optional C1 | M73: Optional C1 | N73: Optional C1 | O73: Optional C1 | P73: Optional C1 | Q73: Optional C1 | R73: - | S73: - | T73: - | U73: -
B74: Step 6-6 | C74: Optional D Tests | D74: =C74&E74 -> Optional D Tests1st Test | E74: 1st Test | F74: Optional D | G74: Optional D | H74: Optional D1 | I74: Optional D1 | J74: Optional D | K74: Optional D | L74: Optional D2 | M74: Optional D2 | N74: Optional D2 | O74: Optional D2 | P74: Optional D2 | Q74: Optional D2 | R74: - | S74: - | T74: - | U74: -
C75: =C74 -> Optional D Tests | D75: =C75&E75 -> Optional D Tests2nd Test | E75: 2nd Test | F75: - | G75: - | H75: - | I75: - | J75: - | K75: - | L75: Optional D1 | M75: Optional D1 | N75: Optional D1 | O75: Optional D1 | P75: Optional D1 | Q75: Optional D1 | R75: - | S75: - | T75: - | U75: -
B76: Step 6-7 | C76: Optional G1 Test | D76: =C76&E76 -> Optional G1 Test | F76: - | G76: - | H76: - | I76: - | J76: - | K76: - | L76: - | M76: - | N76: - | O76: - | P76: - | Q76: - | R76: Optional G1 | S76: Optional G1 | T76: Optional G1 | U76: Optional G1
B77: Step 6-8 | C77: Optional I1 Test | D77: =C77&E77 -> Optional I1 Test | F77: - | G77: - | H77: - | I77: - | J77: - | K77: - | L77: - | M77: - | N77: - | O77: - | P77: - | Q77: - | R77: Optional I1 | S77: Optional I1 | T77: Optional I1 | U77: Optional I1
B78: Step 6-9 | C78: H0-1 Test | D78: =C78&E78 -> H0-1 Test | F78: - | G78: - | H78: - | I78: - | J78: - | K78: - | L78: H0-1 | M78: H0-1 | N78: H0-1 | O78: H0-1 | P78: H0-1 | Q78: H0-1 | R78: H0-1 | S78: H0-1 | T78: H0-1 | U78: H0-1
B79: Step 6-10 | C79: H1 Tests | D79: =C79&E79 -> H1 Tests1st Test | E79: 1st Test | F79: H1 | G79: H1 | H79: H1-2 | I79: H1-2 | J79: H1 | K79: H1 | L79: H1-2 | M79: H1-2 | N79: H1-2 | O79: H1-2 | P79: H1-2 | Q79: H1-2 | R79: H1-1 | S79: H1-1 | T79: H1-1 | U79: H1-1
C80: =C79 -> H1 Tests | D80: =C80&E80 -> H1 Tests2nd Test | E80: 2nd Test | F80: - | G80: - | H80: H1-1 | I80: H1-1 | J80: - | K80: - | L80: H1-1 | M80: H1-1 | N80: H1-1 | O80: H1-1 | P80: H1-1 | Q80: H1-1 | R80: H1-N | S80: H1-N | T80: H1-N | U80: H1-N
C81: =C79 -> H1 Tests | D81: =C81&E81 -> H1 Tests3rd Test | E81: 3rd Test | F81: - | G81: - | H81: - | I81: - | J81: - | K81: - | L81: - | M81: - | N81: - | O81: - | P81: - | Q81: - | R81: Optional H1-2 | S81: Optional H1-2 | T81: Optional H1-2 | U81: Optional H1-2
B82: Step 6-11 | C82: H2 Tests | D82: =C82&E82 -> H2 Tests1st Test | E82: 1st Test | F82: H2 | G82: H2 | H82: H2-2 | I82: H2-2 | J82: H2 | K82: H2 | L82: H2-2 | M82: H2-2 | N82: H2-2 | O82: H2-2 | P82: H2-2 | Q82: H2-2 | R82: H2-V | S82: H2-V | T82: H2-V | U82: H2-V
C83: =C82 -> H2 Tests | D83: =C83&E83 -> H2 Tests2nd Test | E83: 2nd Test | F83: - | G83: - | H83: Optional H2-1 | I83: Optional H2-1 | J83: - | K83: - | L83: H2-1 | M83: H2-1 | N83: H2-1 | O83: H2-1 | P83: H2-1 | Q83: H2-1 | R83: Optional H2-2 | S83: Optional H2-2 | T83: Optional H2-2 | U83: Optional H2-2
B84: Step 6-12 | C84: H3 Tests | D84: =C84&E84 -> H3 Tests1st Test | E84: 1st Test | F84: H3 | G84: H3 | H84: H3-2 | I84: H3-2 | J84: H3 | K84: H3 | L84: H3-2 | M84: H3-2 | N84: H3-2 | O84: H3-2 | P84: H3-2 | Q84: H3-2 | R84: H3-2 | S84: H3-2 | T84: H3-2 | U84: H3-2
C85: =C84 -> H3 Tests | D85: =C85&E85 -> H3 Tests2nd Test | E85: 2nd Test | F85: - | G85: - | H85: H3-1 | I85: H3-1 | J85: - | K85: - | L85: H3-1 | M85: H3-1 | N85: H3-1 | O85: H3-1 | P85: H3-1 | Q85: H3-1 | R85: - | S85: - | T85: - | U85: -
B86: Step 6-13 | C86: Optional H4 Test | D86: =C86&E86 -> Optional H4 Test | F86: Optional H4 | G86: Optional H4 | H86: Optional H4 | I86: Optional H4 | J86: Optional H4 | K86: Optional H4 | L86: Optional H4-2 | M86: Optional H4-2 | N86: Optional H4-2 | O86: Optional H4-2 | P86: Optional H4-2 | Q86: Optional H4-2 | R86: Optional H4-2 | S86: Optional H4-2 | T86: Optional H4-2 | U86: Optional H4-2
B87: Step 6-14 | C87: Optional H0C-1 Test | D87: =C87&E87 -> Optional H0C-1 Test | F87: - | G87: - | H87: - | I87: - | J87: - | K87: - | L87: - | M87: - | N87: - | O87: - | P87: - | Q87: - | R87: Optional H0C-1 | S87: Optional H0C-1 | T87: Optional H0C-1 | U87: Optional H0C-1
B88: Step 6-15 | C88: Optional H1C Tests | D88: =C88&E88 -> Optional H1C Tests1st Test | E88: 1st Test | F88: Optional H1C | G88: Optional H1C | H88: Optional H1C-1 | I88: Optional H1C-1 | J88: Optional H1C | K88: Optional H1C | L88: Optional H1C-2 | M88: Optional H1C-2 | N88: Optional H1C-2 | O88: Optional H1C-2 | P88: Optional H1C-2 | Q88: Optional H1C-2 | R88: Optional H1C-1 | S88: Optional H1C-1 | T88: Optional H1C-1 | U88: Optional H1C-1
C89: =C88 -> Optional H1C Tests | D89: =C89&E89 -> Optional H1C Tests2nd Test | E89: 2nd Test | F89: - | G89: - | H89: - | I89: - | J89: - | K89: - | L89: Optional H1C-1 | M89: Optional H1C-1 | N89: Optional H1C-1 | O89: Optional H1C-1 | P89: Optional H1C-1 | Q89: Optional H1C-1 | R89: - | S89: - | T89: - | U89: -
B90: Step 6-16 | C90: Off Mode Test
B91: Step 7 | C91: Calculations
B92: Step 8 | C92: Test Comments
B93: Step 9 | C93: Test Report Attachments
B94: Step 10 | C94: Report Sign-off Block

Sheet General Info and Test Results
B2: Title Block
B3: Test Report Template Name: | C3: ='Version Control'!C3 -> Residential Central Air Conditioners and Heat Pumps_M1 | F3: Back to Instructions tab
B4: Version Number: | C4: ='Version Control'!C4 -> v1.1
B5: Latest Template Revision: | C5: ='Version Control'!C5 -> 43668
B6: Tab Name: | C6: =MID(CELL("filename",$A$1), FIND("]", CELL("filename", $A$1))+ 1, 255) -> General Info and Test Results
B7: File Name: | C7: =MID(CELL("FILENAME"),FIND("[",CELL("FILENAME"))+1,FIND("]",CELL("FILENAME"))-FIND("[",CELL("FILENAME"))-1) -> Residential Central Air Conditioners and Heat Pumps_M1_Notebook.xlsx
B8: Test Completion Date: | C8: ='Version Control'!C8 -> [MM/DD/YYYY]
B11: Lab Information | F11: Test Results
B12: Lab Name: | F12: Measured Values
B13: Test Location: | F13: Parameter | G13: Result | H13: Parameter | I13: Result
F14: SEER2 | G14: =IF(C25="Heating Only Central Heat Pump","Not Applicable", IF(AND(C27="Single-Speed",C29<>INDEX(Fan_Types,2)),Calculations!D71,IF(AND(C27="Single-Speed",C29=INDEX(Fan_Types,2)),Calculations!D91,IF(C27="Two-Speed",Calculations!D111,IF(C27 = "Variable-Speed", Calculations!D131," "))))) | H14: Full load Cooling Capacity | I14: ='A Tests'!D83 -> #VALUE!
B15: Test Information | F15: HSPF2 | G15: =IF(C25="Central Air Conditioner","N/A", IF(AND(C27="Single-Speed",C29<>INDEX(Fan_Types,2)),Calculations!D175,IF(AND(C27="Single-Speed",C29=INDEX(Fan_Types,2)),Calculations!D207,IF(C27="Two-Speed",Calculations!D238,IF(C27 = "Variable-Speed", Calculations!D272,""))))) | H15: Full load Heating Capacity | I15: =IF(C25="Central Air Conditioner","N/A", IF(AND(C27="Single-Speed",C29<>INDEX(Fan_Types,2)), 'H1 Tests'!D78,IF(AND(C27="Single-Speed",C29=INDEX(Fan_Types,2)),'H1 Tests'!D78,IF(C27="Two-Speed",'H1 Tests'!D78,IF(C27 = "Variable-Speed", 'H1 Tests'!D147,"")))))
B16: Test Procedure Used | C16: Appendix M1 revised as of July 13, 2017 | F16: PW,OFF | G16: =IFERROR('Off Mode Test'!F42, "")
B17: Date of DOE Test Setup Approval (if applicable): | C17: [MM/DD/YYYY] | F17: EER2a | G17: =IF(AND(C27="Single-Speed",C29<>INDEX(Fan_Types,2)),SS_FS_round,IF(AND(C27="Single-Speed",C29=INDEX(Fan_Types,2)),SS_VS_round,IF(C27="Two-Speed",TS_VS_round,IF(C27 = "Variable-Speed", VS_VS_round,""))))
B18: Date Energy Test Started: | C18: [MM/DD/YYYY]
B19: Date Energy Test Finished: | C19: [MM/DD/YYYY] | F19: NOTE: This is a copy, sign-off is done in the 'Report Sign-Off Block' tab
B20: Date of Last Calibration for Test Room | C20: [MM/DD/YYYY] | F20: Test Report Sign-Off Block
F21: We certify that the information and data in this report: (1) were obtained from the specific test unit under test; (2) were obtained during the specific test being reported; (3) were not copied from any other source, except where instructed to do so; and (4) were not altered or modified in any way.
B22: Product Information
B24: General Information | F24: Role | H24: Date | I24: Entity
B25: Product Type | F25: Test Completion | H25: ='Report Sign-off Block'!D15 -> [MM/DD/YYYY] | I25: ='Report Sign-off Block'!E15 -> [Test Lab Name]
B26: Product Sub-Type | F26: Template Completion | H26: ='Report Sign-off Block'!D16 -> [MM/DD/YYYY] | I26: ='Report Sign-off Block'!E16 -> [Test Lab Name]
B27: Compressor Type | F27: Report Review by Test Lab | H27: ='Report Sign-off Block'!D17 -> [MM/DD/YYYY] | I27: ='Report Sign-off Block'!E17 -> [Test Lab Name]
B28: Outdoor Fan Type | F28: Report Review by Test Lab | H28: ='Report Sign-off Block'!D18 -> [MM/DD/YYYY] | I28: ='Report Sign-off Block'!E18 -> [Test Lab Name]
B29: Indoor Fan Type
B30: Tested with a filter?
B31: Ducted?
B33: Product Design
B34: Refrigerant Used (R-22, R-410A, Other)?
B35: If Other (please specify)
B36: Demand Defrost Control System?
B37: Split System?
B38: Multi-Split System?
B39: Multi-Speed Outdoor Fan?
B40: Minimum-Speed-Limiting Variable-Speed Heat Pump?
B42: Rated Performance (Complete Unit)
B43: Product Reported Cooling Capacity: | D43: BTU
B44: Product Reported SEER2:
B45: Product Reported EER2:
B46: Product Reported Heating Capacity: | D46: BTU
B47: Product Reported HSPF2:
B48: Product Reported Fan Time Delay (for Coil-Only): | D48: sec
B49: Was the 5°F ambient temperature heating test (H4) conducted for compliance?
B50: Product Reported Cooling Full-load Air Volume Rate:
B51: If tested Air Volume Rate differs from Reported Air Volume Rate, provide reason why and describe the procedure taken to reach tested Air Volume Rate:
B52: Product Input Voltage(s): | D52: V
B53: Date Received: | C53: [MM/DD/YYYY]
B54: Condition as Received:
B56: Outdoor Unit/Packaged Unit
B57: Brand:
B58: Manufacturer:
B59: Manufacturer model number:
B60: Serial number:
B61: Date of Manufacture (if available):
B63: Indoor Unit
B64: Brand:
B65: Manufacturer:
B66: Manufacturer model number:
B67: Serial number:
... B82: Date of Manufacture (if available):
B83: Voltage | D83: V
B85: Compressor #2
B86: Brand:
B87: Manufacturer:
B88: Manufacturer model number:
B89: Serial number:
B90: Date of Manufacture (if available):
B91: Voltage | D91: V
B93: Indoor Fan Motor
B94: Brand:
B95: Manufacturer:
B96: Manufacturer model number:
B97: Serial number:
B98: Power | D98: W
B99: Voltage | D99: V
B100: Date of Manufacture (if available):
B102: Outdoor Fan Motor
B103: Brand:
B104: Manufacturer:
B105: Manufacturer model number:
B106: Serial number:
B107: Power | D107: W
B108: Voltage | D108: V
B109: Date of Manufacture (if available):
B111: Capacitor (If possible without tampering with unit)
B112: Brand:
B113: Manufacturer:
B114: Manufacturer model number:
B115: Serial number:
B116: Date of Manufacture (if available):

Sheet Instrumentation
B2: Title Block
B3: Test Report Template Name: | C3: ='Version Control'!C3 -> Residential Central Air Conditioners and Heat Pumps_M1 | E3: Back to Instructions tab
B4: Version Number: | C4: ='Version Control'!C4 -> v1.1
B5: Latest Template Revision: | C5: ='Version Control'!C5 -> 43668
B6: Tab Name: | C6: =MID(CELL("filename",$A$1), FIND("]", CELL("filename", $A$1))+ 1, 255) -> Instrumentation
B7: File Name: | C7: =MID(CELL("FILENAME"),FIND("[",CELL("FILENAME"))+1,FIND("]",CELL("FILENAME"))-FIND("[",CELL("FILENAME"))-1) -> Residential Central Air Conditioners and Heat Pumps_M1_Notebook.xlsx
B8: Test Completion Date: | C8: ='Version Control'!C8 -> [MM/DD/YYYY]
B11: Setup (This table should include instrumentation, sensors, and all equipment used during testing)
B12: Instrument Type | C12: Brand | D12: Model # | E12: Sensor Location | F12: Accuracy | G12: Date of Last Calibration | H12: Deadline for Next Calibration
B49: Sensor Placement
E51: >>>>>>>>>> Paste photo(s) showing exact placement of all sensors on, in, or around the unit to | F51: the Photos tab (Photo Box #5)
B53: Describe placement of sensors used to measure indoor and outdoor temperatures:
B60: If additional sensors were used, describe placement:

Sheet Setup
B2: Title Block
B3: Test Report Template Name: | C3: ='Version Control'!C3 -> Residential Central Air Conditioners and Heat Pumps_M1 | E3: Back to Instructions tab
B4: Version Number: | C4: ='Version Control'!C4 -> v1.1
B5: Latest Template Revision: | C5: ='Version Control'!C5 -> 43668
B6: Tab Name: | C6: =MID(CELL("filename",$A$1), FIND("]", CELL("filename", $A$1))+ 1, 255) -> Setup
B7: File Name: | C7: =MID(CELL("FILENAME"),FIND("[",CELL("FILENAME"))+1,FIND("]",CELL("FILENAME"))-FIND("[",CELL("FILENAME"))-1) -> Residential Central Air Conditioners and Heat Pumps_M1_Notebook.xlsx
B8: Test Completion Date: | C8: ='Version Control'!C8 -> [MM/DD/YYYY]
B11: Setup of test room
B12: Were the test rooms set up according to 10 CFR 430 Subpart B Appendix M section 2.1, which incorporates sections 8.1.2 and 8.1.3 of ASHRAE Standard 37-2009?
B13: If No, list and describe all differences between actual setup and 10 CFR 430 Subpart B Appendix M section 2.1 (including incorporated sections 8.1.2 and 8.1.3 of ASHRAE Standard 37-2009)
B17: Width of the air inlet duct | D17: inches
B18: Depth of the air inlet duct | D18: inches
B19: Length of the air inlet duct | D19: inches
B20: Distance from the inlet air pressure tap to the unit inlet | D20: inches
B21: Width of the air outlet duct | D21: inches
B22: Depth of the air outlet duct | D22: inches
B23: Length of the air outlet duct | D23: inches
B24: Distance from the outlet air pressure tap to the unit outlet | D24: inches
B25: Were the air sampler hoses insulated?
B26: If the air sampler hoses were insulated, list the nominal thermal resistance of the insulation material | D26: hr*ft2*°F/Btu
B27: Was the unit tested with horizontal drain pan installed?
B28: If the thermocouple grid is not installed on the air sampling device, record the distance from the thermocouple grid to the outdoor unit. | D28: inches
B30: Setup of central air conditioner or heat pump
B31: Was the test unit set up according to the applicable sections of 10 CFR 430 Subpart B Appendix M 2.2.1-3 , which incorporates sections of ASHRAE Standard 37-2009 and AHRI Standard 210/240-2008?
B32: If No, list and describe all differences between actual setup and 10 CFR 430 Subpart B Appendix M 2.2.1-3 (including incorporated sections of ASHRAE Standard 37-2009 and AHRI Standard 210/240-2008)
B36: How long was the break-in operation conducted before any official test? | D36: hours
B38: Refrigerant Charging & Unit Installation
B39: Which installation instructions were used for charging (Indoor unit's, outdoor unit's or per Appendix M section 2.2.5)?
B40: Type of Expansion Device
B41: Charging Conditions (i.e. indoor and outdoor air conditions)
B42: Charging Parameter(s) and the Target(s)
B43: Factory Charge | D43: lbs
B44: Charge Adjustment (include "+" or "-" sign) | D44: lbs
B45: Total Refrigerant charge | D45: lbs
B46: The size of installed liquid interconnecting line | D46: inches
B47: The size of installed vapor interconnecting line | D47: inches
B48: If manufacturer's installation instruction used, quote the manufacturer instructions for installing this unit, and note in detail all differences between the manufacturer instructions and the actual installation.
B49: (1) Include all instructions, not limited to refrigerant charging. (2) A PDF file containing the instructions (downloaded or scanned) is acceptable.
B74: Pressure Measurement Devices (See Appendix M, 2.2.g)
B75: Location [location number from Appendix M, Table 2] | C75: Internal volume of pressure measurement system (in3) | D75: Is this pressure measurement system pitched upwards from the pressure tap location to the gauge or transducer?
B76: Between outdoor Coil and Outdoor Expansion Valve(s) [2]
B77: Liquid Service Valve [3]
B78: Indoor Coil Inlet [4]
B79: Indoor Coil Outlet [5]
B80: Common Suction Port (i.i. vapor service valve) [6]
B81: Compressor Suction [7]
B83: Density of liquid refrigerant at 100F bubble point conditions | D83: oz/in3
B84: Expansion Device Setup
B85: Refrigerant charge that could potentially transfer out of the connected pressure measurement systems between operating modes (Mt) | C85: =IF(OR(D79="",D80="",C84="",C83=""),"", IF(C84=INDEX(Expansion_Device_Setups,1),C83*(C79*(D79="No")+C80*(D80="No")+C77+C78-C76), IF(C84=INDEX(Expansion_Device_Setups,2),C83*(C79*(D79="No")+C80*(D80="No"))))) | D85: oz
B87: Space-constrained air conditioners and heat pumps (formerly through-the-wall central air conditioners and heat pumps) - [IF NECCESARY]
C89: >>>>>>>>>> Paste additional pictures describing the sleeve installation to | D89: the 'Photos' tab (Photo Box #12 through #14)
B91: Quote the relevant manufacturer instructions for installing this unit, as it pertains to this test. (May use a focused picture with instructions)
B92: Include instructions on the use of the installation kit and selection and use of the wall sleeve and louvered grille. Also include the recommended cabinet dimensions.
B93: Please include references, including page numbers.
B106: Describe the space-constrained sleeve that was selected for this test, including manufacturer, model number, and dimensions. Please note if this sleeve was recommended or listed for use with this unit
B120: Describe how this unit was installed in the wall sleeve, including whether the "installation kit" was used and how. How were the manufacturer instructions followed?

Sheet Photos
B2: Title Block | E2: Back to Instructions tab
B3: Test Report Template Name: | C3: ='Version Control'!C3 -> Residential Central Air Conditioners and Heat Pumps_M1
B4: Version Number: | C4: ='Version Control'!C4 -> v1.1
B5: Latest Template Revision: | C5: ='Version Control'!C5 -> 43668
B6: Tab Name: | C6: =MID(CELL("filename",$A$1), FIND("]", CELL("filename", $A$1))+ 1, 255) -> Photos
B7: File Name: | C7: =MID(CELL("FILENAME"),FIND("[",CELL("FILENAME"))+1,FIND("]",CELL("FILENAME"))-FIND("[",CELL("FILENAME"))-1) -> Residential Central Air Conditioners and Heat Pumps_M1_Notebook.xlsx
B8: Test Completion Date: | C8: ='Version Control'!C8 -> [MM/DD/YYYY]
B11: Photos 1-4 are to be taken of the unit directly out of the box, before installation.
B13: 1. Picture of unit (indoor and outdoor) on both sides, once it is out of the package. (Include as many pictures as neccesary)
B36: 2. Identification sticker showing model number and serial number. | J36: 3. FTC EnergyGuide label (if present).
B59: 4. Sticker showing nameplate information, charging table, etc. (if separate from #2) | J59: 5. Exact placement of all sensors on, in, or around the device (please label appropriately, take multiple pictures if neccesary). Require photo of refrigerant flow meter if Refrigerant-Enthaopy Method is used; require photo of outdoor air measurement device if Outdoor Enthalpy method is used.
B83: 6. Picture of central air conditioner or heat pump as installed in final set-up (evaporator side) | J83: 7. Picture of central air conditioner or heat pump as installed in final set-up (condenser side)
B107: 8. Central air conditioner and/or heat pump outdoor controls and indoor fan controls as set during test | J107: 9. Off mode test set-up (required for units with self-regulating crankcase heaters, please include the thermocouple setup)
B131: 10. Pictures showing the entire testing chamber for both the indoor section and the outdoor section | J131: 11. Picture(s) showing the relative location of each outdoor air sampling device to the unit (for each sampling device, please include one picture showing the front view and one picture showing the top view)
B155: 12. [IF NEEDED] Picture showing how test kit components were applied in test set-up (take multiple if needed, for example: front and back) | J155: 13. [IF NEEDED] Picture of test kit components (such as foam insulation) used with test set-up
B179: 14. Additional Photos (if necessary)

Sheet Test Settings
B2: Title Block
B3: Test Report Template Name: | C3: ='Version Control'!C3 -> Residential Central Air Conditioners and Heat Pumps_M1 | E3: Back to Instructions tab
B4: Version Number: | C4: ='Version Control'!C4 -> v1.1
B5: Latest Template Revision: | C5: ='Version Control'!C5 -> 43668
B6: Tab Name: | C6: =MID(CELL("filename",$A$1), FIND("]", CELL("filename", $A$1))+ 1, 255) -> Test Settings
B7: File Name: | C7: =MID(CELL("FILENAME"),FIND("[",CELL("FILENAME"))+1,FIND("]",CELL("FILENAME"))-FIND("[",CELL("FILENAME"))-1) -> Residential Central Air Conditioners and Heat Pumps_M1_Notebook.xlsx
B8: Test Completion Date: | C8: ='Version Control'!C8 -> [MM/DD/YYYY]
B11: Residential Central Air Conditioner or Heat Pump Settings - Controls
B13: >>>>>>>>>> Paste photo(s) showing exact settings and/or displays for the unit (during test) to | D13: the Photos tab (Photo Box #8)
B15: Please include a description of how the settings were entered, specific to this particular test unit:
B21: Electromechanical or Electronic Controls?
C23: Test Setting | D23: Factory Setting (if different from test setting) | F23: Units
B24: Cooling Setting *
B25: Heating Setting *
B26: Fan Setting *
B27: Temperature Setting *
B28: * Include unit of measure if necessary
B30: Other settings (if neccesary) | C30: Extra Setting #1 | E30: Extra Setting #2 | G30: Extra Setting #3
B31: Defrost Time Interval Setting
B32: --- Description
B33: --- Setting *
B34: * Include unit of measure if necessary
B36: Additional Description
B37: Describe settings used on the central air conditioner or heat pump for test, or reference any picture of controls in the 'Photos' Tab

Sheet A Tests
B2: Title Block | E2: Back to Instructions tab
B3: Test Report Template Name: | C3: ='Version Control'!C3 -> Residential Central Air Conditioners and Heat Pumps_M1
B4: Version Number: | C4: ='Version Control'!C4 -> v1.1 | E4: Relevent Tests | H4: Product Information
B5: Latest Template Revision: | C5: ='Version Control'!C5 -> 43668 | E5: 1st Test | F5: =IF(Product_Type_Input=INDEX(Product_Types,3),"-",INDEX(TestMatrix_Data,MATCH($C$6&$E5,TestMatrix_Rows,0),MATCH($I$6&$I$7&$I$8,TestMatrix_Columns,0))) -> #N/A | H5: Product Type | I5: =Product_Type_Input -> 0
B6: Tab Name: | C6: =MID(CELL("filename",$A$1), FIND("]", CELL("filename", $A$1))+ 1, 255) -> A Tests | E6: 2nd Test | F6: =IF(Product_Type_Input=INDEX(Product_Types,3),"-",INDEX(TestMatrix_Data,MATCH($C$6&$E6,TestMatrix_Rows,0),MATCH($I$6&$I$7&$I$8,TestMatrix_Columns,0))) -> #N/A | H6: Compressor Type | I6: ='General Info and Test Results'!C27 -> 0
B7: File Name: | C7: =MID(CELL("FILENAME"),FIND("[",CELL("FILENAME"))+1,FIND("]",CELL("FILENAME"))-FIND("[",CELL("FILENAME"))-1) -> Residential Central Air Conditioners and Heat Pumps_M1_Notebook.xlsx | H7: Indoor Fan Type | I7: =ID_FanType_Input -> 0
B8: Test Completion Date: | C8: ='Version Control'!C8 -> [MM/DD/YYYY] | H8: Outdoor Fan Type | I8: =OD_FanType_Input -> 0
C11: 'A Test' Conditions Summary - Test Chamber Devices
C12: Compliance with Equilibrium Requirements
C13: For each test, has the chamber been at equilibrium for the minimum 30 minutes?
C14: Demand Defrost Control System | D14: ='General Info and Test Results'!C36 -> 0
C15: Time between defrost terminations (hours)
C16: Maximum time between defrosts as allowed by the controls (hours)
C17: Length of Compressor Run-in Time (hours)
B19: =IF(H19="Yes","FREE OUTDOOR AIR TESTS","") | F19: Was the outdoor air enthalpy used as a secondary test method? | H19: =IF($D$84=INDEX(Secondary_Test_Methods,1),"Yes","No") -> No
B21: =IF($F$5<>"-","'"&$F$5&" Test' Data to be recorded", "Test Not Applicable") -> #N/A
C23: Electrical Input
D24: Measurement
D25: Avg | E25: Min | F25: Max
C26: Applied voltage to outdoor unit (V)
C27: Applied voltage to indoor unit (V)
C28: Frequency (Hz)
C29: Line current (Amps)
C30: Total Indoor Unit Power (Watts)
C31: Total System Power (Watts)
C33: Pressure Measurements
D34: Measurement
D35: Avg | E35: Min | F35: Max
C36: Barometric Pressure - (in. Hg)
C37: Liquid Line Pressure (psig)
C38: Suction Pressure (psig)
C39: Indoor Nozzle Pressure Delta (in. WC)
C40: Indoor external static pressure (in. H2O)
C42: Refrigerant Measurements
D43: Measurement
D44: Avg | E44: Min | F44: Max
C45: Refrigerant flow rate (lb/hr)
C46: Saturated suction temperature (F)
C47: Saturated liquid temperature (F)
C48: Suction temperature (F)
C49: Liquid line temperature (F)
C50: Refrigerant Superheat (F)
C51: Refrigerant Subcooling (F)
C52: Entering indoor coil (F)
C53: Leaving indoor coil (F)
C54: Entering outdoor coil (F)
C55: Leaving outdoor coil (F)
C57: Airflow Measurements
D58: Measurement
D59: Avg | E59: Min | F59: Max
C60: Indoor Unit Airflow (cfm)
C61: Indoor Unit Standard Airflow (scfm)
C62: Entering enthalpy (please specify units)
C63: Leaving enthalpy (please specify units)
C64: Indoor Fan Speed (rpm)
C66: Air Temperatures
D67: Measurement
D68: Avg | E68: Min | F68: Max
C69: Indoor air entering dry bulb temperature (F)
C70: Indoor air entering wet bulb temperature (F)
C71: Indoor air leaving dry bulb temperature (F)
C72: Indoor air leaving wet bulb temperature (F)
C73: Outdoor air entering dry bulb temperature (F)
C74: Outdoor air entering wet bulb temperature (F)
C75: Outdoor air leaving dry bulb temperature (F)
C76: Outdoor air leaving wet bulb temperature (F)
C78: Cooling Capacity
D79: Measurement
C80: Total cooling capacity (Btu/hr)
C81: Total sensible cooling capacity (Btu/hr)
C82: Correction (if applicable)
C83: Corrected capacity (Btu/hr) | D83: =IF(D80+D82=0,"",D80+D82) -> #VALUE!
C84: Specify secondary method for calculating cooling capacity
C85: Secondary method total cooling capacity (Btu/hr)
C86: Secondary method sensible cooling capacity (Btu/hr)
C87: Correction (if applicable)
C88: Corrected capacity (Btu/hr) | D88: =IF(D85+D87=0,"",D85+D87) -> #VALUE!
B91: =IF($F$6<>"-","'"&$F$6&" Test' Data to be recorded", "Test Not Applicable") -> #N/A
C93: Electrical Input
D94: Measurement
D95: Avg | E95: Min | F95: Max
C96: Applied voltage to outdoor unit (V)
C97: Applied voltage to indoor unit (V)
C98: Frequency (Hz)
C99: Line current (Amps)
C100: Total Indoor Unit Energy (Watts)
C101: Total System Power (Watts)
C103: Pressure Measurements
D104: Measurement
D105: Avg | E105: Min | F105: Max
C106: Barometric Pressure - (in. Hg)
C107: Liquid Line Pressure (psig)
C108: Suction Pressure (psig)
C109: Indoor Nozzle Pressure Delta (in. WC)
C110: Indoor external static pressure (in. H2O)
C112: Refrigerant Measurements
D113: Measurement
D114: Avg | E114: Min | F114: Max
C115: Refrigerant flow rate (lb/hr)
C116: Saturated suction temperature (F)
...

Sheet B Tests
B2: Title Block | E2: Back to Instructions tab
B3: Test Report Template Name: | C3: ='Version Control'!C3 -> Residential Central Air Conditioners and Heat Pumps_M1
B4: Version Number: | C4: ='Version Control'!C4 -> v1.1 | E4: Relevent Tests | H4: Product Information
B5: Latest Template Revision: | C5: ='Version Control'!C5 -> 43668 | E5: 1st Test | F5: =IF(Product_Type_Input=INDEX(Product_Types,3),"-",INDEX(TestMatrix_Data,MATCH($C$6&$E5,TestMatrix_Rows,0),MATCH($I$6&$I$7&$I$8,TestMatrix_Columns,0))) -> #N/A | H5: Product Type | I5: ='General Info and Test Results'!C25 -> 0
B6: Tab Name: | C6: =MID(CELL("filename",$A$1), FIND("]", CELL("filename", $A$1))+ 1, 255) -> B Tests | E6: 2nd Test | F6: =IF(Product_Type_Input=INDEX(Product_Types,3),"-",INDEX(TestMatrix_Data,MATCH($C$6&$E6,TestMatrix_Rows,0),MATCH($I$6&$I$7&$I$8,TestMatrix_Columns,0))) -> #N/A | H6: Compressor Type | I6: ='General Info and Test Results'!C27 -> 0
B7: File Name: | C7: =MID(CELL("FILENAME"),FIND("[",CELL("FILENAME"))+1,FIND("]",CELL("FILENAME"))-FIND("[",CELL("FILENAME"))-1) -> Residential Central Air Conditioners and Heat Pumps_M1_Notebook.xlsx | H7: Indoor Fan Type | I7: =ID_FanType_Input -> 0
B8: Test Completion Date: | C8: ='Version Control'!C8 -> [MM/DD/YYYY] | H8: Outdoor Fan Type | I8: =OD_FanType_Input -> 0
C11: 'B Test' Conditions Summary - Test Chamber Devices
C12: Compliance with Equilibrium Requirements
C13: For each test, has the chamber been at equilibrium for the minimum 30 minutes? | L13: {=IF(SUM(ABS(M13:Y13))>0,IF(OR($M$8:$Y$8=M13:Y13),"Hide","Show"),"")}
C14: Demand Defrost Control System | D14: ='General Info and Test Results'!C36 -> 0 | L14: {=IF(SUM(ABS(M14:Y14))>0,IF(OR($M$8:$Y$8=M14:Y14),"Hide","Show"),"")}
C15: Time between defrost terminations (hours) | L15: {=IF(SUM(ABS(M15:Y15))>0,IF(OR($M$8:$Y$8=M15:Y15),"Hide","Show"),"")}
C16: Maximum time between defrosts as allowed by the controls (hours) | L16: {=IF(SUM(ABS(M16:Y16))>0,IF(OR($M$8:$Y$8=M16:Y16),"Hide","Show"),"")}
L17: {=IF(SUM(ABS(M17:Y17))>0,IF(OR($M$8:$Y$8=M17:Y17),"Hide","Show"),"")}
B20: =IF(AND($I$6="Single-Speed",$I$7=INDEX(Fan_Types,1)),"'B Test' Data to be recorded","'B2 Test' Data to be recorded") -> 'B2 Test' Data to be recorded | L20: {=IF(SUM(ABS(M20:Y20))>0,IF(OR($M$8:$Y$8=M20:Y20),"Hide","Show"),"")}
L21: {=IF(SUM(ABS(M21:Y21))>0,IF(OR($M$8:$Y$8=M21:Y21),"Hide","Show"),"")}
C22: Electrical Input | L22: {=IF(SUM(ABS(M22:Y22))>0,IF(OR($M$8:$Y$8=M22:Y22),"Hide","Show"),"")}
D23: Measurement | L23: {=IF(SUM(ABS(M23:Y23))>0,IF(OR($M$8:$Y$8=M23:Y23),"Hide","Show"),"")}
D24: Avg | E24: Min | F24: Max | L24: {=IF(SUM(ABS(M24:Y24))>0,IF(OR($M$8:$Y$8=M24:Y24),"Hide","Show"),"")}
C25: Applied voltage to outdoor unit (V) | L25: {=IF(SUM(ABS(M25:Y25))>0,IF(OR($M$8:$Y$8=M25:Y25),"Hide","Show"),"")}
C26: Applied voltage to indoor unit (V) | L26: {=IF(SUM(ABS(M26:Y26))>0,IF(OR($M$8:$Y$8=M26:Y26),"Hide","Show"),"")}
C27: Frequency (Hz) | L27: {=IF(SUM(ABS(M27:Y27))>0,IF(OR($M$8:$Y$8=M27:Y27),"Hide","Show"),"")}
C28: Line current (Amps) | L28: {=IF(SUM(ABS(M28:Y28))>0,IF(OR($M$8:$Y$8=M28:Y28),"Hide","Show"),"")}
C29: Total Indoor Unit Power (Watts) | L29: {=IF(SUM(ABS(M29:Y29))>0,IF(OR($M$8:$Y$8=M29:Y29),"Hide","Show"),"")}
C30: Total System Power (Watts) | L30: {=IF(SUM(ABS(M30:Y30))>0,IF(OR($M$8:$Y$8=M30:Y30),"Hide","Show"),"")}
L31: {=IF(SUM(ABS(M31:Y31))>0,IF(OR($M$8:$Y$8=M31:Y31),"Hide","Show"),"")}
C32: Pressure Measurements | L32: {=IF(SUM(ABS(M32:Y32))>0,IF(OR($M$8:$Y$8=M32:Y32),"Hide","Show"),"")}
D33: Measurement | L33: {=IF(SUM(ABS(M33:Y33))>0,IF(OR($M$8:$Y$8=M33:Y33),"Hide","Show"),"")}
D34: Avg | E34: Min | F34: Max | L34: {=IF(SUM(ABS(M34:Y34))>0,IF(OR($M$8:$Y$8=M34:Y34),"Hide","Show"),"")}
C35: Barometric Pressure - (in. Hg) | L35: {=IF(SUM(ABS(M35:Y35))>0,IF(OR($M$8:$Y$8=M35:Y35),"Hide","Show"),"")}
C36: Liquid Line Pressure (psig) | L36: {=IF(SUM(ABS(M36:Y36))>0,IF(OR($M$8:$Y$8=M36:Y36),"Hide","Show"),"")}
C37: Suction Pressure (psig) | L37: {=IF(SUM(ABS(M37:Y37))>0,IF(OR($M$8:$Y$8=M37:Y37),"Hide","Show"),"")}
C38: Indoor Nozzle Pressure Delta (in. WC) | L38: {=IF(SUM(ABS(M38:Y38))>0,IF(OR($M$8:$Y$8=M38:Y38),"Hide","Show"),"")}
C39: Indoor external static pressure (in. H2O) | L39: {=IF(SUM(ABS(M39:Y39))>0,IF(OR($M$8:$Y$8=M39:Y39),"Hide","Show"),"")}
L40: {=IF(SUM(ABS(M40:Y40))>0,IF(OR($M$8:$Y$8=M40:Y40),"Hide","Show"),"")}
C41: Refrigerant Measurements | L41: {=IF(SUM(ABS(M41:Y41))>0,IF(OR($M$8:$Y$8=M41:Y41),"Hide","Show"),"")}
D42: Measurement | L42: {=IF(SUM(ABS(M42:Y42))>0,IF(OR($M$8:$Y$8=M42:Y42),"Hide","Show"),"")}
D43: Avg | E43: Min | F43: Max | L43: {=IF(SUM(ABS(M43:Y43))>0,IF(OR($M$8:$Y$8=M43:Y43),"Hide","Show"),"")}
C44: Refrigerant flow rate (lb/hr) | L44: {=IF(SUM(ABS(M44:Y44))>0,IF(OR($M$8:$Y$8=M44:Y44),"Hide","Show"),"")}
C45: Saturated suction temperature (F) | L45: {=IF(SUM(ABS(M45:Y45))>0,IF(OR($M$8:$Y$8=M45:Y45),"Hide","Show"),"")}
C46: Saturated liquid temperature (F) | L46: {=IF(SUM(ABS(M46:Y46))>0,IF(OR($M$8:$Y$8=M46:Y46),"Hide","Show"),"")}
C47: Suction temperature (F) | L47: {=IF(SUM(ABS(M47:Y47))>0,IF(OR($M$8:$Y$8=M47:Y47),"Hide","Show"),"")}
C48: Liquid line temperature (F) | L48: {=IF(SUM(ABS(M48:Y48))>0,IF(OR($M$8:$Y$8=M48:Y48),"Hide","Show"),"")}
C49: Refrigerant Superheat (F) | L49: {=IF(SUM(ABS(M49:Y49))>0,IF(OR($M$8:$Y$8=M49:Y49),"Hide","Show"),"")}
C50: Refrigerant Subcooling (F) | L50: {=IF(SUM(ABS(M50:Y50))>0,IF(OR($M$8:$Y$8=M50:Y50),"Hide","Show"),"")}
C51: Entering indoor coil (F) | L51: {=IF(SUM(ABS(M51:Y51))>0,IF(OR($M$8:$Y$8=M51:Y51),"Hide","Show"),"")}
C52: Leaving indoor coil (F) | L52: {=IF(SUM(ABS(M52:Y52))>0,IF(OR($M$8:$Y$8=M52:Y52),"Hide","Show"),"")}
C53: Entering outdoor coil (F) | L53: {=IF(SUM(ABS(M53:Y53))>0,IF(OR($M$8:$Y$8=M53:Y53),"Hide","Show"),"")}
C54: Leaving outdoor coil (F) | L54: {=IF(SUM(ABS(M54:Y54))>0,IF(OR($M$8:$Y$8=M54:Y54),"Hide","Show"),"")}
L55: {=IF(SUM(ABS(M55:Y55))>0,IF(OR($M$8:$Y$8=M55:Y55),"Hide","Show"),"")}
C56: Airflow Measurements | L56: {=IF(SUM(ABS(M56:Y56))>0,IF(OR($M$8:$Y$8=M56:Y56),"Hide","Show"),"")}
D57: Measurement | L57: {=IF(SUM(ABS(M57:Y57))>0,IF(OR($M$8:$Y$8=M57:Y57),"Hide","Show"),"")}
D58: Avg | E58: Min | F58: Max | L58: {=IF(SUM(ABS(M58:Y58))>0,IF(OR($M$8:$Y$8=M58:Y58),"Hide","Show"),"")}
C59: Actual Airflow (cfm) | L59: {=IF(SUM(ABS(M59:Y59))>0,IF(OR($M$8:$Y$8=M59:Y59),"Hide","Show"),"")}
C60: Standard Airflow (scfm) | L60: {=IF(SUM(ABS(M60:Y60))>0,IF(OR($M$8:$Y$8=M60:Y60),"Hide","Show"),"")}
C61: Entering enthalpy (please specify units) | L61: {=IF(SUM(ABS(M61:Y61))>0,IF(OR($M$8:$Y$8=M61:Y61),"Hide","Show"),"")}
C62: Leaving enthalpy (please specify units) | L62: {=IF(SUM(ABS(M62:Y62))>0,IF(OR($M$8:$Y$8=M62:Y62),"Hide","Show"),"")}
C63: Indoor Fan Speed (rpm) | L63: {=IF(SUM(ABS(M63:Y63))>0,IF(OR($M$8:$Y$8=M63:Y63),"Hide","Show"),"")}
L64: {=IF(SUM(ABS(M64:Y64))>0,IF(OR($M$8:$Y$8=M64:Y64),"Hide","Show"),"")}
C65: Air Temperatures | L65: {=IF(SUM(ABS(M65:Y65))>0,IF(OR($M$8:$Y$8=M65:Y65),"Hide","Show"),"")}
D66: Measurement | L66: {=IF(SUM(ABS(M66:Y66))>0,IF(OR($M$8:$Y$8=M66:Y66),"Hide","Show"),"")}
D67: Avg | E67: Min | F67: Max | L67: {=IF(SUM(ABS(M67:Y67))>0,IF(OR($M$8:$Y$8=M67:Y67),"Hide","Show"),"")}
C68: Indoor air entering dry bulb temperature (F) | L68: {=IF(SUM(ABS(M68:Y68))>0,IF(OR($M$8:$Y$8=M68:Y68),"Hide","Show"),"")}
C69: Indoor air entering wet bulb temperature (F) | L69: {=IF(SUM(ABS(M69:Y69))>0,IF(OR($M$8:$Y$8=M69:Y69),"Hide","Show"),"")}
C70: Indoor air leaving dry bulb temperature (F) | L70: {=IF(SUM(ABS(M70:Y70))>0,IF(OR($M$8:$Y$8=M70:Y70),"Hide","Show"),"")}
C71: Indoor air leaving wet bulb temperature (F) | L71: {=IF(SUM(ABS(M71:Y71))>0,IF(OR($M$8:$Y$8=M71:Y71),"Hide","Show"),"")}
C72: Outdoor air entering dry bulb temperature (F) | L72: {=IF(SUM(ABS(M72:Y72))>0,IF(OR($M$8:$Y$8=M72:Y72),"Hide","Show"),"")}
C73: Outdoor air entering wet bulb temperature (F) | L73: {=IF(SUM(ABS(M73:Y73))>0,IF(OR($M$8:$Y$8=M73:Y73),"Hide","Show"),"")}
C74: Outdoor air leaving dry bulb temperature (F) | L74: {=IF(SUM(ABS(M74:Y74))>0,IF(OR($M$8:$Y$8=M74:Y74),"Hide","Show"),"")}
C75: Outdoor air leaving wet bulb temperature (F) | L75: {=IF(SUM(ABS(M75:Y75))>0,IF(OR($M$8:$Y$8=M75:Y75),"Hide","Show"),"")}
L76: {=IF(SUM(ABS(M76:Y76))>0,IF(OR($M$8:$Y$8=M76:Y76),"Hide","Show"),"")}
C77: Cooling Capacity | L77: {=IF(SUM(ABS(M77:Y77))>0,IF(OR($M$8:$Y$8=M77:Y77),"Hide","Show"),"")}
D78: Measurement | L78: {=IF(SUM(ABS(M78:Y78))>0,IF(OR($M$8:$Y$8=M78:Y78),"Hide","Show"),"")}
C79: Total cooling capacity (Btu/hr) | D79: 200 | L79: {=IF(SUM(ABS(M79:Y79))>0,IF(OR($M$8:$Y$8=M79:Y79),"Hide","Show"),"")}
C80: Total sensible cooling capacity (Btu/hr) | L80: {=IF(SUM(ABS(M80:Y80))>0,IF(OR($M$8:$Y$8=M80:Y80),"Hide","Show"),"")}
C81: Correction (if applicable) | L81: {=IF(SUM(ABS(M81:Y81))>0,IF(OR($M$8:$Y$8=M81:Y81),"Hide","Show"),"")}
C82: Corrected capacity (Btu/hr) | D82: =IF(D79+D81=0,"",D79+D81) -> 200 | L82: {=IF(SUM(ABS(M82:Y82))>0,IF(OR($M$8:$Y$8=M82:Y82),"Hide","Show"),"")}
L83: {=IF(SUM(ABS(M83:Y83))>0,IF(OR($M$8:$Y$8=M83:Y83),"Hide","Show"),"")}
L84: {=IF(SUM(ABS(M84:Y84))>0,IF(OR($M$8:$Y$8=M84:Y84),"Hide","Show"),"")}
B85: =IF($F$6<>"-","'"&$F$6&" Test' Data to be recorded", "Test Not Applicable") -> #N/A | L85: {=IF(SUM(ABS(M85:Y85))>0,IF(OR($M$8:$Y$8=M85:Y85),"Hide","Show"),"")}
L86: {=IF(SUM(ABS(M86:Y86))>0,IF(OR($M$8:$Y$8=M86:Y86),"Hide","Show"),"")}
C87: Electrical Input | L87: {=IF(SUM(ABS(M87:Y87))>0,IF(OR($M$8:$Y$8=M87:Y87),"Hide","Show"),"")}
D88: Measurement | L88: {=IF(SUM(ABS(M88:Y88))>0,IF(OR($M$8:$Y$8=M88:Y88),"Hide","Show"),"")}
D89: Avg | E89: Min | F89: Max | L89: {=IF(SUM(ABS(M89:Y89))>0,IF(OR($M$8:$Y$8=M89:Y89),"Hide","Show"),"")}
C90: Applied voltage to outdoor unit (V) | L90: {=IF(SUM(ABS(M90:Y90))>0,IF(OR($M$8:$Y$8=M90:Y90),"Hide","Show"),"")}
C91: Applied voltage to indoor unit (V) | L91: {=IF(SUM(ABS(M91:Y91))>0,IF(OR($M$8:$Y$8=M91:Y91),"Hide","Show"),"")}
C92: Frequency (Hz) | L92: {=IF(SUM(ABS(M92:Y92))>0,IF(OR($M$8:$Y$8=M92:Y92),"Hide","Show"),"")}
C93: Line current (Amps) | L93: {=IF(SUM(ABS(M93:Y93))>0,IF(OR($M$8:$Y$8=M93:Y93),"Hide","Show"),"")}
C94: Total Indoor Unit Power (Watts) | L94: {=IF(SUM(ABS(M94:Y94))>0,IF(OR($M$8:$Y$8=M94:Y94),"Hide","Show"),"")}
C95: Total System Power (Watts) | L95: {=IF(SUM(ABS(M95:Y95))>0,IF(OR($M$8:$Y$8=M95:Y95),"Hide","Show"),"")}
L96: {=IF(SUM(ABS(M96:Y96))>0,IF(OR($M$8:$Y$8=M96:Y96),"Hide","Show"),"")}
C97: Pressure Measurements | L97: {=IF(SUM(ABS(M97:Y97))>0,IF(OR($M$8:$Y$8=M97:Y97),"Hide","Show"),"")}
D98: Measurement | L98: {=IF(SUM(ABS(M98:Y98))>0,IF(OR($M$8:$Y$8=M98:Y98),"Hide","Show"),"")}
D99: Avg | E99: Min | F99: Max | L99: {=IF(SUM(ABS(M99:Y99))>0,IF(OR($M$8:$Y$8=M99:Y99),"Hide","Show"),"")}
C100: Barometric Pressure - (in. Hg) | L100: {=IF(SUM(ABS(M100:Y100))>0,IF(OR($M$8:$Y$8=M100:Y100),"Hide","Show"),"")}
C101: Liquid Line Pressure (psig) | L101: {=IF(SUM(ABS(M101:Y101))>0,IF(OR($M$8:$Y$8=M101:Y101),"Hide","Show"),"")}
C102: Suction Pressure (psig) | L102: {=IF(SUM(ABS(M102:Y102))>0,IF(OR($M$8:$Y$8=M102:Y102),"Hide","Show"),"")}
C103: Indoor Nozzle Pressure Delta (in. WC) | L103: {=IF(SUM(ABS(M103:Y103))>0,IF(OR($M$8:$Y$8=M103:Y103),"Hide","Show"),"")}
C104: Indoor external static pressure (in. H2O) | L104: {=IF(SUM(ABS(M104:Y104))>0,IF(OR($M$8:$Y$8=M104:Y104),"Hide","Show"),"")}
L105: {=IF(SUM(ABS(M105:Y105))>0,IF(OR($M$8:$Y$8=M105:Y105),"Hide","Show"),"")}
...

Sheet Optional C Tests
B2: Title Block | E2: Back to Instructions tab
B3: Test Report Template Name: | C3: ='Version Control'!C3 -> Residential Central Air Conditioners and Heat Pumps_M1
B4: Version Number: | C4: ='Version Control'!C4 -> v1.1 | E4: Relevent Tests | H4: Product Information
B5: Latest Template Revision: | C5: ='Version Control'!C5 -> 43668 | E5: 1st Test | F5: =IF(Product_Type_Input=INDEX(Product_Types,3),"-",INDEX(TestMatrix_Data,MATCH($C$6&$E5,TestMatrix_Rows,0),MATCH($I$6&$I$7&$I$8,TestMatrix_Columns,0))) -> #N/A | H5: Product Type | I5: ='General Info and Test Results'!C25 -> 0
B6: Tab Name: | C6: =MID(CELL("filename",$A$1), FIND("]", CELL("filename", $A$1))+ 1, 255) -> Optional C Tests | E6: 2nd Test | F6: =IF(Product_Type_Input=INDEX(Product_Types,3),"-",INDEX(TestMatrix_Data,MATCH($C$6&$E6,TestMatrix_Rows,0),MATCH($I$6&$I$7&$I$8,TestMatrix_Columns,0))) -> #N/A | H6: Compressor Type | I6: ='General Info and Test Results'!C27 -> 0
B7: File Name: | C7: =MID(CELL("FILENAME"),FIND("[",CELL("FILENAME"))+1,FIND("]",CELL("FILENAME"))-FIND("[",CELL("FILENAME"))-1) -> Residential Central Air Conditioners and Heat Pumps_M1_Notebook.xlsx | H7: Indoor Fan Type | I7: ='General Info and Test Results'!C29 -> 0
B8: Test Completion Date: | C8: ='Version Control'!C8 -> [MM/DD/YYYY] | H8: Outdoor Fan Type | I8: =OD_FanType_Input -> 0
C10: For each test, has the chamber been at equilibrium for the minimum 30 minutes?
B12: =IF($F$5<>"-","'"&$F$5&" Test' Data to be recorded", "Test Not Applicable") -> #N/A
C14: Electrical Input | L14: {=IF(SUM(ABS(M14:Y14))>0,IF(OR($M$8:$Y$8=M14:Y14),"Hide","Show"),"")}
D15: Measurement | L15: {=IF(SUM(ABS(M15:Y15))>0,IF(OR($M$8:$Y$8=M15:Y15),"Hide","Show"),"")}
D16: Avg | E16: Min | F16: Max | L16: {=IF(SUM(ABS(M16:Y16))>0,IF(OR($M$8:$Y$8=M16:Y16),"Hide","Show"),"")}
C17: Applied voltage to outdoor unit (V) | L17: {=IF(SUM(ABS(M17:Y17))>0,IF(OR($M$8:$Y$8=M17:Y17),"Hide","Show"),"")}
C18: Applied voltage to indoor unit (V) | L18: {=IF(SUM(ABS(M18:Y18))>0,IF(OR($M$8:$Y$8=M18:Y18),"Hide","Show"),"")}
C19: Frequency (Hz) | L19: {=IF(SUM(ABS(M19:Y19))>0,IF(OR($M$8:$Y$8=M19:Y19),"Hide","Show"),"")}
C20: Line current (Amps) | L20: {=IF(SUM(ABS(M20:Y20))>0,IF(OR($M$8:$Y$8=M20:Y20),"Hide","Show"),"")}
C21: Total Indoor Unit Power (Watts) | L21: {=IF(SUM(ABS(M21:Y21))>0,IF(OR($M$8:$Y$8=M21:Y21),"Hide","Show"),"")}
C22: Total System Power (Watts) | L22: {=IF(SUM(ABS(M22:Y22))>0,IF(OR($M$8:$Y$8=M22:Y22),"Hide","Show"),"")}
L23: {=IF(SUM(ABS(M23:Y23))>0,IF(OR($M$8:$Y$8=M23:Y23),"Hide","Show"),"")}
C24: Pressure Measurements | L24: {=IF(SUM(ABS(M24:Y24))>0,IF(OR($M$8:$Y$8=M24:Y24),"Hide","Show"),"")}
D25: Measurement | L25: {=IF(SUM(ABS(M25:Y25))>0,IF(OR($M$8:$Y$8=M25:Y25),"Hide","Show"),"")}
D26: Avg | E26: Min | F26: Max | L26: {=IF(SUM(ABS(M26:Y26))>0,IF(OR($M$8:$Y$8=M26:Y26),"Hide","Show"),"")}
C27: Barometric Pressure - (in. Hg) | L27: {=IF(SUM(ABS(M27:Y27))>0,IF(OR($M$8:$Y$8=M27:Y27),"Hide","Show"),"")}
C28: Liquid Line Pressure (psig) | L28: {=IF(SUM(ABS(M28:Y28))>0,IF(OR($M$8:$Y$8=M28:Y28),"Hide","Show"),"")}
C29: Suction Pressure (psig) | L29: {=IF(SUM(ABS(M29:Y29))>0,IF(OR($M$8:$Y$8=M29:Y29),"Hide","Show"),"")}
C30: Indoor Nozzle Pressure Delta (in. WC) | L30: {=IF(SUM(ABS(M30:Y30))>0,IF(OR($M$8:$Y$8=M30:Y30),"Hide","Show"),"")}
C31: Indoor external static pressure (in. H2O) | L31: {=IF(SUM(ABS(M31:Y31))>0,IF(OR($M$8:$Y$8=M31:Y31),"Hide","Show"),"")}
L32: {=IF(SUM(ABS(M32:Y32))>0,IF(OR($M$8:$Y$8=M32:Y32),"Hide","Show"),"")}
C33: Refrigerant Measurements | L33: {=IF(SUM(ABS(M33:Y33))>0,IF(OR($M$8:$Y$8=M33:Y33),"Hide","Show"),"")}
D34: Measurement | L34: {=IF(SUM(ABS(M34:Y34))>0,IF(OR($M$8:$Y$8=M34:Y34),"Hide","Show"),"")}
D35: Avg | E35: Min | F35: Max | L35: {=IF(SUM(ABS(M35:Y35))>0,IF(OR($M$8:$Y$8=M35:Y35),"Hide","Show"),"")}
C36: Refrigerant flow rate (lb/hr) | L36: {=IF(SUM(ABS(M36:Y36))>0,IF(OR($M$8:$Y$8=M36:Y36),"Hide","Show"),"")}
C37: Saturated suction temperature (F) | L37: {=IF(SUM(ABS(M37:Y37))>0,IF(OR($M$8:$Y$8=M37:Y37),"Hide","Show"),"")}
C38: Saturated liquid temperature (F) | L38: {=IF(SUM(ABS(M38:Y38))>0,IF(OR($M$8:$Y$8=M38:Y38),"Hide","Show"),"")}
C39: Suction temperature (F) | L39: {=IF(SUM(ABS(M39:Y39))>0,IF(OR($M$8:$Y$8=M39:Y39),"Hide","Show"),"")}
C40: Liquid line temperature (F) | L40: {=IF(SUM(ABS(M40:Y40))>0,IF(OR($M$8:$Y$8=M40:Y40),"Hide","Show"),"")}
C41: Refrigerant Superheat (F) | L41: {=IF(SUM(ABS(M41:Y41))>0,IF(OR($M$8:$Y$8=M41:Y41),"Hide","Show"),"")}
C42: Refrigerant Subcooling (F) | L42: {=IF(SUM(ABS(M42:Y42))>0,IF(OR($M$8:$Y$8=M42:Y42),"Hide","Show"),"")}
C43: Entering indoor coil (F) | L43: {=IF(SUM(ABS(M43:Y43))>0,IF(OR($M$8:$Y$8=M43:Y43),"Hide","Show"),"")}
C44: Leaving indoor coil (F) | L44: {=IF(SUM(ABS(M44:Y44))>0,IF(OR($M$8:$Y$8=M44:Y44),"Hide","Show"),"")}
C45: Entering outdoor coil (F) | L45: {=IF(SUM(ABS(M45:Y45))>0,IF(OR($M$8:$Y$8=M45:Y45),"Hide","Show"),"")}
C46: Leaving outdoor coil (F) | L46: {=IF(SUM(ABS(M46:Y46))>0,IF(OR($M$8:$Y$8=M46:Y46),"Hide","Show"),"")}
L47: {=IF(SUM(ABS(M47:Y47))>0,IF(OR($M$8:$Y$8=M47:Y47),"Hide","Show"),"")}
C48: Airflow Measurements | L48: {=IF(SUM(ABS(M48:Y48))>0,IF(OR($M$8:$Y$8=M48:Y48),"Hide","Show"),"")}
D49: Measurement | L49: {=IF(SUM(ABS(M49:Y49))>0,IF(OR($M$8:$Y$8=M49:Y49),"Hide","Show"),"")}
D50: Avg | E50: Min | F50: Max | L50: {=IF(SUM(ABS(M50:Y50))>0,IF(OR($M$8:$Y$8=M50:Y50),"Hide","Show"),"")}
C51: Indoor Unit Airflow (cfm) | L51: {=IF(SUM(ABS(M51:Y51))>0,IF(OR($M$8:$Y$8=M51:Y51),"Hide","Show"),"")}
C52: Indoor Unit Standard Airflow (scfm) | L52: {=IF(SUM(ABS(M52:Y52))>0,IF(OR($M$8:$Y$8=M52:Y52),"Hide","Show"),"")}
C53: Entering enthalpy (please specify units) | L53: {=IF(SUM(ABS(M53:Y53))>0,IF(OR($M$8:$Y$8=M53:Y53),"Hide","Show"),"")}
C54: Leaving enthalpy (please specify units) | L54: {=IF(SUM(ABS(M54:Y54))>0,IF(OR($M$8:$Y$8=M54:Y54),"Hide","Show"),"")}
C55: Indoor Fan Speed (rpm) | L55: {=IF(SUM(ABS(M55:Y55))>0,IF(OR($M$8:$Y$8=M55:Y55),"Hide","Show"),"")}
L56: {=IF(SUM(ABS(M56:Y56))>0,IF(OR($M$8:$Y$8=M56:Y56),"Hide","Show"),"")}
C57: Air Temperatures | L57: {=IF(SUM(ABS(M57:Y57))>0,IF(OR($M$8:$Y$8=M57:Y57),"Hide","Show"),"")}
D58: Measurement | L58: {=IF(SUM(ABS(M58:Y58))>0,IF(OR($M$8:$Y$8=M58:Y58),"Hide","Show"),"")}
D59: Avg | E59: Min | F59: Max | L59: {=IF(SUM(ABS(M59:Y59))>0,IF(OR($M$8:$Y$8=M59:Y59),"Hide","Show"),"")}
C60: Indoor air entering dry bulb temperature (F) | L60: {=IF(SUM(ABS(M60:Y60))>0,IF(OR($M$8:$Y$8=M60:Y60),"Hide","Show"),"")}
C61: Indoor air entering wet bulb temperature (F) | L61: {=IF(SUM(ABS(M61:Y61))>0,IF(OR($M$8:$Y$8=M61:Y61),"Hide","Show"),"")}
C62: Indoor air leaving dry bulb temperature (F) | L62: {=IF(SUM(ABS(M62:Y62))>0,IF(OR($M$8:$Y$8=M62:Y62),"Hide","Show"),"")}
C63: Indoor air leaving wet bulb temperature (F) | L63: {=IF(SUM(ABS(M63:Y63))>0,IF(OR($M$8:$Y$8=M63:Y63),"Hide","Show"),"")}
C64: Outdoor air entering dry bulb temperature (F) | L64: {=IF(SUM(ABS(M64:Y64))>0,IF(OR($M$8:$Y$8=M64:Y64),"Hide","Show"),"")}
C65: Outdoor air entering wet bulb temperature (F) | L65: {=IF(SUM(ABS(M65:Y65))>0,IF(OR($M$8:$Y$8=M65:Y65),"Hide","Show"),"")}
C66: Outdoor air leaving dry bulb temperature (F) | L66: {=IF(SUM(ABS(M66:Y66))>0,IF(OR($M$8:$Y$8=M66:Y66),"Hide","Show"),"")}
C67: Outdoor air leaving wet bulb temperature (F) | L67: {=IF(SUM(ABS(M67:Y67))>0,IF(OR($M$8:$Y$8=M67:Y67),"Hide","Show"),"")}
L68: {=IF(SUM(ABS(M68:Y68))>0,IF(OR($M$8:$Y$8=M68:Y68),"Hide","Show"),"")}
C69: Cooling Capacity | L69: {=IF(SUM(ABS(M69:Y69))>0,IF(OR($M$8:$Y$8=M69:Y69),"Hide","Show"),"")}
D70: Measurement | L70: {=IF(SUM(ABS(M70:Y70))>0,IF(OR($M$8:$Y$8=M70:Y70),"Hide","Show"),"")}
C71: Total cooling capacity (Btu/hr) | L71: {=IF(SUM(ABS(M71:Y71))>0,IF(OR($M$8:$Y$8=M71:Y71),"Hide","Show"),"")}
C72: Correction (if applicable) | L72: {=IF(SUM(ABS(M72:Y72))>0,IF(OR($M$8:$Y$8=M72:Y72),"Hide","Show"),"")}
C73: Net total corrected capacity (Btu/hr) | D73: =IF(D71+D72=0,"",D71+D72) | L73: {=IF(SUM(ABS(M73:Y73))>0,IF(OR($M$8:$Y$8=M73:Y73),"Hide","Show"),"")}
L74: {=IF(SUM(ABS(M74:Y74))>0,IF(OR($M$8:$Y$8=M74:Y74),"Hide","Show"),"")}
L75: {=IF(SUM(ABS(M75:Y75))>0,IF(OR($M$8:$Y$8=M75:Y75),"Hide","Show"),"")}
B76: =IF($F$6<>"-","'"&$F$6&" Test' Data to be recorded", "Test Not Applicable") -> #N/A | L76: {=IF(SUM(ABS(M76:Y76))>0,IF(OR($M$8:$Y$8=M76:Y76),"Hide","Show"),"")}
L77: {=IF(SUM(ABS(M77:Y77))>0,IF(OR($M$8:$Y$8=M77:Y77),"Hide","Show"),"")}
C78: Electrical Input | L78: {=IF(SUM(ABS(M78:Y78))>0,IF(OR($M$8:$Y$8=M78:Y78),"Hide","Show"),"")}
D79: Measurement | L79: {=IF(SUM(ABS(M79:Y79))>0,IF(OR($M$8:$Y$8=M79:Y79),"Hide","Show"),"")}
D80: Avg | E80: Min | F80: Max | L80: {=IF(SUM(ABS(M80:Y80))>0,IF(OR($M$8:$Y$8=M80:Y80),"Hide","Show"),"")}
C81: Applied voltage to outdoor unit (V) | L81: {=IF(SUM(ABS(M81:Y81))>0,IF(OR($M$8:$Y$8=M81:Y81),"Hide","Show"),"")}
C82: Applied voltage to indoor unit (V) | L82: {=IF(SUM(ABS(M82:Y82))>0,IF(OR($M$8:$Y$8=M82:Y82),"Hide","Show"),"")}
C83: Frequency (Hz) | L83: {=IF(SUM(ABS(M83:Y83))>0,IF(OR($M$8:$Y$8=M83:Y83),"Hide","Show"),"")}
C84: Line current (Amps) | L84: {=IF(SUM(ABS(M84:Y84))>0,IF(OR($M$8:$Y$8=M84:Y84),"Hide","Show"),"")}
C85: Total Indoor Unit Power (Watts) | L85: {=IF(SUM(ABS(M85:Y85))>0,IF(OR($M$8:$Y$8=M85:Y85),"Hide","Show"),"")}
C86: Total System Power (Watts) | L86: {=IF(SUM(ABS(M86:Y86))>0,IF(OR($M$8:$Y$8=M86:Y86),"Hide","Show"),"")}
L87: {=IF(SUM(ABS(M87:Y87))>0,IF(OR($M$8:$Y$8=M87:Y87),"Hide","Show"),"")}
C88: Pressure Measurements | L88: {=IF(SUM(ABS(M88:Y88))>0,IF(OR($M$8:$Y$8=M88:Y88),"Hide","Show"),"")}
D89: Measurement | L89: {=IF(SUM(ABS(M89:Y89))>0,IF(OR($M$8:$Y$8=M89:Y89),"Hide","Show"),"")}
D90: Avg | E90: Min | F90: Max | L90: {=IF(SUM(ABS(M90:Y90))>0,IF(OR($M$8:$Y$8=M90:Y90),"Hide","Show"),"")}
C91: Barometric Pressure - (in. Hg) | L91: {=IF(SUM(ABS(M91:Y91))>0,IF(OR($M$8:$Y$8=M91:Y91),"Hide","Show"),"")}
C92: Liquid Line Pressure (psig) | L92: {=IF(SUM(ABS(M92:Y92))>0,IF(OR($M$8:$Y$8=M92:Y92),"Hide","Show"),"")}
C93: Suction Pressure (psig) | L93: {=IF(SUM(ABS(M93:Y93))>0,IF(OR($M$8:$Y$8=M93:Y93),"Hide","Show"),"")}
C94: Indoor Nozzle Pressure Delta (in. WC) | L94: {=IF(SUM(ABS(M94:Y94))>0,IF(OR($M$8:$Y$8=M94:Y94),"Hide","Show"),"")}
C95: Indoor external static pressure (in. H2O) | L95: {=IF(SUM(ABS(M95:Y95))>0,IF(OR($M$8:$Y$8=M95:Y95),"Hide","Show"),"")}
L96: {=IF(SUM(ABS(M96:Y96))>0,IF(OR($M$8:$Y$8=M96:Y96),"Hide","Show"),"")}
C97: Refrigerant Measurements | L97: {=IF(SUM(ABS(M97:Y97))>0,IF(OR($M$8:$Y$8=M97:Y97),"Hide","Show"),"")}
D98: Measurement | L98: {=IF(SUM(ABS(M98:Y98))>0,IF(OR($M$8:$Y$8=M98:Y98),"Hide","Show"),"")}
D99: Avg | E99: Min | F99: Max | L99: {=IF(SUM(ABS(M99:Y99))>0,IF(OR($M$8:$Y$8=M99:Y99),"Hide","Show"),"")}
C100: Refrigerant flow rate (lb/hr) | L100: {=IF(SUM(ABS(M100:Y100))>0,IF(OR($M$8:$Y$8=M100:Y100),"Hide","Show"),"")}
C101: Saturated suction temperature (F) | L101: {=IF(SUM(ABS(M101:Y101))>0,IF(OR($M$8:$Y$8=M101:Y101),"Hide","Show"),"")}
C102: Saturated liquid temperature (F) | L102: {=IF(SUM(ABS(M102:Y102))>0,IF(OR($M$8:$Y$8=M102:Y102),"Hide","Show"),"")}
C103: Suction temperature (F) | L103: {=IF(SUM(ABS(M103:Y103))>0,IF(OR($M$8:$Y$8=M103:Y103),"Hide","Show"),"")}
C104: Liquid line temperature (F) | L104: {=IF(SUM(ABS(M104:Y104))>0,IF(OR($M$8:$Y$8=M104:Y104),"Hide","Show"),"")}
...

Sheet Optional D Tests
B2: Title Block | E2: Back to Instructions tab
B3: Test Report Template Name: | C3: ='Version Control'!C3 -> Residential Central Air Conditioners and Heat Pumps_M1
B4: Version Number: | C4: ='Version Control'!C4 -> v1.1 | E4: Relevent Tests | H4: Product Information
B5: Latest Template Revision: | C5: ='Version Control'!C5 -> 43668 | E5: 1st Test | F5: =IF(Product_Type_Input=INDEX(Product_Types,3),"-",INDEX(TestMatrix_Data,MATCH($C$6&$E5,TestMatrix_Rows,0),MATCH($I$6&$I$7&$I$8,TestMatrix_Columns,0))) -> #N/A | H5: Product Type | I5: ='General Info and Test Results'!C25 -> 0
B6: Tab Name: | C6: =MID(CELL("filename",$A$1), FIND("]", CELL("filename", $A$1))+ 1, 255) -> Optional D Tests | E6: 2nd Test | F6: =IF(Product_Type_Input=INDEX(Product_Types,3),"-",INDEX(TestMatrix_Data,MATCH($C$6&$E6,TestMatrix_Rows,0),MATCH($I$6&$I$7&$I$8,TestMatrix_Columns,0))) -> #N/A | H6: Compressor Type | I6: ='General Info and Test Results'!C27 -> 0
B7: File Name: | C7: =MID(CELL("FILENAME"),FIND("[",CELL("FILENAME"))+1,FIND("]",CELL("FILENAME"))-FIND("[",CELL("FILENAME"))-1) -> Residential Central Air Conditioners and Heat Pumps_M1_Notebook.xlsx | H7: Indoor Fan Type | I7: ='General Info and Test Results'!C29 -> 0
B8: Test Completion Date: | C8: ='Version Control'!C8 -> [MM/DD/YYYY] | H8: Outdoor Fan Type | I8: =OD_FanType_Input -> 0
B11: =IF($F$5<>"-","'"&$F$5&" Test' Data to be recorded", "Test Not Applicable") -> #N/A | H11: D2
C13: Duration of the OFF/ON intervals | E13: hours
C14: Was the certified fan time delay used?
C15: Indoor Nozzle Pressure Delta value at 15 second after airflow initiation (see section 3.5.c requirement in Appendix M) | E15: in. WC
C16: The data below is reported starting how many seconds after airflow initiation? (see requirements in footnotes 2 and 5 of Table 10 in Appendix M) | E16: seconds
C18: Electrical Input | L18: {=IF(SUM(ABS(M18:Y18))>0,IF(OR($M$8:$Y$8=M18:Y18),"Hide","Show"),"")}
D19: Measurements Taken During On Cycle | L19: {=IF(SUM(ABS(M19:Y19))>0,IF(OR($M$8:$Y$8=M19:Y19),"Hide","Show"),"")}
D20: Avg | E20: Min | F20: Max | L20: {=IF(SUM(ABS(M20:Y20))>0,IF(OR($M$8:$Y$8=M20:Y20),"Hide","Show"),"")}
C21: Applied voltage to outdoor unit (V) | L21: {=IF(SUM(ABS(M21:Y21))>0,IF(OR($M$8:$Y$8=M21:Y21),"Hide","Show"),"")}
C22: Applied voltage to indoor unit (V) | L22: {=IF(SUM(ABS(M22:Y22))>0,IF(OR($M$8:$Y$8=M22:Y22),"Hide","Show"),"")}
D23: Total Measurement | L23: {=IF(SUM(ABS(M23:Y23))>0,IF(OR($M$8:$Y$8=M23:Y23),"Hide","Show"),"")}
C24: Total Indoor Unit Energy (Watts-hours) | L24: {=IF(SUM(ABS(M24:Y24))>0,IF(OR($M$8:$Y$8=M24:Y24),"Hide","Show"),"")}
C25: Total System Energy (Ecycdry in watts-hours, see Appendix M sections 3.5.h and 3.5.i) | L25: {=IF(SUM(ABS(M25:Y25))>0,IF(OR($M$8:$Y$8=M25:Y25),"Hide","Show"),"")}
L26: {=IF(SUM(ABS(M26:Y26))>0,IF(OR($M$8:$Y$8=M26:Y26),"Hide","Show"),"")}
C27: Pressure Measurements | L27: {=IF(SUM(ABS(M27:Y27))>0,IF(OR($M$8:$Y$8=M27:Y27),"Hide","Show"),"")}
D28: Measurements Taken During On Cycle | L28: {=IF(SUM(ABS(M28:Y28))>0,IF(OR($M$8:$Y$8=M28:Y28),"Hide","Show"),"")}
D29: Avg | E29: Min | F29: Max | L29: {=IF(SUM(ABS(M29:Y29))>0,IF(OR($M$8:$Y$8=M29:Y29),"Hide","Show"),"")}
C30: Barometric Pressure - (in. Hg) | L30: {=IF(SUM(ABS(M30:Y30))>0,IF(OR($M$8:$Y$8=M30:Y30),"Hide","Show"),"")}
C31: Indoor Nozzle Pressure Delta (in. WC) | L31: {=IF(SUM(ABS(M31:Y31))>0,IF(OR($M$8:$Y$8=M31:Y31),"Hide","Show"),"")}
C32: Indoor external static pressure (in. H2O) | L32: {=IF(SUM(ABS(M32:Y32))>0,IF(OR($M$8:$Y$8=M32:Y32),"Hide","Show"),"")}
L33: {=IF(SUM(ABS(M33:Y33))>0,IF(OR($M$8:$Y$8=M33:Y33),"Hide","Show"),"")}
C34: Airflow Measurements | L34: {=IF(SUM(ABS(M34:Y34))>0,IF(OR($M$8:$Y$8=M34:Y34),"Hide","Show"),"")}
D35: Average Measurement During On Cycle | L35: {=IF(SUM(ABS(M35:Y35))>0,IF(OR($M$8:$Y$8=M35:Y35),"Hide","Show"),"")}
C36: Indoor Unit Airflow (cfm) | L36: {=IF(SUM(ABS(M36:Y36))>0,IF(OR($M$8:$Y$8=M36:Y36),"Hide","Show"),"")}
C37: Indoor Unit Standard Airflow (scfm) | L37: {=IF(SUM(ABS(M37:Y37))>0,IF(OR($M$8:$Y$8=M37:Y37),"Hide","Show"),"")}
L38: {=IF(SUM(ABS(M38:Y38))>0,IF(OR($M$8:$Y$8=M38:Y38),"Hide","Show"),"")}
C39: Air Temperatures | L39: {=IF(SUM(ABS(M39:Y39))>0,IF(OR($M$8:$Y$8=M39:Y39),"Hide","Show"),"")}
D40: Measurements Taken During On Cycle | L40: {=IF(SUM(ABS(M40:Y40))>0,IF(OR($M$8:$Y$8=M40:Y40),"Hide","Show"),"")}
D41: Avg | E41: Min | F41: Max | L41: {=IF(SUM(ABS(M41:Y41))>0,IF(OR($M$8:$Y$8=M41:Y41),"Hide","Show"),"")}
C42: Indoor air entering dry bulb temperature (F) | L42: {=IF(SUM(ABS(M42:Y42))>0,IF(OR($M$8:$Y$8=M42:Y42),"Hide","Show"),"")}
C43: Indoor air entering wet bulb temperature (F) | L43: {=IF(SUM(ABS(M43:Y43))>0,IF(OR($M$8:$Y$8=M43:Y43),"Hide","Show"),"")}
C44: Indoor air leaving dry bulb temperature (F) | L44: {=IF(SUM(ABS(M44:Y44))>0,IF(OR($M$8:$Y$8=M44:Y44),"Hide","Show"),"")}
C45: Indoor air leaving wet bulb temperature (F) | L45: {=IF(SUM(ABS(M45:Y45))>0,IF(OR($M$8:$Y$8=M45:Y45),"Hide","Show"),"")}
C46: Outdoor air entering dry bulb temperature (F) | L46: {=IF(SUM(ABS(M46:Y46))>0,IF(OR($M$8:$Y$8=M46:Y46),"Hide","Show"),"")}
C47: Outdoor air entering wet bulb temperature (F) | L47: {=IF(SUM(ABS(M47:Y47))>0,IF(OR($M$8:$Y$8=M47:Y47),"Hide","Show"),"")}
C48: Outdoor air leaving dry bulb temperature (F) | L48: {=IF(SUM(ABS(M48:Y48))>0,IF(OR($M$8:$Y$8=M48:Y48),"Hide","Show"),"")}
C49: Outdoor air leaving wet bulb temperature (F) | L49: {=IF(SUM(ABS(M49:Y49))>0,IF(OR($M$8:$Y$8=M49:Y49),"Hide","Show"),"")}
L50: {=IF(SUM(ABS(M50:Y50))>0,IF(OR($M$8:$Y$8=M50:Y50),"Hide","Show"),"")}
C51: Cooling Capacity | L51: {=IF(SUM(ABS(M51:Y51))>0,IF(OR($M$8:$Y$8=M51:Y51),"Hide","Show"),"")}
D52: Total Measurement | L52: {=IF(SUM(ABS(M52:Y52))>0,IF(OR($M$8:$Y$8=M52:Y52),"Hide","Show"),"")}
C53: Total Space Cooling Delivered (Qcycdry in Btu, see Appendix M section 3.5.i) | L53: {=IF(SUM(ABS(M53:Y53))>0,IF(OR($M$8:$Y$8=M53:Y53),"Hide","Show"),"")}
C54: Total sensible cooling capacity (Btu/hr) | L54: {=IF(SUM(ABS(M54:Y54))>0,IF(OR($M$8:$Y$8=M54:Y54),"Hide","Show"),"")}
C55: Correction (if applicable) | L55: {=IF(SUM(ABS(M55:Y55))>0,IF(OR($M$8:$Y$8=M55:Y55),"Hide","Show"),"")}
C56: Corrected Total Space Cooling Delivered (Qcycdry in Btu, see Appendix M section 3.5.i) | D56: =IF(D53+D55=0,"",D53+D55) | L56: {=IF(SUM(ABS(M56:Y56))>0,IF(OR($M$8:$Y$8=M56:Y56),"Hide","Show"),"")}
L57: {=IF(SUM(ABS(M57:Y57))>0,IF(OR($M$8:$Y$8=M57:Y57),"Hide","Show"),"")}
L58: {=IF(SUM(ABS(M58:Y58))>0,IF(OR($M$8:$Y$8=M58:Y58),"Hide","Show"),"")}
B59: =IF($F$6<>"-","'"&$F$6&" Test' Data to be recorded", "Test Not Applicable") -> #N/A | L59: {=IF(SUM(ABS(M59:Y59))>0,IF(OR($M$8:$Y$8=M59:Y59),"Hide","Show"),"")}
L60: {=IF(SUM(ABS(M60:Y60))>0,IF(OR($M$8:$Y$8=M60:Y60),"Hide","Show"),"")}
C61: Duration of the OFF/ON intervals | E61: hours | L61: {=IF(SUM(ABS(M61:Y61))>0,IF(OR($M$8:$Y$8=M61:Y61),"Hide","Show"),"")}
C62: Was the certified fan time delay used?
C63: Indoor Nozzle Pressure Delta value at 15 second after airflow initiation (see section 3.5.c requirement in Appendix M) | E63: in. WC
C64: The data below is reported starting how many seconds after airflow initiation? (see requirements in footnotes 2 and 5 of Table 10 in Appendix M) | E64: seconds
L65: {=IF(SUM(ABS(M65:Y65))>0,IF(OR($M$8:$Y$8=M65:Y65),"Hide","Show"),"")}
C66: Electrical Input | L66: {=IF(SUM(ABS(M66:Y66))>0,IF(OR($M$8:$Y$8=M66:Y66),"Hide","Show"),"")}
D67: Measurements Taken During On Cycle | L67: {=IF(SUM(ABS(M67:Y67))>0,IF(OR($M$8:$Y$8=M67:Y67),"Hide","Show"),"")}
D68: Avg | E68: Min | F68: Max | L68: {=IF(SUM(ABS(M68:Y68))>0,IF(OR($M$8:$Y$8=M68:Y68),"Hide","Show"),"")}
C69: Applied voltage to outdoor unit (V) | L69: {=IF(SUM(ABS(M69:Y69))>0,IF(OR($M$8:$Y$8=M69:Y69),"Hide","Show"),"")}
C70: Applied voltage to indoor unit (V) | L70: {=IF(SUM(ABS(M70:Y70))>0,IF(OR($M$8:$Y$8=M70:Y70),"Hide","Show"),"")}
D71: Total Measurement | L71: {=IF(SUM(ABS(M71:Y71))>0,IF(OR($M$8:$Y$8=M71:Y71),"Hide","Show"),"")}
C72: Total Indoor Unit Energy (Watts-hours) | L72: {=IF(SUM(ABS(M72:Y72))>0,IF(OR($M$8:$Y$8=M72:Y72),"Hide","Show"),"")}
C73: Total System Energy (Ecycdry in watts-hours, see Appendix M sections 3.5.h and 3.5.i) | L73: {=IF(SUM(ABS(M73:Y73))>0,IF(OR($M$8:$Y$8=M73:Y73),"Hide","Show"),"")}
L74: {=IF(SUM(ABS(M74:Y74))>0,IF(OR($M$8:$Y$8=M74:Y74),"Hide","Show"),"")}
C75: Pressure Measurements | L75: {=IF(SUM(ABS(M75:Y75))>0,IF(OR($M$8:$Y$8=M75:Y75),"Hide","Show"),"")}
D76: Measurements Taken During On Cycle | L76: {=IF(SUM(ABS(M76:Y76))>0,IF(OR($M$8:$Y$8=M76:Y76),"Hide","Show"),"")}
D77: Avg | E77: Min | F77: Max | L77: {=IF(SUM(ABS(M77:Y77))>0,IF(OR($M$8:$Y$8=M77:Y77),"Hide","Show"),"")}
C78: Barometric Pressure - (in. Hg) | L78: {=IF(SUM(ABS(M78:Y78))>0,IF(OR($M$8:$Y$8=M78:Y78),"Hide","Show"),"")}
C79: Indoor Nozzle Pressure Delta (in. WC) | L79: {=IF(SUM(ABS(M79:Y79))>0,IF(OR($M$8:$Y$8=M79:Y79),"Hide","Show"),"")}
C80: Indoor external static pressure (in. H2O) | L80: {=IF(SUM(ABS(M80:Y80))>0,IF(OR($M$8:$Y$8=M80:Y80),"Hide","Show"),"")}
L81: {=IF(SUM(ABS(M81:Y81))>0,IF(OR($M$8:$Y$8=M81:Y81),"Hide","Show"),"")}
C82: Airflow Measurements | L82: {=IF(SUM(ABS(M82:Y82))>0,IF(OR($M$8:$Y$8=M82:Y82),"Hide","Show"),"")}
D83: Average Measurement During On Cycle | L83: {=IF(SUM(ABS(M83:Y83))>0,IF(OR($M$8:$Y$8=M83:Y83),"Hide","Show"),"")}
C84: Actual Airflow (cfm) | L84: {=IF(SUM(ABS(M84:Y84))>0,IF(OR($M$8:$Y$8=M84:Y84),"Hide","Show"),"")}
C85: Standard Airflow (scfm) | L85: {=IF(SUM(ABS(M85:Y85))>0,IF(OR($M$8:$Y$8=M85:Y85),"Hide","Show"),"")}
L86: {=IF(SUM(ABS(M86:Y86))>0,IF(OR($M$8:$Y$8=M86:Y86),"Hide","Show"),"")}
C87: Air Temperatures | L87: {=IF(SUM(ABS(M87:Y87))>0,IF(OR($M$8:$Y$8=M87:Y87),"Hide","Show"),"")}
D88: Measurements Taken During On Cycle | L88: {=IF(SUM(ABS(M88:Y88))>0,IF(OR($M$8:$Y$8=M88:Y88),"Hide","Show"),"")}
D89: Avg | E89: Min | F89: Max | L89: {=IF(SUM(ABS(M89:Y89))>0,IF(OR($M$8:$Y$8=M89:Y89),"Hide","Show"),"")}
C90: Indoor air entering dry bulb temperature (F) | L90: {=IF(SUM(ABS(M90:Y90))>0,IF(OR($M$8:$Y$8=M90:Y90),"Hide","Show"),"")}
C91: Indoor air entering wet bulb temperature (F) | L91: {=IF(SUM(ABS(M91:Y91))>0,IF(OR($M$8:$Y$8=M91:Y91),"Hide","Show"),"")}
C92: Indoor air leaving dry bulb temperature (F) | L92: {=IF(SUM(ABS(M92:Y92))>0,IF(OR($M$8:$Y$8=M92:Y92),"Hide","Show"),"")}
C93: Indoor air leaving wet bulb temperature (F) | L93: {=IF(SUM(ABS(M93:Y93))>0,IF(OR($M$8:$Y$8=M93:Y93),"Hide","Show"),"")}
C94: Outdoor air entering dry bulb temperature (F) | L94: {=IF(SUM(ABS(M94:Y94))>0,IF(OR($M$8:$Y$8=M94:Y94),"Hide","Show"),"")}
C95: Outdoor air entering wet bulb temperature (F) | L95: {=IF(SUM(ABS(M95:Y95))>0,IF(OR($M$8:$Y$8=M95:Y95),"Hide","Show"),"")}
C96: Outdoor air leaving dry bulb temperature (F) | L96: {=IF(SUM(ABS(M96:Y96))>0,IF(OR($M$8:$Y$8=M96:Y96),"Hide","Show"),"")}
C97: Outdoor air leaving wet bulb temperature (F) | L97: {=IF(SUM(ABS(M97:Y97))>0,IF(OR($M$8:$Y$8=M97:Y97),"Hide","Show"),"")}
L98: {=IF(SUM(ABS(M98:Y98))>0,IF(OR($M$8:$Y$8=M98:Y98),"Hide","Show"),"")}
C99: Cooling Capacity | L99: {=IF(SUM(ABS(M99:Y99))>0,IF(OR($M$8:$Y$8=M99:Y99),"Hide","Show"),"")}
D100: Total Measurement | L100: {=IF(SUM(ABS(M100:Y100))>0,IF(OR($M$8:$Y$8=M100:Y100),"Hide","Show"),"")}
C101: Total Space Cooling Delivered (Qcycdry in Btu, see Appendix M section 3.5.i) | L101: {=IF(SUM(ABS(M101:Y101))>0,IF(OR($M$8:$Y$8=M101:Y101),"Hide","Show"),"")}
C102: Total sensible cooling capacity (Btu/hr) | L102: {=IF(SUM(ABS(M102:Y102))>0,IF(OR($M$8:$Y$8=M102:Y102),"Hide","Show"),"")}
C103: Correction (if applicable) | L103: {=IF(SUM(ABS(M103:Y103))>0,IF(OR($M$8:$Y$8=M103:Y103),"Hide","Show"),"")}
C104: Corrected Total Space Cooling Delivered (Qcycdry in Btu, see Appendix M section 3.5.i) | D104: =IF(D101+D103=0,"",D101+D103) | L104: {=IF(SUM(ABS(M104:Y104))>0,IF(OR($M$8:$Y$8=M104:Y104),"Hide","Show"),"")}
L105: {=IF(SUM(ABS(M105:Y105))>0,IF(OR($M$8:$Y$8=M105:Y105),"Hide","Show"),"")}
...

Sheet F1 Test
B2: Title Block | E2: Back to Instructions tab
B3: Test Report Template Name: | C3: ='Version Control'!C3 -> Residential Central Air Conditioners and Heat Pumps_M1
B4: Version Number: | C4: ='Version Control'!C4 -> v1.1 | E4: Relevent Test | H4: Product Information
B5: Latest Template Revision: | C5: ='Version Control'!C5 -> 43668 | E5: Only Test | F5: =IF(Product_Type_Input=INDEX(Product_Types,3),"-",INDEX(TestMatrix_Data,MATCH($C$6,TestMatrix_Rows,0),MATCH($I$6&$I$7&$I$8,TestMatrix_Columns,0))) -> #N/A | H5: Product Type | I5: ='General Info and Test Results'!C25 -> 0
B6: Tab Name: | C6: =MID(CELL("filename",$A$1), FIND("]", CELL("filename", $A$1))+ 1, 255) -> F1 Test | H6: Compressor Type | I6: ='General Info and Test Results'!C27 -> 0
B7: File Name: | C7: =MID(CELL("FILENAME"),FIND("[",CELL("FILENAME"))+1,FIND("]",CELL("FILENAME"))-FIND("[",CELL("FILENAME"))-1) -> Residential Central Air Conditioners and Heat Pumps_M1_Notebook.xlsx | H7: Indoor Fan Type | I7: ='General Info and Test Results'!C29 -> 0
B8: Test Completion Date: | C8: ='Version Control'!C8 -> [MM/DD/YYYY] | H8: Outdoor Fan Type | I8: =OD_FanType_Input -> 0
C11: 'F Test' Conditions Summary - Test Chamber Devices
C12: Compliance with Equilibrium Requirements
C13: Has chamber been at equilibrium for the minimum 30 minutes?
C14: Demand Defrost Control System | D14: ='General Info and Test Results'!C36 -> 0 | L14: {=IF(SUM(ABS(M14:Y14))>0,IF(OR($M$8:$Y$8=M14:Y14),"Hide","Show"),"")}
C15: Time between defrost terminations (hours) | L15: {=IF(SUM(ABS(M15:Y15))>0,IF(OR($M$8:$Y$8=M15:Y15),"Hide","Show"),"")}
C16: Maximum time between defrosts as allowed by the controls (hours) | L16: {=IF(SUM(ABS(M16:Y16))>0,IF(OR($M$8:$Y$8=M16:Y16),"Hide","Show"),"")}
L17: {=IF(SUM(ABS(M17:Y17))>0,IF(OR($M$8:$Y$8=M17:Y17),"Hide","Show"),"")}
B18: =IF($F$5<>"-","'"&$F$5&" Test' Data to be recorded", "Test Not Applicable") -> #N/A | L18: {=IF(SUM(ABS(M18:Y18))>0,IF(OR($M$8:$Y$8=M18:Y18),"Hide","Show"),"")}
L19: {=IF(SUM(ABS(M19:Y19))>0,IF(OR($M$8:$Y$8=M19:Y19),"Hide","Show"),"")}
C20: Electrical Input | L20: {=IF(SUM(ABS(M20:Y20))>0,IF(OR($M$8:$Y$8=M20:Y20),"Hide","Show"),"")}
D21: Measurement | L21: {=IF(SUM(ABS(M21:Y21))>0,IF(OR($M$8:$Y$8=M21:Y21),"Hide","Show"),"")}
D22: Avg | E22: Min | F22: Max | L22: {=IF(SUM(ABS(M22:Y22))>0,IF(OR($M$8:$Y$8=M22:Y22),"Hide","Show"),"")}
C23: Applied voltage to outdoor unit (V) | L23: {=IF(SUM(ABS(M23:Y23))>0,IF(OR($M$8:$Y$8=M23:Y23),"Hide","Show"),"")}
C24: Applied voltage to indoor unit (V) | L24: {=IF(SUM(ABS(M24:Y24))>0,IF(OR($M$8:$Y$8=M24:Y24),"Hide","Show"),"")}
C25: Frequency (Hz) | L25: {=IF(SUM(ABS(M25:Y25))>0,IF(OR($M$8:$Y$8=M25:Y25),"Hide","Show"),"")}
C26: Line current (Amps) | L26: {=IF(SUM(ABS(M26:Y26))>0,IF(OR($M$8:$Y$8=M26:Y26),"Hide","Show"),"")}
C27: Total Indoor Unit Power (Watts) | L27: {=IF(SUM(ABS(M27:Y27))>0,IF(OR($M$8:$Y$8=M27:Y27),"Hide","Show"),"")}
C28: Total System Power (Watts) | L28: {=IF(SUM(ABS(M28:Y28))>0,IF(OR($M$8:$Y$8=M28:Y28),"Hide","Show"),"")}
L29: {=IF(SUM(ABS(M29:Y29))>0,IF(OR($M$8:$Y$8=M29:Y29),"Hide","Show"),"")}
C30: Pressure Measurements | L30: {=IF(SUM(ABS(M30:Y30))>0,IF(OR($M$8:$Y$8=M30:Y30),"Hide","Show"),"")}
D31: Measurement | L31: {=IF(SUM(ABS(M31:Y31))>0,IF(OR($M$8:$Y$8=M31:Y31),"Hide","Show"),"")}
D32: Avg | E32: Min | F32: Max | L32: {=IF(SUM(ABS(M32:Y32))>0,IF(OR($M$8:$Y$8=M32:Y32),"Hide","Show"),"")}
C33: Barometric Pressure - (in. Hg) | L33: {=IF(SUM(ABS(M33:Y33))>0,IF(OR($M$8:$Y$8=M33:Y33),"Hide","Show"),"")}
C34: Liquid Line Pressure (psig) | L34: {=IF(SUM(ABS(M34:Y34))>0,IF(OR($M$8:$Y$8=M34:Y34),"Hide","Show"),"")}
C35: Suction Pressure (psig) | L35: {=IF(SUM(ABS(M35:Y35))>0,IF(OR($M$8:$Y$8=M35:Y35),"Hide","Show"),"")}
C36: Indoor Nozzle Pressure Delta (in. WC) | L36: {=IF(SUM(ABS(M36:Y36))>0,IF(OR($M$8:$Y$8=M36:Y36),"Hide","Show"),"")}
C37: Indoor external static pressure (in. H2O) | L37: {=IF(SUM(ABS(M37:Y37))>0,IF(OR($M$8:$Y$8=M37:Y37),"Hide","Show"),"")}
L38: {=IF(SUM(ABS(M38:Y38))>0,IF(OR($M$8:$Y$8=M38:Y38),"Hide","Show"),"")}
C39: Refrigerant Measurements | L39: {=IF(SUM(ABS(M39:Y39))>0,IF(OR($M$8:$Y$8=M39:Y39),"Hide","Show"),"")}
D40: Measurement | L40: {=IF(SUM(ABS(M40:Y40))>0,IF(OR($M$8:$Y$8=M40:Y40),"Hide","Show"),"")}
D41: Avg | E41: Min | F41: Max | L41: {=IF(SUM(ABS(M41:Y41))>0,IF(OR($M$8:$Y$8=M41:Y41),"Hide","Show"),"")}
C42: Refrigerant flow rate (lb/hr) | L42: {=IF(SUM(ABS(M42:Y42))>0,IF(OR($M$8:$Y$8=M42:Y42),"Hide","Show"),"")}
C43: Saturated suction temperature (F) | L43: {=IF(SUM(ABS(M43:Y43))>0,IF(OR($M$8:$Y$8=M43:Y43),"Hide","Show"),"")}
C44: Saturated liquid temperature (F) | L44: {=IF(SUM(ABS(M44:Y44))>0,IF(OR($M$8:$Y$8=M44:Y44),"Hide","Show"),"")}
C45: Suction temperature (F) | L45: {=IF(SUM(ABS(M45:Y45))>0,IF(OR($M$8:$Y$8=M45:Y45),"Hide","Show"),"")}
C46: Liquid line temperature (F) | L46: {=IF(SUM(ABS(M46:Y46))>0,IF(OR($M$8:$Y$8=M46:Y46),"Hide","Show"),"")}
C47: Refrigerant Superheat (F) | L47: {=IF(SUM(ABS(M47:Y47))>0,IF(OR($M$8:$Y$8=M47:Y47),"Hide","Show"),"")}
C48: Refrigerant Subcooling (F) | L48: {=IF(SUM(ABS(M48:Y48))>0,IF(OR($M$8:$Y$8=M48:Y48),"Hide","Show"),"")}
C49: Entering indoor coil (F) | L49: {=IF(SUM(ABS(M49:Y49))>0,IF(OR($M$8:$Y$8=M49:Y49),"Hide","Show"),"")}
C50: Leaving indoor coil (F) | L50: {=IF(SUM(ABS(M50:Y50))>0,IF(OR($M$8:$Y$8=M50:Y50),"Hide","Show"),"")}
C51: Entering outdoor coil (F) | L51: {=IF(SUM(ABS(M51:Y51))>0,IF(OR($M$8:$Y$8=M51:Y51),"Hide","Show"),"")}
C52: Leaving outdoor coil (F) | L52: {=IF(SUM(ABS(M52:Y52))>0,IF(OR($M$8:$Y$8=M52:Y52),"Hide","Show"),"")}
L53: {=IF(SUM(ABS(M53:Y53))>0,IF(OR($M$8:$Y$8=M53:Y53),"Hide","Show"),"")}
C54: Airflow Measurements | L54: {=IF(SUM(ABS(M54:Y54))>0,IF(OR($M$8:$Y$8=M54:Y54),"Hide","Show"),"")}
D55: Measurement | L55: {=IF(SUM(ABS(M55:Y55))>0,IF(OR($M$8:$Y$8=M55:Y55),"Hide","Show"),"")}
D56: Avg | E56: Min | F56: Max | L56: {=IF(SUM(ABS(M56:Y56))>0,IF(OR($M$8:$Y$8=M56:Y56),"Hide","Show"),"")}
C57: Indoor Unit Airflow (cfm) | L57: {=IF(SUM(ABS(M57:Y57))>0,IF(OR($M$8:$Y$8=M57:Y57),"Hide","Show"),"")}
C58: Indoor Unit Standard Airflow (scfm) | L58: {=IF(SUM(ABS(M58:Y58))>0,IF(OR($M$8:$Y$8=M58:Y58),"Hide","Show"),"")}
C59: Entering enthalpy (please specify units) | L59: {=IF(SUM(ABS(M59:Y59))>0,IF(OR($M$8:$Y$8=M59:Y59),"Hide","Show"),"")}
C60: Leaving enthalpy (please specify units) | L60: {=IF(SUM(ABS(M60:Y60))>0,IF(OR($M$8:$Y$8=M60:Y60),"Hide","Show"),"")}
L61: {=IF(SUM(ABS(M61:Y61))>0,IF(OR($M$8:$Y$8=M61:Y61),"Hide","Show"),"")}
C62: Air Temperatures | L62: {=IF(SUM(ABS(M62:Y62))>0,IF(OR($M$8:$Y$8=M62:Y62),"Hide","Show"),"")}
D63: Measurement | L63: {=IF(SUM(ABS(M63:Y63))>0,IF(OR($M$8:$Y$8=M63:Y63),"Hide","Show"),"")}
D64: Avg | E64: Min | F64: Max | L64: {=IF(SUM(ABS(M64:Y64))>0,IF(OR($M$8:$Y$8=M64:Y64),"Hide","Show"),"")}
C65: Indoor air entering dry bulb temperature (F) | L65: {=IF(SUM(ABS(M65:Y65))>0,IF(OR($M$8:$Y$8=M65:Y65),"Hide","Show"),"")}
C66: Indoor air entering wet bulb temperature (F) | L66: {=IF(SUM(ABS(M66:Y66))>0,IF(OR($M$8:$Y$8=M66:Y66),"Hide","Show"),"")}
C67: Indoor air leaving dry bulb temperature (F) | L67: {=IF(SUM(ABS(M67:Y67))>0,IF(OR($M$8:$Y$8=M67:Y67),"Hide","Show"),"")}
C68: Indoor air leaving wet bulb temperature (F) | L68: {=IF(SUM(ABS(M68:Y68))>0,IF(OR($M$8:$Y$8=M68:Y68),"Hide","Show"),"")}
C69: Outdoor air entering dry bulb temperature (F) | L69: {=IF(SUM(ABS(M69:Y69))>0,IF(OR($M$8:$Y$8=M69:Y69),"Hide","Show"),"")}
C70: Outdoor air entering wet bulb temperature (F) | L70: {=IF(SUM(ABS(M70:Y70))>0,IF(OR($M$8:$Y$8=M70:Y70),"Hide","Show"),"")}
C71: Outdoor air leaving dry bulb temperature (F) | L71: {=IF(SUM(ABS(M71:Y71))>0,IF(OR($M$8:$Y$8=M71:Y71),"Hide","Show"),"")}
C72: Outdoor air leaving wet bulb temperature (F) | L72: {=IF(SUM(ABS(M72:Y72))>0,IF(OR($M$8:$Y$8=M72:Y72),"Hide","Show"),"")}
L73: {=IF(SUM(ABS(M73:Y73))>0,IF(OR($M$8:$Y$8=M73:Y73),"Hide","Show"),"")}
C74: Cooling Capacity | L74: {=IF(SUM(ABS(M74:Y74))>0,IF(OR($M$8:$Y$8=M74:Y74),"Hide","Show"),"")}
D75: Measurement | L75: {=IF(SUM(ABS(M75:Y75))>0,IF(OR($M$8:$Y$8=M75:Y75),"Hide","Show"),"")}
C76: Total cooling capacity (Btu/hr) | L76: {=IF(SUM(ABS(M76:Y76))>0,IF(OR($M$8:$Y$8=M76:Y76),"Hide","Show"),"")}
C77: Total sensible cooling capacity (Btu/hr) | L77: {=IF(SUM(ABS(M77:Y77))>0,IF(OR($M$8:$Y$8=M77:Y77),"Hide","Show"),"")}
C78: Correction (if applicable) | L78: {=IF(SUM(ABS(M78:Y78))>0,IF(OR($M$8:$Y$8=M78:Y78),"Hide","Show"),"")}
C79: Corrected capacity (Btu/hr) | D79: =IF(D76+D78=0,"",D76+D78) | L79: {=IF(SUM(ABS(M79:Y79))>0,IF(OR($M$8:$Y$8=M79:Y79),"Hide","Show"),"")}
L80: {=IF(SUM(ABS(M80:Y80))>0,IF(OR($M$8:$Y$8=M80:Y80),"Hide","Show"),"")}
L81: {=IF(SUM(ABS(M81:Y81))>0,IF(OR($M$8:$Y$8=M81:Y81),"Hide","Show"),"")}
L82: {=IF(SUM(ABS(M82:Y82))>0,IF(OR($M$8:$Y$8=M82:Y82),"Hide","Show"),"")}
L83: {=IF(SUM(ABS(M83:Y83))>0,IF(OR($M$8:$Y$8=M83:Y83),"Hide","Show"),"")}
L84: {=IF(SUM(ABS(M84:Y84))>0,IF(OR($M$8:$Y$8=M84:Y84),"Hide","Show"),"")}
L85: {=IF(SUM(ABS(M85:Y85))>0,IF(OR($M$8:$Y$8=M85:Y85),"Hide","Show"),"")}
L86: {=IF(SUM(ABS(M86:Y86))>0,IF(OR($M$8:$Y$8=M86:Y86),"Hide","Show"),"")}
L87: {=IF(SUM(ABS(M87:Y87))>0,IF(OR($M$8:$Y$8=M87:Y87),"Hide","Show"),"")}
L88: {=IF(SUM(ABS(M88:Y88))>0,IF(OR($M$8:$Y$8=M88:Y88),"Hide","Show"),"")}
L89: {=IF(SUM(ABS(M89:Y89))>0,IF(OR($M$8:$Y$8=M89:Y89),"Hide","Show"),"")}
L90: {=IF(SUM(ABS(M90:Y90))>0,IF(OR($M$8:$Y$8=M90:Y90),"Hide","Show"),"")}
L91: {=IF(SUM(ABS(M91:Y91))>0,IF(OR($M$8:$Y$8=M91:Y91),"Hide","Show"),"")}
... L233: {=IF(SUM(ABS(M233:Y233))>0,IF(OR($M$8:$Y$8=M233:Y233),"Hide","Show"),"")}

Sheet Ev Test
B2: Title Block | E2: Back to Instructions tab
B3: Test Report Template Name: | C3: ='Version Control'!C3 -> Residential Central Air Conditioners and Heat Pumps_M1
B4: Version Number: | C4: ='Version Control'!C4 -> v1.1 | F4: Relevent Test | H4: Product Information
B5: Latest Template Revision: | C5: ='Version Control'!C5 -> 43668 | F5: =INDEX(TestMatrix_Data,MATCH($C$6,TestMatrix_Rows,0),MATCH($I$6&$I$7&$I$8,TestMatrix_Columns,0)) -> #N/A | H5: Product Type | I5: ='General Info and Test Results'!C25 -> 0
B6: Tab Name: | C6: =MID(CELL("filename",$A$1), FIND("]", CELL("filename", $A$1))+ 1, 255) -> Ev Test | H6: Compressor Type | I6: ='General Info and Test Results'!C27 -> 0
B7: File Name: | C7: =MID(CELL("FILENAME"),FIND("[",CELL("FILENAME"))+1,FIND("]",CELL("FILENAME"))-FIND("[",CELL("FILENAME"))-1) -> Residential Central Air Conditioners and Heat Pumps_M1_Notebook.xlsx | H7: Indoor Fan Type | I7: ='General Info and Test Results'!C29 -> 0
B8: Test Completion Date: | C8: ='Version Control'!C8 -> [MM/DD/YYYY] | H8: Outdoor Fan Type | I8: =OD_FanType_Input -> 0
C10: Has chamber been at equilibrium for the minimum 30 minutes?
C11: Maximum time between defrosts as allowed by the controls (hours)
B13: =IF($F$5<>"-","'"&$F$5&" Test' Data to be recorded", "Test Not Applicable") -> #N/A
C15: Electrical Input
D16: Measurement | L16: {=IF(SUM(ABS(M16:Y16))>0,IF(OR($M$8:$Y$8=M16:Y16),"Hide","Show"),"")}
D17: Avg | E17: Min | F17: Max | L17: {=IF(SUM(ABS(M17:Y17))>0,IF(OR($M$8:$Y$8=M17:Y17),"Hide","Show"),"")}
C18: Applied voltage to outdoor unit (V) | L18: {=IF(SUM(ABS(M18:Y18))>0,IF(OR($M$8:$Y$8=M18:Y18),"Hide","Show"),"")}
C19: Applied voltage to indoor unit (V) | L19: {=IF(SUM(ABS(M19:Y19))>0,IF(OR($M$8:$Y$8=M19:Y19),"Hide","Show"),"")}
C20: Frequency (Hz) | L20: {=IF(SUM(ABS(M20:Y20))>0,IF(OR($M$8:$Y$8=M20:Y20),"Hide","Show"),"")}
C21: Line current (Amps) | L21: {=IF(SUM(ABS(M21:Y21))>0,IF(OR($M$8:$Y$8=M21:Y21),"Hide","Show"),"")}
C22: Total Indoor Unit Power (Watts) | L22: {=IF(SUM(ABS(M22:Y22))>0,IF(OR($M$8:$Y$8=M22:Y22),"Hide","Show"),"")}
C23: Total System Power (Watts) | L23: {=IF(SUM(ABS(M23:Y23))>0,IF(OR($M$8:$Y$8=M23:Y23),"Hide","Show"),"")}
L24: {=IF(SUM(ABS(M24:Y24))>0,IF(OR($M$8:$Y$8=M24:Y24),"Hide","Show"),"")}
C25: Pressure Measurements | L25: {=IF(SUM(ABS(M25:Y25))>0,IF(OR($M$8:$Y$8=M25:Y25),"Hide","Show"),"")}
D26: Measurement | L26: {=IF(SUM(ABS(M26:Y26))>0,IF(OR($M$8:$Y$8=M26:Y26),"Hide","Show"),"")}
D27: Avg | E27: Min | F27: Max | L27: {=IF(SUM(ABS(M27:Y27))>0,IF(OR($M$8:$Y$8=M27:Y27),"Hide","Show"),"")}
C28: Barometric Pressure - (in. Hg) | L28: {=IF(SUM(ABS(M28:Y28))>0,IF(OR($M$8:$Y$8=M28:Y28),"Hide","Show"),"")}
C29: Liquid Line Pressure (psig) | L29: {=IF(SUM(ABS(M29:Y29))>0,IF(OR($M$8:$Y$8=M29:Y29),"Hide","Show"),"")}
C30: Suction Pressure (psig) | L30: {=IF(SUM(ABS(M30:Y30))>0,IF(OR($M$8:$Y$8=M30:Y30),"Hide","Show"),"")}
C31: Indoor Nozzle Pressure Delta (in. WC) | L31: {=IF(SUM(ABS(M31:Y31))>0,IF(OR($M$8:$Y$8=M31:Y31),"Hide","Show"),"")}
C32: Indoor external static pressure (in. H2O) | L32: {=IF(SUM(ABS(M32:Y32))>0,IF(OR($M$8:$Y$8=M32:Y32),"Hide","Show"),"")}
L33: {=IF(SUM(ABS(M33:Y33))>0,IF(OR($M$8:$Y$8=M33:Y33),"Hide","Show"),"")}
C34: Refrigerant Measurements | L34: {=IF(SUM(ABS(M34:Y34))>0,IF(OR($M$8:$Y$8=M34:Y34),"Hide","Show"),"")}
D35: Measurement | L35: {=IF(SUM(ABS(M35:Y35))>0,IF(OR($M$8:$Y$8=M35:Y35),"Hide","Show"),"")}
D36: Avg | E36: Min | F36: Max | L36: {=IF(SUM(ABS(M36:Y36))>0,IF(OR($M$8:$Y$8=M36:Y36),"Hide","Show"),"")}
C37: Refrigerant flow rate (lb/hr) | L37: {=IF(SUM(ABS(M37:Y37))>0,IF(OR($M$8:$Y$8=M37:Y37),"Hide","Show"),"")}
C38: Saturated suction temperature (F) | L38: {=IF(SUM(ABS(M38:Y38))>0,IF(OR($M$8:$Y$8=M38:Y38),"Hide","Show"),"")}
C39: Saturated liquid temperature (F) | L39: {=IF(SUM(ABS(M39:Y39))>0,IF(OR($M$8:$Y$8=M39:Y39),"Hide","Show"),"")}
C40: Suction temperature (F) | L40: {=IF(SUM(ABS(M40:Y40))>0,IF(OR($M$8:$Y$8=M40:Y40),"Hide","Show"),"")}
C41: Liquid line temperature (F) | L41: {=IF(SUM(ABS(M41:Y41))>0,IF(OR($M$8:$Y$8=M41:Y41),"Hide","Show"),"")}
C42: Refrigerant Superheat (F) | L42: {=IF(SUM(ABS(M42:Y42))>0,IF(OR($M$8:$Y$8=M42:Y42),"Hide","Show"),"")}
C43: Refrigerant Subcooling (F) | L43: {=IF(SUM(ABS(M43:Y43))>0,IF(OR($M$8:$Y$8=M43:Y43),"Hide","Show"),"")}
C44: Entering indoor coil (F) | L44: {=IF(SUM(ABS(M44:Y44))>0,IF(OR($M$8:$Y$8=M44:Y44),"Hide","Show"),"")}
C45: Leaving indoor coil (F) | L45: {=IF(SUM(ABS(M45:Y45))>0,IF(OR($M$8:$Y$8=M45:Y45),"Hide","Show"),"")}
C46: Entering outdoor coil (F) | L46: {=IF(SUM(ABS(M46:Y46))>0,IF(OR($M$8:$Y$8=M46:Y46),"Hide","Show"),"")}
C47: Leaving outdoor coil (F) | L47: {=IF(SUM(ABS(M47:Y47))>0,IF(OR($M$8:$Y$8=M47:Y47),"Hide","Show"),"")}
L48: {=IF(SUM(ABS(M48:Y48))>0,IF(OR($M$8:$Y$8=M48:Y48),"Hide","Show"),"")}
C49: Airflow Measurements | L49: {=IF(SUM(ABS(M49:Y49))>0,IF(OR($M$8:$Y$8=M49:Y49),"Hide","Show"),"")}
D50: Measurement | L50: {=IF(SUM(ABS(M50:Y50))>0,IF(OR($M$8:$Y$8=M50:Y50),"Hide","Show"),"")}
D51: Avg | E51: Min | F51: Max | L51: {=IF(SUM(ABS(M51:Y51))>0,IF(OR($M$8:$Y$8=M51:Y51),"Hide","Show"),"")}
C52: Indoor Unit Airflow (cfm) | L52: {=IF(SUM(ABS(M52:Y52))>0,IF(OR($M$8:$Y$8=M52:Y52),"Hide","Show"),"")}
C53: Indoor Unit Standard Airflow (scfm) | L53: {=IF(SUM(ABS(M53:Y53))>0,IF(OR($M$8:$Y$8=M53:Y53),"Hide","Show"),"")}
C54: Entering enthalpy (please specify units) | L54: {=IF(SUM(ABS(M54:Y54))>0,IF(OR($M$8:$Y$8=M54:Y54),"Hide","Show"),"")}
C55: Leaving enthalpy (please specify units) | L55: {=IF(SUM(ABS(M55:Y55))>0,IF(OR($M$8:$Y$8=M55:Y55),"Hide","Show"),"")}
L56: {=IF(SUM(ABS(M56:Y56))>0,IF(OR($M$8:$Y$8=M56:Y56),"Hide","Show"),"")}
C57: Air Temperatures | L57: {=IF(SUM(ABS(M57:Y57))>0,IF(OR($M$8:$Y$8=M57:Y57),"Hide","Show"),"")}
D58: Measurement | L58: {=IF(SUM(ABS(M58:Y58))>0,IF(OR($M$8:$Y$8=M58:Y58),"Hide","Show"),"")}
D59: Avg | E59: Min | F59: Max | L59: {=IF(SUM(ABS(M59:Y59))>0,IF(OR($M$8:$Y$8=M59:Y59),"Hide","Show"),"")}
C60: Indoor air entering dry bulb temperature (F) | L60: {=IF(SUM(ABS(M60:Y60))>0,IF(OR($M$8:$Y$8=M60:Y60),"Hide","Show"),"")}
C61: Indoor air entering wet bulb temperature (F) | L61: {=IF(SUM(ABS(M61:Y61))>0,IF(OR($M$8:$Y$8=M61:Y61),"Hide","Show"),"")}
C62: Indoor air leaving dry bulb temperature (F) | L62: {=IF(SUM(ABS(M62:Y62))>0,IF(OR($M$8:$Y$8=M62:Y62),"Hide","Show"),"")}
C63: Indoor air leaving wet bulb temperature (F) | L63: {=IF(SUM(ABS(M63:Y63))>0,IF(OR($M$8:$Y$8=M63:Y63),"Hide","Show"),"")}
C64: Outdoor air entering dry bulb temperature (F) | L64: {=IF(SUM(ABS(M64:Y64))>0,IF(OR($M$8:$Y$8=M64:Y64),"Hide","Show"),"")}
C65: Outdoor air entering wet bulb temperature (F) | L65: {=IF(SUM(ABS(M65:Y65))>0,IF(OR($M$8:$Y$8=M65:Y65),"Hide","Show"),"")}
C66: Outdoor air leaving dry bulb temperature (F) | L66: {=IF(SUM(ABS(M66:Y66))>0,IF(OR($M$8:$Y$8=M66:Y66),"Hide","Show"),"")}
C67: Outdoor air leaving wet bulb temperature (F) | L67: {=IF(SUM(ABS(M67:Y67))>0,IF(OR($M$8:$Y$8=M67:Y67),"Hide","Show"),"")}
L68: {=IF(SUM(ABS(M68:Y68))>0,IF(OR($M$8:$Y$8=M68:Y68),"Hide","Show"),"")}
C69: Cooling Capacity | L69: {=IF(SUM(ABS(M69:Y69))>0,IF(OR($M$8:$Y$8=M69:Y69),"Hide","Show"),"")}
D70: Measurement | L70: {=IF(SUM(ABS(M70:Y70))>0,IF(OR($M$8:$Y$8=M70:Y70),"Hide","Show"),"")}
C71: Total cooling capacity (Btu/hr) | L71: {=IF(SUM(ABS(M71:Y71))>0,IF(OR($M$8:$Y$8=M71:Y71),"Hide","Show"),"")}
C72: Correction (if applicable) | L72: {=IF(SUM(ABS(M72:Y72))>0,IF(OR($M$8:$Y$8=M72:Y72),"Hide","Show"),"")}
C73: Corrected capacity (Btu/hr) | D73: =IF(D71+D72=0,"",D71+D72) | L73: {=IF(SUM(ABS(M73:Y73))>0,IF(OR($M$8:$Y$8=M73:Y73),"Hide","Show"),"")}
L74: {=IF(SUM(ABS(M74:Y74))>0,IF(OR($M$8:$Y$8=M74:Y74),"Hide","Show"),"")}
L75: {=IF(SUM(ABS(M75:Y75))>0,IF(OR($M$8:$Y$8=M75:Y75),"Hide","Show"),"")}
L76: {=IF(SUM(ABS(M76:Y76))>0,IF(OR($M$8:$Y$8=M76:Y76),"Hide","Show"),"")}
L77: {=IF(SUM(ABS(M77:Y77))>0,IF(OR($M$8:$Y$8=M77:Y77),"Hide","Show"),"")}
L78: {=IF(SUM(ABS(M78:Y78))>0,IF(OR($M$8:$Y$8=M78:Y78),"Hide","Show"),"")}
L79: {=IF(SUM(ABS(M79:Y79))>0,IF(OR($M$8:$Y$8=M79:Y79),"Hide","Show"),"")}
L80: {=IF(SUM(ABS(M80:Y80))>0,IF(OR($M$8:$Y$8=M80:Y80),"Hide","Show"),"")}
L81: {=IF(SUM(ABS(M81:Y81))>0,IF(OR($M$8:$Y$8=M81:Y81),"Hide","Show"),"")}
L82: {=IF(SUM(ABS(M82:Y82))>0,IF(OR($M$8:$Y$8=M82:Y82),"Hide","Show"),"")}
L83: {=IF(SUM(ABS(M83:Y83))>0,IF(OR($M$8:$Y$8=M83:Y83),"Hide","Show"),"")}
L84: {=IF(SUM(ABS(M84:Y84))>0,IF(OR($M$8:$Y$8=M84:Y84),"Hide","Show"),"")}
L85: {=IF(SUM(ABS(M85:Y85))>0,IF(OR($M$8:$Y$8=M85:Y85),"Hide","Show"),"")}
... L236: {=IF(SUM(ABS(M236:Y236))>0,IF(OR($M$8:$Y$8=M236:Y236),"Hide","Show"),"")}

Sheet Optional G1 Test
B2: Title Block
B3: Test Report Template Name: | C3: ='Version Control'!C3 -> Residential Central Air Conditioners and Heat Pumps_M1 | E3: Back to Instructions tab
B4: Version Number: | C4: ='Version Control'!C4 -> v1.1 | F4: Relevent Test | H4: Product Information
B5: Latest Template Revision: | C5: ='Version Control'!C5 -> 43668 | F5: =INDEX(TestMatrix_Data,MATCH($C$6,TestMatrix_Rows,0),MATCH($I$6&$I$7&$I$8,TestMatrix_Columns,0)) -> #N/A | H5: Product Type | I5: ='General Info and Test Results'!C25 -> 0
B6: Tab Name: | C6: =MID(CELL("filename",$A$1), FIND("]", CELL("filename", $A$1))+ 1, 255) -> Optional G1 Test | H6: Compressor Type | I6: ='General Info and Test Results'!C27 -> 0
B7: File Name: | C7: =MID(CELL("FILENAME"),FIND("[",CELL("FILENAME"))+1,FIND("]",CELL("FILENAME"))-FIND("[",CELL("FILENAME"))-1) -> Residential Central Air Conditioners and Heat Pumps_M1_Notebook.xlsx | H7: Indoor Fan Type | I7: ='General Info and Test Results'!C29 -> 0
B8: Test Completion Date: | C8: ='Version Control'!C8 -> [MM/DD/YYYY] | H8: Outdoor Fan Type | I8: =OD_FanType_Input -> 0
H9: D2
B11: =IF($F$5<>"-","'"&$F$5&" Test' Data to be recorded", "Test Not Applicable") -> #N/A
C13: Electrical Input
D14: Measurement
D15: Avg | E15: Min | F15: Max
C16: Applied voltage to outdoor unit (V)
C17: Applied voltage to indoor unit (V)
C18: Frequency (Hz) | L18: {=IF(SUM(ABS(M18:Y18))>0,IF(OR($M$8:$Y$8=M18:Y18),"Hide","Show"),"")}
C19: Line current (Amps) | L19: {=IF(SUM(ABS(M19:Y19))>0,IF(OR($M$8:$Y$8=M19:Y19),"Hide","Show"),"")}
C20: Total Indoor Unit Power (Watts) | L20: {=IF(SUM(ABS(M20:Y20))>0,IF(OR($M$8:$Y$8=M20:Y20),"Hide","Show"),"")}
C21: Total System Power (Watts) | L21: {=IF(SUM(ABS(M21:Y21))>0,IF(OR($M$8:$Y$8=M21:Y21),"Hide","Show"),"")}
L22: {=IF(SUM(ABS(M22:Y22))>0,IF(OR($M$8:$Y$8=M22:Y22),"Hide","Show"),"")}
C23: Pressure Measurements | L23: {=IF(SUM(ABS(M23:Y23))>0,IF(OR($M$8:$Y$8=M23:Y23),"Hide","Show"),"")}
D24: Measurement | L24: {=IF(SUM(ABS(M24:Y24))>0,IF(OR($M$8:$Y$8=M24:Y24),"Hide","Show"),"")}
D25: Avg | E25: Min | F25: Max | L25: {=IF(SUM(ABS(M25:Y25))>0,IF(OR($M$8:$Y$8=M25:Y25),"Hide","Show"),"")}
C26: Barometric Pressure - (in. Hg) | L26: {=IF(SUM(ABS(M26:Y26))>0,IF(OR($M$8:$Y$8=M26:Y26),"Hide","Show"),"")}
C27: Liquid Line Pressure (psig) | L27: {=IF(SUM(ABS(M27:Y27))>0,IF(OR($M$8:$Y$8=M27:Y27),"Hide","Show"),"")}
C28: Suction Pressure (psig) | L28: {=IF(SUM(ABS(M28:Y28))>0,IF(OR($M$8:$Y$8=M28:Y28),"Hide","Show"),"")}
C29: Indoor Nozzle Pressure Delta (in. WC) | L29: {=IF(SUM(ABS(M29:Y29))>0,IF(OR($M$8:$Y$8=M29:Y29),"Hide","Show"),"")}
C30: Indoor external static pressure (in. H2O) | L30: {=IF(SUM(ABS(M30:Y30))>0,IF(OR($M$8:$Y$8=M30:Y30),"Hide","Show"),"")}
L31: {=IF(SUM(ABS(M31:Y31))>0,IF(OR($M$8:$Y$8=M31:Y31),"Hide","Show"),"")}
C32: Refrigerant Measurements | L32: {=IF(SUM(ABS(M32:Y32))>0,IF(OR($M$8:$Y$8=M32:Y32),"Hide","Show"),"")}
D33: Measurement | L33: {=IF(SUM(ABS(M33:Y33))>0,IF(OR($M$8:$Y$8=M33:Y33),"Hide","Show"),"")}
D34: Avg | E34: Min | F34: Max | L34: {=IF(SUM(ABS(M34:Y34))>0,IF(OR($M$8:$Y$8=M34:Y34),"Hide","Show"),"")}
C35: Refrigerant flow rate (lb/hr) | L35: {=IF(SUM(ABS(M35:Y35))>0,IF(OR($M$8:$Y$8=M35:Y35),"Hide","Show"),"")}
C36: Saturated suction temperature (F) | L36: {=IF(SUM(ABS(M36:Y36))>0,IF(OR($M$8:$Y$8=M36:Y36),"Hide","Show"),"")}
C37: Saturated liquid temperature (F) | L37: {=IF(SUM(ABS(M37:Y37))>0,IF(OR($M$8:$Y$8=M37:Y37),"Hide","Show"),"")}
C38: Suction temperature (F) | L38: {=IF(SUM(ABS(M38:Y38))>0,IF(OR($M$8:$Y$8=M38:Y38),"Hide","Show"),"")}
C39: Liquid line temperature (F) | L39: {=IF(SUM(ABS(M39:Y39))>0,IF(OR($M$8:$Y$8=M39:Y39),"Hide","Show"),"")}
C40: Refrigerant Superheat (F) | L40: {=IF(SUM(ABS(M40:Y40))>0,IF(OR($M$8:$Y$8=M40:Y40),"Hide","Show"),"")}
C41: Refrigerant Subcooling (F) | L41: {=IF(SUM(ABS(M41:Y41))>0,IF(OR($M$8:$Y$8=M41:Y41),"Hide","Show"),"")}
C42: Entering indoor coil (F) | L42: {=IF(SUM(ABS(M42:Y42))>0,IF(OR($M$8:$Y$8=M42:Y42),"Hide","Show"),"")}
C43: Leaving indoor coil (F) | L43: {=IF(SUM(ABS(M43:Y43))>0,IF(OR($M$8:$Y$8=M43:Y43),"Hide","Show"),"")}
C44: Entering outdoor coil (F) | L44: {=IF(SUM(ABS(M44:Y44))>0,IF(OR($M$8:$Y$8=M44:Y44),"Hide","Show"),"")}
C45: Leaving outdoor coil (F) | L45: {=IF(SUM(ABS(M45:Y45))>0,IF(OR($M$8:$Y$8=M45:Y45),"Hide","Show"),"")}
L46: {=IF(SUM(ABS(M46:Y46))>0,IF(OR($M$8:$Y$8=M46:Y46),"Hide","Show"),"")}
C47: Airflow Measurements | L47: {=IF(SUM(ABS(M47:Y47))>0,IF(OR($M$8:$Y$8=M47:Y47),"Hide","Show"),"")}
D48: Measurement | L48: {=IF(SUM(ABS(M48:Y48))>0,IF(OR($M$8:$Y$8=M48:Y48),"Hide","Show"),"")}
D49: Avg | E49: Min | F49: Max | L49: {=IF(SUM(ABS(M49:Y49))>0,IF(OR($M$8:$Y$8=M49:Y49),"Hide","Show"),"")}
C50: Indoor Unit Airflow (cfm) | L50: {=IF(SUM(ABS(M50:Y50))>0,IF(OR($M$8:$Y$8=M50:Y50),"Hide","Show"),"")}
C51: Indoor Unit Standard Airflow (scfm) | L51: {=IF(SUM(ABS(M51:Y51))>0,IF(OR($M$8:$Y$8=M51:Y51),"Hide","Show"),"")}
C52: Entering enthalpy (please specify units) | L52: {=IF(SUM(ABS(M52:Y52))>0,IF(OR($M$8:$Y$8=M52:Y52),"Hide","Show"),"")}
C53: Leaving enthalpy (please specify units) | L53: {=IF(SUM(ABS(M53:Y53))>0,IF(OR($M$8:$Y$8=M53:Y53),"Hide","Show"),"")}
C54: Indoor Fan Speed (rpm) | L54: {=IF(SUM(ABS(M54:Y54))>0,IF(OR($M$8:$Y$8=M54:Y54),"Hide","Show"),"")}
L55: {=IF(SUM(ABS(M55:Y55))>0,IF(OR($M$8:$Y$8=M55:Y55),"Hide","Show"),"")}
C56: Air Temperatures | L56: {=IF(SUM(ABS(M56:Y56))>0,IF(OR($M$8:$Y$8=M56:Y56),"Hide","Show"),"")}
D57: Measurement | L57: {=IF(SUM(ABS(M57:Y57))>0,IF(OR($M$8:$Y$8=M57:Y57),"Hide","Show"),"")}
D58: Avg | E58: Min | F58: Max | L58: {=IF(SUM(ABS(M58:Y58))>0,IF(OR($M$8:$Y$8=M58:Y58),"Hide","Show"),"")}
C59: Indoor air entering dry bulb temperature (F) | L59: {=IF(SUM(ABS(M59:Y59))>0,IF(OR($M$8:$Y$8=M59:Y59),"Hide","Show"),"")}
C60: Indoor air entering wet bulb temperature (F) | L60: {=IF(SUM(ABS(M60:Y60))>0,IF(OR($M$8:$Y$8=M60:Y60),"Hide","Show"),"")}
C61: Indoor air leaving dry bulb temperature (F) | L61: {=IF(SUM(ABS(M61:Y61))>0,IF(OR($M$8:$Y$8=M61:Y61),"Hide","Show"),"")}
C62: Indoor air leaving wet bulb temperature (F) | L62: {=IF(SUM(ABS(M62:Y62))>0,IF(OR($M$8:$Y$8=M62:Y62),"Hide","Show"),"")}
C63: Outdoor air entering dry bulb temperature (F) | L63: {=IF(SUM(ABS(M63:Y63))>0,IF(OR($M$8:$Y$8=M63:Y63),"Hide","Show"),"")}
C64: Outdoor air entering wet bulb temperature (F) | L64: {=IF(SUM(ABS(M64:Y64))>0,IF(OR($M$8:$Y$8=M64:Y64),"Hide","Show"),"")}
C65: Outdoor air leaving dry bulb temperature (F) | L65: {=IF(SUM(ABS(M65:Y65))>0,IF(OR($M$8:$Y$8=M65:Y65),"Hide","Show"),"")}
C66: Outdoor air leaving wet bulb temperature (F) | L66: {=IF(SUM(ABS(M66:Y66))>0,IF(OR($M$8:$Y$8=M66:Y66),"Hide","Show"),"")}
L67: {=IF(SUM(ABS(M67:Y67))>0,IF(OR($M$8:$Y$8=M67:Y67),"Hide","Show"),"")}
C68: Cooling Capacity | L68: {=IF(SUM(ABS(M68:Y68))>0,IF(OR($M$8:$Y$8=M68:Y68),"Hide","Show"),"")}
D69: Measurement | L69: {=IF(SUM(ABS(M69:Y69))>0,IF(OR($M$8:$Y$8=M69:Y69),"Hide","Show"),"")}
C70: Total cooling capacity (Btu/hr) | L70: {=IF(SUM(ABS(M70:Y70))>0,IF(OR($M$8:$Y$8=M70:Y70),"Hide","Show"),"")}
C71: Total sensible cooling capacity (Btu/hr) | L71: {=IF(SUM(ABS(M71:Y71))>0,IF(OR($M$8:$Y$8=M71:Y71),"Hide","Show"),"")}
C72: Correction (if applicable) | L72: {=IF(SUM(ABS(M72:Y72))>0,IF(OR($M$8:$Y$8=M72:Y72),"Hide","Show"),"")}
C73: Corrected capacity (Btu/hr) | D73: =IF(D70+D72=0,"",D70+D72) | L73: {=IF(SUM(ABS(M73:Y73))>0,IF(OR($M$8:$Y$8=M73:Y73),"Hide","Show"),"")}
L74: {=IF(SUM(ABS(M74:Y74))>0,IF(OR($M$8:$Y$8=M74:Y74),"Hide","Show"),"")}
L75: {=IF(SUM(ABS(M75:Y75))>0,IF(OR($M$8:$Y$8=M75:Y75),"Hide","Show"),"")}
L76: {=IF(SUM(ABS(M76:Y76))>0,IF(OR($M$8:$Y$8=M76:Y76),"Hide","Show"),"")}
L77: {=IF(SUM(ABS(M77:Y77))>0,IF(OR($M$8:$Y$8=M77:Y77),"Hide","Show"),"")}
L78: {=IF(SUM(ABS(M78:Y78))>0,IF(OR($M$8:$Y$8=M78:Y78),"Hide","Show"),"")}
L79: {=IF(SUM(ABS(M79:Y79))>0,IF(OR($M$8:$Y$8=M79:Y79),"Hide","Show"),"")}
L80: {=IF(SUM(ABS(M80:Y80))>0,IF(OR($M$8:$Y$8=M80:Y80),"Hide","Show"),"")}
L81: {=IF(SUM(ABS(M81:Y81))>0,IF(OR($M$8:$Y$8=M81:Y81),"Hide","Show"),"")}
L82: {=IF(SUM(ABS(M82:Y82))>0,IF(OR($M$8:$Y$8=M82:Y82),"Hide","Show"),"")}
L83: {=IF(SUM(ABS(M83:Y83))>0,IF(OR($M$8:$Y$8=M83:Y83),"Hide","Show"),"")}
L84: {=IF(SUM(ABS(M84:Y84))>0,IF(OR($M$8:$Y$8=M84:Y84),"Hide","Show"),"")}
L85: {=IF(SUM(ABS(M85:Y85))>0,IF(OR($M$8:$Y$8=M85:Y85),"Hide","Show"),"")}
... L233: {=IF(SUM(ABS(M233:Y233))>0,IF(OR($M$8:$Y$8=M233:Y233),"Hide","Show"),"")}

Sheet Optional I1 Test
B2: Title Block | E2: Back to Instructions tab
B3: Test Report Template Name: | C3: ='Version Control'!C3 -> Residential Central Air Conditioners and Heat Pumps_M1
B4: Version Number: | C4: ='Version Control'!C4 -> v1.1 | F4: Relevent Test | H4: Product Information
B5: Latest Template Revision: | C5: ='Version Control'!C5 -> 43668 | F5: =INDEX(TestMatrix_Data,MATCH($C$6,TestMatrix_Rows,0),MATCH($I$6&$I$7&$I$8,TestMatrix_Columns,0)) -> #N/A | H5: Product Type | I5: ='General Info and Test Results'!C25 -> 0
B6: Tab Name: | C6: =MID(CELL("filename",$A$1), FIND("]", CELL("filename", $A$1))+ 1, 255) -> Optional I1 Test | H6: Compressor Type | I6: ='General Info and Test Results'!C27 -> 0
B7: File Name: | C7: =MID(CELL("FILENAME"),FIND("[",CELL("FILENAME"))+1,FIND("]",CELL("FILENAME"))-FIND("[",CELL("FILENAME"))-1) -> Residential Central Air Conditioners and Heat Pumps_M1_Notebook.xlsx | H7: Indoor Fan Type | I7: ='General Info and Test Results'!C29 -> 0
B8: Test Completion Date: | C8: ='Version Control'!C8 -> [MM/DD/YYYY] | H8: Outdoor Fan Type | I8: =OD_FanType_Input -> 0
H9: D2
B11: =IF($F$5<>"-","'"&$F$5&" Test' Data to be recorded", "Test Not Applicable") -> #N/A
C13: Duration of the OFF/ON intervals (hours)
C14: Was the certified fan time delay used?
C16: Electrical Input
D17: Measurement | L17: {=IF(SUM(ABS(M17:Y17))>0,IF(OR($M$8:$Y$8=M17:Y17),"Hide","Show"),"")}
D18: Avg | E18: Min | F18: Max | L18: {=IF(SUM(ABS(M18:Y18))>0,IF(OR($M$8:$Y$8=M18:Y18),"Hide","Show"),"")}
C19: Applied voltage to outdoor unit (V) | L19: {=IF(SUM(ABS(M19:Y19))>0,IF(OR($M$8:$Y$8=M19:Y19),"Hide","Show"),"")}
C20: Applied voltage to indoor unit (V) | L20: {=IF(SUM(ABS(M20:Y20))>0,IF(OR($M$8:$Y$8=M20:Y20),"Hide","Show"),"")}
C21: Frequency (Hz) | L21: {=IF(SUM(ABS(M21:Y21))>0,IF(OR($M$8:$Y$8=M21:Y21),"Hide","Show"),"")}
C22: Line current (Amps) | L22: {=IF(SUM(ABS(M22:Y22))>0,IF(OR($M$8:$Y$8=M22:Y22),"Hide","Show"),"")}
D23: Total Measurement | L23: {=IF(SUM(ABS(M23:Y23))>0,IF(OR($M$8:$Y$8=M23:Y23),"Hide","Show"),"")}
C24: Total Indoor Unit Energy (Watts-hours) | L24: {=IF(SUM(ABS(M24:Y24))>0,IF(OR($M$8:$Y$8=M24:Y24),"Hide","Show"),"")}
C25: Total System Energy (Ecycdry in watts-hours, see Appendix M sections 3.5.h and 3.5.i) | L25: {=IF(SUM(ABS(M25:Y25))>0,IF(OR($M$8:$Y$8=M25:Y25),"Hide","Show"),"")}
L26: {=IF(SUM(ABS(M26:Y26))>0,IF(OR($M$8:$Y$8=M26:Y26),"Hide","Show"),"")}
C27: Pressure Measurements | L27: {=IF(SUM(ABS(M27:Y27))>0,IF(OR($M$8:$Y$8=M27:Y27),"Hide","Show"),"")}
D28: Measurement | L28: {=IF(SUM(ABS(M28:Y28))>0,IF(OR($M$8:$Y$8=M28:Y28),"Hide","Show"),"")}
D29: Avg | E29: Min | F29: Max | L29: {=IF(SUM(ABS(M29:Y29))>0,IF(OR($M$8:$Y$8=M29:Y29),"Hide","Show"),"")}
C30: Barometric Pressure - (in. Hg) | L30: {=IF(SUM(ABS(M30:Y30))>0,IF(OR($M$8:$Y$8=M30:Y30),"Hide","Show"),"")}
C31: Liquid Line Pressure (psig) | L31: {=IF(SUM(ABS(M31:Y31))>0,IF(OR($M$8:$Y$8=M31:Y31),"Hide","Show"),"")}
C32: Suction Pressure (psig) | L32: {=IF(SUM(ABS(M32:Y32))>0,IF(OR($M$8:$Y$8=M32:Y32),"Hide","Show"),"")}
C33: Indoor Nozzle Pressure Delta (in. WC) | L33: {=IF(SUM(ABS(M33:Y33))>0,IF(OR($M$8:$Y$8=M33:Y33),"Hide","Show"),"")}
C34: Indoor external static pressure (in. H2O) | L34: {=IF(SUM(ABS(M34:Y34))>0,IF(OR($M$8:$Y$8=M34:Y34),"Hide","Show"),"")}
L35: {=IF(SUM(ABS(M35:Y35))>0,IF(OR($M$8:$Y$8=M35:Y35),"Hide","Show"),"")}
C36: Refrigerant Measurements | L36: {=IF(SUM(ABS(M36:Y36))>0,IF(OR($M$8:$Y$8=M36:Y36),"Hide","Show"),"")}
D37: Measurement | L37: {=IF(SUM(ABS(M37:Y37))>0,IF(OR($M$8:$Y$8=M37:Y37),"Hide","Show"),"")}
D38: Avg | E38: Min | F38: Max | L38: {=IF(SUM(ABS(M38:Y38))>0,IF(OR($M$8:$Y$8=M38:Y38),"Hide","Show"),"")}
C39: Refrigerant flow rate (lb/hr) | L39: {=IF(SUM(ABS(M39:Y39))>0,IF(OR($M$8:$Y$8=M39:Y39),"Hide","Show"),"")}
C40: Saturated suction temperature (F) | L40: {=IF(SUM(ABS(M40:Y40))>0,IF(OR($M$8:$Y$8=M40:Y40),"Hide","Show"),"")}
C41: Saturated liquid temperature (F) | L41: {=IF(SUM(ABS(M41:Y41))>0,IF(OR($M$8:$Y$8=M41:Y41),"Hide","Show"),"")}
C42: Suction temperature (F) | L42: {=IF(SUM(ABS(M42:Y42))>0,IF(OR($M$8:$Y$8=M42:Y42),"Hide","Show"),"")}
C43: Liquid line temperature (F) | L43: {=IF(SUM(ABS(M43:Y43))>0,IF(OR($M$8:$Y$8=M43:Y43),"Hide","Show"),"")}
C44: Refrigerant Superheat (F) | L44: {=IF(SUM(ABS(M44:Y44))>0,IF(OR($M$8:$Y$8=M44:Y44),"Hide","Show"),"")}
C45: Refrigerant Subcooling (F) | L45: {=IF(SUM(ABS(M45:Y45))>0,IF(OR($M$8:$Y$8=M45:Y45),"Hide","Show"),"")}
C46: Entering indoor coil (F) | L46: {=IF(SUM(ABS(M46:Y46))>0,IF(OR($M$8:$Y$8=M46:Y46),"Hide","Show"),"")}
C47: Leaving indoor coil (F) | L47: {=IF(SUM(ABS(M47:Y47))>0,IF(OR($M$8:$Y$8=M47:Y47),"Hide","Show"),"")}
C48: Entering outdoor coil (F) | L48: {=IF(SUM(ABS(M48:Y48))>0,IF(OR($M$8:$Y$8=M48:Y48),"Hide","Show"),"")}
C49: Leaving outdoor coil (F) | L49: {=IF(SUM(ABS(M49:Y49))>0,IF(OR($M$8:$Y$8=M49:Y49),"Hide","Show"),"")}
L50: {=IF(SUM(ABS(M50:Y50))>0,IF(OR($M$8:$Y$8=M50:Y50),"Hide","Show"),"")}
C51: Airflow Measurements | L51: {=IF(SUM(ABS(M51:Y51))>0,IF(OR($M$8:$Y$8=M51:Y51),"Hide","Show"),"")}
D52: Measurement | L52: {=IF(SUM(ABS(M52:Y52))>0,IF(OR($M$8:$Y$8=M52:Y52),"Hide","Show"),"")}
D53: Avg | E53: Min | F53: Max | L53: {=IF(SUM(ABS(M53:Y53))>0,IF(OR($M$8:$Y$8=M53:Y53),"Hide","Show"),"")}
C54: Indoor Unit Airflow (cfm) | L54: {=IF(SUM(ABS(M54:Y54))>0,IF(OR($M$8:$Y$8=M54:Y54),"Hide","Show"),"")}
C55: Indoor Unit Standard Airflow (scfm) | L55: {=IF(SUM(ABS(M55:Y55))>0,IF(OR($M$8:$Y$8=M55:Y55),"Hide","Show"),"")}
C56: Entering enthalpy (please specify units) | L56: {=IF(SUM(ABS(M56:Y56))>0,IF(OR($M$8:$Y$8=M56:Y56),"Hide","Show"),"")}
C57: Leaving enthalpy (please specify units) | L57: {=IF(SUM(ABS(M57:Y57))>0,IF(OR($M$8:$Y$8=M57:Y57),"Hide","Show"),"")}
C58: Indoor Fan Speed (rpm) | L58: {=IF(SUM(ABS(M58:Y58))>0,IF(OR($M$8:$Y$8=M58:Y58),"Hide","Show"),"")}
L59: {=IF(SUM(ABS(M59:Y59))>0,IF(OR($M$8:$Y$8=M59:Y59),"Hide","Show"),"")}
C60: Air Temperatures | L60: {=IF(SUM(ABS(M60:Y60))>0,IF(OR($M$8:$Y$8=M60:Y60),"Hide","Show"),"")}
D61: Measurement | L61: {=IF(SUM(ABS(M61:Y61))>0,IF(OR($M$8:$Y$8=M61:Y61),"Hide","Show"),"")}
D62: Avg | E62: Min | F62: Max | L62: {=IF(SUM(ABS(M62:Y62))>0,IF(OR($M$8:$Y$8=M62:Y62),"Hide","Show"),"")}
C63: Indoor air entering dry bulb temperature (F) | L63: {=IF(SUM(ABS(M63:Y63))>0,IF(OR($M$8:$Y$8=M63:Y63),"Hide","Show"),"")}
C64: Indoor air entering wet bulb temperature (F) | L64: {=IF(SUM(ABS(M64:Y64))>0,IF(OR($M$8:$Y$8=M64:Y64),"Hide","Show"),"")}
C65: Indoor air leaving dry bulb temperature (F) | L65: {=IF(SUM(ABS(M65:Y65))>0,IF(OR($M$8:$Y$8=M65:Y65),"Hide","Show"),"")}
C66: Indoor air leaving wet bulb temperature (F) | L66: {=IF(SUM(ABS(M66:Y66))>0,IF(OR($M$8:$Y$8=M66:Y66),"Hide","Show"),"")}
C67: Outdoor air entering dry bulb temperature (F) | L67: {=IF(SUM(ABS(M67:Y67))>0,IF(OR($M$8:$Y$8=M67:Y67),"Hide","Show"),"")}
C68: Outdoor air entering wet bulb temperature (F) | L68: {=IF(SUM(ABS(M68:Y68))>0,IF(OR($M$8:$Y$8=M68:Y68),"Hide","Show"),"")}
C69: Outdoor air leaving dry bulb temperature (F) | L69: {=IF(SUM(ABS(M69:Y69))>0,IF(OR($M$8:$Y$8=M69:Y69),"Hide","Show"),"")}
C70: Outdoor air leaving wet bulb temperature (F) | L70: {=IF(SUM(ABS(M70:Y70))>0,IF(OR($M$8:$Y$8=M70:Y70),"Hide","Show"),"")}
L71: {=IF(SUM(ABS(M71:Y71))>0,IF(OR($M$8:$Y$8=M71:Y71),"Hide","Show"),"")}
C72: Cooling Capacity | L72: {=IF(SUM(ABS(M72:Y72))>0,IF(OR($M$8:$Y$8=M72:Y72),"Hide","Show"),"")}
D73: Measurement | L73: {=IF(SUM(ABS(M73:Y73))>0,IF(OR($M$8:$Y$8=M73:Y73),"Hide","Show"),"")}
C74: Total cooling capacity (Btu/hr) | L74: {=IF(SUM(ABS(M74:Y74))>0,IF(OR($M$8:$Y$8=M74:Y74),"Hide","Show"),"")}
C75: Total sensible cooling capacity (Btu/hr) | L75: {=IF(SUM(ABS(M75:Y75))>0,IF(OR($M$8:$Y$8=M75:Y75),"Hide","Show"),"")}
C76: Correction (if applicable) | L76: {=IF(SUM(ABS(M76:Y76))>0,IF(OR($M$8:$Y$8=M76:Y76),"Hide","Show"),"")}
C77: Corrected capacity (Btu/hr) | D77: =IF(D74+D76=0,"",D74+D76) | L77: {=IF(SUM(ABS(M77:Y77))>0,IF(OR($M$8:$Y$8=M77:Y77),"Hide","Show"),"")}
L78: {=IF(SUM(ABS(M78:Y78))>0,IF(OR($M$8:$Y$8=M78:Y78),"Hide","Show"),"")}
L79: {=IF(SUM(ABS(M79:Y79))>0,IF(OR($M$8:$Y$8=M79:Y79),"Hide","Show"),"")}
L80: {=IF(SUM(ABS(M80:Y80))>0,IF(OR($M$8:$Y$8=M80:Y80),"Hide","Show"),"")}
L81: {=IF(SUM(ABS(M81:Y81))>0,IF(OR($M$8:$Y$8=M81:Y81),"Hide","Show"),"")}
L82: {=IF(SUM(ABS(M82:Y82))>0,IF(OR($M$8:$Y$8=M82:Y82),"Hide","Show"),"")}
L83: {=IF(SUM(ABS(M83:Y83))>0,IF(OR($M$8:$Y$8=M83:Y83),"Hide","Show"),"")}
L84: {=IF(SUM(ABS(M84:Y84))>0,IF(OR($M$8:$Y$8=M84:Y84),"Hide","Show"),"")}
L85: {=IF(SUM(ABS(M85:Y85))>0,IF(OR($M$8:$Y$8=M85:Y85),"Hide","Show"),"")}
L86: {=IF(SUM(ABS(M86:Y86))>0,IF(OR($M$8:$Y$8=M86:Y86),"Hide","Show"),"")}
L87: {=IF(SUM(ABS(M87:Y87))>0,IF(OR($M$8:$Y$8=M87:Y87),"Hide","Show"),"")}
L88: {=IF(SUM(ABS(M88:Y88))>0,IF(OR($M$8:$Y$8=M88:Y88),"Hide","Show"),"")}
L89: {=IF(SUM(ABS(M89:Y89))>0,IF(OR($M$8:$Y$8=M89:Y89),"Hide","Show"),"")}
... L310: {=IF(SUM(ABS(M310:Y310))>0,IF(OR($M$8:$Y$8=M310:Y310),"Hide","Show"),"")}

Sheet H0-1 Test
B2: Title Block | E2: Back to Instructions tab
B3: Test Report Template Name: | C3: ='Version Control'!C3 -> Residential Central Air Conditioners and Heat Pumps_M1
B4: Version Number: | C4: ='Version Control'!C4 -> v1.1 | E4: Relevant Test | H4: Product Information
B5: Latest Template Revision: | C5: ='Version Control'!C5 -> 43668 | E5: Only Test | F5: =IF(Product_Type_Input=INDEX(Product_Types,1),"-",INDEX(TestMatrix_Data,MATCH($C$6,TestMatrix_Rows,0),MATCH($I$6&$I$7&$I$8,TestMatrix_Columns,0))) -> #N/A | H5: Product Type | I5: ='General Info and Test Results'!C25 -> 0
B6: Tab Name: | C6: =MID(CELL("filename",$A$1), FIND("]", CELL("filename", $A$1))+ 1, 255) -> H0-1 Test | H6: Compressor Type | I6: ='General Info and Test Results'!C27 -> 0
B7: File Name: | C7: =MID(CELL("FILENAME"),FIND("[",CELL("FILENAME"))+1,FIND("]",CELL("FILENAME"))-FIND("[",CELL("FILENAME"))-1) -> Residential Central Air Conditioners and Heat Pumps_M1_Notebook.xlsx | H7: Indoor Fan Type | I7: ='General Info and Test Results'!C29 -> 0
B8: Test Completion Date: | C8: ='Version Control'!C8 -> [MM/DD/YYYY] | H8: Outdoor Fan Type | I8: =OD_FanType_Input -> 0
C10: Has chamber been at equilibrium for the minimum 30 minutes?
B12: =IF($F$5<>"-","'"&$F$5&" Test' Data to be recorded", "Test Not Applicable") -> #N/A
C14: Electrical Input
D15: Measurement
D16: Avg | E16: Min | F16: Max
C17: Applied voltage to outdoor unit (V) | L17: {=IF(SUM(ABS(M17:Y17))>0,IF(OR($M$8:$Y$8=M17:Y17),"Hide","Show"),"")}
C18: Applied voltage to indoor unit (V) | L18: {=IF(SUM(ABS(M18:Y18))>0,IF(OR($M$8:$Y$8=M18:Y18),"Hide","Show"),"")}
C19: Frequency (Hz) | L19: {=IF(SUM(ABS(M19:Y19))>0,IF(OR($M$8:$Y$8=M19:Y19),"Hide","Show"),"")}
C20: Line current (Amps) | L20: {=IF(SUM(ABS(M20:Y20))>0,IF(OR($M$8:$Y$8=M20:Y20),"Hide","Show"),"")}
C21: Total Indoor Unit Power (Watts) | L21: {=IF(SUM(ABS(M21:Y21))>0,IF(OR($M$8:$Y$8=M21:Y21),"Hide","Show"),"")}
C22: Compressor Speed (RPM/Hz)
C23: Total System Power (Watts) | L23: {=IF(SUM(ABS(M23:Y23))>0,IF(OR($M$8:$Y$8=M23:Y23),"Hide","Show"),"")}
L24: {=IF(SUM(ABS(M24:Y24))>0,IF(OR($M$8:$Y$8=M24:Y24),"Hide","Show"),"")}
C25: Pressure Measurements | L25: {=IF(SUM(ABS(M25:Y25))>0,IF(OR($M$8:$Y$8=M25:Y25),"Hide","Show"),"")}
D26: Measurement | L26: {=IF(SUM(ABS(M26:Y26))>0,IF(OR($M$8:$Y$8=M26:Y26),"Hide","Show"),"")}
D27: Avg | E27: Min | F27: Max | L27: {=IF(SUM(ABS(M27:Y27))>0,IF(OR($M$8:$Y$8=M27:Y27),"Hide","Show"),"")}
C28: Barometric Pressure - (in. Hg) | L28: {=IF(SUM(ABS(M28:Y28))>0,IF(OR($M$8:$Y$8=M28:Y28),"Hide","Show"),"")}
C29: Liquid Line Pressure (psig) | L29: {=IF(SUM(ABS(M29:Y29))>0,IF(OR($M$8:$Y$8=M29:Y29),"Hide","Show"),"")}
C30: Suction Pressure (psig) | L30: {=IF(SUM(ABS(M30:Y30))>0,IF(OR($M$8:$Y$8=M30:Y30),"Hide","Show"),"")}
C31: Indoor Nozzle Pressure Delta (in. WC) | L31: {=IF(SUM(ABS(M31:Y31))>0,IF(OR($M$8:$Y$8=M31:Y31),"Hide","Show"),"")}
C32: Indoor external static pressure (in. H2O) | L32: {=IF(SUM(ABS(M32:Y32))>0,IF(OR($M$8:$Y$8=M32:Y32),"Hide","Show"),"")}
L33: {=IF(SUM(ABS(M33:Y33))>0,IF(OR($M$8:$Y$8=M33:Y33),"Hide","Show"),"")}
C34: Refrigerant Measurements | L34: {=IF(SUM(ABS(M34:Y34))>0,IF(OR($M$8:$Y$8=M34:Y34),"Hide","Show"),"")}
D35: Measurement | L35: {=IF(SUM(ABS(M35:Y35))>0,IF(OR($M$8:$Y$8=M35:Y35),"Hide","Show"),"")}
D36: Avg | E36: Min | F36: Max | L36: {=IF(SUM(ABS(M36:Y36))>0,IF(OR($M$8:$Y$8=M36:Y36),"Hide","Show"),"")}
C37: Refrigerant flow rate (lb/hr) | L37: {=IF(SUM(ABS(M37:Y37))>0,IF(OR($M$8:$Y$8=M37:Y37),"Hide","Show"),"")}
C38: Saturated suction temperature (F) | L38: {=IF(SUM(ABS(M38:Y38))>0,IF(OR($M$8:$Y$8=M38:Y38),"Hide","Show"),"")}
C39: Saturated liquid temperature (F) | L39: {=IF(SUM(ABS(M39:Y39))>0,IF(OR($M$8:$Y$8=M39:Y39),"Hide","Show"),"")}
C40: Suction temperature (F) | L40: {=IF(SUM(ABS(M40:Y40))>0,IF(OR($M$8:$Y$8=M40:Y40),"Hide","Show"),"")}
C41: Liquid line temperature (F) | L41: {=IF(SUM(ABS(M41:Y41))>0,IF(OR($M$8:$Y$8=M41:Y41),"Hide","Show"),"")}
C42: Refrigerant Superheat (F) | L42: {=IF(SUM(ABS(M42:Y42))>0,IF(OR($M$8:$Y$8=M42:Y42),"Hide","Show"),"")}
C43: Refrigerant Subcooling (F) | L43: {=IF(SUM(ABS(M43:Y43))>0,IF(OR($M$8:$Y$8=M43:Y43),"Hide","Show"),"")}
C44: Entering indoor coil (F) | L44: {=IF(SUM(ABS(M44:Y44))>0,IF(OR($M$8:$Y$8=M44:Y44),"Hide","Show"),"")}
C45: Leaving indoor coil (F) | L45: {=IF(SUM(ABS(M45:Y45))>0,IF(OR($M$8:$Y$8=M45:Y45),"Hide","Show"),"")}
C46: Entering outdoor coil (F) | L46: {=IF(SUM(ABS(M46:Y46))>0,IF(OR($M$8:$Y$8=M46:Y46),"Hide","Show"),"")}
C47: Leaving outdoor coil (F) | L47: {=IF(SUM(ABS(M47:Y47))>0,IF(OR($M$8:$Y$8=M47:Y47),"Hide","Show"),"")}
L48: {=IF(SUM(ABS(M48:Y48))>0,IF(OR($M$8:$Y$8=M48:Y48),"Hide","Show"),"")}
C49: Airflow Measurements | L49: {=IF(SUM(ABS(M49:Y49))>0,IF(OR($M$8:$Y$8=M49:Y49),"Hide","Show"),"")}
D50: Measurement | L50: {=IF(SUM(ABS(M50:Y50))>0,IF(OR($M$8:$Y$8=M50:Y50),"Hide","Show"),"")}
D51: Avg | E51: Min | F51: Max | L51: {=IF(SUM(ABS(M51:Y51))>0,IF(OR($M$8:$Y$8=M51:Y51),"Hide","Show"),"")}
C52: Indoor Unit Airflow (cfm) | L52: {=IF(SUM(ABS(M52:Y52))>0,IF(OR($M$8:$Y$8=M52:Y52),"Hide","Show"),"")}
C53: Indoor Unit Standard Airflow (scfm) | L53: {=IF(SUM(ABS(M53:Y53))>0,IF(OR($M$8:$Y$8=M53:Y53),"Hide","Show"),"")}
C54: Entering enthalpy (please specify units) | L54: {=IF(SUM(ABS(M54:Y54))>0,IF(OR($M$8:$Y$8=M54:Y54),"Hide","Show"),"")}
C55: Leaving enthalpy (please specify units) | L55: {=IF(SUM(ABS(M55:Y55))>0,IF(OR($M$8:$Y$8=M55:Y55),"Hide","Show"),"")}
C56: Indoor Fan Speed (rpm) | L56: {=IF(SUM(ABS(M56:Y56))>0,IF(OR($M$8:$Y$8=M56:Y56),"Hide","Show"),"")}
L57: {=IF(SUM(ABS(M57:Y57))>0,IF(OR($M$8:$Y$8=M57:Y57),"Hide","Show"),"")}
C58: Air Temperatures | L58: {=IF(SUM(ABS(M58:Y58))>0,IF(OR($M$8:$Y$8=M58:Y58),"Hide","Show"),"")}
D59: Measurement | L59: {=IF(SUM(ABS(M59:Y59))>0,IF(OR($M$8:$Y$8=M59:Y59),"Hide","Show"),"")}
D60: Avg | E60: Min | F60: Max | L60: {=IF(SUM(ABS(M60:Y60))>0,IF(OR($M$8:$Y$8=M60:Y60),"Hide","Show"),"")}
C61: Indoor air entering dry bulb temperature (F) | L61: {=IF(SUM(ABS(M61:Y61))>0,IF(OR($M$8:$Y$8=M61:Y61),"Hide","Show"),"")}
C62: Indoor air entering wet bulb temperature (F) | L62: {=IF(SUM(ABS(M62:Y62))>0,IF(OR($M$8:$Y$8=M62:Y62),"Hide","Show"),"")}
C63: Indoor air leaving dry bulb temperature (F) | L63: {=IF(SUM(ABS(M63:Y63))>0,IF(OR($M$8:$Y$8=M63:Y63),"Hide","Show"),"")}
C64: Indoor air leaving wet bulb temperature (F) | L64: {=IF(SUM(ABS(M64:Y64))>0,IF(OR($M$8:$Y$8=M64:Y64),"Hide","Show"),"")}
C65: Outdoor air entering dry bulb temperature (F) | L65: {=IF(SUM(ABS(M65:Y65))>0,IF(OR($M$8:$Y$8=M65:Y65),"Hide","Show"),"")}
C66: Outdoor air entering wet bulb temperature (F) | L66: {=IF(SUM(ABS(M66:Y66))>0,IF(OR($M$8:$Y$8=M66:Y66),"Hide","Show"),"")}
C67: Outdoor air leaving dry bulb temperature (F) | L67: {=IF(SUM(ABS(M67:Y67))>0,IF(OR($M$8:$Y$8=M67:Y67),"Hide","Show"),"")}
C68: Outdoor air leaving wet bulb temperature (F) | L68: {=IF(SUM(ABS(M68:Y68))>0,IF(OR($M$8:$Y$8=M68:Y68),"Hide","Show"),"")}
L69: {=IF(SUM(ABS(M69:Y69))>0,IF(OR($M$8:$Y$8=M69:Y69),"Hide","Show"),"")}
C70: Heating Capacity | L70: {=IF(SUM(ABS(M70:Y70))>0,IF(OR($M$8:$Y$8=M70:Y70),"Hide","Show"),"")}
D71: Measurement | L71: {=IF(SUM(ABS(M71:Y71))>0,IF(OR($M$8:$Y$8=M71:Y71),"Hide","Show"),"")}
C72: Total heating capacity (Btu/hr) | L72: {=IF(SUM(ABS(M72:Y72))>0,IF(OR($M$8:$Y$8=M72:Y72),"Hide","Show"),"")}
C73: Correction (if applicable) | L73: {=IF(SUM(ABS(M73:Y73))>0,IF(OR($M$8:$Y$8=M73:Y73),"Hide","Show"),"")}
C74: Corrected capacity (Btu/hr) | D74: =IF(D72+D73=0,"",D72+D73) | L74: {=IF(SUM(ABS(M74:Y74))>0,IF(OR($M$8:$Y$8=M74:Y74),"Hide","Show"),"")}
L75: {=IF(SUM(ABS(M75:Y75))>0,IF(OR($M$8:$Y$8=M75:Y75),"Hide","Show"),"")}
L76: {=IF(SUM(ABS(M76:Y76))>0,IF(OR($M$8:$Y$8=M76:Y76),"Hide","Show"),"")}
L77: {=IF(SUM(ABS(M77:Y77))>0,IF(OR($M$8:$Y$8=M77:Y77),"Hide","Show"),"")}
L78: {=IF(SUM(ABS(M78:Y78))>0,IF(OR($M$8:$Y$8=M78:Y78),"Hide","Show"),"")}
L79: {=IF(SUM(ABS(M79:Y79))>0,IF(OR($M$8:$Y$8=M79:Y79),"Hide","Show"),"")}
L80: {=IF(SUM(ABS(M80:Y80))>0,IF(OR($M$8:$Y$8=M80:Y80),"Hide","Show"),"")}
L81: {=IF(SUM(ABS(M81:Y81))>0,IF(OR($M$8:$Y$8=M81:Y81),"Hide","Show"),"")}
L82: {=IF(SUM(ABS(M82:Y82))>0,IF(OR($M$8:$Y$8=M82:Y82),"Hide","Show"),"")}
L83: {=IF(SUM(ABS(M83:Y83))>0,IF(OR($M$8:$Y$8=M83:Y83),"Hide","Show"),"")}
L84: {=IF(SUM(ABS(M84:Y84))>0,IF(OR($M$8:$Y$8=M84:Y84),"Hide","Show"),"")}
L85: {=IF(SUM(ABS(M85:Y85))>0,IF(OR($M$8:$Y$8=M85:Y85),"Hide","Show"),"")}
L86: {=IF(SUM(ABS(M86:Y86))>0,IF(OR($M$8:$Y$8=M86:Y86),"Hide","Show"),"")}
... L237: {=IF(SUM(ABS(M237:Y237))>0,IF(OR($M$8:$Y$8=M237:Y237),"Hide","Show"),"")}

Sheet H1 Tests
B2: Title Block | E2: Back to Instructions tab
B3: Test Report Template Name: | C3: ='Version Control'!C3 -> Residential Central Air Conditioners and Heat Pumps_M1
B4: Version Number: | C4: ='Version Control'!C4 -> v1.1 | E4: Relevent Tests | H4: Product Information
B5: Latest Template Revision: | C5: ='Version Control'!C5 -> 43668 | E5: 1st Test | F5: =IF(Product_Type_Input=INDEX(Product_Types,1),"-",INDEX(TestMatrix_Data,MATCH($C$6&$E5,TestMatrix_Rows,0),MATCH($I$6&$I$7&$I$8,TestMatrix_Columns,0))) -> #N/A | H5: Product Type | I5: ='General Info and Test Results'!C25 -> 0
B6: Tab Name: | C6: =MID(CELL("filename",$A$1), FIND("]", CELL("filename", $A$1))+ 1, 255) -> H1 Tests | E6: 2nd Test | F6: =IF(Product_Type_Input=INDEX(Product_Types,1),"-",INDEX(TestMatrix_Data,MATCH($C$6&$E6,TestMatrix_Rows,0),MATCH($I$6&$I$7&$I$8,TestMatrix_Columns,0))) -> #N/A | H6: Compressor Type | I6: ='General Info and Test Results'!C27 -> 0
B7: File Name: | C7: =MID(CELL("FILENAME"),FIND("[",CELL("FILENAME"))+1,FIND("]",CELL("FILENAME"))-FIND("[",CELL("FILENAME"))-1) -> Residential Central Air Conditioners and Heat Pumps_M1_Notebook.xlsx | E7: 3rd Test | F7: =IF(OR(D11="Yes",D12="No"),"-",IF(Product_Type_Input=INDEX(Product_Types,1),"-",INDEX(TestMatrix_Data,MATCH($C$6&$E7,TestMatrix_Rows,0),MATCH($I$6&$I$7&$I$8,TestMatrix_Columns,0)))) -> #N/A | H7: Indoor Fan Type | I7: ='General Info and Test Results'!C29 -> 0
B8: Test Completion Date: | C8: ='Version Control'!C8 -> [MM/DD/YYYY] | H8: Outdoor Fan Type | I8: =OD_FanType_Input -> 0
C10: For each test, has the chamber been at equilibrium for the minimum 30 minutes?
C11: Is Comp speed of H1-N test same as that of H1-2/H2-2/H3-2 tests ?
C12: Was the optional H1-2 test conducted ?
B14: =IF(H14="Yes","FREE OUTDOOR AIR TESTS","") | F14: Was the outdoor air enthalpy used as a secondary test method? | H14: =IF(OR($D$154=INDEX(Secondary_Test_Methods,1),$D$79=INDEX(Secondary_Test_Methods,1)),"Yes","No") -> No
B16: =IF($F$5<>"-","'"&$F$5&" Test' Data to be recorded", "Test Not Applicable") -> #N/A
L17: {=IF(SUM(ABS(M17:Y17))>0,IF(OR($M$8:$Y$8=M17:Y17),"Hide","Show"),"")}
C18: Electrical Input | L18: {=IF(SUM(ABS(M18:Y18))>0,IF(OR($M$8:$Y$8=M18:Y18),"Hide","Show"),"")}
D19: Measurement | L19: {=IF(SUM(ABS(M19:Y19))>0,IF(OR($M$8:$Y$8=M19:Y19),"Hide","Show"),"")}
D20: Avg | E20: Min | F20: Max | L20: {=IF(SUM(ABS(M20:Y20))>0,IF(OR($M$8:$Y$8=M20:Y20),"Hide","Show"),"")}
C21: Applied voltage to outdoor unit (V) | L21: {=IF(SUM(ABS(M21:Y21))>0,IF(OR($M$8:$Y$8=M21:Y21),"Hide","Show"),"")}
C22: Applied voltage to indoor unit (V) | L22: {=IF(SUM(ABS(M22:Y22))>0,IF(OR($M$8:$Y$8=M22:Y22),"Hide","Show"),"")}
C23: Frequency (Hz) | L23: {=IF(SUM(ABS(M23:Y23))>0,IF(OR($M$8:$Y$8=M23:Y23),"Hide","Show"),"")}
C24: Line current (Amps) | L24: {=IF(SUM(ABS(M24:Y24))>0,IF(OR($M$8:$Y$8=M24:Y24),"Hide","Show"),"")}
C25: Total Indoor Unit Power (Watts) | L25: {=IF(SUM(ABS(M25:Y25))>0,IF(OR($M$8:$Y$8=M25:Y25),"Hide","Show"),"")}
C26: Compressor Speed (RPM/Hz)
C27: Total System Power (Watts) | L27: {=IF(SUM(ABS(M27:Y27))>0,IF(OR($M$8:$Y$8=M27:Y27),"Hide","Show"),"")}
L28: {=IF(SUM(ABS(M28:Y28))>0,IF(OR($M$8:$Y$8=M28:Y28),"Hide","Show"),"")}
C29: Pressure Measurements | L29: {=IF(SUM(ABS(M29:Y29))>0,IF(OR($M$8:$Y$8=M29:Y29),"Hide","Show"),"")}
D30: Measurement | L30: {=IF(SUM(ABS(M30:Y30))>0,IF(OR($M$8:$Y$8=M30:Y30),"Hide","Show"),"")}
D31: Avg | E31: Min | F31: Max | L31: {=IF(SUM(ABS(M31:Y31))>0,IF(OR($M$8:$Y$8=M31:Y31),"Hide","Show"),"")}
C32: Barometric Pressure - (in. Hg) | L32: {=IF(SUM(ABS(M32:Y32))>0,IF(OR($M$8:$Y$8=M32:Y32),"Hide","Show"),"")}
C33: Liquid Line Pressure (psig) | L33: {=IF(SUM(ABS(M33:Y33))>0,IF(OR($M$8:$Y$8=M33:Y33),"Hide","Show"),"")}
C34: Suction Pressure (psig) | L34: {=IF(SUM(ABS(M34:Y34))>0,IF(OR($M$8:$Y$8=M34:Y34),"Hide","Show"),"")}
C35: Indoor Nozzle Pressure Delta (in. WC) | L35: {=IF(SUM(ABS(M35:Y35))>0,IF(OR($M$8:$Y$8=M35:Y35),"Hide","Show"),"")}
C36: Indoor external static pressure (in. H2O) | L36: {=IF(SUM(ABS(M36:Y36))>0,IF(OR($M$8:$Y$8=M36:Y36),"Hide","Show"),"")}
L37: {=IF(SUM(ABS(M37:Y37))>0,IF(OR($M$8:$Y$8=M37:Y37),"Hide","Show"),"")}
C38: Refrigerant Measurements | L38: {=IF(SUM(ABS(M38:Y38))>0,IF(OR($M$8:$Y$8=M38:Y38),"Hide","Show"),"")}
D39: Measurement | L39: {=IF(SUM(ABS(M39:Y39))>0,IF(OR($M$8:$Y$8=M39:Y39),"Hide","Show"),"")}
D40: Avg | E40: Min | F40: Max | L40: {=IF(SUM(ABS(M40:Y40))>0,IF(OR($M$8:$Y$8=M40:Y40),"Hide","Show"),"")}
C41: Refrigerant flow rate (lb/hr) | L41: {=IF(SUM(ABS(M41:Y41))>0,IF(OR($M$8:$Y$8=M41:Y41),"Hide","Show"),"")}
C42: Saturated suction temperature (F) | L42: {=IF(SUM(ABS(M42:Y42))>0,IF(OR($M$8:$Y$8=M42:Y42),"Hide","Show"),"")}
C43: Saturated liquid temperature (F) | L43: {=IF(SUM(ABS(M43:Y43))>0,IF(OR($M$8:$Y$8=M43:Y43),"Hide","Show"),"")}
C44: Suction temperature (F) | L44: {=IF(SUM(ABS(M44:Y44))>0,IF(OR($M$8:$Y$8=M44:Y44),"Hide","Show"),"")}
C45: Liquid line temperature (F) | L45: {=IF(SUM(ABS(M45:Y45))>0,IF(OR($M$8:$Y$8=M45:Y45),"Hide","Show"),"")}
C46: Refrigerant Superheat (F) | L46: {=IF(SUM(ABS(M46:Y46))>0,IF(OR($M$8:$Y$8=M46:Y46),"Hide","Show"),"")}
C47: Refrigerant Subcooling (F) | L47: {=IF(SUM(ABS(M47:Y47))>0,IF(OR($M$8:$Y$8=M47:Y47),"Hide","Show"),"")}
C48: Entering indoor coil (F) | L48: {=IF(SUM(ABS(M48:Y48))>0,IF(OR($M$8:$Y$8=M48:Y48),"Hide","Show"),"")}
C49: Leaving indoor coil (F) | L49: {=IF(SUM(ABS(M49:Y49))>0,IF(OR($M$8:$Y$8=M49:Y49),"Hide","Show"),"")}
C50: Entering outdoor coil (F) | L50: {=IF(SUM(ABS(M50:Y50))>0,IF(OR($M$8:$Y$8=M50:Y50),"Hide","Show"),"")}
C51: Leaving outdoor coil (F) | L51: {=IF(SUM(ABS(M51:Y51))>0,IF(OR($M$8:$Y$8=M51:Y51),"Hide","Show"),"")}
L52: {=IF(SUM(ABS(M52:Y52))>0,IF(OR($M$8:$Y$8=M52:Y52),"Hide","Show"),"")}
C53: Airflow Measurements | L53: {=IF(SUM(ABS(M53:Y53))>0,IF(OR($M$8:$Y$8=M53:Y53),"Hide","Show"),"")}
D54: Measurement | L54: {=IF(SUM(ABS(M54:Y54))>0,IF(OR($M$8:$Y$8=M54:Y54),"Hide","Show"),"")}
D55: Avg | E55: Min | F55: Max | L55: {=IF(SUM(ABS(M55:Y55))>0,IF(OR($M$8:$Y$8=M55:Y55),"Hide","Show"),"")}
C56: Actual Airflow (cfm) | L56: {=IF(SUM(ABS(M56:Y56))>0,IF(OR($M$8:$Y$8=M56:Y56),"Hide","Show"),"")}
C57: Standard Airflow (scfm) | L57: {=IF(SUM(ABS(M57:Y57))>0,IF(OR($M$8:$Y$8=M57:Y57),"Hide","Show"),"")}
C58: Entering enthalpy (please specify units) | L58: {=IF(SUM(ABS(M58:Y58))>0,IF(OR($M$8:$Y$8=M58:Y58),"Hide","Show"),"")}
C59: Leaving enthalpy (please specify units) | L59: {=IF(SUM(ABS(M59:Y59))>0,IF(OR($M$8:$Y$8=M59:Y59),"Hide","Show"),"")}
C60: Indoor Fan Speed (rpm) | L60: {=IF(SUM(ABS(M60:Y60))>0,IF(OR($M$8:$Y$8=M60:Y60),"Hide","Show"),"")}
L61: {=IF(SUM(ABS(M61:Y61))>0,IF(OR($M$8:$Y$8=M61:Y61),"Hide","Show"),"")}
C62: Air Temperatures | L62: {=IF(SUM(ABS(M62:Y62))>0,IF(OR($M$8:$Y$8=M62:Y62),"Hide","Show"),"")}
D63: Measurement | L63: {=IF(SUM(ABS(M63:Y63))>0,IF(OR($M$8:$Y$8=M63:Y63),"Hide","Show"),"")}
D64: Avg | E64: Min | F64: Max | L64: {=IF(SUM(ABS(M64:Y64))>0,IF(OR($M$8:$Y$8=M64:Y64),"Hide","Show"),"")}
C65: Indoor air entering dry bulb temperature (F) | L65: {=IF(SUM(ABS(M65:Y65))>0,IF(OR($M$8:$Y$8=M65:Y65),"Hide","Show"),"")}
C66: Indoor air entering wet bulb temperature (F) | L66: {=IF(SUM(ABS(M66:Y66))>0,IF(OR($M$8:$Y$8=M66:Y66),"Hide","Show"),"")}
C67: Indoor air leaving dry bulb temperature (F) | L67: {=IF(SUM(ABS(M67:Y67))>0,IF(OR($M$8:$Y$8=M67:Y67),"Hide","Show"),"")}
C68: Indoor air leaving wet bulb temperature (F) | L68: {=IF(SUM(ABS(M68:Y68))>0,IF(OR($M$8:$Y$8=M68:Y68),"Hide","Show"),"")}
C69: Outdoor air entering dry bulb temperature (F) | L69: {=IF(SUM(ABS(M69:Y69))>0,IF(OR($M$8:$Y$8=M69:Y69),"Hide","Show"),"")}
C70: Outdoor air entering wet bulb temperature (F) | L70: {=IF(SUM(ABS(M70:Y70))>0,IF(OR($M$8:$Y$8=M70:Y70),"Hide","Show"),"")}
C71: Outdoor air leaving dry bulb temperature (F) | L71: {=IF(SUM(ABS(M71:Y71))>0,IF(OR($M$8:$Y$8=M71:Y71),"Hide","Show"),"")}
C72: Outdoor air leaving wet bulb temperature (F) | L72: {=IF(SUM(ABS(M72:Y72))>0,IF(OR($M$8:$Y$8=M72:Y72),"Hide","Show"),"")}
L73: {=IF(SUM(ABS(M73:Y73))>0,IF(OR($M$8:$Y$8=M73:Y73),"Hide","Show"),"")}
C74: Heating Capacity | L74: {=IF(SUM(ABS(M74:Y74))>0,IF(OR($M$8:$Y$8=M74:Y74),"Hide","Show"),"")}
D75: Measurement | L75: {=IF(SUM(ABS(M75:Y75))>0,IF(OR($M$8:$Y$8=M75:Y75),"Hide","Show"),"")}
C76: Total heating capacity (Btu/hr) | L76: {=IF(SUM(ABS(M76:Y76))>0,IF(OR($M$8:$Y$8=M76:Y76),"Hide","Show"),"")}
C77: Correction (if applicable) | L77: {=IF(SUM(ABS(M77:Y77))>0,IF(OR($M$8:$Y$8=M77:Y77),"Hide","Show"),"")}
C78: Corrected capacity (Btu/hr) | D78: =IF(D76+D77=0,"",D76+D77) | L78: {=IF(SUM(ABS(M78:Y78))>0,IF(OR($M$8:$Y$8=M78:Y78),"Hide","Show"),"")}
C79: Specify secondary method for calculating heating capacity | L79: {=IF(SUM(ABS(M79:Y79))>0,IF(OR($M$8:$Y$8=M79:Y79),"Hide","Show"),"")}
C80: Secondary method total heating capacity (Btu/hr) | L80: {=IF(SUM(ABS(M80:Y80))>0,IF(OR($M$8:$Y$8=M80:Y80),"Hide","Show"),"")}
C81: Correction (if applicable) | L81: {=IF(SUM(ABS(M81:Y81))>0,IF(OR($M$8:$Y$8=M81:Y81),"Hide","Show"),"")}
C82: Corrected capacity (Btu/hr) | D82: =IF(D80+D81=0,"",D80+D81) | L82: {=IF(SUM(ABS(M82:Y82))>0,IF(OR($M$8:$Y$8=M82:Y82),"Hide","Show"),"")}
L83: {=IF(SUM(ABS(M83:Y83))>0,IF(OR($M$8:$Y$8=M83:Y83),"Hide","Show"),"")}
L84: {=IF(SUM(ABS(M84:Y84))>0,IF(OR($M$8:$Y$8=M84:Y84),"Hide","Show"),"")}
B85: =IF($F$6<>"-","'"&$F$6&" Test' Data to be recorded", "Test Not Applicable") -> #N/A | L85: {=IF(SUM(ABS(M85:Y85))>0,IF(OR($M$8:$Y$8=M85:Y85),"Hide","Show"),"")}
L86: {=IF(SUM(ABS(M86:Y86))>0,IF(OR($M$8:$Y$8=M86:Y86),"Hide","Show"),"")}
C87: Electrical Input | L87: {=IF(SUM(ABS(M87:Y87))>0,IF(OR($M$8:$Y$8=M87:Y87),"Hide","Show"),"")}
D88: Measurement | L88: {=IF(SUM(ABS(M88:Y88))>0,IF(OR($M$8:$Y$8=M88:Y88),"Hide","Show"),"")}
D89: Avg | E89: Min | F89: Max | L89: {=IF(SUM(ABS(M89:Y89))>0,IF(OR($M$8:$Y$8=M89:Y89),"Hide","Show"),"")}
C90: Applied voltage to outdoor unit (V) | L90: {=IF(SUM(ABS(M90:Y90))>0,IF(OR($M$8:$Y$8=M90:Y90),"Hide","Show"),"")}
C91: Applied voltage to indoor unit (V) | L91: {=IF(SUM(ABS(M91:Y91))>0,IF(OR($M$8:$Y$8=M91:Y91),"Hide","Show"),"")}
C92: Frequency (Hz) | L92: {=IF(SUM(ABS(M92:Y92))>0,IF(OR($M$8:$Y$8=M92:Y92),"Hide","Show"),"")}
C93: Line current (Amps) | L93: {=IF(SUM(ABS(M93:Y93))>0,IF(OR($M$8:$Y$8=M93:Y93),"Hide","Show"),"")}
C94: Total Indoor Unit Power (Watts) | L94: {=IF(SUM(ABS(M94:Y94))>0,IF(OR($M$8:$Y$8=M94:Y94),"Hide","Show"),"")}
C95: Compressor Speed (RPM/Hz)
C96: Total System Power (Watts) | L96: {=IF(SUM(ABS(M96:Y96))>0,IF(OR($M$8:$Y$8=M96:Y96),"Hide","Show"),"")}
L97: {=IF(SUM(ABS(M97:Y97))>0,IF(OR($M$8:$Y$8=M97:Y97),"Hide","Show"),"")}
C98: Pressure Measurements | L98: {=IF(SUM(ABS(M98:Y98))>0,IF(OR($M$8:$Y$8=M98:Y98),"Hide","Show"),"")}
D99: Measurement | L99: {=IF(SUM(ABS(M99:Y99))>0,IF(OR($M$8:$Y$8=M99:Y99),"Hide","Show"),"")}
D100: Avg | E100: Min | F100: Max | L100: {=IF(SUM(ABS(M100:Y100))>0,IF(OR($M$8:$Y$8=M100:Y100),"Hide","Show"),"")}
C101: Barometric Pressure - (in. Hg) | L101: {=IF(SUM(ABS(M101:Y101))>0,IF(OR($M$8:$Y$8=M101:Y101),"Hide","Show"),"")}
C102: Liquid Line Pressure (psig) | L102: {=IF(SUM(ABS(M102:Y102))>0,IF(OR($M$8:$Y$8=M102:Y102),"Hide","Show"),"")}
C103: Suction Pressure (psig) | L103: {=IF(SUM(ABS(M103:Y103))>0,IF(OR($M$8:$Y$8=M103:Y103),"Hide","Show"),"")}
C104: Indoor Nozzle Pressure Delta (in. WC) | L104: {=IF(SUM(ABS(M104:Y104))>0,IF(OR($M$8:$Y$8=M104:Y104),"Hide","Show"),"")}
...

Sheet H2 Tests
B2: Title Block | E2: Back to Instructions tab
B3: Test Report Template Name: | C3: ='Version Control'!C3 -> Residential Central Air Conditioners and Heat Pumps_M1
B4: Version Number: | C4: ='Version Control'!C4 -> v1.1 | E4: Relevent Tests | H4: Product Information
B5: Latest Template Revision: | C5: ='Version Control'!C5 -> 43668 | E5: 1st Test | F5: =IF(Product_Type_Input=INDEX(Product_Types,1),"-",INDEX(TestMatrix_Data,MATCH($C$6&$E5,TestMatrix_Rows,0),MATCH($I$6&$I$7&$I$8,TestMatrix_Columns,0))) -> #N/A | H5: Product Type | I5: ='General Info and Test Results'!C25 -> 0
B6: Tab Name: | C6: =MID(CELL("filename",$A$1), FIND("]", CELL("filename", $A$1))+ 1, 255) -> H2 Tests | E6: 2nd Test | F6: =IF(Product_Type_Input=INDEX(Product_Types,1),"-",INDEX(TestMatrix_Data,MATCH($C$6&$E6,TestMatrix_Rows,0),MATCH($I$6&$I$7&$I$8,TestMatrix_Columns,0))) -> #N/A | H6: Compressor Type | I6: ='General Info and Test Results'!C27 -> 0
B7: File Name: | C7: =MID(CELL("FILENAME"),FIND("[",CELL("FILENAME"))+1,FIND("]",CELL("FILENAME"))-FIND("[",CELL("FILENAME"))-1) -> Residential Central Air Conditioners and Heat Pumps_M1_Notebook.xlsx | H7: Indoor Fan Type | I7: ='General Info and Test Results'!C29 -> 0
B8: Test Completion Date: | C8: ='Version Control'!C8 -> [MM/DD/YYYY] | H8: Outdoor Fan Type | I8: =OD_FanType_Input -> 0
C10: For each test, has the chamber been at equilibrium for the minimum 30 minutes?
C11: Time between defrost terminations (in hours)
C12: Maximum time between defrosts as allowed by the controls (hours)
B14: =IF($F$5<>"-","'"&$F$5&" Test' Data to be recorded", "Test Not Applicable") -> #N/A
C16: Electrical Input
D17: Measurement | L17: {=IF(SUM(ABS(M17:Y17))>0,IF(OR($M$8:$Y$8=M17:Y17),"Hide","Show"),"")}
D18: Avg | E18: Min | F18: Max | L18: {=IF(SUM(ABS(M18:Y18))>0,IF(OR($M$8:$Y$8=M18:Y18),"Hide","Show"),"")}
C19: Applied voltage to outdoor unit (V) (Sub-interval H) | L19: {=IF(SUM(ABS(M19:Y19))>0,IF(OR($M$8:$Y$8=M19:Y19),"Hide","Show"),"")}
C20: Applied voltage to outdoor unit (V) (Sub-interval D) | L20: {=IF(SUM(ABS(M20:Y20))>0,IF(OR($M$8:$Y$8=M20:Y20),"Hide","Show"),"")}
C21: Applied voltage to indoor unit (V) (Sub-interval H) | L21: {=IF(SUM(ABS(M21:Y21))>0,IF(OR($M$8:$Y$8=M21:Y21),"Hide","Show"),"")}
C22: Applied voltage to outdoor unit (V) (Sub-interval D) | L22: {=IF(SUM(ABS(M22:Y22))>0,IF(OR($M$8:$Y$8=M22:Y22),"Hide","Show"),"")}
C23: Frequency (Hz) | L23: {=IF(SUM(ABS(M23:Y23))>0,IF(OR($M$8:$Y$8=M23:Y23),"Hide","Show"),"")}
C24: Line current (Amps) | L24: {=IF(SUM(ABS(M24:Y24))>0,IF(OR($M$8:$Y$8=M24:Y24),"Hide","Show"),"")}
C25: Total Indoor Unit Power (Watts) | L25: {=IF(SUM(ABS(M25:Y25))>0,IF(OR($M$8:$Y$8=M25:Y25),"Hide","Show"),"")}
C26: Compressor Speed (RPM/Hz)
C27: Total System Power (Watts) | L27: {=IF(SUM(ABS(M27:Y27))>0,IF(OR($M$8:$Y$8=M27:Y27),"Hide","Show"),"")}
L28: {=IF(SUM(ABS(M28:Y28))>0,IF(OR($M$8:$Y$8=M28:Y28),"Hide","Show"),"")}
C29: Pressure Measurements | L29: {=IF(SUM(ABS(M29:Y29))>0,IF(OR($M$8:$Y$8=M29:Y29),"Hide","Show"),"")}
D30: Measurement | L30: {=IF(SUM(ABS(M30:Y30))>0,IF(OR($M$8:$Y$8=M30:Y30),"Hide","Show"),"")}
D31: Avg | E31: Min | F31: Max | L31: {=IF(SUM(ABS(M31:Y31))>0,IF(OR($M$8:$Y$8=M31:Y31),"Hide","Show"),"")}
C32: Barometric Pressure - (in. Hg) | L32: {=IF(SUM(ABS(M32:Y32))>0,IF(OR($M$8:$Y$8=M32:Y32),"Hide","Show"),"")}
C33: Liquid Line Pressure (psig) | L33: {=IF(SUM(ABS(M33:Y33))>0,IF(OR($M$8:$Y$8=M33:Y33),"Hide","Show"),"")}
C34: Suction Pressure (psig) | L34: {=IF(SUM(ABS(M34:Y34))>0,IF(OR($M$8:$Y$8=M34:Y34),"Hide","Show"),"")}
C35: Indoor Nozzle Pressure Delta (in. WC) | L35: {=IF(SUM(ABS(M35:Y35))>0,IF(OR($M$8:$Y$8=M35:Y35),"Hide","Show"),"")}
C36: Indoor external static pressure (in. H2O) (Sub-interval H) | L36: {=IF(SUM(ABS(M36:Y36))>0,IF(OR($M$8:$Y$8=M36:Y36),"Hide","Show"),"")}
L37: {=IF(SUM(ABS(M37:Y37))>0,IF(OR($M$8:$Y$8=M37:Y37),"Hide","Show"),"")}
C38: Refrigerant Measurements | L38: {=IF(SUM(ABS(M38:Y38))>0,IF(OR($M$8:$Y$8=M38:Y38),"Hide","Show"),"")}
D39: Measurement | L39: {=IF(SUM(ABS(M39:Y39))>0,IF(OR($M$8:$Y$8=M39:Y39),"Hide","Show"),"")}
D40: Avg | E40: Min | F40: Max | L40: {=IF(SUM(ABS(M40:Y40))>0,IF(OR($M$8:$Y$8=M40:Y40),"Hide","Show"),"")}
C41: Refrigerant flow rate (lb/hr) | L41: {=IF(SUM(ABS(M41:Y41))>0,IF(OR($M$8:$Y$8=M41:Y41),"Hide","Show"),"")}
C42: Saturated suction temperature (F) | L42: {=IF(SUM(ABS(M42:Y42))>0,IF(OR($M$8:$Y$8=M42:Y42),"Hide","Show"),"")}
C43: Saturated liquid temperature (F) | L43: {=IF(SUM(ABS(M43:Y43))>0,IF(OR($M$8:$Y$8=M43:Y43),"Hide","Show"),"")}
C44: Suction temperature (F) | L44: {=IF(SUM(ABS(M44:Y44))>0,IF(OR($M$8:$Y$8=M44:Y44),"Hide","Show"),"")}
C45: Liquid line temperature (F) | L45: {=IF(SUM(ABS(M45:Y45))>0,IF(OR($M$8:$Y$8=M45:Y45),"Hide","Show"),"")}
C46: Refrigerant Superheat (F) | L46: {=IF(SUM(ABS(M46:Y46))>0,IF(OR($M$8:$Y$8=M46:Y46),"Hide","Show"),"")}
C47: Refrigerant Subcooling (F) | L47: {=IF(SUM(ABS(M47:Y47))>0,IF(OR($M$8:$Y$8=M47:Y47),"Hide","Show"),"")}
C48: Entering indoor coil (F) | L48: {=IF(SUM(ABS(M48:Y48))>0,IF(OR($M$8:$Y$8=M48:Y48),"Hide","Show"),"")}
C49: Leaving indoor coil (F) | L49: {=IF(SUM(ABS(M49:Y49))>0,IF(OR($M$8:$Y$8=M49:Y49),"Hide","Show"),"")}
C50: Entering outdoor coil (F) | L50: {=IF(SUM(ABS(M50:Y50))>0,IF(OR($M$8:$Y$8=M50:Y50),"Hide","Show"),"")}
C51: Leaving outdoor coil (F) | L51: {=IF(SUM(ABS(M51:Y51))>0,IF(OR($M$8:$Y$8=M51:Y51),"Hide","Show"),"")}
L52: {=IF(SUM(ABS(M52:Y52))>0,IF(OR($M$8:$Y$8=M52:Y52),"Hide","Show"),"")}
C53: Airflow Measurements | L53: {=IF(SUM(ABS(M53:Y53))>0,IF(OR($M$8:$Y$8=M53:Y53),"Hide","Show"),"")}
D54: Measurement | L54: {=IF(SUM(ABS(M54:Y54))>0,IF(OR($M$8:$Y$8=M54:Y54),"Hide","Show"),"")}
D55: Avg | E55: Min | F55: Max | L55: {=IF(SUM(ABS(M55:Y55))>0,IF(OR($M$8:$Y$8=M55:Y55),"Hide","Show"),"")}
C56: Actual Airflow (cfm) | L56: {=IF(SUM(ABS(M56:Y56))>0,IF(OR($M$8:$Y$8=M56:Y56),"Hide","Show"),"")}
C57: Standard Airflow (scfm) | L57: {=IF(SUM(ABS(M57:Y57))>0,IF(OR($M$8:$Y$8=M57:Y57),"Hide","Show"),"")}
C58: Entering enthalpy (please specify units) | L58: {=IF(SUM(ABS(M58:Y58))>0,IF(OR($M$8:$Y$8=M58:Y58),"Hide","Show"),"")}
C59: Leaving enthalpy (please specify units) | L59: {=IF(SUM(ABS(M59:Y59))>0,IF(OR($M$8:$Y$8=M59:Y59),"Hide","Show"),"")}
C60: Indoor Fan Speed (rpm) | L60: {=IF(SUM(ABS(M60:Y60))>0,IF(OR($M$8:$Y$8=M60:Y60),"Hide","Show"),"")}
L61: {=IF(SUM(ABS(M61:Y61))>0,IF(OR($M$8:$Y$8=M61:Y61),"Hide","Show"),"")}
C62: Air Temperatures | L62: {=IF(SUM(ABS(M62:Y62))>0,IF(OR($M$8:$Y$8=M62:Y62),"Hide","Show"),"")}
D63: Measurement | L63: {=IF(SUM(ABS(M63:Y63))>0,IF(OR($M$8:$Y$8=M63:Y63),"Hide","Show"),"")}
D64: Avg | E64: Min | F64: Max | L64: {=IF(SUM(ABS(M64:Y64))>0,IF(OR($M$8:$Y$8=M64:Y64),"Hide","Show"),"")}
C65: Indoor air entering dry bulb temperature (F) (Sub-interval H) | L65: {=IF(SUM(ABS(M65:Y65))>0,IF(OR($M$8:$Y$8=M65:Y65),"Hide","Show"),"")}
C66: Indoor air entering dry bulb temperature (F) (Sub-interval D) | L66: {=IF(SUM(ABS(M66:Y66))>0,IF(OR($M$8:$Y$8=M66:Y66),"Hide","Show"),"")}
C67: Indoor air entering wet bulb temperature (F) (Sub-interval H) | L67: {=IF(SUM(ABS(M67:Y67))>0,IF(OR($M$8:$Y$8=M67:Y67),"Hide","Show"),"")}
C68: Indoor air leaving dry bulb temperature (F) | L68: {=IF(SUM(ABS(M68:Y68))>0,IF(OR($M$8:$Y$8=M68:Y68),"Hide","Show"),"")}
C69: Indoor air leaving wet bulb temperature (F) | L69: {=IF(SUM(ABS(M69:Y69))>0,IF(OR($M$8:$Y$8=M69:Y69),"Hide","Show"),"")}
C70: Outdoor air entering dry bulb temperature (F) (Sub-interval H) | L70: {=IF(SUM(ABS(M70:Y70))>0,IF(OR($M$8:$Y$8=M70:Y70),"Hide","Show"),"")}
C71: Outdoor air entering dry bulb temperature (F) (Sub-interval D) | L71: {=IF(SUM(ABS(M71:Y71))>0,IF(OR($M$8:$Y$8=M71:Y71),"Hide","Show"),"")}
C72: Outdoor air entering wet bulb temperature (F) (Sub-interval H) | L72: {=IF(SUM(ABS(M72:Y72))>0,IF(OR($M$8:$Y$8=M72:Y72),"Hide","Show"),"")}
C73: Outdoor air leaving dry bulb temperature (F) | L73: {=IF(SUM(ABS(M73:Y73))>0,IF(OR($M$8:$Y$8=M73:Y73),"Hide","Show"),"")}
C74: Outdoor air leaving wet bulb temperature (F) | L74: {=IF(SUM(ABS(M74:Y74))>0,IF(OR($M$8:$Y$8=M74:Y74),"Hide","Show"),"")}
L75: {=IF(SUM(ABS(M75:Y75))>0,IF(OR($M$8:$Y$8=M75:Y75),"Hide","Show"),"")}
C76: Heating Capacity | L76: {=IF(SUM(ABS(M76:Y76))>0,IF(OR($M$8:$Y$8=M76:Y76),"Hide","Show"),"")}
D77: Measurement | L77: {=IF(SUM(ABS(M77:Y77))>0,IF(OR($M$8:$Y$8=M77:Y77),"Hide","Show"),"")}
C78: Total heating capacity (Btu/hr) | L78: {=IF(SUM(ABS(M78:Y78))>0,IF(OR($M$8:$Y$8=M78:Y78),"Hide","Show"),"")}
C79: Correction (if applicable) | L79: {=IF(SUM(ABS(M79:Y79))>0,IF(OR($M$8:$Y$8=M79:Y79),"Hide","Show"),"")}
C80: Corrected capacity (Btu/hr) | D80: =IF(D78+D79=0,"",D78+D79) | L80: {=IF(SUM(ABS(M80:Y80))>0,IF(OR($M$8:$Y$8=M80:Y80),"Hide","Show"),"")}
L81: {=IF(SUM(ABS(M81:Y81))>0,IF(OR($M$8:$Y$8=M81:Y81),"Hide","Show"),"")}
L82: {=IF(SUM(ABS(M82:Y82))>0,IF(OR($M$8:$Y$8=M82:Y82),"Hide","Show"),"")}
B83: =IF($F$6<>"-","'"&$F$6&" Test' Data to be recorded", "Test Not Applicable") -> #N/A | L83: {=IF(SUM(ABS(M83:Y83))>0,IF(OR($M$8:$Y$8=M83:Y83),"Hide","Show"),"")}
L84: {=IF(SUM(ABS(M84:Y84))>0,IF(OR($M$8:$Y$8=M84:Y84),"Hide","Show"),"")}
C85: Electrical Input | L85: {=IF(SUM(ABS(M85:Y85))>0,IF(OR($M$8:$Y$8=M85:Y85),"Hide","Show"),"")}
D86: Measurement | L86: {=IF(SUM(ABS(M86:Y86))>0,IF(OR($M$8:$Y$8=M86:Y86),"Hide","Show"),"")}
D87: Avg | E87: Min | F87: Max | L87: {=IF(SUM(ABS(M87:Y87))>0,IF(OR($M$8:$Y$8=M87:Y87),"Hide","Show"),"")}
C88: Applied voltage to outdoor unit (V) (Sub-interval H) | L88: {=IF(SUM(ABS(M88:Y88))>0,IF(OR($M$8:$Y$8=M88:Y88),"Hide","Show"),"")}
C89: Applied voltage to outdoor unit (V) (Sub-interval D) | L89: {=IF(SUM(ABS(M89:Y89))>0,IF(OR($M$8:$Y$8=M89:Y89),"Hide","Show"),"")}
C90: Applied voltage to indoor unit (V) (Sub-interval H) | L90: {=IF(SUM(ABS(M90:Y90))>0,IF(OR($M$8:$Y$8=M90:Y90),"Hide","Show"),"")}
C91: Applied voltage to outdoor unit (V) (Sub-interval D) | L91: {=IF(SUM(ABS(M91:Y91))>0,IF(OR($M$8:$Y$8=M91:Y91),"Hide","Show"),"")}
C92: Frequency (Hz) | L92: {=IF(SUM(ABS(M92:Y92))>0,IF(OR($M$8:$Y$8=M92:Y92),"Hide","Show"),"")}
C93: Line current (Amps) | L93: {=IF(SUM(ABS(M93:Y93))>0,IF(OR($M$8:$Y$8=M93:Y93),"Hide","Show"),"")}
C94: Total Indoor Unit Power (Watts) | L94: {=IF(SUM(ABS(M94:Y94))>0,IF(OR($M$8:$Y$8=M94:Y94),"Hide","Show"),"")}
C95: Compressor Speed (RPM/Hz)
C96: Total System Power (Watts) | L96: {=IF(SUM(ABS(M96:Y96))>0,IF(OR($M$8:$Y$8=M96:Y96),"Hide","Show"),"")}
L97: {=IF(SUM(ABS(M97:Y97))>0,IF(OR($M$8:$Y$8=M97:Y97),"Hide","Show"),"")}
C98: Pressure Measurements | L98: {=IF(SUM(ABS(M98:Y98))>0,IF(OR($M$8:$Y$8=M98:Y98),"Hide","Show"),"")}
D99: Measurement | L99: {=IF(SUM(ABS(M99:Y99))>0,IF(OR($M$8:$Y$8=M99:Y99),"Hide","Show"),"")}
D100: Avg | E100: Min | F100: Max | L100: {=IF(SUM(ABS(M100:Y100))>0,IF(OR($M$8:$Y$8=M100:Y100),"Hide","Show"),"")}
C101: Barometric Pressure - (in. Hg) | L101: {=IF(SUM(ABS(M101:Y101))>0,IF(OR($M$8:$Y$8=M101:Y101),"Hide","Show"),"")}
C102: Liquid Line Pressure (psig) | L102: {=IF(SUM(ABS(M102:Y102))>0,IF(OR($M$8:$Y$8=M102:Y102),"Hide","Show"),"")}
C103: Suction Pressure (psig) | L103: {=IF(SUM(ABS(M103:Y103))>0,IF(OR($M$8:$Y$8=M103:Y103),"Hide","Show"),"")}
C104: Indoor Nozzle Pressure Delta (in. WC) | L104: {=IF(SUM(ABS(M104:Y104))>0,IF(OR($M$8:$Y$8=M104:Y104),"Hide","Show"),"")}
...

Sheet H3 Tests
B2: Title Block | E2: Back to Instructions tab
B3: Test Report Template Name: | C3: ='Version Control'!C3 -> Residential Central Air Conditioners and Heat Pumps_M1
B4: Version Number: | C4: ='Version Control'!C4 -> v1.1 | E4: Relevent Tests | H4: Product Information
B5: Latest Template Revision: | C5: ='Version Control'!C5 -> 43668 | E5: 1st Test | F5: =IF(Product_Type_Input=INDEX(Product_Types,1),"-",INDEX(TestMatrix_Data,MATCH($C$6&$E5,TestMatrix_Rows,0),MATCH($I$6&$I$7&$I$8,TestMatrix_Columns,0))) -> #N/A | H5: Product Type | I5: ='General Info and Test Results'!C25 -> 0
B6: Tab Name: | C6: =MID(CELL("filename",$A$1), FIND("]", CELL("filename", $A$1))+ 1, 255) -> H3 Tests | E6: 2nd Test | F6: =IF(Product_Type_Input=INDEX(Product_Types,1),"-",INDEX(TestMatrix_Data,MATCH($C$6&$E6,TestMatrix_Rows,0),MATCH($I$6&$I$7&$I$8,TestMatrix_Columns,0))) -> #N/A | H6: Compressor Type | I6: ='General Info and Test Results'!C27 -> 0
B7: File Name: | C7: =MID(CELL("FILENAME"),FIND("[",CELL("FILENAME"))+1,FIND("]",CELL("FILENAME"))-FIND("[",CELL("FILENAME"))-1) -> Residential Central Air Conditioners and Heat Pumps_M1_Notebook.xlsx | H7: Indoor Fan Type | I7: ='General Info and Test Results'!C29 -> 0
B8: Test Completion Date: | C8: ='Version Control'!C8 -> [MM/DD/YYYY] | H8: Outdoor Fan Type | I8: =OD_FanType_Input -> 0
C10: For each test, has the chamber been at equilibrium for the minimum 30 minutes?
C11: Maximum time between defrosts as allowed by the controls (hours)
B13: =IF($F$5<>"-","'"&$F$5&" Test' Data to be recorded", "Test Not Applicable") -> #N/A
C15: Electrical Input
D16: Measurement
D17: Avg | E17: Min | F17: Max
C18: Applied voltage to outdoor unit (V)
C19: Applied voltage to indoor unit (V)
C20: Frequency (Hz)
C21: Line current (Amps)
C22: Total Indoor Unit Power (Watts)
C23: Compressor Speed (RPM/Hz)
C24: Total System Power (Watts)
C26: Pressure Measurements
D27: Measurement
D28: Avg | E28: Min | F28: Max
C29: Barometric Pressure - (in. Hg)
C30: Liquid Line Pressure (psig)
C31: Suction Pressure (psig)
C32: Indoor Nozzle Pressure Delta (in. WC)
C33: Indoor external static pressure (in. H2O)
C35: Refrigerant Measurements
D36: Measurement
D37: Avg | E37: Min | F37: Max
C38: Refrigerant flow rate (lb/hr)
C39: Saturated suction temperature (F)
C40: Saturated liquid temperature (F)
C41: Suction temperature (F)
C42: Liquid line temperature (F)
C43: Refrigerant Superheat (F)
C44: Refrigerant Subcooling (F)
C45: Entering indoor coil (F)
C46: Leaving indoor coil (F)
C47: Entering outdoor coil (F)
C48: Leaving outdoor coil (F)
C50: Airflow Measurements
D51: Measurement
D52: Avg | E52: Min | F52: Max
C53: Actual Airflow (cfm)
C54: Standard Airflow (scfm)
C55: Entering enthalpy (please specify units)
C56: Leaving enthalpy (please specify units)
C57: Indoor Fan Speed (rpm)
C59: Air Temperatures
D60: Measurement
D61: Avg | E61: Min | F61: Max
C62: Indoor air entering dry bulb temperature (F)
C63: Indoor air entering wet bulb temperature (F)
C64: Indoor air leaving dry bulb temperature (F)
C65: Indoor air leaving wet bulb temperature (F)
C66: Outdoor air entering dry bulb temperature (F)
C67: Outdoor air entering wet bulb temperature (F) | L67: {=IF(SUM(ABS(M67:Y67))>0,IF(OR($M$8:$Y$8=M67:Y67),"Hide","Show"),"")}
C68: Outdoor air leaving dry bulb temperature (F) | L68: {=IF(SUM(ABS(M68:Y68))>0,IF(OR($M$8:$Y$8=M68:Y68),"Hide","Show"),"")}
C69: Outdoor air leaving wet bulb temperature (F) | L69: {=IF(SUM(ABS(M69:Y69))>0,IF(OR($M$8:$Y$8=M69:Y69),"Hide","Show"),"")}
L70: {=IF(SUM(ABS(M70:Y70))>0,IF(OR($M$8:$Y$8=M70:Y70),"Hide","Show"),"")}
C71: Heating Capacity | L71: {=IF(SUM(ABS(M71:Y71))>0,IF(OR($M$8:$Y$8=M71:Y71),"Hide","Show"),"")}
D72: Measurement | L72: {=IF(SUM(ABS(M72:Y72))>0,IF(OR($M$8:$Y$8=M72:Y72),"Hide","Show"),"")}
C73: Total heating capacity (Btu/hr) | L73: {=IF(SUM(ABS(M73:Y73))>0,IF(OR($M$8:$Y$8=M73:Y73),"Hide","Show"),"")}
C74: Correction (if applicable) | L74: {=IF(SUM(ABS(M74:Y74))>0,IF(OR($M$8:$Y$8=M74:Y74),"Hide","Show"),"")}
C75: Corrected capacity (Btu/hr) | D75: =IF(D73+D74=0,"",D73+D74) | L75: {=IF(SUM(ABS(M75:Y75))>0,IF(OR($M$8:$Y$8=M75:Y75),"Hide","Show"),"")}
L76: {=IF(SUM(ABS(M76:Y76))>0,IF(OR($M$8:$Y$8=M76:Y76),"Hide","Show"),"")}
L77: {=IF(SUM(ABS(M77:Y77))>0,IF(OR($M$8:$Y$8=M77:Y77),"Hide","Show"),"")}
B78: =IF($F$6<>"-","'"&$F$6&" Test' Data to be recorded", "Test Not Applicable") -> #N/A | L78: {=IF(SUM(ABS(M78:Y78))>0,IF(OR($M$8:$Y$8=M78:Y78),"Hide","Show"),"")}
L79: {=IF(SUM(ABS(M79:Y79))>0,IF(OR($M$8:$Y$8=M79:Y79),"Hide","Show"),"")}
C80: Electrical Input | L80: {=IF(SUM(ABS(M80:Y80))>0,IF(OR($M$8:$Y$8=M80:Y80),"Hide","Show"),"")}
D81: Measurement | L81: {=IF(SUM(ABS(M81:Y81))>0,IF(OR($M$8:$Y$8=M81:Y81),"Hide","Show"),"")}
D82: Avg | E82: Min | F82: Max | L82: {=IF(SUM(ABS(M82:Y82))>0,IF(OR($M$8:$Y$8=M82:Y82),"Hide","Show"),"")}
C83: Applied voltage to outdoor unit (V) | L83: {=IF(SUM(ABS(M83:Y83))>0,IF(OR($M$8:$Y$8=M83:Y83),"Hide","Show"),"")}
C84: Applied voltage to indoor unit (V) | L84: {=IF(SUM(ABS(M84:Y84))>0,IF(OR($M$8:$Y$8=M84:Y84),"Hide","Show"),"")}
C85: Frequency (Hz) | L85: {=IF(SUM(ABS(M85:Y85))>0,IF(OR($M$8:$Y$8=M85:Y85),"Hide","Show"),"")}
C86: Line current (Amps) | L86: {=IF(SUM(ABS(M86:Y86))>0,IF(OR($M$8:$Y$8=M86:Y86),"Hide","Show"),"")}
C87: Total Indoor Unit Power (Watts) | L87: {=IF(SUM(ABS(M87:Y87))>0,IF(OR($M$8:$Y$8=M87:Y87),"Hide","Show"),"")}
C88: Compressor Speed (RPM/Hz)
C89: Total System Power (Watts) | L89: {=IF(SUM(ABS(M89:Y89))>0,IF(OR($M$8:$Y$8=M89:Y89),"Hide","Show"),"")}
L90: {=IF(SUM(ABS(M90:Y90))>0,IF(OR($M$8:$Y$8=M90:Y90),"Hide","Show"),"")}
C91: Pressure Measurements | L91: {=IF(SUM(ABS(M91:Y91))>0,IF(OR($M$8:$Y$8=M91:Y91),"Hide","Show"),"")}
D92: Measurement | L92: {=IF(SUM(ABS(M92:Y92))>0,IF(OR($M$8:$Y$8=M92:Y92),"Hide","Show"),"")}
D93: Avg | E93: Min | F93: Max | L93: {=IF(SUM(ABS(M93:Y93))>0,IF(OR($M$8:$Y$8=M93:Y93),"Hide","Show"),"")}
C94: Barometric Pressure - (in. Hg) | L94: {=IF(SUM(ABS(M94:Y94))>0,IF(OR($M$8:$Y$8=M94:Y94),"Hide","Show"),"")}
C95: Liquid Line Pressure (psig) | L95: {=IF(SUM(ABS(M95:Y95))>0,IF(OR($M$8:$Y$8=M95:Y95),"Hide","Show"),"")}
C96: Suction Pressure (psig) | L96: {=IF(SUM(ABS(M96:Y96))>0,IF(OR($M$8:$Y$8=M96:Y96),"Hide","Show"),"")}
C97: Indoor Nozzle Pressure Delta (in. WC) | L97: {=IF(SUM(ABS(M97:Y97))>0,IF(OR($M$8:$Y$8=M97:Y97),"Hide","Show"),"")}
C98: Indoor external static pressure (in. H2O) | L98: {=IF(SUM(ABS(M98:Y98))>0,IF(OR($M$8:$Y$8=M98:Y98),"Hide","Show"),"")}
L99: {=IF(SUM(ABS(M99:Y99))>0,IF(OR($M$8:$Y$8=M99:Y99),"Hide","Show"),"")}
C100: Refrigerant Measurements | L100: {=IF(SUM(ABS(M100:Y100))>0,IF(OR($M$8:$Y$8=M100:Y100),"Hide","Show"),"")}
D101: Measurement | L101: {=IF(SUM(ABS(M101:Y101))>0,IF(OR($M$8:$Y$8=M101:Y101),"Hide","Show"),"")}
D102: Avg | E102: Min | F102: Max | L102: {=IF(SUM(ABS(M102:Y102))>0,IF(OR($M$8:$Y$8=M102:Y102),"Hide","Show"),"")}
C103: Refrigerant flow rate (lb/hr) | L103: {=IF(SUM(ABS(M103:Y103))>0,IF(OR($M$8:$Y$8=M103:Y103),"Hide","Show"),"")}
C104: Saturated suction temperature (F) | L104: {=IF(SUM(ABS(M104:Y104))>0,IF(OR($M$8:$Y$8=M104:Y104),"Hide","Show"),"")}
C105: Saturated liquid temperature (F) | L105: {=IF(SUM(ABS(M105:Y105))>0,IF(OR($M$8:$Y$8=M105:Y105),"Hide","Show"),"")}
C106: Suction temperature (F) | L106: {=IF(SUM(ABS(M106:Y106))>0,IF(OR($M$8:$Y$8=M106:Y106),"Hide","Show"),"")}
C107: Liquid line temperature (F) | L107: {=IF(SUM(ABS(M107:Y107))>0,IF(OR($M$8:$Y$8=M107:Y107),"Hide","Show"),"")}
C108: Refrigerant Superheat (F) | L108: {=IF(SUM(ABS(M108:Y108))>0,IF(OR($M$8:$Y$8=M108:Y108),"Hide","Show"),"")}
...

Sheet Optional H4 Test
B2: Title Block | E2: Back to Instructions tab
B3: Test Report Template Name: | C3: ='Version Control'!C3 -> Residential Central Air Conditioners and Heat Pumps_M1
B4: Version Number: | C4: ='Version Control'!C4 -> v1.1 | F4: Relevent Test | H4: Product Information
B5: Latest Template Revision: | C5: ='Version Control'!C5 -> 43668 | F5: =IF(I5="Central Air Conditioner","-",INDEX(TestMatrix_Data,MATCH($C$6,TestMatrix_Rows,0),MATCH($I$6&$I$7&$I$8,TestMatrix_Columns,0))) -> #N/A | H5: Product Type | I5: ='General Info and Test Results'!C25 -> 0
B6: Tab Name: | C6: =MID(CELL("filename",$A$1), FIND("]", CELL("filename", $A$1))+ 1, 255) -> Optional H4 Test | H6: Compressor Type | I6: ='General Info and Test Results'!C27 -> 0
B7: File Name: | C7: =MID(CELL("FILENAME"),FIND("[",CELL("FILENAME"))+1,FIND("]",CELL("FILENAME"))-FIND("[",CELL("FILENAME"))-1) -> Residential Central Air Conditioners and Heat Pumps_M1_Notebook.xlsx | H7: Indoor Fan Type | I7: ='General Info and Test Results'!C29 -> 0
B8: Test Completion Date: | C8: ='Version Control'!C8 -> [MM/DD/YYYY] | H8: Outdoor Fan Type | I8: =OD_FanType_Input -> 0
C11: For each test, has the chamber been at equilibrium for the minimum 30 minutes?
C12: Maximum time between defrosts as allowed by the controls (hours)
B14: =IF($F$5<>"-","'"&$F$5&" Test' Data to be recorded", "Test Not Applicable") -> #N/A
C16: Electrical Input
D17: Measurement
D18: Avg | E18: Min | F18: Max
C19: Applied voltage to outdoor unit (V)
C20: Applied voltage to indoor unit (V)
C21: Frequency (Hz)
C22: Line current (Amps)
C23: Total Indoor Unit Power (Watts)
C24: Compressor Speed (RPM/Hz)
C25: Total System Power (Watts)
C27: Pressure Measurements
D28: Measurement
D29: Avg | E29: Min | F29: Max
C30: Barometric Pressure - (in. Hg)
C31: Liquid Line Pressure (psig)
C32: Suction Pressure (psig)
C33: Indoor Nozzle Pressure Delta (in. WC)
C34: Indoor external static pressure (in. H2O)
C36: Refrigerant Measurements
D37: Measurement
D38: Avg | E38: Min | F38: Max
C39: Refrigerant flow rate (lb/hr)
C40: Saturated suction temperature (F)
C41: Saturated liquid temperature (F)
C42: Suction temperature (F)
C43: Liquid line temperature (F)
C44: Refrigerant Superheat (F)
C45: Refrigerant Subcooling (F)
C46: Entering indoor coil (F)
C47: Leaving indoor coil (F)
C48: Entering outdoor coil (F)
C49: Leaving outdoor coil (F)
C51: Airflow Measurements
D52: Measurement
D53: Avg | E53: Min | F53: Max
C54: Actual Airflow (cfm)
C55: Standard Airflow (scfm)
C56: Entering enthalpy (please specify units)
C57: Leaving enthalpy (please specify units)
C58: Indoor Fan Speed (rpm)
C60: Air Temperatures
D61: Measurement
D62: Avg | E62: Min | F62: Max
C63: Indoor air entering dry bulb temperature (F)
C64: Indoor air entering wet bulb temperature (F)
C65: Indoor air leaving dry bulb temperature (F)
C66: Indoor air leaving wet bulb temperature (F)
C67: Outdoor air entering dry bulb temperature (F)
C68: Outdoor air entering wet bulb temperature (F) | L68: {=IF(SUM(ABS(M68:Y68))>0,IF(OR($M$8:$Y$8=M68:Y68),"Hide","Show"),"")}
C69: Outdoor air leaving dry bulb temperature (F) | L69: {=IF(SUM(ABS(M69:Y69))>0,IF(OR($M$8:$Y$8=M69:Y69),"Hide","Show"),"")}
C70: Outdoor air leaving wet bulb temperature (F) | L70: {=IF(SUM(ABS(M70:Y70))>0,IF(OR($M$8:$Y$8=M70:Y70),"Hide","Show"),"")}
L71: {=IF(SUM(ABS(M71:Y71))>0,IF(OR($M$8:$Y$8=M71:Y71),"Hide","Show"),"")}
C72: Heating Capacity | L72: {=IF(SUM(ABS(M72:Y72))>0,IF(OR($M$8:$Y$8=M72:Y72),"Hide","Show"),"")}
D73: Measurement | L73: {=IF(SUM(ABS(M73:Y73))>0,IF(OR($M$8:$Y$8=M73:Y73),"Hide","Show"),"")}
C74: Total heating capacity (Btu/hr) | L74: {=IF(SUM(ABS(M74:Y74))>0,IF(OR($M$8:$Y$8=M74:Y74),"Hide","Show"),"")}
C75: Correction (if applicable) | L75: {=IF(SUM(ABS(M75:Y75))>0,IF(OR($M$8:$Y$8=M75:Y75),"Hide","Show"),"")}
C76: Corrected capacity (Btu/hr) | D76: =IF(D74+D75=0,"",D74+D75) | L76: {=IF(SUM(ABS(M76:Y76))>0,IF(OR($M$8:$Y$8=M76:Y76),"Hide","Show"),"")}
L77: {=IF(SUM(ABS(M77:Y77))>0,IF(OR($M$8:$Y$8=M77:Y77),"Hide","Show"),"")}
L78: {=IF(SUM(ABS(M78:Y78))>0,IF(OR($M$8:$Y$8=M78:Y78),"Hide","Show"),"")}
L79: {=IF(SUM(ABS(M79:Y79))>0,IF(OR($M$8:$Y$8=M79:Y79),"Hide","Show"),"")}
L80: {=IF(SUM(ABS(M80:Y80))>0,IF(OR($M$8:$Y$8=M80:Y80),"Hide","Show"),"")}
L81: {=IF(SUM(ABS(M81:Y81))>0,IF(OR($M$8:$Y$8=M81:Y81),"Hide","Show"),"")}
L82: {=IF(SUM(ABS(M82:Y82))>0,IF(OR($M$8:$Y$8=M82:Y82),"Hide","Show"),"")}
L83: {=IF(SUM(ABS(M83:Y83))>0,IF(OR($M$8:$Y$8=M83:Y83),"Hide","Show"),"")}
L84: {=IF(SUM(ABS(M84:Y84))>0,IF(OR($M$8:$Y$8=M84:Y84),"Hide","Show"),"")}
L85: {=IF(SUM(ABS(M85:Y85))>0,IF(OR($M$8:$Y$8=M85:Y85),"Hide","Show"),"")}
L86: {=IF(SUM(ABS(M86:Y86))>0,IF(OR($M$8:$Y$8=M86:Y86),"Hide","Show"),"")}
L87: {=IF(SUM(ABS(M87:Y87))>0,IF(OR($M$8:$Y$8=M87:Y87),"Hide","Show"),"")}
L88: {=IF(SUM(ABS(M88:Y88))>0,IF(OR($M$8:$Y$8=M88:Y88),"Hide","Show"),"")}
... L311: {=IF(SUM(ABS(M311:Y311))>0,IF(OR($M$8:$Y$8=M311:Y311),"Hide","Show"),"")}

Sheet Optional H0C-1 Test
B2: Title Block | E2: Back to Instructions tab
B3: Test Report Template Name: | C3: ='Version Control'!C3 -> Residential Central Air Conditioners and Heat Pumps_M1
B4: Version Number: | C4: ='Version Control'!C4 -> v1.1 | F4: Relevent Test | H4: Product Information
B5: Latest Template Revision: | C5: ='Version Control'!C5 -> 43668 | F5: =IF(I5="Central Air Conditioner","-",INDEX(TestMatrix_Data,MATCH($C$6,TestMatrix_Rows,0),MATCH($I$6&$I$7&$I$8,TestMatrix_Columns,0))) -> #N/A | H5: Product Type | I5: ='General Info and Test Results'!C25 -> 0
B6: Tab Name: | C6: =MID(CELL("filename",$A$1), FIND("]", CELL("filename", $A$1))+ 1, 255) -> Optional H0C-1 Test | H6: Compressor Type | I6: ='General Info and Test Results'!C27 -> 0
B7: File Name: | C7: =MID(CELL("FILENAME"),FIND("[",CELL("FILENAME"))+1,FIND("]",CELL("FILENAME"))-FIND("[",CELL("FILENAME"))-1) -> Residential Central Air Conditioners and Heat Pumps_M1_Notebook.xlsx | H7: Indoor Fan Type | I7: ='General Info and Test Results'!C29 -> 0
B8: Test Completion Date: | C8: ='Version Control'!C8 -> [MM/DD/YYYY] | H8: Outdoor Fan Type | I8: =OD_FanType_Input -> 0
B11: =IF($F$5<>"-","'"&$F$5&" Test' Data to be recorded", "Test Not Applicable") -> #N/A
C13: Duration of the OFF/ON intervals (hours)
C14: The data below is reported starting how many seconds after airflow initiation? (see requirements in footnotes 2 and 4 of Table 17 in Appendix M) | E14: seconds
C16: Electrical Input
D17: Measurement
D18: Avg | E18: Min | F18: Max
C19: Applied voltage to outdoor unit (V)
C20: Applied voltage to indoor unit (V)
C21: Frequency (Hz)
C22: Line current (Amps)
C23: Compressor Speed (RPM/Hz)
D24: Total Measurement
C25: Total Indoor Unit Energy (Watts-hours)
C26: Total System Energy (Ecycdry in watts-hours, see Appendix M sections 3.5.h and 3.5.i)
C28: Pressure Measurements
D29: Measurement
D30: Avg | E30: Min | F30: Max
C31: Barometric Pressure - (in. Hg)
C32: Liquid Line Pressure (psig)
C33: Suction Pressure (psig)
C34: Indoor Nozzle Pressure Delta (in. WC)
C35: Indoor external static pressure (in. H2O)
C37: Refrigerant Measurements
D38: Measurement
D39: Avg | E39: Min | F39: Max
C40: Refrigerant flow rate (lb/hr)
C41: Saturated suction temperature (F)
C42: Saturated liquid temperature (F)
C43: Suction temperature (F)
C44: Liquid line temperature (F)
C45: Refrigerant Superheat (F)
C46: Refrigerant Subcooling (F)
C47: Entering indoor coil (F)
C48: Leaving indoor coil (F)
C49: Entering outdoor coil (F)
C50: Leaving outdoor coil (F)
C52: Airflow Measurements
D53: Measurement
D54: Avg | E54: Min | F54: Max
C55: Indoor Unit Airflow (cfm)
C56: Indoor Unit Standard Airflow (scfm)
C57: Entering enthalpy (please specify units)
C58: Leaving enthalpy (please specify units)
C59: Indoor Fan Speed (rpm)
C61: Air Temperatures
D62: Measurement
D63: Avg | E63: Min | F63: Max
C64: Indoor air entering dry bulb temperature (F)
C65: Indoor air entering wet bulb temperature (F)
C66: Indoor air leaving dry bulb temperature (F)
C67: Indoor air leaving wet bulb temperature (F)
C68: Outdoor air entering dry bulb temperature (F)
C69: Outdoor air entering wet bulb temperature (F)
C70: Outdoor air leaving dry bulb temperature (F) | L70: {=IF(SUM(ABS(M70:Y70))>0,IF(OR($M$8:$Y$8=M70:Y70),"Hide","Show"),"")}
C71: Outdoor air leaving wet bulb temperature (F) | L71: {=IF(SUM(ABS(M71:Y71))>0,IF(OR($M$8:$Y$8=M71:Y71),"Hide","Show"),"")}
L72: {=IF(SUM(ABS(M72:Y72))>0,IF(OR($M$8:$Y$8=M72:Y72),"Hide","Show"),"")}
C73: Heating Capacity | L73: {=IF(SUM(ABS(M73:Y73))>0,IF(OR($M$8:$Y$8=M73:Y73),"Hide","Show"),"")}
D74: Measurement | L74: {=IF(SUM(ABS(M74:Y74))>0,IF(OR($M$8:$Y$8=M74:Y74),"Hide","Show"),"")}
C75: Total heating capacity (Btu/hr) | L75: {=IF(SUM(ABS(M75:Y75))>0,IF(OR($M$8:$Y$8=M75:Y75),"Hide","Show"),"")}
C76: Correction (if applicable) | L76: {=IF(SUM(ABS(M76:Y76))>0,IF(OR($M$8:$Y$8=M76:Y76),"Hide","Show"),"")}
C77: Net corrected capacity (Btu/hr) | D77: =IF(D75+D76=0,"",D75+D76) | L77: {=IF(SUM(ABS(M77:Y77))>0,IF(OR($M$8:$Y$8=M77:Y77),"Hide","Show"),"")}
L78: {=IF(SUM(ABS(M78:Y78))>0,IF(OR($M$8:$Y$8=M78:Y78),"Hide","Show"),"")}
L79: {=IF(SUM(ABS(M79:Y79))>0,IF(OR($M$8:$Y$8=M79:Y79),"Hide","Show"),"")}
L80: {=IF(SUM(ABS(M80:Y80))>0,IF(OR($M$8:$Y$8=M80:Y80),"Hide","Show"),"")}
L81: {=IF(SUM(ABS(M81:Y81))>0,IF(OR($M$8:$Y$8=M81:Y81),"Hide","Show"),"")}
L82: {=IF(SUM(ABS(M82:Y82))>0,IF(OR($M$8:$Y$8=M82:Y82),"Hide","Show"),"")}
L83: {=IF(SUM(ABS(M83:Y83))>0,IF(OR($M$8:$Y$8=M83:Y83),"Hide","Show"),"")}
L84: {=IF(SUM(ABS(M84:Y84))>0,IF(OR($M$8:$Y$8=M84:Y84),"Hide","Show"),"")}
L85: {=IF(SUM(ABS(M85:Y85))>0,IF(OR($M$8:$Y$8=M85:Y85),"Hide","Show"),"")}
L86: {=IF(SUM(ABS(M86:Y86))>0,IF(OR($M$8:$Y$8=M86:Y86),"Hide","Show"),"")}
L87: {=IF(SUM(ABS(M87:Y87))>0,IF(OR($M$8:$Y$8=M87:Y87),"Hide","Show"),"")}
L88: {=IF(SUM(ABS(M88:Y88))>0,IF(OR($M$8:$Y$8=M88:Y88),"Hide","Show"),"")}
L89: {=IF(SUM(ABS(M89:Y89))>0,IF(OR($M$8:$Y$8=M89:Y89),"Hide","Show"),"")}
... L311: {=IF(SUM(ABS(M311:Y311))>0,IF(OR($M$8:$Y$8=M311:Y311),"Hide","Show"),"")}

Sheet Optional H1C Tests
B2: Title Block | E2: Back to Instructions tab
B3: Test Report Template Name: | C3: ='Version Control'!C3 -> Residential Central Air Conditioners and Heat Pumps_M1
B4: Version Number: | C4: ='Version Control'!C4 -> v1.1 | E4: Relevent Tests | H4: Product Information
B5: Latest Template Revision: | C5: ='Version Control'!C5 -> 43668 | E5: 1st Test | F5: =IF(Product_Type_Input=INDEX(Product_Types,1),"-",INDEX(TestMatrix_Data,MATCH($C$6&$E5,TestMatrix_Rows,0),MATCH($I$6&$I$7&$I$8,TestMatrix_Columns,0))) -> #N/A | H5: Product Type | I5: ='General Info and Test Results'!C25 -> 0
B6: Tab Name: | C6: =MID(CELL("filename",$A$1), FIND("]", CELL("filename", $A$1))+ 1, 255) -> Optional H1C Tests | E6: 2nd Test | F6: =IF(Product_Type_Input=INDEX(Product_Types,1),"-",INDEX(TestMatrix_Data,MATCH($C$6&$E6,TestMatrix_Rows,0),MATCH($I$6&$I$7&$I$8,TestMatrix_Columns,0))) -> #N/A | H6: Compressor Type | I6: ='General Info and Test Results'!C27 -> 0
B7: File Name: | C7: =MID(CELL("FILENAME"),FIND("[",CELL("FILENAME"))+1,FIND("]",CELL("FILENAME"))-FIND("[",CELL("FILENAME"))-1) -> Residential Central Air Conditioners and Heat Pumps_M1_Notebook.xlsx | H7: Indoor Fan Type | I7: ='General Info and Test Results'!C29 -> 0
B8: Test Completion Date: | C8: ='Version Control'!C8 -> [MM/DD/YYYY] | H8: Outdoor Fan Type | I8: =OD_FanType_Input -> 0
B11: =IF($F$5<>"-","'"&$F$5&" Test' Data to be recorded", "Test Not Applicable") -> #N/A | H11: D2
C13: Duration of the OFF/ON intervals (hours) | L13: {=IF(SUM(ABS(M13:Y13))>0,IF(OR($M$8:$Y$8=M13:Y13),"Hide","Show"),"")}
C14: The data below is reported starting how many seconds after airflow initiation? (see requirements in footnotes 2 and 4 of Table 17 in Appendix M) | E14: seconds
L15: {=IF(SUM(ABS(M15:Y15))>0,IF(OR($M$8:$Y$8=M15:Y15),"Hide","Show"),"")}
C16: Electrical Input | L16: {=IF(SUM(ABS(M16:Y16))>0,IF(OR($M$8:$Y$8=M16:Y16),"Hide","Show"),"")}
D17: Measurements Taken During On Cycle | L17: {=IF(SUM(ABS(M17:Y17))>0,IF(OR($M$8:$Y$8=M17:Y17),"Hide","Show"),"")}
D18: Avg | E18: Min | F18: Max | L18: {=IF(SUM(ABS(M18:Y18))>0,IF(OR($M$8:$Y$8=M18:Y18),"Hide","Show"),"")}
C19: Applied voltage to outdoor unit (V) | L19: {=IF(SUM(ABS(M19:Y19))>0,IF(OR($M$8:$Y$8=M19:Y19),"Hide","Show"),"")}
C20: Applied voltage to indoor unit (V) | L20: {=IF(SUM(ABS(M20:Y20))>0,IF(OR($M$8:$Y$8=M20:Y20),"Hide","Show"),"")}
C21: Compressor Speed (RPM/Hz)
D22: Total Measurement | L22: {=IF(SUM(ABS(M22:Y22))>0,IF(OR($M$8:$Y$8=M22:Y22),"Hide","Show"),"")}
C23: Total Indoor Unit Energy (Watts-hours) | L23: {=IF(SUM(ABS(M23:Y23))>0,IF(OR($M$8:$Y$8=M23:Y23),"Hide","Show"),"")}
C24: Total System Energy (Ecycdry in watts-hours, see Appendix M sections 3.5.h and 3.5.i) | L24: {=IF(SUM(ABS(M24:Y24))>0,IF(OR($M$8:$Y$8=M24:Y24),"Hide","Show"),"")}
L25: {=IF(SUM(ABS(M25:Y25))>0,IF(OR($M$8:$Y$8=M25:Y25),"Hide","Show"),"")}
C26: Pressure Measurements | L26: {=IF(SUM(ABS(M26:Y26))>0,IF(OR($M$8:$Y$8=M26:Y26),"Hide","Show"),"")}
D27: Measurements Taken During On Cycle | L27: {=IF(SUM(ABS(M27:Y27))>0,IF(OR($M$8:$Y$8=M27:Y27),"Hide","Show"),"")}
D28: Avg | E28: Min | F28: Max | L28: {=IF(SUM(ABS(M28:Y28))>0,IF(OR($M$8:$Y$8=M28:Y28),"Hide","Show"),"")}
C29: Barometric Pressure - (in. Hg) | L29: {=IF(SUM(ABS(M29:Y29))>0,IF(OR($M$8:$Y$8=M29:Y29),"Hide","Show"),"")}
C30: Indoor Nozzle Pressure Delta (in. WC) | L30: {=IF(SUM(ABS(M30:Y30))>0,IF(OR($M$8:$Y$8=M30:Y30),"Hide","Show"),"")}
C31: Indoor external static pressure (in. H2O) | L31: {=IF(SUM(ABS(M31:Y31))>0,IF(OR($M$8:$Y$8=M31:Y31),"Hide","Show"),"")}
L32: {=IF(SUM(ABS(M32:Y32))>0,IF(OR($M$8:$Y$8=M32:Y32),"Hide","Show"),"")}
C33: Airflow Measurements | L33: {=IF(SUM(ABS(M33:Y33))>0,IF(OR($M$8:$Y$8=M33:Y33),"Hide","Show"),"")}
D34: Average Measurement During On Cycle | L34: {=IF(SUM(ABS(M34:Y34))>0,IF(OR($M$8:$Y$8=M34:Y34),"Hide","Show"),"")}
C35: Indoor Unit Airflow (cfm) | L35: {=IF(SUM(ABS(M35:Y35))>0,IF(OR($M$8:$Y$8=M35:Y35),"Hide","Show"),"")}
C36: Indoor Unit Standard Airflow (scfm) | L36: {=IF(SUM(ABS(M36:Y36))>0,IF(OR($M$8:$Y$8=M36:Y36),"Hide","Show"),"")}
L37: {=IF(SUM(ABS(M37:Y37))>0,IF(OR($M$8:$Y$8=M37:Y37),"Hide","Show"),"")}
C38: Air Temperatures | L38: {=IF(SUM(ABS(M38:Y38))>0,IF(OR($M$8:$Y$8=M38:Y38),"Hide","Show"),"")}
D39: Measurements Taken During On Cycle | L39: {=IF(SUM(ABS(M39:Y39))>0,IF(OR($M$8:$Y$8=M39:Y39),"Hide","Show"),"")}
D40: Avg | E40: Min | F40: Max | L40: {=IF(SUM(ABS(M40:Y40))>0,IF(OR($M$8:$Y$8=M40:Y40),"Hide","Show"),"")}
C41: Indoor air entering dry bulb temperature (F) | L41: {=IF(SUM(ABS(M41:Y41))>0,IF(OR($M$8:$Y$8=M41:Y41),"Hide","Show"),"")}
C42: Indoor air entering wet bulb temperature (F) | L42: {=IF(SUM(ABS(M42:Y42))>0,IF(OR($M$8:$Y$8=M42:Y42),"Hide","Show"),"")}
C43: Indoor air leaving dry bulb temperature (F) | L43: {=IF(SUM(ABS(M43:Y43))>0,IF(OR($M$8:$Y$8=M43:Y43),"Hide","Show"),"")}
C44: Indoor air leaving wet bulb temperature (F) | L44: {=IF(SUM(ABS(M44:Y44))>0,IF(OR($M$8:$Y$8=M44:Y44),"Hide","Show"),"")}
C45: Outdoor air entering dry bulb temperature (F) | L45: {=IF(SUM(ABS(M45:Y45))>0,IF(OR($M$8:$Y$8=M45:Y45),"Hide","Show"),"")}
C46: Outdoor air entering wet bulb temperature (F) | L46: {=IF(SUM(ABS(M46:Y46))>0,IF(OR($M$8:$Y$8=M46:Y46),"Hide","Show"),"")}
C47: Outdoor air leaving dry bulb temperature (F) | L47: {=IF(SUM(ABS(M47:Y47))>0,IF(OR($M$8:$Y$8=M47:Y47),"Hide","Show"),"")}
C48: Outdoor air leaving wet bulb temperature (F) | L48: {=IF(SUM(ABS(M48:Y48))>0,IF(OR($M$8:$Y$8=M48:Y48),"Hide","Show"),"")}
L49: {=IF(SUM(ABS(M49:Y49))>0,IF(OR($M$8:$Y$8=M49:Y49),"Hide","Show"),"")}
C50: Heating Capacity | L50: {=IF(SUM(ABS(M50:Y50))>0,IF(OR($M$8:$Y$8=M50:Y50),"Hide","Show"),"")}
D51: Total Measurement | L51: {=IF(SUM(ABS(M51:Y51))>0,IF(OR($M$8:$Y$8=M51:Y51),"Hide","Show"),"")}
C52: Total Space Heating Delivered (Qcycdry in Btu, see Appendix M section 3.8) | L52: {=IF(SUM(ABS(M52:Y52))>0,IF(OR($M$8:$Y$8=M52:Y52),"Hide","Show"),"")}
C53: Correction (if applicable) | L53: {=IF(SUM(ABS(M53:Y53))>0,IF(OR($M$8:$Y$8=M53:Y53),"Hide","Show"),"")}
C54: Corrected Total Space Heating Delivered (Qcycdry in Btu, see Appendix M section 3.5.i) | D54: =IF(D52+D53=0,"",D52+D53) | L54: {=IF(SUM(ABS(M54:Y54))>0,IF(OR($M$8:$Y$8=M54:Y54),"Hide","Show"),"")}
L55: {=IF(SUM(ABS(M55:Y55))>0,IF(OR($M$8:$Y$8=M55:Y55),"Hide","Show"),"")}
L56: {=IF(SUM(ABS(M56:Y56))>0,IF(OR($M$8:$Y$8=M56:Y56),"Hide","Show"),"")}
B57: =IF($F$6<>"-","'"&$F$6&" Test' Data to be recorded", "Test Not Applicable") -> #N/A | L57: {=IF(SUM(ABS(M57:Y57))>0,IF(OR($M$8:$Y$8=M57:Y57),"Hide","Show"),"")}
L58: {=IF(SUM(ABS(M58:Y58))>0,IF(OR($M$8:$Y$8=M58:Y58),"Hide","Show"),"")}
C59: Duration of the OFF/ON intervals (hours) | L59: {=IF(SUM(ABS(M59:Y59))>0,IF(OR($M$8:$Y$8=M59:Y59),"Hide","Show"),"")}
C60: The data below is reported starting how many seconds after airflow initiation? (see requirements in footnotes 2 and 4 of Table 17 in Appendix M) | E60: seconds
L61: {=IF(SUM(ABS(M61:Y61))>0,IF(OR($M$8:$Y$8=M61:Y61),"Hide","Show"),"")}
C62: Electrical Input | L62: {=IF(SUM(ABS(M62:Y62))>0,IF(OR($M$8:$Y$8=M62:Y62),"Hide","Show"),"")}
D63: Measurements Taken During On Cycle | L63: {=IF(SUM(ABS(M63:Y63))>0,IF(OR($M$8:$Y$8=M63:Y63),"Hide","Show"),"")}
D64: Avg | E64: Min | F64: Max | L64: {=IF(SUM(ABS(M64:Y64))>0,IF(OR($M$8:$Y$8=M64:Y64),"Hide","Show"),"")}
C65: Applied voltage to outdoor unit (V) | L65: {=IF(SUM(ABS(M65:Y65))>0,IF(OR($M$8:$Y$8=M65:Y65),"Hide","Show"),"")}
C66: Applied voltage to indoor unit (V) | L66: {=IF(SUM(ABS(M66:Y66))>0,IF(OR($M$8:$Y$8=M66:Y66),"Hide","Show"),"")}
C67: Compressor Speed (RPM/Hz)
D68: Total Measurement | L68: {=IF(SUM(ABS(M68:Y68))>0,IF(OR($M$8:$Y$8=M68:Y68),"Hide","Show"),"")}
C69: Total Indoor Unit Energy (Watts-hours) | L69: {=IF(SUM(ABS(M69:Y69))>0,IF(OR($M$8:$Y$8=M69:Y69),"Hide","Show"),"")}
C70: Total System Energy (Ecycdry in watts-hours, see Appendix M sections 3.5.h and 3.5.i) | L70: {=IF(SUM(ABS(M70:Y70))>0,IF(OR($M$8:$Y$8=M70:Y70),"Hide","Show"),"")}
L71: {=IF(SUM(ABS(M71:Y71))>0,IF(OR($M$8:$Y$8=M71:Y71),"Hide","Show"),"")}
C72: Pressure Measurements | L72: {=IF(SUM(ABS(M72:Y72))>0,IF(OR($M$8:$Y$8=M72:Y72),"Hide","Show"),"")}
D73: Measurements Taken During On Cycle | L73: {=IF(SUM(ABS(M73:Y73))>0,IF(OR($M$8:$Y$8=M73:Y73),"Hide","Show"),"")}
D74: Avg | E74: Min | F74: Max | L74: {=IF(SUM(ABS(M74:Y74))>0,IF(OR($M$8:$Y$8=M74:Y74),"Hide","Show"),"")}
C75: Barometric Pressure - (in. Hg) | L75: {=IF(SUM(ABS(M75:Y75))>0,IF(OR($M$8:$Y$8=M75:Y75),"Hide","Show"),"")}
C76: Indoor Nozzle Pressure Delta (in. WC) | L76: {=IF(SUM(ABS(M76:Y76))>0,IF(OR($M$8:$Y$8=M76:Y76),"Hide","Show"),"")}
C77: Indoor external static pressure (in. H2O) | L77: {=IF(SUM(ABS(M77:Y77))>0,IF(OR($M$8:$Y$8=M77:Y77),"Hide","Show"),"")}
L78: {=IF(SUM(ABS(M78:Y78))>0,IF(OR($M$8:$Y$8=M78:Y78),"Hide","Show"),"")}
C79: Airflow Measurements | L79: {=IF(SUM(ABS(M79:Y79))>0,IF(OR($M$8:$Y$8=M79:Y79),"Hide","Show"),"")}
D80: Average Measurement During On Cycle | L80: {=IF(SUM(ABS(M80:Y80))>0,IF(OR($M$8:$Y$8=M80:Y80),"Hide","Show"),"")}
C81: Indoor Unit Airflow (cfm) | L81: {=IF(SUM(ABS(M81:Y81))>0,IF(OR($M$8:$Y$8=M81:Y81),"Hide","Show"),"")}
C82: Indoor Unit Standard Airflow (scfm) | L82: {=IF(SUM(ABS(M82:Y82))>0,IF(OR($M$8:$Y$8=M82:Y82),"Hide","Show"),"")}
L83: {=IF(SUM(ABS(M83:Y83))>0,IF(OR($M$8:$Y$8=M83:Y83),"Hide","Show"),"")}
C84: Air Temperatures | L84: {=IF(SUM(ABS(M84:Y84))>0,IF(OR($M$8:$Y$8=M84:Y84),"Hide","Show"),"")}
D85: Measurements Taken During On Cycle | L85: {=IF(SUM(ABS(M85:Y85))>0,IF(OR($M$8:$Y$8=M85:Y85),"Hide","Show"),"")}
D86: Avg | E86: Min | F86: Max | L86: {=IF(SUM(ABS(M86:Y86))>0,IF(OR($M$8:$Y$8=M86:Y86),"Hide","Show"),"")}
C87: Indoor air entering dry bulb temperature (F) | L87: {=IF(SUM(ABS(M87:Y87))>0,IF(OR($M$8:$Y$8=M87:Y87),"Hide","Show"),"")}
C88: Indoor air entering wet bulb temperature (F) | L88: {=IF(SUM(ABS(M88:Y88))>0,IF(OR($M$8:$Y$8=M88:Y88),"Hide","Show"),"")}
C89: Indoor air leaving dry bulb temperature (F) | L89: {=IF(SUM(ABS(M89:Y89))>0,IF(OR($M$8:$Y$8=M89:Y89),"Hide","Show"),"")}
C90: Indoor air leaving wet bulb temperature (F) | L90: {=IF(SUM(ABS(M90:Y90))>0,IF(OR($M$8:$Y$8=M90:Y90),"Hide","Show"),"")}
C91: Outdoor air entering dry bulb temperature (F) | L91: {=IF(SUM(ABS(M91:Y91))>0,IF(OR($M$8:$Y$8=M91:Y91),"Hide","Show"),"")}
C92: Outdoor air entering wet bulb temperature (F) | L92: {=IF(SUM(ABS(M92:Y92))>0,IF(OR($M$8:$Y$8=M92:Y92),"Hide","Show"),"")}
C93: Outdoor air leaving dry bulb temperature (F) | L93: {=IF(SUM(ABS(M93:Y93))>0,IF(OR($M$8:$Y$8=M93:Y93),"Hide","Show"),"")}
C94: Outdoor air leaving wet bulb temperature (F) | L94: {=IF(SUM(ABS(M94:Y94))>0,IF(OR($M$8:$Y$8=M94:Y94),"Hide","Show"),"")}
L95: {=IF(SUM(ABS(M95:Y95))>0,IF(OR($M$8:$Y$8=M95:Y95),"Hide","Show"),"")}
C96: Heating Capacity | L96: {=IF(SUM(ABS(M96:Y96))>0,IF(OR($M$8:$Y$8=M96:Y96),"Hide","Show"),"")}
D97: Total Measurement | L97: {=IF(SUM(ABS(M97:Y97))>0,IF(OR($M$8:$Y$8=M97:Y97),"Hide","Show"),"")}
C98: Total Space Heating Delivered (Qcycdry in Btu, see Appendix M section 3.8) | L98: {=IF(SUM(ABS(M98:Y98))>0,IF(OR($M$8:$Y$8=M98:Y98),"Hide","Show"),"")}
C99: Correction (if applicable) | L99: {=IF(SUM(ABS(M99:Y99))>0,IF(OR($M$8:$Y$8=M99:Y99),"Hide","Show"),"")}
C100: Corrected Total Space Heating Delivered (Qcycdry in Btu, see Appendix M section 3.5.i) | D100: =IF(D98+D99=0,"",D98+D99) | L100: {=IF(SUM(ABS(M100:Y100))>0,IF(OR($M$8:$Y$8=M100:Y100),"Hide","Show"),"")}
L101: {=IF(SUM(ABS(M101:Y101))>0,IF(OR($M$8:$Y$8=M101:Y101),"Hide","Show"),"")}
L102: {=IF(SUM(ABS(M102:Y102))>0,IF(OR($M$8:$Y$8=M102:Y102),"Hide","Show"),"")}
L103: {=IF(SUM(ABS(M103:Y103))>0,IF(OR($M$8:$Y$8=M103:Y103),"Hide","Show"),"")}
L104: {=IF(SUM(ABS(M104:Y104))>0,IF(OR($M$8:$Y$8=M104:Y104),"Hide","Show"),"")}
...

Sheet Off Mode Test
B2: Title Block | E2: Back to Instructions tab
B3: Test Report Template Name: | C3: ='Version Control'!C3 -> Residential Central Air Conditioners and Heat Pumps_M1
B4: Version Number: | C4: ='Version Control'!C4 -> v1.1 | H4: Product Information
B5: Latest Template Revision: | C5: ='Version Control'!C5 -> 43668 | H5: Product Type | I5: ='General Info and Test Results'!C25 -> 0
B6: Tab Name: | C6: =MID(CELL("filename",$A$1), FIND("]", CELL("filename", $A$1))+ 1, 255) -> Off Mode Test | H6: Compressor Type | I6: ='General Info and Test Results'!C27 -> 0
B7: File Name: | C7: =MID(CELL("FILENAME"),FIND("[",CELL("FILENAME"))+1,FIND("]",CELL("FILENAME"))-FIND("[",CELL("FILENAME"))-1) -> Residential Central Air Conditioners and Heat Pumps_M1_Notebook.xlsx | H7: Indoor Fan Type | I7: ='General Info and Test Results'!C29 -> 0
B8: Test Completion Date: | C8: ='Version Control'!C8 -> [MM/DD/YYYY] | H8: Outdoor Fan Type | I8: =OD_FanType_Input -> 0
C11: 'Off Mode Test' - Unit Design
C12: Tested unit has compressor crankcase heaters?
C13: If yes, is it self-regulating crankcase heater?
C14: Is the tested unit a coil-only unit or blower split system for which a furnace or a modular blower is the designated air mover?
C15: Number of Compressors | L15: {=IF(SUM(ABS(M15:Y15))>0,IF(OR($M$8:$Y$8=M15:Y15),"Hide","Show"),"")}
C16: Number of Single-stage Compressors | L16: {=IF(SUM(ABS(M16:Y16))>0,IF(OR($M$8:$Y$8=M16:Y16),"Hide","Show"),"")}
C17: DOE certified crankcase heater turn-on temperature (°F ) | L17: {=IF(SUM(ABS(M17:Y17))>0,IF(OR($M$8:$Y$8=M17:Y17),"Hide","Show"),"")}
L18: {=IF(SUM(ABS(M18:Y18))>0,IF(OR($M$8:$Y$8=M18:Y18),"Hide","Show"),"")}
L19: {=IF(SUM(ABS(M19:Y19))>0,IF(OR($M$8:$Y$8=M19:Y19),"Hide","Show"),"")}
B20: 'Off Mode Test' Data to be recorded | L20: {=IF(SUM(ABS(M20:Y20))>0,IF(OR($M$8:$Y$8=M20:Y20),"Hide","Show"),"")}
L21: {=IF(SUM(ABS(M21:Y21))>0,IF(OR($M$8:$Y$8=M21:Y21),"Hide","Show"),"")}
C22: Test Conditions | L22: {=IF(SUM(ABS(M22:Y22))>0,IF(OR($M$8:$Y$8=M22:Y22),"Hide","Show"),"")}
D23: Measurement | L23: {=IF(SUM(ABS(M23:Y23))>0,IF(OR($M$8:$Y$8=M23:Y23),"Hide","Show"),"")}
D24: Avg | E24: Min | F24: Max | L24: {=IF(SUM(ABS(M24:Y24))>0,IF(OR($M$8:$Y$8=M24:Y24),"Hide","Show"),"")}
C25: Applied voltage to outdoor unit (V) | L25: {=IF(SUM(ABS(M25:Y25))>0,IF(OR($M$8:$Y$8=M25:Y25),"Hide","Show"),"")}
C26: Applied voltage to indoor unit (V) | L26: {=IF(SUM(ABS(M26:Y26))>0,IF(OR($M$8:$Y$8=M26:Y26),"Hide","Show"),"")}
C27: Outdoor Dry-bulb Temperature (F) (P1 test) | L27: {=IF(SUM(ABS(M27:Y27))>0,IF(OR($M$8:$Y$8=M27:Y27),"Hide","Show"),"")}
C28: Outdoor Dry-bulb Temperature (F) (P2 test) | L28: {=IF(SUM(ABS(M28:Y28))>0,IF(OR($M$8:$Y$8=M28:Y28),"Hide","Show"),"")}
L29: {=IF(SUM(ABS(M29:Y29))>0,IF(OR($M$8:$Y$8=M29:Y29),"Hide","Show"),"")}
C30: Power Measurements | L30: {=IF(SUM(ABS(M30:Y30))>0,IF(OR($M$8:$Y$8=M30:Y30),"Hide","Show"),"")}
D31: Measurement | L31: {=IF(SUM(ABS(M31:Y31))>0,IF(OR($M$8:$Y$8=M31:Y31),"Hide","Show"),"")}
C32: P2x (W) | L32: {=IF(SUM(ABS(M32:Y32))>0,IF(OR($M$8:$Y$8=M32:Y32),"Hide","Show"),"")}
C33: P1x (W) | L33: {=IF(SUM(ABS(M33:Y33))>0,IF(OR($M$8:$Y$8=M33:Y33),"Hide","Show"),"")}
C34: Px (W) | L34: {=IF(SUM(ABS(M34:Y34))>0,IF(OR($M$8:$Y$8=M34:Y34),"Hide","Show"),"")}
L35: {=IF(SUM(ABS(M35:Y35))>0,IF(OR($M$8:$Y$8=M35:Y35),"Hide","Show"),"")}
L36: {=IF(SUM(ABS(M36:Y36))>0,IF(OR($M$8:$Y$8=M36:Y36),"Hide","Show"),"")}
B37: Off Mode Power Results | L37: {=IF(SUM(ABS(M37:Y37))>0,IF(OR($M$8:$Y$8=M37:Y37),"Hide","Show"),"")}
L38: {=IF(SUM(ABS(M38:Y38))>0,IF(OR($M$8:$Y$8=M38:Y38),"Hide","Show"),"")}
D39: Unrounded Power Result | F39: Calculated Power Result (rounded per reference test procedure) | L39: {=IF(SUM(ABS(M39:Y39))>0,IF(OR($M$8:$Y$8=M39:Y39),"Hide","Show"),"")}
C40: Shoulder-season per-compressor off mode power, P1 (W) | D40: =MROUND(IF(OR(D12="No", AND(D12="Yes", D13="No", D17>71)),D41, IF(D14="No",D33/(D16+1.75*(D15-D16)),(D33-D34)/(D16+1.75*(D15-D16)))),1) -> #DIV/0! | L40: {=IF(SUM(ABS(M40:Y40))>0,IF(OR($M$8:$Y$8=M40:Y40),"Hide","Show"),"")}
C41: Heating-season per-compressor off mode power, P2 (W) | D41: =MROUND(IF(D14="No",D32/(D16+1.75*(D15-D16)),(D32-D34)/(D16+1.75*(D15-D16))),1) -> #DIV/0! | L41: {=IF(SUM(ABS(M41:Y41))>0,IF(OR($M$8:$Y$8=M41:Y41),"Hide","Show"),"")}
C42: Off-mode Power Consumption, PW,OFF (W) | D42: =IF('General Info and Test Results'!C43<36000,('Off Mode Test'!D40:E40+'Off Mode Test'!D41:E41)/2, IF('General Info and Test Results'!C27="Single-Speed",('Off Mode Test'!D40:E40+'Off Mode Test'!D41:E41)/(2*('A Tests'!D83:F83/36000)),('Off Mode Test'!D40:E40+'Off Mode Test'!D41:E41)/(2*('A Tests'!D153:F153/36000)))) -> #DIV/0! | F42: =MROUND(D42,0.5) -> #DIV/0! | L42: {=IF(SUM(ABS(M42:Y42))>0,IF(OR($M$8:$Y$8=M42:Y42),"Hide","Show"),"")}
L43: {=IF(SUM(ABS(M43:Y43))>0,IF(OR($M$8:$Y$8=M43:Y43),"Hide","Show"),"")}
L44: {=IF(SUM(ABS(M44:Y44))>0,IF(OR($M$8:$Y$8=M44:Y44),"Hide","Show"),"")}
L45: {=IF(SUM(ABS(M45:Y45))>0,IF(OR($M$8:$Y$8=M45:Y45),"Hide","Show"),"")}
L46: {=IF(SUM(ABS(M46:Y46))>0,IF(OR($M$8:$Y$8=M46:Y46),"Hide","Show"),"")}
L47: {=IF(SUM(ABS(M47:Y47))>0,IF(OR($M$8:$Y$8=M47:Y47),"Hide","Show"),"")}
L48: {=IF(SUM(ABS(M48:Y48))>0,IF(OR($M$8:$Y$8=M48:Y48),"Hide","Show"),"")}
L49: {=IF(SUM(ABS(M49:Y49))>0,IF(OR($M$8:$Y$8=M49:Y49),"Hide","Show"),"")}
L50: {=IF(SUM(ABS(M50:Y50))>0,IF(OR($M$8:$Y$8=M50:Y50),"Hide","Show"),"")}
L51: {=IF(SUM(ABS(M51:Y51))>0,IF(OR($M$8:$Y$8=M51:Y51),"Hide","Show"),"")}
L52: {=IF(SUM(ABS(M52:Y52))>0,IF(OR($M$8:$Y$8=M52:Y52),"Hide","Show"),"")}
L53: {=IF(SUM(ABS(M53:Y53))>0,IF(OR($M$8:$Y$8=M53:Y53),"Hide","Show"),"")}
L54: {=IF(SUM(ABS(M54:Y54))>0,IF(OR($M$8:$Y$8=M54:Y54),"Hide","Show"),"")}
... L309: {=IF(SUM(ABS(M309:Y309))>0,IF(OR($M$8:$Y$8=M309:Y309),"Hide","Show"),"")}

Sheet Calculations
B2: Title Block
B3: Test Report Template Name: | C3: ='Version Control'!C3 -> Residential Central Air Conditioners and Heat Pumps_M1 | E3: Back to Instructions tab | G3: Product Information
B4: Version Number: | C4: ='Version Control'!C4 -> v1.1 | G4: Product Type | H4: ='General Info and Test Results'!C25 -> 0
B5: Latest Template Revision: | C5: ='Version Control'!C5 -> 43668 | G5: Compressor Type | H5: ='General Info and Test Results'!C27 -> 0
B6: Tab Name: | C6: =MID(CELL("filename",$A$1), FIND("]", CELL("filename", $A$1))+ 1, 255) -> Calculations | G6: Fan Type | H6: ='General Info and Test Results'!C29 -> 0
B7: File Name: | C7: =MID(CELL("FILENAME"),FIND("[",CELL("FILENAME"))+1,FIND("]",CELL("FILENAME"))-FIND("[",CELL("FILENAME"))-1) -> Residential Central Air Conditioners and Heat Pumps_M1_Notebook.xlsx
B8: Test Completion Date: | C8: ='Version Control'!C8 -> [MM/DD/YYYY]
B11: Nomenclature
B12: Variable | C12: Units | D12: Description
B13: Tj | C13: °F | D13: Outdoor bin temperature where j is bin number
B14: nj/N | C14: none | D14: Fractional Bin hours for the heating season
B15: BL(Tj) | C15: Btu/h | D15: Building space conditioning load corresponding to an outdoor temperature of Tj
B16: Qh(Tj) | C16: Btu/h | D16: Space heating capacity when operating at outdoor temperature Tj
B17: X(Tj) | C17: none | D17: Heating model load factor for temperature Tj
B18: Eh(Tj) | C18: W | D18: Electrical power consumption when operating at outdoor temperature Tj
B19: σ(Tj) | C19: none | D19: Heat pump low temperature cut-out factor
B20: PLF | C20: none | D20: Part load factor
B21: Fdef | C21: none | D21: Demand defrost credit
B23: Agreement Check
C24: Net Total Cooling Effect as Determined by: | G24: Agreement Check | I24: Electrical Power/Energy Input
C26: Indoor Air Enthalpy Method (Btu/h) | E26: Secondary Method (Btu/h) | G26: Do room-side and outdoor-side capacity agree within 6%? | H26: Difference between primary and secondary calculation capacities (%) | K26: Tab | L26: Test Name | M26: Test order
B27: A Test | C27: =IF($M27="1st Test",'A Tests'!$D$83,IF($M27="2nd Test",'A Tests'!$D$153)) -> #N/A | D27: Btu/h | E27: ='A Tests'!D88 -> #VALUE! | F27: Btu/h | G27: =(IF(ABS((C27-E27)/C27)<=0.06,"Yes","No")) -> #N/A | H27: =ABS((C27-E27)/C27) -> #N/A | I27: =IF($M27="1st Test",'A Tests'!$D$31,IF($M27="2nd Test",'A Tests'!$D$101)) -> #N/A | J27: W | K27: A Tests | L27: A | M27: =(INDEX(INDIRECT("'"&K27&"'!"&"E5:E7"),MATCH(L27,INDIRECT("'"&K27&"'!"&"F5:F7"),0))) -> #N/A
B28: A₁ Test | C28: =IF($M28="1st Test",'A Tests'!$D$83,IF($M28="2nd Test",'A Tests'!$D$153)) -> #N/A | D28: Btu/h | I28: =IF($M28="1st Test",'A Tests'!$D$31,IF($M28="2nd Test",'A Tests'!$D$101)) -> #N/A | J28: W | K28: A Tests | L28: A1 | M28: =(INDEX(INDIRECT("'"&K28&"'!"&"E5:E7"),MATCH(L28,INDIRECT("'"&K28&"'!"&"F5:F7"),0))) -> #N/A
B29: A₂ Test | C29: =IF($M29="1st Test",'A Tests'!$D$83,IF($M29="2nd Test",'A Tests'!$D$153)) -> #N/A | D29: Btu/h | E29: ='A Tests'!D88 -> #VALUE! | F29: Btu/h | G29: =IF(ABS((C29-E29)/C29)<=0.06,"Yes","No") -> #N/A | H29: =ABS((C29-E29)/C29) -> #N/A | I29: =IF($M29="1st Test",'A Tests'!$D$31,IF($M29="2nd Test",'A Tests'!$D$101)) -> #N/A | J29: W | K29: A Tests | L29: A2 | M29: =(INDEX(INDIRECT("'"&K29&"'!"&"E5:E7"),MATCH(L29,INDIRECT("'"&K29&"'!"&"F5:F7"),0))) -> #N/A
B30: B Test | C30: =IF($M30="1st Test",'B Tests'!$D$82,IF($M30="2nd Test",'B Tests'!$D$147)) -> #N/A | D30: Btu/h | I30: =IF($M30="1st Test",'B Tests'!$D$30,IF($M30="2nd Test",'B Tests'!$D$95)) -> #N/A | J30: W | K30: B Tests | L30: B | M30: =(INDEX(INDIRECT("'"&K30&"'!"&"E5:E7"),MATCH(L30,INDIRECT("'"&K30&"'!"&"F5:F7"),0))) -> #N/A
B31: B₁ Test | C31: =IF($M31="1st Test",'B Tests'!$D$82,IF($M31="2nd Test",'B Tests'!$D$147)) -> #N/A | D31: Btu/h | I31: =IF($M31="1st Test",'B Tests'!$D$30,IF($M31="2nd Test",'B Tests'!$D$95)) -> #N/A | J31: W | K31: B Tests | L31: B1 | M31: =(INDEX(INDIRECT("'"&K31&"'!"&"E5:E7"),MATCH(L31,INDIRECT("'"&K31&"'!"&"F5:F7"),0))) -> #N/A
B32: B₂ Test | C32: =IF($M32="1st Test",'B Tests'!$D$82,IF($M32="2nd Test",'B Tests'!$D$147)) -> #N/A | D32: Btu/h | I32: =IF($M32="1st Test",'B Tests'!$D$30,IF($M32="2nd Test",'B Tests'!$D$95)) -> #N/A | J32: W | K32: B Tests | L32: B2 | M32: =(INDEX(INDIRECT("'"&K32&"'!"&"E5:E7"),MATCH(L32,INDIRECT("'"&K32&"'!"&"F5:F7"),0))) -> #N/A
B33: Optional Test C | C33: =IF($M33="1st Test", 'Optional C Tests'!$D$73,IF($M33="2nd Test",'Optional C Tests'!$D$137)) -> #N/A | D33: Btu/h | I33: =IF($M33="1st Test",'Optional C Tests'!$D$22,IF($M33="2nd Test",'Optional C Tests'!$D$86)) -> #N/A | J33: W | K33: Optional C Tests | L33: Optional C | M33: =(INDEX(INDIRECT("'"&K33&"'!"&"E5:E7"),MATCH(L33,INDIRECT("'"&K33&"'!"&"F5:F7"),0))) -> #N/A
B34: Optional Test C₁ | C34: =IF($M34="1st Test", 'Optional C Tests'!$D$73,IF($M34="2nd Test",'Optional C Tests'!$D$137)) -> #N/A | D34: Btu/h | I34: =IF($M34="1st Test",'Optional C Tests'!$D$22,IF($M34="2nd Test",'Optional C Tests'!$D$86)) -> #N/A | J34: W | K34: Optional C Tests | L34: Optional C1 | M34: =(INDEX(INDIRECT("'"&K34&"'!"&"E5:E7"),MATCH(L34,INDIRECT("'"&K34&"'!"&"F5:F7"),0))) -> #N/A
B35: Optional Test C₂ | C35: =IF($M35="1st Test", 'Optional C Tests'!$D$73,IF($M35="2nd Test",'Optional C Tests'!$D$137)) -> #N/A | D35: Btu/h | I35: =IF($M35="1st Test",'Optional C Tests'!$D$22,IF($M35="2nd Test",'Optional C Tests'!$D$86)) -> #N/A | J35: W | K35: Optional C Tests | L35: Optional C2 | M35: =(INDEX(INDIRECT("'"&K35&"'!"&"E5:E7"),MATCH(L35,INDIRECT("'"&K35&"'!"&"F5:F7"),0))) -> #N/A
B36: Optional Test D | C36: =IF($M36="1st Test",'Optional D Tests'!$D$56,IF($M36="2nd Test",'Optional D Tests'!$D$104)) -> #N/A | D36: Btu/h | I36: =IF($M36="1st Test",'Optional D Tests'!$D$25,IF($M36="2nd Test",'Optional D Tests'!$D$73)) -> #N/A | J36: Wh | K36: Optional D Tests | L36: Optional D | M36: =(INDEX(INDIRECT("'"&K36&"'!"&"E5:E7"),MATCH(L36,INDIRECT("'"&K36&"'!"&"F5:F7"),0))) -> #N/A
B37: Optional Test D₁ | C37: =IF($M37="1st Test",'Optional D Tests'!$D$56,IF($M37="2nd Test",'Optional D Tests'!$D$104)) -> #N/A | D37: Btu/h | I37: =IF($M37="1st Test",'Optional D Tests'!$D$25,IF($M37="2nd Test",'Optional D Tests'!$D$73)) -> #N/A | J37: Wh | K37: Optional D Tests | L37: Optional D1 | M37: =(INDEX(INDIRECT("'"&K37&"'!"&"E5:E7"),MATCH(L37,INDIRECT("'"&K37&"'!"&"F5:F7"),0))) -> #N/A
B38: Optional Test D₂ | C38: =IF($M38="1st Test",'Optional D Tests'!$D$56,IF($M38="2nd Test",'Optional D Tests'!$D$104)) -> #N/A | D38: Btu/h | I38: =IF($M38="1st Test",'Optional D Tests'!$D$25,IF($M38="2nd Test",'Optional D Tests'!$D$73)) -> #N/A | J38: Wh | K38: Optional D Tests | L38: Optional D2 | M38: =(INDEX(INDIRECT("'"&K38&"'!"&"E5:E7"),MATCH(L38,INDIRECT("'"&K38&"'!"&"F5:F7"),0))) -> #N/A
B39: F₁ Test | C39: ='F1 Test'!D79 | D39: Btu/h | I39: ='F1 Test'!D28 -> 0 | J39: W | K39: F1 Test | L39: F1 | M39: =(INDEX(INDIRECT("'"&K39&"'!"&"E5:E7"),MATCH(L39,INDIRECT("'"&K39&"'!"&"F5:F7"),0))) -> #N/A
B40: Ev Test | C40: ='Ev Test'!D73 | D40: Btu/h | I40: ='Ev Test'!D23 -> 0 | J40: W | K40: Ev Test | L40: Ev | M40: =(INDEX(INDIRECT("'"&K40&"'!"&"E5:E7"),MATCH(L40,INDIRECT("'"&K40&"'!"&"F5:F7"),0))) -> #N/A
B41: Optional Test G₁ | C41: ='Optional G1 Test'!D73 | D41: Btu/h | I41: ='Optional G1 Test'!D21 -> 0 | J41: W | K41: Optional G1 Test | L41: Optional G1 | M41: =(INDEX(INDIRECT("'"&K41&"'!"&"E5:E7"),MATCH(L41,INDIRECT("'"&K41&"'!"&"F5:F7"),0))) -> #N/A
B42: Optional Test I₁ | C42: ='Optional I1 Test'!D77 | D42: Btu/h | I42: ='Optional I1 Test'!D25 -> 0 | J42: Wh | K42: Optional I1 Test | L42: Optional I1 | M42: =(INDEX(INDIRECT("'"&K42&"'!"&"E5:E7"),MATCH(L42,INDIRECT("'"&K42&"'!"&"F5:F7"),0))) -> #N/A
B43: H1 Test | C43: =IF($M43="1st Test",'H1 Tests'!$D$78,IF($M43="2nd Test",'H1 Tests'!$D$147,IF($M43="3rd Test",'H1 Tests'!$D$213))) -> #N/A | D43: Btu/h | E43: ='H1 Tests'!D82 | F43: Btu/h | G43: =IF(ABS((C43-E43)/C43)<=0.06,"Yes","No") -> #N/A | H43: =ABS((C43-E43)/C43) -> #N/A | I43: =IF($M43="1st Test",'H1 Tests'!$D$27,IF($M43="2nd Test",'H1 Tests'!$D$96,IF($M43="3rd Test",'H1 Tests'!$D$162))) -> #N/A | J43: W | K43: H1 Tests | L43: H1 | M43: =(INDEX(INDIRECT("'"&K43&"'!"&"E5:E7"),MATCH(L43,INDIRECT("'"&K43&"'!"&"F5:F7"),0))) -> #N/A
B44: H1₁ Test | C44: =IF($M44="1st Test",'H1 Tests'!$D$78,IF($M44="2nd Test",'H1 Tests'!$D$147,IF($M44="3rd Test",'H1 Tests'!$D$213))) -> #N/A | D44: Btu/h | I44: =IF($M44="1st Test",'H1 Tests'!$D$27,IF($M44="2nd Test",'H1 Tests'!$D$96,IF($M44="3rd Test",'H1 Tests'!$D$162))) -> #N/A | J44: W | K44: H1 Tests | L44: H1-1 | M44: =(INDEX(INDIRECT("'"&K44&"'!"&"E5:E7"),MATCH(L44,INDIRECT("'"&K44&"'!"&"F5:F7"),0))) -> #N/A
B45: H1₂ Test | C45: =IF($M45="1st Test",'H1 Tests'!$D$78,IF($M45="2nd Test",'H1 Tests'!$D$147,IF($M45="3rd Test",'H1 Tests'!$D$213))) -> #N/A | D45: Btu/h | E45: ='H1 Tests'!D82 | F45: Btu/h | G45: =IF(ABS((C45-E45)/C45)<=0.06,"Yes","No") -> #N/A | H45: =ABS((C45-E45)/C45) -> #N/A | I45: =IF($M45="1st Test",'H1 Tests'!$D$27,IF($M45="2nd Test",'H1 Tests'!$D$96,IF($M45="3rd Test",'H1 Tests'!$D$162))) -> #N/A | J45: W | K45: H1 Tests | L45: =IF('H1 Tests'!$D$11="Yes","H1-N","H1-2") -> H1-2 | M45: {=(INDEX(INDIRECT("'"&K45&"'!"&"E5:E7"),MATCH(TRUE,ISNUMBER(SEARCH(L45,INDIRECT("'"&K45&"'!"&"F5:F7"))),0)))} -> #N/A | N45: May be required or optional
B46: H2 Test | C46: =IF($M46="1st Test",'H2 Tests'!$D$80,IF($M46="2nd Test",'H2 Tests'!$D$149)) -> #N/A | D46: Btu/h | I46: =IF($M46="1st Test",'H2 Tests'!$D$27,IF($M46="2nd Test",'H2 Tests'!$D$96)) -> #N/A | J46: W | K46: H2 Tests | L46: H2 | M46: =(INDEX(INDIRECT("'"&K46&"'!"&"E5:E7"),MATCH(L46,INDIRECT("'"&K46&"'!"&"F5:F7"),0))) -> #N/A
B47: H2₁ Test | C47: =IF($M47="1st Test",'H2 Tests'!$D$80,IF($M47="2nd Test",'H2 Tests'!$D$149)) -> #N/A | D47: Btu/h | I47: =IF($M47="1st Test",'H2 Tests'!$D$27,IF($M47="2nd Test",'H2 Tests'!$D$96)) -> #N/A | J47: W | K47: H2 Tests | L47: H2-1 | M47: {=(INDEX(INDIRECT("'"&K47&"'!"&"E5:E7"),MATCH(TRUE,ISNUMBER(SEARCH(L47,INDIRECT("'"&K47&"'!"&"F5:F7"))),0)))} -> #N/A | N47: May be required or optional
B48: H2₂ Test | C48: =IF($M48="1st Test",'H2 Tests'!$D$80,IF($M48="2nd Test",'H2 Tests'!$D$149)) -> #N/A | D48: Btu/h | I48: =IF($M48="1st Test",'H2 Tests'!$D$27,IF($M48="2nd Test",'H2 Tests'!$D$96)) -> #N/A | J48: W | K48: H2 Tests | L48: H2-2 | M48: {=(INDEX(INDIRECT("'"&K48&"'!"&"E5:E7"),MATCH(TRUE,ISNUMBER(SEARCH(L48,INDIRECT("'"&K48&"'!"&"F5:F7"))),0)))} -> #N/A
B49: H3 Test | C49: =IF($M49="1st Test",'H3 Tests'!$D$75,IF($M49="2nd Test",'H3 Tests'!$D$140)) -> #N/A | D49: Btu/h | I49: =IF($M49="1st Test",'H3 Tests'!$D$24,IF($M49="2nd Test",'H3 Tests'!$D$89)) -> #N/A | J49: W | K49: H3 Tests | L49: H3 | M49: =(INDEX(INDIRECT("'"&K49&"'!"&"E5:E7"),MATCH(L49,INDIRECT("'"&K49&"'!"&"F5:F7"),0))) -> #N/A
B50: H3₁ Test | C50: =IF($M50="1st Test",'H3 Tests'!$D$75,IF($M50="2nd Test",'H3 Tests'!$D$140)) -> #N/A | D50: Btu/h | I50: =IF($M50="1st Test",'H3 Tests'!$D$24,IF($M50="2nd Test",'H3 Tests'!$D$89)) -> #N/A | J50: W | K50: H3 Tests | L50: H3-1 | M50: =(INDEX(INDIRECT("'"&K50&"'!"&"E5:E7"),MATCH(L50,INDIRECT("'"&K50&"'!"&"F5:F7"),0))) -> #N/A
B51: H3₂ Test | C51: =IF($M51="1st Test",'H3 Tests'!$D$75,IF($M51="2nd Test",'H3 Tests'!$D$140)) -> #N/A | D51: Btu/h | I51: =IF($M51="1st Test",'H3 Tests'!$D$24,IF($M51="2nd Test",'H3 Tests'!$D$89)) -> #N/A | J51: W | K51: H3 Tests | L51: H3-2 | M51: =(INDEX(INDIRECT("'"&K51&"'!"&"E5:E7"),MATCH(L51,INDIRECT("'"&K51&"'!"&"F5:F7"),0))) -> #N/A
B52: H4 Test | C52: ='Optional H4 Test'!D76 | D52: Btu/h | I52: ='Optional H4 Test'!D25 -> 0 | J52: W | K52: Optional H4 Test | L52: H4 | M52: =(INDEX(INDIRECT("'"&K52&"'!"&"E5:E7"),MATCH(L52,INDIRECT("'"&K52&"'!"&"F5:F7"),0))) -> #N/A
B53: H42 Test | C53: ='Optional H4 Test'!D76 | D53: Btu/h | I53: ='Optional H4 Test'!D25 -> 0 | J53: W | K53: Optional H4 Test | L53: H4-2 | M53: =(INDEX(INDIRECT("'"&K53&"'!"&"E5:E7"),MATCH(L53,INDIRECT("'"&K53&"'!"&"F5:F7"),0))) -> #N/A
B54: Optional Test H1C | C54: =IF($M54="1st Test",'Optional H1C Tests'!$D$54,IF($M54="2nd Test",'Optional H1C Tests'!$D$100)) -> #N/A | D54: Btu/h | I54: =IF($M54="1st Test",'Optional H1C Tests'!$D$24,IF($M54="2nd Test",'Optional H1C Tests'!$D$70)) -> #N/A | J54: Wh | K54: Optional H1C Tests | L54: Optional H1C | M54: =(INDEX(INDIRECT("'"&K54&"'!"&"E5:E7"),MATCH(L54,INDIRECT("'"&K54&"'!"&"F5:F7"),0))) -> #N/A
B55: Optional Test H1C₁ | C55: =IF($M55="1st Test",'Optional H1C Tests'!$D$54,IF($M55="2nd Test",'Optional H1C Tests'!$D$100)) -> #N/A | D55: Btu/h | I55: =IF($M55="1st Test",'Optional H1C Tests'!$D$24,IF($M55="2nd Test",'Optional H1C Tests'!$D$70)) -> #N/A | J55: Wh | K55: Optional H1C Tests | L55: Optional H1C-1 | M55: =(INDEX(INDIRECT("'"&K55&"'!"&"E5:E7"),MATCH(L55,INDIRECT("'"&K55&"'!"&"F5:F7"),0))) -> #N/A
B56: Optional Test H1C₂ | C56: =IF($M56="1st Test",'Optional H1C Tests'!$D$54,IF($M56="2nd Test",'Optional H1C Tests'!$D$100)) -> #N/A | D56: Btu/h | I56: =IF($M56="1st Test",'Optional H1C Tests'!$D$24,IF($M56="2nd Test",'Optional H1C Tests'!$D$70)) -> #N/A | J56: Wh | K56: Optional H1C Tests | L56: Optional H1C-2 | M56: =(INDEX(INDIRECT("'"&K56&"'!"&"E5:E7"),MATCH(L56,INDIRECT("'"&K56&"'!"&"F5:F7"),0))) -> #N/A
B57: Optional Test H0C₁ | C57: ='Optional H0C-1 Test'!D77 | D57: Btu/h | I57: ='Optional H0C-1 Test'!D26 -> 0 | J57: Wh | K57: Optional H0C-1 Test | L57: Optional H0C-1 | M57: =(INDEX(INDIRECT("'"&K57&"'!"&"E5:E7"),MATCH(L57,INDIRECT("'"&K57&"'!"&"F5:F7"),0))) -> #N/A
B58: H0₁ Test | C58: ='H0-1 Test'!D74 | D58: Btu/h | I58: ='H0-1 Test'!D23 -> 0 | J58: W | K58: H0-1 Test | L58: H0-1 | M58: =(INDEX(INDIRECT("'"&K58&"'!"&"E5:E7"),MATCH(L58,INDIRECT("'"&K58&"'!"&"F5:F7"),0))) -> #N/A
B59: H2v Test | C59: =IF($M59="1st Test",'H2 Tests'!$D$80,IF($M59="2nd Test",'H2 Tests'!$D$149)) -> #N/A | D59: Btu/h | I59: =IF($M59="1st Test",'H2 Tests'!$D$27,IF($M59="2nd Test",'H2 Tests'!$D$96)) -> #N/A | J59: W | K59: H2 Tests | L59: H2-V | M59: =(INDEX(INDIRECT("'"&K59&"'!"&"E5:E7"),MATCH(L59,INDIRECT("'"&K59&"'!"&"F5:F7"),0))) -> #N/A
B60: H1N Test | C60: =IF($M60="1st Test",'H1 Tests'!$D$78,IF($M60="2nd Test",'H1 Tests'!$D$147,IF($M60="3rd Test",'H1 Tests'!$D$213))) -> #N/A | D60: Btu/h | I60: =IF($M60="1st Test",'H1 Tests'!$D$27,IF($M60="2nd Test",'H1 Tests'!$D$96,IF($M60="3rd Test",'H1 Tests'!$D$162))) -> #N/A | J60: W | K60: H1 Tests | L60: H1-N | M60: =(INDEX(INDIRECT("'"&K60&"'!"&"E5:E7"),MATCH(L60,INDIRECT("'"&K60&"'!"&"F5:F7"),0))) -> #N/A
B63: Cooling Mode
B65: Single Speed Compressor, Fixed Fan Speed Calculations
B67: Part Load Factor | C67: =1-(0.5*C68) -> #N/A
B68: Cyclic-Degradation Coefficient (CD) | C68: =IF(IF(C33="",0.25,ROUND(MIN(0.25,((1-(($C$36/($I$36))/($C$33/($I$33))))/(1-$C$36/($C$33*'Optional D Tests'!$D$13)))),2))<0,0,IF(C33="",0.25,ROUND(MIN(0.25,((1-(($C$36/($I$36))/($C$33/($I$33))))/(1-$C$36/($C$33*'Optional D Tests'!$D$13)))),2))) -> #N/A
B69: EERB | C69: =$C$30/$I$30 -> #N/A
C70: Unrounded result | D70: Calculated Result (rounded per reference test procedure)
B71: SEER2 | C71: =C67*C69 -> #N/A | D71: =MROUND(C71,0.025) -> #N/A
B74: Single Speed Compressor, Variable Fan Speed Calculations
B76: Cyclic-Degradation Coefficient (CD) | C76: =IF(C34="",0.25,ROUND(MIN(0.25,((1-((C37/(I37))/(C34/(I34))))/(1-C37/(C34*'Optional D Tests'!D13)))),2)) -> #N/A
B78: Temperature Bin Number, j | C78: Tj | D78: nj/N | E78: BL(Tj) | F78: Qck=1(Tj) | G78: Qck=2(Tj) | H78: Fan Speed | I78: Qc(Tj) | J78: X(Tj) | K78: Eck=1(Tj) | L78: Eck=2(Tj) | M78: Ec(Tj) | N78: PLF | O78: ec(Tj)/N | P78: qc(Tj)/N
B79: =Tables!A26 -> 1 | C79: =Tables!C26 -> 67 | D79: =Tables!D26 -> 0.214 | E79: =IF(D79="","",((C79-65)/(95-65))*($C$29/1.1)) -> #N/A | F79: =$C$31+((($C$28-$C$31)/(95-82))*(C79-82)) -> #N/A | G79: =$C$32+((($C$29-$C$32)/(95-82))*(C79-82)) -> #N/A | I79: =F79+(((G79-F79)/('A Tests'!$D$134-'A Tests'!$D$64))*(H79-'A Tests'!$D$64)) -> #N/A | J79: =MIN(E79/I79,1) -> #N/A | K79: =$I$31+((($I$28-$I$31)/(95-82))*(C79-82)) -> #N/A | L79: =$I$32+((($I$29-$I$32)/(95-82))*(C79-82)) -> #N/A | M79: =K79+(((L79-K79)/('A Tests'!$D$134-'A Tests'!$D$64))*(H79-'A Tests'!$D$64)) -> #N/A | N79: =1-$C$76*(1-J79) -> #N/A | O79: =((J79*M79)/N79)*D79 -> #N/A | P79: =J79*I79*D79 -> #N/A
B80: =Tables!A27 -> 2 | C80: =Tables!C27 -> 72 | D80: =Tables!D27 -> 0.231 | E80: =IF(D80="","",((C80-65)/(95-65))*($C$29/1.1)) -> #N/A | F80: =$C$31+((($C$28-$C$31)/(95-82))*(C80-82)) -> #N/A | G80: =$C$32+((($C$29-$C$32)/(95-82))*(C80-82)) -> #N/A | I80: =F80+(((G80-F80)/('A Tests'!$D$134-'A Tests'!$D$64))*(H80-'A Tests'!$D$64)) -> #N/A | J80: =MIN(E80/I80,1) -> #N/A | K80: =$I$31+((($I$28-$I$31)/(95-82))*(C80-82)) -> #N/A | L80: =$I$32+((($I$29-$I$32)/(95-82))*(C80-82)) -> #N/A | M80: =K80+(((L80-K80)/('A Tests'!$D$134-'A Tests'!$D$64))*(H80-'A Tests'!$D$64)) -> #N/A | N80: =1-$C$76*(1-J80) -> #N/A | O80: =((J80*M80)/N80)*D80 -> #N/A | P80: =J80*I80*D80 -> #N/A
B81: =Tables!A28 -> 3 | C81: =Tables!C28 -> 77 | D81: =Tables!D28 -> 0.216 | E81: =IF(D81="","",((C81-65)/(95-65))*($C$29/1.1)) -> #N/A | F81: =$C$31+((($C$28-$C$31)/(95-82))*(C81-82)) -> #N/A | G81: =$C$32+((($C$29-$C$32)/(95-82))*(C81-82)) -> #N/A | I81: =F81+(((G81-F81)/('A Tests'!$D$134-'A Tests'!$D$64))*(H81-'A Tests'!$D$64)) -> #N/A | J81: =MIN(E81/I81,1) -> #N/A | K81: =$I$31+((($I$28-$I$31)/(95-82))*(C81-82)) -> #N/A | L81: =$I$32+((($I$29-$I$32)/(95-82))*(C81-82)) -> #N/A | M81: =K81+(((L81-K81)/('A Tests'!$D$134-'A Tests'!$D$64))*(H81-'A Tests'!$D$64)) -> #N/A | N81: =1-$C$76*(1-J81) -> #N/A | O81: =((J81*M81)/N81)*D81 -> #N/A | P81: =J81*I81*D81 -> #N/A
B82: =Tables!A29 -> 4 | C82: =Tables!C29 -> 82 | D82: =Tables!D29 -> 0.161 | E82: =IF(D82="","",((C82-65)/(95-65))*($C$29/1.1)) -> #N/A | F82: =$C$31+((($C$28-$C$31)/(95-82))*(C82-82)) -> #N/A | G82: =$C$32+((($C$29-$C$32)/(95-82))*(C82-82)) -> #N/A | I82: =F82+(((G82-F82)/('A Tests'!$D$134-'A Tests'!$D$64))*(H82-'A Tests'!$D$64)) -> #N/A | J82: =MIN(E82/I82,1) -> #N/A | K82: =$I$31+((($I$28-$I$31)/(95-82))*(C82-82)) -> #N/A | L82: =$I$32+((($I$29-$I$32)/(95-82))*(C82-82)) -> #N/A | M82: =K82+(((L82-K82)/('A Tests'!$D$134-'A Tests'!$D$64))*(H82-'A Tests'!$D$64)) -> #N/A | N82: =1-$C$76*(1-J82) -> #N/A | O82: =((J82*M82)/N82)*D82 -> #N/A | P82: =J82*I82*D82 -> #N/A
B83: =Tables!A30 -> 5 | C83: =Tables!C30 -> 87 | D83: =Tables!D30 -> 0.104 | E83: =IF(D83="","",((C83-65)/(95-65))*($C$29/1.1)) -> #N/A | F83: =$C$31+((($C$28-$C$31)/(95-82))*(C83-82)) -> #N/A | G83: =$C$32+((($C$29-$C$32)/(95-82))*(C83-82)) -> #N/A | I83: =F83+(((G83-F83)/('A Tests'!$D$134-'A Tests'!$D$64))*(H83-'A Tests'!$D$64)) -> #N/A | J83: =MIN(E83/I83,1) -> #N/A | K83: =$I$31+((($I$28-$I$31)/(95-82))*(C83-82)) -> #N/A | L83: =$I$32+((($I$29-$I$32)/(95-82))*(C83-82)) -> #N/A | M83: =K83+(((L83-K83)/('A Tests'!$D$134-'A Tests'!$D$64))*(H83-'A Tests'!$D$64)) -> #N/A | N83: =1-$C$76*(1-J83) -> #N/A | O83: =((J83*M83)/N83)*D83 -> #N/A | P83: =J83*I83*D83 -> #N/A
B84: =Tables!A31 -> 6 | C84: =Tables!C31 -> 92 | D84: =Tables!D31 -> 0.052 | E84: =IF(D84="","",((C84-65)/(95-65))*($C$29/1.1)) -> #N/A | F84: =$C$31+((($C$28-$C$31)/(95-82))*(C84-82)) -> #N/A | G84: =$C$32+((($C$29-$C$32)/(95-82))*(C84-82)) -> #N/A | I84: =F84+(((G84-F84)/('A Tests'!$D$134-'A Tests'!$D$64))*(H84-'A Tests'!$D$64)) -> #N/A | J84: =MIN(E84/I84,1) -> #N/A | K84: =$I$31+((($I$28-$I$31)/(95-82))*(C84-82)) -> #N/A | L84: =$I$32+((($I$29-$I$32)/(95-82))*(C84-82)) -> #N/A | M84: =K84+(((L84-K84)/('A Tests'!$D$134-'A Tests'!$D$64))*(H84-'A Tests'!$D$64)) -> #N/A | N84: =1-$C$76*(1-J84) -> #N/A | O84: =((J84*M84)/N84)*D84 -> #N/A | P84: =J84*I84*D84 -> #N/A
B85: =Tables!A32 -> 7 | C85: =Tables!C32 -> 97 | D85: =Tables!D32 -> 0.018 | E85: =IF(D85="","",((C85-65)/(95-65))*($C$29/1.1)) -> #N/A | F85: =$C$31+((($C$28-$C$31)/(95-82))*(C85-82)) -> #N/A | G85: =$C$32+((($C$29-$C$32)/(95-82))*(C85-82)) -> #N/A | I85: =F85+(((G85-F85)/('A Tests'!$D$134-'A Tests'!$D$64))*(H85-'A Tests'!$D$64)) -> #N/A | J85: =MIN(E85/I85,1) -> #N/A | K85: =$I$31+((($I$28-$I$31)/(95-82))*(C85-82)) -> #N/A | L85: =$I$32+((($I$29-$I$32)/(95-82))*(C85-82)) -> #N/A | M85: =K85+(((L85-K85)/('A Tests'!$D$134-'A Tests'!$D$64))*(H85-'A Tests'!$D$64)) -> #N/A | N85: =1-$C$76*(1-J85) -> #N/A | O85: =((J85*M85)/N85)*D85 -> #N/A | P85: =J85*I85*D85 -> #N/A
B86: =Tables!A33 -> 8 | C86: =Tables!C33 -> 102 | D86: =Tables!D33 -> 0.004 | E86: =IF(D86="","",((C86-65)/(95-65))*($C$29/1.1)) -> #N/A | F86: =$C$31+((($C$28-$C$31)/(95-82))*(C86-82)) -> #N/A | G86: =$C$32+((($C$29-$C$32)/(95-82))*(C86-82)) -> #N/A | I86: =F86+(((G86-F86)/('A Tests'!$D$134-'A Tests'!$D$64))*(H86-'A Tests'!$D$64)) -> #N/A | J86: =MIN(E86/I86,1) -> #N/A | K86: =$I$31+((($I$28-$I$31)/(95-82))*(C86-82)) -> #N/A | L86: =$I$32+((($I$29-$I$32)/(95-82))*(C86-82)) -> #N/A | M86: =K86+(((L86-K86)/('A Tests'!$D$134-'A Tests'!$D$64))*(H86-'A Tests'!$D$64)) -> #N/A | N86: =1-$C$76*(1-J86) -> #N/A | O86: =((J86*M86)/N86)*D86 -> #N/A | P86: =J86*I86*D86 -> #N/A
B88: SUM(qc(Tj)/N) | C88: =SUM(P79:P86) -> #N/A
B89: SUM(ec(Tj)/N) | C89: =SUM(O79:O86) -> #N/A
C90: Unrounded result | D90: Calculated Result (rounded per reference test procedure) | W90: Cooling Intermediate Compressor Speed Calculations
B91: SEER2 | C91: =C88/C89 -> #N/A | D91: =MROUND(C91,0.025) -> #N/A
B93: Two Speed Compressor
B95: Cyclic-Degradation Coefficient (CD) | C95: =IF(C34="", 0.25,ROUND(MIN(0.25,((1-((C37/(I37))/(C34/(I34))))/(1-C37/(C34*'Optional D Tests'!D13)))),2)) -> #N/A | F95: Unit locks out low compressor capacity operation at higher outdoor temperatures
B96: Cyclic-Degradation Coefficient [CD(k=2)] | C96: =IF(C35="", C95,ROUND(MIN(C95,((1-((C38/(I38))/(C35/(I35))))/(1-C38/(C35*'Optional D Tests'!D13)))),2)) -> #N/A | F96: Lock out Temperature (°F):
B98: Temperature Bin Number, j | C98: Tj | D98: nj/N | E98: BL(Tj) | F98: Qck=1(Tj) | G98: Qck=2(Tj) | H98: X(Tj)k=1 | I98: X(Tj)k=2 | J98: Eck=1(Tj) | K98: Eck=2(Tj) | L98: PLFj | M98: ec(Tj)/N | N98: qc(Tj)/N
B99: =Tables!A26 -> 1 | C99: =Tables!C26 -> 67 | D99: =Tables!D26 -> 0.214 | E99: =IF(D99="","",((C99-65)/(95-65))*($C$29/1.1)) -> #N/A | F99: =$C$39+((($C$31-$C$39)/(82-67))*(C99-67)) -> #VALUE! | G99: =$C$32+((($C$29-$C$32)/(95-82))*(C99-82)) -> #N/A | H99: =IF(E99<=F99,E99/F99,IF(OR(AND(F99<E99,E99<G99,$G$95="No"),AND(F99<E99,E99<G99,$G$95="Yes",C99<$G$96)),((G99-E99)/(G99-F99)),"")) -> #N/A | I99: =IF(AND(E99<G99, $G$95="Yes", $G$96<=C99),E99/G99,IF(OR(AND(F99<E99,E99<G99,$G$95= "No"),AND(F99<E99,E99<G99,$G$95="Yes",$G$96>C99)),1-H99,"")) -> #N/A | J99: =$I$39+((($I$31-$I$39)/(82-67))*(C99-67)) -> #N/A | K99: =$I$32+((($I$29-$I$32)/(95-82))*(C99-82)) -> #N/A | L99: =IF(F99>=E99,1-$C$95*(1-H99),IF(AND(E99<G99, $G$95="Yes",C99>=$G$96),1-$C$96*(1-I99),"")) -> #VALUE! | M99: =IF(F99>=E99,((H99*J99)/L99)*D99,IF(AND(E99<G99, $G$95="Yes",C99>=$G$96),((I99*K99)/L99)*D99,IF(OR(AND(F99<E99,E99<G99,$G$95="No"),AND(F99<E99,E99<G99,$G$95="Yes",$G$96>C99)),(H99*J99+I99*K99)*D99,IF(E99>G99,K99*D99,"ERROR")))) -> #VALUE! | N99: =IF(F99>=E99,((H99*F99))*D99,IF(AND(E99<G99, $G$95="Yes", C99>=$G$96),I99*G99*D99,IF(OR(AND(F99<E99,E99<G99,$G$95="No"),AND(F99<E99,E99<G99,$G$95="Yes",$G$96>C99)),(H99*F99+I99*G99)*D99,IF(E99>G99,G99*D99,"ERROR")))) -> #VALUE!
B100: =Tables!A27 -> 2 | C100: =Tables!C27 -> 72 | D100: =Tables!D27 -> 0.231 | E100: =IF(D100="","",((C100-65)/(95-65))*($C$29/1.1)) -> #N/A | F100: =$C$39+((($C$31-$C$39)/(82-67))*(C100-67)) -> #VALUE! | G100: =$C$32+((($C$29-$C$32)/(95-82))*(C100-82)) -> #N/A | H100: =IF(E100<=F100,E100/F100,IF(OR(AND(F100<E100,E100<G100,$G$95="No"),AND(F100<E100,E100<G100,$G$95="Yes",C100<$G$96)),((G100-E100)/(G100-F100)),"")) -> #N/A | I100: =IF(AND(E100<G100, $G$95="Yes", $G$96<=C100),E100/G100,IF(OR(AND(F100<E100,E100<G100,$G$95= "No"),AND(F100<E100,E100<G100,$G$95="Yes",$G$96>C100)),1-H100,"")) -> #N/A | J100: =$I$39+((($I$31-$I$39)/(82-67))*(C100-67)) -> #N/A | K100: =$I$32+((($I$29-$I$32)/(95-82))*(C100-82)) -> #N/A | L100: =IF(F100>=E100,1-$C$95*(1-H100),IF(AND(E100<G100, $G$95="Yes",C100>=$G$96),1-$C$96*(1-I100),"")) -> #VALUE! | M100: =IF(F100>=E100,((H100*J100)/L100)*D100,IF(AND(E100<G100, $G$95="Yes",C100>=$G$96),((I100*K100)/L100)*D100,IF(OR(AND(F100<E100,E100<G100,$G$95="No"),AND(F100<E100,E100<G100,$G$95="Yes",$G$96>C100)),(H100*J100+I100*K100)*D100,IF(E100>G100,K100*D100,"ERROR")))) -> #VALUE! | N100: =IF(F100>=E100,((H100*F100))*D100,IF(AND(E100<G100, $G$95="Yes", C100>=$G$96),I100*G100*D100,IF(OR(AND(F100<E100,E100<G100,$G$95="No"),AND(F100<E100,E100<G100,$G$95="Yes",$G$96>C100)),(H100*F100+I100*G100)*D100,IF(E100>G100,G100*D100,"ERROR")))) -> #VALUE!
B101: =Tables!A28 -> 3 | C101: =Tables!C28 -> 77 | D101: =Tables!D28 -> 0.216 | E101: =IF(D101="","",((C101-65)/(95-65))*($C$29/1.1)) -> #N/A | F101: =$C$39+((($C$31-$C$39)/(82-67))*(C101-67)) -> #VALUE! | G101: =$C$32+((($C$29-$C$32)/(95-82))*(C101-82)) -> #N/A | H101: =IF(E101<=F101,E101/F101,IF(OR(AND(F101<E101,E101<G101,$G$95="No"),AND(F101<E101,E101<G101,$G$95="Yes",C101<$G$96)),((G101-E101)/(G101-F101)),"")) -> #N/A | I101: =IF(AND(E101<G101, $G$95="Yes", $G$96<=C101),E101/G101,IF(OR(AND(F101<E101,E101<G101,$G$95= "No"),AND(F101<E101,E101<G101,$G$95="Yes",$G$96>C101)),1-H101,"")) -> #N/A | J101: =$I$39+((($I$31-$I$39)/(82-67))*(C101-67)) -> #N/A | K101: =$I$32+((($I$29-$I$32)/(95-82))*(C101-82)) -> #N/A | L101: =IF(F101>=E101,1-$C$95*(1-H101),IF(AND(E101<G101, $G$95="Yes",C101>=$G$96),1-$C$96*(1-I101),"")) -> #VALUE! | M101: =IF(F101>=E101,((H101*J101)/L101)*D101,IF(AND(E101<G101, $G$95="Yes",C101>=$G$96),((I101*K101)/L101)*D101,IF(OR(AND(F101<E101,E101<G101,$G$95="No"),AND(F101<E101,E101<G101,$G$95="Yes",$G$96>C101)),(H101*J101+I101*K101)*D101,IF(E101>G101,K101*D101,"ERROR")))) -> #VALUE! | N101: =IF(F101>=E101,((H101*F101))*D101,IF(AND(E101<G101, $G$95="Yes", C101>=$G$96),I101*G101*D101,IF(OR(AND(F101<E101,E101<G101,$G$95="No"),AND(F101<E101,E101<G101,$G$95="Yes",$G$96>C101)),(H101*F101+I101*G101)*D101,IF(E101>G101,G101*D101,"ERROR")))) -> #VALUE!
