Workbook
Name Capacity_Slope_Factor: Calculations!$AE$230
Name Compressor_Types: 'Drop-Downs'!$C$19:$E$19
Name Controls_Types: 'Drop-Downs'!$C$13:$D$13
Name Durations: 'Drop-Downs'!$C$11:$D$11
Name Expansion_Device_Setups: 'Drop-Downs'!$C$27:$D$27
Name Fan_Types: 'Drop-Downs'!$C$20:$D$20
Name H1_Types: 'Drop-Downs'!$C$24:$F$24
Name ID_Fan_Types: 'Drop-Downs'!$C$21:$E$21
Name ID_FanType_Input: 'General Info and Test Results'!$C$29
Name ID_FanType_Input3: 'General Info and Test Results'!$C$29
Name ID_FanType_Inpute: 'General Info and Test Results'!$C$29
Name Min_Max: 'Drop-Downs'!$C$12:$D$12
Name OD_FanType_Input: 'General Info and Test Results'!$C$28
Name Power_Slope_Factor: Calculations!$AE$231
Name Product_Subtype_Input: 'General Info and Test Results'!$C$26
Name Product_Subtypes_AC: 'Drop-Downs'!$C$17:$F$17
Name Product_Subtypes_HP: 'Drop-Downs'!$C$18:$F$18
Name Product_Type_Input: 'General Info and Test Results'!$C$25
Name Product_Types: 'Drop-Downs'!$C$16:$E$16
Name Refrigerant_Types: 'Drop-Downs'!$C$22:$E$22
Name Regions: 'Drop-Downs'!$C$23:$H$23
Name Secondary_Test_Methods: 'Drop-Downs'!$C$26:$G$26
Name SHRb1_SS_FS_rounded: 'B Tests'!$E$153
Name SHRb1_SS_VS_rounded: 'B Tests'!$E$154
Name SHRb1_TS_VS_rounded: 'B Tests'!$E$155
Name SHRb1_VS_VS_rounded: 'B Tests'!$E$156
Name SHRb2_SS_VS_rounded: 'B Tests'!$H$154
Name SHRb2_TS_VS_rounded: 'B Tests'!$H$155
Name SHRb2_VS_VS_rounded: 'B Tests'!$H$156
Name SS_FS_round: 'A Tests'!$E$160
Name SS_VS_round: 'A Tests'!$E$161
Name TestMatrix_Columns: Instructions!$F$56:$U$56
Name TestMatrix_Data: Instructions!$F$66:$U$89
Name TestMatrix_Rows: Instructions!$D$66:$D$89
Name TP_Options: 'Drop-Downs'!$C$25
Name TS_VS_round: 'A Tests'!$E$162
Name VS_VS_round: 'A Tests'!$E$163
Name Yes_No: 'Drop-Downs'!$C$14:$D$14
Name Yes_No_NA: 'Drop-Downs'!$C$15:$E$15

Sheet Instructions
B2: Title Block
B3: Test Report Template Name: | C3: ='Version Control'!C3 -> Residential Central Air Conditioners and Heat Pumps_M1
B4: Version Number: | C4: ='Version Control'!C4 -> v1.1
B5: Latest Template Revision: | C5: ='Version Control'!C5 -> 43668
B6: Tab Name: | C6: =MID(CELL("filename",$A$1), FIND("]", CELL("filename", $A$1))+ 1, 255) -> Instructions
B7: File Name: | C7: =MID(CELL("FILENAME"),FIND("[",CELL("FILENAME"))+1,FIND("]",CELL("FILENAME"))-FIND("[",CELL("FILENAME"))-1) -> Residential Central Air Conditioners and Heat Pumps_M1_Notebook.xlsx
B10: Reference Test Procedure
B11: For DOE Testing: Appendix M1 to Subpart B of Part 430—Uniform Test Method for Measuring the Energy Consumption of Central Air Conditioners and Heat Pumps
B13: Table of Contents
B14: Tab | C14: Contents
B15: Instructions | C15: Instructions and table of contents
B16: General Info and Test Results | C16: Lab information, product information and test results
B17: Instrumentation | C17: Input for list of instruments used and instrument calibration data
B18: Setup | C18: Input for description of test setup
B19: Photos | C19: Input for photographs taken of the test setup and device
B20: Test Settings | C20: Specification of settings for each test performed
B21: A Tests | C21: Recorded data for the A Tests (steady-state wet coil cooling mode)
B22: B Tests | C22: Recorded data for the B Tests (steady-state wet coil cooling mode)
B23: Optional C Tests | C23: Recorded data for the Optional C Tests (steady-state dry coil cooling mode)
B24: Optional D Tests | C24: Recorded data for the Optional D Tests (cyclic dry coil cooling mode)
B25: F1 Test | C25: Recorded data for the F Test (steady-state wet coil cooling mode)
... B39: Version Control | C39: Revision history
B41: LEGEND
B42: Tabs | C42: Tabs with input cells
B43: Cells | C43: Input cell
C44: Auto-populated cell
C45: Provided data
C46: NOT USED
C47: NOT APPLICABLE
B49: Instructions for Completing this Template
B50: Follow the steps below, filling in all input cells (shaded light blue) in each tab you are instructed to complete. Using TAB to "hop" from input cell to input cell is useful, but does not ensure that all input cells are reached. To guarantee that you enter all required information, you must visually scan for light blue cells in the entire area bounded by yellow-shaded cells.
B53: Important: Start with a clean (unused) template copy for each new report. Enter only data and information that are unique to the unit tested and the current test of that unit. All abbreviations and variable names should be consistent with the reference test procedure.
D56: HIDE | E56: Column Lookup | F56: =F57&F59&F62 -> Single-SpeedFixed-Speed or Constant-Air-Volume-RateFixed-Speed or Constant-Air-Volume-Rate | G56: =G57&G59&G62 -> Single-SpeedFixed-Speed or Constant-Air-Volume-RateVariable Speed | H56: =H57&H59&H62 -> Single-SpeedVariable SpeedFixed-Speed or Constant-Air-Volume-Rate | I56: =I57&I59&I62 -> Single-SpeedVariable SpeedVariable Speed | J56: =J57&J59&J62 -> Single-SpeedCoil-OnlyFixed-Speed or Constant-Air-Volume-Rate | K56: =K57&K59&K62 -> Single-SpeedCoil-OnlyVariable Speed | L56: =L57&L59&L62 -> Two-SpeedFixed-Speed or Constant-Air-Volume-RateFixed-Speed or Constant-Air-Volume-Rate | M56: =M57&M59&M62 -> Two-SpeedFixed-Speed or Constant-Air-Volume-RateVariable Speed | ... U56: =U57&U59&U62 -> Variable-SpeedVariable SpeedVariable Speed
B57: STEP: | C57: FILL IN INPUT CELLS IN THIS TAB: | E57: Compressor | F57: =INDEX(Compressor_Types,1) -> Single-Speed | G57: =INDEX(Compressor_Types,1) -> Single-Speed | H57: =INDEX(Compressor_Types,1) -> Single-Speed | I57: =INDEX(Compressor_Types,1) -> Single-Speed | J57: =INDEX(Compressor_Types,1) -> Single-Speed | K57: =INDEX(Compressor_Types,1) -> Single-Speed | L57: =INDEX(Compressor_Types,2) -> Two-Speed | M57: =INDEX(Compressor_Types,2) -> Two-Speed | N57: =INDEX(Compressor_Types,2) -> Two-Speed | O57: =INDEX(Compressor_Types,2) -> Two-Speed | P57: =INDEX(Compressor_Types,2) -> Two-Speed | Q57: =INDEX(Compressor_Types,2) -> Two-Speed | R57: =INDEX(Compressor_Types,3) -> Variable-Speed | S57: =INDEX(Compressor_Types,3) -> Variable-Speed | T57: =INDEX(Compressor_Types,3) -> Variable-Speed | U57: =INDEX(Compressor_Types,3) -> Variable-Speed
B59: Step 1 | C59: General Info and Test Results | E59: Indoor Fan | F59: =INDEX(ID_Fan_Types,1) -> Fixed-Speed or Constant-Air-Volume-Rate | G59: =INDEX(ID_Fan_Types,1) -> Fixed-Speed or Constant-Air-Volume-Rate | H59: =INDEX(ID_Fan_Types,2) -> Variable Speed | I59: =INDEX(ID_Fan_Types,2) -> Variable Speed | J59: =INDEX(ID_Fan_Types,3) -> Coil-Only | K59: =INDEX(ID_Fan_Types,3) -> Coil-Only | L59: =INDEX(ID_Fan_Types,1) -> Fixed-Speed or Constant-Air-Volume-Rate | M59: =INDEX(ID_Fan_Types,1) -> Fixed-Speed or Constant-Air-Volume-Rate | N59: =INDEX(ID_Fan_Types,2) -> Variable Speed | O59: =INDEX(ID_Fan_Types,2) -> Variable Speed | P59: =INDEX(ID_Fan_Types,3) -> Coil-Only | Q59: =INDEX(ID_Fan_Types,3) -> Coil-Only | R59: =INDEX(Fan_Types,1) -> Fixed-Speed or Constant-Air-Volume-Rate | S59: =INDEX(Fan_Types,1) -> Fixed-Speed or Constant-Air-Volume-Rate | T59: =INDEX(Fan_Types,2) -> Variable Speed | U59: =INDEX(Fan_Types,2) -> Variable Speed
B60: Step 2 | C60: Instrumentation
B61: Step 3 | C61: Setup
B62: Step 4 | C62: Photos | E62: Outdoor Fan | F62: =INDEX(Fan_Types,1) -> Fixed-Speed or Constant-Air-Volume-Rate | G62: =INDEX(Fan_Types,2) -> Variable Speed | H62: =INDEX(Fan_Types,1) -> Fixed-Speed or Constant-Air-Volume-Rate | I62: =INDEX(Fan_Types,2) -> Variable Speed | J62: =INDEX(Fan_Types,1) -> Fixed-Speed or Constant-Air-Volume-Rate | K62: =INDEX(Fan_Types,2) -> Variable Speed | L62: =INDEX(Fan_Types,1) -> Fixed-Speed or Constant-Air-Volume-Rate | M62: =INDEX(Fan_Types,2) -> Variable Speed | N62: =INDEX(Fan_Types,1) -> Fixed-Speed or Constant-Air-Volume-Rate | O62: =INDEX(Fan_Types,2) -> Variable Speed | P62: =INDEX(Fan_Types,1) -> Fixed-Speed or Constant-Air-Volume-Rate | Q62: =INDEX(Fan_Types,2) -> Variable Speed | R62: =INDEX(Fan_Types,1) -> Fixed-Speed or Constant-Air-Volume-Rate | S62: =INDEX(Fan_Types,2) -> Variable Speed | T62: =INDEX(Fan_Types,1) -> Fixed-Speed or Constant-Air-Volume-Rate | U62: =INDEX(Fan_Types,2) -> Variable Speed
B63: Step 5 | C63: Test Settings
B64: Step 6 | C64: Fill in the Recorded Data tabs for the appropriate completed tests (see table at right): | D64: HIDE
...

Sheet General Info and Test Results
B2: Title Block
B3: Test Report Template Name: | C3: ='Version Control'!C3 -> Residential Central Air Conditioners and Heat Pumps_M1 | F3: Back to Instructions tab
B4: Version Number: | C4: ='Version Control'!C4 -> v1.1
B5: Latest Template Revision: | C5: ='Version Control'!C5 -> 43668
B6: Tab Name: | C6: =MID(CELL("filename",$A$1), FIND("]", CELL("filename", $A$1))+ 1, 255) -> General Info and Test Results
B7: File Name: | C7: =MID(CELL("FILENAME"),FIND("[",CELL("FILENAME"))+1,FIND("]",CELL("FILENAME"))-FIND("[",CELL("FILENAME"))-1) -> Residential Central Air Conditioners and Heat Pumps_M1_Notebook.xlsx
B8: Test Completion Date: | C8: ='Version Control'!C8 -> [MM/DD/YYYY]
B11: Lab Information | F11: Test Results
B12: Lab Name: | F12: Measured Values
B13: Test Location: | F13: Parameter | G13: Result | H13: Parameter | I13: Result
F14: SEER2 | G14: =IF(C25="Heating Only Central Heat Pump","Not Applicable", IF(AND(C27="Single-Speed",C29<>INDEX(Fan_Types,2)),Calculations!D71,IF(AND(C27="Single-Speed",C29=INDEX(Fan_Types,2)),Calculations!D91,IF(C27="Two-Speed",Calculations!D111,IF(C27 = "Variable-Speed", Calculations!D131," "))))) | H14: Full load Cooling Capacity | I14: ='A Tests'!D83 -> #VALUE!
B15: Test Information | F15: HSPF2 | G15: =IF(C25="Central Air Conditioner","N/A", IF(AND(C27="Single-Speed",C29<>INDEX(Fan_Types,2)),Calculations!D175,IF(AND(C27="Single-Speed",C29=INDEX(Fan_Types,2)),Calculations!D207,IF(C27="Two-Speed",Calculations!D238,IF(C27 = "Variable-Speed", Calculations!D272,""))))) | H15: Full load Heating Capacity | I15: =IF(C25="Central Air Conditioner","N/A", IF(AND(C27="Single-Speed",C29<>INDEX(Fan_Types,2)), 'H1 Tests'!D78,IF(AND(C27="Single-Speed",C29=INDEX(Fan_Types,2)),'H1 Tests'!D78,IF(C27="Two-Speed",'H1 Tests'!D78,IF(C27 = "Variable-Speed", 'H1 Tests'!D147,"")))))
B16: Test Procedure Used | C16: Appendix M1 revised as of July 13, 2017 | F16: PW,OFF | G16: =IFERROR('Off Mode Test'!F42, "")
B17: Date of DOE Test Setup Approval (if applicable): | C17: [MM/DD/YYYY] | F17: EER2a | G17: =IF(AND(C27="Single-Speed",C29<>INDEX(Fan_Types,2)),SS_FS_round,IF(AND(C27="Single-Speed",C29=INDEX(Fan_Types,2)),SS_VS_round,IF(C27="Two-Speed",TS_VS_round,IF(C27 = "Variable-Speed", VS_VS_round,""))))
B18: Date Energy Test Started: | C18: [MM/DD/YYYY]
B19: Date Energy Test Finished: | C19: [MM/DD/YYYY] | F19: NOTE: This is a copy, sign-off is done in the 'Report Sign-Off Block' tab
B20: Date of Last Calibration for Test Room | C20: [MM/DD/YYYY] | F20: Test Report Sign-Off Block
F21: We certify that the information and data in this report: (1) were obtained from the specific test unit under test; (2) were obtained during the specific test being reported; (3) were not copied from any other source, except where instructed to do so; and (4) were not altered or modified in any way.
B22: Product Information
B24: General Information | F24: Role | H24: Date | I24: Entity
B25: Product Type | F25: Test Completion | H25: ='Report Sign-off Block'!D15 -> [MM/DD/YYYY] | I25: ='Report Sign-off Block'!E15 -> [Test Lab Name]
B26: Product Sub-Type | F26: Template Completion | H26: ='Report Sign-off Block'!D16 -> [MM/DD/YYYY] | I26: ='Report Sign-off Block'!E16 -> [Test Lab Name]
B27: Compressor Type | F27: Report Review by Test Lab | H27: ='Report Sign-off Block'!D17 -> [MM/DD/YYYY] | I27: ='Report Sign-off Block'!E17 -> [Test Lab Name]
B28: Outdoor Fan Type | F28: Report Review by Test Lab | H28: ='Report Sign-off Block'!D18 -> [MM/DD/YYYY] | I28: ='Report Sign-off Block'!E18 -> [Test Lab Name]
B29: Indoor Fan Type
B30: Tested with a filter?
B31: Ducted?
B33: Product Design
B34: Refrigerant Used (R-22, R-410A, Other)?
B35: If Other (please specify)
B36: Demand Defrost Control System?
B37: Split System?
B38: Multi-Split System?
B39: Multi-Speed Outdoor Fan?
B40: Minimum-Speed-Limiting Variable-Speed Heat Pump?
B42: Rated Performance (Complete Unit)
B43: Product Reported Cooling Capacity: | D43: BTU
B44: Product Reported SEER2:
B45: Product Reported EER2:
B46: Product Reported Heating Capacity: | D46: BTU
...

Sheet Instrumentation
B2: Title Block
B3: Test Report Template Name: | C3: ='Version Control'!C3 -> Residential Central Air Conditioners and Heat Pumps_M1 | E3: Back to Instructions tab
B4: Version Number: | C4: ='Version Control'!C4 -> v1.1
B5: Latest Template Revision: | C5: ='Version Control'!C5 -> 43668
B6: Tab Name: | C6: =MID(CELL("filename",$A$1), FIND("]", CELL("filename", $A$1))+ 1, 255) -> Instrumentation
B7: File Name: | C7: =MID(CELL("FILENAME"),FIND("[",CELL("FILENAME"))+1,FIND("]",CELL("FILENAME"))-FIND("[",CELL("FILENAME"))-1) -> Residential Central Air Conditioners and Heat Pumps_M1_Notebook.xlsx
B8: Test Completion Date: | C8: ='Version Control'!C8 -> [MM/DD/YYYY]
B11: Setup (This table should include instrumentation, sensors, and all equipment used during testing)
B12: Instrument Type | C12: Brand | D12: Model # | E12: Sensor Location | F12: Accuracy | G12: Date of Last Calibration | H12: Deadline for Next Calibration
B49: Sensor Placement
E51: >>>>>>>>>> Paste photo(s) showing exact placement of all sensors on, in, or around the unit to | F51: the Photos tab (Photo Box #5)
B53: Describe placement of sensors used to measure indoor and outdoor temperatures:
B60: If additional sensors were used, describe placement:

Sheet Setup
B2: Title Block
B3: Test Report Template Name: | C3: ='Version Control'!C3 -> Residential Central Air Conditioners and Heat Pumps_M1 | E3: Back to Instructions tab
B4: Version Number: | C4: ='Version Control'!C4 -> v1.1
B5: Latest Template Revision: | C5: ='Version Control'!C5 -> 43668
B6: Tab Name: | C6: =MID(CELL("filename",$A$1), FIND("]", CELL("filename", $A$1))+ 1, 255) -> Setup
B7: File Name: | C7: =MID(CELL("FILENAME"),FIND("[",CELL("FILENAME"))+1,FIND("]",CELL("FILENAME"))-FIND("[",CELL("FILENAME"))-1) -> Residential Central Air Conditioners and Heat Pumps_M1_Notebook.xlsx
B8: Test Completion Date: | C8: ='Version Control'!C8 -> [MM/DD/YYYY]
B11: Setup of test room
B12: Were the test rooms set up according to 10 CFR 430 Subpart B Appendix M section 2.1, which incorporates sections 8.1.2 and 8.1.3 of ASHRAE Standard 37-2009?
B13: If No, list and describe all differences between actual setup and 10 CFR 430 Subpart B Appendix M section 2.1 (including incorporated sections 8.1.2 and 8.1.3 of ASHRAE Standard 37-2009)
B17: Width of the air inlet duct | D17: inches
B18: Depth of the air inlet duct | D18: inches
B19: Length of the air inlet duct | D19: inches
B20: Distance from the inlet air pressure tap to the unit inlet | D20: inches
B21: Width of the air outlet duct | D21: inches
B22: Depth of the air outlet duct | D22: inches
B23: Length of the air outlet duct | D23: inches
B24: Distance from the outlet air pressure tap to the unit outlet | D24: inches
B25: Were the air sampler hoses insulated?
B26: If the air sampler hoses were insulated, list the nominal thermal resistance of the insulation material | D26: hr*ft2*°F/Btu
B27: Was the unit tested with horizontal drain pan installed?
B28: If the thermocouple grid is not installed on the air sampling device, record the distance from the thermocouple grid to the outdoor unit. | D28: inches
B30: Setup of central air conditioner or heat pump
B31: Was the test unit set up according to the applicable sections of 10 CFR 430 Subpart B Appendix M 2.2.1-3 , which incorporates sections of ASHRAE Standard 37-2009 and AHRI Standard 210/240-2008?
B32: If No, list and describe all differences between actual setup and 10 CFR 430 Subpart B Appendix M 2.2.1-3 (including incorporated sections of ASHRAE Standard 37-2009 and AHRI Standard 210/240-2008)
B36: How long was the break-in operation conducted before any official test? | D36: hours
B38: Refrigerant Charging & Unit Installation
B39: Which installation instructions were used for charging (Indoor unit's, outdoor unit's or per Appendix M section 2.2.5)?
B40: Type of Expansion Device
B41: Charging Conditions (i.e. indoor and outdoor air conditions)
B42: Charging Parameter(s) and the Target(s)
B43: Factory Charge | D43: lbs
B44: Charge Adjustment (include "+" or "-" sign) | D44: lbs
B45: Total Refrigerant charge | D45: lbs
B46: The size of installed liquid interconnecting line | D46: inches
B47: The size of installed vapor interconnecting line | D47: inches
B48: If manufacturer's installation instruction used, quote the manufacturer instructions for installing this unit, and note in detail all differences between the manufacturer instructions and the actual installation.
B49: (1) Include all instructions, not limited to refrigerant charging. (2) A PDF file containing the instructions (downloaded or scanned) is acceptable.
B74: Pressure Measurement Devices (See Appendix M, 2.2.g)
B75: Location [location number from Appendix M, Table 2] | C75: Internal volume of pressure measurement system (in3) | D75: Is this pressure measurement system pitched upwards from the pressure tap location to the gauge or transducer?
...

Sheet Photos
B2: Title Block | E2: Back to Instructions tab
B3: Test Report Template Name: | C3: ='Version Control'!C3 -> Residential Central Air Conditioners and Heat Pumps_M1
B4: Version Number: | C4: ='Version Control'!C4 -> v1.1
B5: Latest Template Revision: | C5: ='Version Control'!C5 -> 43668
B6: Tab Name: | C6: =MID(CELL("filename",$A$1), FIND("]", CELL("filename", $A$1))+ 1, 255) -> Photos
B7: File Name: | C7: =MID(CELL("FILENAME"),FIND("[",CELL("FILENAME"))+1,FIND("]",CELL("FILENAME"))-FIND("[",CELL("FILENAME"))-1) -> Residential Central Air Conditioners and Heat Pumps_M1_Notebook.xlsx
B8: Test Completion Date: | C8: ='Version Control'!C8 -> [MM/DD/YYYY]
B11: Photos 1-4 are to be taken of the unit directly out of the box, before installation.
B13: 1. Picture of unit (indoor and outdoor) on both sides, once it is out of the package. (Include as many pictures as neccesary)
B36: 2. Identification sticker showing model number and serial number. | J36: 3. FTC EnergyGuide label (if present).
B59: 4. Sticker showing nameplate information, charging table, etc. (if separate from #2) | J59: 5. Exact placement of all sensors on, in, or around the device (please label appropriately, take multiple pictures if neccesary). Require photo of refrigerant flow meter if Refrigerant-Enthaopy Method is used; require photo of outdoor air measurement device if Outdoor Enthalpy method is used.
B83: 6. Picture of central air conditioner or heat pump as installed in final set-up (evaporator side) | J83: 7. Picture of central air conditioner or heat pump as installed in final set-up (condenser side)
B107: 8. Central air conditioner and/or heat pump outdoor controls and indoor fan controls as set during test | J107: 9. Off mode test set-up (required for units with self-regulating crankcase heaters, please include the thermocouple setup)
B131: 10. Pictures showing the entire testing chamber for both the indoor section and the outdoor section | J131: 11. Picture(s) showing the relative location of each outdoor air sampling device to the unit (for each sampling device, please include one picture showing the front view and one picture showing the top view)
B155: 12. [IF NEEDED] Picture showing how test kit components were applied in test set-up (take multiple if needed, for example: front and back) | J155: 13. [IF NEEDED] Picture of test kit components (such as foam insulation) used with test set-up
B179: 14. Additional Photos (if necessary)

Sheet Test Settings
B2: Title Block
B3: Test Report Template Name: | C3: ='Version Control'!C3 -> Residential Central Air Conditioners and Heat Pumps_M1 | E3: Back to Instructions tab
B4: Version Number: | C4: ='Version Control'!C4 -> v1.1
B5: Latest Template Revision: | C5: ='Version Control'!C5 -> 43668
B6: Tab Name: | C6: =MID(CELL("filename",$A$1), FIND("]", CELL("filename", $A$1))+ 1, 255) -> Test Settings
B7: File Name: | C7: =MID(CELL("FILENAME"),FIND("[",CELL("FILENAME"))+1,FIND("]",CELL("FILENAME"))-FIND("[",CELL("FILENAME"))-1) -> Residential Central Air Conditioners and Heat Pumps_M1_Notebook.xlsx
B8: Test Completion Date: | C8: ='Version Control'!C8 -> [MM/DD/YYYY]
B11: Residential Central Air Conditioner or Heat Pump Settings - Controls
B13: >>>>>>>>>> Paste photo(s) showing exact settings and/or displays for the unit (during test) to | D13: the Photos tab (Photo Box #8)
B15: Please include a description of how the settings were entered, specific to this particular test unit:
B21: Electromechanical or Electronic Controls?
C23: Test Setting | D23: Factory Setting (if different from test setting) | F23: Units
B24: Cooling Setting *
B25: Heating Setting *
B26: Fan Setting *
B27: Temperature Setting *
B28: * Include unit of measure if necessary
B30: Other settings (if neccesary) | C30: Extra Setting #1 | E30: Extra Setting #2 | G30: Extra Setting #3
B31: Defrost Time Interval Setting
B32: --- Description
B33: --- Setting *
B34: * Include unit of measure if necessary
B36: Additional Description
B37: Describe settings used on the central air conditioner or heat pump for test, or reference any picture of controls in the 'Photos' Tab

Sheet A Tests
B2: Title Block | E2: Back to Instructions tab
B3: Test Report Template Name: | C3: ='Version Control'!C3 -> Residential Central Air Conditioners and Heat Pumps_M1
B4: Version Number: | C4: ='Version Control'!C4 -> v1.1 | E4: Relevent Tests | H4: Product Information
B5: Latest Template Revision: | C5: ='Version Control'!C5 -> 43668 | E5: 1st Test | F5: =IF(Product_Type_Input=INDEX(Product_Types,3),"-",INDEX(TestMatrix_Data,MATCH($C$6&$E5,TestMatrix_Rows,0),MATCH($I$6&$I$7&$I$8,TestMatrix_Columns,0))) -> #N/A | H5: Product Type | I5: =Product_Type_Input -> 0
B6: Tab Name: | C6: =MID(CELL("filename",$A$1), FIND("]", CELL("filename", $A$1))+ 1, 255) -> A Tests | E6: 2nd Test | F6: =IF(Product_Type_Input=INDEX(Product_Types,3),"-",INDEX(TestMatrix_Data,MATCH($C$6&$E6,TestMatrix_Rows,0),MATCH($I$6&$I$7&$I$8,TestMatrix_Columns,0))) -> #N/A | H6: Compressor Type | I6: ='General Info and Test Results'!C27 -> 0
B7: File Name: | C7: =MID(CELL("FILENAME"),FIND("[",CELL("FILENAME"))+1,FIND("]",CELL("FILENAME"))-FIND("[",CELL("FILENAME"))-1) -> Residential Central Air Conditioners and Heat Pumps_M1_Notebook.xlsx | H7: Indoor Fan Type | I7: =ID_FanType_Input -> 0
B8: Test Completion Date: | C8: ='Version Control'!C8 -> [MM/DD/YYYY] | H8: Outdoor Fan Type | I8: =OD_FanType_Input -> 0
C11: 'A Test' Conditions Summary - Test Chamber Devices
C12: Compliance with Equilibrium Requirements
C13: For each test, has the chamber been at equilibrium for the minimum 30 minutes?
C14: Demand Defrost Control System | D14: ='General Info and Test Results'!C36 -> 0
C15: Time between defrost terminations (hours)
C16: Maximum time between defrosts as allowed by the controls (hours)
C17: Length of Compressor Run-in Time (hours)
B19: =IF(H19="Yes","FREE OUTDOOR AIR TESTS","") | F19: Was the outdoor air enthalpy used as a secondary test method? | H19: =IF($D$84=INDEX(Secondary_Test_Methods,1),"Yes","No") -> No
B21: =IF($F$5<>"-","'"&$F$5&" Test' Data to be recorded", "Test Not Applicable") -> #N/A
C23: Electrical Input
D24: Measurement
D25: Avg | E25: Min | F25: Max
C26: Applied voltage to outdoor unit (V)
C27: Applied voltage to indoor unit (V)
C28: Frequency (Hz)
C29: Line current (Amps)
C30: Total Indoor Unit Power (Watts)
C31: Total System Power (Watts)
C33: Pressure Measurements
D34: Measurement
D35: Avg | E35: Min | F35: Max
C36: Barometric Pressure - (in. Hg)
C37: Liquid Line Pressure (psig)
C38: Suction Pressure (psig)
C39: Indoor Nozzle Pressure Delta (in. WC)
C40: Indoor external static pressure (in. H2O)
C42: Refrigerant Measurements
D43: Measurement
D44: Avg | E44: Min | F44: Max
C45: Refrigerant flow rate (lb/hr)
C46: Saturated suction temperature (F)
C47: Saturated liquid temperature (F)
C48: Suction temperature (F)
...

Sheet B Tests
B2: Title Block | E2: Back to Instructions tab
B3: Test Report Template Name: | C3: ='Version Control'!C3 -> Residential Central Air Conditioners and Heat Pumps_M1
B4: Version Number: | C4: ='Version Control'!C4 -> v1.1 | E4: Relevent Tests | H4: Product Information
B5: Latest Template Revision: | C5: ='Version Control'!C5 -> 43668 | E5: 1st Test | F5: =IF(Product_Type_Input=INDEX(Product_Types,3),"-",INDEX(TestMatrix_Data,MATCH($C$6&$E5,TestMatrix_Rows,0),MATCH($I$6&$I$7&$I$8,TestMatrix_Columns,0))) -> #N/A | H5: Product Type | I5: ='General Info and Test Results'!C25 -> 0
B6: Tab Name: | C6: =MID(CELL("filename",$A$1), FIND("]", CELL("filename", $A$1))+ 1, 255) -> B Tests | E6: 2nd Test | F6: =IF(Product_Type_Input=INDEX(Product_Types,3),"-",INDEX(TestMatrix_Data,MATCH($C$6&$E6,TestMatrix_Rows,0),MATCH($I$6&$I$7&$I$8,TestMatrix_Columns,0))) -> #N/A | H6: Compressor Type | I6: ='General Info and Test Results'!C27 -> 0
B7: File Name: | C7: =MID(CELL("FILENAME"),FIND("[",CELL("FILENAME"))+1,FIND("]",CELL("FILENAME"))-FIND("[",CELL("FILENAME"))-1) -> Residential Central Air Conditioners and Heat Pumps_M1_Notebook.xlsx | H7: Indoor Fan Type | I7: =ID_FanType_Input -> 0
B8: Test Completion Date: | C8: ='Version Control'!C8 -> [MM/DD/YYYY] | H8: Outdoor Fan Type | I8: =OD_FanType_Input -> 0
C11: 'B Test' Conditions Summary - Test Chamber Devices
C12: Compliance with Equilibrium Requirements
C13: For each test, has the chamber been at equilibrium for the minimum 30 minutes? | L13: {=IF(SUM(ABS(M13:Y13))>0,IF(OR($M$8:$Y$8=M13:Y13),"Hide","Show"),"")}
C14: Demand Defrost Control System | D14: ='General Info and Test Results'!C36 -> 0 | L14: {=IF(SUM(ABS(M14:Y14))>0,IF(OR($M$8:$Y$8=M14:Y14),"Hide","Show"),"")}
C15: Time between defrost terminations (hours) | L15: {=IF(SUM(ABS(M15:Y15))>0,IF(OR($M$8:$Y$8=M15:Y15),"Hide","Show"),"")}
C16: Maximum time between defrosts as allowed by the controls (hours) | L16: {=IF(SUM(ABS(M16:Y16))>0,IF(OR($M$8:$Y$8=M16:Y16),"Hide","Show"),"")}
L17: {=IF(SUM(ABS(M17:Y17))>0,IF(OR($M$8:$Y$8=M17:Y17),"Hide","Show"),"")}
B20: =IF(AND($I$6="Single-Speed",$I$7=INDEX(Fan_Types,1)),"'B Test' Data to be recorded","'B2 Test' Data to be recorded") -> 'B2 Test' Data to be recorded | L20: {=IF(SUM(ABS(M20:Y20))>0,IF(OR($M$8:$Y$8=M20:Y20),"Hide","Show"),"")}
L21: {=IF(SUM(ABS(M21:Y21))>0,IF(OR($M$8:$Y$8=M21:Y21),"Hide","Show"),"")}
C22: Electrical Input | L22: {=IF(SUM(ABS(M22:Y22))>0,IF(OR($M$8:$Y$8=M22:Y22),"Hide","Show"),"")}
D23: Measurement | L23: {=IF(SUM(ABS(M23:Y23))>0,IF(OR($M$8:$Y$8=M23:Y23),"Hide","Show"),"")}
D24: Avg | E24: Min | F24: Max | L24: {=IF(SUM(ABS(M24:Y24))>0,IF(OR($M$8:$Y$8=M24:Y24),"Hide","Show"),"")}
C25: Applied voltage to outdoor unit (V) | L25: {=IF(SUM(ABS(M25:Y25))>0,IF(OR($M$8:$Y$8=M25:Y25),"Hide","Show"),"")}
C26: Applied voltage to indoor unit (V) | L26: {=IF(SUM(ABS(M26:Y26))>0,IF(OR($M$8:$Y$8=M26:Y26),"Hide","Show"),"")}
C27: Frequency (Hz) | L27: {=IF(SUM(ABS(M27:Y27))>0,IF(OR($M$8:$Y$8=M27:Y27),"Hide","Show"),"")}
C28: Line current (Amps) | L28: {=IF(SUM(ABS(M28:Y28))>0,IF(OR($M$8:$Y$8=M28:Y28),"Hide","Show"),"")}
C29: Total Indoor Unit Power (Watts) | L29: {=IF(SUM(ABS(M29:Y29))>0,IF(OR($M$8:$Y$8=M29:Y29),"Hide","Show"),"")}
C30: Total System Power (Watts) | L30: {=IF(SUM(ABS(M30:Y30))>0,IF(OR($M$8:$Y$8=M30:Y30),"Hide","Show"),"")}
L31: {=IF(SUM(ABS(M31:Y31))>0,IF(OR($M$8:$Y$8=M31:Y31),"Hide","Show"),"")}
C32: Pressure Measurements | L32: {=IF(SUM(ABS(M32:Y32))>0,IF(OR($M$8:$Y$8=M32:Y32),"Hide","Show"),"")}
D33: Measurement | L33: {=IF(SUM(ABS(M33:Y33))>0,IF(OR($M$8:$Y$8=M33:Y33),"Hide","Show"),"")}
D34: Avg | E34: Min | F34: Max | L34: {=IF(SUM(ABS(M34:Y34))>0,IF(OR($M$8:$Y$8=M34:Y34),"Hide","Show"),"")}
C35: Barometric Pressure - (in. Hg) | L35: {=IF(SUM(ABS(M35:Y35))>0,IF(OR($M$8:$Y$8=M35:Y35),"Hide","Show"),"")}
C36: Liquid Line Pressure (psig) | L36: {=IF(SUM(ABS(M36:Y36))>0,IF(OR($M$8:$Y$8=M36:Y36),"Hide","Show"),"")}
C37: Suction Pressure (psig) | L37: {=IF(SUM(ABS(M37:Y37))>0,IF(OR($M$8:$Y$8=M37:Y37),"Hide","Show"),"")}
C38: Indoor Nozzle Pressure Delta (in. WC) | L38: {=IF(SUM(ABS(M38:Y38))>0,IF(OR($M$8:$Y$8=M38:Y38),"Hide","Show"),"")}
C39: Indoor external static pressure (in. H2O) | L39: {=IF(SUM(ABS(M39:Y39))>0,IF(OR($M$8:$Y$8=M39:Y39),"Hide","Show"),"")}
L40: {=IF(SUM(ABS(M40:Y40))>0,IF(OR($M$8:$Y$8=M40:Y40),"Hide","Show"),"")}
C41: Refrigerant Measurements | L41: {=IF(SUM(ABS(M41:Y41))>0,IF(OR($M$8:$Y$8=M41:Y41),"Hide","Show"),"")}
D42: Measurement | L42: {=IF(SUM(ABS(M42:Y42))>0,IF(OR($M$8:$Y$8=M42:Y42),"Hide","Show"),"")}
D43: Avg | E43: Min | F43: Max | L43: {=IF(SUM(ABS(M43:Y43))>0,IF(OR($M$8:$Y$8=M43:Y43),"Hide","Show"),"")}
C44: Refrigerant flow rate (lb/hr) | L44: {=IF(SUM(ABS(M44:Y44))>0,IF(OR($M$8:$Y$8=M44:Y44),"Hide","Show"),"")}
C45: Saturated suction temperature (F) | L45: {=IF(SUM(ABS(M45:Y45))>0,IF(OR($M$8:$Y$8=M45:Y45),"Hide","Show"),"")}
...

Sheet Optional C Tests
B2: Title Block | E2: Back to Instructions tab
B3: Test Report Template Name: | C3: ='Version Control'!C3 -> Residential Central Air Conditioners and Heat Pumps_M1
B4: Version Number: | C4: ='Version Control'!C4 -> v1.1 | E4: Relevent Tests | H4: Product Information
B5: Latest Template Revision: | C5: ='Version Control'!C5 -> 43668 | E5: 1st Test | F5: =IF(Product_Type_Input=INDEX(Product_Types,3),"-",INDEX(TestMatrix_Data,MATCH($C$6&$E5,TestMatrix_Rows,0),MATCH($I$6&$I$7&$I$8,TestMatrix_Columns,0))) -> #N/A | H5: Product Type | I5: ='General Info and Test Results'!C25 -> 0
B6: Tab Name: | C6: =MID(CELL("filename",$A$1), FIND("]", CELL("filename", $A$1))+ 1, 255) -> Optional C Tests | E6: 2nd Test | F6: =IF(Product_Type_Input=INDEX(Product_Types,3),"-",INDEX(TestMatrix_Data,MATCH($C$6&$E6,TestMatrix_Rows,0),MATCH($I$6&$I$7&$I$8,TestMatrix_Columns,0))) -> #N/A | H6: Compressor Type | I6: ='General Info and Test Results'!C27 -> 0
B7: File Name: | C7: =MID(CELL("FILENAME"),FIND("[",CELL("FILENAME"))+1,FIND("]",CELL("FILENAME"))-FIND("[",CELL("FILENAME"))-1) -> Residential Central Air Conditioners and Heat Pumps_M1_Notebook.xlsx | H7: Indoor Fan Type | I7: ='General Info and Test Results'!C29 -> 0
B8: Test Completion Date: | C8: ='Version Control'!C8 -> [MM/DD/YYYY] | H8: Outdoor Fan Type | I8: =OD_FanType_Input -> 0
C10: For each test, has the chamber been at equilibrium for the minimum 30 minutes?
B12: =IF($F$5<>"-","'"&$F$5&" Test' Data to be recorded", "Test Not Applicable") -> #N/A
C14: Electrical Input | L14: {=IF(SUM(ABS(M14:Y14))>0,IF(OR($M$8:$Y$8=M14:Y14),"Hide","Show"),"")}
D15: Measurement | L15: {=IF(SUM(ABS(M15:Y15))>0,IF(OR($M$8:$Y$8=M15:Y15),"Hide","Show"),"")}
D16: Avg | E16: Min | F16: Max | L16: {=IF(SUM(ABS(M16:Y16))>0,IF(OR($M$8:$Y$8=M16:Y16),"Hide","Show"),"")}
C17: Applied voltage to outdoor unit (V) | L17: {=IF(SUM(ABS(M17:Y17))>0,IF(OR($M$8:$Y$8=M17:Y17),"Hide","Show"),"")}
C18: Applied voltage to indoor unit (V) | L18: {=IF(SUM(ABS(M18:Y18))>0,IF(OR($M$8:$Y$8=M18:Y18),"Hide","Show"),"")}
C19: Frequency (Hz) | L19: {=IF(SUM(ABS(M19:Y19))>0,IF(OR($M$8:$Y$8=M19:Y19),"Hide","Show"),"")}
C20: Line current (Amps) | L20: {=IF(SUM(ABS(M20:Y20))>0,IF(OR($M$8:$Y$8=M20:Y20),"Hide","Show"),"")}
C21: Total Indoor Unit Power (Watts) | L21: {=IF(SUM(ABS(M21:Y21))>0,IF(OR($M$8:$Y$8=M21:Y21),"Hide","Show"),"")}
C22: Total System Power (Watts) | L22: {=IF(SUM(ABS(M22:Y22))>0,IF(OR($M$8:$Y$8=M22:Y22),"Hide","Show"),"")}
L23: {=IF(SUM(ABS(M23:Y23))>0,IF(OR($M$8:$Y$8=M23:Y23),"Hide","Show"),"")}
C24: Pressure Measurements | L24: {=IF(SUM(ABS(M24:Y24))>0,IF(OR($M$8:$Y$8=M24:Y24),"Hide","Show"),"")}
D25: Measurement | L25: {=IF(SUM(ABS(M25:Y25))>0,IF(OR($M$8:$Y$8=M25:Y25),"Hide","Show"),"")}
D26: Avg | E26: Min | F26: Max | L26: {=IF(SUM(ABS(M26:Y26))>0,IF(OR($M$8:$Y$8=M26:Y26),"Hide","Show"),"")}
C27: Barometric Pressure - (in. Hg) | L27: {=IF(SUM(ABS(M27:Y27))>0,IF(OR($M$8:$Y$8=M27:Y27),"Hide","Show"),"")}
C28: Liquid Line Pressure (psig) | L28: {=IF(SUM(ABS(M28:Y28))>0,IF(OR($M$8:$Y$8=M28:Y28),"Hide","Show"),"")}
C29: Suction Pressure (psig) | L29: {=IF(SUM(ABS(M29:Y29))>0,IF(OR($M$8:$Y$8=M29:Y29),"Hide","Show"),"")}
C30: Indoor Nozzle Pressure Delta (in. WC) | L30: {=IF(SUM(ABS(M30:Y30))>0,IF(OR($M$8:$Y$8=M30:Y30),"Hide","Show"),"")}
C31: Indoor external static pressure (in. H2O) | L31: {=IF(SUM(ABS(M31:Y31))>0,IF(OR($M$8:$Y$8=M31:Y31),"Hide","Show"),"")}
L32: {=IF(SUM(ABS(M32:Y32))>0,IF(OR($M$8:$Y$8=M32:Y32),"Hide","Show"),"")}
C33: Refrigerant Measurements | L33: {=IF(SUM(ABS(M33:Y33))>0,IF(OR($M$8:$Y$8=M33:Y33),"Hide","Show"),"")}
D34: Measurement | L34: {=IF(SUM(ABS(M34:Y34))>0,IF(OR($M$8:$Y$8=M34:Y34),"Hide","Show"),"")}
D35: Avg | E35: Min | F35: Max | L35: {=IF(SUM(ABS(M35:Y35))>0,IF(OR($M$8:$Y$8=M35:Y35),"Hide","Show"),"")}
C36: Refrigerant flow rate (lb/hr) | L36: {=IF(SUM(ABS(M36:Y36))>0,IF(OR($M$8:$Y$8=M36:Y36),"Hide","Show"),"")}
C37: Saturated suction temperature (F) | L37: {=IF(SUM(ABS(M37:Y37))>0,IF(OR($M$8:$Y$8=M37:Y37),"Hide","Show"),"")}
C38: Saturated liquid temperature (F) | L38: {=IF(SUM(ABS(M38:Y38))>0,IF(OR($M$8:$Y$8=M38:Y38),"Hide","Show"),"")}
C39: Suction temperature (F) | L39: {=IF(SUM(ABS(M39:Y39))>0,IF(OR($M$8:$Y$8=M39:Y39),"Hide","Show"),"")}
C40: Liquid line temperature (F) | L40: {=IF(SUM(ABS(M40:Y40))>0,IF(OR($M$8:$Y$8=M40:Y40),"Hide","Show"),"")}
C41: Refrigerant Superheat (F) | L41: {=IF(SUM(ABS(M41:Y41))>0,IF(OR($M$8:$Y$8=M41:Y41),"Hide","Show"),"")}
C42: Refrigerant Subcooling (F) | L42: {=IF(SUM(ABS(M42:Y42))>0,IF(OR($M$8:$Y$8=M42:Y42),"Hide","Show"),"")}
C43: Entering indoor coil (F) | L43: {=IF(SUM(ABS(M43:Y43))>0,IF(OR($M$8:$Y$8=M43:Y43),"Hide","Show"),"")}
C44: Leaving indoor coil (F) | L44: {=IF(SUM(ABS(M44:Y44))>0,IF(OR($M$8:$Y$8=M44:Y44),"Hide","Show"),"")}
...

Sheet Optional D Tests
B2: Title Block | E2: Back to Instructions tab
B3: Test Report Template Name: | C3: ='Version Control'!C3 -> Residential Central Air Conditioners and Heat Pumps_M1
B4: Version Number: | C4: ='Version Control'!C4 -> v1.1 | E4: Relevent Tests | H4: Product Information
B5: Latest Template Revision: | C5: ='Version Control'!C5 -> 43668 | E5: 1st Test | F5: =IF(Product_Type_Input=INDEX(Product_Types,3),"-",INDEX(TestMatrix_Data,MATCH($C$6&$E5,TestMatrix_Rows,0),MATCH($I$6&$I$7&$I$8,TestMatrix_Columns,0))) -> #N/A | H5: Product Type | I5: ='General Info and Test Results'!C25 -> 0
B6: Tab Name: | C6: =MID(CELL("filename",$A$1), FIND("]", CELL("filename", $A$1))+ 1, 255) -> Optional D Tests | E6: 2nd Test | F6: =IF(Product_Type_Input=INDEX(Product_Types,3),"-",INDEX(TestMatrix_Data,MATCH($C$6&$E6,TestMatrix_Rows,0),MATCH($I$6&$I$7&$I$8,TestMatrix_Columns,0))) -> #N/A | H6: Compressor Type | I6: ='General Info and Test Results'!C27 -> 0
B7: File Name: | C7: =MID(CELL("FILENAME"),FIND("[",CELL("FILENAME"))+1,FIND("]",CELL("FILENAME"))-FIND("[",CELL("FILENAME"))-1) -> Residential Central Air Conditioners and Heat Pumps_M1_Notebook.xlsx | H7: Indoor Fan Type | I7: ='General Info and Test Results'!C29 -> 0
B8: Test Completion Date: | C8: ='Version Control'!C8 -> [MM/DD/YYYY] | H8: Outdoor Fan Type | I8: =OD_FanType_Input -> 0
B11: =IF($F$5<>"-","'"&$F$5&" Test' Data to be recorded", "Test Not Applicable") -> #N/A | H11: D2
C13: Duration of the OFF/ON intervals | E13: hours
C14: Was the certified fan time delay used?
C15: Indoor Nozzle Pressure Delta value at 15 second after airflow initiation (see section 3.5.c requirement in Appendix M) | E15: in. WC
C16: The data below is reported starting how many seconds after airflow initiation? (see requirements in footnotes 2 and 5 of Table 10 in Appendix M) | E16: seconds
C18: Electrical Input | L18: {=IF(SUM(ABS(M18:Y18))>0,IF(OR($M$8:$Y$8=M18:Y18),"Hide","Show"),"")}
D19: Measurements Taken During On Cycle | L19: {=IF(SUM(ABS(M19:Y19))>0,IF(OR($M$8:$Y$8=M19:Y19),"Hide","Show"),"")}
D20: Avg | E20: Min | F20: Max | L20: {=IF(SUM(ABS(M20:Y20))>0,IF(OR($M$8:$Y$8=M20:Y20),"Hide","Show"),"")}
C21: Applied voltage to outdoor unit (V) | L21: {=IF(SUM(ABS(M21:Y21))>0,IF(OR($M$8:$Y$8=M21:Y21),"Hide","Show"),"")}
C22: Applied voltage to indoor unit (V) | L22: {=IF(SUM(ABS(M22:Y22))>0,IF(OR($M$8:$Y$8=M22:Y22),"Hide","Show"),"")}
D23: Total Measurement | L23: {=IF(SUM(ABS(M23:Y23))>0,IF(OR($M$8:$Y$8=M23:Y23),"Hide","Show"),"")}
C24: Total Indoor Unit Energy (Watts-hours) | L24: {=IF(SUM(ABS(M24:Y24))>0,IF(OR($M$8:$Y$8=M24:Y24),"Hide","Show"),"")}
C25: Total System Energy (Ecycdry in watts-hours, see Appendix M sections 3.5.h and 3.5.i) | L25: {=IF(SUM(ABS(M25:Y25))>0,IF(OR($M$8:$Y$8=M25:Y25),"Hide","Show"),"")}
L26: {=IF(SUM(ABS(M26:Y26))>0,IF(OR($M$8:$Y$8=M26:Y26),"Hide","Show"),"")}
C27: Pressure Measurements | L27: {=IF(SUM(ABS(M27:Y27))>0,IF(OR($M$8:$Y$8=M27:Y27),"Hide","Show"),"")}
D28: Measurements Taken During On Cycle | L28: {=IF(SUM(ABS(M28:Y28))>0,IF(OR($M$8:$Y$8=M28:Y28),"Hide","Show"),"")}
D29: Avg | E29: Min | F29: Max | L29: {=IF(SUM(ABS(M29:Y29))>0,IF(OR($M$8:$Y$8=M29:Y29),"Hide","Show"),"")}
C30: Barometric Pressure - (in. Hg) | L30: {=IF(SUM(ABS(M30:Y30))>0,IF(OR($M$8:$Y$8=M30:Y30),"Hide","Show"),"")}
C31: Indoor Nozzle Pressure Delta (in. WC) | L31: {=IF(SUM(ABS(M31:Y31))>0,IF(OR($M$8:$Y$8=M31:Y31),"Hide","Show"),"")}
C32: Indoor external static pressure (in. H2O) | L32: {=IF(SUM(ABS(M32:Y32))>0,IF(OR($M$8:$Y$8=M32:Y32),"Hide","Show"),"")}
L33: {=IF(SUM(ABS(M33:Y33))>0,IF(OR($M$8:$Y$8=M33:Y33),"Hide","Show"),"")}
C34: Airflow Measurements | L34: {=IF(SUM(ABS(M34:Y34))>0,IF(OR($M$8:$Y$8=M34:Y34),"Hide","Show"),"")}
D35: Average Measurement During On Cycle | L35: {=IF(SUM(ABS(M35:Y35))>0,IF(OR($M$8:$Y$8=M35:Y35),"Hide","Show"),"")}
C36: Indoor Unit Airflow (cfm) | L36: {=IF(SUM(ABS(M36:Y36))>0,IF(OR($M$8:$Y$8=M36:Y36),"Hide","Show"),"")}
C37: Indoor Unit Standard Airflow (scfm) | L37: {=IF(SUM(ABS(M37:Y37))>0,IF(OR($M$8:$Y$8=M37:Y37),"Hide","Show"),"")}
L38: {=IF(SUM(ABS(M38:Y38))>0,IF(OR($M$8:$Y$8=M38:Y38),"Hide","Show"),"")}
C39: Air Temperatures | L39: {=IF(SUM(ABS(M39:Y39))>0,IF(OR($M$8:$Y$8=M39:Y39),"Hide","Show"),"")}
D40: Measurements Taken During On Cycle | L40: {=IF(SUM(ABS(M40:Y40))>0,IF(OR($M$8:$Y$8=M40:Y40),"Hide","Show"),"")}
D41: Avg | E41: Min | F41: Max | L41: {=IF(SUM(ABS(M41:Y41))>0,IF(OR($M$8:$Y$8=M41:Y41),"Hide","Show"),"")}
C42: Indoor air entering dry bulb temperature (F) | L42: {=IF(SUM(ABS(M42:Y42))>0,IF(OR($M$8:$Y$8=M42:Y42),"Hide","Show"),"")}
C43: Indoor air entering wet bulb temperature (F) | L43: {=IF(SUM(ABS(M43:Y43))>0,IF(OR($M$8:$Y$8=M43:Y43),"Hide","Show"),"")}
C44: Indoor air leaving dry bulb temperature (F) | L44: {=IF(SUM(ABS(M44:Y44))>0,IF(OR($M$8:$Y$8=M44:Y44),"Hide","Show"),"")}
C45: Indoor air leaving wet bulb temperature (F) | L45: {=IF(SUM(ABS(M45:Y45))>0,IF(OR($M$8:$Y$8=M45:Y45),"Hide","Show"),"")}
...

Sheet F1 Test
B2: Title Block | E2: Back to Instructions tab
B3: Test Report Template Name: | C3: ='Version Control'!C3 -> Residential Central Air Conditioners and Heat Pumps_M1
B4: Version Number: | C4: ='Version Control'!C4 -> v1.1 | E4: Relevent Test | H4: Product Information
B5: Latest Template Revision: | C5: ='Version Control'!C5 -> 43668 | E5: Only Test | F5: =IF(Product_Type_Input=INDEX(Product_Types,3),"-",INDEX(TestMatrix_Data,MATCH($C$6,TestMatrix_Rows,0),MATCH($I$6&$I$7&$I$8,TestMatrix_Columns,0))) -> #N/A | H5: Product Type | I5: ='General Info and Test Results'!C25 -> 0
B6: Tab Name: | C6: =MID(CELL("filename",$A$1), FIND("]", CELL("filename", $A$1))+ 1, 255) -> F1 Test | H6: Compressor Type | I6: ='General Info and Test Results'!C27 -> 0
B7: File Name: | C7: =MID(CELL("FILENAME"),FIND("[",CELL("FILENAME"))+1,FIND("]",CELL("FILENAME"))-FIND("[",CELL("FILENAME"))-1) -> Residential Central Air Conditioners and Heat Pumps_M1_Notebook.xlsx | H7: Indoor Fan Type | I7: ='General Info and Test Results'!C29 -> 0
B8: Test Completion Date: | C8: ='Version Control'!C8 -> [MM/DD/YYYY] | H8: Outdoor Fan Type | I8: =OD_FanType_Input -> 0
C11: 'F Test' Conditions Summary - Test Chamber Devices
C12: Compliance with Equilibrium Requirements
C13: Has chamber been at equilibrium for the minimum 30 minutes?
C14: Demand Defrost Control System | D14: ='General Info and Test Results'!C36 -> 0 | L14: {=IF(SUM(ABS(M14:Y14))>0,IF(OR($M$8:$Y$8=M14:Y14),"Hide","Show"),"")}
C15: Time between defrost terminations (hours) | L15: {=IF(SUM(ABS(M15:Y15))>0,IF(OR($M$8:$Y$8=M15:Y15),"Hide","Show"),"")}
C16: Maximum time between defrosts as allowed by the controls (hours) | L16: {=IF(SUM(ABS(M16:Y16))>0,IF(OR($M$8:$Y$8=M16:Y16),"Hide","Show"),"")}
L17: {=IF(SUM(ABS(M17:Y17))>0,IF(OR($M$8:$Y$8=M17:Y17),"Hide","Show"),"")}
B18: =IF($F$5<>"-","'"&$F$5&" Test' Data to be recorded", "Test Not Applicable") -> #N/A | L18: {=IF(SUM(ABS(M18:Y18))>0,IF(OR($M$8:$Y$8=M18:Y18),"Hide","Show"),"")}
L19: {=IF(SUM(ABS(M19:Y19))>0,IF(OR($M$8:$Y$8=M19:Y19),"Hide","Show"),"")}
C20: Electrical Input | L20: {=IF(SUM(ABS(M20:Y20))>0,IF(OR($M$8:$Y$8=M20:Y20),"Hide","Show"),"")}
D21: Measurement | L21: {=IF(SUM(ABS(M21:Y21))>0,IF(OR($M$8:$Y$8=M21:Y21),"Hide","Show"),"")}
D22: Avg | E22: Min | F22: Max | L22: {=IF(SUM(ABS(M22:Y22))>0,IF(OR($M$8:$Y$8=M22:Y22),"Hide","Show"),"")}
C23: Applied voltage to outdoor unit (V) | L23: {=IF(SUM(ABS(M23:Y23))>0,IF(OR($M$8:$Y$8=M23:Y23),"Hide","Show"),"")}
C24: Applied voltage to indoor unit (V) | L24: {=IF(SUM(ABS(M24:Y24))>0,IF(OR($M$8:$Y$8=M24:Y24),"Hide","Show"),"")}
C25: Frequency (Hz) | L25: {=IF(SUM(ABS(M25:Y25))>0,IF(OR($M$8:$Y$8=M25:Y25),"Hide","Show"),"")}
C26: Line current (Amps) | L26: {=IF(SUM(ABS(M26:Y26))>0,IF(OR($M$8:$Y$8=M26:Y26),"Hide","Show"),"")}
C27: Total Indoor Unit Power (Watts) | L27: {=IF(SUM(ABS(M27:Y27))>0,IF(OR($M$8:$Y$8=M27:Y27),"Hide","Show"),"")}
C28: Total System Power (Watts) | L28: {=IF(SUM(ABS(M28:Y28))>0,IF(OR($M$8:$Y$8=M28:Y28),"Hide","Show"),"")}
L29: {=IF(SUM(ABS(M29:Y29))>0,IF(OR($M$8:$Y$8=M29:Y29),"Hide","Show"),"")}
C30: Pressure Measurements | L30: {=IF(SUM(ABS(M30:Y30))>0,IF(OR($M$8:$Y$8=M30:Y30),"Hide","Show"),"")}
D31: Measurement | L31: {=IF(SUM(ABS(M31:Y31))>0,IF(OR($M$8:$Y$8=M31:Y31),"Hide","Show"),"")}
D32: Avg | E32: Min | F32: Max | L32: {=IF(SUM(ABS(M32:Y32))>0,IF(OR($M$8:$Y$8=M32:Y32),"Hide","Show"),"")}
C33: Barometric Pressure - (in. Hg) | L33: {=IF(SUM(ABS(M33:Y33))>0,IF(OR($M$8:$Y$8=M33:Y33),"Hide","Show"),"")}
C34: Liquid Line Pressure (psig) | L34: {=IF(SUM(ABS(M34:Y34))>0,IF(OR($M$8:$Y$8=M34:Y34),"Hide","Show"),"")}
C35: Suction Pressure (psig) | L35: {=IF(SUM(ABS(M35:Y35))>0,IF(OR($M$8:$Y$8=M35:Y35),"Hide","Show"),"")}
C36: Indoor Nozzle Pressure Delta (in. WC) | L36: {=IF(SUM(ABS(M36:Y36))>0,IF(OR($M$8:$Y$8=M36:Y36),"Hide","Show"),"")}
C37: Indoor external static pressure (in. H2O) | L37: {=IF(SUM(ABS(M37:Y37))>0,IF(OR($M$8:$Y$8=M37:Y37),"Hide","Show"),"")}
L38: {=IF(SUM(ABS(M38:Y38))>0,IF(OR($M$8:$Y$8=M38:Y38),"Hide","Show"),"")}
C39: Refrigerant Measurements | L39: {=IF(SUM(ABS(M39:Y39))>0,IF(OR($M$8:$Y$8=M39:Y39),"Hide","Show"),"")}
D40: Measurement | L40: {=IF(SUM(ABS(M40:Y40))>0,IF(OR($M$8:$Y$8=M40:Y40),"Hide","Show"),"")}
D41: Avg | E41: Min | F41: Max | L41: {=IF(SUM(ABS(M41:Y41))>0,IF(OR($M$8:$Y$8=M41:Y41),"Hide","Show"),"")}
C42: Refrigerant flow rate (lb/hr) | L42: {=IF(SUM(ABS(M42:Y42))>0,IF(OR($M$8:$Y$8=M42:Y42),"Hide","Show"),"")}
C43: Saturated suction temperature (F) | L43: {=IF(SUM(ABS(M43:Y43))>0,IF(OR($M$8:$Y$8=M43:Y43),"Hide","Show"),"")}
...

Sheet Ev Test
B2: Title Block | E2: Back to Instructions tab
B3: Test Report Template Name: | C3: ='Version Control'!C3 -> Residential Central Air Conditioners and Heat Pumps_M1
B4: Version Number: | C4: ='Version Control'!C4 -> v1.1 | F4: Relevent Test | H4: Product Information
B5: Latest Template Revision: | C5: ='Version Control'!C5 -> 43668 | F5: =INDEX(TestMatrix_Data,MATCH($C$6,TestMatrix_Rows,0),MATCH($I$6&$I$7&$I$8,TestMatrix_Columns,0)) -> #N/A | H5: Product Type | I5: ='General Info and Test Results'!C25 -> 0
B6: Tab Name: | C6: =MID(CELL("filename",$A$1), FIND("]", CELL("filename", $A$1))+ 1, 255) -> Ev Test | H6: Compressor Type | I6: ='General Info and Test Results'!C27 -> 0
B7: File Name: | C7: =MID(CELL("FILENAME"),FIND("[",CELL("FILENAME"))+1,FIND("]",CELL("FILENAME"))-FIND("[",CELL("FILENAME"))-1) -> Residential Central Air Conditioners and Heat Pumps_M1_Notebook.xlsx | H7: Indoor Fan Type | I7: ='General Info and Test Results'!C29 -> 0
B8: Test Completion Date: | C8: ='Version Control'!C8 -> [MM/DD/YYYY] | H8: Outdoor Fan Type | I8: =OD_FanType_Input -> 0
C10: Has chamber been at equilibrium for the minimum 30 minutes?
C11: Maximum time between defrosts as allowed by the controls (hours)
B13: =IF($F$5<>"-","'"&$F$5&" Test' Data to be recorded", "Test Not Applicable") -> #N/A
C15: Electrical Input
D16: Measurement | L16: {=IF(SUM(ABS(M16:Y16))>0,IF(OR($M$8:$Y$8=M16:Y16),"Hide","Show"),"")}
D17: Avg | E17: Min | F17: Max | L17: {=IF(SUM(ABS(M17:Y17))>0,IF(OR($M$8:$Y$8=M17:Y17),"Hide","Show"),"")}
C18: Applied voltage to outdoor unit (V) | L18: {=IF(SUM(ABS(M18:Y18))>0,IF(OR($M$8:$Y$8=M18:Y18),"Hide","Show"),"")}
C19: Applied voltage to indoor unit (V) | L19: {=IF(SUM(ABS(M19:Y19))>0,IF(OR($M$8:$Y$8=M19:Y19),"Hide","Show"),"")}
C20: Frequency (Hz) | L20: {=IF(SUM(ABS(M20:Y20))>0,IF(OR($M$8:$Y$8=M20:Y20),"Hide","Show"),"")}
C21: Line current (Amps) | L21: {=IF(SUM(ABS(M21:Y21))>0,IF(OR($M$8:$Y$8=M21:Y21),"Hide","Show"),"")}
C22: Total Indoor Unit Power (Watts) | L22: {=IF(SUM(ABS(M22:Y22))>0,IF(OR($M$8:$Y$8=M22:Y22),"Hide","Show"),"")}
C23: Total System Power (Watts) | L23: {=IF(SUM(ABS(M23:Y23))>0,IF(OR($M$8:$Y$8=M23:Y23),"Hide","Show"),"")}
L24: {=IF(SUM(ABS(M24:Y24))>0,IF(OR($M$8:$Y$8=M24:Y24),"Hide","Show"),"")}
C25: Pressure Measurements | L25: {=IF(SUM(ABS(M25:Y25))>0,IF(OR($M$8:$Y$8=M25:Y25),"Hide","Show"),"")}
D26: Measurement | L26: {=IF(SUM(ABS(M26:Y26))>0,IF(OR($M$8:$Y$8=M26:Y26),"Hide","Show"),"")}
D27: Avg | E27: Min | F27: Max | L27: {=IF(SUM(ABS(M27:Y27))>0,IF(OR($M$8:$Y$8=M27:Y27),"Hide","Show"),"")}
C28: Barometric Pressure - (in. Hg) | L28: {=IF(SUM(ABS(M28:Y28))>0,IF(OR($M$8:$Y$8=M28:Y28),"Hide","Show"),"")}
C29: Liquid Line Pressure (psig) | L29: {=IF(SUM(ABS(M29:Y29))>0,IF(OR($M$8:$Y$8=M29:Y29),"Hide","Show"),"")}
C30: Suction Pressure (psig) | L30: {=IF(SUM(ABS(M30:Y30))>0,IF(OR($M$8:$Y$8=M30:Y30),"Hide","Show"),"")}
C31: Indoor Nozzle Pressure Delta (in. WC) | L31: {=IF(SUM(ABS(M31:Y31))>0,IF(OR($M$8:$Y$8=M31:Y31),"Hide","Show"),"")}
C32: Indoor external static pressure (in. H2O) | L32: {=IF(SUM(ABS(M32:Y32))>0,IF(OR($M$8:$Y$8=M32:Y32),"Hide","Show"),"")}
L33: {=IF(SUM(ABS(M33:Y33))>0,IF(OR($M$8:$Y$8=M33:Y33),"Hide","Show"),"")}
C34: Refrigerant Measurements | L34: {=IF(SUM(ABS(M34:Y34))>0,IF(OR($M$8:$Y$8=M34:Y34),"Hide","Show"),"")}
D35: Measurement | L35: {=IF(SUM(ABS(M35:Y35))>0,IF(OR($M$8:$Y$8=M35:Y35),"Hide","Show"),"")}
D36: Avg | E36: Min | F36: Max | L36: {=IF(SUM(ABS(M36:Y36))>0,IF(OR($M$8:$Y$8=M36:Y36),"Hide","Show"),"")}
C37: Refrigerant flow rate (lb/hr) | L37: {=IF(SUM(ABS(M37:Y37))>0,IF(OR($M$8:$Y$8=M37:Y37),"Hide","Show"),"")}
C38: Saturated suction temperature (F) | L38: {=IF(SUM(ABS(M38:Y38))>0,IF(OR($M$8:$Y$8=M38:Y38),"Hide","Show"),"")}
C39: Saturated liquid temperature (F) | L39: {=IF(SUM(ABS(M39:Y39))>0,IF(OR($M$8:$Y$8=M39:Y39),"Hide","Show"),"")}
C40: Suction temperature (F) | L40: {=IF(SUM(ABS(M40:Y40))>0,IF(OR($M$8:$Y$8=M40:Y40),"Hide","Show"),"")}
C41: Liquid line temperature (F) | L41: {=IF(SUM(ABS(M41:Y41))>0,IF(OR($M$8:$Y$8=M41:Y41),"Hide","Show"),"")}
C42: Refrigerant Superheat (F) | L42: {=IF(SUM(ABS(M42:Y42))>0,IF(OR($M$8:$Y$8=M42:Y42),"Hide","Show"),"")}
C43: Refrigerant Subcooling (F) | L43: {=IF(SUM(ABS(M43:Y43))>0,IF(OR($M$8:$Y$8=M43:Y43),"Hide","Show"),"")}
C44: Entering indoor coil (F) | L44: {=IF(SUM(ABS(M44:Y44))>0,IF(OR($M$8:$Y$8=M44:Y44),"Hide","Show"),"")}
...

Sheet Optional G1 Test
B2: Title Block
B3: Test Report Template Name: | C3: ='Version Control'!C3 -> Residential Central Air Conditioners and Heat Pumps_M1 | E3: Back to Instructions tab
B4: Version Number: | C4: ='Version Control'!C4 -> v1.1 | F4: Relevent Test | H4: Product Information
B5: Latest Template Revision: | C5: ='Version Control'!C5 -> 43668 | F5: =INDEX(TestMatrix_Data,MATCH($C$6,TestMatrix_Rows,0),MATCH($I$6&$I$7&$I$8,TestMatrix_Columns,0)) -> #N/A | H5: Product Type | I5: ='General Info and Test Results'!C25 -> 0
B6: Tab Name: | C6: =MID(CELL("filename",$A$1), FIND("]", CELL("filename", $A$1))+ 1, 255) -> Optional G1 Test | H6: Compressor Type | I6: ='General Info and Test Results'!C27 -> 0
B7: File Name: | C7: =MID(CELL("FILENAME"),FIND("[",CELL("FILENAME"))+1,FIND("]",CELL("FILENAME"))-FIND("[",CELL("FILENAME"))-1) -> Residential Central Air Conditioners and Heat Pumps_M1_Notebook.xlsx | H7: Indoor Fan Type | I7: ='General Info and Test Results'!C29 -> 0
B8: Test Completion Date: | C8: ='Version Control'!C8 -> [MM/DD/YYYY] | H8: Outdoor Fan Type | I8: =OD_FanType_Input -> 0
H9: D2
B11: =IF($F$5<>"-","'"&$F$5&" Test' Data to be recorded", "Test Not Applicable") -> #N/A
C13: Electrical Input
D14: Measurement
D15: Avg | E15: Min | F15: Max
C16: Applied voltage to outdoor unit (V)
C17: Applied voltage to indoor unit (V)
C18: Frequency (Hz) | L18: {=IF(SUM(ABS(M18:Y18))>0,IF(OR($M$8:$Y$8=M18:Y18),"Hide","Show"),"")}
C19: Line current (Amps) | L19: {=IF(SUM(ABS(M19:Y19))>0,IF(OR($M$8:$Y$8=M19:Y19),"Hide","Show"),"")}
C20: Total Indoor Unit Power (Watts) | L20: {=IF(SUM(ABS(M20:Y20))>0,IF(OR($M$8:$Y$8=M20:Y20),"Hide","Show"),"")}
C21: Total System Power (Watts) | L21: {=IF(SUM(ABS(M21:Y21))>0,IF(OR($M$8:$Y$8=M21:Y21),"Hide","Show"),"")}
L22: {=IF(SUM(ABS(M22:Y22))>0,IF(OR($M$8:$Y$8=M22:Y22),"Hide","Show"),"")}
C23: Pressure Measurements | L23: {=IF(SUM(ABS(M23:Y23))>0,IF(OR($M$8:$Y$8=M23:Y23),"Hide","Show"),"")}
D24: Measurement | L24: {=IF(SUM(ABS(M24:Y24))>0,IF(OR($M$8:$Y$8=M24:Y24),"Hide","Show"),"")}
D25: Avg | E25: Min | F25: Max | L25: {=IF(SUM(ABS(M25:Y25))>0,IF(OR($M$8:$Y$8=M25:Y25),"Hide","Show"),"")}
C26: Barometric Pressure - (in. Hg) | L26: {=IF(SUM(ABS(M26:Y26))>0,IF(OR($M$8:$Y$8=M26:Y26),"Hide","Show"),"")}
C27: Liquid Line Pressure (psig) | L27: {=IF(SUM(ABS(M27:Y27))>0,IF(OR($M$8:$Y$8=M27:Y27),"Hide","Show"),"")}
C28: Suction Pressure (psig) | L28: {=IF(SUM(ABS(M28:Y28))>0,IF(OR($M$8:$Y$8=M28:Y28),"Hide","Show"),"")}
C29: Indoor Nozzle Pressure Delta (in. WC) | L29: {=IF(SUM(ABS(M29:Y29))>0,IF(OR($M$8:$Y$8=M29:Y29),"Hide","Show"),"")}
C30: Indoor external static pressure (in. H2O) | L30: {=IF(SUM(ABS(M30:Y30))>0,IF(OR($M$8:$Y$8=M30:Y30),"Hide","Show"),"")}
L31: {=IF(SUM(ABS(M31:Y31))>0,IF(OR($M$8:$Y$8=M31:Y31),"Hide","Show"),"")}
C32: Refrigerant Measurements | L32: {=IF(SUM(ABS(M32:Y32))>0,IF(OR($M$8:$Y$8=M32:Y32),"Hide","Show"),"")}
D33: Measurement | L33: {=IF(SUM(ABS(M33:Y33))>0,IF(OR($M$8:$Y$8=M33:Y33),"Hide","Show"),"")}
D34: Avg | E34: Min | F34: Max | L34: {=IF(SUM(ABS(M34:Y34))>0,IF(OR($M$8:$Y$8=M34:Y34),"Hide","Show"),"")}
C35: Refrigerant flow rate (lb/hr) | L35: {=IF(SUM(ABS(M35:Y35))>0,IF(OR($M$8:$Y$8=M35:Y35),"Hide","Show"),"")}
C36: Saturated suction temperature (F) | L36: {=IF(SUM(ABS(M36:Y36))>0,IF(OR($M$8:$Y$8=M36:Y36),"Hide","Show"),"")}
C37: Saturated liquid temperature (F) | L37: {=IF(SUM(ABS(M37:Y37))>0,IF(OR($M$8:$Y$8=M37:Y37),"Hide","Show"),"")}
C38: Suction temperature (F) | L38: {=IF(SUM(ABS(M38:Y38))>0,IF(OR($M$8:$Y$8=M38:Y38),"Hide","Show"),"")}
C39: Liquid line temperature (F) | L39: {=IF(SUM(ABS(M39:Y39))>0,IF(OR($M$8:$Y$8=M39:Y39),"Hide","Show"),"")}
C40: Refrigerant Superheat (F) | L40: {=IF(SUM(ABS(M40:Y40))>0,IF(OR($M$8:$Y$8=M40:Y40),"Hide","Show"),"")}
C41: Refrigerant Subcooling (F) | L41: {=IF(SUM(ABS(M41:Y41))>0,IF(OR($M$8:$Y$8=M41:Y41),"Hide","Show"),"")}
C42: Entering indoor coil (F) | L42: {=IF(SUM(ABS(M42:Y42))>0,IF(OR($M$8:$Y$8=M42:Y42),"Hide","Show"),"")}
C43: Leaving indoor coil (F) | L43: {=IF(SUM(ABS(M43:Y43))>0,IF(OR($M$8:$Y$8=M43:Y43),"Hide","Show"),"")}
...

Sheet Optional I1 Test
B2: Title Block | E2: Back to Instructions tab
B3: Test Report Template Name: | C3: ='Version Control'!C3 -> Residential Central Air Conditioners and Heat Pumps_M1
B4: Version Number: | C4: ='Version Control'!C4 -> v1.1 | F4: Relevent Test | H4: Product Information
B5: Latest Template Revision: | C5: ='Version Control'!C5 -> 43668 | F5: =INDEX(TestMatrix_Data,MATCH($C$6,TestMatrix_Rows,0),MATCH($I$6&$I$7&$I$8,TestMatrix_Columns,0)) -> #N/A | H5: Product Type | I5: ='General Info and Test Results'!C25 -> 0
B6: Tab Name: | C6: =MID(CELL("filename",$A$1), FIND("]", CELL("filename", $A$1))+ 1, 255) -> Optional I1 Test | H6: Compressor Type | I6: ='General Info and Test Results'!C27 -> 0
B7: File Name: | C7: =MID(CELL("FILENAME"),FIND("[",CELL("FILENAME"))+1,FIND("]",CELL("FILENAME"))-FIND("[",CELL("FILENAME"))-1) -> Residential Central Air Conditioners and Heat Pumps_M1_Notebook.xlsx | H7: Indoor Fan Type | I7: ='General Info and Test Results'!C29 -> 0
B8: Test Completion Date: | C8: ='Version Control'!C8 -> [MM/DD/YYYY] | H8: Outdoor Fan Type | I8: =OD_FanType_Input -> 0
H9: D2
B11: =IF($F$5<>"-","'"&$F$5&" Test' Data to be recorded", "Test Not Applicable") -> #N/A
C13: Duration of the OFF/ON intervals (hours)
C14: Was the certified fan time delay used?
C16: Electrical Input
D17: Measurement | L17: {=IF(SUM(ABS(M17:Y17))>0,IF(OR($M$8:$Y$8=M17:Y17),"Hide","Show"),"")}
D18: Avg | E18: Min | F18: Max | L18: {=IF(SUM(ABS(M18:Y18))>0,IF(OR($M$8:$Y$8=M18:Y18),"Hide","Show"),"")}
C19: Applied voltage to outdoor unit (V) | L19: {=IF(SUM(ABS(M19:Y19))>0,IF(OR($M$8:$Y$8=M19:Y19),"Hide","Show"),"")}
C20: Applied voltage to indoor unit (V) | L20: {=IF(SUM(ABS(M20:Y20))>0,IF(OR($M$8:$Y$8=M20:Y20),"Hide","Show"),"")}
C21: Frequency (Hz) | L21: {=IF(SUM(ABS(M21:Y21))>0,IF(OR($M$8:$Y$8=M21:Y21),"Hide","Show"),"")}
C22: Line current (Amps) | L22: {=IF(SUM(ABS(M22:Y22))>0,IF(OR($M$8:$Y$8=M22:Y22),"Hide","Show"),"")}
D23: Total Measurement | L23: {=IF(SUM(ABS(M23:Y23))>0,IF(OR($M$8:$Y$8=M23:Y23),"Hide","Show"),"")}
C24: Total Indoor Unit Energy (Watts-hours) | L24: {=IF(SUM(ABS(M24:Y24))>0,IF(OR($M$8:$Y$8=M24:Y24),"Hide","Show"),"")}
C25: Total System Energy (Ecycdry in watts-hours, see Appendix M sections 3.5.h and 3.5.i) | L25: {=IF(SUM(ABS(M25:Y25))>0,IF(OR($M$8:$Y$8=M25:Y25),"Hide","Show"),"")}
L26: {=IF(SUM(ABS(M26:Y26))>0,IF(OR($M$8:$Y$8=M26:Y26),"Hide","Show"),"")}
C27: Pressure Measurements | L27: {=IF(SUM(ABS(M27:Y27))>0,IF(OR($M$8:$Y$8=M27:Y27),"Hide","Show"),"")}
D28: Measurement | L28: {=IF(SUM(ABS(M28:Y28))>0,IF(OR($M$8:$Y$8=M28:Y28),"Hide","Show"),"")}
D29: Avg | E29: Min | F29: Max | L29: {=IF(SUM(ABS(M29:Y29))>0,IF(OR($M$8:$Y$8=M29:Y29),"Hide","Show"),"")}
C30: Barometric Pressure - (in. Hg) | L30: {=IF(SUM(ABS(M30:Y30))>0,IF(OR($M$8:$Y$8=M30:Y30),"Hide","Show"),"")}
C31: Liquid Line Pressure (psig) | L31: {=IF(SUM(ABS(M31:Y31))>0,IF(OR($M$8:$Y$8=M31:Y31),"Hide","Show"),"")}
C32: Suction Pressure (psig) | L32: {=IF(SUM(ABS(M32:Y32))>0,IF(OR($M$8:$Y$8=M32:Y32),"Hide","Show"),"")}
C33: Indoor Nozzle Pressure Delta (in. WC) | L33: {=IF(SUM(ABS(M33:Y33))>0,IF(OR($M$8:$Y$8=M33:Y33),"Hide","Show"),"")}
C34: Indoor external static pressure (in. H2O) | L34: {=IF(SUM(ABS(M34:Y34))>0,IF(OR($M$8:$Y$8=M34:Y34),"Hide","Show"),"")}
L35: {=IF(SUM(ABS(M35:Y35))>0,IF(OR($M$8:$Y$8=M35:Y35),"Hide","Show"),"")}
C36: Refrigerant Measurements | L36: {=IF(SUM(ABS(M36:Y36))>0,IF(OR($M$8:$Y$8=M36:Y36),"Hide","Show"),"")}
D37: Measurement | L37: {=IF(SUM(ABS(M37:Y37))>0,IF(OR($M$8:$Y$8=M37:Y37),"Hide","Show"),"")}
D38: Avg | E38: Min | F38: Max | L38: {=IF(SUM(ABS(M38:Y38))>0,IF(OR($M$8:$Y$8=M38:Y38),"Hide","Show"),"")}
C39: Refrigerant flow rate (lb/hr) | L39: {=IF(SUM(ABS(M39:Y39))>0,IF(OR($M$8:$Y$8=M39:Y39),"Hide","Show"),"")}
C40: Saturated suction temperature (F) | L40: {=IF(SUM(ABS(M40:Y40))>0,IF(OR($M$8:$Y$8=M40:Y40),"Hide","Show"),"")}
C41: Saturated liquid temperature (F) | L41: {=IF(SUM(ABS(M41:Y41))>0,IF(OR($M$8:$Y$8=M41:Y41),"Hide","Show"),"")}
C42: Suction temperature (F) | L42: {=IF(SUM(ABS(M42:Y42))>0,IF(OR($M$8:$Y$8=M42:Y42),"Hide","Show"),"")}
C43: Liquid line temperature (F) | L43: {=IF(SUM(ABS(M43:Y43))>0,IF(OR($M$8:$Y$8=M43:Y43),"Hide","Show"),"")}
C44: Refrigerant Superheat (F) | L44: {=IF(SUM(ABS(M44:Y44))>0,IF(OR($M$8:$Y$8=M44:Y44),"Hide","Show"),"")}
...

Sheet H0-1 Test
B2: Title Block | E2: Back to Instructions tab
B3: Test Report Template Name: | C3: ='Version Control'!C3 -> Residential Central Air Conditioners and Heat Pumps_M1
B4: Version Number: | C4: ='Version Control'!C4 -> v1.1 | E4: Relevant Test | H4: Product Information
B5: Latest Template Revision: | C5: ='Version Control'!C5 -> 43668 | E5: Only Test | F5: =IF(Product_Type_Input=INDEX(Product_Types,1),"-",INDEX(TestMatrix_Data,MATCH($C$6,TestMatrix_Rows,0),MATCH($I$6&$I$7&$I$8,TestMatrix_Columns,0))) -> #N/A | H5: Product Type | I5: ='General Info and Test Results'!C25 -> 0
B6: Tab Name: | C6: =MID(CELL("filename",$A$1), FIND("]", CELL("filename", $A$1))+ 1, 255) -> H0-1 Test | H6: Compressor Type | I6: ='General Info and Test Results'!C27 -> 0
B7: File Name: | C7: =MID(CELL("FILENAME"),FIND("[",CELL("FILENAME"))+1,FIND("]",CELL("FILENAME"))-FIND("[",CELL("FILENAME"))-1) -> Residential Central Air Conditioners and Heat Pumps_M1_Notebook.xlsx | H7: Indoor Fan Type | I7: ='General Info and Test Results'!C29 -> 0
B8: Test Completion Date: | C8: ='Version Control'!C8 -> [MM/DD/YYYY] | H8: Outdoor Fan Type | I8: =OD_FanType_Input -> 0
C10: Has chamber been at equilibrium for the minimum 30 minutes?
B12: =IF($F$5<>"-","'"&$F$5&" Test' Data to be recorded", "Test Not Applicable") -> #N/A
C14: Electrical Input
D15: Measurement
D16: Avg | E16: Min | F16: Max
C17: Applied voltage to outdoor unit (V) | L17: {=IF(SUM(ABS(M17:Y17))>0,IF(OR($M$8:$Y$8=M17:Y17),"Hide","Show"),"")}
C18: Applied voltage to indoor unit (V) | L18: {=IF(SUM(ABS(M18:Y18))>0,IF(OR($M$8:$Y$8=M18:Y18),"Hide","Show"),"")}
C19: Frequency (Hz) | L19: {=IF(SUM(ABS(M19:Y19))>0,IF(OR($M$8:$Y$8=M19:Y19),"Hide","Show"),"")}
C20: Line current (Amps) | L20: {=IF(SUM(ABS(M20:Y20))>0,IF(OR($M$8:$Y$8=M20:Y20),"Hide","Show"),"")}
C21: Total Indoor Unit Power (Watts) | L21: {=IF(SUM(ABS(M21:Y21))>0,IF(OR($M$8:$Y$8=M21:Y21),"Hide","Show"),"")}
C22: Compressor Speed (RPM/Hz)
C23: Total System Power (Watts) | L23: {=IF(SUM(ABS(M23:Y23))>0,IF(OR($M$8:$Y$8=M23:Y23),"Hide","Show"),"")}
L24: {=IF(SUM(ABS(M24:Y24))>0,IF(OR($M$8:$Y$8=M24:Y24),"Hide","Show"),"")}
C25: Pressure Measurements | L25: {=IF(SUM(ABS(M25:Y25))>0,IF(OR($M$8:$Y$8=M25:Y25),"Hide","Show"),"")}
D26: Measurement | L26: {=IF(SUM(ABS(M26:Y26))>0,IF(OR($M$8:$Y$8=M26:Y26),"Hide","Show"),"")}
D27: Avg | E27: Min | F27: Max | L27: {=IF(SUM(ABS(M27:Y27))>0,IF(OR($M$8:$Y$8=M27:Y27),"Hide","Show"),"")}
C28: Barometric Pressure - (in. Hg) | L28: {=IF(SUM(ABS(M28:Y28))>0,IF(OR($M$8:$Y$8=M28:Y28),"Hide","Show"),"")}
C29: Liquid Line Pressure (psig) | L29: {=IF(SUM(ABS(M29:Y29))>0,IF(OR($M$8:$Y$8=M29:Y29),"Hide","Show"),"")}
C30: Suction Pressure (psig) | L30: {=IF(SUM(ABS(M30:Y30))>0,IF(OR($M$8:$Y$8=M30:Y30),"Hide","Show"),"")}
C31: Indoor Nozzle Pressure Delta (in. WC) | L31: {=IF(SUM(ABS(M31:Y31))>0,IF(OR($M$8:$Y$8=M31:Y31),"Hide","Show"),"")}
C32: Indoor external static pressure (in. H2O) | L32: {=IF(SUM(ABS(M32:Y32))>0,IF(OR($M$8:$Y$8=M32:Y32),"Hide","Show"),"")}
L33: {=IF(SUM(ABS(M33:Y33))>0,IF(OR($M$8:$Y$8=M33:Y33),"Hide","Show"),"")}
C34: Refrigerant Measurements | L34: {=IF(SUM(ABS(M34:Y34))>0,IF(OR($M$8:$Y$8=M34:Y34),"Hide","Show"),"")}
D35: Measurement | L35: {=IF(SUM(ABS(M35:Y35))>0,IF(OR($M$8:$Y$8=M35:Y35),"Hide","Show"),"")}
D36: Avg | E36: Min | F36: Max | L36: {=IF(SUM(ABS(M36:Y36))>0,IF(OR($M$8:$Y$8=M36:Y36),"Hide","Show"),"")}
C37: Refrigerant flow rate (lb/hr) | L37: {=IF(SUM(ABS(M37:Y37))>0,IF(OR($M$8:$Y$8=M37:Y37),"Hide","Show"),"")}
