{"text_format":"1","workbook":"xlsx","n_sheets":21,"sheets":["Disclaimer","Getting Started","Concept","1.Plant Info","2.Plant Water Intake&Discharge","3.Water Use Calculations","4.System Water Balance","True Cost","5.Unit Costs","6.System Water Intake&Discharge","7.Water&Wastewater Treatment","8.Embodied Energy","9.Plant Water Efficiency Status","10.System WaterEfficiencyStatus","HelperTab","Results","Acknowledgments","StatCanada","EIOLCA","Lookup_EIOLCA","Lookup_NAICS Code"],"not_rendered":{"charts":41,"images":23,"macros":1,"external_links":0,"defined_names":99,"comments":0,"pivot_tables":0},"unopened":[],"bounds":{"document_bytes":16777216,"sheet_cells":100000,"rows_first":2000,"rows_last":500,"rows_between":2000,"halvings":0,"cell_chars":16384,"cell_head_chars":4096},"cells_cut":0,"cells_raw":0,"read":"whole","date_system":"1900"}

{"sheet":"Disclaimer","index":0,"n_rows":10,"n_cols":6,"rows_kept":10,"cut":false,"hidden":false,"merged":[[9,1,18,8],[3,2,3,3],[5,2,5,3],[0,1,0,8],[4,2,4,3],[3,5,5,8]]}
[null,"Plant Water Profiler Tool"]
[]
[]
[null,null,"Language:",null,"English","Note: The Plant Water Profiler Tool is currently available in the English language only.  It uses only Million Gallons for water use calculations and USD for cost calculations."]
[null,null,"Water Measurement Unit:",null,"Million Gallons"]
[null,null,"Currency:",null,"USD"]
[]
[]
[null,"Disclaimer"]
[null,"This tool was prepared as an account of work sponsored by an agency of the United States Government. Neither the United States Government nor any agency thereof, nor any of their employees, makes any warranty, express or implied, or assumes any legal liability or responsibility for the accuracy, completeness, or usefulness of any information, apparatus, product, or process disclosed, or represents that its use would not infringe privately owned rights. Reference herein to any specific commercial product, process, or service by trade name, trademark, manufacturer, or otherwise, does not necessarily constitute or imply its endorsement, recommendation, or favoring by the United States Government or any agency thereof. The views and opinions of authors expressed herein do not necessarily state or reflect those of the United States Government or any agency thereof."]

{"sheet":"Getting Started","index":1,"n_rows":51,"n_cols":6,"rows_kept":51,"cut":false,"hidden":false,"merged":[[2,1,2,4],[34,1,36,1],[3,5,3,11],[31,1,33,1],[6,1,10,1],[11,1,13,1],[14,1,19,1],[20,1,23,1],[28,4,30,4],[6,2,10,2],[11,2,13,2],[6,4,10,4],[11,4,13,4],[14,4,19,4],[28,1,30,1],[3,1,3,4],[4,1,4,2],[14,2,19,2],[20,2,23,2],[24,1,27,1],[43,2,49,2],[34,2,36,2],[24,2,27,2],[28,2,30,2],[31,2,33,2],[43,4,49,4],[50,1,50,4],[37,1,39,1],[40,1,42,1],[37,2,39,2],[40,2,42,2],[20,4,23,4],[34,4,36,4],[40,4,42,4],[37,4,39,4],[31,4,33,4],[24,4,27,4]]}
[null,null,null,"Plant Water Profiler Tool"]
[]
[null,"The Getting Started tab provides brief descriptions of the information provided on the other tabs included in the Plant Water Profiler tool. The flow diagram on the right shows the data flow between tabs and the calculation methodology. "]
[null,"Content",null,null,null,"Data Flow and Calculation Methodology"]
[null,"Tab Title",null,"Description"]
[null,null,"Concept","This tab shows the concept of the PWP Tool including the plant water flow diagram.","View Page"]
[null,1,"Plant Info ","This tab collects the following information about a manufacturing facility:","Enter Data"]
[null,null,null,{"$f":"'1.Plant Info'!B10","v":"Part 1.1 - Industry and Contact Information"}]
[null,null,null,{"$f":"'1.Plant Info'!B25","v":"Part 1.2 - Plant's Annual Hours of Operation"}]
[null,null,null,{"$f":"'1.Plant Info'!B35","v":"Part 1.3 - Annual Production Information"}]
[null,null,null,{"$f":"'1.Plant Info'!B49","v":"Part 1.4 - Water-Using Systems Utilized in the Plant"}]
[null,2,"Plant Water Intake & Discharge","This tab collects water intake and discharge data across a plant's boundary.","Enter Data"]
[null,null,null,{"$f":"'2.Plant Water Intake&Discharge'!B11","v":"Part 2.1 - Plant's Source Water Intake"}]
[null,null,null,{"$f":"'2.Plant Water Intake&Discharge'!B36","v":"Part 2.2 - Plant's Wastewater Discharge"}]
[null,3,"Water Use Calculations","This tab collects data to calculate water use for different systems.","Enter data"]
[null,null,null,"Part 3.1 - Process Water Use"]
[null,null,null,"Part 3.2 - Cooling Tower Water Use"]
[null,null,null,"Part 3.3 - Boiler Water Use"]
[null,null,null,"Part 3.4 - Kitchen and Restrooms Water Use"]
[null,null,null,"Part 3.5 - Landscaping and Irrigation Water Use"]
[null,4,"System Water Balance","This tab collects data needed to calculate water balance across system boundaries.","Enter Data"]
[null,null,null,{"$f":"'4.System Water Balance'!B11","v":"Part 4.1 - System Gross Water Use"}]
[null,null,null,{"$f":"'4.System Water Balance'!B32","v":"Part 4.2 - System Water Outflow"}]
[null,null,null,{"$f":"'4.System Water Balance'!B52&\" [Read Only]\"","v":"Part 4 Results - System Water Balance [Read Only]"}]
[null,5,"Unit Costs","This tab collects the unit cost of utilities and water and wastewater treatments. ","Enter Data"]
[null,null,null,{"$f":"'5.Unit Costs'!B10","v":"Part 5.1 - Utility Cost"}]
[null,null,null,{"$f":"'5.Unit Costs'!B23","v":"Part 5.2 - Water Treatment Cost"}]
[null,null,null,{"$f":"'5.Unit Costs'!B36","v":"Part 5.3 - Wastewater Treatment Cost"}]
[null,6,"System Water Intake & Discharge","This tab collects data needed to calculate water intake and discharge across system boundaries.","Enter Data"]
[null,null,null,{"$f":"'6.System Water Intake&Discharge'!B11","v":"Part 6.1 - System's Source Water Intake"}]
[null,null,null,{"$f":"'6.System Water Intake&Discharge'!B30","v":"Part 6.2 - System's Wastewater Discharge"}]
[null,7,"Water & Wastewater Treatment","This tab collects data to estimate the quantity of treated water and wastewater.","Enter Data"]
[null,null,null,"Part 7.1 - Onsite Water Treatment"]
[null,null,null,"Part 7.2 - Onsite Wastewater Treatment"]
[null,8,"Embodied Energy","This tab calculates the following cost components to determine the true cost of water:","Enter Data"]
[null,null,null,{"$f":"'8.Embodied Energy'!B10","v":"Part 8.1 - Heat Energy in Wastewater Leaving the Plant"}]
[null,null,null,{"$f":"'8.Embodied Energy'!B28","v":"Part 8.2 - Pump, Fan and Motor Energy"}]
[null,9,"Plant Water Efficiency Status","This tab collects information to help the tool identify existing and potential plant-specific water savings projects.","Enter Data"]
[null,null,null,{"$f":"'9.Plant Water Efficiency Status'!$B$8","v":"Part 9.1 - Water Management Questions"}]
[null,null,null,{"$f":"'9.Plant Water Efficiency Status'!$B$26","v":"Part 9.2 - Water Efficiency Projects Implemented in Your Plant"}]
[null,10,"System Water Efficiency Status","This tab collects information to help the tool determine potential system-specific water savings measures.","Enter Data"]
[null,null,null,{"$f":"'10.System WaterEfficiencyStatus'!$B$8","v":"Part 10.1 - Status of System Assessment and Water Efficiency Measures Implementation"}]
[null,null,null,{"$f":"'10.System WaterEfficiencyStatus'!$B$23","v":"Part 10.2 - System-Specific Water Efficiency Measures Implemented in Your Plant"}]
[null,null,"Results","This tab shows water balance, true cost of water, and water savings opportunities in your plant.","View Results"]
[null,null,null,{"$f":"Results!B63","v":"Part 1: Source Water Intake"}]
[null,null,null,{"$f":"Results!B116","v":"Part 2: Wastewater Discharge"}]
[null,null,null,{"$f":"Results!B169","v":"Part 3: Water Balance"}]
[null,null,null,{"$f":"Results!B289","v":"Part 4: True Cost of Water"}]
[null,null,null,{"$f":"Results!B342","v":"Part 5: Water Savings Opportunity"}]
[null,null,null,{"$f":"Results!B457","v":"Part 6: Water Efficiency Projects and Opportunities"}]
[null,"If you have any tool specific comments or questions, please contact Mini Malhotra (malhotram@ornl.gov). \nFor all other programmatic questions, please contact Sachin Nimbalkar (nimbalkarsu@ornl.gov).  "]

{"sheet":"Concept","index":2,"n_rows":1,"n_cols":3,"rows_kept":1,"cut":false,"hidden":false,"merged":[[0,2,0,8]]}
[null,null,"Plant Water Profiler Tool Concept"]

{"sheet":"1.Plant Info","index":3,"n_rows":65,"n_cols":14,"rows_kept":65,"cut":false,"hidden":false,"merged":[[48,9,64,10],[63,5,63,7],[64,5,64,7],[50,5,51,7],[52,5,52,7],[53,5,53,7],[54,5,54,7],[55,5,55,7],[56,5,56,7],[57,5,57,7],[58,5,58,7],[59,5,59,7],[60,5,60,7],[61,5,61,7],[48,1,48,7],[49,1,49,7],[52,3,52,4],[53,3,53,4],[54,3,54,4],[50,1,51,4],[62,1,62,2],[59,3,59,4],[60,1,60,4],[61,1,61,4],[0,2,0,5],[40,3,40,4],[41,3,41,4],[42,3,42,4],[43,3,43,4],[52,1,54,2],[55,1,57,2],[58,1,59,2],[12,6,12,7],[12,2,12,4],[2,1,2,7],[7,1,7,7],[9,1,9,7],[10,1,10,7],[11,2,11,4],[18,6,18,7],[15,2,16,4],[16,6,16,7],[17,2,18,4],[19,2,19,7],[24,1,24,7],[63,1,63,4],[64,1,64,4],[62,3,62,4],[62,5,62,7],[55,3,55,4],[56,3,56,4],[57,3,57,4],[58,3,58,4],[37,5,37,6],[40,5,40,7],[41,5,41,7],[42,5,42,7],[34,1,34,7],[13,9,21,10],[13,5,15,5],[15,1,16,1],[28,1,28,2],[29,1,29,2],[30,1,30,2],[17,6,17,7],[26,1,26,2],[31,1,31,2],[31,6,31,7],[28,6,28,7],[26,6,26,7],[13,2,13,4],[14,2,14,4],[20,2,20,7],[14,6,14,7],[15,6,15,7],[13,6,13,7],[27,6,27,7],[25,1,25,7],[29,6,29,7],[11,5,11,7],[30,6,30,7],[17,1,18,1],[21,2,21,7],[27,1,27,2],[34,9,45,10],[44,3,44,4],[45,3,45,4],[38,3,38,4],[44,1,44,2],[43,5,43,7],[44,5,44,7],[45,5,45,7],[38,5,39,7],[35,1,37,4],[40,1,40,2],[41,1,41,2],[42,1,42,2],[43,1,43,2],[38,1,39,2],[35,5,35,6],[36,5,36,6]]}
[null,null,"Plant Information"]
[]
[null,{"$f":"HelperTab!$B$29","v":"User Input Instructions"}]
[null,{"$f":"HelperTab!B30","v":"Yellow"},{"$f":"HelperTab!C30","v":"Please input data ONLY in the yellow cells."}]
[null,{"$f":"HelperTab!B31","v":"Orange"},{"$f":"HelperTab!C31","v":"Please select from the drop-down menu in the orange cells."}]
[null,{"$f":"HelperTab!B32","v":"Tan"},{"$f":"HelperTab!C32","v":"Please DO NOT enter any data or delete values in the tan cells. They contain formulae."}]
[null,{"$f":"HelperTab!B34","v":"Gray"},{"$f":"HelperTab!C34","v":"Please DO NOT enter any data in the gray cells. They are not applicable to your plant."}]
[null,{"$f":"HelperTab!$B$35","v":"Please give your best estimate if the exact data is not known."}]
[]
[null,"Part 1.1 - Industry and Contact Information"]
[null,"Please provide details about the plant and contact information. Enter relevant information in yellow cells. Select industry subsector from the first drop-down list, and then industry type from the next drop-down list."]
[null,"Corporation Name:",null,null,null,"Primary Contact for Assessment:"]
[null,"Plant Name:",null,null,null,"Name:"]
[null,"Location:",null,null,null,"Address:",null,null,null,"The North American Industry Classification System (NAICS) is the standard used by Federal statistical agencies in classifying business establishments for the purpose of collecting, analyzing, and publishing statistical data related to the US business economy."]
[null,"Primary Product:"]
[null,"Industry Subsector and NAICS 3-Digit Code:",null,null,null,null,null,null,null,null,null,null,"NAICS Industry Code:"]
[null,null,null,null,null,"Phone:",null,null,null,null,null,null,{"$f":"INDEX('Lookup_NAICS Code'!$C$3:$G$23,MATCH('1.Plant Info'!$C$16,'Lookup_NAICS Code'!$G$3:$G$23,0),1)","v":{"$error":"#N/A"}}]
[null,"Industry Type and NAICS 5-Digit Code:",null,null,null,"Fax-No:",null,null,null,null,null,null,{"$f":"INDEX('Lookup_NAICS Code'!$C$110:$G$289,MATCH('1.Plant Info'!$C$18,'Lookup_NAICS Code'!$G$110:$G$289,0),1)","v":{"$error":"#N/A"}}]
[null,null,null,null,null,"E-mail:",null,null,null,null,null,null,"NAICS Search","https://www.census.gov/eos/www/naics/"]
[null,"Specify if other:","\n\n"]
[null,"Plant's Safety Protocol:"]
[null,"Specific Problems or Ideas of Interest related to Plant's Water Use:"]
[]
[]
[null,"Part 1.2 - Plant's Annual Hours of Operation"]
[null,"Please provide plant's annual hours of operation. You may list different departments of the plant (e.g., administration office) separately, if their hours of operation are different."]
[null,"Department",null,"Normal Hours of Operation per Year","Downtime Hours per Year","Actual Hours of Operation per Year","Comments"]
[null,null,null,null,null,{"$f":"D28-E28","v":0}]
[null,null,null,null,null,0]
[null,null,null,null,null,{"$f":"D30-E30","v":0}]
[null,null,null,null,null,{"$f":"D31-E31","v":0}]
[null,null,null,null,null,0]
[]
[]
[null,"Part 1.3 - Annual Production Information",null,null,null,null,null,null,null,"For Production Cost, enter the dollar value to represent the producer price (i.e., the cost to make the output), not the consumer price (i.e., the cost to purchase the output)."]
[null,"Please provide plant's annual production information for a specific year. This data is used for determining facility-wide key performance indicators (KPIs). Using the production cost data, your facility's water use is normalized and compared with other similar facilities in the United States.",null,null,null,"Year:"]
[null,null,null,null,null,"Facility-Wide Source Water Intake (Million Gallon):"]
[null,null,null,null,null,"Production Cost (Million Dollar):"]
[null,"Product",null,"Annual Production",null,"Comments"]
[null,null,null,null,null,null,null,null,null,null,null,null,"Metric Ton",1]
[null,null,null,null,null,null,null,null,null,null,null,null,"lb",10]
[null,null,null,null,null,null,null,null,null,null,null,null,"gallon",100]
[null,null,null,null,null,null,null,null,null,null,null,null,"Sq. Ft.",1000]
[null,null,null,null,null,null,null,null,null,null,null,null,"Unit",10000]
[null,null,null,null,null,null,null,null,null,null,null,null,"No. of Vehicles",100000]
[null,"TOTAL",null,{"$f":"SUM(D41:E45)","v":0},null,null,null,null,null,null,null,null,"Other",1000000]
[]
[]
[null,"Part 1.4 - Water-Using Systems Utilized in the Plant",null,null,null,null,null,null,null,"You may specify up to:\n- 3 processes (e.g., based on product type or subprocess), if you wish to analyze them separately; \n- 3 cooling tower systems (e.g., for separate cooling/condensing loads, such as process, power generation, and air conditioning);\n- 2 boiler systems (e.g., for separate heating loads, such as power generation, and facility needs). \n\nSpecify cooling tower and boiler systems separate from processes and water-using systems they serve."]
[null,"Please indicate which water-using systems are present in your plant. Select systems that are present; this will activate corresponding rows in this table and throughout the tool. Enter the name of the system in yellow cells where highlighted."]
[null,"Water-Using System",null,null,null,"Comments"]
[]
[null,"Process:",null,null,null,null,null,null,null,null,null,null,false,{"$f":"IF(M53,\"Yes\")","v":false}]
[null,null,null,null,null,null,null,null,null,null,null,null,false,false]
[null,null,null,null,null,null,null,null,null,null,null,null,false,false]
[null,"Cooling Tower for:",null,null,null,null,null,null,null,null,null,null,false,false]
[null,null,null,null,null,null,null,null,null,null,null,null,false,false]
[null,null,null,null,null,null,null,null,null,null,null,null,false,false]
[null,"Boiler for:",null,null,null,null,null,null,null,null,null,null,false,false]
[null,null,null,null,null,null,null,null,null,null,null,null,false,false]
[null,"Kitchen and Restrooms",null,null,null,null,null,null,null,null,null,null,false,false]
[null,"Landscaping and Irrigation",null,null,null,null,null,null,null,null,null,null,false,false]
[null,"Other System:",null,null,null,null,null,null,null,null,null,null,false,false]
[null,"Onsite Water Treatment",null,null,null,null,null,null,null,null,null,null,false,false]
[null,"Onsite Wastewater Treatment",null,null,null,null,null,null,null,null,null,null,false,false]

{"sheet":"2.Plant Water Intake&Discharge","index":4,"n_rows":56,"n_cols":24,"rows_kept":56,"cut":false,"hidden":false,"merged":[[0,2,0,8],[10,1,10,5],[11,1,11,5],[35,1,35,5],[36,1,36,5],[10,6,13,9],[35,6,38,9],[15,9,17,9],[32,9,33,9],[32,1,33,8],[39,1,41,1],[8,1,8,9],[2,1,2,9],[14,2,14,9],[14,1,17,1],[40,8,41,8],[39,2,39,9]]}
[null,null,"Plant's Water Intake & Wastewater Discharge      ",null,null,null,null,null,null,null,null,null,null,null,null,null,"Municipal Water","Municipal Water","Municipal Water","River or Lake","Ocean or Tide","Groundwater","Other"]
[null,null,null,null,null,null,null,null,null,null,null,null,null,null,null,null,false,false,false,false,false,false,false]
[null,{"$f":"HelperTab!$B$29","v":"User Input Instructions"},null,null,null,null,null,null,null,null,null,null,null,null,null,null,"Municipal Sewer","Third-party Disposal","River or Lake","Ocean or Tide","Groundwater","Onsite Disposal",null,"Stormwater to Municipal Sewer"]
[null,{"$f":"HelperTab!B30","v":"Yellow"},{"$f":"HelperTab!C30","v":"Please input data ONLY in the yellow cells."},null,null,null,null,null,null,null,null,null,null,null,null,null,false,false,false,false,false,false,null,false]
[null,{"$f":"HelperTab!B31","v":"Orange"},{"$f":"HelperTab!C31","v":"Please select from the drop-down menu in the orange cells."},null,null,null,null,null,null,null,null,null,null,null,null,null,"Monthly","Potable - Secondary","Potable","Rainwater"]
[null,{"$f":"HelperTab!B32","v":"Tan"},{"$f":"HelperTab!C32","v":"Please DO NOT enter any data or delete values in the tan cells. They contain formulae."},null,null,null,null,null,null,null,null,null,null,null,null,null,"Annual","Nonpotable - Secondary","Nonpotable","Desalinated Water"]
[null,{"$f":"HelperTab!B33","v":"Purple"},{"$f":"HelperTab!C33","v":"Please DO NOT enter any data in the purple cells. They show values calculated elsewhere for guiding user input and cross-checking results."},null,null,null,null,null,null,null,null,null,null,null,null,null,null,"Brackish","Brackish","Other"]
[null,{"$f":"HelperTab!B34","v":"Gray"},{"$f":"HelperTab!C34","v":"Please DO NOT enter any data in the gray cells. They are not applicable to your plant."},null,null,null,null,null,null,null,null,null,null,null,null,null,null,"Saline","Saline"]
[null,{"$f":"HelperTab!$B$35","v":"Please give your best estimate if the exact data is not known."},null,null,null,null,null,null,null,null,null,null,null,null,null,null,null,"Other Quality","Other Quality"]
[null,null,null,null,null,null,null,null,null,null,null,null,null,null,null,null,null,"Unknown Quality","Unknown Quality"]
[null,"Part 2.1 - Plant's Source Water Intake"]
[null,"Please select the data interval (i.e., monthly or annual) and provide an estimate of water intake in your plant from applicable water sources. You may also select a water source that is not listed in the table, such as rainwater, desalinated water, or other. Select the quality of water from the drop-down list."]
[null,"Year",{"$f":"IF('1.Plant Info'!$H$36=\"\",\"\",'1.Plant Info'!$H$36)","v":""}]
[null,"Data Interval"]
[null,"Month","Plant's Source Water Intake (Million Gallon)"]
[null,null,null,null,null,null,null,null,null,"Total"]
[null,null,"Municipal Water","Municipal Water","Municipal Water","River or Lake","Ocean or Tide","Groundwater","Other"]
[null,null,"Potable","Nonpotable"]
[null,"January",null,null,null,null,null,null,null,{"$f":"SUM(C19:I19)","v":0}]
[null,"February",null,null,null,null,null,null,null,0]
[null,"March",null,null,null,null,null,null,null,0]
[null,"April",null,null,null,null,null,null,null,0]
[null,"May",null,null,null,null,null,null,null,0]
[null,"June",null,null,null,null,null,null,null,0]
[null,"July",null,null,null,null,null,null,null,0]
[null,"August",null,null,null,null,null,null,null,0]
[null,"September",null,null,null,null,null,null,null,0]
[null,"October",null,null,null,null,null,null,null,0]
[null,"November",null,null,null,null,null,null,null,0]
[null,"December",null,null,null,null,null,null,null,0]
[null,"Annual",null,null,null,null,null,null,null,0]
[null,"ANNUAL TOTAL",{"$f":"SUM(C31,SUM(C19:C30))","v":0},{"$f":"SUM(D31,SUM(D19:D30))","v":0},0,0,0,0,0,0]
[null,"Note: If the plant boundary encompasses the entire facility, ANNUAL TOTAL should match with Facility-Wide Annual Source Water Intake you have entered in Part 1.3, also shown here in the purple cell.",null,null,null,null,null,null,null,{"$f":"'1.Plant Info'!H37","v":0}]
[]
[]
[null,"Part 2.2 - Plant's Wastewater Discharge"]
[null,"Please select the data interval (i.e., monthly or annual) and provide an estimate of wastewater discharge from your plant to applicable discharge streams. Provide an estimate of stormwater discharge IF it is discharged to the municipal sewer and not billed separately."]
[null,"Year",{"$f":"IF('1.Plant Info'!$H$36=\"\",\"\",'1.Plant Info'!$H$36)","v":""}]
[null,"Data Interval"]
[null,"Month","Plant's Wastewater Discharge (Million Gallon)"]
[null,null,null,null,null,null,null,null,"Total"]
[null,null,"Municipal Sewer","Third-party Disposal","River or Lake","Ocean or Tide","Groundwater","Onsite Disposal",null,"Stormwater to Municipal Sewer"]
[null,"January",null,null,null,null,null,null,{"$f":"SUM(C43:H43)","v":0}]
[null,"February",null,null,null,null,null,null,0]
[null,"March",null,null,null,null,null,null,0]
[null,"April",null,null,null,null,null,null,0]
[null,"May",null,null,null,null,null,null,0]
[null,"June",null,null,null,null,null,null,0]
[null,"July",null,null,null,null,null,null,0]
[null,"August",null,null,null,null,null,null,0]
[null,"September",null,null,null,null,null,null,0]
[null,"October",null,null,null,null,null,null,0]
[null,"November",null,null,null,null,null,null,0]
[null,"December",null,null,null,null,null,null,0]
[null,"Annual",null,null,null,null,null,null,0]
[null,"ANNUAL TOTAL",{"$f":"SUM(C55,SUM(C43:C54))","v":0},{"$f":"SUM(D55,SUM(D43:D54))","v":0},0,0,0,0,{"$f":"SUM(I55,SUM(I43:I54))","v":0},{"$f":"SUM(J55,SUM(J43:J54))","v":0}]

{"sheet":"3.Water Use Calculations","index":5,"n_rows":105,"n_cols":52,"rows_kept":105,"cut":false,"hidden":false,"merged":[[10,17,23,18],[60,17,68,17],[72,17,80,17],[84,17,104,17],[9,1,9,15],[10,1,10,15],[74,4,74,5],[75,4,75,5],[76,4,76,5],[77,4,77,5],[78,4,78,5],[79,4,79,5],[80,4,80,5],[59,1,59,9],[60,1,60,9],[80,8,80,9],[73,6,73,7],[74,6,74,7],[75,6,75,7],[76,6,76,7],[77,6,77,7],[66,8,66,9],[67,8,67,9],[68,8,68,9],[62,6,62,7],[44,17,56,17],[27,17,40,17],[13,23,13,28],[26,1,26,15],[43,1,43,15],[28,25,29,25],[45,1,47,3],[48,1,48,3],[45,4,47,4],[45,5,47,5],[45,21,45,22],[46,21,46,22],[29,20,29,21],[29,22,29,24],[28,22,28,24],[27,20,27,35],[11,1,13,3],[53,1,53,3],[12,22,13,22],[11,8,13,8],[11,6,12,6],[11,5,12,5],[0,2,0,13],[2,1,2,15],[7,1,7,15],[45,9,46,9],[45,8,46,8],[45,10,46,10],[28,10,29,10],[45,6,47,6],[45,7,47,7],[28,9,29,9],[28,11,28,15],[29,13,29,14],[29,11,30,11],[29,15,30,15],[45,11,45,15],[19,1,19,3],[23,1,23,3],[22,1,22,3],[44,1,44,13],[46,11,47,11],[21,1,21,3],[14,1,14,3],[15,1,15,3],[16,1,16,3],[47,48,47,51],[46,44,46,51],[45,44,45,51],[45,20,46,20],[44,36,44,51],[28,36,28,42],[46,27,46,28],[45,26,45,28],[62,1,62,3],[46,24,46,25],[45,23,45,25],[45,32,45,34],[47,44,47,47],[46,15,47,15],[55,1,55,3],[56,1,56,3],[49,1,49,3],[50,1,50,3],[51,1,51,3],[52,1,52,3],[61,1,61,3],[44,20,44,35],[28,35,29,35],[61,6,61,7],[46,36,46,39],[46,40,46,43],[45,36,45,43],[45,35,46,35],[46,33,46,34],[45,29,45,31],[46,29,46,31],[28,33,28,34],[35,1,35,3],[36,1,36,3],[28,20,28,21],[28,43,30,49],[44,18,56,18],[27,18,40,18],[28,66,28,75],[28,1,30,3],[28,4,30,4],[28,5,30,5],[28,6,30,6],[28,8,30,8],[28,7,30,7],[28,26,28,28],[29,26,29,28],[28,29,28,32],[29,29,29,30],[38,1,38,3],[39,1,39,3],[40,1,40,3],[31,1,31,3],[32,1,32,3],[33,1,33,3],[34,1,34,3],[27,36,27,49],[29,36,29,42],[27,1,27,13],[79,8,79,9],[73,4,73,5],[74,1,74,3],[75,1,75,3],[76,1,76,3],[77,1,77,3],[78,1,78,3],[79,1,79,3],[73,1,73,3],[78,6,78,7],[79,6,79,7],[80,6,80,7],[73,8,73,9],[74,8,74,9],[75,8,75,9],[76,8,76,9],[77,8,77,9],[78,8,78,9],[96,1,96,3],[85,1,85,3],[86,1,86,3],[83,1,83,11],[84,1,84,11],[11,10,11,15],[13,12,13,14],[11,9,13,9],[12,10,13,10],[12,15,13,15],[11,7,13,7],[103,1,103,3],[99,1,99,3],[100,1,100,3],[101,1,101,3],[102,1,102,3],[87,1,87,3],[88,1,88,3],[89,1,89,3],[90,1,90,3],[91,1,91,3],[92,1,92,3],[93,1,93,3],[97,1,97,3],[98,1,98,3],[94,1,94,3],[95,1,95,3],[71,1,71,9],[72,1,72,9],[63,1,63,3],[64,1,64,3],[65,1,65,3],[66,1,66,3],[67,1,67,3],[47,13,47,14],[12,20,13,20],[12,21,13,21],[17,1,17,3],[18,1,18,3],[61,8,61,9],[68,1,68,3],[63,6,63,7],[64,6,64,7],[65,6,65,7],[66,6,66,7],[67,6,67,7],[68,6,68,7],[62,8,62,9],[63,8,63,9],[64,8,64,9],[65,8,65,9],[11,4,12,4]]}
[null,null,"Water Use Calculations"]
[]
[null,{"$f":"HelperTab!$B$29","v":"User Input Instructions"}]
[null,{"$f":"HelperTab!B30","v":"Yellow"},{"$f":"HelperTab!C30","v":"Please input data ONLY in the yellow cells."}]
[null,{"$f":"HelperTab!B31","v":"Orange"},{"$f":"HelperTab!C31","v":"Please select from the drop-down menu in the orange cells."},null,null,null,null,null,null,null,null,null,null,null,null,null,null,null,null,null,"mmho",null,"Gallon"]
[null,{"$f":"HelperTab!B32","v":"Tan"},{"$f":"HelperTab!C32","v":"Please DO NOT enter any data or delete values in the tan cells. They contain formulae."},null,null,null,null,null,null,null,null,null,null,null,null,null,null,null,null,null,"TDS ppm",null,"Gallon per Production Unit"]
[null,{"$f":"HelperTab!B34","v":"Gray"},{"$f":"HelperTab!C34","v":"Please DO NOT enter any data in the gray cells. They are not applicable to your plant."},null,null,null,null,null,null,null,null,null,null,null,null,null,null,null,null,null,"μS/cm",null,"Gallon per Hour"]
[null,{"$f":"HelperTab!$B$35","v":"Please give your best estimate if the exact data is not known."},null,null,null,null,null,null,null,null,null,null,null,null,null,null,null,null,null,null,"mS/cm",null,"Fraction of Incoming Water"]
[null,null,null,null,null,null,null,null,null,null,null,null,null,null,null,null,null,null,null,null,3,"Significant digits","Fraction of Gross Water Use"]
[null,{"$f":"\"Part 3.1 - Process Water Use\"&IF($A11=1,\" (Not Applicable)\",\"\")","v":"Part 3.1 - Process Water Use (Not Applicable)"}]
[{"$f":"IF(AND('1.Plant Info'!$N$53<>\"Yes\",'1.Plant Info'!$N$54<>\"Yes\",'1.Plant Info'!$N$55<>\"Yes\"),1,0)","v":1},"This table calculates process water use in the plant. You may describe multiple applications for a process (e.g., product type or subprocess). Please select the process and enter required data in the highlighted cells.",null,null,null,null,null,null,null,null,null,null,null,null,null,null,null,"Process Water Use Calculations\nMGPY: Million Gallon per Year\ng = Water Required for Processing (g1: Gallon, g2: Gallon per Production Unit OR g3: Gallon per Hour)\np = Process Water Consumed in Product (p1: Gallon, p2: Gallon per Production Unit, p3: Gallon per Hour, p4: Fraction of Incoming Water, OR p5: Fraction of Gross Water Use)\ne = Process Water Losses (e1: Gallon, e2: Gallon per Production Unit, e3: Gallon per Hour, e4: Fraction of Incoming Water, OR e5: Fraction of Gross Water Use)\nr = Fraction of Gross Water Use Recirculated\nN = Production Units per Year\nH = Hours Water Used per Year\nG = (g1/10^6), (N * g2/10^6) OR (H * g3/10^6) = Gross Water Use (MGPY)\nR = G * r = Recirculated Water (MGPY)\nM = G - R = Incoming Water (MGPY)\nP = (p1/10^6), (N * p2/10^6), (H * p3/10^6), (M * p4), OR (G * p5) = Process Water Consumed in Product (MGPY)\nE = (e1/10^6), (N * e2/10^6), (H * e3/10^6), (M * e4), OR (G * e5) = Process Water Losses (MGPY)"]
[{"$f":"$A$11","v":1},"Process Application",null,null,"Water Required for Processing","Process Water Consumed in Product","Process Water Losses (Evaporation/ Other)","Production Units per Year","Hours Water Used per Year","Fraction of Gross Water Use Recirculated","Total (Million Gallon per Year)",null,null,null,null,null,null,null,null,null,null,null,null,{"$f":"1/(1-X13)","v":1.25},{"$f":"1/(1-Y13)","v":1.4285714285714286},1.6666666666666667,2.5,5.0000000000000009,19.999999999999982]
[1,null,null,null,null,null,null,null,null,null,"Gross Water Use","Source Water + Water from Other Systems","Wastewater Discharge + Recycled to Other Systems",{"$f":"F12","v":"Process Water Consumed in Product"},{"$f":"G12","v":"Process Water Losses (Evaporation/ Other)"},"Recirculated Water",null,null,null,null,"Current Fraction Recirculated","Rate of Recirculation","Gross water use",0.2,0.3,0.4,0.6,0.8,0.95]
[1,null,null,null,null,null,null,null,null,null,null,"Incoming","Outgoing (Leaving the System)",null,null,null,null,null,null,null,null,null,null,"Incoming water savings"]
[1,null,null,null,null,null,null,null,null,null,{"$f":"IF($E$14=$W$5,$E15/10^6,IF($E$14=$W$6,$H15*$E15/10^6,IF($E$14=$W$7,$I15*$E15/10^6,0)))","v":0},{"$f":"K15-P15","v":0},{"$f":"L15-N15-O15","v":0},{"$f":"IF($F$14=$W$5,$F15/10^6,IF($F$14=$W$6,$H15*$F15/10^6,IF($F$14=$W$7,$I15*$F15/10^6,IF($F$14=$W$8,$F15*$L15,IF($F$14=$W$9,$F15*$K15,0)))))","v":0},{"$f":"IF($G$14=$W$5,$G15/10^6,IF($G$14=$W$6,$H15*$G15/10^6,IF($G$14=$W$7,$I15*$G15/10^6,IF($G$14=$W$8,$G15*$L15,IF($G$14=$W$9,$G15*$K15,0)))))","v":0},{"$f":"J15*K15","v":0},null,null,null,null,{"$f":"J15","v":0},{"$f":"1/(1-U15)","v":1},{"$f":"K15","v":0},{"$f":"$W15*(X$13-$U15)","v":0},0,0,0,0,0]
[1,null,null,null,null,null,null,null,null,null,{"$f":"IF($E$14=$W$5,$E16/10^6,IF($E$14=$W$6,$H16*$E16/10^6,IF($E$14=$W$7,$I16*$E16/10^6,0)))","v":0},{"$f":"K16-P16","v":0},{"$f":"L16-N16-O16","v":0},{"$f":"IF($F$14=$W$5,$F16/10^6,IF($F$14=$W$6,$H16*$F16/10^6,IF($F$14=$W$7,$I16*$F16/10^6,IF($F$14=$W$8,$F16*$L16,IF($F$14=$W$9,$F16*$K16,0)))))","v":0},{"$f":"IF($G$14=$W$5,$G16/10^6,IF($G$14=$W$6,$H16*$G16/10^6,IF($G$14=$W$7,$I16*$G16/10^6,IF($G$14=$W$8,$G16*$L16,IF($G$14=$W$9,$G16*$K16,0)))))","v":0},0,null,null,null,null,0,{"$f":"1/(1-U16)","v":1},0,0,0,0,0,0,0]
[1,null,null,null,null,null,null,null,null,null,0,0,0,0,0,0,null,null,null,null,0,1,0,0,0,0,0,0,0]
[1,null,null,null,null,null,null,null,null,null,0,0,0,0,0,0,null,null,null,null,0,1,0,0,0,0,0,0,0]
[1,null,null,null,null,null,null,null,null,null,0,0,0,0,0,0,null,null,null,null,0,1,0,0,0,0,0,0,0]
[1,null,null,null,null,null,null,null,null,null,0,0,0,0,0,0,null,null,null,null,0,1,0,0,0,0,0,0,0]
[1,"Aggregated Results"]
[1,{"$f":"'6.System Water Intake&Discharge'!B16","v":"-"},null,null,null,null,null,null,null,null,{"$f":"SUMPRODUCT(($B$15:$B$20=$B22)*(K$15:K$20))","v":0},0,0,0,0,0]
[1,{"$f":"'6.System Water Intake&Discharge'!B17","v":"-"},null,null,null,null,null,null,null,null,0,0,0,0,0,0]
[1,{"$f":"'6.System Water Intake&Discharge'!B18","v":"-"},null,null,null,null,null,null,null,null,0,0,0,0,0,0]
[1]
[]
[null,{"$f":"\"Part 3.2 - Cooling Tower Water Use\"&IF($A28=1,\" (Not Applicable)\",\"\")","v":"Part 3.2 - Cooling Tower Water Use (Not Applicable)"}]
[{"$f":"IF(AND('1.Plant Info'!$N$56<>\"Yes\",'1.Plant Info'!$N$57<>\"Yes\",'1.Plant Info'!$N$58<>\"Yes\"),1,0)","v":1},"This table calculates cooling tower water use in the plant. Please select the applicable cooling/condensing system and enter required data in the highlighted cells. \nFor \"Load (Fraction of Chiller Tonnage),\" the typical range is 0.5-0.8. For \"Evaporation Rate per 10°F Temp. Drop,\" 0.85% is a typical value, and the typical range is 0.65% for moist climate to 1.0-1.2% for dry climate. For \"Temp. Drop Across Cooling Tower,\" typical range is 10-15°F. For conductivity, first select \"Conductivity Unit\" from the drop-down list on the right and then enter data below.",null,null,null,null,null,null,null,null,null,null,null,null,"Conductivity Unit:",null,null,"Cooling Tower Calculations\nMGPY: Million Gallon per Year\nH = Hours of Operation per Year\nCT = Cooling Tower Tonnage\nL = Load as a Fraction of Cooling Tower Tonnage\ne10 = Evaporation Rate per 10°F Temp. Drop (%)\nΔT = Temp. Drop Across Cooling Tower (°F)\nMc = Makeup Water Conductivity (selected unit)\nBc = Blowdown Conductivity (selected unit)\nG = (3 gpm/ton * CT * L) * H * 60/10^6 = Gross Water Use (MGPY)\nE = G*(e10/100)*ΔT/10  = Evaporation Loss (MGPY)\nC = Cycles of Concentration = Bc/Mc\nM = E/(1-1/C) = Makeup Water (MGPY)\nB = M - E = Blowdown (MGPY)\nR = G - M = Recirculated Water (MGPY)",null,null,"Baseline Cooling Tower Calculations",null,null,null,null,null,null,null,null,null,null,null,null,null,null,null,"Savings Calculations"]
[{"$f":"$A$28","v":1},"Cooling Tower",null,null,"Hours of Operation per Year","Cooling Tower Tonnage","Load Factor (Fraction of Tonnage)","Evaporation Rate per 10°F Temp. Drop (%)","Temp. Drop Across Cooling Tower (°F)","Makeup Water Conductivity","Blowdown Conductivity","Million Gallon per Year (% of Gross Water Use)",null,null,null,null,null,null,null,null,"Gross Water Use, G",null,"Evaporation Loss, E",null,null,"Cycle of Concentration, C","Makeup Water, M",null,null,"Blowdown (Controlled + Uncontrolled)",null,null,null,"Recirculated, R",null,"Rate of Recirculation; RR = G/M","Makeup Water Rate (gpm) for Varying Cycle of Concentration\nM = E/(1-1/C)",null,null,null,null,null,null,"Makeup Water Savings (Million Gallon per Year) for Varying Cycle of Concentration\ndeltaM = (Mbaseline - M)*60*(hrs of operation/yr)/10^6"]
[1,null,null,null,null,null,null,null,null,null,null,"Gross Water Use","Incoming","Outgoing",null,"Recirculated Water",null,null,null,null,"G (gpm) = 3 * CT * L",null,"E (in gpm)= G * (%E/100) *(DT/10)",null,null,null,"M (in gpm) =E/(1-1/C)",null,null,"B=M-E",null,"%B = B/G","%B = B/M","%R=1-M/G","R = %R*G",null,"Varying Cycle of Concentration, C"]
[1,null,null,null,null,null,null,null,null,{"$f":"IF($P$28=\"\",\"\",$P$28)","v":""},{"$f":"IF($P$28=\"\",\"\",$P$28)","v":""},null,"Makeup Water","Blowdown","Evaporation",null,null,null,null,null,"gpm","Mgal/y","gpm","Mgal/y","% of G","C = Bc/Mc","gpm","Mgal/y","% of G","gpm","Mgal/y","% of G","% of M","% of G","Mgal/y","Multiplier",2,3,4,5,6,7,8]
[1,null,null,null,null,null,null,null,null,null,null,{"$f":"IF(V32>0,ROUND(V32,$U$9-(1+INT(LOG10(ABS(V32)))))&\" (100%)\",0)","v":0},{"$f":"IF(AB32>0,ROUND(AB32,$U$9-(1+INT(LOG10(ABS(AB32)))))&\" (\"&ROUND(AC32*100,$U$9-(1+INT(LOG10(ABS(AC32*100)))))&\"%)\",0)","v":0},{"$f":"IF(AE32>0,ROUND(AE32,$U$9-(1+INT(LOG10(ABS(AE32)))))&\" (\"&ROUND(AF32*100,$U$9-(1+INT(LOG10(ABS(AF32*100)))))&\"%)\",0)","v":0},{"$f":"IF(X32>0,ROUND(X32,$U$9-(1+INT(LOG10(ABS(X32)))))&\" (\"&ROUND(Y32*100,$U$9-(1+INT(LOG10(ABS(Y32*100)))))&\"%)\",0)","v":0},{"$f":"IF(AI32>0,ROUND(AI32,$U$9-(1+INT(LOG10(ABS(AI32)))))&\" (\"&ROUND(AH32*100,$U$9-(1+INT(LOG10(ABS(AH32*100)))))&\"%)\",0)","v":0},null,null,null,null,{"$f":"3*F32*G32","v":0},{"$f":"U32*60*$E32/10^6","v":0},{"$f":"H32*I32*U32/10","v":0},{"$f":"$W32*60*$E32/10^6","v":0},{"$f":"IFERROR(X32/$V32,0)","v":0},{"$f":"IFERROR(K32/J32,NA())","v":{"$error":"#N/A"}},{"$f":"W32/(1-1/Z32)","v":{"$error":"#N/A"}},{"$f":"IFERROR(AA32*60*$E32/10^6,0)","v":0},{"$f":"IFERROR(AB32/$V32,0)","v":0},{"$f":"AA32-W32","v":{"$error":"#N/A"}},{"$f":"AB32-X32","v":0},{"$f":"IFERROR(AE32/$V32,0)","v":0},{"$f":"IFERROR(AE32/AB32,0)","v":0},{"$f":"IFERROR(1-AB32/V32,0)","v":0},{"$f":"AH32*V32","v":0},{"$f":"IFERROR(V32/AB32,0)","v":0},{"$f":"$W32*AK$31/(AK$31-1)","v":0},0,0,0,0,0,0,{"$f":"($AA32-AK32)*60*$E32/10^6","v":{"$error":"#N/A"}},{"$error":"#N/A"},{"$error":"#N/A"},{"$error":"#N/A"},{"$error":"#N/A"},{"$error":"#N/A"},{"$error":"#N/A"}]
[1,null,null,null,null,null,null,null,null,null,null,{"$f":"IF(V33>0,ROUND(V33,$U$9-(1+INT(LOG10(ABS(V33)))))&\" (100%)\",0)","v":0},{"$f":"IF(AB33>0,ROUND(AB33,$U$9-(1+INT(LOG10(ABS(AB33)))))&\" (\"&ROUND(AC33*100,$U$9-(1+INT(LOG10(ABS(AC33*100)))))&\"%)\",0)","v":0},{"$f":"IF(AE33>0,ROUND(AE33,$U$9-(1+INT(LOG10(ABS(AE33)))))&\" (\"&ROUND(AF33*100,$U$9-(1+INT(LOG10(ABS(AF33*100)))))&\"%)\",0)","v":0},{"$f":"IF(X33>0,ROUND(X33,$U$9-(1+INT(LOG10(ABS(X33)))))&\" (\"&ROUND(Y33*100,$U$9-(1+INT(LOG10(ABS(Y33*100)))))&\"%)\",0)","v":0},{"$f":"IF(AI33>0,ROUND(AI33,$U$9-(1+INT(LOG10(ABS(AI33)))))&\" (\"&ROUND(AH33*100,$U$9-(1+INT(LOG10(ABS(AH33*100)))))&\"%)\",0)","v":0},null,null,null,null,0,{"$f":"U33*60*$E33/10^6","v":0},0,0,0,{"$error":"#N/A"},{"$error":"#N/A"},{"$f":"IFERROR(AA33*60*$E33/10^6,0)","v":0},0,{"$error":"#N/A"},0,0,{"$f":"IFERROR(AE33/AB33,0)","v":0},{"$f":"IFERROR(1-AB33/V33,0)","v":0},{"$f":"AH33*V33","v":0},0,0,0,0,0,0,0,0,{"$error":"#N/A"},{"$error":"#N/A"},{"$error":"#N/A"},{"$error":"#N/A"},{"$error":"#N/A"},{"$error":"#N/A"},{"$error":"#N/A"}]
[1,null,null,null,null,null,null,null,null,null,null,0,0,0,0,0,null,null,null,null,0,0,0,0,0,{"$error":"#N/A"},{"$error":"#N/A"},0,0,{"$error":"#N/A"},0,0,0,0,0,0,0,0,0,0,0,0,0,{"$error":"#N/A"},{"$error":"#N/A"},{"$error":"#N/A"},{"$error":"#N/A"},{"$error":"#N/A"},{"$error":"#N/A"},{"$error":"#N/A"}]
[1,null,null,null,null,null,null,null,null,null,null,0,0,0,0,0,null,null,null,null,0,0,0,0,0,{"$error":"#N/A"},{"$error":"#N/A"},0,0,{"$error":"#N/A"},0,0,0,0,0,0,0,0,0,0,0,0,0,{"$error":"#N/A"},{"$error":"#N/A"},{"$error":"#N/A"},{"$error":"#N/A"},{"$error":"#N/A"},{"$error":"#N/A"},{"$error":"#N/A"}]
[1,null,null,null,null,null,null,null,null,null,null,0,0,0,0,0,null,null,null,null,0,0,0,0,0,{"$error":"#N/A"},{"$error":"#N/A"},0,0,{"$error":"#N/A"},0,0,0,0,0,0,0,0,0,0,0,0,0,{"$error":"#N/A"},{"$error":"#N/A"},{"$error":"#N/A"},{"$error":"#N/A"},{"$error":"#N/A"},{"$error":"#N/A"},{"$error":"#N/A"}]
[1,null,null,null,null,null,null,null,null,null,null,0,0,0,0,0,null,null,null,null,0,0,0,0,0,{"$error":"#N/A"},{"$error":"#N/A"},0,0,{"$error":"#N/A"},0,0,0,0,0,0,0,0,0,0,0,0,0,{"$error":"#N/A"},{"$error":"#N/A"},{"$error":"#N/A"},{"$error":"#N/A"},{"$error":"#N/A"},{"$error":"#N/A"},{"$error":"#N/A"}]
[1,"Aggregated Results"]
[1,{"$f":"'6.System Water Intake&Discharge'!B19:D19","v":"-"},null,null,null,null,null,null,null,null,null,{"$f":"IF(V39>0,ROUND(V39,$U$9-(1+INT(LOG10(ABS(V39)))))&\" (100%)\",0)","v":0},{"$f":"IF(AB39>0,ROUND(AB39,$U$9-(1+INT(LOG10(ABS(AB39)))))&\" (\"&ROUND(AC39*100,$U$9-(1+INT(LOG10(ABS(AC39*100)))))&\"%)\",0)","v":0},{"$f":"IF(AE39>0,ROUND(AE39,$U$9-(1+INT(LOG10(ABS(AE39)))))&\" (\"&ROUND(AF39*100,$U$9-(1+INT(LOG10(ABS(AF39*100)))))&\"%)\",0)","v":0},{"$f":"IF(X39>0,ROUND(X39,$U$9-(1+INT(LOG10(ABS(X39)))))&\" (\"&ROUND(Y39*100,$U$9-(1+INT(LOG10(ABS(Y39*100)))))&\"%)\",0)","v":0},{"$f":"IF(AI39>0,ROUND(AI39,$U$9-(1+INT(LOG10(ABS(AI39)))))&\" (\"&ROUND(AH39*100,$U$9-(1+INT(LOG10(ABS(AH39*100)))))&\"%)\",0)","v":0},null,null,null,null,null,{"$f":"SUMPRODUCT(($B$32:$B$37=$B39)*(V$32:V$37))","v":0},null,{"$f":"SUMPRODUCT(($B$32:$B$37=$B39)*(X$32:X$37))","v":0},{"$f":"IFERROR(X39/V39,0)","v":0},null,null,{"$f":"SUMPRODUCT(($B$32:$B$37=$B39)*(AB$32:AB$37))","v":0},{"$f":"IFERROR(AB39/$V39,0)","v":0},null,{"$f":"SUMPRODUCT(($B$32:$B$37=$B39)*(AE$32:AE$37))","v":0},{"$f":"IFERROR(AE39/$V39,0)","v":0},0,0,0,{"$f":"SUMPRODUCT(($B$32:$B$37=$B39)*(AJ$32:AJ$37))","v":0},{"$f":"10/($H32*$I32)*(1-1/AK$31)","v":{"$error":"#DIV/0!"}},{"$error":"#DIV/0!"},{"$error":"#DIV/0!"},{"$error":"#DIV/0!"},{"$error":"#DIV/0!"},{"$error":"#DIV/0!"},{"$error":"#DIV/0!"},"RR for Varying C"]
[1,{"$f":"'6.System Water Intake&Discharge'!B20:D20","v":"-"},null,null,null,null,null,null,null,null,null,{"$f":"IF(V40>0,ROUND(V40,$U$9-(1+INT(LOG10(ABS(V40)))))&\" (100%)\",0)","v":0},{"$f":"IF(AB40>0,ROUND(AB40,$U$9-(1+INT(LOG10(ABS(AB40)))))&\" (\"&ROUND(AC40*100,$U$9-(1+INT(LOG10(ABS(AC40*100)))))&\"%)\",0)","v":0},{"$f":"IF(AE40>0,ROUND(AE40,$U$9-(1+INT(LOG10(ABS(AE40)))))&\" (\"&ROUND(AF40*100,$U$9-(1+INT(LOG10(ABS(AF40*100)))))&\"%)\",0)","v":0},{"$f":"IF(X40>0,ROUND(X40,$U$9-(1+INT(LOG10(ABS(X40)))))&\" (\"&ROUND(Y40*100,$U$9-(1+INT(LOG10(ABS(Y40*100)))))&\"%)\",0)","v":0},{"$f":"IF(AI40>0,ROUND(AI40,$U$9-(1+INT(LOG10(ABS(AI40)))))&\" (\"&ROUND(AH40*100,$U$9-(1+INT(LOG10(ABS(AH40*100)))))&\"%)\",0)","v":0},null,null,null,null,null,{"$f":"SUMPRODUCT(($B$32:$B$37=$B40)*(V$32:V$37))","v":0},null,{"$f":"SUMPRODUCT(($B$32:$B$37=$B40)*(X$32:X$37))","v":0},{"$f":"IFERROR(X40/V40,0)","v":0},null,null,{"$f":"SUMPRODUCT(($B$32:$B$37=$B40)*(AB$32:AB$37))","v":0},{"$f":"IFERROR(AB40/$V40,0)","v":0},null,{"$f":"SUMPRODUCT(($B$32:$B$37=$B40)*(AE$32:AE$37))","v":0},{"$f":"IFERROR(AE40/$V40,0)","v":0},{"$f":"IFERROR(AE40/AB40,0)","v":0},{"$f":"IFERROR(1-AB40/V40,0)","v":0},{"$f":"AH40*V40","v":0},{"$f":"SUMPRODUCT(($B$32:$B$37=$B40)*(AJ$32:AJ$37))","v":0},{"$f":"AK$31*$J32","v":0},0,0,0,0,0,0,"Bc for Varying C"]
[1,{"$f":"'6.System Water Intake&Discharge'!B21:D21","v":"-"},null,null,null,null,null,null,null,null,null,{"$f":"IF(V41>0,ROUND(V41,$U$9-(1+INT(LOG10(ABS(V41)))))&\" (100%)\",0)","v":0},{"$f":"IF(AB41>0,ROUND(AB41,$U$9-(1+INT(LOG10(ABS(AB41)))))&\" (\"&ROUND(AC41*100,$U$9-(1+INT(LOG10(ABS(AC41*100)))))&\"%)\",0)","v":0},{"$f":"IF(AE41>0,ROUND(AE41,$U$9-(1+INT(LOG10(ABS(AE41)))))&\" (\"&ROUND(AF41*100,$U$9-(1+INT(LOG10(ABS(AF41*100)))))&\"%)\",0)","v":0},{"$f":"IF(X41>0,ROUND(X41,$U$9-(1+INT(LOG10(ABS(X41)))))&\" (\"&ROUND(Y41*100,$U$9-(1+INT(LOG10(ABS(Y41*100)))))&\"%)\",0)","v":0},{"$f":"IF(AI41>0,ROUND(AI41,$U$9-(1+INT(LOG10(ABS(AI41)))))&\" (\"&ROUND(AH41*100,$U$9-(1+INT(LOG10(ABS(AH41*100)))))&\"%)\",0)","v":0},null,null,null,null,null,0,null,0,{"$f":"IFERROR(X41/V41,0)","v":0},null,null,{"$f":"SUMPRODUCT(($B$32:$B$37=$B41)*(AB$32:AB$37))","v":0},{"$f":"IFERROR(AB41/$V41,0)","v":0},null,{"$f":"SUMPRODUCT(($B$32:$B$37=$B41)*(AE$32:AE$37))","v":0},{"$f":"IFERROR(AE41/$V41,0)","v":0},{"$f":"IFERROR(AE41/AB41,0)","v":0},{"$f":"IFERROR(1-AB41/V41,0)","v":0},{"$f":"AH41*V41","v":0},{"$f":"SUMPRODUCT(($B$32:$B$37=$B41)*(AJ$32:AJ$37))","v":0}]
[1]
[]
[null,{"$f":"\"Part 3.3 - Boiler Water Use\"&IF($A45=1,\" (Not Applicable)\",\"\")","v":"Part 3.3 - Boiler Water Use (Not Applicable)"}]
[{"$f":"IF(AND('1.Plant Info'!$N$59<>\"Yes\",'1.Plant Info'!$N$60<>\"Yes\"),1,0)","v":1},"This table calculates boiler water use in the plant. Please select applicable water systems and enter required data in the highlighted cells. \n\"Steam Generation Rate per Horsepower\" is 34.5 lb/h at 212°F. For conductivity, first select \"Conductivity Unit\" from the drop-down list on the right and then enter data below.",null,null,null,null,null,null,null,null,null,null,null,null,"Conductivity Unit:",null,null,"Boiler Calculations\nMGPY: Million Gallon per Year\nH = Hours of Operation per Year\nBHP = Boiler Horsepower\nL = Load as a Fraction of Boiler Horsepower\ne = Steam Generation Rate (lb/h) per Horsepower\nFc = Feedwater Conductivity (selected unit)\nMc = Makeup Water Conductivity (selected unit)\nBc = Blowdown Conductivity (selected unit)\nC = Bc/Fc = Cycles of Concentration\nG = e/(1-1/C)*BHP*L*0.002*H*60/10^6 = Gross Water Use (MGPY)\nM = Fc/Mc * G = Makeup Water (MGPY)\nB = 1/C * G = Blowdown (MGPY)\nE = M - B = Steam Generated (MGPY)\nR = G - M = Condensate Return (MGPY)\nL = E-R = M-B = Steam Lost (MGPY)",null,null,"Baseline Boiler Calculations",null,null,null,null,null,null,null,null,null,null,null,null,null,null,null,"Savings Calculations"]
[{"$f":"$A$45","v":1},"Boiler",null,null,"Hours of Operation per Year","Boiler Horsepower (BHP)","Load Factor (Fraction of BHP)","Steam Generation Rate (lb/h) per BHP","Feedwater Conductivity","Makeup Water Conductivity","Blowdown Conductivity","Million Gallon per Year (% of Gross Water Use)",null,null,null,null,null,null,null,null,"Cycle of Concentration","Gross Water Use, G",null,"Makeup Water, M",null,null,"Blowdown (Measured), B",null,null,"Steam Loss, L",null,null,"Condensate Return, R",null,null,"Rate of Recirculation, RR = F/M","Makeup Water Use (lb/h per hp) for Varying % Condensate Return and Cycle of Concentration, M = %M*F = (1-%R)*E/(1-1/C)",null,null,null,null,null,null,null,"Makeup Water Savings (Million Gallon per Year); deltaM = (Mbaseline - M)*hp*%load*(0.002 gpm per lb/h)*(60 min/h)*(hrs of operation/yr)/10^6"]
[1,null,null,null,null,null,null,null,null,null,null,"Feedwater","Makeup Water","Blowdown","Steam Lost","Condensate Return",null,null,null,null,null,"G(lb/h-hp) = E/(1-1/C)",null,"%M=Fc/Mc","M = %M * G",null,"%B = 1/C","B = %B * G",null,"L = E-R = M-B",null,null,"%R=1-%M","R = %R * G",null,null,0.3,null,null,null,0.8,null,null,null,"Rate of Recirculation, RR = 1/%M = 1/(1-%R)"]
[1,null,null,null,null,null,null,null,{"$f":"IF($P$45=\"\",\"\",$P$45)","v":""},{"$f":"IF($P$45=\"\",\"\",$P$45)","v":""},"",null,"Incoming","Outgoing",null,null,null,null,null,null,"C = Bc/Fc","lb/h-hp","Mgal/y","% of G","lb/h-hp","Mgal/y","% of G","lb/h-hp","Mgal/y","% of G","lb/h-hp","Mgal/y","% of G","lb/h-hp","Mgal/y","Multiplier",5,10,20,30,{"$f":"AK48","v":5},{"$f":"AL48","v":10},20,30,{"$f":"1/(1-AK$47)","v":1.4285714285714286},null,null,null,{"$f":"1/(1-AO$47)","v":5.0000000000000009}]
[1,null,null,null,null,null,null,null,null,null,null,{"$f":"IF(W49>0,ROUND(W49,$U$9-(1+INT(LOG10(ABS(W49)))))&\" (100%)\",0)","v":0},{"$f":"IF(Z49>0,ROUND(Z49,$U$9-(1+INT(LOG10(ABS(Z49)))))&\" (\"&ROUND(X49*100,$U$9-(1+INT(LOG10(ABS(X49*100)))))&\"%)\",0)","v":0},{"$f":"IF(AC49>0,ROUND(AC49,$U$9-(1+INT(LOG10(ABS(AC49)))))&\" (\"&ROUND(AA49*100,$U$9-(1+INT(LOG10(ABS(AA49*100)))))&\"%)\",0)","v":0},{"$f":"IF(AF49>0,ROUND(AF49,$U$9-(1+INT(LOG10(ABS(AF49)))))&\" (\"&ROUND(AD49*100,$U$9-(1+INT(LOG10(ABS(AD49*100)))))&\"%)\",0)","v":0},{"$f":"IF(AI49>0,ROUND(AI49,$U$9-(1+INT(LOG10(ABS(AI49)))))&\" (\"&ROUND(AG49*100,$U$9-(1+INT(LOG10(ABS(AG49*100)))))&\"%)\",0)","v":0},null,null,null,null,{"$f":"IFERROR($K49/$I49,NA())","v":{"$error":"#N/A"}},{"$f":"IFERROR($H49/(1-1/$U49),0)","v":0},{"$f":"V49*$F49*$G49*0.002*60*$E49/10^6","v":0},{"$f":"IFERROR($I49/$J49,0)","v":0},{"$f":"IFERROR($X49*V49,0)","v":0},{"$f":"IFERROR($X49*W49,0)","v":0},{"$f":"IFERROR(1/$U49,0)","v":0},{"$f":"IFERROR($AA49*V49,0)","v":0},{"$f":"IFERROR($AA49*W49,0)","v":0},{"$f":"IFERROR(X49-AA49,0)","v":0},{"$f":"Y49-AB49","v":0},0,{"$f":"IFERROR(1-$X49,0)","v":1},{"$f":"IFERROR($AG49*V49,0)","v":0},{"$f":"IFERROR($AG49*W49,0)","v":0},{"$f":"IFERROR(W49/Z49,0)","v":0},{"$f":"(1-$AK$47)*$H49/(1-1/AK$48)","v":0},0,0,0,{"$f":"(1-$AO$47)*$H49/(1-1/AO$48)","v":0},0,0,0,{"$f":"($Y$49-AK49)*$F49*$G49*0.002*60*$E49/10^6","v":0},0,0,0,0,0,0,0]
[1,null,null,null,null,null,null,null,null,null,null,0,0,0,0,0,null,null,null,null,{"$error":"#N/A"},0,0,{"$f":"IFERROR($I50/$J50,NA())","v":{"$error":"#N/A"}},0,0,0,0,0,{"$f":"IFERROR(X50-AA50,0)","v":0},0,0,0,0,0,0,0,0,0,0,0,0,0,0,0,0,0,0,0,0,0,0]
[1,null,null,null,null,null,null,null,null,null,null,0,0,0,0,0,null,null,null,null,{"$error":"#N/A"},0,0,{"$f":"IFERROR($I51/$J51,NA())","v":{"$error":"#N/A"}},0,0,0,0,0,0,0,0,0,0,0,0,0,0,0,0,0,0,0,0,0,0,0,0,0,0,0,0]
[1,null,null,null,null,null,null,null,null,null,null,0,0,0,0,0,null,null,null,null,{"$error":"#N/A"},0,0,{"$f":"IFERROR($I52/$J52,NA())","v":{"$error":"#N/A"}},0,0,0,0,0,0,0,0,0,0,0,0,0,0,0,0,0,0,0,0,0,0,0,0,0,0,0,0]
[1,null,null,null,null,null,null,null,null,null,null,0,0,0,0,0,null,null,null,null,{"$error":"#N/A"},0,0,{"$f":"IFERROR($I53/$J53,NA())","v":{"$error":"#N/A"}},0,0,0,0,0,0,0,0,0,0,0,0,0,0,0,0,0,0,0,0,0,0,0,0,0,0,0,0]
[1,null,null,null,null,null,null,null,null,null,null,0,0,0,0,0,null,null,null,null,{"$error":"#N/A"},0,0,{"$f":"IFERROR($I54/$J54,NA())","v":{"$error":"#N/A"}},0,0,0,0,0,0,0,0,0,0,0,0,0,0,0,0,0,0,0,0,0,0,0,0,0,0,0,0]
[1,"Aggregated Results"]
[1,{"$f":"'6.System Water Intake&Discharge'!B22:D22","v":"-"},null,null,null,null,null,null,null,null,null,{"$f":"IF(W56>0,ROUND(W56,$U$9-(1+INT(LOG10(ABS(W56)))))&\" (100%)\",0)","v":0},{"$f":"IF(Z56>0,ROUND(Z56,$U$9-(1+INT(LOG10(ABS(Z56)))))&\" (\"&ROUND(X56*100,$U$9-(1+INT(LOG10(ABS(X56*100)))))&\"%)\",0)","v":0},{"$f":"IF(AC56>0,ROUND(AC56,$U$9-(1+INT(LOG10(ABS(AC56)))))&\" (\"&ROUND(AA56*100,$U$9-(1+INT(LOG10(ABS(AA56*100)))))&\"%)\",0)","v":0},{"$f":"IF(AF56>0,ROUND(AF56,$U$9-(1+INT(LOG10(ABS(AF56)))))&\" (\"&ROUND(AD56*100,$U$9-(1+INT(LOG10(ABS(AD56*100)))))&\"%)\",0)","v":0},{"$f":"IF(AI56>0,ROUND(AI56,$U$9-(1+INT(LOG10(ABS(AI56)))))&\" (\"&ROUND(AG56*100,$U$9-(1+INT(LOG10(ABS(AG56*100)))))&\"%)\",0)","v":0},null,null,null,null,null,null,{"$f":"SUMPRODUCT(($B$49:$B$54=$B56)*(W$49:W$54))","v":0},{"$f":"IFERROR(Z56/W56,0)","v":0},null,{"$f":"SUMPRODUCT(($B$49:$B$54=$B56)*(Z$49:Z$54))","v":0},{"$f":"IFERROR(AC56/W56,0)","v":0},null,{"$f":"SUMPRODUCT(($B$49:$B$54=$B56)*(AC$49:AC$54))","v":0},{"$f":"IFERROR(AF56/W56,0)","v":0},null,{"$f":"SUMPRODUCT(($B$49:$B$54=$B56)*(AF$49:AF$54))","v":0},{"$f":"IFERROR(AI56/W56,0)","v":0},null,{"$f":"SUMPRODUCT(($B$49:$B$54=$B56)*(AI$49:AI$54))","v":0},{"$f":"IFERROR(W56/Z56,0)","v":0}]
[1,{"$f":"'6.System Water Intake&Discharge'!B23:D23","v":"-"},null,null,null,null,null,null,null,null,null,{"$f":"IF(W57>0,ROUND(W57,$U$9-(1+INT(LOG10(ABS(W57)))))&\" (100%)\",0)","v":0},{"$f":"IF(Z57>0,ROUND(Z57,$U$9-(1+INT(LOG10(ABS(Z57)))))&\" (\"&ROUND(X57*100,$U$9-(1+INT(LOG10(ABS(X57*100)))))&\"%)\",0)","v":0},{"$f":"IF(AC57>0,ROUND(AC57,$U$9-(1+INT(LOG10(ABS(AC57)))))&\" (\"&ROUND(AA57*100,$U$9-(1+INT(LOG10(ABS(AA57*100)))))&\"%)\",0)","v":0},{"$f":"IF(AF57>0,ROUND(AF57,$U$9-(1+INT(LOG10(ABS(AF57)))))&\" (\"&ROUND(AD57*100,$U$9-(1+INT(LOG10(ABS(AD57*100)))))&\"%)\",0)","v":0},{"$f":"IF(AI57>0,ROUND(AI57,$U$9-(1+INT(LOG10(ABS(AI57)))))&\" (\"&ROUND(AG57*100,$U$9-(1+INT(LOG10(ABS(AG57*100)))))&\"%)\",0)","v":0},null,null,null,null,null,null,{"$f":"SUMPRODUCT(($B$49:$B$54=$B57)*(W$49:W$54))","v":0},{"$f":"IFERROR(Z57/W57,0)","v":0},null,{"$f":"SUMPRODUCT(($B$49:$B$54=$B57)*(Z$49:Z$54))","v":0},{"$f":"IFERROR(AC57/W57,0)","v":0},null,{"$f":"SUMPRODUCT(($B$49:$B$54=$B57)*(AC$49:AC$54))","v":0},{"$f":"IFERROR(AF57/W57,0)","v":0},null,{"$f":"SUMPRODUCT(($B$49:$B$54=$B57)*(AF$49:AF$54))","v":0},{"$f":"IFERROR(AI57/W57,0)","v":0},null,{"$f":"SUMPRODUCT(($B$49:$B$54=$B57)*(AI$49:AI$54))","v":0},{"$f":"IFERROR(W57/Z57,0)","v":0}]
[1]
[]
[null,{"$f":"\"Part 3.4 - Kitchen and Restrooms Water Use\"&IF($A61=1,\" (Not Applicable)\",\"\")","v":"Part 3.4 - Kitchen and Restrooms Water Use (Not Applicable)"}]
[{"$f":"IF('1.Plant Info'!$N$61<>\"Yes\",1,0)","v":1},"This table calculates sanitary water use in the plant. You may describe multiple employee groups based on work hours. Please select the rows and enter required data. For \"Water Use per Employee,\" a typical range is 10-35 gallon per shift. The lower value is used when there are just toilets. A higher value is used where there are toilets, showers, and full kitchen services (e.g., food preparation and dishwashing).",null,null,null,null,null,null,null,null,null,null,null,null,null,null,null,"Sanitary Water Use Calculations\nMGPY: Million Gallon per Year\nN = Number of Employees\nD = Workdays per Year\ng = Water Use per Employee (Gallon per Day)\n\nG = N * D * g/10^6 = Gross Water Use (MGPY)"]
[{"$f":"$A$61","v":1},"Description",null,null,"Number of Employees","Workdays per Year","Daily Water Use per Employee (Gallon)",null,"Gross Water Use\n(Million Gallon per Year)"]
[1,null,null,null,null,null,null,null,{"$f":"E63*F63*(G63)/10^6","v":0}]
[1,null,null,null,null,null,null,null,0]
[1,null,null,null,null,null,null,null,0]
[1,null,null,null,null,null,null,null,0]
[1,null,null,null,null,null,null,null,0]
[1,null,null,null,null,null,null,null,0]
[1,"TOTAL",null,null,null,null,null,null,{"$f":"SUM(I63:I68)","v":0}]
[1]
[]
[null,{"$f":"\"Part 3.5 - Landscaping and Irrigation Water Use\"&IF($A73=1,\" (Not Applicable)\",\"\")","v":"Part 3.5 - Landscaping and Irrigation Water Use (Not Applicable)"}]
[{"$f":"IF('1.Plant Info'!$N$62<>\"Yes\",1,0)","v":1},"This table calculates irrigation water use in the facility. You may describe multiple irrigated land areas or combine them as one area. Please select the rows and enter required data. Please provide an estimate based on incoming water from (a) sources identified under Part 2.1 and (b) water-using systems in the plant.",null,null,null,null,null,null,null,null,null,null,null,null,null,null,null,"Irrigation Water Use Calculations\nMGPY: Million Gallon per Year\nA = Square Feet of Land Irrigated\nI = Inches of Irrigated Water per Year\n\nG = 0.623 * A * D/10^6 = Gross Water Use (MGPY)"]
[{"$f":"$A$73","v":1},"Description",null,null,"Area of Land Irrigated (sq ft)",null,"Inches of Irrigation Water per Year",null,"Gross Water Use\n(Million Gallon per Year)"]
[1,null,null,null,null,null,null,null,{"$f":"0.623*E75*G75/10^6","v":0}]
[1,null,null,null,null,null,null,null,0]
[1,null,null,null,null,null,null,null,0]
[1,null,null,null,null,null,null,null,0]
[1,null,null,null,null,null,null,null,0]
[1,null,null,null,null,null,null,null,0]
[1,"TOTAL",null,null,null,null,null,null,{"$f":"SUM(I75:I80)","v":0}]
[]
[]
[null,"Part 3.6 - Other: Fire Supression Systems"]
[null,"This table calculates fire supression system water use in the plant. You may describe multiple test settings and multiple systems. Please select the rows and enter the required data.",null,null,null,null,null,null,null,null,null,null,null,null,null,null,null,"Fire Supression System Water Use Calculations\nMGPY: Million Gallon per Year\nF = Annual Frequency of Testing\nO = Hydrant Outlet Diameter (in)\nv = Velocity Head (psi)\nDP = Desired Pressure Drop (psi)\nMP = Meausred Pressure Drop (psi)\nC = Supply Tank Capacity (gallon)\nn = Number of Sprinkers\nDi = Pipe Diameter (in)\nt = Testing Duration (unit??)\nSS = Sprinkler System Pressure (psi)\nPP = Pipe Pressure (psi)\nA = Area of Hole (sq in)\nT = Leak Duration (min)\nQ = Gross Water Use (MGPY)\nFor Hydrant: Q = (29.84*Cd*O^2)*V*((DP-MP)^0.54)*F\nFor Sprinkler (Tank Supplied): Q = F*C\nFor Sprinker (Water Line Supplied): Q = t*(SQRT(((PP-SS)*144*2)/62.4)*(Di^2)*(PI/4)*448.8)*n*F\nFor Water Storage Tank: Q = F*C\nFor Leaks: Q = A*T*PP",null,null,"Hydrant Outlet"]
[null,"Hydrant",null,null,"Annual Frequency of Testing","Number of Similar Hydrants","Hydrant Outlet Diameter (in)","Velocity Head (psi)","Desired Pressure Drop in Hydrant (psi)","Measured Pressure Drop in Hydrant (psi)",null,"Gross Water Use (Million Gallons per Year)",null,null,null,null,null,null,null,null,"Smooth and rounded outlet",0.9]
[null,null,null,null,null,null,null,null,null,null,null,{"$f":"IFERROR((29.84*VLOOKUP(B87,$U$86:$V$88,2,FALSE)*(G87^2)*SQRT(H87))*((I87-J87)^0.54)*E87*F87,0)","v":0},null,null,null,null,null,null,null,null,"Square and sharp outlet",0.8]
[null,null,null,null,null,null,null,null,null,null,null,{"$f":"IFERROR((29.84*VLOOKUP(B88,$U$86:$V$88,2,FALSE)*(G88^2)*SQRT(H88))*((I88-J88)^0.54)*E88*F88,0)","v":0},null,null,null,null,null,null,null,null,"Square outlet projecting into barrel",0.7]
[null,null,null,null,null,null,null,null,null,null,null,{"$f":"IFERROR((29.84*VLOOKUP(B89,$U$86:$V$88,2,FALSE)*(G89^2)*SQRT(H89))*((I89-J89)^0.54)*E89*F89,0)","v":0},null,null,null,null,null,null,null,null,"Storage tank supplied"]
[null,null,null,null,null,null,null,null,null,null,null,{"$f":"IFERROR((29.84*VLOOKUP(B90,$U$86:$V$88,2,FALSE)*(G90^2)*SQRT(H90))*((I90-J90)^0.54)*E90*F90,0)","v":0},null,null,null,null,null,null,null,null,"Water inline supplied "]
[null,null,null,null,null,null,null,null,null,null,null,{"$f":"IFERROR((29.84*VLOOKUP(B91,$U$86:$V$88,2,FALSE)*(G91^2)*SQRT(H91))*((I91-J91)^0.54)*E91*F91,0)","v":0},null,null,null,null,null,null,null,null,"Water Storage Tank"]
[null,null,null,null,null,null,null,null,null,null,null,{"$f":"IFERROR((29.84*VLOOKUP(B92,$U$86:$V$88,2,FALSE)*(G92^2)*SQRT(H92))*((I92-J92)^0.54)*E92*F92,0)","v":0},null,null,null,null,null,null,null,null,"Other"]
[null,null,null,null,null,null,null,null,null,null,null,{"$f":"IFERROR((29.84*VLOOKUP(B93,$U$86:$V$88,2,FALSE)*(G93^2)*SQRT(H93))*((I93-J93)^0.54)*E93*F93,0)","v":0}]
[null,null,null,null,null,null,null,null,null,null,null,{"$f":"IFERROR((29.84*VLOOKUP(B94,$U$86:$V$88,2,FALSE)*(G94^2)*SQRT(H94))*((I94-J94)^0.54)*E94*F94,0)","v":0}]
[null,null,null,null,null,null,null,null,null,null,null,{"$f":"IFERROR((29.84*VLOOKUP(B95,$U$86:$V$88,2,FALSE)*(G95^2)*SQRT(H95))*((I95-J95)^0.54)*E95*F95,0)","v":0}]
[null,null,null,null,null,null,null,null,null,null,null,{"$f":"IFERROR((29.84*VLOOKUP(B96,$U$86:$V$88,2,FALSE)*(G96^2)*SQRT(H96))*((I96-J96)^0.54)*E96*F96,0)","v":0}]
[null,"Sprinkler",null,null,"Annual Frequency of Testing","Number of Sprinklers","Pipe Diameter (in)","Duration of Testing (min)","Sprinkler System Pressure (psi)","Pipe Pressure (psi)","Storage Tank Capacity (gallon)"]
[null,null,null,null,null,null,null,null,null,null,null,{"$f":"IF(B98=$U$90,(SQRT(((J98-I98)*144*2)/62.4)*(G98^2)*(PI()/4)*448.8)*H98*F98*E98,E98*K98)","v":0}]
[null,null,null,null,null,null,null,null,null,null,null,{"$f":"IF(B99=$U$90,(SQRT(((J99-I99)*144*2)/62.4)*(G99^2)*(PI()/4)*448.8)*H99*F99*E99,E99*K99)","v":0}]
[null,null,null,null,null,null,null,null,null,null,null,{"$f":"IF(B100=$U$90,(SQRT(((J100-I100)*144*2)/62.4)*(G100^2)*(PI()/4)*448.8)*H100*F100*E100,E100*K100)","v":0}]
[null,null,null,null,null,null,null,null,null,null,null,{"$f":"IF(B101=$U$90,(SQRT(((J101-I101)*144*2)/62.4)*(G101^2)*(PI()/4)*448.8)*H101*F101*E101,E101*K101)","v":0}]
[null,null,null,null,null,null,null,null,null,null,null,{"$f":"IF(B102=$U$90,(SQRT(((J102-I102)*144*2)/62.4)*(G102^2)*(PI()/4)*448.8)*H102*F102*E102,E102*K102)","v":0}]
[null,null,null,null,null,null,null,null,null,null,null,{"$f":"IF(B103=$U$90,(SQRT(((J103-I103)*144*2)/62.4)*(G103^2)*(PI()/4)*448.8)*H103*F103*E103,E103*K103)","v":0}]
[null,"Other"]
[null,"TOTAL",null,null,null,null,null,null,null,null,null,{"$f":"SUM(L87:L104)","v":0}]

{"sheet":"4.System Water Balance","index":6,"n_rows":67,"n_cols":21,"rows_kept":67,"cut":false,"hidden":false,"merged":[[34,17,34,20],[26,1,26,3],[25,1,25,3],[43,1,43,3],[10,7,11,10],[27,1,27,3],[14,7,14,8],[14,4,15,4],[14,5,15,5],[14,6,15,6],[14,10,15,10],[14,17,14,18],[33,17,33,20],[12,17,12,19],[19,1,19,3],[20,1,20,3],[12,1,15,3],[12,4,12,6],[13,4,13,6],[13,7,13,10],[12,7,12,10],[13,17,13,19],[16,1,16,3],[21,1,21,3],[22,1,22,3],[23,1,23,3],[17,1,17,3],[18,1,18,3],[24,1,24,3],[31,7,32,10],[31,1,31,6],[32,1,32,6],[33,1,35,3],[39,1,39,3],[36,1,36,3],[37,1,37,3],[38,1,38,3],[66,1,66,3],[58,1,58,3],[59,1,59,3],[60,1,60,3],[63,1,63,3],[61,1,61,3],[62,1,62,3],[64,1,64,3],[65,1,65,3],[55,1,55,3],[56,1,56,3],[57,1,57,3],[44,1,44,3],[45,1,45,3],[47,1,47,3],[46,1,46,3],[53,1,54,3],[40,1,40,3],[42,1,42,3],[41,1,41,3],[14,19,15,19],[54,4,54,5],[55,4,55,5],[56,4,56,5],[57,4,57,5],[10,1,10,6],[11,1,11,6],[0,2,0,8],[2,1,2,10],[51,7,52,10],[52,1,52,6],[51,1,51,6],[8,1,8,10],[48,9,49,16],[28,7,29,7],[28,1,29,6],[48,7,49,7],[48,8,49,8],[48,1,49,6],[33,7,33,10],[34,7,34,10],[33,4,33,6],[34,4,34,6],[53,9,53,10],[66,6,66,7],[53,4,53,8],[63,4,63,5],[64,4,64,5],[65,4,65,5],[66,4,66,5],[54,6,54,7],[55,6,55,7],[56,6,56,7],[57,6,57,7],[58,6,58,7],[59,6,59,7],[60,6,60,7],[61,6,61,7],[62,6,62,7],[63,6,63,7],[64,6,64,7],[65,6,65,7],[58,4,58,5],[59,4,59,5],[60,4,60,5],[61,4,61,5],[62,4,62,5]]}
[null,null,"System Water Balance"]
[]
[null,{"$f":"HelperTab!$B$29","v":"User Input Instructions"}]
[null,{"$f":"HelperTab!B30","v":"Yellow"},{"$f":"HelperTab!C30","v":"Please input data ONLY in the yellow cells."}]
[null,{"$f":"HelperTab!B31","v":"Orange"},{"$f":"HelperTab!C31","v":"Please select from the drop-down menu in the orange cells."}]
[null,{"$f":"HelperTab!B32","v":"Tan"},{"$f":"HelperTab!C32","v":"Please DO NOT enter any data or delete values in the tan cells. They contain formulae."}]
[null,{"$f":"HelperTab!B33","v":"Purple"},{"$f":"HelperTab!C33","v":"Please DO NOT enter any data in the purple cells. They show values calculated elsewhere for guiding user input and cross-checking results."}]
[null,{"$f":"HelperTab!B34","v":"Gray"},{"$f":"HelperTab!C34","v":"Please DO NOT enter any data in the gray cells. They are not applicable to your plant."}]
[null,{"$f":"HelperTab!$B$35","v":"Please give your best estimate if the exact data is not known."}]
[]
[null,"Part 4.1 - System Gross Water Use"]
[null,"For EACH water-using system, please provide an estimate of water use originating from different paths. Note: You may use values in the purple cells, which were calculated in previous tabs, as a guide for your estimates in yellow cells, as shown below:\n* Use calculated Incoming Water (Source Water + Water From Other Systems) for user estimate for Source Water and Water From Other Systems.\n* Use calculated Recirculated Water for user estimate for Recirculated Water.\n* Use calculated Gross Water Use to cross-check TOTAL of User Estimate of Water Use."]
[null,{"$f":"'6.System Water Intake&Discharge'!B13","v":"Water-Using System"},null,null,"Water Flows Calculated on Tab 3",null,null,"Water Use (Measured or Estimated)",null,null,null,null,null,null,null,null,null,"% of Total"]
[null,null,null,null,{"$f":"\"(\"&HelperTab!$A$50&\")\"","v":"(Million Gallon per Year)"},null,null,{"$f":"\"(\"&HelperTab!$A$50&\")\"","v":"(Million Gallon per Year)"},null,null,null,null,null,null,null,null,null,"(Based on User Estimate)"]
[null,null,null,null,"Incoming Water (Source Water + Recycled From Other Systems)","Recirculated Water","Gross Water Use","Incoming Water",null,null,"Total (Gross Water Use)",null,null,null,null,null,null,{"$f":"H15","v":"Incoming Water"},null,{"$f":"J16","v":"Recirculated Water"}]
[null,null,null,null,null,null,null,"Source Water","Recycled Water From Other Systems","Recirculated Water",null,null,null,null,null,null,null,{"$f":"H16","v":"Source Water"},{"$f":"I16","v":"Recycled Water From Other Systems"}]
[null,{"$f":"'6.System Water Intake&Discharge'!B16","v":"-"},null,null,{"$f":"'3.Water Use Calculations'!L22","v":0},{"$f":"'3.Water Use Calculations'!P22","v":0},{"$f":"'3.Water Use Calculations'!K22","v":0},null,null,null,{"$f":"SUM(H17:J17)","v":0},null,null,null,null,null,null,{"$f":"IFERROR(H17/$K17,0)","v":0},{"$f":"IFERROR(I17/$K17,0)","v":0},{"$f":"IFERROR(J17/$K17,0)","v":0}]
[null,{"$f":"'6.System Water Intake&Discharge'!B17","v":"-"},null,null,{"$f":"'3.Water Use Calculations'!L23","v":0},{"$f":"'3.Water Use Calculations'!P23","v":0},{"$f":"'3.Water Use Calculations'!K23","v":0},null,null,null,0,null,null,null,null,null,null,0,0,0]
[null,{"$f":"'6.System Water Intake&Discharge'!B18","v":"-"},null,null,{"$f":"'3.Water Use Calculations'!L24","v":0},{"$f":"'3.Water Use Calculations'!P24","v":0},{"$f":"'3.Water Use Calculations'!K24","v":0},null,null,null,0,null,null,null,null,null,null,0,0,0]
[null,{"$f":"'6.System Water Intake&Discharge'!B19","v":"-"},null,null,{"$f":"'3.Water Use Calculations'!AB39","v":0},{"$f":"'3.Water Use Calculations'!AI39","v":0},{"$f":"'3.Water Use Calculations'!V39","v":0},null,null,null,0,null,null,null,null,null,null,0,0,0]
[null,{"$f":"'6.System Water Intake&Discharge'!B20","v":"-"},null,null,{"$f":"'3.Water Use Calculations'!AB40","v":0},{"$f":"'3.Water Use Calculations'!AI40","v":0},{"$f":"'3.Water Use Calculations'!V40","v":0},null,null,null,0,null,null,null,null,null,null,0,0,0]
[null,{"$f":"'6.System Water Intake&Discharge'!B21","v":"-"},null,null,{"$f":"'3.Water Use Calculations'!AB41","v":0},{"$f":"'3.Water Use Calculations'!AI41","v":0},{"$f":"'3.Water Use Calculations'!V41","v":0},null,null,null,0,null,null,null,null,null,null,0,0,0]
[null,{"$f":"'6.System Water Intake&Discharge'!B22","v":"-"},null,null,{"$f":"'3.Water Use Calculations'!Z56","v":0},{"$f":"'3.Water Use Calculations'!AI56","v":0},{"$f":"'3.Water Use Calculations'!W56","v":0},null,null,null,0,null,null,null,null,null,null,0,0,0]
[null,{"$f":"'6.System Water Intake&Discharge'!B23","v":"-"},null,null,{"$f":"'3.Water Use Calculations'!Z57","v":0},{"$f":"'3.Water Use Calculations'!AI57","v":0},{"$f":"'3.Water Use Calculations'!W57","v":0},null,null,null,0,null,null,null,null,null,null,0,0,0]
[null,{"$f":"'6.System Water Intake&Discharge'!B24","v":"-"},null,null,{"$f":"'3.Water Use Calculations'!I69","v":0},0,{"$f":"'3.Water Use Calculations'!I69","v":0},null,null,null,0,null,null,null,null,null,null,0,0,0]
[null,{"$f":"'6.System Water Intake&Discharge'!B25","v":"-"},null,null,{"$f":"'3.Water Use Calculations'!I81","v":0},0,{"$f":"'3.Water Use Calculations'!I81","v":0},null,null,null,0,null,null,null,null,null,null,0,0,0]
[null,{"$f":"'6.System Water Intake&Discharge'!B26","v":"-"},null,null,null,null,null,null,null,null,0,null,null,null,null,null,null,0,0,0]
[null,"TOTAL",null,null,{"$f":"SUM(E17:E27)","v":0},0,0,0,0,0,0]
[null,"Note: System-level TOTAL for Source Water should closely match with plant-level ANNUAL TOTAL calculated in Part 2.1, also shown here in the purple cell.",null,null,null,null,null,{"$f":"'2.Plant Water Intake&Discharge'!$J$32","v":0}]
[]
[]
[null,"Part 4.2 - System Water Outflow"]
[null,"For EACH water-using system, please provide an estimate of water outflow to different paths. \nNote: You may use values in the purple cells, which were calculated in previous tabs, as a guide for your estimates in yellow cells, as shown below:\n* Use calculated Wastewater Discharge + Recycled To Other Systems for Estimated Wastewater Discharge and Recycled To Other Systems.\n* Use calculated Known Losses (Evaporation/ Other) for Estimated Known Losses (Evaporation/ Other)."]
[null,{"$f":"'6.System Water Intake&Discharge'!B13","v":"Water-Using System"},null,null,{"$f":"E13","v":"Water Flows Calculated on Tab 3"},null,null,"Outgoing Water (Measured or Estimated)",null,null,null,null,null,null,null,null,null,{"$f":"R13","v":"% of Total"}]
[null,null,null,null,{"$f":"\"(\"&HelperTab!$A$50&\")\"","v":"(Million Gallon per Year)"},null,null,{"$f":"\"(\"&HelperTab!$A$50&\")\"","v":"(Million Gallon per Year)"},null,null,null,null,null,null,null,null,null,{"$f":"R14","v":"(Based on User Estimate)"}]
[null,null,null,null,"Wastewater Discharge + Recycled To Other Systems","Known Losses (Evaporation/ Other)","Water Consumed in Product","Wastewater Discharge","Recycled To Other System","Known Losses (Evaporation/ Other)","Water Consumed in Product",null,null,null,null,null,null,{"$f":"H36","v":"Wastewater Discharge"},{"$f":"I36","v":"Recycled To Other System"},{"$f":"J36","v":"Known Losses (Evaporation/ Other)"},{"$f":"K36","v":"Water Consumed in Product"}]
[null,{"$f":"'6.System Water Intake&Discharge'!B16","v":"-"},null,null,{"$f":"'3.Water Use Calculations'!M22","v":0},{"$f":"'3.Water Use Calculations'!O22","v":0},{"$f":"'3.Water Use Calculations'!N22","v":0},null,null,null,null,null,null,null,null,null,null,{"$f":"IFERROR(H37/SUM($H37:$K37),0)","v":0},{"$f":"IFERROR(I37/SUM($H37:$K37),0)","v":0},{"$f":"IFERROR(J37/SUM($H37:$K37),0)","v":0},{"$f":"IFERROR(K37/SUM($H37:$K37),0)","v":0}]
[null,{"$f":"'6.System Water Intake&Discharge'!B17","v":"-"},null,null,{"$f":"'3.Water Use Calculations'!M23","v":0},{"$f":"'3.Water Use Calculations'!O23","v":0},{"$f":"'3.Water Use Calculations'!N23","v":0},null,null,null,null,null,null,null,null,null,null,0,0,0,0]
[null,{"$f":"'6.System Water Intake&Discharge'!B18","v":"-"},null,null,{"$f":"'3.Water Use Calculations'!M24","v":0},{"$f":"'3.Water Use Calculations'!O24","v":0},{"$f":"'3.Water Use Calculations'!N24","v":0},null,null,null,null,null,null,null,null,null,null,0,0,0,0]
[null,{"$f":"'6.System Water Intake&Discharge'!B19","v":"-"},null,null,{"$f":"'3.Water Use Calculations'!AE39","v":0},{"$f":"'3.Water Use Calculations'!X39","v":0},null,null,null,null,null,null,null,null,null,null,null,0,0,0,0]
[null,{"$f":"'6.System Water Intake&Discharge'!B20","v":"-"},null,null,{"$f":"'3.Water Use Calculations'!AE40","v":0},{"$f":"'3.Water Use Calculations'!X40","v":0},null,null,null,null,null,null,null,null,null,null,null,0,0,0,0]
[null,{"$f":"'6.System Water Intake&Discharge'!B21","v":"-"},null,null,{"$f":"'3.Water Use Calculations'!AE41","v":0},{"$f":"'3.Water Use Calculations'!X41","v":0},null,null,null,null,null,null,null,null,null,null,null,0,0,0,0]
[null,{"$f":"'6.System Water Intake&Discharge'!B22","v":"-"},null,null,{"$f":"'3.Water Use Calculations'!AC56","v":0},{"$f":"'3.Water Use Calculations'!AF56","v":0},null,null,null,null,null,null,null,null,null,null,null,0,0,0,0]
[null,{"$f":"'6.System Water Intake&Discharge'!B23","v":"-"},null,null,{"$f":"'3.Water Use Calculations'!AC57","v":0},{"$f":"'3.Water Use Calculations'!AF57","v":0},null,null,null,null,null,null,null,null,null,null,null,0,0,0,0]
[null,{"$f":"'6.System Water Intake&Discharge'!B24","v":"-"},null,null,{"$f":"'3.Water Use Calculations'!I69","v":0},null,null,null,null,null,null,null,null,null,null,null,null,0,0,0,0]
[null,{"$f":"'6.System Water Intake&Discharge'!B25","v":"-"},null,null,null,{"$f":"'3.Water Use Calculations'!I81","v":0},null,null,null,null,null,null,null,null,null,null,null,0,0,0,0]
[null,{"$f":"'6.System Water Intake&Discharge'!B26","v":"-"},null,null,null,null,null,null,null,null,null,null,null,null,null,null,null,0,0,0,0]
[null,"TOTAL",null,null,{"$f":"SUM(E37:E47)","v":0},0,0,{"$f":"SUM(H37:H47)","v":0},0,0,0]
[null,"Note: System-level TOTAL for Wastewater Discharge should closely match with plant-level ANNUAL TOTAL calculated in Part 2.2, also shown here in the left purple cell.",null,null,null,null,null,{"$f":"'2.Plant Water Intake&Discharge'!I56","v":0},{"$f":"I28","v":0},"Note: System-level TOTAL for Recycled To Other System should closely match system-level TOTAL for Recycled Water From Other Systems calculated in Part 4.1, also shown here in the right purple cell."]
[]
[]
[null,"Part 4 Results - System Water Balance"]
[null,"This table shows the water balance for each system in your plant. Based on the data you have provided, it compares total incoming water with total outgoing water to estimate unknown water losses for each system.\nNote: A positive water imbalance may mean overestimated incoming water, underestimated outgoing water, and/or unknown water loss in the system. A negative water imbalance may mean underestimated incoming water, overestimated outgoing water, and/or unaccounted incoming water to the system. You may refine your estimates in Tab 3, Part 4.1 and Part 4.2 and revisit system water imbalance, especially, if the water flows are unmetered."]
[null,{"$f":"'6.System Water Intake&Discharge'!B13","v":"Water-Using System"},null,null,{"$f":"\"Total System Water (\"&HelperTab!A50&\")\"","v":"Total System Water (Million Gallon per Year)"},null,null,null,null,{"$f":"I55&\" (%)\"","v":"Water Imbalance (%)"}]
[null,null,null,null,"Incoming Water",null,"Outgoing Water",null,"Water Imbalance","(% of Incoming Water)","(% of Total)"]
[null,{"$f":"'6.System Water Intake&Discharge'!B16","v":"-"},null,null,{"$f":"SUM(H17:I17)","v":0},null,{"$f":"SUM(H37:K37)","v":0},null,{"$f":"E56-G56","v":0},{"$f":"IFERROR(I56/E56,0)","v":0},{"$f":"IFERROR(I56/$I$67,0)","v":0}]
[null,{"$f":"'6.System Water Intake&Discharge'!B17","v":"-"},null,null,0,null,0,null,0,0,0]
[null,{"$f":"'6.System Water Intake&Discharge'!B18","v":"-"},null,null,0,null,0,null,0,0,0]
[null,{"$f":"'6.System Water Intake&Discharge'!B19","v":"-"},null,null,0,null,0,null,0,0,0]
[null,{"$f":"'6.System Water Intake&Discharge'!B20","v":"-"},null,null,0,null,0,null,0,0,0]
[null,{"$f":"'6.System Water Intake&Discharge'!B21","v":"-"},null,null,0,null,0,null,0,0,0]
[null,{"$f":"'6.System Water Intake&Discharge'!B22","v":"-"},null,null,0,null,0,null,0,0,0]
[null,{"$f":"'6.System Water Intake&Discharge'!B23","v":"-"},null,null,0,null,0,null,0,0,0]
[null,{"$f":"'6.System Water Intake&Discharge'!B24","v":"-"},null,null,0,null,0,null,0,0,0]
[null,{"$f":"'6.System Water Intake&Discharge'!B25","v":"-"},null,null,0,null,0,null,0,0,0]
[null,{"$f":"'6.System Water Intake&Discharge'!B26","v":"-"},null,null,0,null,0,null,0,0,0]
[null,{"$f":"'2.Plant Water Intake&Discharge'!B32","v":"ANNUAL TOTAL"},null,null,{"$f":"SUM(E56:E66)","v":0},null,{"$f":"SUM(G56:G66)","v":0},null,{"$f":"SUM(I56:I66)","v":0},null,0]

{"sheet":"True Cost","index":7,"n_rows":73,"n_cols":15,"rows_kept":73,"cut":false,"hidden":true,"merged":[[56,0,56,11],[52,0,52,2],[51,0,51,2],[50,0,50,2],[49,0,49,2],[53,0,53,2],[2,0,2,12],[3,8,3,12],[4,12,5,12],[3,0,5,2],[25,0,25,2],[14,0,14,2],[9,0,9,2],[10,0,10,2],[11,0,11,2],[12,0,12,2],[13,0,13,2],[17,0,17,2],[15,0,15,2],[16,0,16,2],[6,0,6,2],[7,0,7,2],[22,14,23,14],[22,3,22,7],[21,3,21,14],[22,9,22,13],[3,3,3,7],[22,8,23,8],[4,6,5,6],[4,11,5,11],[4,7,5,7],[57,0,57,11],[58,3,58,10],[58,11,59,11],[71,0,71,2],[58,0,59,2],[68,0,68,2],[65,0,65,2],[66,0,66,2],[64,0,64,2],[63,0,63,2],[67,0,67,2],[60,0,60,2],[69,0,69,2],[70,0,70,2],[61,0,61,2],[62,0,62,2],[48,0,48,2],[30,0,30,2],[31,0,31,2],[33,0,33,2],[45,0,45,2],[34,0,34,2],[35,0,35,2],[43,0,43,2],[40,0,41,2],[42,0,42,2],[44,0,44,2],[38,0,38,13],[32,0,32,2],[40,3,40,13],[39,0,39,13],[8,0,8,2],[26,0,26,2],[46,0,46,2],[47,0,47,2],[24,0,24,2],[27,0,27,2],[28,0,28,2],[21,0,23,2],[29,0,29,2]]}
[null,null,null,null,null,null,null,null,{"$f":"'5.Unit Costs'!E13","v":0},{"$f":"'5.Unit Costs'!E14","v":0},{"$f":"'5.Unit Costs'!E15","v":0},{"$f":"'5.Unit Costs'!E16","v":0},{"$f":"'5.Unit Costs'!E17","v":0},"$/kGal"]
["Part 5.1 and 5.2 Costs - Cost of Source Water Intake and Wastewater Disposal"]
["This table shows cost of municipal water intake and wastewater disposal for each system in your plant."]
[{"$f":"'1.Plant Info'!B51","v":"Water-Using System"},null,null,{"$f":"HelperTab!A50","v":"Million Gallon per Year"},null,null,null,null,{"$f":"HelperTab!A51","v":"$ per Year"}]
[null,null,null,{"$f":"'2.Plant Water Intake&Discharge'!C17","v":"Municipal Water"},{"$f":"'2.Plant Water Intake&Discharge'!D17","v":"Municipal Water"},{"$f":"'2.Plant Water Intake&Discharge'!E17","v":"Municipal Water"},"Municipal Wastewater Disposal","Third Party Disposal",{"$f":"'2.Plant Water Intake&Discharge'!C17","v":"Municipal Water"},{"$f":"'2.Plant Water Intake&Discharge'!D17","v":"Municipal Water"},{"$f":"'2.Plant Water Intake&Discharge'!E17","v":"Municipal Water"},{"$f":"G5","v":"Municipal Wastewater Disposal"},{"$f":"H5","v":"Third Party Disposal"},"Plant-wide Source Water Intake and Circulation"]
[null,null,null,{"$f":"'2.Plant Water Intake&Discharge'!C18","v":"Potable"},{"$f":"'2.Plant Water Intake&Discharge'!D18","v":"Nonpotable"},{"$f":"'2.Plant Water Intake&Discharge'!E18","v":"00:00:00"},null,null,{"$f":"'2.Plant Water Intake&Discharge'!C18","v":"Potable"},{"$f":"'2.Plant Water Intake&Discharge'!D18","v":"Nonpotable"},{"$f":"'2.Plant Water Intake&Discharge'!E18","v":"00:00:00"},null,null,"Plant-wide Wastewater Discharge"]
[{"$f":"'6.System Water Intake&Discharge'!B16","v":"-"},null,null,{"$f":"'6.System Water Intake&Discharge'!T16","v":0},{"$f":"'6.System Water Intake&Discharge'!U16","v":0},{"$f":"'6.System Water Intake&Discharge'!V16","v":0},{"$f":"'6.System Water Intake&Discharge'!T34","v":0},{"$f":"'6.System Water Intake&Discharge'!U34","v":0},{"$f":"D7*I$1*1000","v":0},{"$f":"E7*J$1*1000","v":0},{"$f":"F7*K$1*1000","v":0},{"$f":"G7*L$1*1000","v":0},{"$f":"H7*M$1*1000","v":0},{"$f":"A7","v":"-"}]
[{"$f":"'6.System Water Intake&Discharge'!B17","v":"-"},null,null,{"$f":"'6.System Water Intake&Discharge'!T17","v":0},{"$f":"'6.System Water Intake&Discharge'!U17","v":0},{"$f":"'6.System Water Intake&Discharge'!V17","v":0},{"$f":"'6.System Water Intake&Discharge'!T35","v":0},{"$f":"'6.System Water Intake&Discharge'!U35","v":0},0,0,0,0,0,{"$f":"A8","v":"-"}]
[{"$f":"'6.System Water Intake&Discharge'!B18","v":"-"},null,null,{"$f":"'6.System Water Intake&Discharge'!T18","v":0},{"$f":"'6.System Water Intake&Discharge'!U18","v":0},{"$f":"'6.System Water Intake&Discharge'!V18","v":0},{"$f":"'6.System Water Intake&Discharge'!T36","v":0},{"$f":"'6.System Water Intake&Discharge'!U36","v":0},0,0,0,0,0,"-"]
[{"$f":"'6.System Water Intake&Discharge'!B19","v":"-"},null,null,{"$f":"'6.System Water Intake&Discharge'!T19","v":0},{"$f":"'6.System Water Intake&Discharge'!U19","v":0},{"$f":"'6.System Water Intake&Discharge'!V19","v":0},{"$f":"'6.System Water Intake&Discharge'!T37","v":0},{"$f":"'6.System Water Intake&Discharge'!U37","v":0},0,0,0,0,0,"-"]
[{"$f":"'6.System Water Intake&Discharge'!B20","v":"-"},null,null,{"$f":"'6.System Water Intake&Discharge'!T20","v":0},{"$f":"'6.System Water Intake&Discharge'!U20","v":0},{"$f":"'6.System Water Intake&Discharge'!V20","v":0},{"$f":"'6.System Water Intake&Discharge'!T38","v":0},{"$f":"'6.System Water Intake&Discharge'!U38","v":0},0,0,0,0,0,"-"]
[{"$f":"'6.System Water Intake&Discharge'!B21","v":"-"},null,null,{"$f":"'6.System Water Intake&Discharge'!T21","v":0},{"$f":"'6.System Water Intake&Discharge'!U21","v":0},{"$f":"'6.System Water Intake&Discharge'!V21","v":0},{"$f":"'6.System Water Intake&Discharge'!T39","v":0},{"$f":"'6.System Water Intake&Discharge'!U39","v":0},0,0,0,0,0,"-"]
[{"$f":"'6.System Water Intake&Discharge'!B22","v":"-"},null,null,{"$f":"'6.System Water Intake&Discharge'!T22","v":0},{"$f":"'6.System Water Intake&Discharge'!U22","v":0},{"$f":"'6.System Water Intake&Discharge'!V22","v":0},{"$f":"'6.System Water Intake&Discharge'!T40","v":0},{"$f":"'6.System Water Intake&Discharge'!U40","v":0},0,0,0,0,0,"-"]
[{"$f":"'6.System Water Intake&Discharge'!B23","v":"-"},null,null,{"$f":"'6.System Water Intake&Discharge'!T23","v":0},{"$f":"'6.System Water Intake&Discharge'!U23","v":0},{"$f":"'6.System Water Intake&Discharge'!V23","v":0},{"$f":"'6.System Water Intake&Discharge'!T41","v":0},{"$f":"'6.System Water Intake&Discharge'!U41","v":0},0,0,0,0,0,"-"]
[{"$f":"'6.System Water Intake&Discharge'!B24","v":"-"},null,null,{"$f":"'6.System Water Intake&Discharge'!T24","v":0},{"$f":"'6.System Water Intake&Discharge'!U24","v":0},{"$f":"'6.System Water Intake&Discharge'!V24","v":0},{"$f":"'6.System Water Intake&Discharge'!T42","v":0},{"$f":"'6.System Water Intake&Discharge'!U42","v":0},0,0,0,0,0,"-"]
[{"$f":"'6.System Water Intake&Discharge'!B25","v":"-"},null,null,{"$f":"'6.System Water Intake&Discharge'!T25","v":0},{"$f":"'6.System Water Intake&Discharge'!U25","v":0},{"$f":"'6.System Water Intake&Discharge'!V25","v":0},{"$f":"'6.System Water Intake&Discharge'!T43","v":0},{"$f":"'6.System Water Intake&Discharge'!U43","v":0},0,0,0,0,0,"-"]
[{"$f":"'6.System Water Intake&Discharge'!B26","v":"-"},null,null,{"$f":"'6.System Water Intake&Discharge'!T26","v":0},{"$f":"'6.System Water Intake&Discharge'!U26","v":0},{"$f":"'6.System Water Intake&Discharge'!V26","v":0},{"$f":"'6.System Water Intake&Discharge'!T44","v":0},{"$f":"'6.System Water Intake&Discharge'!U44","v":0},0,0,0,0,0,"-"]
[{"$f":"'2.Plant Water Intake&Discharge'!B32","v":"ANNUAL TOTAL"},null,null,null,null,null,null,null,{"$f":"SUM(I7:I17)","v":0},{"$f":"SUM(J7:J17)","v":0},{"$f":"SUM(K7:K17)","v":0},{"$f":"SUM(L7:L17)","v":0},{"$f":"SUM(M7:M17)","v":0}]
[]
[null,null,null,{"$f":"IF('1.Plant Info'!$N$64<>\"Yes\",0,IFERROR(VLOOKUP(D24,'5.Unit Costs'!$P$26:$Q$33,2,FALSE),0))","v":0},{"$f":"IF('1.Plant Info'!$N$64<>\"Yes\",0,IFERROR(VLOOKUP(E24,'5.Unit Costs'!$P$26:$Q$33,2,FALSE),0))","v":0},{"$f":"IF('1.Plant Info'!$N$64<>\"Yes\",0,IFERROR(VLOOKUP(F24,'5.Unit Costs'!$P$26:$Q$33,2,FALSE),0))","v":0},{"$f":"IF('1.Plant Info'!$N$64<>\"Yes\",0,IFERROR(VLOOKUP(G24,'5.Unit Costs'!$P$26:$Q$33,2,FALSE),0))","v":0},{"$f":"IF('1.Plant Info'!$N$64<>\"Yes\",0,IFERROR(VLOOKUP(H24,'5.Unit Costs'!$P$26:$Q$33,2,FALSE),0))","v":0},"$/kGal",{"$f":"IF('1.Plant Info'!$N$65<>\"Yes\",0,IFERROR(VLOOKUP(J24,'5.Unit Costs'!$P$39:$Q$46,2,FALSE),0))","v":0},{"$f":"IF('1.Plant Info'!$N$65<>\"Yes\",0,IFERROR(VLOOKUP(K24,'5.Unit Costs'!$P$39:$Q$46,2,FALSE),0))","v":0},{"$f":"IF('1.Plant Info'!$N$65<>\"Yes\",0,IFERROR(VLOOKUP(L24,'5.Unit Costs'!$P$39:$Q$46,2,FALSE),0))","v":0},{"$f":"IF('1.Plant Info'!$N$65<>\"Yes\",0,IFERROR(VLOOKUP(M24,'5.Unit Costs'!$P$39:$Q$46,2,FALSE),0))","v":0},{"$f":"IF('1.Plant Info'!$N$65<>\"Yes\",0,IFERROR(VLOOKUP(N24,'5.Unit Costs'!$P$39:$Q$46,2,FALSE),0))","v":0},"$/kGal"]
["Part 6.1 and 6.2 Costs - Cost of Water and Wastewater Treatment"]
[{"$f":"'1.Plant Info'!B51","v":"Water-Using System"},null,null,{"$f":"HelperTab!A51","v":"$ per Year"}]
[null,null,null,{"$f":"'7.Water&Wastewater Treatment'!H13","v":"Water Treatment Process"},null,null,null,null,"Total",{"$f":"'7.Water&Wastewater Treatment'!H119","v":"Wastewater Treatment Process"},null,null,null,null,"Total"]
[null,null,null,{"$f":"'7.Water&Wastewater Treatment'!N14","v":""},{"$f":"'7.Water&Wastewater Treatment'!O14","v":""},{"$f":"'7.Water&Wastewater Treatment'!P14","v":""},{"$f":"'7.Water&Wastewater Treatment'!Q14","v":""},{"$f":"'7.Water&Wastewater Treatment'!R14","v":""},null,{"$f":"'7.Water&Wastewater Treatment'!N120","v":""},{"$f":"'7.Water&Wastewater Treatment'!O120","v":""},{"$f":"'7.Water&Wastewater Treatment'!P120","v":""},{"$f":"'7.Water&Wastewater Treatment'!Q120","v":""},{"$f":"'7.Water&Wastewater Treatment'!R120","v":""}]
[{"$f":"A7","v":"-"},null,null,{"$f":"INDEX('7.Water&Wastewater Treatment'!$N$15:$S$113,MATCH('True Cost'!$A25,'7.Water&Wastewater Treatment'!$B$15:$B$113,0),MATCH('True Cost'!D$24,'7.Water&Wastewater Treatment'!$N$14:$S$14,0))*D$20*1000","v":0},{"$f":"INDEX('7.Water&Wastewater Treatment'!$N$15:$S$113,MATCH('True Cost'!$A25,'7.Water&Wastewater Treatment'!$B$15:$B$113,0),MATCH('True Cost'!E$24,'7.Water&Wastewater Treatment'!$N$14:$S$14,0))*E$20*1000","v":0},{"$f":"INDEX('7.Water&Wastewater Treatment'!$N$15:$S$113,MATCH('True Cost'!$A25,'7.Water&Wastewater Treatment'!$B$15:$B$113,0),MATCH('True Cost'!F$24,'7.Water&Wastewater Treatment'!$N$14:$S$14,0))*F$20*1000","v":0},{"$f":"INDEX('7.Water&Wastewater Treatment'!$N$15:$S$113,MATCH('True Cost'!$A25,'7.Water&Wastewater Treatment'!$B$15:$B$113,0),MATCH('True Cost'!G$24,'7.Water&Wastewater Treatment'!$N$14:$S$14,0))*G$20*1000","v":0},{"$f":"INDEX('7.Water&Wastewater Treatment'!$N$15:$S$113,MATCH('True Cost'!$A25,'7.Water&Wastewater Treatment'!$B$15:$B$113,0),MATCH('True Cost'!H$24,'7.Water&Wastewater Treatment'!$N$14:$S$14,0))*H$20*1000","v":0},{"$f":"SUM(D25:H25)","v":0},{"$f":"INDEX('7.Water&Wastewater Treatment'!$N$121:$S$184,MATCH('True Cost'!$A25,'7.Water&Wastewater Treatment'!$B$121:$B$184,0),MATCH('True Cost'!J$24,'7.Water&Wastewater Treatment'!$N$120:$S$120,0))*J$20*1000","v":0},{"$f":"INDEX('7.Water&Wastewater Treatment'!$N$121:$S$184,MATCH('True Cost'!$A25,'7.Water&Wastewater Treatment'!$B$121:$B$184,0),MATCH('True Cost'!K$24,'7.Water&Wastewater Treatment'!$N$120:$S$120,0))*K$20*1000","v":0},{"$f":"INDEX('7.Water&Wastewater Treatment'!$N$121:$S$184,MATCH('True Cost'!$A25,'7.Water&Wastewater Treatment'!$B$121:$B$184,0),MATCH('True Cost'!L$24,'7.Water&Wastewater Treatment'!$N$120:$S$120,0))*L$20*1000","v":0},{"$f":"INDEX('7.Water&Wastewater Treatment'!$N$121:$S$184,MATCH('True Cost'!$A25,'7.Water&Wastewater Treatment'!$B$121:$B$184,0),MATCH('True Cost'!M$24,'7.Water&Wastewater Treatment'!$N$120:$S$120,0))*M$20*1000","v":0},{"$f":"INDEX('7.Water&Wastewater Treatment'!$N$121:$S$184,MATCH('True Cost'!$A25,'7.Water&Wastewater Treatment'!$B$121:$B$184,0),MATCH('True Cost'!N$24,'7.Water&Wastewater Treatment'!$N$120:$S$120,0))*N$20*1000","v":0},{"$f":"SUM(J25:N25)","v":0}]
["-",null,null,{"$f":"INDEX('7.Water&Wastewater Treatment'!$N$15:$S$113,MATCH('True Cost'!$A26,'7.Water&Wastewater Treatment'!$B$15:$B$113,0),MATCH('True Cost'!D$24,'7.Water&Wastewater Treatment'!$N$14:$S$14,0))*D$20*1000","v":0},{"$f":"INDEX('7.Water&Wastewater Treatment'!$N$15:$S$113,MATCH('True Cost'!$A26,'7.Water&Wastewater Treatment'!$B$15:$B$113,0),MATCH('True Cost'!E$24,'7.Water&Wastewater Treatment'!$N$14:$S$14,0))*E$20*1000","v":0},{"$f":"INDEX('7.Water&Wastewater Treatment'!$N$15:$S$113,MATCH('True Cost'!$A26,'7.Water&Wastewater Treatment'!$B$15:$B$113,0),MATCH('True Cost'!F$24,'7.Water&Wastewater Treatment'!$N$14:$S$14,0))*F$20*1000","v":0},{"$f":"INDEX('7.Water&Wastewater Treatment'!$N$15:$S$113,MATCH('True Cost'!$A26,'7.Water&Wastewater Treatment'!$B$15:$B$113,0),MATCH('True Cost'!G$24,'7.Water&Wastewater Treatment'!$N$14:$S$14,0))*G$20*1000","v":0},{"$f":"INDEX('7.Water&Wastewater Treatment'!$N$15:$S$113,MATCH('True Cost'!$A26,'7.Water&Wastewater Treatment'!$B$15:$B$113,0),MATCH('True Cost'!H$24,'7.Water&Wastewater Treatment'!$N$14:$S$14,0))*H$20*1000","v":0},0,{"$f":"INDEX('7.Water&Wastewater Treatment'!$N$121:$S$184,MATCH('True Cost'!$A26,'7.Water&Wastewater Treatment'!$B$121:$B$184,0),MATCH('True Cost'!J$24,'7.Water&Wastewater Treatment'!$N$120:$S$120,0))*J$20*1000","v":0},{"$f":"INDEX('7.Water&Wastewater Treatment'!$N$121:$S$184,MATCH('True Cost'!$A26,'7.Water&Wastewater Treatment'!$B$121:$B$184,0),MATCH('True Cost'!K$24,'7.Water&Wastewater Treatment'!$N$120:$S$120,0))*K$20*1000","v":0},{"$f":"INDEX('7.Water&Wastewater Treatment'!$N$121:$S$184,MATCH('True Cost'!$A26,'7.Water&Wastewater Treatment'!$B$121:$B$184,0),MATCH('True Cost'!L$24,'7.Water&Wastewater Treatment'!$N$120:$S$120,0))*L$20*1000","v":0},{"$f":"INDEX('7.Water&Wastewater Treatment'!$N$121:$S$184,MATCH('True Cost'!$A26,'7.Water&Wastewater Treatment'!$B$121:$B$184,0),MATCH('True Cost'!M$24,'7.Water&Wastewater Treatment'!$N$120:$S$120,0))*M$20*1000","v":0},{"$f":"INDEX('7.Water&Wastewater Treatment'!$N$121:$S$184,MATCH('True Cost'!$A26,'7.Water&Wastewater Treatment'!$B$121:$B$184,0),MATCH('True Cost'!N$24,'7.Water&Wastewater Treatment'!$N$120:$S$120,0))*N$20*1000","v":0},0]
["-",null,null,{"$f":"INDEX('7.Water&Wastewater Treatment'!$N$15:$S$113,MATCH('True Cost'!$A27,'7.Water&Wastewater Treatment'!$B$15:$B$113,0),MATCH('True Cost'!D$24,'7.Water&Wastewater Treatment'!$N$14:$S$14,0))*D$20*1000","v":0},{"$f":"INDEX('7.Water&Wastewater Treatment'!$N$15:$S$113,MATCH('True Cost'!$A27,'7.Water&Wastewater Treatment'!$B$15:$B$113,0),MATCH('True Cost'!E$24,'7.Water&Wastewater Treatment'!$N$14:$S$14,0))*E$20*1000","v":0},{"$f":"INDEX('7.Water&Wastewater Treatment'!$N$15:$S$113,MATCH('True Cost'!$A27,'7.Water&Wastewater Treatment'!$B$15:$B$113,0),MATCH('True Cost'!F$24,'7.Water&Wastewater Treatment'!$N$14:$S$14,0))*F$20*1000","v":0},{"$f":"INDEX('7.Water&Wastewater Treatment'!$N$15:$S$113,MATCH('True Cost'!$A27,'7.Water&Wastewater Treatment'!$B$15:$B$113,0),MATCH('True Cost'!G$24,'7.Water&Wastewater Treatment'!$N$14:$S$14,0))*G$20*1000","v":0},{"$f":"INDEX('7.Water&Wastewater Treatment'!$N$15:$S$113,MATCH('True Cost'!$A27,'7.Water&Wastewater Treatment'!$B$15:$B$113,0),MATCH('True Cost'!H$24,'7.Water&Wastewater Treatment'!$N$14:$S$14,0))*H$20*1000","v":0},0,{"$f":"INDEX('7.Water&Wastewater Treatment'!$N$121:$S$184,MATCH('True Cost'!$A27,'7.Water&Wastewater Treatment'!$B$121:$B$184,0),MATCH('True Cost'!J$24,'7.Water&Wastewater Treatment'!$N$120:$S$120,0))*J$20*1000","v":0},{"$f":"INDEX('7.Water&Wastewater Treatment'!$N$121:$S$184,MATCH('True Cost'!$A27,'7.Water&Wastewater Treatment'!$B$121:$B$184,0),MATCH('True Cost'!K$24,'7.Water&Wastewater Treatment'!$N$120:$S$120,0))*K$20*1000","v":0},{"$f":"INDEX('7.Water&Wastewater Treatment'!$N$121:$S$184,MATCH('True Cost'!$A27,'7.Water&Wastewater Treatment'!$B$121:$B$184,0),MATCH('True Cost'!L$24,'7.Water&Wastewater Treatment'!$N$120:$S$120,0))*L$20*1000","v":0},{"$f":"INDEX('7.Water&Wastewater Treatment'!$N$121:$S$184,MATCH('True Cost'!$A27,'7.Water&Wastewater Treatment'!$B$121:$B$184,0),MATCH('True Cost'!M$24,'7.Water&Wastewater Treatment'!$N$120:$S$120,0))*M$20*1000","v":0},{"$f":"INDEX('7.Water&Wastewater Treatment'!$N$121:$S$184,MATCH('True Cost'!$A27,'7.Water&Wastewater Treatment'!$B$121:$B$184,0),MATCH('True Cost'!N$24,'7.Water&Wastewater Treatment'!$N$120:$S$120,0))*N$20*1000","v":0},0]
["-",null,null,{"$f":"INDEX('7.Water&Wastewater Treatment'!$N$15:$S$113,MATCH('True Cost'!$A28,'7.Water&Wastewater Treatment'!$B$15:$B$113,0),MATCH('True Cost'!D$24,'7.Water&Wastewater Treatment'!$N$14:$S$14,0))*D$20*1000","v":0},{"$f":"INDEX('7.Water&Wastewater Treatment'!$N$15:$S$113,MATCH('True Cost'!$A28,'7.Water&Wastewater Treatment'!$B$15:$B$113,0),MATCH('True Cost'!E$24,'7.Water&Wastewater Treatment'!$N$14:$S$14,0))*E$20*1000","v":0},{"$f":"INDEX('7.Water&Wastewater Treatment'!$N$15:$S$113,MATCH('True Cost'!$A28,'7.Water&Wastewater Treatment'!$B$15:$B$113,0),MATCH('True Cost'!F$24,'7.Water&Wastewater Treatment'!$N$14:$S$14,0))*F$20*1000","v":0},{"$f":"INDEX('7.Water&Wastewater Treatment'!$N$15:$S$113,MATCH('True Cost'!$A28,'7.Water&Wastewater Treatment'!$B$15:$B$113,0),MATCH('True Cost'!G$24,'7.Water&Wastewater Treatment'!$N$14:$S$14,0))*G$20*1000","v":0},{"$f":"INDEX('7.Water&Wastewater Treatment'!$N$15:$S$113,MATCH('True Cost'!$A28,'7.Water&Wastewater Treatment'!$B$15:$B$113,0),MATCH('True Cost'!H$24,'7.Water&Wastewater Treatment'!$N$14:$S$14,0))*H$20*1000","v":0},0,{"$f":"INDEX('7.Water&Wastewater Treatment'!$N$121:$S$184,MATCH('True Cost'!$A28,'7.Water&Wastewater Treatment'!$B$121:$B$184,0),MATCH('True Cost'!J$24,'7.Water&Wastewater Treatment'!$N$120:$S$120,0))*J$20*1000","v":0},{"$f":"INDEX('7.Water&Wastewater Treatment'!$N$121:$S$184,MATCH('True Cost'!$A28,'7.Water&Wastewater Treatment'!$B$121:$B$184,0),MATCH('True Cost'!K$24,'7.Water&Wastewater Treatment'!$N$120:$S$120,0))*K$20*1000","v":0},{"$f":"INDEX('7.Water&Wastewater Treatment'!$N$121:$S$184,MATCH('True Cost'!$A28,'7.Water&Wastewater Treatment'!$B$121:$B$184,0),MATCH('True Cost'!L$24,'7.Water&Wastewater Treatment'!$N$120:$S$120,0))*L$20*1000","v":0},{"$f":"INDEX('7.Water&Wastewater Treatment'!$N$121:$S$184,MATCH('True Cost'!$A28,'7.Water&Wastewater Treatment'!$B$121:$B$184,0),MATCH('True Cost'!M$24,'7.Water&Wastewater Treatment'!$N$120:$S$120,0))*M$20*1000","v":0},{"$f":"INDEX('7.Water&Wastewater Treatment'!$N$121:$S$184,MATCH('True Cost'!$A28,'7.Water&Wastewater Treatment'!$B$121:$B$184,0),MATCH('True Cost'!N$24,'7.Water&Wastewater Treatment'!$N$120:$S$120,0))*N$20*1000","v":0},0]
["-",null,null,{"$f":"INDEX('7.Water&Wastewater Treatment'!$N$15:$S$113,MATCH('True Cost'!$A29,'7.Water&Wastewater Treatment'!$B$15:$B$113,0),MATCH('True Cost'!D$24,'7.Water&Wastewater Treatment'!$N$14:$S$14,0))*D$20*1000","v":0},{"$f":"INDEX('7.Water&Wastewater Treatment'!$N$15:$S$113,MATCH('True Cost'!$A29,'7.Water&Wastewater Treatment'!$B$15:$B$113,0),MATCH('True Cost'!E$24,'7.Water&Wastewater Treatment'!$N$14:$S$14,0))*E$20*1000","v":0},{"$f":"INDEX('7.Water&Wastewater Treatment'!$N$15:$S$113,MATCH('True Cost'!$A29,'7.Water&Wastewater Treatment'!$B$15:$B$113,0),MATCH('True Cost'!F$24,'7.Water&Wastewater Treatment'!$N$14:$S$14,0))*F$20*1000","v":0},{"$f":"INDEX('7.Water&Wastewater Treatment'!$N$15:$S$113,MATCH('True Cost'!$A29,'7.Water&Wastewater Treatment'!$B$15:$B$113,0),MATCH('True Cost'!G$24,'7.Water&Wastewater Treatment'!$N$14:$S$14,0))*G$20*1000","v":0},{"$f":"INDEX('7.Water&Wastewater Treatment'!$N$15:$S$113,MATCH('True Cost'!$A29,'7.Water&Wastewater Treatment'!$B$15:$B$113,0),MATCH('True Cost'!H$24,'7.Water&Wastewater Treatment'!$N$14:$S$14,0))*H$20*1000","v":0},0,{"$f":"INDEX('7.Water&Wastewater Treatment'!$N$121:$S$184,MATCH('True Cost'!$A29,'7.Water&Wastewater Treatment'!$B$121:$B$184,0),MATCH('True Cost'!J$24,'7.Water&Wastewater Treatment'!$N$120:$S$120,0))*J$20*1000","v":0},{"$f":"INDEX('7.Water&Wastewater Treatment'!$N$121:$S$184,MATCH('True Cost'!$A29,'7.Water&Wastewater Treatment'!$B$121:$B$184,0),MATCH('True Cost'!K$24,'7.Water&Wastewater Treatment'!$N$120:$S$120,0))*K$20*1000","v":0},{"$f":"INDEX('7.Water&Wastewater Treatment'!$N$121:$S$184,MATCH('True Cost'!$A29,'7.Water&Wastewater Treatment'!$B$121:$B$184,0),MATCH('True Cost'!L$24,'7.Water&Wastewater Treatment'!$N$120:$S$120,0))*L$20*1000","v":0},{"$f":"INDEX('7.Water&Wastewater Treatment'!$N$121:$S$184,MATCH('True Cost'!$A29,'7.Water&Wastewater Treatment'!$B$121:$B$184,0),MATCH('True Cost'!M$24,'7.Water&Wastewater Treatment'!$N$120:$S$120,0))*M$20*1000","v":0},{"$f":"INDEX('7.Water&Wastewater Treatment'!$N$121:$S$184,MATCH('True Cost'!$A29,'7.Water&Wastewater Treatment'!$B$121:$B$184,0),MATCH('True Cost'!N$24,'7.Water&Wastewater Treatment'!$N$120:$S$120,0))*N$20*1000","v":0},0]
["-",null,null,{"$f":"INDEX('7.Water&Wastewater Treatment'!$N$15:$S$113,MATCH('True Cost'!$A30,'7.Water&Wastewater Treatment'!$B$15:$B$113,0),MATCH('True Cost'!D$24,'7.Water&Wastewater Treatment'!$N$14:$S$14,0))*D$20*1000","v":0},{"$f":"INDEX('7.Water&Wastewater Treatment'!$N$15:$S$113,MATCH('True Cost'!$A30,'7.Water&Wastewater Treatment'!$B$15:$B$113,0),MATCH('True Cost'!E$24,'7.Water&Wastewater Treatment'!$N$14:$S$14,0))*E$20*1000","v":0},{"$f":"INDEX('7.Water&Wastewater Treatment'!$N$15:$S$113,MATCH('True Cost'!$A30,'7.Water&Wastewater Treatment'!$B$15:$B$113,0),MATCH('True Cost'!F$24,'7.Water&Wastewater Treatment'!$N$14:$S$14,0))*F$20*1000","v":0},{"$f":"INDEX('7.Water&Wastewater Treatment'!$N$15:$S$113,MATCH('True Cost'!$A30,'7.Water&Wastewater Treatment'!$B$15:$B$113,0),MATCH('True Cost'!G$24,'7.Water&Wastewater Treatment'!$N$14:$S$14,0))*G$20*1000","v":0},{"$f":"INDEX('7.Water&Wastewater Treatment'!$N$15:$S$113,MATCH('True Cost'!$A30,'7.Water&Wastewater Treatment'!$B$15:$B$113,0),MATCH('True Cost'!H$24,'7.Water&Wastewater Treatment'!$N$14:$S$14,0))*H$20*1000","v":0},0,{"$f":"INDEX('7.Water&Wastewater Treatment'!$N$121:$S$184,MATCH('True Cost'!$A30,'7.Water&Wastewater Treatment'!$B$121:$B$184,0),MATCH('True Cost'!J$24,'7.Water&Wastewater Treatment'!$N$120:$S$120,0))*J$20*1000","v":0},{"$f":"INDEX('7.Water&Wastewater Treatment'!$N$121:$S$184,MATCH('True Cost'!$A30,'7.Water&Wastewater Treatment'!$B$121:$B$184,0),MATCH('True Cost'!K$24,'7.Water&Wastewater Treatment'!$N$120:$S$120,0))*K$20*1000","v":0},{"$f":"INDEX('7.Water&Wastewater Treatment'!$N$121:$S$184,MATCH('True Cost'!$A30,'7.Water&Wastewater Treatment'!$B$121:$B$184,0),MATCH('True Cost'!L$24,'7.Water&Wastewater Treatment'!$N$120:$S$120,0))*L$20*1000","v":0},{"$f":"INDEX('7.Water&Wastewater Treatment'!$N$121:$S$184,MATCH('True Cost'!$A30,'7.Water&Wastewater Treatment'!$B$121:$B$184,0),MATCH('True Cost'!M$24,'7.Water&Wastewater Treatment'!$N$120:$S$120,0))*M$20*1000","v":0},{"$f":"INDEX('7.Water&Wastewater Treatment'!$N$121:$S$184,MATCH('True Cost'!$A30,'7.Water&Wastewater Treatment'!$B$121:$B$184,0),MATCH('True Cost'!N$24,'7.Water&Wastewater Treatment'!$N$120:$S$120,0))*N$20*1000","v":0},0]
["-",null,null,{"$f":"INDEX('7.Water&Wastewater Treatment'!$N$15:$S$113,MATCH('True Cost'!$A31,'7.Water&Wastewater Treatment'!$B$15:$B$113,0),MATCH('True Cost'!D$24,'7.Water&Wastewater Treatment'!$N$14:$S$14,0))*D$20*1000","v":0},{"$f":"INDEX('7.Water&Wastewater Treatment'!$N$15:$S$113,MATCH('True Cost'!$A31,'7.Water&Wastewater Treatment'!$B$15:$B$113,0),MATCH('True Cost'!E$24,'7.Water&Wastewater Treatment'!$N$14:$S$14,0))*E$20*1000","v":0},{"$f":"INDEX('7.Water&Wastewater Treatment'!$N$15:$S$113,MATCH('True Cost'!$A31,'7.Water&Wastewater Treatment'!$B$15:$B$113,0),MATCH('True Cost'!F$24,'7.Water&Wastewater Treatment'!$N$14:$S$14,0))*F$20*1000","v":0},{"$f":"INDEX('7.Water&Wastewater Treatment'!$N$15:$S$113,MATCH('True Cost'!$A31,'7.Water&Wastewater Treatment'!$B$15:$B$113,0),MATCH('True Cost'!G$24,'7.Water&Wastewater Treatment'!$N$14:$S$14,0))*G$20*1000","v":0},{"$f":"INDEX('7.Water&Wastewater Treatment'!$N$15:$S$113,MATCH('True Cost'!$A31,'7.Water&Wastewater Treatment'!$B$15:$B$113,0),MATCH('True Cost'!H$24,'7.Water&Wastewater Treatment'!$N$14:$S$14,0))*H$20*1000","v":0},0,{"$f":"INDEX('7.Water&Wastewater Treatment'!$N$121:$S$184,MATCH('True Cost'!$A31,'7.Water&Wastewater Treatment'!$B$121:$B$184,0),MATCH('True Cost'!J$24,'7.Water&Wastewater Treatment'!$N$120:$S$120,0))*J$20*1000","v":0},{"$f":"INDEX('7.Water&Wastewater Treatment'!$N$121:$S$184,MATCH('True Cost'!$A31,'7.Water&Wastewater Treatment'!$B$121:$B$184,0),MATCH('True Cost'!K$24,'7.Water&Wastewater Treatment'!$N$120:$S$120,0))*K$20*1000","v":0},{"$f":"INDEX('7.Water&Wastewater Treatment'!$N$121:$S$184,MATCH('True Cost'!$A31,'7.Water&Wastewater Treatment'!$B$121:$B$184,0),MATCH('True Cost'!L$24,'7.Water&Wastewater Treatment'!$N$120:$S$120,0))*L$20*1000","v":0},{"$f":"INDEX('7.Water&Wastewater Treatment'!$N$121:$S$184,MATCH('True Cost'!$A31,'7.Water&Wastewater Treatment'!$B$121:$B$184,0),MATCH('True Cost'!M$24,'7.Water&Wastewater Treatment'!$N$120:$S$120,0))*M$20*1000","v":0},{"$f":"INDEX('7.Water&Wastewater Treatment'!$N$121:$S$184,MATCH('True Cost'!$A31,'7.Water&Wastewater Treatment'!$B$121:$B$184,0),MATCH('True Cost'!N$24,'7.Water&Wastewater Treatment'!$N$120:$S$120,0))*N$20*1000","v":0},0]
["-",null,null,{"$f":"INDEX('7.Water&Wastewater Treatment'!$N$15:$S$113,MATCH('True Cost'!$A32,'7.Water&Wastewater Treatment'!$B$15:$B$113,0),MATCH('True Cost'!D$24,'7.Water&Wastewater Treatment'!$N$14:$S$14,0))*D$20*1000","v":0},{"$f":"INDEX('7.Water&Wastewater Treatment'!$N$15:$S$113,MATCH('True Cost'!$A32,'7.Water&Wastewater Treatment'!$B$15:$B$113,0),MATCH('True Cost'!E$24,'7.Water&Wastewater Treatment'!$N$14:$S$14,0))*E$20*1000","v":0},{"$f":"INDEX('7.Water&Wastewater Treatment'!$N$15:$S$113,MATCH('True Cost'!$A32,'7.Water&Wastewater Treatment'!$B$15:$B$113,0),MATCH('True Cost'!F$24,'7.Water&Wastewater Treatment'!$N$14:$S$14,0))*F$20*1000","v":0},{"$f":"INDEX('7.Water&Wastewater Treatment'!$N$15:$S$113,MATCH('True Cost'!$A32,'7.Water&Wastewater Treatment'!$B$15:$B$113,0),MATCH('True Cost'!G$24,'7.Water&Wastewater Treatment'!$N$14:$S$14,0))*G$20*1000","v":0},{"$f":"INDEX('7.Water&Wastewater Treatment'!$N$15:$S$113,MATCH('True Cost'!$A32,'7.Water&Wastewater Treatment'!$B$15:$B$113,0),MATCH('True Cost'!H$24,'7.Water&Wastewater Treatment'!$N$14:$S$14,0))*H$20*1000","v":0},0,{"$f":"INDEX('7.Water&Wastewater Treatment'!$N$121:$S$184,MATCH('True Cost'!$A32,'7.Water&Wastewater Treatment'!$B$121:$B$184,0),MATCH('True Cost'!J$24,'7.Water&Wastewater Treatment'!$N$120:$S$120,0))*J$20*1000","v":0},{"$f":"INDEX('7.Water&Wastewater Treatment'!$N$121:$S$184,MATCH('True Cost'!$A32,'7.Water&Wastewater Treatment'!$B$121:$B$184,0),MATCH('True Cost'!K$24,'7.Water&Wastewater Treatment'!$N$120:$S$120,0))*K$20*1000","v":0},{"$f":"INDEX('7.Water&Wastewater Treatment'!$N$121:$S$184,MATCH('True Cost'!$A32,'7.Water&Wastewater Treatment'!$B$121:$B$184,0),MATCH('True Cost'!L$24,'7.Water&Wastewater Treatment'!$N$120:$S$120,0))*L$20*1000","v":0},{"$f":"INDEX('7.Water&Wastewater Treatment'!$N$121:$S$184,MATCH('True Cost'!$A32,'7.Water&Wastewater Treatment'!$B$121:$B$184,0),MATCH('True Cost'!M$24,'7.Water&Wastewater Treatment'!$N$120:$S$120,0))*M$20*1000","v":0},{"$f":"INDEX('7.Water&Wastewater Treatment'!$N$121:$S$184,MATCH('True Cost'!$A32,'7.Water&Wastewater Treatment'!$B$121:$B$184,0),MATCH('True Cost'!N$24,'7.Water&Wastewater Treatment'!$N$120:$S$120,0))*N$20*1000","v":0},0]
["-",null,null,{"$f":"INDEX('7.Water&Wastewater Treatment'!$N$15:$S$113,MATCH('True Cost'!$A33,'7.Water&Wastewater Treatment'!$B$15:$B$113,0),MATCH('True Cost'!D$24,'7.Water&Wastewater Treatment'!$N$14:$S$14,0))*D$20*1000","v":0},{"$f":"INDEX('7.Water&Wastewater Treatment'!$N$15:$S$113,MATCH('True Cost'!$A33,'7.Water&Wastewater Treatment'!$B$15:$B$113,0),MATCH('True Cost'!E$24,'7.Water&Wastewater Treatment'!$N$14:$S$14,0))*E$20*1000","v":0},{"$f":"INDEX('7.Water&Wastewater Treatment'!$N$15:$S$113,MATCH('True Cost'!$A33,'7.Water&Wastewater Treatment'!$B$15:$B$113,0),MATCH('True Cost'!F$24,'7.Water&Wastewater Treatment'!$N$14:$S$14,0))*F$20*1000","v":0},{"$f":"INDEX('7.Water&Wastewater Treatment'!$N$15:$S$113,MATCH('True Cost'!$A33,'7.Water&Wastewater Treatment'!$B$15:$B$113,0),MATCH('True Cost'!G$24,'7.Water&Wastewater Treatment'!$N$14:$S$14,0))*G$20*1000","v":0},{"$f":"INDEX('7.Water&Wastewater Treatment'!$N$15:$S$113,MATCH('True Cost'!$A33,'7.Water&Wastewater Treatment'!$B$15:$B$113,0),MATCH('True Cost'!H$24,'7.Water&Wastewater Treatment'!$N$14:$S$14,0))*H$20*1000","v":0},0,{"$f":"INDEX('7.Water&Wastewater Treatment'!$N$121:$S$184,MATCH('True Cost'!$A33,'7.Water&Wastewater Treatment'!$B$121:$B$184,0),MATCH('True Cost'!J$24,'7.Water&Wastewater Treatment'!$N$120:$S$120,0))*J$20*1000","v":0},{"$f":"INDEX('7.Water&Wastewater Treatment'!$N$121:$S$184,MATCH('True Cost'!$A33,'7.Water&Wastewater Treatment'!$B$121:$B$184,0),MATCH('True Cost'!K$24,'7.Water&Wastewater Treatment'!$N$120:$S$120,0))*K$20*1000","v":0},{"$f":"INDEX('7.Water&Wastewater Treatment'!$N$121:$S$184,MATCH('True Cost'!$A33,'7.Water&Wastewater Treatment'!$B$121:$B$184,0),MATCH('True Cost'!L$24,'7.Water&Wastewater Treatment'!$N$120:$S$120,0))*L$20*1000","v":0},{"$f":"INDEX('7.Water&Wastewater Treatment'!$N$121:$S$184,MATCH('True Cost'!$A33,'7.Water&Wastewater Treatment'!$B$121:$B$184,0),MATCH('True Cost'!M$24,'7.Water&Wastewater Treatment'!$N$120:$S$120,0))*M$20*1000","v":0},{"$f":"INDEX('7.Water&Wastewater Treatment'!$N$121:$S$184,MATCH('True Cost'!$A33,'7.Water&Wastewater Treatment'!$B$121:$B$184,0),MATCH('True Cost'!N$24,'7.Water&Wastewater Treatment'!$N$120:$S$120,0))*N$20*1000","v":0},0]
["-",null,null,{"$f":"INDEX('7.Water&Wastewater Treatment'!$N$15:$S$113,MATCH('True Cost'!$A34,'7.Water&Wastewater Treatment'!$B$15:$B$113,0),MATCH('True Cost'!D$24,'7.Water&Wastewater Treatment'!$N$14:$S$14,0))*D$20*1000","v":0},{"$f":"INDEX('7.Water&Wastewater Treatment'!$N$15:$S$113,MATCH('True Cost'!$A34,'7.Water&Wastewater Treatment'!$B$15:$B$113,0),MATCH('True Cost'!E$24,'7.Water&Wastewater Treatment'!$N$14:$S$14,0))*E$20*1000","v":0},{"$f":"INDEX('7.Water&Wastewater Treatment'!$N$15:$S$113,MATCH('True Cost'!$A34,'7.Water&Wastewater Treatment'!$B$15:$B$113,0),MATCH('True Cost'!F$24,'7.Water&Wastewater Treatment'!$N$14:$S$14,0))*F$20*1000","v":0},{"$f":"INDEX('7.Water&Wastewater Treatment'!$N$15:$S$113,MATCH('True Cost'!$A34,'7.Water&Wastewater Treatment'!$B$15:$B$113,0),MATCH('True Cost'!G$24,'7.Water&Wastewater Treatment'!$N$14:$S$14,0))*G$20*1000","v":0},{"$f":"INDEX('7.Water&Wastewater Treatment'!$N$15:$S$113,MATCH('True Cost'!$A34,'7.Water&Wastewater Treatment'!$B$15:$B$113,0),MATCH('True Cost'!H$24,'7.Water&Wastewater Treatment'!$N$14:$S$14,0))*H$20*1000","v":0},0,{"$f":"INDEX('7.Water&Wastewater Treatment'!$N$121:$S$184,MATCH('True Cost'!$A34,'7.Water&Wastewater Treatment'!$B$121:$B$184,0),MATCH('True Cost'!J$24,'7.Water&Wastewater Treatment'!$N$120:$S$120,0))*J$20*1000","v":0},{"$f":"INDEX('7.Water&Wastewater Treatment'!$N$121:$S$184,MATCH('True Cost'!$A34,'7.Water&Wastewater Treatment'!$B$121:$B$184,0),MATCH('True Cost'!K$24,'7.Water&Wastewater Treatment'!$N$120:$S$120,0))*K$20*1000","v":0},{"$f":"INDEX('7.Water&Wastewater Treatment'!$N$121:$S$184,MATCH('True Cost'!$A34,'7.Water&Wastewater Treatment'!$B$121:$B$184,0),MATCH('True Cost'!L$24,'7.Water&Wastewater Treatment'!$N$120:$S$120,0))*L$20*1000","v":0},{"$f":"INDEX('7.Water&Wastewater Treatment'!$N$121:$S$184,MATCH('True Cost'!$A34,'7.Water&Wastewater Treatment'!$B$121:$B$184,0),MATCH('True Cost'!M$24,'7.Water&Wastewater Treatment'!$N$120:$S$120,0))*M$20*1000","v":0},{"$f":"INDEX('7.Water&Wastewater Treatment'!$N$121:$S$184,MATCH('True Cost'!$A34,'7.Water&Wastewater Treatment'!$B$121:$B$184,0),MATCH('True Cost'!N$24,'7.Water&Wastewater Treatment'!$N$120:$S$120,0))*N$20*1000","v":0},0]
["-",null,null,{"$f":"INDEX('7.Water&Wastewater Treatment'!$N$15:$S$113,MATCH('True Cost'!$A35,'7.Water&Wastewater Treatment'!$B$15:$B$113,0),MATCH('True Cost'!D$24,'7.Water&Wastewater Treatment'!$N$14:$S$14,0))*D$20*1000","v":0},{"$f":"INDEX('7.Water&Wastewater Treatment'!$N$15:$S$113,MATCH('True Cost'!$A35,'7.Water&Wastewater Treatment'!$B$15:$B$113,0),MATCH('True Cost'!E$24,'7.Water&Wastewater Treatment'!$N$14:$S$14,0))*E$20*1000","v":0},{"$f":"INDEX('7.Water&Wastewater Treatment'!$N$15:$S$113,MATCH('True Cost'!$A35,'7.Water&Wastewater Treatment'!$B$15:$B$113,0),MATCH('True Cost'!F$24,'7.Water&Wastewater Treatment'!$N$14:$S$14,0))*F$20*1000","v":0},{"$f":"INDEX('7.Water&Wastewater Treatment'!$N$15:$S$113,MATCH('True Cost'!$A35,'7.Water&Wastewater Treatment'!$B$15:$B$113,0),MATCH('True Cost'!G$24,'7.Water&Wastewater Treatment'!$N$14:$S$14,0))*G$20*1000","v":0},{"$f":"INDEX('7.Water&Wastewater Treatment'!$N$15:$S$113,MATCH('True Cost'!$A35,'7.Water&Wastewater Treatment'!$B$15:$B$113,0),MATCH('True Cost'!H$24,'7.Water&Wastewater Treatment'!$N$14:$S$14,0))*H$20*1000","v":0},0,{"$f":"INDEX('7.Water&Wastewater Treatment'!$N$121:$S$184,MATCH('True Cost'!$A35,'7.Water&Wastewater Treatment'!$B$121:$B$184,0),MATCH('True Cost'!J$24,'7.Water&Wastewater Treatment'!$N$120:$S$120,0))*J$20*1000","v":0},{"$f":"INDEX('7.Water&Wastewater Treatment'!$N$121:$S$184,MATCH('True Cost'!$A35,'7.Water&Wastewater Treatment'!$B$121:$B$184,0),MATCH('True Cost'!K$24,'7.Water&Wastewater Treatment'!$N$120:$S$120,0))*K$20*1000","v":0},{"$f":"INDEX('7.Water&Wastewater Treatment'!$N$121:$S$184,MATCH('True Cost'!$A35,'7.Water&Wastewater Treatment'!$B$121:$B$184,0),MATCH('True Cost'!L$24,'7.Water&Wastewater Treatment'!$N$120:$S$120,0))*L$20*1000","v":0},{"$f":"INDEX('7.Water&Wastewater Treatment'!$N$121:$S$184,MATCH('True Cost'!$A35,'7.Water&Wastewater Treatment'!$B$121:$B$184,0),MATCH('True Cost'!M$24,'7.Water&Wastewater Treatment'!$N$120:$S$120,0))*M$20*1000","v":0},{"$f":"INDEX('7.Water&Wastewater Treatment'!$N$121:$S$184,MATCH('True Cost'!$A35,'7.Water&Wastewater Treatment'!$B$121:$B$184,0),MATCH('True Cost'!N$24,'7.Water&Wastewater Treatment'!$N$120:$S$120,0))*N$20*1000","v":0},0]
[{"$f":"'2.Plant Water Intake&Discharge'!B32","v":"ANNUAL TOTAL"},null,null,{"$f":"SUM(D25:D35)","v":0},0,0,0,0,0,0,0,0,0,0,0]
[]
[]
["Part 7.1 and 7.2 Costs - Cost of Pumping and Blower Motor Energy"]
["This table shows the cost of pumping water and wastewater for each system in your plant."]
[{"$f":"'1.Plant Info'!B51","v":"Water-Using System"},null,null,"$ per Year"]
[null,null,null,{"$f":"N5","v":"Plant-wide Source Water Intake and Circulation"},{"$f":"N6","v":"Plant-wide Wastewater Discharge"},"System-specific Pump and Motor Energy Cost",null,null,null,null,null,null,null,"Total Pump and Motor Energy"]
[{"$f":"A7","v":"-"},null,null,{"$f":"('4.System Water Balance'!$H17/MAX('4.System Water Balance'!$H$28,0.001))*SUMPRODUCT(('8.Embodied Energy'!$B$31:$B$55=D$42)*'8.Embodied Energy'!$K$31:$K$55)*'5.Unit Costs'!$E$19","v":0},{"$f":"('4.System Water Balance'!$H37/MAX('4.System Water Balance'!$H$48,0.001))*SUMPRODUCT(('8.Embodied Energy'!$B$31:$B$55=E$42)*'8.Embodied Energy'!$K$31:$K$55)*'5.Unit Costs'!$E$19","v":0},{"$f":"SUMPRODUCT(('8.Embodied Energy'!$B$31:$B$55=$A43)*'8.Embodied Energy'!$K$31:$K$55)*'5.Unit Costs'!$E$19","v":0},null,null,null,null,null,null,null,{"$f":"SUM(D43:M43)","v":0}]
["-",null,null,{"$f":"('4.System Water Balance'!$H18/MAX('4.System Water Balance'!$H$28,0.001))*SUMPRODUCT(('8.Embodied Energy'!$B$31:$B$55=D$42)*'8.Embodied Energy'!$K$31:$K$55)*'5.Unit Costs'!$E$19","v":0},{"$f":"('4.System Water Balance'!$H38/MAX('4.System Water Balance'!$H$48,0.001))*SUMPRODUCT(('8.Embodied Energy'!$B$31:$B$55=E$42)*'8.Embodied Energy'!$K$31:$K$55)*'5.Unit Costs'!$E$19","v":0},{"$f":"SUMPRODUCT(('8.Embodied Energy'!$B$31:$B$55=$A44)*'8.Embodied Energy'!$K$31:$K$55)*'5.Unit Costs'!$E$19","v":0},null,null,null,null,null,null,null,{"$f":"SUM(D44:M44)","v":0}]
["-",null,null,{"$f":"('4.System Water Balance'!$H19/MAX('4.System Water Balance'!$H$28,0.001))*SUMPRODUCT(('8.Embodied Energy'!$B$31:$B$55=D$42)*'8.Embodied Energy'!$K$31:$K$55)*'5.Unit Costs'!$E$19","v":0},{"$f":"('4.System Water Balance'!$H39/MAX('4.System Water Balance'!$H$48,0.001))*SUMPRODUCT(('8.Embodied Energy'!$B$31:$B$55=E$42)*'8.Embodied Energy'!$K$31:$K$55)*'5.Unit Costs'!$E$19","v":0},{"$f":"SUMPRODUCT(('8.Embodied Energy'!$B$31:$B$55=$A45)*'8.Embodied Energy'!$K$31:$K$55)*'5.Unit Costs'!$E$19","v":0},null,null,null,null,null,null,null,0]
["-",null,null,{"$f":"('4.System Water Balance'!$H20/MAX('4.System Water Balance'!$H$28,0.001))*SUMPRODUCT(('8.Embodied Energy'!$B$31:$B$55=D$42)*'8.Embodied Energy'!$K$31:$K$55)*'5.Unit Costs'!$E$19","v":0},{"$f":"('4.System Water Balance'!$H40/MAX('4.System Water Balance'!$H$48,0.001))*SUMPRODUCT(('8.Embodied Energy'!$B$31:$B$55=E$42)*'8.Embodied Energy'!$K$31:$K$55)*'5.Unit Costs'!$E$19","v":0},{"$f":"SUMPRODUCT(('8.Embodied Energy'!$B$31:$B$55=$A46)*'8.Embodied Energy'!$K$31:$K$55)*'5.Unit Costs'!$E$19","v":0},null,null,null,null,null,null,null,0]
["-",null,null,{"$f":"('4.System Water Balance'!$H21/MAX('4.System Water Balance'!$H$28,0.001))*SUMPRODUCT(('8.Embodied Energy'!$B$31:$B$55=D$42)*'8.Embodied Energy'!$K$31:$K$55)*'5.Unit Costs'!$E$19","v":0},{"$f":"('4.System Water Balance'!$H41/MAX('4.System Water Balance'!$H$48,0.001))*SUMPRODUCT(('8.Embodied Energy'!$B$31:$B$55=E$42)*'8.Embodied Energy'!$K$31:$K$55)*'5.Unit Costs'!$E$19","v":0},{"$f":"SUMPRODUCT(('8.Embodied Energy'!$B$31:$B$55=$A47)*'8.Embodied Energy'!$K$31:$K$55)*'5.Unit Costs'!$E$19","v":0},null,null,null,null,null,null,null,0]
["-",null,null,{"$f":"('4.System Water Balance'!$H22/MAX('4.System Water Balance'!$H$28,0.001))*SUMPRODUCT(('8.Embodied Energy'!$B$31:$B$55=D$42)*'8.Embodied Energy'!$K$31:$K$55)*'5.Unit Costs'!$E$19","v":0},{"$f":"('4.System Water Balance'!$H42/MAX('4.System Water Balance'!$H$48,0.001))*SUMPRODUCT(('8.Embodied Energy'!$B$31:$B$55=E$42)*'8.Embodied Energy'!$K$31:$K$55)*'5.Unit Costs'!$E$19","v":0},{"$f":"SUMPRODUCT(('8.Embodied Energy'!$B$31:$B$55=$A48)*'8.Embodied Energy'!$K$31:$K$55)*'5.Unit Costs'!$E$19","v":0},null,null,null,null,null,null,null,0]
["-",null,null,{"$f":"('4.System Water Balance'!$H23/MAX('4.System Water Balance'!$H$28,0.001))*SUMPRODUCT(('8.Embodied Energy'!$B$31:$B$55=D$42)*'8.Embodied Energy'!$K$31:$K$55)*'5.Unit Costs'!$E$19","v":0},{"$f":"('4.System Water Balance'!$H43/MAX('4.System Water Balance'!$H$48,0.001))*SUMPRODUCT(('8.Embodied Energy'!$B$31:$B$55=E$42)*'8.Embodied Energy'!$K$31:$K$55)*'5.Unit Costs'!$E$19","v":0},{"$f":"SUMPRODUCT(('8.Embodied Energy'!$B$31:$B$55=$A49)*'8.Embodied Energy'!$K$31:$K$55)*'5.Unit Costs'!$E$19","v":0},null,null,null,null,null,null,null,0]
["-",null,null,{"$f":"('4.System Water Balance'!$H24/MAX('4.System Water Balance'!$H$28,0.001))*SUMPRODUCT(('8.Embodied Energy'!$B$31:$B$55=D$42)*'8.Embodied Energy'!$K$31:$K$55)*'5.Unit Costs'!$E$19","v":0},{"$f":"('4.System Water Balance'!$H44/MAX('4.System Water Balance'!$H$48,0.001))*SUMPRODUCT(('8.Embodied Energy'!$B$31:$B$55=E$42)*'8.Embodied Energy'!$K$31:$K$55)*'5.Unit Costs'!$E$19","v":0},{"$f":"SUMPRODUCT(('8.Embodied Energy'!$B$31:$B$55=$A50)*'8.Embodied Energy'!$K$31:$K$55)*'5.Unit Costs'!$E$19","v":0},null,null,null,null,null,null,null,0]
["-",null,null,{"$f":"('4.System Water Balance'!$H25/MAX('4.System Water Balance'!$H$28,0.001))*SUMPRODUCT(('8.Embodied Energy'!$B$31:$B$55=D$42)*'8.Embodied Energy'!$K$31:$K$55)*'5.Unit Costs'!$E$19","v":0},{"$f":"('4.System Water Balance'!$H45/MAX('4.System Water Balance'!$H$48,0.001))*SUMPRODUCT(('8.Embodied Energy'!$B$31:$B$55=E$42)*'8.Embodied Energy'!$K$31:$K$55)*'5.Unit Costs'!$E$19","v":0},{"$f":"SUMPRODUCT(('8.Embodied Energy'!$B$31:$B$55=$A51)*'8.Embodied Energy'!$K$31:$K$55)*'5.Unit Costs'!$E$19","v":0},null,null,null,null,null,null,null,0]
["-",null,null,{"$f":"('4.System Water Balance'!$H26/MAX('4.System Water Balance'!$H$28,0.001))*SUMPRODUCT(('8.Embodied Energy'!$B$31:$B$55=D$42)*'8.Embodied Energy'!$K$31:$K$55)*'5.Unit Costs'!$E$19","v":0},{"$f":"('4.System Water Balance'!$H46/MAX('4.System Water Balance'!$H$48,0.001))*SUMPRODUCT(('8.Embodied Energy'!$B$31:$B$55=E$42)*'8.Embodied Energy'!$K$31:$K$55)*'5.Unit Costs'!$E$19","v":0},{"$f":"SUMPRODUCT(('8.Embodied Energy'!$B$31:$B$55=$A52)*'8.Embodied Energy'!$K$31:$K$55)*'5.Unit Costs'!$E$19","v":0},null,null,null,null,null,null,null,0]
["-",null,null,{"$f":"('4.System Water Balance'!$H27/MAX('4.System Water Balance'!$H$28,0.001))*SUMPRODUCT(('8.Embodied Energy'!$B$31:$B$55=D$42)*'8.Embodied Energy'!$K$31:$K$55)*'5.Unit Costs'!$E$19","v":0},{"$f":"('4.System Water Balance'!$H47/MAX('4.System Water Balance'!$H$48,0.001))*SUMPRODUCT(('8.Embodied Energy'!$B$31:$B$55=E$42)*'8.Embodied Energy'!$K$31:$K$55)*'5.Unit Costs'!$E$19","v":0},{"$f":"SUMPRODUCT(('8.Embodied Energy'!$B$31:$B$55=$A53)*'8.Embodied Energy'!$K$31:$K$55)*'5.Unit Costs'!$E$19","v":0},null,null,null,null,null,null,null,0]
[{"$f":"'2.Plant Water Intake&Discharge'!B32","v":"ANNUAL TOTAL"},null,null,{"$f":"SUM(D43:D53)","v":0},0,0,null,null,null,null,null,null,null,{"$f":"SUM(N43:N53)","v":0}]
[]
[]
["Part 5, 6 and 7 Costs - True Cost of Water"]
["This table shows the true cost of water for each system in your plant as $ per year and $ per year per production unit."]
[{"$f":"'1.Plant Info'!B51","v":"Water-Using System"},null,null,{"$f":"HelperTab!A51","v":"$ per Year"},null,null,null,null,null,null,null,"$ per Year per Production Unit"]
[null,null,null,"Municipal Water Intake","Municipal Wastewater Disposal","Third Party Disposal","Water Treatment","Wastewater Treatment","Pump and Motor Energy","Heat Energy in Wastewater","Total"]
[{"$f":"A7","v":"-"},null,null,{"$f":"'True Cost'!I7+'True Cost'!J7+'True Cost'!K7","v":0},{"$f":"'True Cost'!L7","v":0},{"$f":"'True Cost'!M7","v":0},{"$f":"'True Cost'!I25","v":0},{"$f":"'True Cost'!O25","v":0},{"$f":"N43+M43","v":0},{"$f":"'8.Embodied Energy'!J14*'5.Unit Costs'!$E$20","v":0},{"$f":"SUM(D61:J61)","v":0},{"$f":"IFERROR(K61/'1.Plant Info'!$D$46,0)","v":0},{"$f":"K61/$K$72","v":{"$error":"#DIV/0!"}}]
["-",null,null,{"$f":"'True Cost'!I8+'True Cost'!J8+'True Cost'!K8","v":0},{"$f":"'True Cost'!L8","v":0},{"$f":"'True Cost'!M8","v":0},{"$f":"'True Cost'!I26","v":0},{"$f":"'True Cost'!O26","v":0},0,{"$f":"'8.Embodied Energy'!J15*'5.Unit Costs'!$E$20","v":0},0,{"$f":"IFERROR(K62/'1.Plant Info'!$D$46,0)","v":0},{"$error":"#DIV/0!"}]
["-",null,null,{"$f":"'True Cost'!I9+'True Cost'!J9+'True Cost'!K9","v":0},{"$f":"'True Cost'!L9","v":0},{"$f":"'True Cost'!M9","v":0},{"$f":"'True Cost'!I27","v":0},{"$f":"'True Cost'!O27","v":0},0,{"$f":"'8.Embodied Energy'!J16*'5.Unit Costs'!$E$20","v":0},0,{"$f":"IFERROR(K63/'1.Plant Info'!$D$46,0)","v":0},{"$error":"#DIV/0!"}]
["-",null,null,{"$f":"'True Cost'!I10+'True Cost'!J10+'True Cost'!K10","v":0},{"$f":"'True Cost'!L10","v":0},{"$f":"'True Cost'!M10","v":0},{"$f":"'True Cost'!I28","v":0},{"$f":"'True Cost'!O28","v":0},0,{"$f":"'8.Embodied Energy'!J17*'5.Unit Costs'!$E$20","v":0},0,{"$f":"IFERROR(K64/'1.Plant Info'!$D$46,0)","v":0},{"$error":"#DIV/0!"}]
["-",null,null,{"$f":"'True Cost'!I11+'True Cost'!J11+'True Cost'!K11","v":0},{"$f":"'True Cost'!L11","v":0},{"$f":"'True Cost'!M11","v":0},{"$f":"'True Cost'!I29","v":0},{"$f":"'True Cost'!O29","v":0},0,{"$f":"'8.Embodied Energy'!J18*'5.Unit Costs'!$E$20","v":0},0,{"$f":"IFERROR(K65/'1.Plant Info'!$D$46,0)","v":0},{"$error":"#DIV/0!"}]
["-",null,null,{"$f":"'True Cost'!I12+'True Cost'!J12+'True Cost'!K12","v":0},{"$f":"'True Cost'!L12","v":0},{"$f":"'True Cost'!M12","v":0},{"$f":"'True Cost'!I30","v":0},{"$f":"'True Cost'!O30","v":0},0,{"$f":"'8.Embodied Energy'!J19*'5.Unit Costs'!$E$20","v":0},0,{"$f":"IFERROR(K66/'1.Plant Info'!$D$46,0)","v":0},{"$error":"#DIV/0!"}]
["-",null,null,{"$f":"'True Cost'!I13+'True Cost'!J13+'True Cost'!K13","v":0},{"$f":"'True Cost'!L13","v":0},{"$f":"'True Cost'!M13","v":0},{"$f":"'True Cost'!I31","v":0},{"$f":"'True Cost'!O31","v":0},0,{"$f":"'8.Embodied Energy'!J20*'5.Unit Costs'!$E$20","v":0},0,{"$f":"IFERROR(K67/'1.Plant Info'!$D$46,0)","v":0},{"$error":"#DIV/0!"}]
["-",null,null,{"$f":"'True Cost'!I14+'True Cost'!J14+'True Cost'!K14","v":0},{"$f":"'True Cost'!L14","v":0},{"$f":"'True Cost'!M14","v":0},{"$f":"'True Cost'!I32","v":0},{"$f":"'True Cost'!O32","v":0},0,{"$f":"'8.Embodied Energy'!J21*'5.Unit Costs'!$E$20","v":0},0,{"$f":"IFERROR(K68/'1.Plant Info'!$D$46,0)","v":0},{"$error":"#DIV/0!"}]
["-",null,null,{"$f":"'True Cost'!I15+'True Cost'!J15+'True Cost'!K15","v":0},{"$f":"'True Cost'!L15","v":0},{"$f":"'True Cost'!M15","v":0},{"$f":"'True Cost'!I33","v":0},{"$f":"'True Cost'!O33","v":0},0,{"$f":"'8.Embodied Energy'!J22*'5.Unit Costs'!$E$20","v":0},0,{"$f":"IFERROR(K69/'1.Plant Info'!$D$46,0)","v":0},{"$error":"#DIV/0!"}]
["-",null,null,{"$f":"'True Cost'!I16+'True Cost'!J16+'True Cost'!K16","v":0},{"$f":"'True Cost'!L16","v":0},{"$f":"'True Cost'!M16","v":0},{"$f":"'True Cost'!I34","v":0},{"$f":"'True Cost'!O34","v":0},0,{"$f":"'8.Embodied Energy'!J23*'5.Unit Costs'!$E$20","v":0},0,{"$f":"IFERROR(K70/'1.Plant Info'!$D$46,0)","v":0},{"$error":"#DIV/0!"}]
["-",null,null,{"$f":"'True Cost'!I17+'True Cost'!J17+'True Cost'!K17","v":0},{"$f":"'True Cost'!L17","v":0},{"$f":"'True Cost'!M17","v":0},{"$f":"'True Cost'!I35","v":0},{"$f":"'True Cost'!O35","v":0},0,{"$f":"'8.Embodied Energy'!J24*'5.Unit Costs'!$E$20","v":0},0,{"$f":"IFERROR(K71/'1.Plant Info'!$D$46,0)","v":0},{"$error":"#DIV/0!"}]
[{"$f":"'2.Plant Water Intake&Discharge'!B32","v":"ANNUAL TOTAL"},null,null,{"$f":"SUM(D61:D71)","v":0},0,0,0,0,0,0,0,0,{"$error":"#DIV/0!"}]
[null,null,null,{"$f":"D72/$K$72","v":{"$error":"#DIV/0!"}},{"$error":"#DIV/0!"},{"$error":"#DIV/0!"},{"$error":"#DIV/0!"},{"$error":"#DIV/0!"},{"$error":"#DIV/0!"},{"$error":"#DIV/0!"},{"$error":"#DIV/0!"}]

{"sheet":"5.Unit Costs","index":8,"n_rows":46,"n_cols":20,"rows_kept":46,"cut":false,"hidden":false,"merged":[[11,1,11,3],[12,1,12,3],[13,1,13,3],[14,1,14,3],[37,1,37,3],[15,1,15,3],[16,1,16,3],[17,1,17,3],[18,1,18,3],[19,1,19,3],[28,6,28,9],[41,6,41,9],[42,6,42,9],[43,6,43,9],[44,6,44,9],[45,6,45,9],[37,6,37,9],[38,6,38,9],[39,6,39,9],[40,6,40,9],[27,6,27,9],[24,1,24,3],[15,6,15,9],[16,6,16,9],[17,6,17,9],[18,6,18,9],[19,6,19,9],[22,1,22,9],[24,6,24,9],[25,6,25,9],[26,6,26,9],[7,1,7,9],[2,1,2,9],[0,2,0,7],[35,1,35,9],[36,1,36,9],[23,1,23,9],[10,1,10,9],[9,1,9,9],[29,6,29,9],[30,6,30,9],[31,6,31,9],[32,6,32,9],[11,6,11,9],[12,6,12,9],[13,6,13,9],[14,6,14,9]]}
[null,null,"Unit Cost Data"]
[]
[null,{"$f":"HelperTab!$B$29","v":"User Input Instructions"}]
[null,{"$f":"HelperTab!B30","v":"Yellow"},{"$f":"HelperTab!C30","v":"Please input data ONLY in the yellow cells."}]
[null,{"$f":"HelperTab!B31","v":"Orange"},{"$f":"HelperTab!C31","v":"Please select from the drop-down menu in the orange cells."}]
[null,{"$f":"HelperTab!B32","v":"Tan"},{"$f":"HelperTab!C32","v":"Please DO NOT enter any data or delete values in the tan cells. They contain formulae."}]
[null,{"$f":"HelperTab!B34","v":"Gray"},{"$f":"HelperTab!C34","v":"Please DO NOT enter any data in the gray cells. They are not applicable to your plant."},null,null,null,null,null,null,null,null,null,null,null,null,null,null,"Water Treatment","Typical Range","Source"]
[null,{"$f":"HelperTab!$B$35","v":"Please give your best estimate if the exact data is not known."},null,null,null,null,null,null,null,null,null,null,null,null,null,null,null,"Sand Filtration","~$0.04","Urban Water Reuse Handbook, Saeid Eslamian - 2016, Page 161"]
[null,null,null,null,null,null,null,null,null,null,null,null,null,null,null,null,null,"Bag Filtration","$0.07–$0.17","https://nepis.epa.gov/Exe/ZyPDF.cgi?Dockey=P100LZ09.txt"]
[null,"Part 5.1 - Utility Cost",null,null,null,null,null,null,null,null,null,null,null,null,null,null,null,"Cartridge Filtration","$0.17–$0.28","https://nepis.epa.gov/Exe/ZyPDF.cgi?Dockey=P100LZ09.txt"]
[null,"Please select all utilities that are relevant to your plant and enter the unit cost. For utilities that have fixed costs associated, determine the unit cost by dividing the total cost incurred in a year by the quantity of water, wastewater or fuel it was charged for. ",null,null,null,null,null,null,null,null,null,null,null,null,null,null,null,"Chemical Treatment of Cooling Tower Makeup Water","$0.30–$3.50","Source: Kiran Thirumaran"]
[null,"Utility",null,null,"Cost ($)","Unit","Comments",null,null,null,null,null,null,null,null,null,null,"Granular Activated Carbon Adsorption (GAC)","$0.86–$5.95","https://nepis.epa.gov/Exe/ZyPDF.cgi?Dockey=P100LZ09.txt"]
[false,"Municipal Water - Potable",null,null,null,"per kGal",null,null,null,null,null,null,null,null,null,null,null,"Chlorination","$0.17–$1.69","https://nepis.epa.gov/Exe/ZyPDF.cgi?Dockey=P100LZ09.txt"]
[false,"Municipal Water - Nonpotable",null,null,null,"per kGal",null,null,null,null,null,null,null,null,null,null,null,"Ozonization","$1.05–$8.72","https://nepis.epa.gov/Exe/ZyPDF.cgi?Dockey=P100LZ09.txt"]
[false,"Municipal Water - Other",null,null,null,"per kGal",null,null,null,null,null,null,null,null,null,null,null,"UV Filtration","$0.23–$1.84","https://nepis.epa.gov/Exe/ZyPDF.cgi?Dockey=P100LZ09.txt"]
[false,"Municipal Wastewater Disposal",null,null,null,"per kGal",null,null,null,null,null,null,null,null,null,null,null,"Ion Exchange Softening","$0.30–$0.80","https://frtr.gov/matrix2/section4/4-49.html"]
[false,"Third-Party Disposal",null,null,null,"per kGal",null,null,null,null,null,null,null,null,null,null,null,"Lime Softening","Not Available"]
[false,"Stormwater Charge",null,null,null,"per kGal",null,null,null,null,null,null,null,null,null,null,null,"Membrane Filtration","$0.75–$6.50","https://www.samcotech.com/cost-to-properly-maintain-membrane-filtration-systems/"]
[false,"Electricity",null,null,null,"per kWh",null,null,null,null,null,null,null,null,null,null,null,"Microfiltration","$1.38–$3.96","https://nepis.epa.gov/Exe/ZyPDF.cgi?Dockey=P100LZ09.txt"]
[false,"Natural Gas",null,null,null,"per MMBtu",null,null,null,null,null,null,null,null,null,null,null,"Ultrafiltration","$1.38–$3.96","https://nepis.epa.gov/Exe/ZyPDF.cgi?Dockey=P100LZ09.txt"]
[null,null,null,null,null,null,null,null,null,null,null,null,null,null,null,null,null,"Reverse Osmosis",{"$f":"S18","v":"$0.75–$6.50"},"https://www.samcotech.com/cost-to-properly-maintain-membrane-filtration-systems/"]
[null,null,null,null,null,null,null,null,null,null,null,null,null,null,null,null,null,"Nanofiltration","$1.36–$2.61","https://nepis.epa.gov/Exe/ZyPDF.cgi?Dockey=P100LZ09.txt"]
[null,"Part 5.2 - Water Treatment Cost",null,null,null,null,null,null,null,null,null,null,null,null,null,null,null,"Other","Not Available"]
[null,"Please indicate all water treatment processes that are used in your plant. Select from the dropdown menu and enter cost in the highlighed cell. You may select Other and type the name if not listed as a dropdown option. For determining the cost in $ per kGal, you may divide the sum of all costs incurred in a year for a water treatment process by the quantity of water that was treated. Include the costs of chemicals, energy input (e.g., heating, cooling, pumping), operation and maintenance, and otherwise.  ",null,null,null,null,null,null,null,null,null,null,null,null,null,null,null,"WW Treatment","Typical Range"]
[null,"Water Treatment Process",null,null,"Typical Range","Cost ($ per kGal)","Comments",null,null,null,null,null,null,null,null,null,null,"Screening and Grit Removal","Not Available"]
[null,null,null,null,{"$f":"IFERROR(INDEX($R$8:$S$23,MATCH($B26,$R$8:$R$23,0),2),\"\")","v":""},null,null,null,null,null,null,null,null,null,null,{"$f":"IF($B26=$R$23,IF(ISBLANK($C26),\"Other\",$C26),IF(ISBLANK($B26),\"\",$B26))","v":""},{"$f":"F26","v":0},"Flow Equalization","Not Available"]
[null,null,null,null,"",null,null,null,null,null,null,null,null,null,null,"",0,"Oil/Water Separation","Not Available"]
[null,null,null,null,"",null,null,null,null,null,null,null,null,null,null,"",0,"Neutralization","Not Available"]
[null,null,null,null,"",null,null,null,null,null,null,null,null,null,null,"",0,"Coagulation/Flocculation","Not Available"]
[null,null,null,null,"",null,null,null,null,null,null,null,null,null,null,"",0,"Clarification (Settling, Sedimentation)","Not Available"]
[null,null,null,null,"",null,null,null,null,null,null,null,null,null,null,"",0,"Flotation","Not Available"]
[null,null,null,null,"",null,null,null,null,null,null,null,null,null,null,"",0,"Dissolved Air Flotation","Not Available"]
[null,null,null,null,"",null,null,null,null,null,null,null,null,null,null,"",0,"Membrane Bioreactor (MBR)","Not Available"]
[null,null,null,null,null,null,null,null,null,null,null,null,null,null,null,null,null,"Activated Sludge / Aerobic Lagoon","Not Available"]
[null,null,null,null,null,null,null,null,null,null,null,null,null,null,null,null,null,"Anaerobic Logoon","Not Available"]
[null,"Part 5.3 - Wastewater Treatment Cost",null,null,null,null,null,null,null,null,null,null,null,null,null,null,null,"Trickling Filter","Not Available"]
[null,"Please indicate all wastewater treatment processes that are used in your plant. Select from the dropdown menu and enter cost in the highlighed cell. You may select Other and type the name if not listed as a dropdown option. For determining the cost in $ per kGal, you may divide the sum of all costs incurred in a year for a wastewater treatment process divided by the quantity of wastewater that was treated. Include the costs of chemicals, energy input (e.g., heating, cooling, pumping), operation and maintenance, and otherwise.  ",null,null,null,null,null,null,null,null,null,null,null,null,null,null,null,"Biological Nutrient Removal (BNR)","$8.20–$61.80"]
[null,"Wastewater Treatment Process",null,null,"Typical Range","Cost ($ per kGal)","Comments",null,null,null,null,null,null,null,null,null,null,"Sand Filtration","Not Available"]
[null,null,null,null,{"$f":"IFERROR(INDEX($R$25:$S$40,MATCH($B39,$R$25:$R$40,0),2),\"\")","v":""},null,null,null,null,null,null,null,null,null,null,{"$f":"IF($B39=$R$23,IF(ISBLANK($C39),\"Other\",$C39),IF(ISBLANK($B39),\"\",$B39))","v":""},{"$f":"F39","v":0},"Alkaline Chlorination","Not Available"]
[null,null,null,null,"",null,null,null,null,null,null,null,null,null,null,"",0,{"$f":"R23","v":"Other"},"Not Available"]
[null,null,null,null,"",null,null,null,null,null,null,null,null,null,null,"",0]
[null,null,null,null,"",null,null,null,null,null,null,null,null,null,null,"",0]
[null,null,null,null,"",null,null,null,null,null,null,null,null,null,null,"",0]
[null,null,null,null,"",null,null,null,null,null,null,null,null,null,null,"",0]
[null,null,null,null,"",null,null,null,null,null,null,null,null,null,null,"",0]
[null,null,null,null,"",null,null,null,null,null,null,null,null,null,null,"",0]

{"sheet":"6.System Water Intake&Discharge","index":9,"n_rows":46,"n_cols":27,"rows_kept":46,"cut":false,"hidden":false,"merged":[[29,9,30,12],[29,1,29,8],[30,1,30,8],[0,2,0,10],[2,1,2,12],[8,1,8,11],[25,1,25,3],[26,1,26,3],[24,1,24,3],[18,1,18,3],[19,1,19,3],[12,1,14,3],[23,1,23,3],[22,1,22,3],[9,5,9,8],[21,1,21,3],[11,1,11,8],[10,9,11,12],[10,1,10,8],[13,5,14,5],[13,6,14,6],[13,7,14,7],[13,8,14,8],[13,9,14,9],[13,10,14,10],[13,11,14,11],[12,5,12,11],[27,1,27,4],[12,12,14,12],[12,4,14,4],[13,26,14,26],[12,19,12,26],[13,19,14,19],[13,20,14,20],[15,1,15,3],[20,1,20,3],[16,1,16,3],[17,1,17,3],[41,1,41,3],[42,1,42,3],[43,1,43,3],[33,1,33,3],[34,1,34,3],[35,1,35,3],[36,1,36,3],[45,1,45,4],[31,19,31,25],[13,21,14,21],[13,22,14,22],[13,23,14,23],[13,24,14,24],[13,25,14,25],[31,11,32,11],[31,5,31,10],[31,4,32,4],[44,1,44,3],[31,1,32,3],[37,1,37,3],[38,1,38,3],[39,1,39,3],[40,1,40,3]]}
[null,null,"System Water Intake & Wastewater Discharge"]
[]
[null,{"$f":"HelperTab!$B$29","v":"User Input Instructions"}]
[null,{"$f":"HelperTab!B30","v":"Yellow"},{"$f":"HelperTab!C30","v":"Please input data ONLY in the yellow cells."}]
[null,{"$f":"HelperTab!B31","v":"Orange"},{"$f":"HelperTab!C31","v":"Please select from the drop-down menu in the orange cells."}]
[null,{"$f":"HelperTab!B32","v":"Tan"},{"$f":"HelperTab!C32","v":"Please DO NOT enter any data or delete values in the tan cells. They contain formulae."}]
[null,{"$f":"HelperTab!B33","v":"Purple"},{"$f":"HelperTab!C33","v":"Please DO NOT enter any data in the purple cells. They show values calculated elsewhere for guiding user input and cross-checking results."}]
[null,{"$f":"HelperTab!B34","v":"Gray"},{"$f":"HelperTab!C34","v":"Please DO NOT enter any data in the gray cells. They are not applicable to your plant."}]
[null,{"$f":"HelperTab!$B$35","v":"Please give your best estimate if the exact data is not known."}]
[]
[null,"Part 6.1 - System's Source Water Intake"]
[null,"For EACH applicable water-using system, please provide percent estimate of source water intake from different sources, such that the sum of each row is 100%. For each system, source water combining all sources calculated in Part 4.1 is shown in the second columns (tan cells), which is multiplied by percent inputs (in yellow cells) to calculate total water intake for each source."]
[null,{"$f":"'1.Plant Info'!B51","v":"Water-Using System"},null,null,"Source Water Intake (Million Gallon per Year)","Source Water Intake (% of Total)",null,null,null,null,null,null,"TOTAL (should add to 100%)",null,null,null,null,null,null,{"$f":"HelperTab!A50","v":"Million Gallon per Year"}]
[null,null,null,null,null,{"$f":"'2.Plant Water Intake&Discharge'!C$17&\": \"&'2.Plant Water Intake&Discharge'!C$18","v":"Municipal Water: Potable"},{"$f":"'2.Plant Water Intake&Discharge'!D$17&\": \"&'2.Plant Water Intake&Discharge'!D$18","v":"Municipal Water: Nonpotable"},{"$f":"'2.Plant Water Intake&Discharge'!E$17&\": \"&'2.Plant Water Intake&Discharge'!E$18","v":"Municipal Water: "},{"$f":"'2.Plant Water Intake&Discharge'!F$17&\": \"&'2.Plant Water Intake&Discharge'!F$18","v":"River or Lake: "},{"$f":"'2.Plant Water Intake&Discharge'!G$17&\": \"&'2.Plant Water Intake&Discharge'!G$18","v":"Ocean or Tide: "},{"$f":"'2.Plant Water Intake&Discharge'!H$17&\": \"&'2.Plant Water Intake&Discharge'!H$18","v":"Groundwater: "},{"$f":"'2.Plant Water Intake&Discharge'!I$17&\": \"&'2.Plant Water Intake&Discharge'!I$18","v":"Other: "},null,null,null,null,null,null,null,{"$f":"F14","v":"Municipal Water: Potable"},"Municipal Water: Nonpotable","Municipal Water: ","River or Lake: ","Ocean or Tide: ","Groundwater: ","Other: ","Total"]
[]
[null,{"$f":"IF('1.Plant Info'!N53=\"Yes\",'1.Plant Info'!B53&\" \"&'1.Plant Info'!D53,\"-\")","v":"-"},null,null,{"$f":"'4.System Water Balance'!H17","v":0},null,null,null,null,null,null,null,{"$f":"SUM(F16:L16)","v":0},null,null,null,null,null,null,{"$f":"$E16*F16","v":0},{"$f":"$E16*G16","v":0},{"$f":"$E16*H16","v":0},{"$f":"$E16*I16","v":0},{"$f":"$E16*J16","v":0},{"$f":"$E16*K16","v":0},{"$f":"$E16*L16","v":0},{"$f":"SUM(T16:Z16)","v":0}]
[null,{"$f":"IF('1.Plant Info'!N54=\"Yes\",'1.Plant Info'!B53&\" \"&'1.Plant Info'!D54,\"-\")","v":"-"},null,null,{"$f":"'4.System Water Balance'!H18","v":0},null,null,null,null,null,null,null,{"$f":"SUM(F17:L17)","v":0},null,null,null,null,null,null,0,0,0,0,0,0,0,0]
[null,{"$f":"IF('1.Plant Info'!N55=\"Yes\",'1.Plant Info'!B53&\" \"&'1.Plant Info'!D55,\"-\")","v":"-"},null,null,{"$f":"'4.System Water Balance'!H19","v":0},null,null,null,null,null,null,null,0,null,null,null,null,null,null,0,0,0,0,0,0,0,0]
[null,{"$f":"IF('1.Plant Info'!N56=\"Yes\",'1.Plant Info'!B56&\" \"&'1.Plant Info'!D56,\"-\")","v":"-"},null,null,{"$f":"'4.System Water Balance'!H20","v":0},null,null,null,null,null,null,null,0,null,null,null,null,null,null,0,0,0,0,0,0,0,0]
[null,{"$f":"IF('1.Plant Info'!N57=\"Yes\",'1.Plant Info'!B56&\" \"&'1.Plant Info'!D57,\"-\")","v":"-"},null,null,{"$f":"'4.System Water Balance'!H21","v":0},null,null,null,null,null,null,null,0,null,null,null,null,null,null,0,0,0,0,0,0,0,0]
[null,{"$f":"IF('1.Plant Info'!N58=\"Yes\",'1.Plant Info'!B56&\" \"&'1.Plant Info'!D58,\"-\")","v":"-"},null,null,{"$f":"'4.System Water Balance'!H22","v":0},null,null,null,null,null,null,null,0,null,null,null,null,null,null,0,0,0,0,0,0,0,0]
[null,{"$f":"IF('1.Plant Info'!N59=\"Yes\",'1.Plant Info'!B59&\" \"&'1.Plant Info'!D59,\"-\")","v":"-"},null,null,{"$f":"'4.System Water Balance'!H23","v":0},null,null,null,null,null,null,null,0,null,null,null,null,null,null,0,0,0,0,0,0,0,0]
[null,{"$f":"IF('1.Plant Info'!N60=\"Yes\",'1.Plant Info'!B59&\" \"&'1.Plant Info'!D60,\"-\")","v":"-"},null,null,{"$f":"'4.System Water Balance'!H24","v":0},null,null,null,null,null,null,null,0,null,null,null,null,null,null,0,0,0,0,0,0,0,0]
[null,{"$f":"IF('1.Plant Info'!N61=\"Yes\",'1.Plant Info'!B61,\"-\")","v":"-"},null,null,{"$f":"'4.System Water Balance'!H25","v":0},null,null,null,null,null,null,null,0,null,null,null,null,null,null,0,0,0,0,0,0,0,0]
[null,{"$f":"IF('1.Plant Info'!N62=\"Yes\",'1.Plant Info'!B62,\"-\")","v":"-"},null,null,{"$f":"'4.System Water Balance'!H26","v":0},null,null,null,null,null,null,null,0,null,null,null,null,null,null,0,0,0,0,0,0,0,0]
[null,{"$f":"IF('1.Plant Info'!N63=\"Yes\",'1.Plant Info'!B63&\" \"&'1.Plant Info'!D63,\"-\")","v":"-"},null,null,{"$f":"'4.System Water Balance'!H27","v":0},null,null,null,null,null,null,null,0,null,null,null,null,null,null,0,0,0,0,0,0,0,0]
[null,"TOTAL (Million Gallon per Year)",null,null,{"$f":"SUM(E16:E26)","v":0},{"$f":"SUMPRODUCT($E16:$E26*F16:F26)","v":0},{"$f":"SUMPRODUCT($E16:$E26*G16:G26)","v":0},0,0,0,0,0,null,null,null,null,null,null,null,{"$f":"SUM(T16:T26)","v":0},0,0,0,0,0,0,{"$f":"SUM(AA16:AA26)","v":0}]
[null,"Note: For EACH source, system-level TOTAL for Source Water Intake should closely match with plant-level ANNUAL TOTAL calculated in Part 2.1,  also shown here in the purple cells.",null,null,null,{"$f":"'2.Plant Water Intake&Discharge'!C32","v":0},{"$f":"'2.Plant Water Intake&Discharge'!D32","v":0},{"$f":"'2.Plant Water Intake&Discharge'!E32","v":0},{"$f":"'2.Plant Water Intake&Discharge'!F32","v":0},{"$f":"'2.Plant Water Intake&Discharge'!G32","v":0},{"$f":"'2.Plant Water Intake&Discharge'!H32","v":0},{"$f":"'2.Plant Water Intake&Discharge'!I32","v":0}]
[]
[null,"Part 6.2 - System's Wastewater Discharge"]
[null,"For EACH applicable water-using system, please provide the percent estimate of wastewater discharge to different paths, such that the sum of each row is 100%. For each system, wastewater discharge combining all wastewater streams calculated in Part 4.2 is shown in the second column (tan cells), which is multiplied by percent inputs (in yellow cells) to calculate total wastewater discharge for each path."]
[null,{"$f":"B13","v":"Water-Using System"},null,null,"Wastewater Discharge (Million Gallon per Year)","Wastewater Discharge (% of Total)",null,null,null,null,null,"TOTAL (should add to 100%)",null,null,null,null,null,null,null,{"$f":"HelperTab!A50","v":"Million Gallon per Year"}]
[null,null,null,null,null,{"$f":"'2.Plant Water Intake&Discharge'!C42","v":"Municipal Sewer"},{"$f":"'2.Plant Water Intake&Discharge'!D42","v":"Third-party Disposal"},{"$f":"'2.Plant Water Intake&Discharge'!E42","v":"River or Lake"},{"$f":"'2.Plant Water Intake&Discharge'!F42","v":"Ocean or Tide"},{"$f":"'2.Plant Water Intake&Discharge'!G42","v":"Groundwater"},{"$f":"'2.Plant Water Intake&Discharge'!H42","v":"Onsite Disposal"},null,null,null,null,null,null,null,null,{"$f":"F33","v":"Municipal Sewer"},"Third-party Disposal","River or Lake","Ocean or Tide","Groundwater","Onsite Disposal","Total"]
[null,{"$f":"B16","v":"-"},null,null,{"$f":"'4.System Water Balance'!H37","v":0},null,null,null,null,null,null,{"$f":"SUM(F34:K34)","v":0},null,null,null,null,null,null,null,{"$f":"$E34*F34","v":0},{"$f":"$E34*G34","v":0},{"$f":"$E34*H34","v":0},{"$f":"$E34*I34","v":0},{"$f":"$E34*J34","v":0},{"$f":"$E34*K34","v":0},{"$f":"SUM(T34:Y34)","v":0}]
[null,"-",null,null,{"$f":"'4.System Water Balance'!H38","v":0},null,null,null,null,null,null,{"$f":"SUM(F35:K35)","v":0},null,null,null,null,null,null,null,0,0,0,0,0,0,{"$f":"SUM(T35:Y35)","v":0}]
[null,"-",null,null,{"$f":"'4.System Water Balance'!H39","v":0},null,null,null,null,null,null,0,null,null,null,null,null,null,null,0,0,0,0,0,0,0]
[null,"-",null,null,{"$f":"'4.System Water Balance'!H40","v":0},null,null,null,null,null,null,0,null,null,null,null,null,null,null,0,0,0,0,0,0,0]
[null,"-",null,null,{"$f":"'4.System Water Balance'!H41","v":0},null,null,null,null,null,null,0,null,null,null,null,null,null,null,0,0,0,0,0,0,0]
[null,"-",null,null,{"$f":"'4.System Water Balance'!H42","v":0},null,null,null,null,null,null,0,null,null,null,null,null,null,null,0,0,0,0,0,0,0]
[null,"-",null,null,{"$f":"'4.System Water Balance'!H43","v":0},null,null,null,null,null,null,0,null,null,null,null,null,null,null,0,0,0,0,0,0,0]
[null,"-",null,null,{"$f":"'4.System Water Balance'!H44","v":0},null,null,null,null,null,null,0,null,null,null,null,null,null,null,0,0,0,0,0,0,0]
[null,"-",null,null,{"$f":"'4.System Water Balance'!H45","v":0},null,null,null,null,null,null,0,null,null,null,null,null,null,null,0,0,0,0,0,0,0]
[null,"-",null,null,{"$f":"'4.System Water Balance'!H46","v":0},null,null,null,null,null,null,0,null,null,null,null,null,null,null,0,0,0,0,0,0,0]
[null,"-",null,null,{"$f":"'4.System Water Balance'!H47","v":0},null,null,null,null,null,null,0,null,null,null,null,null,null,null,0,0,0,0,0,0,0]
[null,"TOTAL (Million Gallon per Year)",null,null,{"$f":"SUM(E34:E44)","v":0},{"$f":"SUMPRODUCT($E34:$E44*F34:F44)","v":0},{"$f":"SUMPRODUCT($E34:$E44*G34:G44)","v":0},0,0,0,0,null,null,null,null,null,null,null,null,{"$f":"SUM(T34:T44)","v":0},0,0,0,0,0,0]
[null,"Note: For EACH outlet, system-level TOTAL for Wastewater Discharge should closely match with plant-level ANNUAL TOTAL calculated in Part 2.2,  also shown here in the purple cells.",null,null,null,{"$f":"'2.Plant Water Intake&Discharge'!C56","v":0},{"$f":"'2.Plant Water Intake&Discharge'!D56","v":0},{"$f":"'2.Plant Water Intake&Discharge'!E56","v":0},{"$f":"'2.Plant Water Intake&Discharge'!F56","v":0},{"$f":"'2.Plant Water Intake&Discharge'!G56","v":0},{"$f":"'2.Plant Water Intake&Discharge'!H56","v":0}]

{"sheet":"7.Water&Wastewater Treatment","index":10,"n_rows":186,"n_cols":19,"rows_kept":186,"cut":false,"hidden":false,"merged":[[174,18,179,18],[176,4,176,5],[177,4,177,5],[149,4,149,5],[154,4,154,5],[155,4,155,5],[160,4,160,5],[161,4,161,5],[166,4,166,5],[156,16,161,16],[156,17,161,17],[156,18,161,18],[162,13,167,13],[162,14,167,14],[162,15,167,15],[162,16,167,16],[162,17,167,17],[162,18,167,18],[144,13,149,13],[159,4,159,5],[164,4,164,5],[165,4,165,5],[170,4,170,5],[180,18,185,18],[126,1,131,3],[132,1,137,3],[138,1,143,3],[144,1,149,3],[150,1,155,3],[156,1,161,3],[162,1,167,3],[168,1,173,3],[174,1,179,3],[168,13,173,13],[168,14,173,14],[168,15,173,15],[168,16,173,16],[168,17,173,17],[168,18,173,18],[156,13,161,13],[156,14,161,14],[156,15,161,15],[174,13,179,13],[174,14,179,14],[174,15,179,15],[174,16,179,16],[174,17,179,17],[138,18,143,18],[144,14,149,14],[144,15,149,15],[144,16,149,16],[144,17,149,17],[144,18,149,18],[150,13,155,13],[150,14,155,14],[150,15,155,15],[150,16,155,16],[150,17,155,17],[150,18,155,18],[138,13,143,13],[138,14,143,14],[138,15,143,15],[138,16,143,16],[120,18,125,18],[126,13,131,13],[126,14,131,14],[126,15,131,15],[126,16,131,16],[126,17,131,17],[126,18,131,18],[132,13,137,13],[132,14,137,14],[132,15,137,15],[132,16,137,16],[132,17,137,17],[132,18,137,18],[120,13,125,13],[120,14,125,14],[120,15,125,15],[120,16,125,16],[180,13,185,13],[180,14,185,14],[180,15,185,15],[180,16,185,16],[118,7,118,11],[124,4,124,5],[125,4,125,5],[174,4,174,5],[175,4,175,5],[144,4,144,5],[145,4,145,5],[138,4,138,5],[139,4,139,5],[140,4,140,5],[141,4,141,5],[130,4,130,5],[131,4,131,5],[136,4,136,5],[137,4,137,5],[135,4,135,5],[118,13,118,17],[120,17,125,17],[138,17,143,17],[180,17,185,17],[180,1,185,3],[184,4,184,5],[185,4,185,5],[178,4,178,5],[179,4,179,5],[120,4,120,5],[120,1,125,3],[169,4,169,5],[147,4,147,5],[152,4,152,5],[153,4,153,5],[158,4,158,5],[151,4,151,5],[156,4,156,5],[157,4,157,5],[162,4,162,5],[163,4,163,5],[168,4,168,5],[146,4,146,5],[142,4,142,5],[143,4,143,5],[148,4,148,5],[132,4,132,5],[133,4,133,5],[14,4,14,5],[21,4,21,5],[111,4,111,5],[112,4,112,5],[182,4,182,5],[183,4,183,5],[180,4,180,5],[181,4,181,5],[117,6,119,6],[86,4,86,5],[93,4,93,5],[94,4,94,5],[95,4,95,5],[102,4,102,5],[103,4,103,5],[104,4,104,5],[171,4,171,5],[128,4,128,5],[129,4,129,5],[134,4,134,5],[167,4,167,5],[172,4,172,5],[173,4,173,5],[150,4,150,5],[66,4,66,5],[59,4,59,5],[59,1,67,3],[68,1,76,3],[77,1,85,3],[68,4,68,5],[67,4,67,5],[126,4,126,5],[127,4,127,5],[117,4,119,5],[86,1,94,3],[95,1,103,3],[104,1,112,3],[123,4,123,5],[117,1,119,3],[77,4,77,5],[76,4,76,5],[75,4,75,5],[121,4,121,5],[122,4,122,5],[84,4,84,5],[77,17,85,17],[68,15,76,15],[11,1,13,3],[14,1,22,3],[23,1,31,3],[22,4,22,5],[23,4,23,5],[30,4,30,5],[31,4,31,5],[39,4,39,5],[40,4,40,5],[11,4,13,5],[85,4,85,5],[32,4,32,5],[50,4,50,5],[57,4,57,5],[58,4,58,5],[32,1,40,3],[41,1,49,3],[11,13,11,18],[50,1,58,3],[41,4,41,5],[48,4,48,5],[49,4,49,5],[118,18,119,18],[14,18,22,18],[41,18,49,18],[50,18,58,18],[59,18,67,18],[68,18,76,18],[77,18,85,18],[86,18,94,18],[95,18,103,18],[23,18,31,18],[32,18,40,18],[117,13,117,18],[68,16,76,16],[86,17,94,17],[68,14,76,14],[14,17,22,17],[41,14,49,14],[41,15,49,15],[41,16,49,16],[41,17,49,17],[14,15,22,15],[14,16,22,16],[14,14,22,14],[50,14,58,14],[95,17,103,17],[104,14,112,14],[104,15,112,15],[104,16,112,16],[104,17,112,17],[95,15,103,15],[95,14,103,14],[95,16,103,16],[86,14,94,14],[117,7,117,11],[14,13,22,13],[7,1,7,11],[2,1,2,11],[12,13,12,17],[12,7,12,11],[23,14,31,14],[23,15,31,15],[23,16,31,16],[23,17,31,17],[59,13,67,13],[68,13,76,13],[77,13,85,13],[86,13,94,13],[59,14,67,14],[59,15,67,15],[59,16,67,16],[59,17,67,17],[86,15,94,15],[86,16,94,16],[95,13,103,13],[104,13,112,13],[68,17,76,17],[77,14,85,14],[0,13,10,18],[9,8,10,11],[9,1,9,7],[10,1,10,7],[115,8,116,11],[115,1,115,7],[116,1,116,7],[11,7,11,11],[11,6,13,6],[104,18,112,18],[12,18,13,18],[32,13,40,13],[32,14,40,14],[32,15,40,15],[32,16,40,16],[32,17,40,17],[41,13,49,13],[50,13,58,13],[50,17,58,17],[50,15,58,15],[50,16,58,16],[23,13,31,13],[77,15,85,15],[77,16,85,16]]}
[null,null,null,"Onsite Water & Wastewater Treatment",null,null,null,null,null,null,null,null,null,"MACRO:\n\nPrivate Sub Worksheet_Activate()\n\nDim c As Range\nApplication.ScreenUpdating = False\nThisWorkbook.Worksheets(\"7.Water&Wastewater Treatment\").Unprotect\n\n\nFor Each c In Range(\"A11:A187\")\nIf c.Value = \"1\" Then\nc.EntireRow.Hidden = True\nElse\nc.EntireRow.Hidden = False\nEnd If\nNext c\nThisWorkbook.Worksheets(\"7.Water&Wastewater Treatment\").Protect\nApplication.ScreenUpdating = True\n\nEnd Sub"]
[]
[null,{"$f":"HelperTab!$B$29","v":"User Input Instructions"}]
[null,{"$f":"HelperTab!B30","v":"Yellow"},{"$f":"HelperTab!C30","v":"Please input data ONLY in the yellow cells."}]
[null,{"$f":"HelperTab!B31","v":"Orange"},{"$f":"HelperTab!C31","v":"Please select from the drop-down menu in the orange cells."}]
[null,{"$f":"HelperTab!B32","v":"Tan"},{"$f":"HelperTab!C32","v":"Please DO NOT enter any data or delete values in the tan cells. They contain formulae."}]
[null,{"$f":"HelperTab!B34","v":"Gray"},{"$f":"HelperTab!C34","v":"Please DO NOT enter any data in the gray cells. They are not applicable to your plant."}]
[null,{"$f":"HelperTab!$B$35","v":"Please give your best estimate if the exact data is not known."}]
[]
[null,{"$f":"\"Part 7.1 - Onsite Water Treatment\"&IF($A$11=1,\" (Not Applicable)\",\"\")","v":"Part 7.1 - Onsite Water Treatment (Not Applicable)"},null,null,null,null,null,null,{"$f":"IF(A11=1,\"Not Applicable\",\"\")","v":"Not Applicable"}]
[{"$f":"IF('1.Plant Info'!N64<>\"Yes\",1,0)","v":1},"Please select water treatment processes from the drop-down list for your plant. Enter a percent estimate of water that is treated for applicable incoming water categories. For example, if \"Process A\" receives water from \"River,\" all of which undergoes \"Water Treatment Process 1\" and \"Water Treatment Process 2,\" enter 100% in both cells of that row."]
[{"$f":"$A$11","v":1},{"$f":"'1.Plant Info'!B51","v":"Water-Using System"},null,null,"Water from:",null,"Quantity (Million Gallon per Year)","% of Water Use Undergoing Water Treatment",null,null,null,null,null,{"$f":"HelperTab!A50","v":"Million Gallon per Year"}]
[1,null,null,null,null,null,null,"Water Treatment Process",null,null,null,null,null,{"$f":"H13","v":"Water Treatment Process"},null,null,null,null,"Total"]
[1,null,null,null,null,null,null,null,null,null,null,null,null,{"$f":"IF(ISBLANK(H14),\"\",H14)","v":""},{"$f":"IF(ISBLANK(I14),\"\",I14)","v":""},{"$f":"IF(ISBLANK(J14),\"\",J14)","v":""},{"$f":"IF(ISBLANK(K14),\"\",K14)","v":""},{"$f":"IF(ISBLANK(L14),\"\",L14)","v":""}]
[{"$f":"IF(OR($A$14=1,'1.Plant Info'!$N$53<>\"Yes\"),1,0)","v":1},{"$f":"'6.System Water Intake&Discharge'!B16","v":"-"},null,null,{"$f":"HelperTab!K2","v":"Municipal Water: Potable"},null,{"$f":"INDEX(HelperTab!$K$4:$AC$14,MATCH($B15,HelperTab!$A$4:$A$14,0),MATCH($E15,HelperTab!$K$2:$AC$2,0))","v":0},null,null,null,null,null,null,{"$f":"SUMPRODUCT($G15:$G23*H15:H23)","v":0},{"$f":"SUMPRODUCT($G15:$G23*I15:I23)","v":0},{"$f":"SUMPRODUCT($G15:$G23*J15:J23)","v":0},{"$f":"SUMPRODUCT($G15:$G23*K15:K23)","v":0},{"$f":"SUMPRODUCT($G15:$G23*L15:L23)","v":0},{"$f":"SUMPRODUCT($G15:$G23*N15:N23)","v":0}]
[{"$f":"IF(OR($A15=1,'2.Plant Water Intake&Discharge'!$D$32=0),1,0)","v":1},null,null,null,{"$f":"HelperTab!L2","v":"Municipal Water: Nonpotable"},null,{"$f":"INDEX(HelperTab!$K$4:$AC$14,MATCH($B15,HelperTab!$A$4:$A$14,0),MATCH($E16,HelperTab!$K$2:$AC$2,0))","v":0}]
[{"$f":"IF(OR($A15=1,'2.Plant Water Intake&Discharge'!$E$32=0),1,0)","v":1},null,null,null,{"$f":"HelperTab!M2","v":"Municipal Water: "},null,{"$f":"INDEX(HelperTab!$K$4:$AC$14,MATCH($B15,HelperTab!$A$4:$A$14,0),MATCH($E17,HelperTab!$K$2:$AC$2,0))","v":0}]
[{"$f":"IF(OR($A15=1,'2.Plant Water Intake&Discharge'!$F$32=0),1,0)","v":1},null,null,null,{"$f":"HelperTab!N2","v":"River or Lake: "},null,{"$f":"INDEX(HelperTab!$K$4:$AC$14,MATCH($B15,HelperTab!$A$4:$A$14,0),MATCH($E18,HelperTab!$K$2:$AC$2,0))","v":0}]
[{"$f":"IF(OR($A15=1,'2.Plant Water Intake&Discharge'!G$32=0),1,0)","v":1},null,null,null,{"$f":"HelperTab!O2","v":"Ocean or Tide: "},null,{"$f":"INDEX(HelperTab!$K$4:$AC$14,MATCH($B15,HelperTab!$A$4:$A$14,0),MATCH($E19,HelperTab!$K$2:$AC$2,0))","v":0}]
[{"$f":"IF(OR($A15=1,'2.Plant Water Intake&Discharge'!$H$32=0),1,0)","v":1},null,null,null,{"$f":"HelperTab!P2","v":"Groundwater: "},null,{"$f":"INDEX(HelperTab!$K$4:$AC$14,MATCH($B15,HelperTab!$A$4:$A$14,0),MATCH($E20,HelperTab!$K$2:$AC$2,0))","v":0}]
[{"$f":"IF(OR($A15=1,'2.Plant Water Intake&Discharge'!$I$32=0),1,0)","v":1},null,null,null,{"$f":"HelperTab!Q2","v":"Other: "},null,{"$f":"INDEX(HelperTab!$K$4:$AC$14,MATCH($B15,HelperTab!$A$4:$A$14,0),MATCH($E21,HelperTab!$K$2:$AC$2,0))","v":0}]
[{"$f":"A15","v":1},null,null,null,{"$f":"HelperTab!AB2","v":"Water from Other Systems"},null,{"$f":"INDEX(HelperTab!$K$4:$AC$14,MATCH($B15,HelperTab!$A$4:$A$14,0),MATCH($E22,HelperTab!$K$2:$AC$2,0))","v":0}]
[{"$f":"A15","v":1},null,null,null,{"$f":"HelperTab!AC2","v":"Recirc. within System"},null,{"$f":"INDEX(HelperTab!$K$4:$AC$14,MATCH($B15,HelperTab!$A$4:$A$14,0),MATCH($E23,HelperTab!$K$2:$AC$2,0))","v":0}]
[{"$f":"IF(OR($A$14=1,'1.Plant Info'!$N$54<>\"Yes\"),1,0)","v":1},{"$f":"'6.System Water Intake&Discharge'!B17","v":"-"},null,null,{"$f":"E15","v":"Municipal Water: Potable"},null,{"$f":"INDEX(HelperTab!$K$4:$AC$14,MATCH($B24,HelperTab!$A$4:$A$14,0),MATCH($E24,HelperTab!$K$2:$AC$2,0))","v":0},null,null,null,null,null,null,{"$f":"SUMPRODUCT($G24:$G32*H24:H32)","v":0},{"$f":"SUMPRODUCT($G24:$G32*I24:I32)","v":0},{"$f":"SUMPRODUCT($G24:$G32*J24:J32)","v":0},{"$f":"SUMPRODUCT($G24:$G32*K24:K32)","v":0},{"$f":"SUMPRODUCT($G24:$G32*L24:L32)","v":0},{"$f":"SUMPRODUCT($G24:$G32*N24:N32)","v":0}]
[{"$f":"IF(OR($A24=1,'2.Plant Water Intake&Discharge'!$D$32=0),1,0)","v":1},null,null,null,{"$f":"E16","v":"Municipal Water: Nonpotable"},null,{"$f":"INDEX(HelperTab!$K$4:$AC$14,MATCH($B24,HelperTab!$A$4:$A$14,0),MATCH($E25,HelperTab!$K$2:$AC$2,0))","v":0}]
[{"$f":"IF(OR($A24=1,'2.Plant Water Intake&Discharge'!$E$32=0),1,0)","v":1},null,null,null,"Municipal Water: ",null,{"$f":"INDEX(HelperTab!$K$4:$AC$14,MATCH($B24,HelperTab!$A$4:$A$14,0),MATCH($E26,HelperTab!$K$2:$AC$2,0))","v":0}]
[{"$f":"IF(OR($A24=1,'2.Plant Water Intake&Discharge'!$F$32=0),1,0)","v":1},null,null,null,"River or Lake: ",null,{"$f":"INDEX(HelperTab!$K$4:$AC$14,MATCH($B24,HelperTab!$A$4:$A$14,0),MATCH($E27,HelperTab!$K$2:$AC$2,0))","v":0}]
[{"$f":"IF(OR($A24=1,'2.Plant Water Intake&Discharge'!G$32=0),1,0)","v":1},null,null,null,"Ocean or Tide: ",null,{"$f":"INDEX(HelperTab!$K$4:$AC$14,MATCH($B24,HelperTab!$A$4:$A$14,0),MATCH($E28,HelperTab!$K$2:$AC$2,0))","v":0}]
[{"$f":"IF(OR($A24=1,'2.Plant Water Intake&Discharge'!$H$32=0),1,0)","v":1},null,null,null,"Groundwater: ",null,{"$f":"INDEX(HelperTab!$K$4:$AC$14,MATCH($B24,HelperTab!$A$4:$A$14,0),MATCH($E29,HelperTab!$K$2:$AC$2,0))","v":0}]
[{"$f":"IF(OR($A24=1,'2.Plant Water Intake&Discharge'!$I$32=0),1,0)","v":1},null,null,null,"Other: ",null,{"$f":"INDEX(HelperTab!$K$4:$AC$14,MATCH($B24,HelperTab!$A$4:$A$14,0),MATCH($E30,HelperTab!$K$2:$AC$2,0))","v":0}]
[{"$f":"A24","v":1},null,null,null,"Water from Other Systems",null,{"$f":"INDEX(HelperTab!$K$4:$AC$14,MATCH($B24,HelperTab!$A$4:$A$14,0),MATCH($E31,HelperTab!$K$2:$AC$2,0))","v":0}]
[{"$f":"A24","v":1},null,null,null,"Recirc. within System",null,{"$f":"INDEX(HelperTab!$K$4:$AC$14,MATCH($B24,HelperTab!$A$4:$A$14,0),MATCH($E32,HelperTab!$K$2:$AC$2,0))","v":0}]
[{"$f":"IF(OR($A$14=1,'1.Plant Info'!$N$55<>\"Yes\"),1,0)","v":1},{"$f":"'6.System Water Intake&Discharge'!B18","v":"-"},null,null,{"$f":"E24","v":"Municipal Water: Potable"},null,{"$f":"INDEX(HelperTab!$K$4:$AC$14,MATCH($B33,HelperTab!$A$4:$A$14,0),MATCH($E33,HelperTab!$K$2:$AC$2,0))","v":0},null,null,null,null,null,null,{"$f":"SUMPRODUCT($G33:$G41*H33:H41)","v":0},{"$f":"SUMPRODUCT($G33:$G41*I33:I41)","v":0},{"$f":"SUMPRODUCT($G33:$G41*J33:J41)","v":0},{"$f":"SUMPRODUCT($G33:$G41*K33:K41)","v":0},{"$f":"SUMPRODUCT($G33:$G41*L33:L41)","v":0},{"$f":"SUMPRODUCT($G33:$G41*N33:N41)","v":0}]
[{"$f":"IF(OR($A33=1,'2.Plant Water Intake&Discharge'!$D$32=0),1,0)","v":1},null,null,null,"Municipal Water: Nonpotable",null,{"$f":"INDEX(HelperTab!$K$4:$AC$14,MATCH($B33,HelperTab!$A$4:$A$14,0),MATCH($E34,HelperTab!$K$2:$AC$2,0))","v":0}]
[{"$f":"IF(OR($A33=1,'2.Plant Water Intake&Discharge'!$E$32=0),1,0)","v":1},null,null,null,"Municipal Water: ",null,{"$f":"INDEX(HelperTab!$K$4:$AC$14,MATCH($B33,HelperTab!$A$4:$A$14,0),MATCH($E35,HelperTab!$K$2:$AC$2,0))","v":0}]
[{"$f":"IF(OR($A33=1,'2.Plant Water Intake&Discharge'!$F$32=0),1,0)","v":1},null,null,null,"River or Lake: ",null,{"$f":"INDEX(HelperTab!$K$4:$AC$14,MATCH($B33,HelperTab!$A$4:$A$14,0),MATCH($E36,HelperTab!$K$2:$AC$2,0))","v":0}]
[{"$f":"IF(OR($A33=1,'2.Plant Water Intake&Discharge'!G$32=0),1,0)","v":1},null,null,null,"Ocean or Tide: ",null,{"$f":"INDEX(HelperTab!$K$4:$AC$14,MATCH($B33,HelperTab!$A$4:$A$14,0),MATCH($E37,HelperTab!$K$2:$AC$2,0))","v":0}]
[{"$f":"IF(OR($A33=1,'2.Plant Water Intake&Discharge'!$H$32=0),1,0)","v":1},null,null,null,"Groundwater: ",null,{"$f":"INDEX(HelperTab!$K$4:$AC$14,MATCH($B33,HelperTab!$A$4:$A$14,0),MATCH($E38,HelperTab!$K$2:$AC$2,0))","v":0}]
[{"$f":"IF(OR($A33=1,'2.Plant Water Intake&Discharge'!$I$32=0),1,0)","v":1},null,null,null,"Other: ",null,{"$f":"INDEX(HelperTab!$K$4:$AC$14,MATCH($B33,HelperTab!$A$4:$A$14,0),MATCH($E39,HelperTab!$K$2:$AC$2,0))","v":0}]
[{"$f":"A33","v":1},null,null,null,"Water from Other Systems",null,{"$f":"INDEX(HelperTab!$K$4:$AC$14,MATCH($B33,HelperTab!$A$4:$A$14,0),MATCH($E40,HelperTab!$K$2:$AC$2,0))","v":0}]
[{"$f":"A33","v":1},null,null,null,"Recirc. within System",null,{"$f":"INDEX(HelperTab!$K$4:$AC$14,MATCH($B33,HelperTab!$A$4:$A$14,0),MATCH($E41,HelperTab!$K$2:$AC$2,0))","v":0}]
[{"$f":"IF(OR($A$14=1,'1.Plant Info'!$N$56<>\"Yes\"),1,0)","v":1},{"$f":"'6.System Water Intake&Discharge'!B19","v":"-"},null,null,{"$f":"E33","v":"Municipal Water: Potable"},null,{"$f":"INDEX(HelperTab!$K$4:$AC$14,MATCH($B42,HelperTab!$A$4:$A$14,0),MATCH($E42,HelperTab!$K$2:$AC$2,0))","v":0},null,null,null,null,null,null,{"$f":"SUMPRODUCT($G42:$G50*H42:H50)","v":0},{"$f":"SUMPRODUCT($G42:$G50*I42:I50)","v":0},{"$f":"SUMPRODUCT($G42:$G50*J42:J50)","v":0},{"$f":"SUMPRODUCT($G42:$G50*K42:K50)","v":0},{"$f":"SUMPRODUCT($G42:$G50*L42:L50)","v":0},{"$f":"SUMPRODUCT($G42:$G50*N42:N50)","v":0}]
[{"$f":"IF(OR($A42=1,'2.Plant Water Intake&Discharge'!$D$32=0),1,0)","v":1},null,null,null,"Municipal Water: Nonpotable",null,{"$f":"INDEX(HelperTab!$K$4:$AC$14,MATCH($B42,HelperTab!$A$4:$A$14,0),MATCH($E43,HelperTab!$K$2:$AC$2,0))","v":0}]
[{"$f":"IF(OR($A42=1,'2.Plant Water Intake&Discharge'!$E$32=0),1,0)","v":1},null,null,null,"Municipal Water: ",null,{"$f":"INDEX(HelperTab!$K$4:$AC$14,MATCH($B42,HelperTab!$A$4:$A$14,0),MATCH($E44,HelperTab!$K$2:$AC$2,0))","v":0}]
[{"$f":"IF(OR($A42=1,'2.Plant Water Intake&Discharge'!$F$32=0),1,0)","v":1},null,null,null,"River or Lake: ",null,{"$f":"INDEX(HelperTab!$K$4:$AC$14,MATCH($B42,HelperTab!$A$4:$A$14,0),MATCH($E45,HelperTab!$K$2:$AC$2,0))","v":0}]
[{"$f":"IF(OR($A42=1,'2.Plant Water Intake&Discharge'!G$32=0),1,0)","v":1},null,null,null,"Ocean or Tide: ",null,{"$f":"INDEX(HelperTab!$K$4:$AC$14,MATCH($B42,HelperTab!$A$4:$A$14,0),MATCH($E46,HelperTab!$K$2:$AC$2,0))","v":0}]
[{"$f":"IF(OR($A42=1,'2.Plant Water Intake&Discharge'!$H$32=0),1,0)","v":1},null,null,null,"Groundwater: ",null,{"$f":"INDEX(HelperTab!$K$4:$AC$14,MATCH($B42,HelperTab!$A$4:$A$14,0),MATCH($E47,HelperTab!$K$2:$AC$2,0))","v":0}]
[{"$f":"IF(OR($A42=1,'2.Plant Water Intake&Discharge'!$I$32=0),1,0)","v":1},null,null,null,"Other: ",null,{"$f":"INDEX(HelperTab!$K$4:$AC$14,MATCH($B42,HelperTab!$A$4:$A$14,0),MATCH($E48,HelperTab!$K$2:$AC$2,0))","v":0}]
[{"$f":"A42","v":1},null,null,null,"Water from Other Systems",null,{"$f":"INDEX(HelperTab!$K$4:$AC$14,MATCH($B42,HelperTab!$A$4:$A$14,0),MATCH($E49,HelperTab!$K$2:$AC$2,0))","v":0}]
[{"$f":"A42","v":1},null,null,null,"Recirc. within System",null,{"$f":"INDEX(HelperTab!$K$4:$AC$14,MATCH($B42,HelperTab!$A$4:$A$14,0),MATCH($E50,HelperTab!$K$2:$AC$2,0))","v":0}]
[{"$f":"IF(OR($A$14=1,'1.Plant Info'!$N$57<>\"Yes\"),1,0)","v":1},{"$f":"'6.System Water Intake&Discharge'!B20","v":"-"},null,null,{"$f":"E42","v":"Municipal Water: Potable"},null,{"$f":"INDEX(HelperTab!$K$4:$AC$14,MATCH($B51,HelperTab!$A$4:$A$14,0),MATCH($E51,HelperTab!$K$2:$AC$2,0))","v":0},null,null,null,null,null,null,{"$f":"SUMPRODUCT($G51:$G59*H51:H59)","v":0},{"$f":"SUMPRODUCT($G51:$G59*I51:I59)","v":0},{"$f":"SUMPRODUCT($G51:$G59*J51:J59)","v":0},{"$f":"SUMPRODUCT($G51:$G59*K51:K59)","v":0},{"$f":"SUMPRODUCT($G51:$G59*L51:L59)","v":0},{"$f":"SUMPRODUCT($G51:$G59*N51:N59)","v":0}]
[{"$f":"IF(OR($A51=1,'2.Plant Water Intake&Discharge'!$D$32=0),1,0)","v":1},null,null,null,"Municipal Water: Nonpotable",null,{"$f":"INDEX(HelperTab!$K$4:$AC$14,MATCH($B51,HelperTab!$A$4:$A$14,0),MATCH($E52,HelperTab!$K$2:$AC$2,0))","v":0}]
[{"$f":"IF(OR($A51=1,'2.Plant Water Intake&Discharge'!$E$32=0),1,0)","v":1},null,null,null,"Municipal Water: ",null,{"$f":"INDEX(HelperTab!$K$4:$AC$14,MATCH($B51,HelperTab!$A$4:$A$14,0),MATCH($E53,HelperTab!$K$2:$AC$2,0))","v":0}]
[{"$f":"IF(OR($A51=1,'2.Plant Water Intake&Discharge'!$F$32=0),1,0)","v":1},null,null,null,"River or Lake: ",null,{"$f":"INDEX(HelperTab!$K$4:$AC$14,MATCH($B51,HelperTab!$A$4:$A$14,0),MATCH($E54,HelperTab!$K$2:$AC$2,0))","v":0}]
[{"$f":"IF(OR($A51=1,'2.Plant Water Intake&Discharge'!G$32=0),1,0)","v":1},null,null,null,"Ocean or Tide: ",null,{"$f":"INDEX(HelperTab!$K$4:$AC$14,MATCH($B51,HelperTab!$A$4:$A$14,0),MATCH($E55,HelperTab!$K$2:$AC$2,0))","v":0}]
[{"$f":"IF(OR($A51=1,'2.Plant Water Intake&Discharge'!$H$32=0),1,0)","v":1},null,null,null,"Groundwater: ",null,{"$f":"INDEX(HelperTab!$K$4:$AC$14,MATCH($B51,HelperTab!$A$4:$A$14,0),MATCH($E56,HelperTab!$K$2:$AC$2,0))","v":0}]
[{"$f":"IF(OR($A51=1,'2.Plant Water Intake&Discharge'!$I$32=0),1,0)","v":1},null,null,null,"Other: ",null,{"$f":"INDEX(HelperTab!$K$4:$AC$14,MATCH($B51,HelperTab!$A$4:$A$14,0),MATCH($E57,HelperTab!$K$2:$AC$2,0))","v":0}]
[{"$f":"A51","v":1},null,null,null,"Water from Other Systems",null,{"$f":"INDEX(HelperTab!$K$4:$AC$14,MATCH($B51,HelperTab!$A$4:$A$14,0),MATCH($E58,HelperTab!$K$2:$AC$2,0))","v":0}]
[{"$f":"A51","v":1},null,null,null,"Recirc. within System",null,{"$f":"INDEX(HelperTab!$K$4:$AC$14,MATCH($B51,HelperTab!$A$4:$A$14,0),MATCH($E59,HelperTab!$K$2:$AC$2,0))","v":0}]
[{"$f":"IF(OR($A$14=1,'1.Plant Info'!$N$58<>\"Yes\"),1,0)","v":1},{"$f":"'6.System Water Intake&Discharge'!B21","v":"-"},null,null,{"$f":"E51","v":"Municipal Water: Potable"},null,{"$f":"INDEX(HelperTab!$K$4:$AC$14,MATCH($B60,HelperTab!$A$4:$A$14,0),MATCH($E60,HelperTab!$K$2:$AC$2,0))","v":0},null,null,null,null,null,null,{"$f":"SUMPRODUCT($G60:$G68*H60:H68)","v":0},{"$f":"SUMPRODUCT($G60:$G68*I60:I68)","v":0},{"$f":"SUMPRODUCT($G60:$G68*J60:J68)","v":0},{"$f":"SUMPRODUCT($G60:$G68*K60:K68)","v":0},{"$f":"SUMPRODUCT($G60:$G68*L60:L68)","v":0},{"$f":"SUMPRODUCT($G60:$G68*N60:N68)","v":0}]
[{"$f":"IF(OR($A60=1,'2.Plant Water Intake&Discharge'!$D$32=0),1,0)","v":1},null,null,null,"Municipal Water: Nonpotable",null,{"$f":"INDEX(HelperTab!$K$4:$AC$14,MATCH($B60,HelperTab!$A$4:$A$14,0),MATCH($E61,HelperTab!$K$2:$AC$2,0))","v":0}]
[{"$f":"IF(OR($A60=1,'2.Plant Water Intake&Discharge'!$E$32=0),1,0)","v":1},null,null,null,"Municipal Water: ",null,{"$f":"INDEX(HelperTab!$K$4:$AC$14,MATCH($B60,HelperTab!$A$4:$A$14,0),MATCH($E62,HelperTab!$K$2:$AC$2,0))","v":0}]
[{"$f":"IF(OR($A60=1,'2.Plant Water Intake&Discharge'!$F$32=0),1,0)","v":1},null,null,null,"River or Lake: ",null,{"$f":"INDEX(HelperTab!$K$4:$AC$14,MATCH($B60,HelperTab!$A$4:$A$14,0),MATCH($E63,HelperTab!$K$2:$AC$2,0))","v":0}]
[{"$f":"IF(OR($A60=1,'2.Plant Water Intake&Discharge'!G$32=0),1,0)","v":1},null,null,null,"Ocean or Tide: ",null,{"$f":"INDEX(HelperTab!$K$4:$AC$14,MATCH($B60,HelperTab!$A$4:$A$14,0),MATCH($E64,HelperTab!$K$2:$AC$2,0))","v":0}]
[{"$f":"IF(OR($A60=1,'2.Plant Water Intake&Discharge'!$H$32=0),1,0)","v":1},null,null,null,"Groundwater: ",null,{"$f":"INDEX(HelperTab!$K$4:$AC$14,MATCH($B60,HelperTab!$A$4:$A$14,0),MATCH($E65,HelperTab!$K$2:$AC$2,0))","v":0}]
[{"$f":"IF(OR($A60=1,'2.Plant Water Intake&Discharge'!$I$32=0),1,0)","v":1},null,null,null,"Other: ",null,{"$f":"INDEX(HelperTab!$K$4:$AC$14,MATCH($B60,HelperTab!$A$4:$A$14,0),MATCH($E66,HelperTab!$K$2:$AC$2,0))","v":0}]
[{"$f":"A60","v":1},null,null,null,"Water from Other Systems",null,{"$f":"INDEX(HelperTab!$K$4:$AC$14,MATCH($B60,HelperTab!$A$4:$A$14,0),MATCH($E67,HelperTab!$K$2:$AC$2,0))","v":0}]
[{"$f":"A60","v":1},null,null,null,"Recirc. within System",null,{"$f":"INDEX(HelperTab!$K$4:$AC$14,MATCH($B60,HelperTab!$A$4:$A$14,0),MATCH($E68,HelperTab!$K$2:$AC$2,0))","v":0}]
[{"$f":"IF(OR($A$14=1,'1.Plant Info'!$N$59<>\"Yes\"),1,0)","v":1},{"$f":"'6.System Water Intake&Discharge'!B22","v":"-"},null,null,{"$f":"E60","v":"Municipal Water: Potable"},null,{"$f":"INDEX(HelperTab!$K$4:$AC$14,MATCH($B69,HelperTab!$A$4:$A$14,0),MATCH($E69,HelperTab!$K$2:$AC$2,0))","v":0},null,null,null,null,null,null,{"$f":"SUMPRODUCT($G69:$G77*H69:H77)","v":0},{"$f":"SUMPRODUCT($G69:$G77*I69:I77)","v":0},{"$f":"SUMPRODUCT($G69:$G77*J69:J77)","v":0},{"$f":"SUMPRODUCT($G69:$G77*K69:K77)","v":0},{"$f":"SUMPRODUCT($G69:$G77*L69:L77)","v":0},{"$f":"SUMPRODUCT($G69:$G77*N69:N77)","v":0}]
[{"$f":"IF(OR($A69=1,'2.Plant Water Intake&Discharge'!$D$32=0),1,0)","v":1},null,null,null,"Municipal Water: Nonpotable",null,{"$f":"INDEX(HelperTab!$K$4:$AC$14,MATCH($B69,HelperTab!$A$4:$A$14,0),MATCH($E70,HelperTab!$K$2:$AC$2,0))","v":0}]
[{"$f":"IF(OR($A69=1,'2.Plant Water Intake&Discharge'!$E$32=0),1,0)","v":1},null,null,null,"Municipal Water: ",null,{"$f":"INDEX(HelperTab!$K$4:$AC$14,MATCH($B69,HelperTab!$A$4:$A$14,0),MATCH($E71,HelperTab!$K$2:$AC$2,0))","v":0}]
[{"$f":"IF(OR($A69=1,'2.Plant Water Intake&Discharge'!$F$32=0),1,0)","v":1},null,null,null,"River or Lake: ",null,{"$f":"INDEX(HelperTab!$K$4:$AC$14,MATCH($B69,HelperTab!$A$4:$A$14,0),MATCH($E72,HelperTab!$K$2:$AC$2,0))","v":0}]
[{"$f":"IF(OR($A69=1,'2.Plant Water Intake&Discharge'!G$32=0),1,0)","v":1},null,null,null,"Ocean or Tide: ",null,{"$f":"INDEX(HelperTab!$K$4:$AC$14,MATCH($B69,HelperTab!$A$4:$A$14,0),MATCH($E73,HelperTab!$K$2:$AC$2,0))","v":0}]
[{"$f":"IF(OR($A69=1,'2.Plant Water Intake&Discharge'!$H$32=0),1,0)","v":1},null,null,null,"Groundwater: ",null,{"$f":"INDEX(HelperTab!$K$4:$AC$14,MATCH($B69,HelperTab!$A$4:$A$14,0),MATCH($E74,HelperTab!$K$2:$AC$2,0))","v":0}]
[{"$f":"IF(OR($A69=1,'2.Plant Water Intake&Discharge'!$I$32=0),1,0)","v":1},null,null,null,"Other: ",null,{"$f":"INDEX(HelperTab!$K$4:$AC$14,MATCH($B69,HelperTab!$A$4:$A$14,0),MATCH($E75,HelperTab!$K$2:$AC$2,0))","v":0}]
[{"$f":"A69","v":1},null,null,null,"Water from Other Systems",null,{"$f":"INDEX(HelperTab!$K$4:$AC$14,MATCH($B69,HelperTab!$A$4:$A$14,0),MATCH($E76,HelperTab!$K$2:$AC$2,0))","v":0}]
[{"$f":"A69","v":1},null,null,null,"Recirc. within System",null,{"$f":"INDEX(HelperTab!$K$4:$AC$14,MATCH($B69,HelperTab!$A$4:$A$14,0),MATCH($E77,HelperTab!$K$2:$AC$2,0))","v":0}]
[{"$f":"IF(OR($A$14=1,'1.Plant Info'!$N$60<>\"Yes\"),1,0)","v":1},{"$f":"'6.System Water Intake&Discharge'!B23","v":"-"},null,null,{"$f":"E69","v":"Municipal Water: Potable"},null,{"$f":"INDEX(HelperTab!$K$4:$AC$14,MATCH($B78,HelperTab!$A$4:$A$14,0),MATCH($E78,HelperTab!$K$2:$AC$2,0))","v":0},null,null,null,null,null,null,{"$f":"SUMPRODUCT($G78:$G86*H78:H86)","v":0},{"$f":"SUMPRODUCT($G78:$G86*I78:I86)","v":0},{"$f":"SUMPRODUCT($G78:$G86*J78:J86)","v":0},{"$f":"SUMPRODUCT($G78:$G86*K78:K86)","v":0},{"$f":"SUMPRODUCT($G78:$G86*L78:L86)","v":0},{"$f":"SUMPRODUCT($G78:$G86*N78:N86)","v":0}]
[{"$f":"IF(OR($A78=1,'2.Plant Water Intake&Discharge'!$D$32=0),1,0)","v":1},null,null,null,"Municipal Water: Nonpotable",null,{"$f":"INDEX(HelperTab!$K$4:$AC$14,MATCH($B78,HelperTab!$A$4:$A$14,0),MATCH($E79,HelperTab!$K$2:$AC$2,0))","v":0}]
[{"$f":"IF(OR($A78=1,'2.Plant Water Intake&Discharge'!$E$32=0),1,0)","v":1},null,null,null,"Municipal Water: ",null,{"$f":"INDEX(HelperTab!$K$4:$AC$14,MATCH($B78,HelperTab!$A$4:$A$14,0),MATCH($E80,HelperTab!$K$2:$AC$2,0))","v":0}]
[{"$f":"IF(OR($A78=1,'2.Plant Water Intake&Discharge'!$F$32=0),1,0)","v":1},null,null,null,"River or Lake: ",null,{"$f":"INDEX(HelperTab!$K$4:$AC$14,MATCH($B78,HelperTab!$A$4:$A$14,0),MATCH($E81,HelperTab!$K$2:$AC$2,0))","v":0}]
[{"$f":"IF(OR($A78=1,'2.Plant Water Intake&Discharge'!G$32=0),1,0)","v":1},null,null,null,"Ocean or Tide: ",null,{"$f":"INDEX(HelperTab!$K$4:$AC$14,MATCH($B78,HelperTab!$A$4:$A$14,0),MATCH($E82,HelperTab!$K$2:$AC$2,0))","v":0}]
[{"$f":"IF(OR($A78=1,'2.Plant Water Intake&Discharge'!$H$32=0),1,0)","v":1},null,null,null,"Groundwater: ",null,{"$f":"INDEX(HelperTab!$K$4:$AC$14,MATCH($B78,HelperTab!$A$4:$A$14,0),MATCH($E83,HelperTab!$K$2:$AC$2,0))","v":0}]
[{"$f":"IF(OR($A78=1,'2.Plant Water Intake&Discharge'!$I$32=0),1,0)","v":1},null,null,null,"Other: ",null,{"$f":"INDEX(HelperTab!$K$4:$AC$14,MATCH($B78,HelperTab!$A$4:$A$14,0),MATCH($E84,HelperTab!$K$2:$AC$2,0))","v":0}]
[{"$f":"A78","v":1},null,null,null,"Water from Other Systems",null,{"$f":"INDEX(HelperTab!$K$4:$AC$14,MATCH($B78,HelperTab!$A$4:$A$14,0),MATCH($E85,HelperTab!$K$2:$AC$2,0))","v":0}]
[{"$f":"A78","v":1},null,null,null,"Recirc. within System",null,{"$f":"INDEX(HelperTab!$K$4:$AC$14,MATCH($B78,HelperTab!$A$4:$A$14,0),MATCH($E86,HelperTab!$K$2:$AC$2,0))","v":0}]
[{"$f":"IF(OR($A$14=1,'1.Plant Info'!$N$61<>\"Yes\"),1,0)","v":1},{"$f":"'6.System Water Intake&Discharge'!B24","v":"-"},null,null,"Municipal Water: Potable",null,{"$f":"INDEX(HelperTab!$K$4:$AC$14,MATCH($B87,HelperTab!$A$4:$A$14,0),MATCH($E87,HelperTab!$K$2:$AC$2,0))","v":0},null,null,null,null,null,null,{"$f":"SUMPRODUCT($G87:$G95*H87:H95)","v":0},{"$f":"SUMPRODUCT($G87:$G95*I87:I95)","v":0},{"$f":"SUMPRODUCT($G87:$G95*J87:J95)","v":0},{"$f":"SUMPRODUCT($G87:$G95*K87:K95)","v":0},{"$f":"SUMPRODUCT($G87:$G95*L87:L95)","v":0},{"$f":"SUMPRODUCT($G87:$G95*N87:N95)","v":0}]
[{"$f":"IF(OR($A87=1,'2.Plant Water Intake&Discharge'!$D$32=0),1,0)","v":1},null,null,null,"Municipal Water: Nonpotable",null,{"$f":"INDEX(HelperTab!$K$4:$AC$14,MATCH($B87,HelperTab!$A$4:$A$14,0),MATCH($E88,HelperTab!$K$2:$AC$2,0))","v":0}]
[{"$f":"IF(OR($A87=1,'2.Plant Water Intake&Discharge'!$E$32=0),1,0)","v":1},null,null,null,{"$f":"E80","v":"Municipal Water: "},null,{"$f":"INDEX(HelperTab!$K$4:$AC$14,MATCH($B87,HelperTab!$A$4:$A$14,0),MATCH($E89,HelperTab!$K$2:$AC$2,0))","v":0}]
[{"$f":"IF(OR($A87=1,'2.Plant Water Intake&Discharge'!$F$32=0),1,0)","v":1},null,null,null,"River or Lake: ",null,{"$f":"INDEX(HelperTab!$K$4:$AC$14,MATCH($B87,HelperTab!$A$4:$A$14,0),MATCH($E90,HelperTab!$K$2:$AC$2,0))","v":0}]
[{"$f":"IF(OR($A87=1,'2.Plant Water Intake&Discharge'!G$32=0),1,0)","v":1},null,null,null,"Ocean or Tide: ",null,{"$f":"INDEX(HelperTab!$K$4:$AC$14,MATCH($B87,HelperTab!$A$4:$A$14,0),MATCH($E91,HelperTab!$K$2:$AC$2,0))","v":0}]
[{"$f":"IF(OR($A87=1,'2.Plant Water Intake&Discharge'!$H$32=0),1,0)","v":1},null,null,null,"Groundwater: ",null,{"$f":"INDEX(HelperTab!$K$4:$AC$14,MATCH($B87,HelperTab!$A$4:$A$14,0),MATCH($E92,HelperTab!$K$2:$AC$2,0))","v":0}]
[{"$f":"IF(OR($A87=1,'2.Plant Water Intake&Discharge'!$I$32=0),1,0)","v":1},null,null,null,"Other: ",null,{"$f":"INDEX(HelperTab!$K$4:$AC$14,MATCH($B87,HelperTab!$A$4:$A$14,0),MATCH($E93,HelperTab!$K$2:$AC$2,0))","v":0}]
[{"$f":"A87","v":1},null,null,null,"Water from Other Systems",null,{"$f":"INDEX(HelperTab!$K$4:$AC$14,MATCH($B87,HelperTab!$A$4:$A$14,0),MATCH($E94,HelperTab!$K$2:$AC$2,0))","v":0}]
[{"$f":"A87","v":1},null,null,null,"Recirc. within System",null,{"$f":"INDEX(HelperTab!$K$4:$AC$14,MATCH($B87,HelperTab!$A$4:$A$14,0),MATCH($E95,HelperTab!$K$2:$AC$2,0))","v":0}]
[{"$f":"IF(OR($A$14=1,'1.Plant Info'!$N$62<>\"Yes\"),1,0)","v":1},{"$f":"'6.System Water Intake&Discharge'!B25","v":"-"},null,null,"Municipal Water: Potable",null,{"$f":"INDEX(HelperTab!$K$4:$AC$14,MATCH($B96,HelperTab!$A$4:$A$14,0),MATCH($E96,HelperTab!$K$2:$AC$2,0))","v":0},null,null,null,null,null,null,{"$f":"SUMPRODUCT($G96:$G104*H96:H104)","v":0},{"$f":"SUMPRODUCT($G96:$G104*I96:I104)","v":0},{"$f":"SUMPRODUCT($G96:$G104*J96:J104)","v":0},{"$f":"SUMPRODUCT($G96:$G104*K96:K104)","v":0},{"$f":"SUMPRODUCT($G96:$G104*L96:L104)","v":0},{"$f":"SUM(N96:R104)","v":0}]
[{"$f":"IF(OR($A96=1,'2.Plant Water Intake&Discharge'!$D$32=0),1,0)","v":1},null,null,null,"Municipal Water: Nonpotable",null,{"$f":"INDEX(HelperTab!$K$4:$AC$14,MATCH($B96,HelperTab!$A$4:$A$14,0),MATCH($E97,HelperTab!$K$2:$AC$2,0))","v":0}]
[{"$f":"IF(OR($A96=1,'2.Plant Water Intake&Discharge'!$E$32=0),1,0)","v":1},null,null,null,"Municipal Water: ",null,{"$f":"INDEX(HelperTab!$K$4:$AC$14,MATCH($B96,HelperTab!$A$4:$A$14,0),MATCH($E98,HelperTab!$K$2:$AC$2,0))","v":0}]
[{"$f":"IF(OR($A96=1,'2.Plant Water Intake&Discharge'!$F$32=0),1,0)","v":1},null,null,null,"River or Lake: ",null,{"$f":"INDEX(HelperTab!$K$4:$AC$14,MATCH($B96,HelperTab!$A$4:$A$14,0),MATCH($E99,HelperTab!$K$2:$AC$2,0))","v":0}]
[{"$f":"IF(OR($A96=1,'2.Plant Water Intake&Discharge'!G$32=0),1,0)","v":1},null,null,null,"Ocean or Tide: ",null,{"$f":"INDEX(HelperTab!$K$4:$AC$14,MATCH($B96,HelperTab!$A$4:$A$14,0),MATCH($E100,HelperTab!$K$2:$AC$2,0))","v":0}]
[{"$f":"IF(OR($A96=1,'2.Plant Water Intake&Discharge'!$H$32=0),1,0)","v":1},null,null,null,"Groundwater: ",null,{"$f":"INDEX(HelperTab!$K$4:$AC$14,MATCH($B96,HelperTab!$A$4:$A$14,0),MATCH($E101,HelperTab!$K$2:$AC$2,0))","v":0}]
[{"$f":"IF(OR($A96=1,'2.Plant Water Intake&Discharge'!$I$32=0),1,0)","v":1},null,null,null,"Other: ",null,{"$f":"INDEX(HelperTab!$K$4:$AC$14,MATCH($B96,HelperTab!$A$4:$A$14,0),MATCH($E102,HelperTab!$K$2:$AC$2,0))","v":0}]
[{"$f":"A96","v":1},null,null,null,"Water from Other Systems",null,{"$f":"INDEX(HelperTab!$K$4:$AC$14,MATCH($B96,HelperTab!$A$4:$A$14,0),MATCH($E103,HelperTab!$K$2:$AC$2,0))","v":0}]
[{"$f":"A96","v":1},null,null,null,"Recirc. within System",null,{"$f":"INDEX(HelperTab!$K$4:$AC$14,MATCH($B96,HelperTab!$A$4:$A$14,0),MATCH($E104,HelperTab!$K$2:$AC$2,0))","v":0}]
[{"$f":"IF(OR($A$14=1,'1.Plant Info'!$N$63<>\"Yes\"),1,0)","v":1},{"$f":"'6.System Water Intake&Discharge'!B26","v":"-"},null,null,"Municipal Water: Potable",null,{"$f":"INDEX(HelperTab!$K$4:$AC$14,MATCH($B105,HelperTab!$A$4:$A$14,0),MATCH($E105,HelperTab!$K$2:$AC$2,0))","v":0},null,null,null,null,null,null,{"$f":"SUMPRODUCT($G105:$G113*H105:H113)","v":0},{"$f":"SUMPRODUCT($G105:$G113*I105:I113)","v":0},{"$f":"SUMPRODUCT($G105:$G113*J105:J113)","v":0},{"$f":"SUMPRODUCT($G105:$G113*K105:K113)","v":0},{"$f":"SUMPRODUCT($G105:$G113*L105:L113)","v":0},{"$f":"SUM(N105:R113)","v":0}]
[{"$f":"IF(OR($A105=1,'2.Plant Water Intake&Discharge'!$D$32=0),1,0)","v":1},null,null,null,"Municipal Water: Nonpotable",null,{"$f":"INDEX(HelperTab!$K$4:$AC$14,MATCH($B105,HelperTab!$A$4:$A$14,0),MATCH($E106,HelperTab!$K$2:$AC$2,0))","v":0}]
[{"$f":"IF(OR($A105=1,'2.Plant Water Intake&Discharge'!$E$32=0),1,0)","v":1},null,null,null,"Municipal Water: ",null,{"$f":"INDEX(HelperTab!$K$4:$AC$14,MATCH($B105,HelperTab!$A$4:$A$14,0),MATCH($E107,HelperTab!$K$2:$AC$2,0))","v":0}]
[{"$f":"IF(OR($A105=1,'2.Plant Water Intake&Discharge'!$F$32=0),1,0)","v":1},null,null,null,"River or Lake: ",null,{"$f":"INDEX(HelperTab!$K$4:$AC$14,MATCH($B105,HelperTab!$A$4:$A$14,0),MATCH($E108,HelperTab!$K$2:$AC$2,0))","v":0}]
[{"$f":"IF(OR($A105=1,'2.Plant Water Intake&Discharge'!G$32=0),1,0)","v":1},null,null,null,"Ocean or Tide: ",null,{"$f":"INDEX(HelperTab!$K$4:$AC$14,MATCH($B105,HelperTab!$A$4:$A$14,0),MATCH($E109,HelperTab!$K$2:$AC$2,0))","v":0}]
[{"$f":"IF(OR($A105=1,'2.Plant Water Intake&Discharge'!$H$32=0),1,0)","v":1},null,null,null,"Groundwater: ",null,{"$f":"INDEX(HelperTab!$K$4:$AC$14,MATCH($B105,HelperTab!$A$4:$A$14,0),MATCH($E110,HelperTab!$K$2:$AC$2,0))","v":0}]
[{"$f":"IF(OR($A105=1,'2.Plant Water Intake&Discharge'!$I$32=0),1,0)","v":1},null,null,null,"Other: ",null,{"$f":"INDEX(HelperTab!$K$4:$AC$14,MATCH($B105,HelperTab!$A$4:$A$14,0),MATCH($E111,HelperTab!$K$2:$AC$2,0))","v":0}]
[{"$f":"A105","v":1},null,null,null,"Water from Other Systems",null,{"$f":"INDEX(HelperTab!$K$4:$AC$14,MATCH($B105,HelperTab!$A$4:$A$14,0),MATCH($E112,HelperTab!$K$2:$AC$2,0))","v":0}]
[{"$f":"A105","v":1},null,null,null,"Recirc. within System",null,{"$f":"INDEX(HelperTab!$K$4:$AC$14,MATCH($B105,HelperTab!$A$4:$A$14,0),MATCH($E113,HelperTab!$K$2:$AC$2,0))","v":0}]
[{"$f":"$A$11","v":1},null,null,null,null,null,null,null,null,null,null,null,null,{"$f":"SUM(N15:N105)","v":0},0,0,0,0,0]
[]
[null,{"$f":"\"Part 7.2 - Onsite Wastewater Treatment\"&IF($A$117,\" (Not Applicable)\",\"\")","v":"Part 7.2 - Onsite Wastewater Treatment (Not Applicable)"},null,null,null,null,null,null,{"$f":"IF(A117=1,\"Not Applicable\",\"\")","v":"Not Applicable"}]
[{"$f":"IF('1.Plant Info'!N65<>\"Yes\",1,0)","v":1},"Please select wastewater treatment processes from the drop-down list for your plant. Enter a percent estimate of wastewater that is treated for applicable wastewater discharge paths. For example, if \"Process A\"discharges wastewater to \"Municipal Sewer,\" 80% of which undergoes \"Wastewater Treatment Process 1\" and 20% to \"Wastewater Treatment Process 2,\" enter 80% and 20% in the respective cells of that row."]
[{"$f":"$A$117","v":1},{"$f":"'1.Plant Info'!B51","v":"Water-Using System"},null,null,"Wastewater Discharge to:",null,"Quantity (Million Gallon per Year)","% of Wastewater Discharge undergoing Wastewater Treatment",null,null,null,null,null,{"$f":"HelperTab!A50","v":"Million Gallon per Year"}]
[1,null,null,null,null,null,null,"Wastewater Treatment Process",null,null,null,null,null,{"$f":"H119","v":"Wastewater Treatment Process"},null,null,null,null,"Total Quantity of Treated Wastewater"]
[1,null,null,null,null,null,null,null,null,null,null,null,null,{"$f":"IF(ISBLANK(H120),\"\",H120)","v":""},{"$f":"IF(ISBLANK(I120),\"\",I120)","v":""},{"$f":"IF(ISBLANK(J120),\"\",J120)","v":""},{"$f":"IF(ISBLANK(K120),\"\",K120)","v":""},{"$f":"IF(ISBLANK(L120),\"\",L120)","v":""}]
[{"$f":"IF(OR($A$120=1,'1.Plant Info'!$N$53<>\"Yes\"),1,0)","v":1},{"$f":"'6.System Water Intake&Discharge'!B16","v":"-"},null,null,{"$f":"'6.System Water Intake&Discharge'!F33","v":"Municipal Sewer"},null,{"$f":"INDEX('6.System Water Intake&Discharge'!$T$34:$Y$44,MATCH($B121,'6.System Water Intake&Discharge'!$B$34:$B$44,0),MATCH($E121,'6.System Water Intake&Discharge'!$T$33:$Y$33,0))","v":0},null,null,null,null,null,null,{"$f":"SUMPRODUCT($G121:$G126*H121:H126)","v":0},{"$f":"SUMPRODUCT($G121:$G126*I121:I126)","v":0},{"$f":"SUMPRODUCT($G121:$G126*J121:J126)","v":0},{"$f":"SUMPRODUCT($G121:$G126*K121:K126)","v":0},{"$f":"SUMPRODUCT($G121:$G126*L121:L126)","v":0},{"$f":"SUMPRODUCT($G121:$G126*N121:N126)","v":0}]
[{"$f":"IF(OR($A121=1,'2.Plant Water Intake&Discharge'!$D$56=0),1,0)","v":1},null,null,null,{"$f":"'6.System Water Intake&Discharge'!G33","v":"Third-party Disposal"},null,{"$f":"INDEX('6.System Water Intake&Discharge'!$T$34:$Y$44,MATCH($B121,'6.System Water Intake&Discharge'!$B$34:$B$44,0),MATCH($E122,'6.System Water Intake&Discharge'!$T$33:$Y$33,0))","v":0}]
[{"$f":"IF(OR($A121=1,'2.Plant Water Intake&Discharge'!$E$56=0),1,0)","v":1},null,null,null,{"$f":"'6.System Water Intake&Discharge'!H33","v":"River or Lake"},null,{"$f":"INDEX('6.System Water Intake&Discharge'!$T$34:$Y$44,MATCH($B121,'6.System Water Intake&Discharge'!$B$34:$B$44,0),MATCH($E123,'6.System Water Intake&Discharge'!$T$33:$Y$33,0))","v":0}]
[{"$f":"IF(OR($A121=1,'2.Plant Water Intake&Discharge'!$F$56=0),1,0)","v":1},null,null,null,{"$f":"'6.System Water Intake&Discharge'!I33","v":"Ocean or Tide"},null,{"$f":"INDEX('6.System Water Intake&Discharge'!$T$34:$Y$44,MATCH($B121,'6.System Water Intake&Discharge'!$B$34:$B$44,0),MATCH($E124,'6.System Water Intake&Discharge'!$T$33:$Y$33,0))","v":0}]
[{"$f":"IF(OR($A121=1,'2.Plant Water Intake&Discharge'!$G$56=0),1,0)","v":1},null,null,null,{"$f":"'6.System Water Intake&Discharge'!J33","v":"Groundwater"},null,{"$f":"INDEX('6.System Water Intake&Discharge'!$T$34:$Y$44,MATCH($B121,'6.System Water Intake&Discharge'!$B$34:$B$44,0),MATCH($E125,'6.System Water Intake&Discharge'!$T$33:$Y$33,0))","v":0}]
[{"$f":"IF(OR($A121=1,'2.Plant Water Intake&Discharge'!$H$56=0),1,0)","v":1},null,null,null,{"$f":"'6.System Water Intake&Discharge'!K33","v":"Onsite Disposal"},null,{"$f":"INDEX('6.System Water Intake&Discharge'!$T$34:$Y$44,MATCH($B121,'6.System Water Intake&Discharge'!$B$34:$B$44,0),MATCH($E126,'6.System Water Intake&Discharge'!$T$33:$Y$33,0))","v":0}]
[{"$f":"IF(OR($A$120=1,'1.Plant Info'!$N$54<>\"Yes\"),1,0)","v":1},{"$f":"'6.System Water Intake&Discharge'!B17","v":"-"},null,null,{"$f":"E121","v":"Municipal Sewer"},null,{"$f":"INDEX('6.System Water Intake&Discharge'!$T$34:$Y$44,MATCH($B127,'6.System Water Intake&Discharge'!$B$34:$B$44,0),MATCH($E127,'6.System Water Intake&Discharge'!$T$33:$Y$33,0))","v":0},null,null,null,null,null,null,{"$f":"SUMPRODUCT($G127:$G132*H127:H132)","v":0},{"$f":"SUMPRODUCT($G127:$G132*I127:I132)","v":0},{"$f":"SUMPRODUCT($G127:$G132*J127:J132)","v":0},{"$f":"SUMPRODUCT($G127:$G132*K127:K132)","v":0},{"$f":"SUMPRODUCT($G127:$G132*L127:L132)","v":0},{"$f":"SUMPRODUCT($G127:$G132*N127:N132)","v":0}]
[{"$f":"IF(OR($A127=1,'2.Plant Water Intake&Discharge'!$D$56=0),1,0)","v":1},null,null,null,{"$f":"E122","v":"Third-party Disposal"},null,{"$f":"INDEX('6.System Water Intake&Discharge'!$T$34:$Y$44,MATCH($B127,'6.System Water Intake&Discharge'!$B$34:$B$44,0),MATCH($E128,'6.System Water Intake&Discharge'!$T$33:$Y$33,0))","v":0}]
[{"$f":"IF(OR($A127=1,'2.Plant Water Intake&Discharge'!$E$56=0),1,0)","v":1},null,null,null,{"$f":"E123","v":"River or Lake"},null,{"$f":"INDEX('6.System Water Intake&Discharge'!$T$34:$Y$44,MATCH($B127,'6.System Water Intake&Discharge'!$B$34:$B$44,0),MATCH($E129,'6.System Water Intake&Discharge'!$T$33:$Y$33,0))","v":0}]
[{"$f":"IF(OR($A127=1,'2.Plant Water Intake&Discharge'!$F$56=0),1,0)","v":1},null,null,null,{"$f":"E124","v":"Ocean or Tide"},null,{"$f":"INDEX('6.System Water Intake&Discharge'!$T$34:$Y$44,MATCH($B127,'6.System Water Intake&Discharge'!$B$34:$B$44,0),MATCH($E130,'6.System Water Intake&Discharge'!$T$33:$Y$33,0))","v":0}]
[{"$f":"IF(OR($A127=1,'2.Plant Water Intake&Discharge'!$G$56=0),1,0)","v":1},null,null,null,{"$f":"E125","v":"Groundwater"},null,{"$f":"INDEX('6.System Water Intake&Discharge'!$T$34:$Y$44,MATCH($B127,'6.System Water Intake&Discharge'!$B$34:$B$44,0),MATCH($E131,'6.System Water Intake&Discharge'!$T$33:$Y$33,0))","v":0}]
[{"$f":"IF(OR($A127=1,'2.Plant Water Intake&Discharge'!$H$56=0),1,0)","v":1},null,null,null,"Onsite Disposal",null,{"$f":"INDEX('6.System Water Intake&Discharge'!$T$34:$Y$44,MATCH($B127,'6.System Water Intake&Discharge'!$B$34:$B$44,0),MATCH($E132,'6.System Water Intake&Discharge'!$T$33:$Y$33,0))","v":0}]
[{"$f":"IF(OR($A$120=1,'1.Plant Info'!$N$55<>\"Yes\"),1,0)","v":1},{"$f":"'6.System Water Intake&Discharge'!B18","v":"-"},null,null,{"$f":"E121","v":"Municipal Sewer"},null,{"$f":"INDEX('6.System Water Intake&Discharge'!$T$34:$Y$44,MATCH($B133,'6.System Water Intake&Discharge'!$B$34:$B$44,0),MATCH($E133,'6.System Water Intake&Discharge'!$T$33:$Y$33,0))","v":0},null,null,null,null,null,null,{"$f":"SUMPRODUCT($G133:$G138*H133:H138)","v":0},{"$f":"SUMPRODUCT($G133:$G138*I133:I138)","v":0},{"$f":"SUMPRODUCT($G133:$G138*J133:J138)","v":0},{"$f":"SUMPRODUCT($G133:$G138*K133:K138)","v":0},{"$f":"SUMPRODUCT($G133:$G138*L133:L138)","v":0},{"$f":"SUMPRODUCT($G133:$G138*N133:N138)","v":0}]
[{"$f":"IF(OR($A133=1,'2.Plant Water Intake&Discharge'!$D$56=0),1,0)","v":1},null,null,null,{"$f":"E122","v":"Third-party Disposal"},null,{"$f":"INDEX('6.System Water Intake&Discharge'!$T$34:$Y$44,MATCH($B133,'6.System Water Intake&Discharge'!$B$34:$B$44,0),MATCH($E134,'6.System Water Intake&Discharge'!$T$33:$Y$33,0))","v":0}]
[{"$f":"IF(OR($A133=1,'2.Plant Water Intake&Discharge'!$E$56=0),1,0)","v":1},null,null,null,{"$f":"E123","v":"River or Lake"},null,{"$f":"INDEX('6.System Water Intake&Discharge'!$T$34:$Y$44,MATCH($B133,'6.System Water Intake&Discharge'!$B$34:$B$44,0),MATCH($E135,'6.System Water Intake&Discharge'!$T$33:$Y$33,0))","v":0}]
[{"$f":"IF(OR($A133=1,'2.Plant Water Intake&Discharge'!$F$56=0),1,0)","v":1},null,null,null,{"$f":"E124","v":"Ocean or Tide"},null,{"$f":"INDEX('6.System Water Intake&Discharge'!$T$34:$Y$44,MATCH($B133,'6.System Water Intake&Discharge'!$B$34:$B$44,0),MATCH($E136,'6.System Water Intake&Discharge'!$T$33:$Y$33,0))","v":0}]
[{"$f":"IF(OR($A133=1,'2.Plant Water Intake&Discharge'!$G$56=0),1,0)","v":1},null,null,null,{"$f":"E125","v":"Groundwater"},null,{"$f":"INDEX('6.System Water Intake&Discharge'!$T$34:$Y$44,MATCH($B133,'6.System Water Intake&Discharge'!$B$34:$B$44,0),MATCH($E137,'6.System Water Intake&Discharge'!$T$33:$Y$33,0))","v":0}]
[{"$f":"IF(OR($A133=1,'2.Plant Water Intake&Discharge'!$H$56=0),1,0)","v":1},null,null,null,"Onsite Disposal",null,{"$f":"INDEX('6.System Water Intake&Discharge'!$T$34:$Y$44,MATCH($B133,'6.System Water Intake&Discharge'!$B$34:$B$44,0),MATCH($E138,'6.System Water Intake&Discharge'!$T$33:$Y$33,0))","v":0}]
[{"$f":"IF(OR($A$120=1,'1.Plant Info'!$N$56<>\"Yes\"),1,0)","v":1},{"$f":"'6.System Water Intake&Discharge'!B19","v":"-"},null,null,{"$f":"E121","v":"Municipal Sewer"},null,{"$f":"INDEX('6.System Water Intake&Discharge'!$T$34:$Y$44,MATCH($B139,'6.System Water Intake&Discharge'!$B$34:$B$44,0),MATCH($E139,'6.System Water Intake&Discharge'!$T$33:$Y$33,0))","v":0},null,null,null,null,null,null,{"$f":"SUMPRODUCT($G139:$G144*H139:H144)","v":0},{"$f":"SUMPRODUCT($G139:$G144*I139:I144)","v":0},{"$f":"SUMPRODUCT($G139:$G144*J139:J144)","v":0},{"$f":"SUMPRODUCT($G139:$G144*K139:K144)","v":0},{"$f":"SUMPRODUCT($G139:$G144*L139:L144)","v":0},{"$f":"SUMPRODUCT($G139:$G144*N139:N144)","v":0}]
[{"$f":"IF(OR($A139=1,'2.Plant Water Intake&Discharge'!$D$56=0),1,0)","v":1},null,null,null,{"$f":"E122","v":"Third-party Disposal"},null,{"$f":"INDEX('6.System Water Intake&Discharge'!$T$34:$Y$44,MATCH($B139,'6.System Water Intake&Discharge'!$B$34:$B$44,0),MATCH($E140,'6.System Water Intake&Discharge'!$T$33:$Y$33,0))","v":0}]
[{"$f":"IF(OR($A139=1,'2.Plant Water Intake&Discharge'!$E$56=0),1,0)","v":1},null,null,null,{"$f":"E123","v":"River or Lake"},null,{"$f":"INDEX('6.System Water Intake&Discharge'!$T$34:$Y$44,MATCH($B139,'6.System Water Intake&Discharge'!$B$34:$B$44,0),MATCH($E141,'6.System Water Intake&Discharge'!$T$33:$Y$33,0))","v":0}]
[{"$f":"IF(OR($A139=1,'2.Plant Water Intake&Discharge'!$F$56=0),1,0)","v":1},null,null,null,{"$f":"E124","v":"Ocean or Tide"},null,{"$f":"INDEX('6.System Water Intake&Discharge'!$T$34:$Y$44,MATCH($B139,'6.System Water Intake&Discharge'!$B$34:$B$44,0),MATCH($E142,'6.System Water Intake&Discharge'!$T$33:$Y$33,0))","v":0}]
[{"$f":"IF(OR($A139=1,'2.Plant Water Intake&Discharge'!$G$56=0),1,0)","v":1},null,null,null,{"$f":"E125","v":"Groundwater"},null,{"$f":"INDEX('6.System Water Intake&Discharge'!$T$34:$Y$44,MATCH($B139,'6.System Water Intake&Discharge'!$B$34:$B$44,0),MATCH($E143,'6.System Water Intake&Discharge'!$T$33:$Y$33,0))","v":0}]
[{"$f":"IF(OR($A139=1,'2.Plant Water Intake&Discharge'!$H$56=0),1,0)","v":1},null,null,null,"Onsite Disposal",null,{"$f":"INDEX('6.System Water Intake&Discharge'!$T$34:$Y$44,MATCH($B139,'6.System Water Intake&Discharge'!$B$34:$B$44,0),MATCH($E144,'6.System Water Intake&Discharge'!$T$33:$Y$33,0))","v":0}]
[{"$f":"IF(OR($A$120=1,'1.Plant Info'!$N$57<>\"Yes\"),1,0)","v":1},{"$f":"'6.System Water Intake&Discharge'!B20","v":"-"},null,null,{"$f":"E127","v":"Municipal Sewer"},null,{"$f":"INDEX('6.System Water Intake&Discharge'!$T$34:$Y$44,MATCH($B145,'6.System Water Intake&Discharge'!$B$34:$B$44,0),MATCH($E145,'6.System Water Intake&Discharge'!$T$33:$Y$33,0))","v":0},null,null,null,null,null,null,{"$f":"SUMPRODUCT($G145:$G150*H145:H150)","v":0},{"$f":"SUMPRODUCT($G145:$G150*I145:I150)","v":0},{"$f":"SUMPRODUCT($G145:$G150*J145:J150)","v":0},{"$f":"SUMPRODUCT($G145:$G150*K145:K150)","v":0},{"$f":"SUMPRODUCT($G145:$G150*L145:L150)","v":0},{"$f":"SUMPRODUCT($G145:$G150*N145:N150)","v":0}]
[{"$f":"IF(OR($A145=1,'2.Plant Water Intake&Discharge'!$D$56=0),1,0)","v":1},null,null,null,{"$f":"E128","v":"Third-party Disposal"},null,{"$f":"INDEX('6.System Water Intake&Discharge'!$T$34:$Y$44,MATCH($B145,'6.System Water Intake&Discharge'!$B$34:$B$44,0),MATCH($E146,'6.System Water Intake&Discharge'!$T$33:$Y$33,0))","v":0}]
[{"$f":"IF(OR($A145=1,'2.Plant Water Intake&Discharge'!$E$56=0),1,0)","v":1},null,null,null,{"$f":"E129","v":"River or Lake"},null,{"$f":"INDEX('6.System Water Intake&Discharge'!$T$34:$Y$44,MATCH($B145,'6.System Water Intake&Discharge'!$B$34:$B$44,0),MATCH($E147,'6.System Water Intake&Discharge'!$T$33:$Y$33,0))","v":0}]
[{"$f":"IF(OR($A145=1,'2.Plant Water Intake&Discharge'!$F$56=0),1,0)","v":1},null,null,null,{"$f":"E130","v":"Ocean or Tide"},null,{"$f":"INDEX('6.System Water Intake&Discharge'!$T$34:$Y$44,MATCH($B145,'6.System Water Intake&Discharge'!$B$34:$B$44,0),MATCH($E148,'6.System Water Intake&Discharge'!$T$33:$Y$33,0))","v":0}]
[{"$f":"IF(OR($A145=1,'2.Plant Water Intake&Discharge'!$G$56=0),1,0)","v":1},null,null,null,{"$f":"E131","v":"Groundwater"},null,{"$f":"INDEX('6.System Water Intake&Discharge'!$T$34:$Y$44,MATCH($B145,'6.System Water Intake&Discharge'!$B$34:$B$44,0),MATCH($E149,'6.System Water Intake&Discharge'!$T$33:$Y$33,0))","v":0}]
[{"$f":"IF(OR($A145=1,'2.Plant Water Intake&Discharge'!$H$56=0),1,0)","v":1},null,null,null,"Onsite Disposal",null,{"$f":"INDEX('6.System Water Intake&Discharge'!$T$34:$Y$44,MATCH($B145,'6.System Water Intake&Discharge'!$B$34:$B$44,0),MATCH($E150,'6.System Water Intake&Discharge'!$T$33:$Y$33,0))","v":0}]
[{"$f":"IF(OR($A$120=1,'1.Plant Info'!$N$58<>\"Yes\"),1,0)","v":1},{"$f":"'6.System Water Intake&Discharge'!B21","v":"-"},null,null,{"$f":"E133","v":"Municipal Sewer"},null,{"$f":"INDEX('6.System Water Intake&Discharge'!$T$34:$Y$44,MATCH($B151,'6.System Water Intake&Discharge'!$B$34:$B$44,0),MATCH($E151,'6.System Water Intake&Discharge'!$T$33:$Y$33,0))","v":0},null,null,null,null,null,null,{"$f":"SUMPRODUCT($G151:$G156*H151:H156)","v":0},{"$f":"SUMPRODUCT($G151:$G156*I151:I156)","v":0},{"$f":"SUMPRODUCT($G151:$G156*J151:J156)","v":0},{"$f":"SUMPRODUCT($G151:$G156*K151:K156)","v":0},{"$f":"SUMPRODUCT($G151:$G156*L151:L156)","v":0},{"$f":"SUMPRODUCT($G151:$G156*N151:N156)","v":0}]
[{"$f":"IF(OR($A151=1,'2.Plant Water Intake&Discharge'!$D$56=0),1,0)","v":1},null,null,null,{"$f":"E134","v":"Third-party Disposal"},null,{"$f":"INDEX('6.System Water Intake&Discharge'!$T$34:$Y$44,MATCH($B151,'6.System Water Intake&Discharge'!$B$34:$B$44,0),MATCH($E152,'6.System Water Intake&Discharge'!$T$33:$Y$33,0))","v":0}]
[{"$f":"IF(OR($A151=1,'2.Plant Water Intake&Discharge'!$E$56=0),1,0)","v":1},null,null,null,{"$f":"E135","v":"River or Lake"},null,{"$f":"INDEX('6.System Water Intake&Discharge'!$T$34:$Y$44,MATCH($B151,'6.System Water Intake&Discharge'!$B$34:$B$44,0),MATCH($E153,'6.System Water Intake&Discharge'!$T$33:$Y$33,0))","v":0}]
[{"$f":"IF(OR($A151=1,'2.Plant Water Intake&Discharge'!$F$56=0),1,0)","v":1},null,null,null,{"$f":"E136","v":"Ocean or Tide"},null,{"$f":"INDEX('6.System Water Intake&Discharge'!$T$34:$Y$44,MATCH($B151,'6.System Water Intake&Discharge'!$B$34:$B$44,0),MATCH($E154,'6.System Water Intake&Discharge'!$T$33:$Y$33,0))","v":0}]
[{"$f":"IF(OR($A151=1,'2.Plant Water Intake&Discharge'!$G$56=0),1,0)","v":1},null,null,null,{"$f":"E137","v":"Groundwater"},null,{"$f":"INDEX('6.System Water Intake&Discharge'!$T$34:$Y$44,MATCH($B151,'6.System Water Intake&Discharge'!$B$34:$B$44,0),MATCH($E155,'6.System Water Intake&Discharge'!$T$33:$Y$33,0))","v":0}]
[{"$f":"IF(OR($A151=1,'2.Plant Water Intake&Discharge'!$H$56=0),1,0)","v":1},null,null,null,"Onsite Disposal",null,{"$f":"INDEX('6.System Water Intake&Discharge'!$T$34:$Y$44,MATCH($B151,'6.System Water Intake&Discharge'!$B$34:$B$44,0),MATCH($E156,'6.System Water Intake&Discharge'!$T$33:$Y$33,0))","v":0}]
[{"$f":"IF(OR($A$120=1,'1.Plant Info'!$N$59<>\"Yes\"),1,0)","v":1},{"$f":"'6.System Water Intake&Discharge'!B22","v":"-"},null,null,{"$f":"E139","v":"Municipal Sewer"},null,{"$f":"INDEX('6.System Water Intake&Discharge'!$T$34:$Y$44,MATCH($B157,'6.System Water Intake&Discharge'!$B$34:$B$44,0),MATCH($E157,'6.System Water Intake&Discharge'!$T$33:$Y$33,0))","v":0},null,null,null,null,null,null,{"$f":"SUMPRODUCT($G157:$G162*H157:H162)","v":0},{"$f":"SUMPRODUCT($G157:$G162*I157:I162)","v":0},{"$f":"SUMPRODUCT($G157:$G162*J157:J162)","v":0},{"$f":"SUMPRODUCT($G157:$G162*K157:K162)","v":0},{"$f":"SUMPRODUCT($G157:$G162*L157:L162)","v":0},{"$f":"SUMPRODUCT($G157:$G162*N157:N162)","v":0}]
[{"$f":"IF(OR($A157=1,'2.Plant Water Intake&Discharge'!$D$56=0),1,0)","v":1},null,null,null,{"$f":"E140","v":"Third-party Disposal"},null,{"$f":"INDEX('6.System Water Intake&Discharge'!$T$34:$Y$44,MATCH($B157,'6.System Water Intake&Discharge'!$B$34:$B$44,0),MATCH($E158,'6.System Water Intake&Discharge'!$T$33:$Y$33,0))","v":0}]
[{"$f":"IF(OR($A157=1,'2.Plant Water Intake&Discharge'!$E$56=0),1,0)","v":1},null,null,null,{"$f":"E141","v":"River or Lake"},null,{"$f":"INDEX('6.System Water Intake&Discharge'!$T$34:$Y$44,MATCH($B157,'6.System Water Intake&Discharge'!$B$34:$B$44,0),MATCH($E159,'6.System Water Intake&Discharge'!$T$33:$Y$33,0))","v":0}]
[{"$f":"IF(OR($A157=1,'2.Plant Water Intake&Discharge'!$F$56=0),1,0)","v":1},null,null,null,{"$f":"E142","v":"Ocean or Tide"},null,{"$f":"INDEX('6.System Water Intake&Discharge'!$T$34:$Y$44,MATCH($B157,'6.System Water Intake&Discharge'!$B$34:$B$44,0),MATCH($E160,'6.System Water Intake&Discharge'!$T$33:$Y$33,0))","v":0}]
[{"$f":"IF(OR($A157=1,'2.Plant Water Intake&Discharge'!$G$56=0),1,0)","v":1},null,null,null,{"$f":"E143","v":"Groundwater"},null,{"$f":"INDEX('6.System Water Intake&Discharge'!$T$34:$Y$44,MATCH($B157,'6.System Water Intake&Discharge'!$B$34:$B$44,0),MATCH($E161,'6.System Water Intake&Discharge'!$T$33:$Y$33,0))","v":0}]
[{"$f":"IF(OR($A157=1,'2.Plant Water Intake&Discharge'!$H$56=0),1,0)","v":1},null,null,null,"Onsite Disposal",null,{"$f":"INDEX('6.System Water Intake&Discharge'!$T$34:$Y$44,MATCH($B157,'6.System Water Intake&Discharge'!$B$34:$B$44,0),MATCH($E162,'6.System Water Intake&Discharge'!$T$33:$Y$33,0))","v":0}]
[{"$f":"IF(OR($A$120=1,'1.Plant Info'!$N$60<>\"Yes\"),1,0)","v":1},{"$f":"'6.System Water Intake&Discharge'!B23","v":"-"},null,null,{"$f":"E145","v":"Municipal Sewer"},null,{"$f":"INDEX('6.System Water Intake&Discharge'!$T$34:$Y$44,MATCH($B163,'6.System Water Intake&Discharge'!$B$34:$B$44,0),MATCH($E163,'6.System Water Intake&Discharge'!$T$33:$Y$33,0))","v":0},null,null,null,null,null,null,{"$f":"SUMPRODUCT($G163:$G168*H163:H168)","v":0},{"$f":"SUMPRODUCT($G163:$G168*I163:I168)","v":0},{"$f":"SUMPRODUCT($G163:$G168*J163:J168)","v":0},{"$f":"SUMPRODUCT($G163:$G168*K163:K168)","v":0},{"$f":"SUMPRODUCT($G163:$G168*L163:L168)","v":0},{"$f":"SUMPRODUCT($G163:$G168*N163:N168)","v":0}]
[{"$f":"IF(OR($A163=1,'2.Plant Water Intake&Discharge'!$D$56=0),1,0)","v":1},null,null,null,{"$f":"E146","v":"Third-party Disposal"},null,{"$f":"INDEX('6.System Water Intake&Discharge'!$T$34:$Y$44,MATCH($B163,'6.System Water Intake&Discharge'!$B$34:$B$44,0),MATCH($E164,'6.System Water Intake&Discharge'!$T$33:$Y$33,0))","v":0}]
[{"$f":"IF(OR($A163=1,'2.Plant Water Intake&Discharge'!$E$56=0),1,0)","v":1},null,null,null,{"$f":"E147","v":"River or Lake"},null,{"$f":"INDEX('6.System Water Intake&Discharge'!$T$34:$Y$44,MATCH($B163,'6.System Water Intake&Discharge'!$B$34:$B$44,0),MATCH($E165,'6.System Water Intake&Discharge'!$T$33:$Y$33,0))","v":0}]
[{"$f":"IF(OR($A163=1,'2.Plant Water Intake&Discharge'!$F$56=0),1,0)","v":1},null,null,null,{"$f":"E148","v":"Ocean or Tide"},null,{"$f":"INDEX('6.System Water Intake&Discharge'!$T$34:$Y$44,MATCH($B163,'6.System Water Intake&Discharge'!$B$34:$B$44,0),MATCH($E166,'6.System Water Intake&Discharge'!$T$33:$Y$33,0))","v":0}]
[{"$f":"IF(OR($A163=1,'2.Plant Water Intake&Discharge'!$G$56=0),1,0)","v":1},null,null,null,{"$f":"E149","v":"Groundwater"},null,{"$f":"INDEX('6.System Water Intake&Discharge'!$T$34:$Y$44,MATCH($B163,'6.System Water Intake&Discharge'!$B$34:$B$44,0),MATCH($E167,'6.System Water Intake&Discharge'!$T$33:$Y$33,0))","v":0}]
[{"$f":"IF(OR($A163=1,'2.Plant Water Intake&Discharge'!$H$56=0),1,0)","v":1},null,null,null,"Onsite Disposal",null,{"$f":"INDEX('6.System Water Intake&Discharge'!$T$34:$Y$44,MATCH($B163,'6.System Water Intake&Discharge'!$B$34:$B$44,0),MATCH($E168,'6.System Water Intake&Discharge'!$T$33:$Y$33,0))","v":0}]
[{"$f":"IF(OR($A$120=1,'1.Plant Info'!$N$61<>\"Yes\"),1,0)","v":1},{"$f":"'6.System Water Intake&Discharge'!B24","v":"-"},null,null,{"$f":"E151","v":"Municipal Sewer"},null,{"$f":"INDEX('6.System Water Intake&Discharge'!$T$34:$Y$44,MATCH($B169,'6.System Water Intake&Discharge'!$B$34:$B$44,0),MATCH($E169,'6.System Water Intake&Discharge'!$T$33:$Y$33,0))","v":0},null,null,null,null,null,null,{"$f":"SUMPRODUCT($G169:$G174*H169:H174)","v":0},{"$f":"SUMPRODUCT($G169:$G174*I169:I174)","v":0},{"$f":"SUMPRODUCT($G169:$G174*J169:J174)","v":0},{"$f":"SUMPRODUCT($G169:$G174*K169:K174)","v":0},{"$f":"SUMPRODUCT($G169:$G174*L169:L174)","v":0},{"$f":"SUMPRODUCT($G169:$G174*N169:N174)","v":0}]
[{"$f":"IF(OR($A169=1,'2.Plant Water Intake&Discharge'!$D$56=0),1,0)","v":1},null,null,null,{"$f":"E152","v":"Third-party Disposal"},null,{"$f":"INDEX('6.System Water Intake&Discharge'!$T$34:$Y$44,MATCH($B169,'6.System Water Intake&Discharge'!$B$34:$B$44,0),MATCH($E170,'6.System Water Intake&Discharge'!$T$33:$Y$33,0))","v":0}]
[{"$f":"IF(OR($A169=1,'2.Plant Water Intake&Discharge'!$E$56=0),1,0)","v":1},null,null,null,{"$f":"E153","v":"River or Lake"},null,{"$f":"INDEX('6.System Water Intake&Discharge'!$T$34:$Y$44,MATCH($B169,'6.System Water Intake&Discharge'!$B$34:$B$44,0),MATCH($E171,'6.System Water Intake&Discharge'!$T$33:$Y$33,0))","v":0}]
[{"$f":"IF(OR($A169=1,'2.Plant Water Intake&Discharge'!$F$56=0),1,0)","v":1},null,null,null,{"$f":"E154","v":"Ocean or Tide"},null,{"$f":"INDEX('6.System Water Intake&Discharge'!$T$34:$Y$44,MATCH($B169,'6.System Water Intake&Discharge'!$B$34:$B$44,0),MATCH($E172,'6.System Water Intake&Discharge'!$T$33:$Y$33,0))","v":0}]
[{"$f":"IF(OR($A169=1,'2.Plant Water Intake&Discharge'!$G$56=0),1,0)","v":1},null,null,null,{"$f":"E155","v":"Groundwater"},null,{"$f":"INDEX('6.System Water Intake&Discharge'!$T$34:$Y$44,MATCH($B169,'6.System Water Intake&Discharge'!$B$34:$B$44,0),MATCH($E173,'6.System Water Intake&Discharge'!$T$33:$Y$33,0))","v":0}]
[{"$f":"IF(OR($A169=1,'2.Plant Water Intake&Discharge'!$H$56=0),1,0)","v":1},null,null,null,"Onsite Disposal",null,{"$f":"INDEX('6.System Water Intake&Discharge'!$T$34:$Y$44,MATCH($B169,'6.System Water Intake&Discharge'!$B$34:$B$44,0),MATCH($E174,'6.System Water Intake&Discharge'!$T$33:$Y$33,0))","v":0}]
[{"$f":"IF(OR($A$120=1,'1.Plant Info'!$N$62<>\"Yes\"),1,0)","v":1},{"$f":"'6.System Water Intake&Discharge'!B25","v":"-"},null,null,{"$f":"E163","v":"Municipal Sewer"},null,{"$f":"INDEX('6.System Water Intake&Discharge'!$T$34:$Y$44,MATCH($B175,'6.System Water Intake&Discharge'!$B$34:$B$44,0),MATCH($E175,'6.System Water Intake&Discharge'!$T$33:$Y$33,0))","v":0},null,null,null,null,null,null,{"$f":"SUMPRODUCT($G175:$G180*H175:H180)","v":0},{"$f":"SUMPRODUCT($G175:$G180*I175:I180)","v":0},{"$f":"SUMPRODUCT($G175:$G180*J175:J180)","v":0},{"$f":"SUMPRODUCT($G175:$G180*K175:K180)","v":0},{"$f":"SUMPRODUCT($G175:$G180*L175:L180)","v":0},{"$f":"SUMPRODUCT($G175:$G180*N175:N180)","v":0}]
[{"$f":"IF(OR($A175=1,'2.Plant Water Intake&Discharge'!$D$56=0),1,0)","v":1},null,null,null,{"$f":"E164","v":"Third-party Disposal"},null,{"$f":"INDEX('6.System Water Intake&Discharge'!$T$34:$Y$44,MATCH($B175,'6.System Water Intake&Discharge'!$B$34:$B$44,0),MATCH($E176,'6.System Water Intake&Discharge'!$T$33:$Y$33,0))","v":0}]
[{"$f":"IF(OR($A175=1,'2.Plant Water Intake&Discharge'!$E$56=0),1,0)","v":1},null,null,null,{"$f":"E165","v":"River or Lake"},null,{"$f":"INDEX('6.System Water Intake&Discharge'!$T$34:$Y$44,MATCH($B175,'6.System Water Intake&Discharge'!$B$34:$B$44,0),MATCH($E177,'6.System Water Intake&Discharge'!$T$33:$Y$33,0))","v":0}]
[{"$f":"IF(OR($A175=1,'2.Plant Water Intake&Discharge'!$F$56=0),1,0)","v":1},null,null,null,{"$f":"E166","v":"Ocean or Tide"},null,{"$f":"INDEX('6.System Water Intake&Discharge'!$T$34:$Y$44,MATCH($B175,'6.System Water Intake&Discharge'!$B$34:$B$44,0),MATCH($E178,'6.System Water Intake&Discharge'!$T$33:$Y$33,0))","v":0}]
[{"$f":"IF(OR($A175=1,'2.Plant Water Intake&Discharge'!$G$56=0),1,0)","v":1},null,null,null,{"$f":"E167","v":"Groundwater"},null,{"$f":"INDEX('6.System Water Intake&Discharge'!$T$34:$Y$44,MATCH($B175,'6.System Water Intake&Discharge'!$B$34:$B$44,0),MATCH($E179,'6.System Water Intake&Discharge'!$T$33:$Y$33,0))","v":0}]
[{"$f":"IF(OR($A175=1,'2.Plant Water Intake&Discharge'!$H$56=0),1,0)","v":1},null,null,null,"Onsite Disposal",null,{"$f":"INDEX('6.System Water Intake&Discharge'!$T$34:$Y$44,MATCH($B175,'6.System Water Intake&Discharge'!$B$34:$B$44,0),MATCH($E180,'6.System Water Intake&Discharge'!$T$33:$Y$33,0))","v":0}]
[{"$f":"IF(OR($A$120=1,'1.Plant Info'!$N$63<>\"Yes\"),1,0)","v":1},{"$f":"'6.System Water Intake&Discharge'!B26","v":"-"},null,null,{"$f":"E169","v":"Municipal Sewer"},null,{"$f":"INDEX('6.System Water Intake&Discharge'!$T$34:$Y$44,MATCH($B181,'6.System Water Intake&Discharge'!$B$34:$B$44,0),MATCH($E181,'6.System Water Intake&Discharge'!$T$33:$Y$33,0))","v":0},null,null,null,null,null,null,{"$f":"SUMPRODUCT($G181:$G186*H181:H186)","v":0},{"$f":"SUMPRODUCT($G181:$G186*I181:I186)","v":0},{"$f":"SUMPRODUCT($G181:$G186*J181:J186)","v":0},{"$f":"SUMPRODUCT($G181:$G186*K181:K186)","v":0},{"$f":"SUMPRODUCT($G181:$G186*L181:L186)","v":0},{"$f":"SUMPRODUCT($G181:$G186*N181:N186)","v":0}]
[{"$f":"IF(OR($A181=1,'2.Plant Water Intake&Discharge'!$D$56=0),1,0)","v":1},null,null,null,"Third-party Disposal",null,{"$f":"INDEX('6.System Water Intake&Discharge'!$T$34:$Y$44,MATCH($B181,'6.System Water Intake&Discharge'!$B$34:$B$44,0),MATCH($E182,'6.System Water Intake&Discharge'!$T$33:$Y$33,0))","v":0}]
[{"$f":"IF(OR($A181=1,'2.Plant Water Intake&Discharge'!$E$56=0),1,0)","v":1},null,null,null,"River or Lake",null,{"$f":"INDEX('6.System Water Intake&Discharge'!$T$34:$Y$44,MATCH($B181,'6.System Water Intake&Discharge'!$B$34:$B$44,0),MATCH($E183,'6.System Water Intake&Discharge'!$T$33:$Y$33,0))","v":0}]
[{"$f":"IF(OR($A181=1,'2.Plant Water Intake&Discharge'!$F$56=0),1,0)","v":1},null,null,null,"Ocean or Tide",null,{"$f":"INDEX('6.System Water Intake&Discharge'!$T$34:$Y$44,MATCH($B181,'6.System Water Intake&Discharge'!$B$34:$B$44,0),MATCH($E184,'6.System Water Intake&Discharge'!$T$33:$Y$33,0))","v":0}]
[{"$f":"IF(OR($A181=1,'2.Plant Water Intake&Discharge'!$G$56=0),1,0)","v":1},null,null,null,"Groundwater",null,{"$f":"INDEX('6.System Water Intake&Discharge'!$T$34:$Y$44,MATCH($B181,'6.System Water Intake&Discharge'!$B$34:$B$44,0),MATCH($E185,'6.System Water Intake&Discharge'!$T$33:$Y$33,0))","v":0}]
[{"$f":"IF(OR($A181=1,'2.Plant Water Intake&Discharge'!$H$56=0),1,0)","v":1},null,null,null,"Onsite Disposal",null,{"$f":"INDEX('6.System Water Intake&Discharge'!$T$34:$Y$44,MATCH($B181,'6.System Water Intake&Discharge'!$B$34:$B$44,0),MATCH($E186,'6.System Water Intake&Discharge'!$T$33:$Y$33,0))","v":0}]

{"sheet":"8.Embodied Energy","index":11,"n_rows":56,"n_cols":16,"rows_kept":56,"cut":false,"hidden":false,"merged":[[55,1,55,9],[53,1,53,3],[52,1,52,3],[47,1,47,3],[33,1,33,3],[54,1,54,3],[51,1,51,3],[11,6,12,6],[11,4,11,5],[11,9,12,10],[13,9,13,10],[14,9,14,10],[11,7,12,8],[13,7,13,8],[14,7,14,8],[17,9,17,10],[18,9,18,10],[19,9,19,10],[19,7,19,8],[15,9,15,10],[16,9,16,10],[16,7,16,8],[20,9,20,10],[48,1,48,3],[36,1,36,3],[21,9,21,10],[22,9,22,10],[42,1,42,3],[37,1,37,3],[32,1,32,3],[29,1,29,3],[30,1,30,3],[31,1,31,3],[41,1,41,3],[44,1,44,3],[45,1,45,3],[46,1,46,3],[43,1,43,3],[0,2,0,8],[49,1,49,3],[9,1,9,10],[17,7,17,8],[18,7,18,8],[2,1,2,10],[7,1,7,10],[20,1,20,3],[15,1,15,3],[11,1,12,3],[14,1,14,3],[17,1,17,3],[23,9,23,10],[24,9,24,10],[22,7,22,8],[40,1,40,3],[24,4,24,8],[28,1,28,10],[27,1,27,10],[38,1,38,3],[39,1,39,3],[34,1,34,3],[35,1,35,3],[9,12,24,12],[27,12,55,12],[10,1,10,8],[21,1,21,3],[22,1,22,3],[23,1,23,3],[24,1,24,3],[15,7,15,8],[23,7,23,8],[18,1,18,3],[19,1,19,3],[13,1,13,3],[16,1,16,3],[50,1,50,3],[20,7,20,8],[21,7,21,8]]}
[null,null,"Embodied Energy"]
[]
[null,{"$f":"HelperTab!$B$29","v":"User Input Instructions"}]
[null,{"$f":"HelperTab!B30","v":"Yellow"},{"$f":"HelperTab!C30","v":"Please input data ONLY in the yellow cells."}]
[null,{"$f":"HelperTab!B31","v":"Orange"},{"$f":"HelperTab!C31","v":"Please select from the drop-down menu in the orange cells."}]
[null,{"$f":"HelperTab!B32","v":"Tan"},{"$f":"HelperTab!C32","v":"Please DO NOT enter any data or delete values in the tan cells. They contain formulae."}]
[null,{"$f":"HelperTab!B34","v":"Gray"},{"$f":"HelperTab!C34","v":"Please DO NOT enter any data in the gray cells. They are not applicable to your plant."}]
[null,{"$f":"HelperTab!$B$35","v":"Please give your best estimate if the exact data is not known."}]
[]
[null,"Part 8.1 - Heat Energy in Wastewater Leaving the Plant",null,null,null,null,null,null,null,null,null,null,"Wastewater Heat Energy Calculations\n\nV = Quantity of Wastewater Discharged (Million Gallon)\nr = Density of Water = 8.3454 lb/gal\nCp = Specific Heat of Water = 1.00 Btu/lb-°F\nTi = Average Temperature of Source Water (°F)\nTo = Average Temperature of Leaving Wastewater (°F)\nh = Heating Efficiency = 0.78 (assumed)\nQ = Heat Energy in Wastewater (Million Btu) \n\nQ = [V*r*Cp*(To-Ti)]/h\n"]
[null,"This table calculates the heat energy in wastewater leaving the plant. For each water-using system, please provide the average temperature of incoming source water and outgoing wastewater.",null,null,null,null,null,null,null,"Heating Efficiency:"]
[null,{"$f":"'1.Plant Info'!B51","v":"Water-Using System"},null,null,"Water Temperature (°F)",null,"Temperature Rise (°F)","Quantity of Wastewater Discharge (Million Gallon)",null,"Heat Energy in Wastewater (MMBtu)",null,null,null,null,"Density (lb/gal)",8.3453999999999997]
[null,null,null,null,"Incoming Source Water","Outgoing Wastewater",null,null,null,null,null,null,null,null,"Specific heat (Btu/lb-°F)",1]
[null,{"$f":"'True Cost'!A7","v":"-"},null,null,null,null,{"$f":"MAX(0,F14-E14)","v":0},{"$f":"'4.System Water Balance'!H37","v":0},null,{"$f":"H14*$P$12*$P$13*G14/IF(ISBLANK($K$11),1,$K$11)","v":0}]
[null,{"$f":"'True Cost'!A8","v":"-"},null,null,null,null,0,{"$f":"'4.System Water Balance'!H38","v":0},null,{"$f":"H15*$P$12*$P$13*G15/IF(ISBLANK($K$11),1,$K$11)","v":0}]
[null,{"$f":"'True Cost'!A9","v":"-"},null,null,null,null,0,{"$f":"'4.System Water Balance'!H39","v":0},null,0]
[null,{"$f":"'True Cost'!A10","v":"-"},null,null,null,null,0,{"$f":"'4.System Water Balance'!H40","v":0},null,0]
[null,{"$f":"'True Cost'!A11","v":"-"},null,null,null,null,0,{"$f":"'4.System Water Balance'!H41","v":0},null,0]
[null,{"$f":"'True Cost'!A12","v":"-"},null,null,null,null,0,{"$f":"'4.System Water Balance'!H42","v":0},null,0]
[null,{"$f":"'True Cost'!A13","v":"-"},null,null,null,null,0,{"$f":"'4.System Water Balance'!H43","v":0},null,0]
[null,{"$f":"'True Cost'!A14","v":"-"},null,null,null,null,0,{"$f":"'4.System Water Balance'!H44","v":0},null,0]
[null,{"$f":"'True Cost'!A15","v":"-"},null,null,null,null,0,{"$f":"'4.System Water Balance'!H45","v":0},null,0]
[null,{"$f":"'True Cost'!A16","v":"-"},null,null,null,null,0,{"$f":"'4.System Water Balance'!H46","v":0},null,0]
[null,{"$f":"'True Cost'!A17","v":"-"},null,null,null,null,0,{"$f":"'4.System Water Balance'!H47","v":0},null,0]
[null,"TOTAL",null,null,null,null,null,null,null,{"$f":"SUM(J14:K24)","v":0}]
[]
[]
[null,"Part 8.2 - Pump, Fan and Motor Energy",null,null,null,null,null,null,null,null,null,null,"Pump/Motor Energy Use Calculations\n\nN = Number of pumps, fans or motors.\nH = Hours of Operation per Year\nL = Load Factor\nhp = Horsepower\nh = Efficiency\nE = Pump Energy Use (kWh) \n\nE = (0.746 * hp * N * L / h) * H"]
[null,"This table calculates the electricity use associated with pump, fan and other motor-driven equipment to use water in your plant. Please select the water-using system from the drop-down lists and enter data in the highlighted cells."]
[null,{"$f":"'1.Plant Info'!B51","v":"Water-Using System"},null,null,"Description","Number","Hours of Operation per Year","Load Factor","Horsepower","Efficiency (%)","Energy Use (kWh)"]
[null,null,null,null,null,null,null,null,null,null,{"$f":"IFERROR((0.746*I31*F31/J31)*H31*G31,0)","v":0}]
[null,null,null,null,null,null,null,null,null,null,{"$f":"IFERROR((0.746*I32*F32/J32)*H32*G32,0)","v":0}]
[null,null,null,null,null,null,null,null,null,null,0]
[null,null,null,null,null,null,null,null,null,null,{"$f":"IFERROR((0.746*I34*F34/J34)*H34*G34,0)","v":0}]
[null,null,null,null,null,null,null,null,null,null,{"$f":"IFERROR((0.746*I35*F35/J35)*H35*G35,0)","v":0}]
[null,null,null,null,null,null,null,null,null,null,0]
[null,null,null,null,null,null,null,null,null,null,0]
[null,null,null,null,null,null,null,null,null,null,0]
[null,null,null,null,null,null,null,null,null,null,0]
[null,null,null,null,null,null,null,null,null,null,0]
[null,null,null,null,null,null,null,null,null,null,0]
[null,null,null,null,null,null,null,null,null,null,0]
[null,null,null,null,null,null,null,null,null,null,0]
[null,null,null,null,null,null,null,null,null,null,0]
[null,null,null,null,null,null,null,null,null,null,0]
[null,null,null,null,null,null,null,null,null,null,0]
[null,null,null,null,null,null,null,null,null,null,0]
[null,null,null,null,null,null,null,null,null,null,0]
[null,null,null,null,null,null,null,null,null,null,0]
[null,null,null,null,null,null,null,null,null,null,0]
[null,null,null,null,null,null,null,null,null,null,0]
[null,null,null,null,null,null,null,null,null,null,0]
[null,null,null,null,null,null,null,null,null,null,0]
[null,null,null,null,null,null,null,null,null,null,0]
[null,null,null,null,null,null,null,null,null,null,0]
[null,"TOTAL",null,null,null,null,null,null,null,null,{"$f":"SUM(K31:K55)","v":0}]

{"sheet":"9.Plant Water Efficiency Status","index":12,"n_rows":28,"n_cols":12,"rows_kept":28,"cut":false,"hidden":false,"merged":[[32,1,32,2],[27,1,27,2],[20,2,20,8],[12,2,12,8],[15,2,15,8],[16,2,16,8],[17,2,17,8],[18,2,18,8],[19,2,19,8],[27,4,27,9],[28,4,28,9],[29,4,29,9],[30,4,30,9],[31,4,31,9],[32,4,32,9],[28,1,28,2],[29,1,29,2],[30,1,30,2],[31,1,31,2],[26,1,26,9],[25,1,25,9],[13,2,13,8],[0,1,0,2],[2,1,2,9],[5,1,5,9],[8,1,8,9],[3,1,3,2],[4,1,4,2],[7,1,7,9],[9,2,9,8],[10,2,10,8],[11,2,11,8],[21,2,21,8],[22,2,22,8],[14,2,14,8]]}
[null,null,null,"Plant Water Efficiency Status"]
[]
[null,{"$f":"HelperTab!$B$29","v":"User Input Instructions"}]
[null,{"$f":"HelperTab!B30","v":"Yellow"},{"$f":"HelperTab!C30","v":"Please input data ONLY in the yellow cells."},{"$f":"HelperTab!C30","v":"Please input data ONLY in the yellow cells."}]
[null,{"$f":"HelperTab!B31","v":"Orange"},{"$f":"HelperTab!C31","v":"Please select from the drop-down menu in the orange cells."},{"$f":"HelperTab!C31","v":"Please select from the drop-down menu in the orange cells."}]
[null,{"$f":"HelperTab!$B$35","v":"Please give your best estimate if the exact data is not known."}]
[]
[null,"Part 9.1 - Water Management Questions"]
[null,"Please select the answers from the drop-down list to indicate water management practices that were followed in your plant during the analysis year."]
[null,1,"Is there a formal water management plan at your plant?",null,null,null,null,null,null,null,null,"Put together a formal water management plan."]
[null,2,"Is there a Water Management Team at your plant?",null,null,null,null,null,null,null,null,"Form a cross-functional Water Management Team."]
[null,3,"Is there a formal method of communication in place for employees?",null,null,null,null,null,null,null,null,"Construct a formal methodology to communicate water management practices to employees."]
[null,4,"Do you use life-cycle cost analysis for evaluating and selecting water-efficiency projects?",null,null,null,null,null,null,null,null,"Make use of life-cycle cost analysis to evaluate and select water efficiency projects."]
[null,5,"Are there economic criteria established for water-efficiency projects (for example, maximum payback period)?",null,null,null,null,null,null,null,null,"Establish suitable payback periods for water efficiency projects."]
[null,6,"Does your plant recycle water onsite, for example, in the same process or treated and applied to other processes?",null,null,null,null,null,null,null,null,"Recycle water on site. For example, industrial wastewater may be recycled in the same process or treated and applied to other processes at the same site."]
[null,7,"Is the quality of source water matched with the quality required by the use?",null,null,null,null,null,null,null,null,"Match the quality of source water with the quality required by the use."]
[null,8,"Are measures implemented to minimize or eliminate potable water use for landscape irrigation, dust control, and cooling water?",null,null,null,null,null,null,null,null,"Use treated municipal and industrial wastewater instead of potable supplies for landscape irrigation, dust control, and cooling water."]
[null,9,"Are the thermal and chemical requirements of water in various processes and equipment in the plant well-understood?",null,null,null,null,null,null,null,null,"Understand why and how water is used in the various processes and equipment in the facility. Know the different thermal and chemical requirements of these water uses."]
[null,10,"Are measures implemented to conserve water by reducing water use?",null,null,null,null,null,null,null,null,"Actively identify conservation measures that will reduce water use while sustaining production."]
[null,11,"Are measures implemented to conserve both water and energy, for example, recycling warm water rather than heating intake water?",null,null,null,null,null,null,null,null,"Try to conserve water and energy together, particularly when the energy is heat. Recycling warm water saves energy."]
[null,12,"Are measures implemented to reduce wastewater as well as toxic waste disposal?",null,null,null,null,null,null,null,null,"Try to reduce wastewater and toxic waste disposal. Efficient water management will decrease wastewater volume and require fewer chemicals that may produce toxic byproducts. When considered together, conservation becomes more cost effective."]
[null,13,"Do water and wastewater utilities provide rebates and other financial assistance for implementing water conservation measures?",null,null,null,null,null,null,null,null,"Encourage water and wastewater utilities to provide rebates and other financial assistance to offset part of the initial cost of implementing water conservation measures."]
[null,14,"Does your plant pay or have justification to request for reduced wastewater utility rates?",null,null,null,null,null,null,null,null,"Use the site audit analysis and water conservation plan to justify requests for reductions in wastewater charges."]
[]
[]
[null,"Part 9.2 - Water Efficiency Projects Implemented in Your Plant",null,null,null,null,null,null,null,null,null,"Yes"]
[null,"Please provide a short decription of water efficiency projects that have been implemented at your plant during the analysis year.",null,null,null,null,null,null,null,null,null,"No"]
[null,"Name of the project",null,"Date of Implementation","Description of the project",null,null,null,null,null,null,"NA"]

{"sheet":"10.System WaterEfficiencyStatus","index":13,"n_rows":183,"n_cols":13,"rows_kept":183,"cut":false,"hidden":false,"merged":[[9,1,9,5],[5,1,5,9],[91,1,91,8],[82,1,82,8],[83,1,83,8],[84,1,84,8],[85,1,85,8],[86,1,86,8],[2,1,2,9],[22,1,22,9],[10,1,10,5],[10,6,10,7],[10,8,10,9],[11,1,11,5],[11,6,11,7],[11,8,11,9],[7,1,7,9],[8,1,8,9],[9,6,9,7],[9,8,9,9],[14,1,14,5],[14,6,14,7],[14,8,14,9],[15,1,15,5],[15,6,15,7],[15,8,15,9],[12,1,12,5],[12,6,12,7],[12,8,12,9],[13,1,13,5],[13,6,13,7],[13,8,13,9],[18,1,18,5],[18,6,18,7],[18,8,18,9],[19,1,19,5],[19,6,19,7],[19,8,19,9],[16,1,16,5],[16,6,16,7],[16,8,16,9],[17,1,17,5],[17,6,17,7],[17,8,17,9],[35,1,35,8],[36,1,36,8],[33,1,33,8],[34,1,34,8],[31,1,31,8],[32,1,32,8],[20,1,20,5],[20,6,20,7],[20,8,20,9],[24,1,24,9],[29,1,29,8],[30,1,30,8],[27,1,27,8],[28,1,28,8],[25,1,25,8],[26,1,26,8],[23,1,23,9],[46,1,46,8],[43,1,43,8],[44,1,44,8],[45,1,45,8],[48,1,48,8],[40,1,40,8],[41,1,41,8],[42,1,42,8],[37,1,37,8],[38,1,38,8],[39,1,39,8],[69,1,69,8],[66,1,66,8],[67,1,67,8],[68,1,68,8],[47,1,47,9],[63,1,63,8],[64,1,64,8],[65,1,65,8],[60,1,60,8],[61,1,61,8],[62,1,62,8],[57,1,57,8],[58,1,58,8],[59,1,59,8],[54,1,54,8],[55,1,55,8],[56,1,56,8],[52,1,52,8],[53,1,53,8],[49,1,49,8],[50,1,50,8],[51,1,51,8],[70,1,70,9],[93,1,93,9],[98,1,98,8],[99,1,99,8],[96,1,96,8],[97,1,97,8],[94,1,94,8],[95,1,95,8],[75,1,75,8],[76,1,76,8],[73,1,73,8],[74,1,74,8],[71,1,71,8],[72,1,72,8],[77,1,77,8],[78,1,78,8],[79,1,79,8],[80,1,80,8],[81,1,81,8],[92,1,92,8],[87,1,87,8],[88,1,88,8],[89,1,89,8],[90,1,90,8],[106,1,106,8],[107,1,107,8],[108,1,108,8],[103,1,103,8],[104,1,104,8],[105,1,105,8],[100,1,100,8],[101,1,101,8],[102,1,102,8],[117,1,117,8],[118,1,118,8],[115,1,115,8],[116,1,116,8],[113,1,113,8],[114,1,114,8],[112,1,112,9],[109,1,109,8],[110,1,110,8],[111,1,111,8],[127,1,127,8],[128,1,128,8],[125,1,125,8],[126,1,126,8],[123,1,123,8],[124,1,124,8],[121,1,121,8],[122,1,122,8],[119,1,119,8],[120,1,120,8],[138,1,138,8],[139,1,139,8],[131,1,131,9],[129,1,129,8],[130,1,130,8],[136,1,136,8],[137,1,137,8],[134,1,134,8],[135,1,135,8],[132,1,132,8],[133,1,133,8],[148,1,148,8],[149,1,149,8],[146,1,146,8],[147,1,147,8],[144,1,144,8],[145,1,145,8],[142,1,142,8],[143,1,143,8],[140,1,140,8],[141,1,141,8],[161,1,161,8],[158,1,158,8],[165,1,165,8],[151,1,151,8],[152,1,152,8],[150,1,150,9],[156,1,156,8],[157,1,157,9],[153,1,153,8],[154,1,154,8],[155,1,155,8],[0,2,0,7],[0,12,20,12],[178,1,178,9],[182,1,182,8],[180,1,180,8],[181,1,181,8],[179,1,179,8],[174,1,174,8],[175,1,175,8],[173,1,173,8],[176,1,176,8],[177,1,177,8],[171,1,171,8],[172,1,172,9],[167,1,167,8],[168,1,168,8],[169,1,169,8],[166,1,166,8],[162,1,162,8],[163,1,163,8],[164,1,164,9],[170,1,170,8],[159,1,159,8],[160,1,160,8]]}
[null,null,"System Water Efficiency Status",null,null,null,null,null,null,null,null,null,"MACRO:\n\nPrivate Sub Worksheet_Activate()\n\nDim c As Range\nApplication.ScreenUpdating = False\nThisWorkbook.Worksheets(\"10.System WaterEfficiencyStatus\").Unprotect\n\nFor Each c In Range(\"A1:A186\")\nIf c.Value = \"1\" Then\nc.EntireRow.Hidden = True\nElse\nc.EntireRow.Hidden = False\nEnd If\nNext c\nThisWorkbook.Worksheets(\"10.System WaterEfficiencyStatus\").Protect\nApplication.ScreenUpdating = True\n\nEnd Sub"]
[]
[null,{"$f":"HelperTab!$B$29","v":"User Input Instructions"}]
[null,{"$f":"HelperTab!B31","v":"Orange"},{"$f":"HelperTab!C31","v":"Please select from the drop-down menu in the orange cells."}]
[null,{"$f":"HelperTab!B34","v":"Gray"},{"$f":"HelperTab!C34","v":"Please DO NOT enter any data in the gray cells. They are not applicable to your plant."}]
[null,{"$f":"HelperTab!$B$35","v":"Please give your best estimate if the exact data is not known."}]
[]
[null,"Part 10.1 - Status of System Assessment and Water Efficiency Measures Implementation"]
[null,"Please indicate the status of system assessment and water efficiency measures implementation in the last 3 years."]
[null,{"$f":"'1.Plant Info'!B51","v":"Water-Using System"},null,null,null,null,"System Assessment Status",null,"Measures Implementation Status",null,null,"Completed"]
[null,{"$f":"'6.System Water Intake&Discharge'!B16","v":"-"},null,null,null,null,null,null,null,null,null,"Not conducted/Don't know"]
[null,{"$f":"'6.System Water Intake&Discharge'!B17","v":"-"},null,null,null,null,null,null,null,null,null,"NA"]
[null,{"$f":"'6.System Water Intake&Discharge'!B18","v":"-"}]
[null,{"$f":"'6.System Water Intake&Discharge'!B19","v":"-"},null,null,null,null,null,null,null,null,null,"Substantially Completed"]
[null,{"$f":"'6.System Water Intake&Discharge'!B20","v":"-"},null,null,null,null,null,null,null,null,null,"Little/None Completed"]
[null,{"$f":"'6.System Water Intake&Discharge'!B21","v":"-"},null,null,null,null,null,null,null,null,null,"NA"]
[null,{"$f":"'6.System Water Intake&Discharge'!B22","v":"-"}]
[null,{"$f":"'6.System Water Intake&Discharge'!B23","v":"-"},null,null,null,null,null,null,null,null,null,"Yes"]
[null,{"$f":"'6.System Water Intake&Discharge'!B24","v":"-"},null,null,null,null,null,null,null,null,null,"No"]
[null,{"$f":"'6.System Water Intake&Discharge'!B25","v":"-"},null,null,null,null,null,null,null,null,null,"NA"]
[null,{"$f":"'6.System Water Intake&Discharge'!B26","v":"-"}]
[]
[null,"Part 10.2 - System-Specific Water Efficiency Measures Implemented in Your Plant"]
[null,"Please indicate if the following system-specific water efficiency measures are implemented in your plant. Select NA if a measure is not applicable to your plant or its water-using systems.",null,null,null,null,null,null,null,null,null,"Resource"]
[{"$f":"IF('1.Plant Info'!N$53=\"Yes\",0,1)","v":1},{"$f":"'6.System Water Intake&Discharge'!B16","v":"-"},null,null,null,null,null,null,null,null,null,null,{"$f":"B25","v":"-"}]
[{"$f":"A25","v":1},"Have you installed equipment (e.g., timers, solenoids, level/pressure switches) to automatically shut off water flow when water is not required, such as at the end of a production cycle?",null,null,null,null,null,null,null,null,null,null,"Installed equipment to automatically shut off water flow when water is not required,  such as at the end of a production cycle."]
[{"$f":"A26","v":1},"Are solenoids and automatic shutoff mechanisms checked regularly to ensure that they are working properly?",null,null,null,null,null,null,null,null,null,null,"Regularly check solenoids and automatic shutoff mechanisms to ensure that they are working properly."]
[1,"Is equipment set to the minimum flow rates recommended by the manufacturer?",null,null,null,null,null,null,null,null,null,null,"Set equipment to the minimum flow rates recommended by the manufacturer."]
[1,"Have pressure-reducing devices been installed on equipment that does not require high pressure?",null,null,null,null,null,null,null,null,null,null,"Install pressure-reducing devices on equipment that does not require high pressure."]
[1,"Does process equipment reuse water (i.e., closed loop) or use reclaimed water from other parts of the facility?",null,null,null,null,null,null,null,null,null,null,"Reuse water (closed loop) or use reclaimed water from other parts of the facility for process equipment."]
[1,"Have you replaced water-based transportation with either waterless techniques or recycled water?",null,null,null,null,null,null,null,null,null,null,"Replace water-based transportation with either waterless techniques or recycled water."]
[1,"Are signs posted near equipment encouraging employee awareness of water use and discouraging tampering with equipment flow rate?",null,null,null,null,null,null,null,null,null,null,"Post signs near equipment encouraging employee awareness of water use, and discouraging tampering with equipment flow rate."]
[1,"Are all hoses equipped with an automatic shutoff nozzle?",null,null,null,null,null,null,null,null,null,null,"Equip all hoses with an automatic shutoff nozzle."]
[1,"Has process cleaning or facility cleaning been replaced with or supplemented by waterless techniques (e.g., burnout ovens, ultrasonic cleaning) where possible?",null,null,null,null,null,null,null,null,null,null,"Replace or supplement process cleaning or facility cleaning with waterless techniques (e.g., using burnout ovens, ultrasonic cleaning, using alternative methods to clean products or containers or sweeping debris off the floor), where possible."]
[1,"Are improved rinsing techniques used and optimized: counter-current systems?",null,null,null,null,null,null,null,null,null,null,"Use counter-current system for rinsing."]
[1,"Are improved rinsing techniques used and optimized: sequential use from high to lower quality needs?",null,null,null,null,null,null,null,null,null,null,"For rinsing, consider sequential use from high to lower quality needs."]
[1,"Are improved rinsing techniques used and optimized: conductivity flow controls?",null,null,null,null,null,null,null,null,null,null,"Use conductivity flow controls for rinsing."]
[1,"Are improved rinsing techniques used and optimized: improved spray nozzles/pressure rinsing?",null,null,null,null,null,null,null,null,null,null,"Use improved spray nozzles/pressure rinsing improved rinsing."]
[1,"Are improved rinsing techniques used and optimized: fog rinsing?",null,null,null,null,null,null,null,null,null,null,"Use fog rinsing."]
[1,"Is spent rinse water reclaimed and reused for lower grade processes or for other facility applications?",null,null,null,null,null,null,null,null,null,null,"Reclaim and reuse spent rinse water for lower grade processes or for other facility applications."]
[1,"Have steps been taken to reduce the water used by open steam sterilizers (e.g., utilizing jacket and chamber)?",null,null,null,null,null,null,null,null,null,null,"Take steps to reduce the water used by steam sterilizers, such as jacket and chamber."]
[1,"Are you using detergents that can easily be removed with little water?",null,null,null,null,null,null,null,null,null,null,"Use detergents that can easily be removed with little water."]
[1,"Is water used for cleaning submetered?",null,null,null,null,null,null,null,null,null,null,"Install submeter for water used for cleaning."]
[1,"Are the flow parameters for cleaning systems monitored periodically?",null,null,null,null,null,null,null,null,null,null,"Integrate periodic monitoring of flow parameters in cleaning systems to reduce longer-than-necessary rinse flows. Parameters may include flow, time, temperature, pressure, and conductivity."]
[1,"Are employees aware of deionized/reverse osmosis (or other specially treated) water use?",null,null,null,null,null,null,null,null,null,null,"Scrutinize deionized water use carefully by making employees aware of deionized water use."]
[1,"Are conductivity controllers used in rinses?",null,null,null,null,null,null,null,null,null,null,"Use conductivity controllers to control quality of water in rinses."]
[1,"At wash station, are booster pumps used with low-pressure water instead of high-pressure water?",null,null,null,null,null,null,null,null,null,null,"Use low-pressure portable pumps for wash stations to reduce the total amount of water discharged."]
[{"$f":"IF('1.Plant Info'!N$54=\"Yes\",0,1)","v":1},{"$f":"'6.System Water Intake&Discharge'!B17","v":"-"},null,null,null,null,null,null,null,null,null,null,{"$f":"B48","v":"-"}]
[{"$f":"A48","v":1},"Have you installed equipment (e.g., timers, solenoids, level/pressure switches) to automatically shut off water flow when water is not required, such as at the end of a production cycle?",null,null,null,null,null,null,null,null,null,null,{"$f":"M26","v":"Installed equipment to automatically shut off water flow when water is not required,  such as at the end of a production cycle."}]
[{"$f":"A49","v":1},"Are solenoids and automatic shutoff mechanisms checked regularly to ensure that they are working properly?",null,null,null,null,null,null,null,null,null,null,{"$f":"M27","v":"Regularly check solenoids and automatic shutoff mechanisms to ensure that they are working properly."}]
[1,"Is equipment set to the minimum flow rates recommended by the manufacturer?",null,null,null,null,null,null,null,null,null,null,"Set equipment to the minimum flow rates recommended by the manufacturer."]
[1,"Have pressure-reducing devices been installed on equipment that does not require high pressure?",null,null,null,null,null,null,null,null,null,null,"Install pressure-reducing devices on equipment that does not require high pressure."]
[1,"Does process equipment reuse water (i.e., closed loop) or use reclaimed water from other parts of the facility?",null,null,null,null,null,null,null,null,null,null,"Reuse water (closed loop) or use reclaimed water from other parts of the facility for process equipment."]
[1,"Have you replaced water-based transportation with either waterless techniques or recycled water?",null,null,null,null,null,null,null,null,null,null,"Replace water-based transportation with either waterless techniques or recycled water."]
[1,"Are signs posted near equipment encouraging employee awareness of water use and discouraging tampering with equipment flow rate?",null,null,null,null,null,null,null,null,null,null,"Post signs near equipment encouraging employee awareness of water use, and discouraging tampering with equipment flow rate."]
[1,"Are all hoses equipped with an automatic shutoff nozzle?",null,null,null,null,null,null,null,null,null,null,"Equip all hoses with an automatic shutoff nozzle."]
[1,"Has process cleaning or facility cleaning been replaced with or supplemented by waterless techniques (e.g., burnout ovens, ultrasonic cleaning) where possible?",null,null,null,null,null,null,null,null,null,null,"Replace or supplement process cleaning or facility cleaning with waterless techniques (e.g., using burnout ovens, ultrasonic cleaning, using alternative methods to clean products or containers or sweeping debris off the floor), where possible."]
[1,"Are improved rinsing techniques used and optimized: counter-current systems?",null,null,null,null,null,null,null,null,null,null,"Use counter-current system for rinsing."]
[1,"Are improved rinsing techniques used and optimized: sequential use from high to lower quality needs?",null,null,null,null,null,null,null,null,null,null,"For rinsing, consider sequential use from high to lower quality needs."]
[1,"Are improved rinsing techniques used and optimized: conductivity flow controls?",null,null,null,null,null,null,null,null,null,null,"Use conductivity flow controls for rinsing."]
[1,"Are improved rinsing techniques used and optimized: improved spray nozzles/pressure rinsing?",null,null,null,null,null,null,null,null,null,null,"Use improved spray nozzles/pressure rinsing improved rinsing."]
[1,"Are improved rinsing techniques used and optimized: fog rinsing?",null,null,null,null,null,null,null,null,null,null,"Use fog rinsing."]
[1,"Is spent rinse water reclaimed and reused for lower grade processes or for other facility applications?",null,null,null,null,null,null,null,null,null,null,"Reclaim and reuse spent rinse water for lower grade processes or for other facility applications."]
[1,"Have steps been taken to reduce the water used by open steam sterilizers (e.g., utilizing jacket and chamber)?",null,null,null,null,null,null,null,null,null,null,"Take steps to reduce the water used by steam sterilizers, such as jacket and chamber."]
[1,"Are you using detergents that can easily be removed with little water?",null,null,null,null,null,null,null,null,null,null,"Use detergents that can easily be removed with little water."]
[1,"Is water used for cleaning submetered?",null,null,null,null,null,null,null,null,null,null,"Install submeter for water used for cleaning."]
[1,"Are the flow parameters for cleaning systems monitored periodically?",null,null,null,null,null,null,null,null,null,null,"Integrate periodic monitoring of flow parameters in cleaning systems to reduce longer-than-necessary rinse flows. Parameters may include flow, time, temperature, pressure, and conductivity."]
[1,"Are employees aware of deionized/reverse osmosis (or other specially treated) water use?",null,null,null,null,null,null,null,null,null,null,"Scrutinize deionized water use carefully by making employees aware of deionized water use."]
[1,"Are conductivity controllers used in rinses?",null,null,null,null,null,null,null,null,null,null,"Use conductivity controllers to control quality of water in rinses."]
[1,"At wash station, are booster pumps used with low-pressure water instead of high-pressure water?",null,null,null,null,null,null,null,null,null,null,"Use low-pressure portable pumps for wash stations to reduce the total amount of water discharged."]
[{"$f":"IF('1.Plant Info'!N$55=\"Yes\",0,1)","v":1},{"$f":"'6.System Water Intake&Discharge'!B18","v":"-"},null,null,null,null,null,null,null,null,null,null,{"$f":"B71","v":"-"}]
[1,"Have you installed equipment (e.g., timers, solenoids, level/pressure switches) to automatically shut off water flow when water is not required, such as at the end of a production cycle?",null,null,null,null,null,null,null,null,null,null,{"$f":"M26","v":"Installed equipment to automatically shut off water flow when water is not required,  such as at the end of a production cycle."}]
[1,"Are solenoids and automatic shutoff mechanisms checked regularly to ensure that they are working properly?",null,null,null,null,null,null,null,null,null,null,{"$f":"M27","v":"Regularly check solenoids and automatic shutoff mechanisms to ensure that they are working properly."}]
[1,"Is equipment set to the minimum flow rates recommended by the manufacturer?",null,null,null,null,null,null,null,null,null,null,"Set equipment to the minimum flow rates recommended by the manufacturer."]
[1,"Have pressure-reducing devices been installed on equipment that does not require high pressure?",null,null,null,null,null,null,null,null,null,null,"Install pressure-reducing devices on equipment that does not require high pressure."]
[1,"Does process equipment reuse water (i.e., closed loop) or use reclaimed water from other parts of the facility?",null,null,null,null,null,null,null,null,null,null,"Reuse water (closed loop) or use reclaimed water from other parts of the facility for process equipment."]
[1,"Have you replaced water-based transportation with either waterless techniques or recycled water?",null,null,null,null,null,null,null,null,null,null,"Replace water-based transportation with either waterless techniques or recycled water."]
[1,"Are signs posted near equipment encouraging employee awareness of water use and discouraging tampering with equipment flow rate?",null,null,null,null,null,null,null,null,null,null,"Post signs near equipment encouraging employee awareness of water use, and discouraging tampering with equipment flow rate."]
[1,"Are all hoses equipped with an automatic shutoff nozzle?",null,null,null,null,null,null,null,null,null,null,"Equip all hoses with an automatic shutoff nozzle."]
[1,"Has process cleaning or facility cleaning been replaced with or supplemented by waterless techniques (e.g., burnout ovens, ultrasonic cleaning) where possible?",null,null,null,null,null,null,null,null,null,null,"Replace or supplement process cleaning or facility cleaning with waterless techniques (e.g., using burnout ovens, ultrasonic cleaning, using alternative methods to clean products or containers or sweeping debris off the floor), where possible."]
[1,"Are improved rinsing techniques used and optimized: counter-current systems?",null,null,null,null,null,null,null,null,null,null,"Use counter-current system for rinsing."]
[1,"Are improved rinsing techniques used and optimized: sequential use from high to lower quality needs?",null,null,null,null,null,null,null,null,null,null,"For rinsing, consider sequential use from high to lower quality needs."]
[1,"Are improved rinsing techniques used and optimized: conductivity flow controls?",null,null,null,null,null,null,null,null,null,null,"Use conductivity flow controls for rinsing."]
[1,"Are improved rinsing techniques used and optimized: improved spray nozzles/pressure rinsing?",null,null,null,null,null,null,null,null,null,null,"Use improved spray nozzles/pressure rinsing improved rinsing."]
[1,"Are improved rinsing techniques used and optimized: fog rinsing?",null,null,null,null,null,null,null,null,null,null,"Use fog rinsing."]
[1,"Is spent rinse water reclaimed and reused for lower grade processes or for other facility applications?",null,null,null,null,null,null,null,null,null,null,"Reclaim and reuse spent rinse water for lower grade processes or for other facility applications."]
[1,"Have steps been taken to reduce the water used by open steam sterilizers (e.g., utilizing jacket and chamber)?",null,null,null,null,null,null,null,null,null,null,"Take steps to reduce the water used by steam sterilizers, such as jacket and chamber."]
[1,"Are you using detergents that can easily be removed with little water?",null,null,null,null,null,null,null,null,null,null,"Use detergents that can easily be removed with little water."]
[1,"Is water used for cleaning submetered?",null,null,null,null,null,null,null,null,null,null,"Install submeter for water used for cleaning."]
[1,"Are the flow parameters for cleaning systems monitored periodically?",null,null,null,null,null,null,null,null,null,null,"Integrate periodic monitoring of flow parameters in cleaning systems to reduce longer-than-necessary rinse flows. Parameters may include flow, time, temperature, pressure, and conductivity."]
[1,"Are employees aware of deionized/reverse osmosis (or other specially treated) water use?",null,null,null,null,null,null,null,null,null,null,"Scrutinize deionized water use carefully by making employees aware of deionized water use."]
[1,"Are conductivity controllers used in rinses?",null,null,null,null,null,null,null,null,null,null,"Use conductivity controllers to control quality of water in rinses."]
[1,"At wash station, are booster pumps used with low-pressure water instead of high-pressure water?",null,null,null,null,null,null,null,null,null,null,"Use low-pressure portable pumps for wash stations to reduce the total amount of water discharged."]
[{"$f":"IF('1.Plant Info'!N$56=\"Yes\",0,1)","v":1},{"$f":"'6.System Water Intake&Discharge'!B19","v":"-"},null,null,null,null,null,null,null,null,null,null,{"$f":"B94","v":"-"}]
[1,"Has once-through cooling water been eliminated with the use of chillers, cooling towers, or air-cooled equipment?",null,null,null,null,null,null,null,null,null,"EPA Lean","Eliminate once-through cooling water with the use of chillers, cooling towers, or air-cooled equipment."]
[1,"Has blowdown/bleed-off control on cooling towers and boilers been optimized?",null,null,null,null,null,null,null,null,null,"EPA Lean","Optimize blow-down/bleed-off control on cooling towers and boilers."]
[1,"Is treated wastewater (or other sources of water for cooling tower makeup) reused where possible?",null,null,null,null,null,null,null,null,null,"EPA Lean","Reuse treated wastewater (or other sources of water for cooling tower makeup) where possible?"]
[1,"Are cycles of concentration for cooling towers maximized through efficient water treatment?",null,null,null,null,null,null,null,null,null,"EPA Lean","Maximize cycles of concentration for cooling towers through efficient water treatment."]
[1,"Has a conductivity controller been installed on each cooling tower?",null,null,null,null,null,null,null,null,null,"EPA Lean","Install a conductivity controller on each cooling tower."]
[1,"Have cooling towers been equipped with overflow alarms?",null,null,null,null,null,null,null,null,null,"EPA Lean","Equip cooling towers with overflow alarms."]
[1,"Have the ball float valves been set correctly?",null,null,null,null,null,null,null,null,null,"Seneviratne 2007                            ","Ball float valves should be set to the correct size to minimize overflow of water from cooling tower basins."]
[1,"Do condenser water pipes run above the height of the tower spray heads?",null,null,null,null,null,null,null,null,null,"Seneviratne 2008","Condenser water pipe should be appropriately set to fix incorrect piping configuration."]
[1,"Have maintenance programs been implemented to ensure leaks are routinely checked and fixed as needed?",null,null,null,null,null,null,null,null,null,"Seneviratne 2009","Leaks can be minimized through a well-managed maintenance program. Pump gland leaks can be addressed in a timely manner by repacking them."]
[1,"Are antisplash louvers installed?",null,null,null,null,null,null,null,null,null,"Seneviratne 2010","Constant wetness around the cooling tower is an indication of splash. This may be due to high winds or a design flaw. Install antisplash louvers to minimize splash."]
[1,"Are drift eliminators inspected and assessed by a specialist?",null,null,null,null,null,null,null,null,null,"Seneviratne 2011","Excessive drift results in water and chemical losses making it harder to control voluntary blowdown."]
[1,"Have flow meters been installed on makeup and blowdown lines?",null,null,null,null,null,null,null,null,null,"Seneviratne 2012","Flow meters will allow the operator to closely monitor the volume of water being used and verify that the system is operating at optimum cycles of concentration."]
[1,"Are conductivity meters installed on blowdown lines?",null,null,null,null,null,null,null,null,null,"Seneviratne 2013","Conductivity meters will allow the operator to closely monitor the volume of water being used and verify that the system is operating at optimum cycles of concentration."]
[1,"Are blowdown lines operated in continuous mode?",null,null,null,null,null,null,null,null,null,"Seneviratne 2014","Blowdown operated in continuous control avoids large fluctuations in the conductivity, which wastes water."]
[1,"Has side stream filtration been installed?",null,null,null,null,null,null,null,null,null,"Seneviratne 2015","In the cooling system, suspended solids contribute to clogged spray nozzles, erosion of piping, pumps and heat exchangers resulting in unscheduled plant shutdowns. Side stream filter continuously removes a percentage of the solids loading."]
[1,"Has an automatic shutdown unit been installed for the unit?",null,null,null,null,null,null,null,null,null,"New Mexico 1999","Automatic shutdown reduces water loss when the system is not in working order."]
[1,"Has sulphuric acid been added to adjust pH?",null,null,null,null,null,null,null,null,null,"New Mexico 2000","Carefully adding a controlled amount of sulfuric acid to the cooling tower water lowers the pH and prevents scale by converting a portion of the scale-forming minerals into more soluble forms. This option may reduce water consumption by up to 25 percent."]
[1,"Are high-efficiency drift eliminators in use?",null,null,null,null,null,null,null,null,null,"EPA Lean","Use high-efficiency drift eliminators."]
[{"$f":"IF('1.Plant Info'!N$57=\"Yes\",0,1)","v":1},{"$f":"'6.System Water Intake&Discharge'!B20","v":"-"},null,null,null,null,null,null,null,null,null,null,{"$f":"B113","v":"-"}]
[1,"Has once-through cooling water been eliminated with the use of chillers, cooling towers, or air-cooled equipment?",null,null,null,null,null,null,null,null,null,"EPA Lean",{"$f":"M95","v":"Eliminate once-through cooling water with the use of chillers, cooling towers, or air-cooled equipment."}]
[{"$f":"A114","v":1},"Has blowdown/bleed-off control on cooling towers and boilers been optimized?",null,null,null,null,null,null,null,null,null,"EPA Lean",{"$f":"M96","v":"Optimize blow-down/bleed-off control on cooling towers and boilers."}]
[1,"Is treated wastewater (or other sources of water for cooling tower makeup) reused where possible?",null,null,null,null,null,null,null,null,null,"EPA Lean","Reuse treated wastewater (or other sources of water for cooling tower makeup) where possible?"]
[1,"Are cycles of concentration for cooling towers maximized through efficient water treatment?",null,null,null,null,null,null,null,null,null,"EPA Lean","Maximize cycles of concentration for cooling towers through efficient water treatment."]
[1,"Has a conductivity controller been installed on each cooling tower?",null,null,null,null,null,null,null,null,null,"EPA Lean","Install a conductivity controller on each cooling tower."]
[1,"Have cooling towers been equipped with overflow alarms?",null,null,null,null,null,null,null,null,null,"EPA Lean","Equip cooling towers with overflow alarms."]
[1,"Have the ball float valves been set correctly?",null,null,null,null,null,null,null,null,null,"Seneviratne 2007                            ","Ball float valves should be set to the correct size to minimize overflow of water from cooling tower basins."]
[1,"Do condenser water pipes run above the height of the tower spray heads?",null,null,null,null,null,null,null,null,null,"Seneviratne 2008","Condenser water pipe should be appropriately set to fix incorrect piping configuration."]
[1,"Have maintenance programs been implemented to ensure leaks are routinely checked and fixed as needed?",null,null,null,null,null,null,null,null,null,"Seneviratne 2009","Leaks can be minimized through a well-managed maintenance program. Pump gland leaks can be addressed in a timely manner by repacking them."]
[1,"Are antisplash louvers installed?",null,null,null,null,null,null,null,null,null,"Seneviratne 2010","Constant wetness around the cooling tower is an indication of splash. This may be due to high winds or a design flaw. Install antisplash louvers to minimize splash."]
[1,"Are drift eliminators inspected and assessed by a specialist?",null,null,null,null,null,null,null,null,null,"Seneviratne 2011","Excessive drift results in water and chemical losses making it harder to control voluntary blowdown."]
[1,"Have flow meters been installed on makeup and blowdown lines?",null,null,null,null,null,null,null,null,null,"Seneviratne 2012","Flow meters will allow the operator to closely monitor the volume of water being used and verify that the system is operating at optimum cycles of concentration."]
[1,"Are conductivity meters installed on blowdown lines?",null,null,null,null,null,null,null,null,null,"Seneviratne 2013","Conductivity meters will allow the operator to closely monitor the volume of water being used and verify that the system is operating at optimum cycles of concentration."]
[1,"Are blowdown lines operated in continuous mode?",null,null,null,null,null,null,null,null,null,"Seneviratne 2014","Blowdown operated in continuous control avoids large fluctuations in the conductivity, which wastes water."]
[1,"Has side stream filtration been installed?",null,null,null,null,null,null,null,null,null,"Seneviratne 2015","In the cooling system, suspended solids contribute to clogged spray nozzles, erosion of piping, pumps and heat exchangers resulting in unscheduled plant shutdowns. Side stream filter continuously removes a percentage of the solids loading."]
[1,"Has an automatic shutdown unit been installed for the unit?",null,null,null,null,null,null,null,null,null,"New Mexico 1999","Automatic shutdown reduces water loss when the system is not in working order."]
[1,"Has sulphuric acid been added to adjust pH?",null,null,null,null,null,null,null,null,null,"New Mexico 2000","Carefully adding a controlled amount of sulfuric acid to the cooling tower water lowers the pH and prevents scale by converting a portion of the scale-forming minerals into more soluble forms. This option may reduce water consumption by up to 25 percent."]
[1,"Are high-efficiency drift eliminators in use?",null,null,null,null,null,null,null,null,null,"EPA Lean","Use high-efficiency drift eliminators."]
[{"$f":"IF('1.Plant Info'!N$58=\"Yes\",0,1)","v":1},{"$f":"'6.System Water Intake&Discharge'!B21","v":"-"},null,null,null,null,null,null,null,null,null,null,{"$f":"B132","v":"-"}]
[{"$f":"A132","v":1},"Has once-through cooling water been eliminated with the use of chillers, cooling towers, or air-cooled equipment?",null,null,null,null,null,null,null,null,null,"EPA Lean",{"$f":"M95","v":"Eliminate once-through cooling water with the use of chillers, cooling towers, or air-cooled equipment."}]
[1,"Has blowdown/bleed-off control on cooling towers and boilers been optimized?",null,null,null,null,null,null,null,null,null,"EPA Lean",{"$f":"M96","v":"Optimize blow-down/bleed-off control on cooling towers and boilers."}]
[1,"Is treated wastewater (or other sources of water for cooling tower makeup) reused where possible?",null,null,null,null,null,null,null,null,null,"EPA Lean","Reuse treated wastewater (or other sources of water for cooling tower makeup) where possible?"]
[1,"Are cycles of concentration for cooling towers maximized through efficient water treatment?",null,null,null,null,null,null,null,null,null,"EPA Lean","Maximize cycles of concentration for cooling towers through efficient water treatment."]
[1,"Has a conductivity controller been installed on each cooling tower?",null,null,null,null,null,null,null,null,null,"EPA Lean","Install a conductivity controller on each cooling tower."]
[1,"Have cooling towers been equipped with overflow alarms?",null,null,null,null,null,null,null,null,null,"EPA Lean","Equip cooling towers with overflow alarms."]
[1,"Have the ball float valves been set correctly?",null,null,null,null,null,null,null,null,null,"Seneviratne 2007                            ","Ball float valves should be set to the correct size to minimize overflow of water from cooling tower basins."]
[1,"Do condenser water pipes run above the height of the tower spray heads?",null,null,null,null,null,null,null,null,null,"Seneviratne 2008","Condenser water pipe should be appropriately set to fix incorrect piping configuration."]
[1,"Have maintenance programs been implemented to ensure leaks are routinely checked and fixed as needed?",null,null,null,null,null,null,null,null,null,"Seneviratne 2009","Leaks can be minimized through a well-managed maintenance program. Pump gland leaks can be addressed in a timely manner by repacking them."]
[1,"Are antisplash louvers installed?",null,null,null,null,null,null,null,null,null,"Seneviratne 2010","Constant wetness around the cooling tower is an indication of splash. This may be due to high winds or a design flaw. Install antisplash louvers to minimize splash."]
[1,"Are drift eliminators inspected and assessed by a specialist?",null,null,null,null,null,null,null,null,null,"Seneviratne 2011","Excessive drift results in water and chemical losses making it harder to control voluntary blowdown."]
[1,"Have flow meters been installed on makeup and blowdown lines?",null,null,null,null,null,null,null,null,null,"Seneviratne 2012","Flow meters will allow the operator to closely monitor the volume of water being used and verify that the system is operating at optimum cycles of concentration."]
[1,"Are conductivity meters installed on blowdown lines?",null,null,null,null,null,null,null,null,null,"Seneviratne 2013","Conductivity meters will allow the operator to closely monitor the volume of water being used and verify that the system is operating at optimum cycles of concentration."]
[1,"Are blowdown lines operated in continuous mode?",null,null,null,null,null,null,null,null,null,"Seneviratne 2014","Blowdown operated in continuous control avoids large fluctuations in the conductivity, which wastes water."]
[1,"Has side stream filtration been installed?",null,null,null,null,null,null,null,null,null,"Seneviratne 2015","In the cooling system, suspended solids contribute to clogged spray nozzles, erosion of piping, pumps and heat exchangers resulting in unscheduled plant shutdowns. Side stream filter continuously removes a percentage of the solids loading."]
[1,"Has an automatic shutdown unit been installed for the unit?",null,null,null,null,null,null,null,null,null,"New Mexico 1999","Automatic shutdown reduces water loss when the system is not in working order."]
[1,"Has sulphuric acid been added to adjust pH?",null,null,null,null,null,null,null,null,null,"New Mexico 2000","Carefully adding a controlled amount of sulfuric acid to the cooling tower water lowers the pH and prevents scale by converting a portion of the scale-forming minerals into more soluble forms. This option may reduce water consumption by up to 25 percent."]
[1,"Are high-efficiency drift eliminators in use?",null,null,null,null,null,null,null,null,null,"EPA Lean","Use high-efficiency drift eliminators."]
[{"$f":"IF('1.Plant Info'!N$59=\"Yes\",0,1)","v":1},{"$f":"'6.System Water Intake&Discharge'!B22","v":"-"},null,null,null,null,null,null,null,null,null,null,{"$f":"B151","v":"-"}]
[{"$f":"A151","v":1},"Is condensate return for reuse optimized?",null,null,null,null,null,null,null,null,null,"EPA Lean","As more condensate is returned, less makeup water is required for saving on both water and pretreatment costs."]
[1,"Are steam traps properly located?",null,null,null,null,null,null,null,null,null,"EPA Lean","Incorrect location of steam traps can cause water logging of pipes resulting in water hammering and erosion."]
[1,"Are automatic blowdown control installed?",null,null,null,null,null,null,null,null,null,"EPA Lean","Blowdown should be properly controlled to prevent excessive water loss."]
[1,"Is a conductivity sensor installed on boiler?",null,null,null,null,null,null,null,null,null,"Seneviratne 2014","Install conductivity sensor on boiler to automatically control surface blowdown."]
[1,"Is a boiler blowdown flash tank installed?",null,null,null,null,null,null,null,null,null,"Seneviratne 2014","Install a boiler blowdown flash tank to recover flash steam."]
[1,"Is a flue gas condenser installed?",null,null,null,null,null,null,null,null,null,"Seneviratne 2014","Install flue gas condenser to recover combustion product water."]
[{"$f":"IF('1.Plant Info'!N$60=\"Yes\",0,1)","v":1},{"$f":"'6.System Water Intake&Discharge'!B23","v":"-"},null,null,null,null,null,null,null,null,null,null,{"$f":"B158","v":"-"}]
[{"$f":"A158","v":1},"Is condensate return for reuse optimized?",null,null,null,null,null,null,null,null,null,"EPA Lean",{"$f":"M152","v":"As more condensate is returned, less makeup water is required for saving on both water and pretreatment costs."}]
[1,"Are steam traps located appropriately?",null,null,null,null,null,null,null,null,null,"EPA Lean",{"$f":"M153","v":"Incorrect location of steam traps can cause water logging of pipes resulting in water hammering and erosion."}]
[1,"Has automatic blowdown control been installed?",null,null,null,null,null,null,null,null,null,"EPA Lean","Blowdown should be properly controlled to prevent excessive water loss."]
[1,"Has a conductivity sensor been installed on the boiler?",null,null,null,null,null,null,null,null,null,"Seneviratne 2014","Install conductivity sensor on boiler to automatically control surface blowdown."]
[1,"Has a boiler blowdown flash tank been installed?",null,null,null,null,null,null,null,null,null,"Seneviratne 2014","Install a boiler blowdown flash tank to recover flash steam."]
[1,"Has a flue gas condenser been installed?",null,null,null,null,null,null,null,null,null,"Seneviratne 2014","Install flue gas condenser to recover combustion product water."]
[{"$f":"IF('1.Plant Info'!N$61=\"Yes\",0,1)","v":1},{"$f":"'6.System Water Intake&Discharge'!B24","v":"-"},null,null,null,null,null,null,null,null,null,null,{"$f":"B165","v":"-"}]
[{"$f":"A165","v":1},"Have water-efficient fixtures been installed (e.g., WaterSense-labeled faucets, toilets, urinals, showerheads)? ",null,null,null,null,null,null,null,null,null,"EPA Lean","Install water-efficient fixtures (e.g., WaterSense labeled faucets, toilets, urinals, and showerheads)."]
[1,"Are there signs on dual-flush toilets showing people how to use them?",null,null,null,null,null,null,null,null,null,"EPA Lean","Install signs on dual-flush toilets showing people how to use them."]
[1,"Have metered or spring-loaded faucets, or faucets with sensors, been installed?",null,null,null,null,null,null,null,null,null,"EPA Lean","Install metered or spring-loaded faucets, or faucets with sensors."]
[1,"Does the plant have procedures for using lower water settings for partial laundry loads?",null,null,null,null,null,null,null,null,null,"California 1994","Use less water for partial loads for laundries."]
[1,"Has the plant recalculated laundry formulas for less water?",null,null,null,null,null,null,null,null,null,"California 1994","Recalculate laundry formulas for less water."]
[1,"Does the plant recycle rinse water to the next laundry load?",null,null,null,null,null,null,null,null,null,"California 1994","Recycle rinse water to next wash."]
[1,"Has the plumbing been adjusted to use the minimum amount of water that is functional?",null,null,null,null,null,null,null,null,null,"EPA Lean","Adjust plumbing to use the minimum amount of water that is functional."]
[{"$f":"IF('1.Plant Info'!N$62=\"Yes\",0,1)","v":1},{"$f":"'6.System Water Intake&Discharge'!B25","v":"-"},null,null,null,null,null,null,null,null,null,null,{"$f":"B173","v":"-"}]
[{"$f":"A173","v":1},"Are low-flow sprinklers, trickle/drip irrigation, and optimized watering schedules in use?",null,null,null,null,null,null,null,null,null,"EPA Lean","Use low-flow sprinklers, trickle/drip irrigation, and optimized watering schedules."]
[1,"Are preventive maintenance techniques in place?",null,null,null,null,null,null,null,null,null,"EPA Lean","Use preventive maintenance techniques."]
[1,"Has your facility's landscaping been designed with the local climate in mind, and have plants been grouped by similar watering needs?",null,null,null,null,null,null,null,null,null,"EPA Lean","Design your facility's landscape to consider the local climate and grouped plants by similar watering needs."]
[1,"Is grass planted only in places where it will provide optimal functional and aesthetic benefits?",null,null,null,null,null,null,null,null,null,"EPA Lean","Plant grass only in places where it will provide optimal functional and aesthetic benefits."]
[1,"Are systems in place to capture and reuse rainwater and storm water for landscaping or other uses (e.g., cooling tower makeup, process water, dust suppression)?",null,null,null,null,null,null,null,null,null,"EPA Lean","Use systems to capture and reuse rainwater and storm water for landscaping, or for other uses (e.g., cooling tower make-up, process water, or dust suppression)."]
[{"$f":"IF('1.Plant Info'!N$63=\"Yes\",0,1)","v":1},{"$f":"'6.System Water Intake&Discharge'!B26","v":"-"},null,null,null,null,null,null,null,null,null,null,{"$f":"B179","v":"-"}]
[{"$f":"A179","v":1},"Are you conducting regular leak inspections?",null,null,null,null,null,null,null,null,null,"EPA Lean","Conduct regular leak inspections."]
[1,"Are leaky faucets, faulty fittings, and broken pipes and hoses identified and repaired promptly?",null,null,null,null,null,null,null,null,null,"EPA Lean","Identify and promptly repair leaky faucets, faulty fittings, and broken pipes and hoses."]
[1,"Are employees (including custodial crews) educated and empowered to identify leaks and point them out for repair?",null,null,null,null,null,null,null,null,null,"EPA Lean","Educate and empower employees (including custodial crews)  to identify leaks and point them out for repair."]
[1,"Is there a user-friendly method to report leaks?",null,null,null,null,null,null,null,null,null,"EPA Lean","Provide a user-friendly method to report leaks."]

{"sheet":"HelperTab","index":14,"n_rows":52,"n_cols":52,"rows_kept":52,"cut":false,"hidden":true,"merged":[[1,0,2,0],[0,0,0,4],[0,5,0,9],[2,8,2,9],[0,40,0,41],[2,10,2,17],[2,5,2,7],[0,10,0,17],[2,30,2,34],[2,35,2,36],[2,26,2,29],[0,26,0,29],[2,19,2,25],[0,19,0,25],[2,42,2,49],[1,37,1,39],[0,42,0,49],[0,35,0,39],[0,30,0,34]]}
["Results table name",null,null,null,null,{"$f":"Results!B28","v":"Annual Water Use and Cost Summary by System"},null,null,null,null,{"$f":"Results!B65","v":"1.1 Source Water Intake by System"},null,null,null,null,null,null,null,null,{"$f":"Results!$B$118","v":"2.1 Wastewater Discharge by System"},null,null,null,null,null,null,{"$f":"Results!B171","v":"3.1 Gross Water Use by System"},null,null,null,{"$f":"Results!B206","v":"3.2 Outgoing Water by System"},null,null,null,null,{"$f":"Results!B238","v":"3.3 Water Imbalance by System"},null,null,null,null,"Cost savings from eliminating loss",null,{"$f":"Results!B291","v":"4.1 True Cost of Water by System"}]
[{"$f":"'1.Plant Info'!B51","v":"Water-Using System"},null,null,null,null,"Source Water Intake","Wastewater Discharge","Gross Water Use","Direct Costs","True Cost of Water",{"$f":"'6.System Water Intake&Discharge'!F$14","v":"Municipal Water: Potable"},{"$f":"'6.System Water Intake&Discharge'!G$14","v":"Municipal Water: Nonpotable"},{"$f":"'6.System Water Intake&Discharge'!H$14","v":"Municipal Water: "},{"$f":"'6.System Water Intake&Discharge'!I$14","v":"River or Lake: "},{"$f":"'6.System Water Intake&Discharge'!J$14","v":"Ocean or Tide: "},{"$f":"'6.System Water Intake&Discharge'!K$14","v":"Groundwater: "},{"$f":"'6.System Water Intake&Discharge'!L$14","v":"Other: "},"Total",null,{"$f":"'6.System Water Intake&Discharge'!F$33","v":"Municipal Sewer"},{"$f":"'6.System Water Intake&Discharge'!G$33","v":"Third-party Disposal"},{"$f":"'6.System Water Intake&Discharge'!H$33","v":"River or Lake"},{"$f":"'6.System Water Intake&Discharge'!I$33","v":"Ocean or Tide"},{"$f":"'6.System Water Intake&Discharge'!J$33","v":"Groundwater"},{"$f":"'6.System Water Intake&Discharge'!K$33","v":"Onsite Disposal"},"Total","Source Water","Water from Other Systems","Recirc. within System","Total",{"$f":"'4.System Water Balance'!H36","v":"Wastewater Discharge"},{"$f":"'4.System Water Balance'!I36","v":"Recycled To Other System"},{"$f":"'4.System Water Balance'!J36","v":"Known Losses (Evaporation/ Other)"},{"$f":"'4.System Water Balance'!K36","v":"Water Consumed in Product"},"Total","Incoming Water","Outgoing Water","Water Imbalance",null,null,"From Reduced Source Water Intake","Other Potential Savings","Municipal Water Intake","Municipal Wastewater Disposal","Third-party Disposal","Water Treatment","Wastewater Treatment","Pump and Motor Energy","Heat Energy in Wastewater","Total",{"$f":"'10.System WaterEfficiencyStatus'!G10","v":"System Assessment Status"},{"$f":"'10.System WaterEfficiencyStatus'!I10","v":"Measures Implementation Status"}]
[null,null,"hC1","hC2",{"$f":"ROW()","v":3},"Million Gallon per Year",null,null,"$/Year",null,"Million Gallon Per Year",null,null,null,null,null,null,null,null,"Million Gallon per Year",null,null,null,null,null,null,"Million Gallon per Year",null,null,null,"Million Gallon per Year",null,null,null,null,"Million Gallon per Year",null,"Million Gallon Per Year","% of Incoming Water","% of Total Loss",null,null,"$ per Year"]
[{"$f":"'6.System Water Intake&Discharge'!B16","v":"-"},{"$f":"'1.Plant Info'!N53","v":false},{"$f":"IF(B4=\"Yes\",1,\"\")","v":""},{"$f":"IFERROR(C4*ROW(),\"\")","v":""},{"$f":"SMALL($D$4:$D$14,ROW()-$E$3)","v":14},{"$f":"'4.System Water Balance'!H17","v":0},{"$f":"Z4","v":0},{"$f":"'4.System Water Balance'!K17","v":0},{"$f":"SUM('True Cost'!D61:F61)","v":0},{"$f":"'True Cost'!K61","v":0},{"$f":"'6.System Water Intake&Discharge'!T16","v":0},{"$f":"'6.System Water Intake&Discharge'!U16","v":0},{"$f":"'6.System Water Intake&Discharge'!V16","v":0},{"$f":"'6.System Water Intake&Discharge'!W16","v":0},{"$f":"'6.System Water Intake&Discharge'!X16","v":0},{"$f":"'6.System Water Intake&Discharge'!Y16","v":0},{"$f":"'6.System Water Intake&Discharge'!Z16","v":0},{"$f":"'6.System Water Intake&Discharge'!AA16","v":0},null,{"$f":"'6.System Water Intake&Discharge'!T34","v":0},{"$f":"'6.System Water Intake&Discharge'!U34","v":0},{"$f":"'6.System Water Intake&Discharge'!V34","v":0},{"$f":"'6.System Water Intake&Discharge'!W34","v":0},{"$f":"'6.System Water Intake&Discharge'!X34","v":0},{"$f":"'6.System Water Intake&Discharge'!Y34","v":0},{"$f":"'6.System Water Intake&Discharge'!Z34","v":0},{"$f":"'4.System Water Balance'!H17","v":0},{"$f":"'4.System Water Balance'!I17","v":0},{"$f":"'4.System Water Balance'!J17","v":0},{"$f":"'4.System Water Balance'!K17","v":0},{"$f":"'4.System Water Balance'!H37","v":0},{"$f":"'4.System Water Balance'!I37","v":0},{"$f":"'4.System Water Balance'!J37","v":0},{"$f":"'4.System Water Balance'!K37","v":0},{"$f":"'4.System Water Balance'!G56","v":0},{"$f":"'4.System Water Balance'!E56","v":0},{"$f":"'4.System Water Balance'!G56","v":0},{"$f":"'4.System Water Balance'!I56","v":0},{"$f":"'4.System Water Balance'!J56","v":0},{"$f":"'4.System Water Balance'!K56","v":0},{"$f":"AL4*AQ4/F4","v":{"$error":"#DIV/0!"}},{"$f":"(AX4-AQ4)*AL4/F4","v":{"$error":"#DIV/0!"}},{"$f":"'True Cost'!D61","v":0},{"$f":"'True Cost'!E61","v":0},{"$f":"'True Cost'!F61","v":0},{"$f":"'True Cost'!G61","v":0},{"$f":"'True Cost'!H61","v":0},{"$f":"'True Cost'!I61","v":0},{"$f":"'True Cost'!J61","v":0},{"$f":"'True Cost'!K61","v":0},{"$f":"'10.System WaterEfficiencyStatus'!G11","v":0},{"$f":"'10.System WaterEfficiencyStatus'!I11","v":0}]
[{"$f":"'6.System Water Intake&Discharge'!B17","v":"-"},{"$f":"'1.Plant Info'!N54","v":false},{"$f":"IF(B5=\"Yes\",1,\"\")","v":""},{"$f":"IFERROR(C5*ROW(),\"\")","v":""},{"$error":"#NUM!"},{"$f":"'4.System Water Balance'!H18","v":0},{"$f":"Z5","v":0},{"$f":"'4.System Water Balance'!K18","v":0},{"$f":"SUM('True Cost'!D62:F62)","v":0},{"$f":"'True Cost'!K62","v":0},{"$f":"'6.System Water Intake&Discharge'!T17","v":0},{"$f":"'6.System Water Intake&Discharge'!U17","v":0},{"$f":"'6.System Water Intake&Discharge'!V17","v":0},{"$f":"'6.System Water Intake&Discharge'!W17","v":0},{"$f":"'6.System Water Intake&Discharge'!X17","v":0},{"$f":"'6.System Water Intake&Discharge'!Y17","v":0},{"$f":"'6.System Water Intake&Discharge'!Z17","v":0},{"$f":"'6.System Water Intake&Discharge'!AA17","v":0},null,{"$f":"'6.System Water Intake&Discharge'!T35","v":0},{"$f":"'6.System Water Intake&Discharge'!U35","v":0},{"$f":"'6.System Water Intake&Discharge'!V35","v":0},{"$f":"'6.System Water Intake&Discharge'!W35","v":0},{"$f":"'6.System Water Intake&Discharge'!X35","v":0},{"$f":"'6.System Water Intake&Discharge'!Y35","v":0},{"$f":"'6.System Water Intake&Discharge'!Z35","v":0},{"$f":"'4.System Water Balance'!H18","v":0},{"$f":"'4.System Water Balance'!I18","v":0},{"$f":"'4.System Water Balance'!J18","v":0},{"$f":"'4.System Water Balance'!K18","v":0},{"$f":"'4.System Water Balance'!H38","v":0},{"$f":"'4.System Water Balance'!I38","v":0},{"$f":"'4.System Water Balance'!J38","v":0},{"$f":"'4.System Water Balance'!K38","v":0},{"$f":"'4.System Water Balance'!G57","v":0},{"$f":"'4.System Water Balance'!E57","v":0},{"$f":"'4.System Water Balance'!G57","v":0},{"$f":"'4.System Water Balance'!I57","v":0},{"$f":"'4.System Water Balance'!J57","v":0},{"$f":"'4.System Water Balance'!K57","v":0},{"$error":"#DIV/0!"},{"$error":"#DIV/0!"},{"$f":"'True Cost'!D62","v":0},{"$f":"'True Cost'!E62","v":0},{"$f":"'True Cost'!F62","v":0},{"$f":"'True Cost'!G62","v":0},{"$f":"'True Cost'!H62","v":0},{"$f":"'True Cost'!I62","v":0},{"$f":"'True Cost'!J62","v":0},{"$f":"'True Cost'!K62","v":0},{"$f":"'10.System WaterEfficiencyStatus'!G12","v":0},{"$f":"'10.System WaterEfficiencyStatus'!I12","v":0}]
[{"$f":"'6.System Water Intake&Discharge'!B18","v":"-"},{"$f":"'1.Plant Info'!N55","v":false},"","",{"$error":"#NUM!"},{"$f":"'4.System Water Balance'!H19","v":0},0,{"$f":"'4.System Water Balance'!K19","v":0},{"$f":"SUM('True Cost'!D63:F63)","v":0},{"$f":"'True Cost'!K63","v":0},{"$f":"'6.System Water Intake&Discharge'!T18","v":0},{"$f":"'6.System Water Intake&Discharge'!U18","v":0},{"$f":"'6.System Water Intake&Discharge'!V18","v":0},{"$f":"'6.System Water Intake&Discharge'!W18","v":0},{"$f":"'6.System Water Intake&Discharge'!X18","v":0},{"$f":"'6.System Water Intake&Discharge'!Y18","v":0},{"$f":"'6.System Water Intake&Discharge'!Z18","v":0},{"$f":"'6.System Water Intake&Discharge'!AA18","v":0},null,{"$f":"'6.System Water Intake&Discharge'!T36","v":0},{"$f":"'6.System Water Intake&Discharge'!U36","v":0},{"$f":"'6.System Water Intake&Discharge'!V36","v":0},{"$f":"'6.System Water Intake&Discharge'!W36","v":0},{"$f":"'6.System Water Intake&Discharge'!X36","v":0},{"$f":"'6.System Water Intake&Discharge'!Y36","v":0},{"$f":"'6.System Water Intake&Discharge'!Z36","v":0},{"$f":"'4.System Water Balance'!H19","v":0},{"$f":"'4.System Water Balance'!I19","v":0},{"$f":"'4.System Water Balance'!J19","v":0},{"$f":"'4.System Water Balance'!K19","v":0},{"$f":"'4.System Water Balance'!H39","v":0},{"$f":"'4.System Water Balance'!I39","v":0},{"$f":"'4.System Water Balance'!J39","v":0},{"$f":"'4.System Water Balance'!K39","v":0},{"$f":"'4.System Water Balance'!G58","v":0},{"$f":"'4.System Water Balance'!E58","v":0},{"$f":"'4.System Water Balance'!G58","v":0},{"$f":"'4.System Water Balance'!I58","v":0},{"$f":"'4.System Water Balance'!J58","v":0},{"$f":"'4.System Water Balance'!K58","v":0},{"$error":"#DIV/0!"},{"$error":"#DIV/0!"},{"$f":"'True Cost'!D63","v":0},{"$f":"'True Cost'!E63","v":0},{"$f":"'True Cost'!F63","v":0},{"$f":"'True Cost'!G63","v":0},{"$f":"'True Cost'!H63","v":0},{"$f":"'True Cost'!I63","v":0},{"$f":"'True Cost'!J63","v":0},{"$f":"'True Cost'!K63","v":0},{"$f":"'10.System WaterEfficiencyStatus'!G13","v":0},{"$f":"'10.System WaterEfficiencyStatus'!I13","v":0}]
[{"$f":"'6.System Water Intake&Discharge'!B19","v":"-"},{"$f":"'1.Plant Info'!N56","v":false},"","",{"$error":"#NUM!"},{"$f":"'4.System Water Balance'!H20","v":0},0,{"$f":"'4.System Water Balance'!K20","v":0},{"$f":"SUM('True Cost'!D64:F64)","v":0},{"$f":"'True Cost'!K64","v":0},{"$f":"'6.System Water Intake&Discharge'!T19","v":0},{"$f":"'6.System Water Intake&Discharge'!U19","v":0},{"$f":"'6.System Water Intake&Discharge'!V19","v":0},{"$f":"'6.System Water Intake&Discharge'!W19","v":0},{"$f":"'6.System Water Intake&Discharge'!X19","v":0},{"$f":"'6.System Water Intake&Discharge'!Y19","v":0},{"$f":"'6.System Water Intake&Discharge'!Z19","v":0},{"$f":"'6.System Water Intake&Discharge'!AA19","v":0},null,{"$f":"'6.System Water Intake&Discharge'!T37","v":0},{"$f":"'6.System Water Intake&Discharge'!U37","v":0},{"$f":"'6.System Water Intake&Discharge'!V37","v":0},{"$f":"'6.System Water Intake&Discharge'!W37","v":0},{"$f":"'6.System Water Intake&Discharge'!X37","v":0},{"$f":"'6.System Water Intake&Discharge'!Y37","v":0},{"$f":"'6.System Water Intake&Discharge'!Z37","v":0},{"$f":"'4.System Water Balance'!H20","v":0},{"$f":"'4.System Water Balance'!I20","v":0},{"$f":"'4.System Water Balance'!J20","v":0},{"$f":"'4.System Water Balance'!K20","v":0},{"$f":"'4.System Water Balance'!H40","v":0},{"$f":"'4.System Water Balance'!I40","v":0},{"$f":"'4.System Water Balance'!J40","v":0},{"$f":"'4.System Water Balance'!K40","v":0},{"$f":"'4.System Water Balance'!G59","v":0},{"$f":"'4.System Water Balance'!E59","v":0},{"$f":"'4.System Water Balance'!G59","v":0},{"$f":"'4.System Water Balance'!I59","v":0},{"$f":"'4.System Water Balance'!J59","v":0},{"$f":"'4.System Water Balance'!K59","v":0},{"$error":"#DIV/0!"},{"$error":"#DIV/0!"},{"$f":"'True Cost'!D64","v":0},{"$f":"'True Cost'!E64","v":0},{"$f":"'True Cost'!F64","v":0},{"$f":"'True Cost'!G64","v":0},{"$f":"'True Cost'!H64","v":0},{"$f":"'True Cost'!I64","v":0},{"$f":"'True Cost'!J64","v":0},{"$f":"'True Cost'!K64","v":0},{"$f":"'10.System WaterEfficiencyStatus'!G14","v":0},{"$f":"'10.System WaterEfficiencyStatus'!I14","v":0}]
[{"$f":"'6.System Water Intake&Discharge'!B20","v":"-"},{"$f":"'1.Plant Info'!N57","v":false},"","",{"$error":"#NUM!"},{"$f":"'4.System Water Balance'!H21","v":0},0,{"$f":"'4.System Water Balance'!K21","v":0},{"$f":"SUM('True Cost'!D65:F65)","v":0},{"$f":"'True Cost'!K65","v":0},{"$f":"'6.System Water Intake&Discharge'!T20","v":0},{"$f":"'6.System Water Intake&Discharge'!U20","v":0},{"$f":"'6.System Water Intake&Discharge'!V20","v":0},{"$f":"'6.System Water Intake&Discharge'!W20","v":0},{"$f":"'6.System Water Intake&Discharge'!X20","v":0},{"$f":"'6.System Water Intake&Discharge'!Y20","v":0},{"$f":"'6.System Water Intake&Discharge'!Z20","v":0},{"$f":"'6.System Water Intake&Discharge'!AA20","v":0},null,{"$f":"'6.System Water Intake&Discharge'!T38","v":0},{"$f":"'6.System Water Intake&Discharge'!U38","v":0},{"$f":"'6.System Water Intake&Discharge'!V38","v":0},{"$f":"'6.System Water Intake&Discharge'!W38","v":0},{"$f":"'6.System Water Intake&Discharge'!X38","v":0},{"$f":"'6.System Water Intake&Discharge'!Y38","v":0},{"$f":"'6.System Water Intake&Discharge'!Z38","v":0},{"$f":"'4.System Water Balance'!H21","v":0},{"$f":"'4.System Water Balance'!I21","v":0},{"$f":"'4.System Water Balance'!J21","v":0},{"$f":"'4.System Water Balance'!K21","v":0},{"$f":"'4.System Water Balance'!H41","v":0},{"$f":"'4.System Water Balance'!I41","v":0},{"$f":"'4.System Water Balance'!J41","v":0},{"$f":"'4.System Water Balance'!K41","v":0},{"$f":"'4.System Water Balance'!G60","v":0},{"$f":"'4.System Water Balance'!E60","v":0},{"$f":"'4.System Water Balance'!G60","v":0},{"$f":"'4.System Water Balance'!I60","v":0},{"$f":"'4.System Water Balance'!J60","v":0},{"$f":"'4.System Water Balance'!K60","v":0},{"$error":"#DIV/0!"},{"$error":"#DIV/0!"},{"$f":"'True Cost'!D65","v":0},{"$f":"'True Cost'!E65","v":0},{"$f":"'True Cost'!F65","v":0},{"$f":"'True Cost'!G65","v":0},{"$f":"'True Cost'!H65","v":0},{"$f":"'True Cost'!I65","v":0},{"$f":"'True Cost'!J65","v":0},{"$f":"'True Cost'!K65","v":0},{"$f":"'10.System WaterEfficiencyStatus'!G15","v":0},{"$f":"'10.System WaterEfficiencyStatus'!I15","v":0}]
[{"$f":"'6.System Water Intake&Discharge'!B21","v":"-"},{"$f":"'1.Plant Info'!N58","v":false},"","",{"$error":"#NUM!"},{"$f":"'4.System Water Balance'!H22","v":0},0,{"$f":"'4.System Water Balance'!K22","v":0},{"$f":"SUM('True Cost'!D66:F66)","v":0},{"$f":"'True Cost'!K66","v":0},{"$f":"'6.System Water Intake&Discharge'!T21","v":0},{"$f":"'6.System Water Intake&Discharge'!U21","v":0},{"$f":"'6.System Water Intake&Discharge'!V21","v":0},{"$f":"'6.System Water Intake&Discharge'!W21","v":0},{"$f":"'6.System Water Intake&Discharge'!X21","v":0},{"$f":"'6.System Water Intake&Discharge'!Y21","v":0},{"$f":"'6.System Water Intake&Discharge'!Z21","v":0},{"$f":"'6.System Water Intake&Discharge'!AA21","v":0},null,{"$f":"'6.System Water Intake&Discharge'!T39","v":0},{"$f":"'6.System Water Intake&Discharge'!U39","v":0},{"$f":"'6.System Water Intake&Discharge'!V39","v":0},{"$f":"'6.System Water Intake&Discharge'!W39","v":0},{"$f":"'6.System Water Intake&Discharge'!X39","v":0},{"$f":"'6.System Water Intake&Discharge'!Y39","v":0},{"$f":"'6.System Water Intake&Discharge'!Z39","v":0},{"$f":"'4.System Water Balance'!H22","v":0},{"$f":"'4.System Water Balance'!I22","v":0},{"$f":"'4.System Water Balance'!J22","v":0},{"$f":"'4.System Water Balance'!K22","v":0},{"$f":"'4.System Water Balance'!H42","v":0},{"$f":"'4.System Water Balance'!I42","v":0},{"$f":"'4.System Water Balance'!J42","v":0},{"$f":"'4.System Water Balance'!K42","v":0},{"$f":"'4.System Water Balance'!G61","v":0},{"$f":"'4.System Water Balance'!E61","v":0},{"$f":"'4.System Water Balance'!G61","v":0},{"$f":"'4.System Water Balance'!I61","v":0},{"$f":"'4.System Water Balance'!J61","v":0},{"$f":"'4.System Water Balance'!K61","v":0},{"$error":"#DIV/0!"},{"$error":"#DIV/0!"},{"$f":"'True Cost'!D66","v":0},{"$f":"'True Cost'!E66","v":0},{"$f":"'True Cost'!F66","v":0},{"$f":"'True Cost'!G66","v":0},{"$f":"'True Cost'!H66","v":0},{"$f":"'True Cost'!I66","v":0},{"$f":"'True Cost'!J66","v":0},{"$f":"'True Cost'!K66","v":0},{"$f":"'10.System WaterEfficiencyStatus'!G16","v":0},{"$f":"'10.System WaterEfficiencyStatus'!I16","v":0}]
[{"$f":"'6.System Water Intake&Discharge'!B22","v":"-"},{"$f":"'1.Plant Info'!N59","v":false},"","",{"$error":"#NUM!"},{"$f":"'4.System Water Balance'!H23","v":0},0,{"$f":"'4.System Water Balance'!K23","v":0},{"$f":"SUM('True Cost'!D67:F67)","v":0},{"$f":"'True Cost'!K67","v":0},{"$f":"'6.System Water Intake&Discharge'!T22","v":0},{"$f":"'6.System Water Intake&Discharge'!U22","v":0},{"$f":"'6.System Water Intake&Discharge'!V22","v":0},{"$f":"'6.System Water Intake&Discharge'!W22","v":0},{"$f":"'6.System Water Intake&Discharge'!X22","v":0},{"$f":"'6.System Water Intake&Discharge'!Y22","v":0},{"$f":"'6.System Water Intake&Discharge'!Z22","v":0},{"$f":"'6.System Water Intake&Discharge'!AA22","v":0},null,{"$f":"'6.System Water Intake&Discharge'!T40","v":0},{"$f":"'6.System Water Intake&Discharge'!U40","v":0},{"$f":"'6.System Water Intake&Discharge'!V40","v":0},{"$f":"'6.System Water Intake&Discharge'!W40","v":0},{"$f":"'6.System Water Intake&Discharge'!X40","v":0},{"$f":"'6.System Water Intake&Discharge'!Y40","v":0},{"$f":"'6.System Water Intake&Discharge'!Z40","v":0},{"$f":"'4.System Water Balance'!H23","v":0},{"$f":"'4.System Water Balance'!I23","v":0},{"$f":"'4.System Water Balance'!J23","v":0},{"$f":"'4.System Water Balance'!K23","v":0},{"$f":"'4.System Water Balance'!H43","v":0},{"$f":"'4.System Water Balance'!I43","v":0},{"$f":"'4.System Water Balance'!J43","v":0},{"$f":"'4.System Water Balance'!K43","v":0},{"$f":"'4.System Water Balance'!G62","v":0},{"$f":"'4.System Water Balance'!E62","v":0},{"$f":"'4.System Water Balance'!G62","v":0},{"$f":"'4.System Water Balance'!I62","v":0},{"$f":"'4.System Water Balance'!J62","v":0},{"$f":"'4.System Water Balance'!K62","v":0},{"$error":"#DIV/0!"},{"$error":"#DIV/0!"},{"$f":"'True Cost'!D67","v":0},{"$f":"'True Cost'!E67","v":0},{"$f":"'True Cost'!F67","v":0},{"$f":"'True Cost'!G67","v":0},{"$f":"'True Cost'!H67","v":0},{"$f":"'True Cost'!I67","v":0},{"$f":"'True Cost'!J67","v":0},{"$f":"'True Cost'!K67","v":0},{"$f":"'10.System WaterEfficiencyStatus'!G17","v":0},{"$f":"'10.System WaterEfficiencyStatus'!I17","v":0}]
[{"$f":"'6.System Water Intake&Discharge'!B23","v":"-"},{"$f":"'1.Plant Info'!N60","v":false},"","",{"$error":"#NUM!"},{"$f":"'4.System Water Balance'!H24","v":0},0,{"$f":"'4.System Water Balance'!K24","v":0},{"$f":"SUM('True Cost'!D68:F68)","v":0},{"$f":"'True Cost'!K68","v":0},{"$f":"'6.System Water Intake&Discharge'!T23","v":0},{"$f":"'6.System Water Intake&Discharge'!U23","v":0},{"$f":"'6.System Water Intake&Discharge'!V23","v":0},{"$f":"'6.System Water Intake&Discharge'!W23","v":0},{"$f":"'6.System Water Intake&Discharge'!X23","v":0},{"$f":"'6.System Water Intake&Discharge'!Y23","v":0},{"$f":"'6.System Water Intake&Discharge'!Z23","v":0},{"$f":"'6.System Water Intake&Discharge'!AA23","v":0},null,{"$f":"'6.System Water Intake&Discharge'!T41","v":0},{"$f":"'6.System Water Intake&Discharge'!U41","v":0},{"$f":"'6.System Water Intake&Discharge'!V41","v":0},{"$f":"'6.System Water Intake&Discharge'!W41","v":0},{"$f":"'6.System Water Intake&Discharge'!X41","v":0},{"$f":"'6.System Water Intake&Discharge'!Y41","v":0},{"$f":"'6.System Water Intake&Discharge'!Z41","v":0},{"$f":"'4.System Water Balance'!H24","v":0},{"$f":"'4.System Water Balance'!I24","v":0},{"$f":"'4.System Water Balance'!J24","v":0},{"$f":"'4.System Water Balance'!K24","v":0},{"$f":"'4.System Water Balance'!H44","v":0},{"$f":"'4.System Water Balance'!I44","v":0},{"$f":"'4.System Water Balance'!J44","v":0},{"$f":"'4.System Water Balance'!K44","v":0},{"$f":"'4.System Water Balance'!G63","v":0},{"$f":"'4.System Water Balance'!E63","v":0},{"$f":"'4.System Water Balance'!G63","v":0},{"$f":"'4.System Water Balance'!I63","v":0},{"$f":"'4.System Water Balance'!J63","v":0},{"$f":"'4.System Water Balance'!K63","v":0},{"$error":"#DIV/0!"},{"$error":"#DIV/0!"},{"$f":"'True Cost'!D68","v":0},{"$f":"'True Cost'!E68","v":0},{"$f":"'True Cost'!F68","v":0},{"$f":"'True Cost'!G68","v":0},{"$f":"'True Cost'!H68","v":0},{"$f":"'True Cost'!I68","v":0},{"$f":"'True Cost'!J68","v":0},{"$f":"'True Cost'!K68","v":0},{"$f":"'10.System WaterEfficiencyStatus'!G18","v":0},{"$f":"'10.System WaterEfficiencyStatus'!I18","v":0}]
[{"$f":"'6.System Water Intake&Discharge'!B24","v":"-"},{"$f":"'1.Plant Info'!N61","v":false},"","",{"$error":"#NUM!"},{"$f":"'4.System Water Balance'!H25","v":0},0,{"$f":"'4.System Water Balance'!K25","v":0},{"$f":"SUM('True Cost'!D69:F69)","v":0},{"$f":"'True Cost'!K69","v":0},{"$f":"'6.System Water Intake&Discharge'!T24","v":0},{"$f":"'6.System Water Intake&Discharge'!U24","v":0},{"$f":"'6.System Water Intake&Discharge'!V24","v":0},{"$f":"'6.System Water Intake&Discharge'!W24","v":0},{"$f":"'6.System Water Intake&Discharge'!X24","v":0},{"$f":"'6.System Water Intake&Discharge'!Y24","v":0},{"$f":"'6.System Water Intake&Discharge'!Z24","v":0},{"$f":"'6.System Water Intake&Discharge'!AA24","v":0},null,{"$f":"'6.System Water Intake&Discharge'!T42","v":0},{"$f":"'6.System Water Intake&Discharge'!U42","v":0},{"$f":"'6.System Water Intake&Discharge'!V42","v":0},{"$f":"'6.System Water Intake&Discharge'!W42","v":0},{"$f":"'6.System Water Intake&Discharge'!X42","v":0},{"$f":"'6.System Water Intake&Discharge'!Y42","v":0},{"$f":"'6.System Water Intake&Discharge'!Z42","v":0},{"$f":"'4.System Water Balance'!H25","v":0},{"$f":"'4.System Water Balance'!I25","v":0},{"$f":"'4.System Water Balance'!J25","v":0},{"$f":"'4.System Water Balance'!K25","v":0},{"$f":"'4.System Water Balance'!H45","v":0},{"$f":"'4.System Water Balance'!I45","v":0},{"$f":"'4.System Water Balance'!J45","v":0},{"$f":"'4.System Water Balance'!K45","v":0},{"$f":"'4.System Water Balance'!G64","v":0},{"$f":"'4.System Water Balance'!E64","v":0},{"$f":"'4.System Water Balance'!G64","v":0},{"$f":"'4.System Water Balance'!I64","v":0},{"$f":"'4.System Water Balance'!J64","v":0},{"$f":"'4.System Water Balance'!K64","v":0},{"$error":"#DIV/0!"},{"$error":"#DIV/0!"},{"$f":"'True Cost'!D69","v":0},{"$f":"'True Cost'!E69","v":0},{"$f":"'True Cost'!F69","v":0},{"$f":"'True Cost'!G69","v":0},{"$f":"'True Cost'!H69","v":0},{"$f":"'True Cost'!I69","v":0},{"$f":"'True Cost'!J69","v":0},{"$f":"'True Cost'!K69","v":0},{"$f":"'10.System WaterEfficiencyStatus'!G19","v":0},{"$f":"'10.System WaterEfficiencyStatus'!I19","v":0}]
[{"$f":"'6.System Water Intake&Discharge'!B25","v":"-"},{"$f":"'1.Plant Info'!N62","v":false},"","",{"$error":"#NUM!"},{"$f":"'4.System Water Balance'!H26","v":0},0,{"$f":"'4.System Water Balance'!K26","v":0},{"$f":"SUM('True Cost'!D70:F70)","v":0},{"$f":"'True Cost'!K70","v":0},{"$f":"'6.System Water Intake&Discharge'!T25","v":0},{"$f":"'6.System Water Intake&Discharge'!U25","v":0},{"$f":"'6.System Water Intake&Discharge'!V25","v":0},{"$f":"'6.System Water Intake&Discharge'!W25","v":0},{"$f":"'6.System Water Intake&Discharge'!X25","v":0},{"$f":"'6.System Water Intake&Discharge'!Y25","v":0},{"$f":"'6.System Water Intake&Discharge'!Z25","v":0},{"$f":"'6.System Water Intake&Discharge'!AA25","v":0},null,{"$f":"'6.System Water Intake&Discharge'!T43","v":0},{"$f":"'6.System Water Intake&Discharge'!U43","v":0},{"$f":"'6.System Water Intake&Discharge'!V43","v":0},{"$f":"'6.System Water Intake&Discharge'!W43","v":0},{"$f":"'6.System Water Intake&Discharge'!X43","v":0},{"$f":"'6.System Water Intake&Discharge'!Y43","v":0},{"$f":"'6.System Water Intake&Discharge'!Z43","v":0},{"$f":"'4.System Water Balance'!H26","v":0},{"$f":"'4.System Water Balance'!I26","v":0},{"$f":"'4.System Water Balance'!J26","v":0},{"$f":"'4.System Water Balance'!K26","v":0},{"$f":"'4.System Water Balance'!H46","v":0},{"$f":"'4.System Water Balance'!I46","v":0},{"$f":"'4.System Water Balance'!J46","v":0},{"$f":"'4.System Water Balance'!K46","v":0},{"$f":"'4.System Water Balance'!G65","v":0},{"$f":"'4.System Water Balance'!E65","v":0},{"$f":"'4.System Water Balance'!G65","v":0},{"$f":"'4.System Water Balance'!I65","v":0},{"$f":"'4.System Water Balance'!J65","v":0},{"$f":"'4.System Water Balance'!K65","v":0},{"$error":"#DIV/0!"},{"$error":"#DIV/0!"},{"$f":"'True Cost'!D70","v":0},{"$f":"'True Cost'!E70","v":0},{"$f":"'True Cost'!F70","v":0},{"$f":"'True Cost'!G70","v":0},{"$f":"'True Cost'!H70","v":0},{"$f":"'True Cost'!I70","v":0},{"$f":"'True Cost'!J70","v":0},{"$f":"'True Cost'!K70","v":0},{"$f":"'10.System WaterEfficiencyStatus'!G20","v":0},{"$f":"'10.System WaterEfficiencyStatus'!I20","v":0}]
[{"$f":"'6.System Water Intake&Discharge'!B26","v":"-"},{"$f":"'1.Plant Info'!N63","v":false},{"$f":"IF(B14=\"Yes\",1,IF(SUM(C4:C13)=0,1,\"\"))","v":1},14,{"$error":"#NUM!"},{"$f":"'4.System Water Balance'!H27","v":0},0,{"$f":"'4.System Water Balance'!K27","v":0},{"$f":"SUM('True Cost'!D71:F71)","v":0},{"$f":"'True Cost'!K71","v":0},{"$f":"'6.System Water Intake&Discharge'!T26","v":0},{"$f":"'6.System Water Intake&Discharge'!U26","v":0},{"$f":"'6.System Water Intake&Discharge'!V26","v":0},{"$f":"'6.System Water Intake&Discharge'!W26","v":0},{"$f":"'6.System Water Intake&Discharge'!X26","v":0},{"$f":"'6.System Water Intake&Discharge'!Y26","v":0},{"$f":"'6.System Water Intake&Discharge'!Z26","v":0},{"$f":"'6.System Water Intake&Discharge'!AA26","v":0},null,{"$f":"'6.System Water Intake&Discharge'!T44","v":0},{"$f":"'6.System Water Intake&Discharge'!U44","v":0},{"$f":"'6.System Water Intake&Discharge'!V44","v":0},{"$f":"'6.System Water Intake&Discharge'!W44","v":0},{"$f":"'6.System Water Intake&Discharge'!X44","v":0},{"$f":"'6.System Water Intake&Discharge'!Y44","v":0},{"$f":"'6.System Water Intake&Discharge'!Z44","v":0},{"$f":"'4.System Water Balance'!H27","v":0},{"$f":"'4.System Water Balance'!I27","v":0},{"$f":"'4.System Water Balance'!J27","v":0},{"$f":"'4.System Water Balance'!K27","v":0},{"$f":"'4.System Water Balance'!H47","v":0},{"$f":"'4.System Water Balance'!I47","v":0},{"$f":"'4.System Water Balance'!J47","v":0},{"$f":"'4.System Water Balance'!K47","v":0},{"$f":"'4.System Water Balance'!G66","v":0},{"$f":"'4.System Water Balance'!E66","v":0},{"$f":"'4.System Water Balance'!G66","v":0},{"$f":"'4.System Water Balance'!I66","v":0},{"$f":"'4.System Water Balance'!J66","v":0},{"$f":"'4.System Water Balance'!K66","v":0},{"$error":"#DIV/0!"},{"$error":"#DIV/0!"},{"$f":"'True Cost'!D71","v":0},{"$f":"'True Cost'!E71","v":0},{"$f":"'True Cost'!F71","v":0},{"$f":"'True Cost'!G71","v":0},{"$f":"'True Cost'!H71","v":0},{"$f":"'True Cost'!I71","v":0},{"$f":"'True Cost'!J71","v":0},{"$f":"'True Cost'!K71","v":0},{"$f":"'10.System WaterEfficiencyStatus'!G21","v":0},{"$f":"'10.System WaterEfficiencyStatus'!I21","v":0}]
["PLANT TOTAL",null,null,null,null,{"$f":"SUM(F4:F14)","v":0},{"$f":"SUM(G4:G14)","v":0},0,0,0,{"$f":"MAX(SUM(K4:K14),0.000001)","v":9.9999999999999995E-7},0,0,0,0,0,0,0,null,{"$f":"MAX(SUM(T4:T14),0.000001)","v":9.9999999999999995E-7},0,0,0,0,{"$f":"SUM(Y4:Y14)","v":0},{"$f":"SUM(Z4:Z14)","v":0},0,0,0,0,0,{"$f":"SUM(AF4:AF14)","v":0},0,0,0,0,0,0,0,0,{"$error":"#DIV/0!"},{"$error":"#DIV/0!"},{"$f":"MAX(SUM(AQ4:AQ14),1)","v":1},0,0,0,0,0,0,0]
[{"$f":"IF(ISNUMBER($E4),INDEX(A$4:A$15,MATCH($E4,$D$4:$D$15,0)),\"\")","v":"-"},null,null,null,null,{"$f":"IF(ISNUMBER($E4),INDEX(F$4:F$14,MATCH($E4,$D$4:$D$14,0)),\"\")","v":0},{"$f":"IF(ISNUMBER($E4),INDEX(G$4:G$14,MATCH($E4,$D$4:$D$14,0)),\"\")","v":0},0,{"$f":"IF(ISNUMBER($E4),INDEX(I$4:I$14,MATCH($E4,$D$4:$D$14,0)),\"\")","v":0},0,0,0,0,0,0,0,0,0,null,{"$f":"IF(ISNUMBER($E4),INDEX(T$4:T$14,MATCH($E4,$D$4:$D$14,0)),\"\")","v":0},0,0,0,0,0,0,0,0,{"$f":"IF(ISNUMBER($E4),INDEX(AC$4:AC$14,MATCH($E4,$D$4:$D$14,0)),\"\")","v":0},0,0,{"$f":"IF(ISNUMBER($E4),INDEX(AF$4:AF$14,MATCH($E4,$D$4:$D$14,0)),\"\")","v":0},0,0,0,0,0,0,0,0,{"$f":"IF(ISNUMBER($E4),INDEX(AO$4:AO$14,MATCH($E4,$D$4:$D$14,0)),\"\")","v":{"$error":"#DIV/0!"}},{"$error":"#DIV/0!"},0,0,0,0,0,0,0,0,{"$f":"IF(ISNUMBER($E4),INDEX(AY$4:AY$14,MATCH($E4,$D$4:$D$14,0)),\"\")","v":0},0]
["",null,null,null,null,"",{"$f":"IF(ISNUMBER($E5),INDEX(G$4:G$14,MATCH($E5,$D$4:$D$14,0)),\"\")","v":""},"",{"$f":"IF(ISNUMBER($E5),INDEX(I$4:I$14,MATCH($E5,$D$4:$D$14,0)),\"\")","v":""},"","","","","","","","","",null,{"$f":"IF(ISNUMBER($E5),INDEX(T$4:T$14,MATCH($E5,$D$4:$D$14,0)),\"\")","v":""},"","","","","","","","","","","","","","","","","","","","","","","","","","","","","","",{"$f":"IF(ISNUMBER($E5),INDEX(AY$4:AY$14,MATCH($E5,$D$4:$D$14,0)),\"\")","v":""},""]
["",null,null,null,null,"",{"$f":"IF(ISNUMBER($E6),INDEX(G$4:G$14,MATCH($E6,$D$4:$D$14,0)),\"\")","v":""},"",{"$f":"IF(ISNUMBER($E6),INDEX(I$4:I$14,MATCH($E6,$D$4:$D$14,0)),\"\")","v":""},"","","","","","","","","",null,{"$f":"IF(ISNUMBER($E6),INDEX(T$4:T$14,MATCH($E6,$D$4:$D$14,0)),\"\")","v":""},"","","","","","","","","","","","","","","","","","","","","","","","","","","","","","",{"$f":"IF(ISNUMBER($E6),INDEX(AY$4:AY$14,MATCH($E6,$D$4:$D$14,0)),\"\")","v":""},""]
["",null,null,null,null,"",{"$f":"IF(ISNUMBER($E7),INDEX(G$4:G$14,MATCH($E7,$D$4:$D$14,0)),\"\")","v":""},"",{"$f":"IF(ISNUMBER($E7),INDEX(I$4:I$14,MATCH($E7,$D$4:$D$14,0)),\"\")","v":""},"","","","","","","","","",null,{"$f":"IF(ISNUMBER($E7),INDEX(T$4:T$14,MATCH($E7,$D$4:$D$14,0)),\"\")","v":""},"","","","","","","","","","","","","","","","","","","","","","","","","","","","","","",{"$f":"IF(ISNUMBER($E7),INDEX(AY$4:AY$14,MATCH($E7,$D$4:$D$14,0)),\"\")","v":""},""]
["",null,null,null,null,"",{"$f":"IF(ISNUMBER($E8),INDEX(G$4:G$14,MATCH($E8,$D$4:$D$14,0)),\"\")","v":""},"",{"$f":"IF(ISNUMBER($E8),INDEX(I$4:I$14,MATCH($E8,$D$4:$D$14,0)),\"\")","v":""},"","","","","","","","","",null,{"$f":"IF(ISNUMBER($E8),INDEX(T$4:T$14,MATCH($E8,$D$4:$D$14,0)),\"\")","v":""},"","","","","","","","","","","","","","","","","","","","","","","","","","","","","","",{"$f":"IF(ISNUMBER($E8),INDEX(AY$4:AY$14,MATCH($E8,$D$4:$D$14,0)),\"\")","v":""},""]
["",null,null,null,null,"",{"$f":"IF(ISNUMBER($E9),INDEX(G$4:G$14,MATCH($E9,$D$4:$D$14,0)),\"\")","v":""},"",{"$f":"IF(ISNUMBER($E9),INDEX(I$4:I$14,MATCH($E9,$D$4:$D$14,0)),\"\")","v":""},"","","","","","","","","",null,{"$f":"IF(ISNUMBER($E9),INDEX(T$4:T$14,MATCH($E9,$D$4:$D$14,0)),\"\")","v":""},"","","","","","","","","","","","","","","","","","","","","","","","","","","","","","",{"$f":"IF(ISNUMBER($E9),INDEX(AY$4:AY$14,MATCH($E9,$D$4:$D$14,0)),\"\")","v":""},""]
["",null,null,null,null,"",{"$f":"IF(ISNUMBER($E10),INDEX(G$4:G$14,MATCH($E10,$D$4:$D$14,0)),\"\")","v":""},"",{"$f":"IF(ISNUMBER($E10),INDEX(I$4:I$14,MATCH($E10,$D$4:$D$14,0)),\"\")","v":""},"","","","","","","","","",null,{"$f":"IF(ISNUMBER($E10),INDEX(T$4:T$14,MATCH($E10,$D$4:$D$14,0)),\"\")","v":""},"","","","","","","","","","","","","","","","","","","","","","","","","","","","","","",{"$f":"IF(ISNUMBER($E10),INDEX(AY$4:AY$14,MATCH($E10,$D$4:$D$14,0)),\"\")","v":""},""]
["",null,null,null,null,"",{"$f":"IF(ISNUMBER($E11),INDEX(G$4:G$14,MATCH($E11,$D$4:$D$14,0)),\"\")","v":""},"",{"$f":"IF(ISNUMBER($E11),INDEX(I$4:I$14,MATCH($E11,$D$4:$D$14,0)),\"\")","v":""},"","","","","","","","","",null,{"$f":"IF(ISNUMBER($E11),INDEX(T$4:T$14,MATCH($E11,$D$4:$D$14,0)),\"\")","v":""},"","","","","","","","","","","","","","","","","","","","","","","","","","","","","","",{"$f":"IF(ISNUMBER($E11),INDEX(AY$4:AY$14,MATCH($E11,$D$4:$D$14,0)),\"\")","v":""},""]
["",null,null,null,null,"",{"$f":"IF(ISNUMBER($E12),INDEX(G$4:G$14,MATCH($E12,$D$4:$D$14,0)),\"\")","v":""},"",{"$f":"IF(ISNUMBER($E12),INDEX(I$4:I$14,MATCH($E12,$D$4:$D$14,0)),\"\")","v":""},"","","","","","","","","",null,{"$f":"IF(ISNUMBER($E12),INDEX(T$4:T$14,MATCH($E12,$D$4:$D$14,0)),\"\")","v":""},"","","","","","","","","","","","","","","","","","","","","","","","","","","","","","",{"$f":"IF(ISNUMBER($E12),INDEX(AY$4:AY$14,MATCH($E12,$D$4:$D$14,0)),\"\")","v":""},""]
[{"$f":"IF(ISNUMBER($E13),INDEX(A$4:A$15,MATCH($E13,$D$4:$D$15,0)),\"\")","v":""},null,null,null,null,{"$f":"IF(ISNUMBER($E13),INDEX(F$4:F$14,MATCH($E13,$D$4:$D$14,0)),\"\")","v":""},"","",{"$f":"IF(ISNUMBER($E13),INDEX(I$4:I$14,MATCH($E13,$D$4:$D$14,0)),\"\")","v":""},"","","","","","","","","",null,{"$f":"IF(ISNUMBER($E13),INDEX(T$4:T$14,MATCH($E13,$D$4:$D$14,0)),\"\")","v":""},"","","","","","","","","","","","","","","","","","","","","","",{"$f":"IF(ISNUMBER($E13),INDEX(AQ$4:AQ$14,MATCH($E13,$D$4:$D$14,0)),\"\")","v":""},"","","","","","","",{"$f":"IF(ISNUMBER($E13),INDEX(AY$4:AY$14,MATCH($E13,$D$4:$D$14,0)),\"\")","v":""},""]
[{"$f":"IF(ISNUMBER($E14),INDEX(A$4:A$15,MATCH($E14,$D$4:$D$15,0)),\"\")","v":""},null,null,null,null,"","","",{"$f":"IF(ISNUMBER($E14),INDEX(I$4:I$14,MATCH($E14,$D$4:$D$14,0)),\"\")","v":""},"","","","","","","","","",null,{"$f":"IF(ISNUMBER($E14),INDEX(T$4:T$14,MATCH($E14,$D$4:$D$14,0)),\"\")","v":""},"","","","","","","","","","","","","","","","","","","","","","","","","","","","","","",{"$f":"IF(ISNUMBER($E14),INDEX(AY$4:AY$14,MATCH($E14,$D$4:$D$14,0)),\"\")","v":""},""]
[null,null,null,null,null,null,null,null,null,"hC1",{"$f":"IF(K15>0,1,\"\")","v":1},{"$f":"IF(L15>0,1,\"\")","v":""},{"$f":"IF(M15>0,1,\"\")","v":""},"","","","","","hC1",{"$f":"IF(T15>0,1,\"\")","v":1},{"$f":"IF(U15>0,1,\"\")","v":""},"","","","","",null,null,null,null,null,null,null,null,null,null,null,null,null,null,null,"hC1",{"$f":"IF(AQ15>0,1,\"\")","v":1},"","","","","",""]
["Figure Caption",null,null,null,null,null,null,null,null,"hC2",{"$f":"IFERROR(K27*COLUMN(),\"\")","v":11},{"$f":"IFERROR(L27*COLUMN(),\"\")","v":""},"","","","","","","hC2",{"$f":"IFERROR(T27*COLUMN(),\"\")","v":20},{"$f":"IFERROR(U27*COLUMN(),\"\")","v":""},"","","","","",null,null,null,null,null,null,null,null,null,null,null,null,null,null,null,"hC2",{"$f":"IFERROR(AQ27*COLUMN(),\"\")","v":43},"","","","","",""]
["Monthly Water Intake by Source","User Input Instructions",null,null,null,null,null,null,null,{"$f":"COLUMN()","v":10},{"$f":"SMALL($K$28:$R$28,COLUMN()-$J$29)","v":11},{"$f":"SMALL($K$28:$R$28,COLUMN()-$J$29)","v":{"$error":"#NUM!"}},{"$f":"SMALL($K$28:$R$28,COLUMN()-$J$29)","v":{"$error":"#NUM!"}},{"$error":"#NUM!"},{"$error":"#NUM!"},{"$error":"#NUM!"},{"$error":"#NUM!"},{"$error":"#NUM!"},{"$f":"COLUMN()","v":19},{"$f":"SMALL($T$28:$Z$28,COLUMN()-$S$29)","v":20},{"$f":"SMALL($T$28:$Z$28,COLUMN()-$S$29)","v":{"$error":"#NUM!"}},{"$f":"SMALL($T$28:$Z$28,COLUMN()-$S$29)","v":{"$error":"#NUM!"}},{"$error":"#NUM!"},{"$error":"#NUM!"},{"$error":"#NUM!"},{"$error":"#NUM!"},null,null,null,null,null,null,null,null,null,null,null,null,null,null,null,{"$f":"COLUMN()","v":42},{"$f":"SMALL($AQ$28:$AW$28,COLUMN()-$AP$29)","v":43},{"$error":"#NUM!"},{"$error":"#NUM!"},{"$error":"#NUM!"},{"$error":"#NUM!"},{"$error":"#NUM!"},{"$error":"#NUM!"}]
["Monthly Wastewater Discharge by Outlet","Yellow","Please input data ONLY in the yellow cells.",null,null,null,null,null,null,null,{"$f":"IF(ISNUMBER(K$29),INDEX($K2:$R2,MATCH(K$29,$K$28:$R$28,0)),\"\")","v":"Municipal Water: Potable"},"","","","","","","",null,{"$f":"IF(ISNUMBER(T$29),INDEX($T2:$Z2,MATCH(T$29,$T$28:$Z$28,0)),\"\")","v":"Municipal Sewer"},{"$f":"IF(ISNUMBER(U$29),INDEX($T2:$Z2,MATCH(U$29,$T$28:$Z$28,0)),\"\")","v":""},"","","","","",null,null,null,null,null,null,null,null,null,null,null,null,null,null,null,null,{"$f":"IF(ISNUMBER(AQ$29),INDEX($AQ2:$AW2,MATCH(AQ$29,$AQ$28:$AW$28,0)),\"\")","v":"Municipal Water Intake"},"","","","","","",{"$f":"IF(ISNUMBER(AX$29),INDEX($AQ3:$AW3,MATCH(AX$29,$AQ$28:$AW$28,0)),\"\")","v":""}]
["Percent Water Intake by Source","Orange","Please select from the drop-down menu in the orange cells.",null,null,null,null,null,null,null,{"$f":"IF(AND(ISNUMBER($E4),ISNUMBER(K$29)),INDEX($K$4:$R$14,MATCH($E4,$D$4:$D$14,0),MATCH(K$29,$K$28:$R$28,0)),\"\")","v":0},"","","","","","","",null,{"$f":"IF(AND(ISNUMBER($E4),ISNUMBER(T$29)),INDEX($T$4:$Z$14,MATCH($E4,$D$4:$D$14,0),MATCH(T$29,$T$28:$Z$28,0)),\"\")","v":0},{"$f":"IF(AND(ISNUMBER($E4),ISNUMBER(U$29)),INDEX($T$4:$Z$14,MATCH($E4,$D$4:$D$14,0),MATCH(U$29,$T$28:$Z$28,0)),\"\")","v":""},"","","","","",null,null,null,null,null,null,null,null,null,null,null,null,null,null,null,null,{"$f":"IF(AND(ISNUMBER($E4),ISNUMBER(AQ$29)),INDEX($AQ$4:$AW$14,MATCH($E4,$D$4:$D$14,0),MATCH(AQ$29,$AQ$28:$AW$28,0)),\"\")","v":0},"","","","","",""]
["Percent Wastewater Discharge by Outlet","Tan","Please DO NOT enter any data or delete values in the tan cells. They contain formulae.",null,null,null,null,null,null,null,"","","","","","","","",null,{"$f":"IF(AND(ISNUMBER($E5),ISNUMBER(T$29)),INDEX($T$4:$Z$14,MATCH($E5,$D$4:$D$14,0),MATCH(T$29,$T$28:$Z$28,0)),\"\")","v":""},"","","","","","",null,null,null,null,null,null,null,null,null,null,null,null,null,null,null,null,"","","","","","",""]
["Source Water Intake by System","Purple","Please DO NOT enter any data in the purple cells. They show values calculated elsewhere for guiding user input and cross-checking results.",null,null,null,null,null,null,null,"","","","","","","","",null,"","","","","","","",null,null,null,null,null,null,null,null,null,null,null,null,null,null,null,null,"","","","","","",""]
["Percent Source Water Intake by System","Gray","Please DO NOT enter any data in the gray cells. They are not applicable to your plant.",null,null,null,null,null,null,null,"","","","","","","","",null,"","","","","","","",null,null,null,null,null,null,null,null,null,null,null,null,null,null,null,null,"","","","","","",""]
["Wastewater Discharge by System","Please give your best estimate if the exact data is not known.",null,null,null,null,null,null,null,null,"","","","","","","","",null,"","","","","","","",null,null,null,null,null,null,null,null,null,null,null,null,null,null,null,null,"","","","","","",""]
["Percent Wastewater Discharge by System",null,null,null,null,null,null,null,null,null,"","","","","","","","",null,"","","","","","","",null,null,null,null,null,null,null,null,null,null,null,null,null,null,null,null,"","","","","","",""]
["Gross Water Use by System",null,null,null,null,null,null,null,null,null,"","","","","","","","",null,"","","","","","","",null,null,null,null,null,null,null,null,null,null,null,null,null,null,null,null,"","","","","","",""]
["Outgoing Water by System",null,null,null,null,null,null,null,null,null,"","","","","","","","",null,"","","","","","","",null,null,null,null,null,null,null,null,null,null,null,null,null,null,null,null,"","","","","","",""]
["Water Imbalance by System",null,null,null,null,null,null,null,null,null,"","","","","","","","",null,"","","","","","","",null,null,null,null,null,null,null,null,null,null,null,null,null,null,null,null,"","","","","","",""]
["Percent Water Imbalance by System",null,null,null,null,null,null,null,null,null,{"$f":"IF(AND(ISNUMBER(#REF!),ISNUMBER(K$29)),INDEX($K$4:$R$14,MATCH(#REF!,$D$4:$D$14,0),MATCH(K$29,$K$28:$R$28,0)),\"\")","v":""},{"$f":"IF(AND(ISNUMBER(#REF!),ISNUMBER(L$29)),INDEX($K$4:$R$14,MATCH(#REF!,$D$4:$D$14,0),MATCH(L$29,$K$28:$R$28,0)),\"\")","v":""},{"$f":"IF(AND(ISNUMBER(#REF!),ISNUMBER(M$29)),INDEX($K$4:$R$14,MATCH(#REF!,$D$4:$D$14,0),MATCH(M$29,$K$28:$R$28,0)),\"\")","v":""},{"$f":"IF(AND(ISNUMBER(#REF!),ISNUMBER(N$29)),INDEX($K$4:$R$14,MATCH(#REF!,$D$4:$D$14,0),MATCH(N$29,$K$28:$R$28,0)),\"\")","v":""},{"$f":"IF(AND(ISNUMBER(#REF!),ISNUMBER(O$29)),INDEX($K$4:$R$14,MATCH(#REF!,$D$4:$D$14,0),MATCH(O$29,$K$28:$R$28,0)),\"\")","v":""},{"$f":"IF(AND(ISNUMBER(#REF!),ISNUMBER(P$29)),INDEX($K$4:$R$14,MATCH(#REF!,$D$4:$D$14,0),MATCH(P$29,$K$28:$R$28,0)),\"\")","v":""},{"$f":"IF(AND(ISNUMBER(#REF!),ISNUMBER(Q$29)),INDEX($K$4:$R$14,MATCH(#REF!,$D$4:$D$14,0),MATCH(Q$29,$K$28:$R$28,0)),\"\")","v":""},{"$f":"IF(AND(ISNUMBER(#REF!),ISNUMBER(R$29)),INDEX($K$4:$R$14,MATCH(#REF!,$D$4:$D$14,0),MATCH(R$29,$K$28:$R$28,0)),\"\")","v":""},null,"","","","","","","",null,null,null,null,null,null,null,null,null,null,null,null,null,null,null,null,{"$f":"IF(AND(ISNUMBER(#REF!),ISNUMBER(AQ$29)),INDEX($AQ$4:$AW$14,MATCH(#REF!,$D$4:$D$14,0),MATCH(AQ$29,$AQ$28:$AW$28,0)),\"\")","v":""},{"$f":"IF(AND(ISNUMBER(#REF!),ISNUMBER(AR$29)),INDEX($AQ$4:$AW$14,MATCH(#REF!,$D$4:$D$14,0),MATCH(AR$29,$AQ$28:$AW$28,0)),\"\")","v":""},{"$f":"IF(AND(ISNUMBER(#REF!),ISNUMBER(AS$29)),INDEX($AQ$4:$AW$14,MATCH(#REF!,$D$4:$D$14,0),MATCH(AS$29,$AQ$28:$AW$28,0)),\"\")","v":""},{"$f":"IF(AND(ISNUMBER(#REF!),ISNUMBER(AT$29)),INDEX($AQ$4:$AW$14,MATCH(#REF!,$D$4:$D$14,0),MATCH(AT$29,$AQ$28:$AW$28,0)),\"\")","v":""},{"$f":"IF(AND(ISNUMBER(#REF!),ISNUMBER(AU$29)),INDEX($AQ$4:$AW$14,MATCH(#REF!,$D$4:$D$14,0),MATCH(AU$29,$AQ$28:$AW$28,0)),\"\")","v":""},{"$f":"IF(AND(ISNUMBER(#REF!),ISNUMBER(AV$29)),INDEX($AQ$4:$AW$14,MATCH(#REF!,$D$4:$D$14,0),MATCH(AV$29,$AQ$28:$AW$28,0)),\"\")","v":""},{"$f":"IF(AND(ISNUMBER(#REF!),ISNUMBER(AW$29)),INDEX($AQ$4:$AW$14,MATCH(#REF!,$D$4:$D$14,0),MATCH(AW$29,$AQ$28:$AW$28,0)),\"\")","v":""}]
["True Cost of Water by System",null,null,null,null,null,null,null,null,null,{"$f":"IF(AND(ISNUMBER($E13),ISNUMBER(K$29)),INDEX($K$4:$R$14,MATCH($E13,$D$4:$D$14,0),MATCH(K$29,$K$28:$R$28,0)),\"\")","v":""},"","","","","","","",null,"","","","","","","",null,null,null,null,null,null,null,null,null,null,null,null,null,null,null,null,{"$f":"IF(AND(ISNUMBER($E13),ISNUMBER(AQ$29)),INDEX($AQ$4:$AW$14,MATCH($E13,$D$4:$D$14,0),MATCH(AQ$29,$AQ$28:$AW$28,0)),\"\")","v":""},"","","","","",""]
["True Cost of Water by Cost Component",null,null,null,null,null,null,null,null,null,"","","","","","","","",null,"","","","","","","",null,null,null,null,null,null,null,null,null,null,null,null,null,null,null,null,"","","","","","",""]
["Source Water Savings by System",null,null,null,null,null,null,null,null,null,"","","","","","","","",null,"","","","","","",""]
["True Cost Savings by System",null,null,null,null,null,null,null,null,null,{"$f":"IF(SUM(K31:K43)>0,SUM(K31:K43),\"\")","v":""},{"$f":"IF(SUM(L31:L43)>0,SUM(L31:L43),\"\")","v":""},"","","","","","",null,{"$f":"IF(SUM(T31:T43)>0,SUM(T31:T43),\"\")","v":""},"","","","","","",null,null,null,null,null,null,null,null,null,null,null,null,null,null,null,null,{"$f":"SUM(AQ31:AQ43)","v":0},0,0,0,0,0,0]
["Condensate Return (%)"]
["Cycles of Concentration"]
["Fraction Recirculated (Recirculated/Gross Water Use)"]
["Units"]
["Million Gallon"]
["Million Gallon per Year"]
["$ per Year"]
["Cost ($)"]

{"sheet":"Results","index":15,"n_rows":669,"n_cols":12,"rows_kept":669,"cut":false,"hidden":false,"merged":[[482,3,482,4],[482,5,482,11],[483,3,483,4],[484,3,484,4],[485,3,485,4],[486,3,486,4],[487,3,487,4],[483,5,483,11],[484,5,484,11],[485,5,485,11],[486,5,486,11],[487,5,487,11],[462,5,462,6],[463,5,463,6],[464,5,464,6],[465,5,465,6],[466,5,466,6],[467,5,467,6],[468,5,468,6],[469,5,469,6],[470,5,470,6],[471,5,471,6],[472,5,472,6],[473,5,473,6],[462,7,462,9],[463,7,463,9],[464,7,464,9],[465,7,465,9],[466,7,466,9],[467,7,467,9],[468,7,468,9],[469,7,469,9],[470,7,470,9],[471,7,471,9],[472,7,472,9],[473,7,473,9],[479,1,479,11],[8,1,8,3],[29,5,29,6],[15,1,17,2],[170,1,170,9],[168,1,168,9],[10,1,10,3],[9,1,9,3],[17,4,17,6],[19,4,19,6],[135,9,147,11],[82,9,94,11],[15,10,23,11],[28,11,29,11],[66,4,66,11],[15,4,15,6],[16,4,16,6],[45,9,60,11],[115,1,115,9],[19,1,19,2],[65,1,66,2],[62,1,62,9],[0,2,0,9],[458,1,458,11],[492,1,492,11],[493,1,493,11],[494,1,494,11],[495,1,495,11],[173,5,173,8],[381,1,384,11],[18,1,18,2],[18,4,18,6],[28,9,28,10],[28,7,28,8],[403,9,415,11],[390,9,401,11],[20,4,20,6],[21,4,21,6],[22,4,22,6],[23,4,23,6],[292,4,292,11],[238,1,239,3],[291,1,292,2],[206,1,207,3],[171,1,173,3],[6,7,6,9],[7,1,7,3],[1,1,1,11],[205,1,205,9],[20,1,22,2],[2,1,2,11],[417,9,454,11],[4,1,4,11],[480,1,480,11],[477,1,477,11],[171,10,173,10],[239,6,239,7],[237,1,237,9],[207,5,207,9],[118,1,119,2],[119,4,119,10],[28,1,29,3],[482,1,482,2],[288,1,288,9],[341,1,341,9],[290,1,290,9],[238,9,238,11],[171,5,171,6],[558,1,558,11],[559,1,559,11],[496,1,496,11],[497,1,497,11],[543,1,543,11],[544,1,544,11],[540,1,540,11],[520,1,520,11],[521,1,521,11],[502,1,502,11],[501,1,501,11],[545,1,545,11],[546,1,546,11],[532,1,532,11],[522,1,522,11],[523,1,523,11],[524,1,524,11],[526,1,526,11],[511,1,511,11],[512,1,512,11],[542,1,542,11],[534,1,534,11],[554,1,554,11],[555,1,555,11],[551,1,551,11],[552,1,552,11],[553,1,553,11],[498,1,498,11],[499,1,499,11],[500,1,500,11],[487,1,487,2],[486,1,486,2],[505,1,505,11],[506,1,506,11],[535,1,535,11],[536,1,536,11],[537,1,537,11],[538,1,538,11],[539,1,539,11],[547,1,547,11],[548,1,548,11],[549,1,549,11],[550,1,550,11],[491,1,491,11],[460,1,460,11],[577,1,577,11],[578,1,578,11],[541,1,541,11],[560,1,560,11],[576,1,576,11],[564,1,564,11],[565,1,565,11],[569,1,569,11],[570,1,570,11],[567,1,567,11],[566,1,566,11],[568,1,568,11],[562,1,562,11],[563,1,563,11],[571,1,571,11],[572,1,572,11],[573,1,573,11],[574,1,574,11],[575,1,575,11],[556,1,556,11],[557,1,557,11],[561,1,561,11],[484,1,484,2],[456,1,456,9],[533,1,533,11],[509,1,509,11],[508,1,508,11],[513,1,513,11],[514,1,514,11],[507,1,507,11],[504,1,504,11],[503,1,503,11],[517,1,517,11],[516,1,516,11],[510,1,510,11],[515,1,515,11],[519,1,519,11],[518,1,518,11],[527,1,527,11],[528,1,528,11],[529,1,529,11],[530,1,530,11],[531,1,531,11],[525,1,525,11],[483,1,483,2],[485,1,485,2],[579,1,579,11],[580,1,580,11],[581,1,581,11],[582,1,582,11],[583,1,583,11],[584,1,584,11],[585,1,585,11],[586,1,586,11],[587,1,587,11],[588,1,588,11],[589,1,589,11],[590,1,590,11],[591,1,591,11],[592,1,592,11],[593,1,593,11],[594,1,594,11],[595,1,595,11],[596,1,596,11],[597,1,597,11],[598,1,598,11],[599,1,599,11],[600,1,600,11],[601,1,601,11],[602,1,602,11],[603,1,603,11],[604,1,604,11],[605,1,605,11],[606,1,606,11],[607,1,607,11],[608,1,608,11],[609,1,609,11],[610,1,610,11],[611,1,611,11],[612,1,612,11],[613,1,613,11],[614,1,614,11],[615,1,615,11],[616,1,616,11],[617,1,617,11],[618,1,618,11],[619,1,619,11],[620,1,620,11],[621,1,621,11],[622,1,622,11],[623,1,623,11],[624,1,624,11],[625,1,625,11],[626,1,626,11],[627,1,627,11],[628,1,628,11],[629,1,629,11],[630,1,630,11],[631,1,631,11],[632,1,632,11],[666,1,666,11],[667,1,667,11],[668,1,668,11],[650,1,650,11],[633,1,633,11],[634,1,634,11],[635,1,635,11],[636,1,636,11],[637,1,637,11],[638,1,638,11],[639,1,639,11],[640,1,640,11],[641,1,641,11],[669,1,669,11],[651,1,651,11],[652,1,652,11],[653,1,653,11],[654,1,654,11],[655,1,655,11],[656,1,656,11],[657,1,657,11],[642,1,642,11],[643,1,643,11],[644,1,644,11],[645,1,645,11],[646,1,646,11],[647,1,647,11],[648,1,648,11],[649,1,649,11],[658,1,658,11],[659,1,659,11],[660,1,660,11],[661,1,661,11],[662,1,662,11],[663,1,663,11],[664,1,664,11],[665,1,665,11],[171,7,172,7],[171,8,172,8],[189,9,201,11],[223,9,235,11],[255,9,267,11],[308,9,320,11],[324,9,339,11],[363,1,363,2],[362,8,362,9],[345,7,345,8],[352,7,352,8],[358,7,358,8],[345,3,345,5],[352,3,352,5],[358,3,358,5],[345,10,348,11],[350,10,362,11]]}
[null,null,"Plant Water Profiler Results"]
[null,{"$f":"IF(E8=\"\",\"<Corporation Name> \",E8&\" – \")&IF(E9=\"\",\"<Plant Name>\",E9)","v":"<Corporation Name> <Plant Name>"}]
[null,{"$f":"\"Year \"&IF('1.Plant Info'!H36=\"\",\"< >\",'1.Plant Info'!H36)&\" Report\"","v":"Year < > Report"}]
[]
[null,"The Plant Water Profiler Tool helps your organization understand how water is being procured and consumed at its plant and identifies potential water and cost savings. The PWP Tool helps break down the water intake, water consumption, and true cost of all water-using systems in your plant. It quantifies potential water savings  that can be achieved from minimizing water loss and increasing water recirculation. Furthermore, it provides a list of next steps that might help your plant reduce water consumption. The PWP Tool is an excellent “first step” in identifying opportunities for water and associated cost savings."]
[]
[null,"Plant's Information"]
[null,{"$f":"'1.Plant Info'!B12","v":"Corporation Name:"},null,null,{"$f":"IF('1.Plant Info'!C12=\"\",\"\",'1.Plant Info'!C12)","v":""},null,null,null,null,"Primary Contact:"]
[null,{"$f":"'1.Plant Info'!B13","v":"Plant Name:"},null,null,{"$f":"IF('1.Plant Info'!C13=\"\",\"\",'1.Plant Info'!C13)","v":""},null,null,null,null,{"$f":"'1.Plant Info'!F13","v":"Name:"},{"$f":"IF('1.Plant Info'!G13=\"\",\"\",'1.Plant Info'!G13)","v":""}]
[null,{"$f":"'1.Plant Info'!B15","v":"Primary Product:"},null,null,{"$f":"IF('1.Plant Info'!C15=\"\",\"\",'1.Plant Info'!C15)","v":""},null,null,null,null,{"$f":"'1.Plant Info'!F17","v":"Phone:"},{"$f":"IF('1.Plant Info'!G17=\"\",\"\",'1.Plant Info'!G17)","v":""}]
[null,{"$f":"'1.Plant Info'!B18","v":"Industry Type and NAICS 5-Digit Code:"},null,null,{"$f":"IF('1.Plant Info'!C18=\"\",\"\",'1.Plant Info'!C18)","v":""},null,null,null,null,{"$f":"'1.Plant Info'!F19","v":"E-mail:"},{"$f":"IF('1.Plant Info'!G19=\"\",\"\",'1.Plant Info'!G19)","v":""}]
[]
[]
[]
[null,"Plant's Annual Water Use and Cost Summary",null,null,null,null,null,"Plant's Source Water Intake Benchmark"]
[null,"Facility-wide Source Water Intake ",null,{"$f":"'1.Plant Info'!H37","v":0},"Million Gallon",null,null,null,null,null,"This chart compares water intake in your plant (marked as X) with the min-max range of that in the same industry subsector and type in the United States. For comparison, source water intake is normalized by production cost."]
[null,null,null,{"$f":"IFERROR(D16/'1.Plant Info'!$D$46*1000,\"\")","v":""},{"$f":"\"kGal per \"&IF('1.Plant Info'!$D$40=1,\"Unit\",'1.Plant Info'!$D$40)&\" \"&'1.Plant Info'!$E$40","v":"kGal per  "}]
[null,null,null,{"$f":"IFERROR(D16/'1.Plant Info'!$H$38*1000,\"\")","v":""},"kGal per Million Dollar Production Cost"]
[null,"System-Level Total Source Water Intake",null,{"$f":"F42","v":0},"Million Gallon"]
[null,"Direct Cost of Water",null,{"$f":"IF(SUM('True Cost'!$D$72:$F$72)>0,SUM('True Cost'!$D$72:$F$72),\"\")","v":""},"Dollars"]
[null,"True Cost of Water ",null,{"$f":"IF(J42>0,J42,\"\")","v":""},"Dollars"]
[null,null,null,{"$f":"IFERROR(D21/'1.Plant Info'!$D$46,\"\")","v":""},{"$f":"\"Dollars per \"&IF('1.Plant Info'!$D$40=1,\"Unit\",'1.Plant Info'!$D$40)&\" \"&'1.Plant Info'!$E$40","v":"Dollars per  "}]
[null,null,null,{"$f":"IFERROR(D21/'1.Plant Info'!$H$38,\"\")","v":""},"Dollars per Million Dollar Production Cost"]
[null,"True Cost/Direct Cost",null,{"$f":"IFERROR(D21/D20,\"\")","v":""}]
[]
[]
[]
[null,"Annual Water Use and Cost Summary by System"]
[null,{"$f":"'1.Plant Info'!B51","v":"Water-Using System"},null,null,null,{"$f":"HelperTab!F2","v":"Source Water Intake"},{"$f":"HelperTab!H2","v":"Gross Water Use"},{"$f":"HelperTab!I2","v":"Direct Costs"},null,{"$f":"HelperTab!J2&\"*\"","v":"True Cost of Water*"},null,"True Cost/Direct Cost"]
[null,null,null,null,null,{"$f":"HelperTab!F3","v":"Million Gallon per Year"},null,{"$f":"HelperTab!I3","v":"$/Year"},"$/kGal","$/Year","$/kGal"]
[{"$f":"IF(B31<>\"\",0,1)","v":0},{"$f":"HelperTab!A16","v":"-"},null,null,null,{"$f":"HelperTab!F16","v":0},{"$f":"HelperTab!H16","v":0},{"$f":"HelperTab!I16","v":0},{"$f":"IFERROR(H31/F31,\"\")","v":""},{"$f":"HelperTab!J16","v":0},{"$f":"IFERROR(J31/F31,\"\")","v":""},{"$f":"IFERROR(J31/H31,\"\")","v":""}]
[1,{"$f":"HelperTab!A17","v":""},null,null,null,{"$f":"HelperTab!F17","v":""},{"$f":"HelperTab!H17","v":""},{"$f":"HelperTab!I17","v":""},"",{"$f":"HelperTab!J17","v":""},"",""]
[1,{"$f":"HelperTab!A18","v":""},null,null,null,{"$f":"HelperTab!F18","v":""},{"$f":"HelperTab!H18","v":""},{"$f":"HelperTab!I18","v":""},"",{"$f":"HelperTab!J18","v":""},"",""]
[1,{"$f":"HelperTab!A19","v":""},null,null,null,{"$f":"HelperTab!F19","v":""},{"$f":"HelperTab!H19","v":""},{"$f":"HelperTab!I19","v":""},"",{"$f":"HelperTab!J19","v":""},"",""]
[1,{"$f":"HelperTab!A20","v":""},null,null,null,{"$f":"HelperTab!F20","v":""},{"$f":"HelperTab!H20","v":""},{"$f":"HelperTab!I20","v":""},"",{"$f":"HelperTab!J20","v":""},"",""]
[1,{"$f":"HelperTab!A21","v":""},null,null,null,{"$f":"HelperTab!F21","v":""},{"$f":"HelperTab!H21","v":""},{"$f":"HelperTab!I21","v":""},"",{"$f":"HelperTab!J21","v":""},"",""]
[1,{"$f":"HelperTab!A22","v":""},null,null,null,{"$f":"HelperTab!F22","v":""},{"$f":"HelperTab!H22","v":""},{"$f":"HelperTab!I22","v":""},{"$f":"IFERROR(H37/F37,\"\")","v":""},{"$f":"HelperTab!J22","v":""},{"$f":"IFERROR(J37/F37,\"\")","v":""},{"$f":"IFERROR(J37/H37,\"\")","v":""}]
[1,{"$f":"HelperTab!A23","v":""},null,null,null,{"$f":"HelperTab!F23","v":""},{"$f":"HelperTab!H23","v":""},{"$f":"HelperTab!I23","v":""},{"$f":"IFERROR(H38/F38,\"\")","v":""},{"$f":"HelperTab!J23","v":""},{"$f":"IFERROR(J38/F38,\"\")","v":""},{"$f":"IFERROR(J38/H38,\"\")","v":""}]
[1,{"$f":"HelperTab!A24","v":""},null,null,null,{"$f":"HelperTab!F24","v":""},{"$f":"HelperTab!H24","v":""},{"$f":"HelperTab!I24","v":""},"",{"$f":"HelperTab!J24","v":""},"",""]
[1,{"$f":"HelperTab!A25","v":""},null,null,null,{"$f":"HelperTab!F25","v":""},{"$f":"HelperTab!H25","v":""},{"$f":"HelperTab!I25","v":""},"",{"$f":"HelperTab!J25","v":""},"",""]
[1,{"$f":"HelperTab!A26","v":""},null,null,null,{"$f":"HelperTab!F26","v":""},{"$f":"HelperTab!H26","v":""},{"$f":"HelperTab!I26","v":""},"",{"$f":"HelperTab!J26","v":""},"",""]
[null,{"$f":"HelperTab!A15","v":"PLANT TOTAL"},null,null,null,{"$f":"SUM(F31:F41)","v":0},{"$f":"SUM(G31:G41)","v":0},{"$f":"SUM(H31:H41)","v":0},{"$f":"IFERROR(H42/F42,\"\")","v":""},{"$f":"SUM(J31:J41)","v":0},"",""]
[]
[]
[]
[null,null,null,null,null,null,null,null,null,"These charts present the breakdown of source water intake and true cost of water* in different water-using systems in your plant. By identifying systems that are contributing the most towards source water intake and true cost of water, you may prioritize measures to align with your company's priority for water conservation versus cost savings. \n\n*TRUE COST OF WATER\n   = $ Municipal Water Supply\n   + $ Wastewater to Municipal Sewer\n   + $ Water and Wastewater Treatment\n   + $ Pump and Motor Energy\n   + $ Heat Energy in Wastewater"]
[]
[]
[]
[]
[]
[]
[]
[]
[]
[]
[]
[]
[]
[]
[]
[]
[null,"Part 1: Source Water Intake"]
[]
[null,"1.1 Source Water Intake by System"]
[null,{"$f":"B29","v":"Water-Using System"},null,null,{"$f":"HelperTab!K30","v":"Municipal Water: Potable"},{"$f":"HelperTab!L30","v":""},{"$f":"HelperTab!M30","v":""},{"$f":"HelperTab!N30","v":""},{"$f":"HelperTab!O30","v":""},{"$f":"HelperTab!P30","v":""},{"$f":"HelperTab!Q30","v":""},{"$f":"HelperTab!R30","v":""}]
[null,null,null,null,{"$f":"HelperTab!K3","v":"Million Gallon Per Year"}]
[{"$f":"IF(B68<>\"\",0,1)","v":0},{"$f":"B31","v":"-"},null,null,{"$f":"HelperTab!K31","v":0},{"$f":"HelperTab!L31","v":""},{"$f":"HelperTab!M31","v":""},{"$f":"HelperTab!N31","v":""},{"$f":"HelperTab!O31","v":""},{"$f":"HelperTab!P31","v":""},{"$f":"HelperTab!Q31","v":""},{"$f":"HelperTab!R31","v":""}]
[1,"",null,null,{"$f":"HelperTab!K32","v":""},{"$f":"HelperTab!L32","v":""},{"$f":"HelperTab!M32","v":""},{"$f":"HelperTab!N32","v":""},{"$f":"HelperTab!O32","v":""},{"$f":"HelperTab!P32","v":""},{"$f":"HelperTab!Q32","v":""},{"$f":"HelperTab!R32","v":""}]
[1,"",null,null,{"$f":"HelperTab!K33","v":""},{"$f":"HelperTab!L33","v":""},{"$f":"HelperTab!M33","v":""},{"$f":"HelperTab!N33","v":""},{"$f":"HelperTab!O33","v":""},{"$f":"HelperTab!P33","v":""},{"$f":"HelperTab!Q33","v":""},{"$f":"HelperTab!R33","v":""}]
[1,"",null,null,{"$f":"HelperTab!K34","v":""},{"$f":"HelperTab!L34","v":""},{"$f":"HelperTab!M34","v":""},{"$f":"HelperTab!N34","v":""},{"$f":"HelperTab!O34","v":""},{"$f":"HelperTab!P34","v":""},{"$f":"HelperTab!Q34","v":""},{"$f":"HelperTab!R34","v":""}]
[1,"",null,null,{"$f":"HelperTab!K35","v":""},{"$f":"HelperTab!L35","v":""},{"$f":"HelperTab!M35","v":""},{"$f":"HelperTab!N35","v":""},{"$f":"HelperTab!O35","v":""},{"$f":"HelperTab!P35","v":""},{"$f":"HelperTab!Q35","v":""},{"$f":"HelperTab!R35","v":""}]
[1,"",null,null,{"$f":"HelperTab!K36","v":""},{"$f":"HelperTab!L36","v":""},{"$f":"HelperTab!M36","v":""},{"$f":"HelperTab!N36","v":""},{"$f":"HelperTab!O36","v":""},{"$f":"HelperTab!P36","v":""},{"$f":"HelperTab!Q36","v":""},{"$f":"HelperTab!R36","v":""}]
[1,"",null,null,{"$f":"HelperTab!K37","v":""},{"$f":"HelperTab!L37","v":""},{"$f":"HelperTab!M37","v":""},{"$f":"HelperTab!N37","v":""},{"$f":"HelperTab!O37","v":""},{"$f":"HelperTab!P37","v":""},{"$f":"HelperTab!Q37","v":""},{"$f":"HelperTab!R37","v":""}]
[1,"",null,null,{"$f":"HelperTab!K38","v":""},{"$f":"HelperTab!L38","v":""},{"$f":"HelperTab!M38","v":""},{"$f":"HelperTab!N38","v":""},{"$f":"HelperTab!O38","v":""},{"$f":"HelperTab!P38","v":""},{"$f":"HelperTab!Q38","v":""},{"$f":"HelperTab!R38","v":""}]
[1,"",null,null,{"$f":"HelperTab!K39","v":""},{"$f":"HelperTab!L39","v":""},{"$f":"HelperTab!M39","v":""},{"$f":"HelperTab!N39","v":""},{"$f":"HelperTab!O39","v":""},{"$f":"HelperTab!P39","v":""},{"$f":"HelperTab!Q39","v":""},{"$f":"HelperTab!R39","v":""}]
[1,"",null,null,{"$f":"HelperTab!K41","v":""},{"$f":"HelperTab!L41","v":""},{"$f":"HelperTab!M41","v":""},{"$f":"HelperTab!N41","v":""},{"$f":"HelperTab!O41","v":""},{"$f":"HelperTab!P41","v":""},{"$f":"HelperTab!Q41","v":""},{"$f":"HelperTab!R41","v":""}]
[1,"",null,null,{"$f":"HelperTab!K42","v":""},{"$f":"HelperTab!L42","v":""},{"$f":"HelperTab!M42","v":""},{"$f":"HelperTab!N42","v":""},{"$f":"HelperTab!O42","v":""},{"$f":"HelperTab!P42","v":""},{"$f":"HelperTab!Q42","v":""},{"$f":"HelperTab!R42","v":""}]
[null,"PLANT TOTAL",null,null,{"$f":"SUM(E68:E78)","v":0},0,0,0,0,0,0,0]
[]
[]
[]
[null,null,null,null,null,null,null,null,null,"This chart presents the water intake from different sources for different water-using systems in your plant.\n\nBy identifying systems with municipal water as the largest fraction of their source water intake, you may consider alternative sources of water as a measure to reduce the cost of source water intake. "]
[]
[]
[]
[]
[]
[]
[]
[]
[]
[]
[]
[]
[]
[]
[]
[]
[]
[]
[]
[]
[]
[]
[]
[]
[]
[]
[]
[]
[]
[]
[]
[]
[null,"Part 2: Wastewater Discharge"]
[]
[null,"2.1 Wastewater Discharge by System"]
[null,{"$f":"B29","v":"Water-Using System"},null,null,{"$f":"HelperTab!T30","v":"Municipal Sewer"},{"$f":"HelperTab!U30","v":""},{"$f":"HelperTab!V30","v":""},{"$f":"HelperTab!W30","v":""},{"$f":"HelperTab!X30","v":""},{"$f":"HelperTab!Y30","v":""},{"$f":"HelperTab!Z30","v":""}]
[null,null,null,null,{"$f":"HelperTab!T3","v":"Million Gallon per Year"}]
[{"$f":"IF(B121<>\"\",0,1)","v":0},{"$f":"B31","v":"-"},null,null,{"$f":"HelperTab!T31","v":0},{"$f":"HelperTab!U31","v":""},{"$f":"HelperTab!V31","v":""},{"$f":"HelperTab!W31","v":""},{"$f":"HelperTab!X31","v":""},{"$f":"HelperTab!Y31","v":""},{"$f":"HelperTab!Z31","v":""}]
[1,"",null,null,{"$f":"HelperTab!T32","v":""},{"$f":"HelperTab!U32","v":""},{"$f":"HelperTab!V32","v":""},{"$f":"HelperTab!W32","v":""},{"$f":"HelperTab!X32","v":""},{"$f":"HelperTab!Y32","v":""},{"$f":"HelperTab!Z32","v":""}]
[1,"",null,null,{"$f":"HelperTab!T33","v":""},{"$f":"HelperTab!U33","v":""},{"$f":"HelperTab!V33","v":""},{"$f":"HelperTab!W33","v":""},{"$f":"HelperTab!X33","v":""},{"$f":"HelperTab!Y33","v":""},{"$f":"HelperTab!Z33","v":""}]
[1,"",null,null,{"$f":"HelperTab!T34","v":""},{"$f":"HelperTab!U34","v":""},{"$f":"HelperTab!V34","v":""},{"$f":"HelperTab!W34","v":""},{"$f":"HelperTab!X34","v":""},{"$f":"HelperTab!Y34","v":""},{"$f":"HelperTab!Z34","v":""}]
[1,"",null,null,{"$f":"HelperTab!T35","v":""},{"$f":"HelperTab!U35","v":""},{"$f":"HelperTab!V35","v":""},{"$f":"HelperTab!W35","v":""},{"$f":"HelperTab!X35","v":""},{"$f":"HelperTab!Y35","v":""},{"$f":"HelperTab!Z35","v":""}]
[1,"",null,null,{"$f":"HelperTab!T36","v":""},{"$f":"HelperTab!U36","v":""},{"$f":"HelperTab!V36","v":""},{"$f":"HelperTab!W36","v":""},{"$f":"HelperTab!X36","v":""},{"$f":"HelperTab!Y36","v":""},{"$f":"HelperTab!Z36","v":""}]
[1,"",null,null,{"$f":"HelperTab!T37","v":""},{"$f":"HelperTab!U37","v":""},{"$f":"HelperTab!V37","v":""},{"$f":"HelperTab!W37","v":""},{"$f":"HelperTab!X37","v":""},{"$f":"HelperTab!Y37","v":""},{"$f":"HelperTab!Z37","v":""}]
[1,"",null,null,{"$f":"HelperTab!T38","v":""},{"$f":"HelperTab!U38","v":""},{"$f":"HelperTab!V38","v":""},{"$f":"HelperTab!W38","v":""},{"$f":"HelperTab!X38","v":""},{"$f":"HelperTab!Y38","v":""},{"$f":"HelperTab!Z38","v":""}]
[1,"",null,null,{"$f":"HelperTab!T39","v":""},{"$f":"HelperTab!U39","v":""},{"$f":"HelperTab!V39","v":""},{"$f":"HelperTab!W39","v":""},{"$f":"HelperTab!X39","v":""},{"$f":"HelperTab!Y39","v":""},{"$f":"HelperTab!Z39","v":""}]
[1,"",null,null,{"$f":"HelperTab!T40","v":""},{"$f":"HelperTab!U40","v":""},{"$f":"HelperTab!V40","v":""},{"$f":"HelperTab!W40","v":""},{"$f":"HelperTab!X40","v":""},{"$f":"HelperTab!Y40","v":""},{"$f":"HelperTab!Z40","v":""}]
[1,"",null,null,{"$f":"HelperTab!T41","v":""},{"$f":"HelperTab!U41","v":""},{"$f":"HelperTab!V41","v":""},{"$f":"HelperTab!W41","v":""},{"$f":"HelperTab!X41","v":""},{"$f":"HelperTab!Y41","v":""},{"$f":"HelperTab!Z41","v":""}]
[null,"PLANT TOTAL",null,null,{"$f":"SUM(E121:E131)","v":0},0,0,0,0,0,0]
[]
[]
[]
[null,null,null,null,null,null,null,null,null,"This chart presents the wastewater discharge to different outlets for different water-using systems in your plant.\n\nBy identifying systems from which wastewater discharge can be used as intake for other systems, you may consider recycling wastewater as a measure to reduce (a) the cost of wastewater discharge for a system as well as (b) the cost of source water intake for other systems. "]
[]
[]
[]
[]
[]
[]
[]
[]
[]
[]
[]
[]
[]
[]
[]
[]
[]
[]
[]
[]
[]
[]
[]
[]
[]
[]
[]
[]
[]
[]
[]
[]
[null,"Part 3: Water Balance"]
[]
[null,"3.1 Gross Water Use by System"]
[null,{"$f":"B29","v":"Water-Using System"},null,null,null,"Incoming Water",null,{"$f":"HelperTab!AC2","v":"Recirc. within System"},"TOTAL",null,"Reused & Recirc. Water / Gross Water Use"]
[null,null,null,null,null,{"$f":"HelperTab!AA2","v":"Source Water"},{"$f":"HelperTab!AB2","v":"Water from Other Systems"}]
[null,null,null,null,null,{"$f":"HelperTab!AA3","v":"Million Gallon per Year"}]
[{"$f":"IF(B175<>\"\",0,1)","v":0},{"$f":"B31","v":"-"},null,null,null,{"$f":"HelperTab!AA16","v":0},{"$f":"HelperTab!AB16","v":0},{"$f":"HelperTab!AC16","v":0},{"$f":"HelperTab!AD16","v":0},null,{"$f":"IFERROR((G175+H175)/I175,\"\")","v":""}]
[1,"",null,null,null,{"$f":"HelperTab!AA17","v":""},{"$f":"HelperTab!AB17","v":""},{"$f":"HelperTab!AC17","v":""},{"$f":"HelperTab!AD17","v":""},null,{"$f":"IFERROR((G176+H176)/I176,\"\")","v":""}]
[1,"",null,null,null,{"$f":"HelperTab!AA18","v":""},{"$f":"HelperTab!AB18","v":""},{"$f":"HelperTab!AC18","v":""},{"$f":"HelperTab!AD18","v":""},null,""]
[1,"",null,null,null,{"$f":"HelperTab!AA19","v":""},{"$f":"HelperTab!AB19","v":""},{"$f":"HelperTab!AC19","v":""},{"$f":"HelperTab!AD19","v":""},null,""]
[1,"",null,null,null,{"$f":"HelperTab!AA20","v":""},{"$f":"HelperTab!AB20","v":""},{"$f":"HelperTab!AC20","v":""},{"$f":"HelperTab!AD20","v":""},null,""]
[1,"",null,null,null,{"$f":"HelperTab!AA21","v":""},{"$f":"HelperTab!AB21","v":""},{"$f":"HelperTab!AC21","v":""},{"$f":"HelperTab!AD21","v":""},null,""]
[1,"",null,null,null,{"$f":"HelperTab!AA22","v":""},{"$f":"HelperTab!AB22","v":""},{"$f":"HelperTab!AC22","v":""},{"$f":"HelperTab!AD22","v":""},null,""]
[1,"",null,null,null,{"$f":"HelperTab!AA23","v":""},{"$f":"HelperTab!AB23","v":""},{"$f":"HelperTab!AC23","v":""},{"$f":"HelperTab!AD23","v":""},null,""]
[1,"",null,null,null,{"$f":"HelperTab!AA24","v":""},{"$f":"HelperTab!AB24","v":""},{"$f":"HelperTab!AC24","v":""},{"$f":"HelperTab!AD24","v":""},null,""]
[1,"",null,null,null,{"$f":"HelperTab!AA25","v":""},{"$f":"HelperTab!AB25","v":""},{"$f":"HelperTab!AC25","v":""},{"$f":"HelperTab!AD25","v":""},null,""]
[1,"",null,null,null,{"$f":"HelperTab!AA26","v":""},{"$f":"HelperTab!AB26","v":""},{"$f":"HelperTab!AC26","v":""},{"$f":"HelperTab!AD26","v":""},null,""]
[null,"PLANT TOTAL",null,null,null,{"$f":"SUM(F175:F185)","v":0},{"$f":"SUM(G175:G185)","v":0},{"$f":"SUM(H175:H185)","v":0},{"$f":"SUM(I175:I185)","v":0},null,""]
[]
[]
[]
[null,null,null,null,null,null,null,null,null,"This chart presents the breakdown of gross water use for different water-using systems in your plant.\n\nBy identifying systems with source water as the largest fraction of their gross water, you may consider water recirculation as a measures to achieve source water savings. "]
[]
[]
[]
[]
[]
[]
[]
[]
[]
[]
[]
[]
[]
[]
[]
[null,"3.2 Outgoing Water by System"]
[null,{"$f":"B29","v":"Water-Using System"},null,null,null,{"$f":"HelperTab!AE2","v":"Wastewater Discharge"},{"$f":"HelperTab!AF2","v":"Recycled To Other System"},{"$f":"HelperTab!AG2","v":"Known Losses (Evaporation/ Other)"},{"$f":"HelperTab!AH2","v":"Water Consumed in Product"},{"$f":"HelperTab!AI2","v":"Total"}]
[null,null,null,null,null,{"$f":"HelperTab!AE3","v":"Million Gallon per Year"}]
[{"$f":"IF(B209<>\"\",0,1)","v":0},{"$f":"B31","v":"-"},null,null,null,{"$f":"HelperTab!AE16","v":0},{"$f":"HelperTab!AF16","v":0},{"$f":"HelperTab!AG16","v":0},{"$f":"HelperTab!AH16","v":0},{"$f":"HelperTab!AI16","v":0}]
[1,"",null,null,null,{"$f":"HelperTab!AE17","v":""},{"$f":"HelperTab!AF17","v":""},{"$f":"HelperTab!AG17","v":""},{"$f":"HelperTab!AH17","v":""},{"$f":"HelperTab!AI17","v":""}]
[1,"",null,null,null,{"$f":"HelperTab!AE18","v":""},{"$f":"HelperTab!AF18","v":""},{"$f":"HelperTab!AG18","v":""},{"$f":"HelperTab!AH18","v":""},{"$f":"HelperTab!AI18","v":""}]
[1,"",null,null,null,{"$f":"HelperTab!AE19","v":""},{"$f":"HelperTab!AF19","v":""},{"$f":"HelperTab!AG19","v":""},{"$f":"HelperTab!AH19","v":""},{"$f":"HelperTab!AI19","v":""}]
[1,"",null,null,null,{"$f":"HelperTab!AE20","v":""},{"$f":"HelperTab!AF20","v":""},{"$f":"HelperTab!AG20","v":""},{"$f":"HelperTab!AH20","v":""},{"$f":"HelperTab!AI20","v":""}]
[1,"",null,null,null,{"$f":"HelperTab!AE21","v":""},{"$f":"HelperTab!AF21","v":""},{"$f":"HelperTab!AG21","v":""},{"$f":"HelperTab!AH21","v":""},{"$f":"HelperTab!AI21","v":""}]
[1,"",null,null,null,{"$f":"HelperTab!AE22","v":""},{"$f":"HelperTab!AF22","v":""},{"$f":"HelperTab!AG22","v":""},{"$f":"HelperTab!AH22","v":""},{"$f":"HelperTab!AI22","v":""}]
[1,"",null,null,null,{"$f":"HelperTab!AE23","v":""},{"$f":"HelperTab!AF23","v":""},{"$f":"HelperTab!AG23","v":""},{"$f":"HelperTab!AH23","v":""},{"$f":"HelperTab!AI23","v":""}]
[1,"",null,null,null,{"$f":"HelperTab!AE24","v":""},{"$f":"HelperTab!AF24","v":""},{"$f":"HelperTab!AG24","v":""},{"$f":"HelperTab!AH24","v":""},{"$f":"HelperTab!AI24","v":""}]
[1,"",null,null,null,{"$f":"HelperTab!AE25","v":""},{"$f":"HelperTab!AF25","v":""},{"$f":"HelperTab!AG25","v":""},{"$f":"HelperTab!AH25","v":""},{"$f":"HelperTab!AI25","v":""}]
[1,"",null,null,null,{"$f":"HelperTab!AE26","v":""},{"$f":"HelperTab!AF26","v":""},{"$f":"HelperTab!AG26","v":""},{"$f":"HelperTab!AH26","v":""},{"$f":"HelperTab!AI26","v":""}]
[null,"PLANT TOTAL",null,null,null,{"$f":"SUM(F209:F219)","v":0},{"$f":"SUM(G209:G219)","v":0},{"$f":"SUM(H209:H219)","v":0},{"$f":"SUM(I209:I219)","v":0},{"$f":"SUM(J209:J219)","v":0}]
[]
[]
[]
[null,null,null,null,null,null,null,null,null,"This chart presents the breakdown of outgoing water for different water-using systems in your plant.\n\nAccordingly, you may consider measures to reduce the cost of wastewater discharge by considering water recirculation within the system or water recycling to other systems."]
[]
[]
[]
[]
[]
[]
[]
[]
[]
[]
[]
[]
[]
[null,"3.3 Water Imbalance by System"]
[null,{"$f":"B29","v":"Water-Using System"},null,null,null,null,{"$f":"HelperTab!AJ2","v":"Incoming Water"},{"$f":"HelperTab!AK2","v":"Outgoing Water"},null,{"$f":"HelperTab!AL2","v":"Water Imbalance"}]
[null,null,null,null,null,null,{"$f":"HelperTab!AJ3","v":"Million Gallon per Year"},null,null,{"$f":"HelperTab!AL3","v":"Million Gallon Per Year"},{"$f":"HelperTab!AM3","v":"% of Incoming Water"},{"$f":"HelperTab!AN3","v":"% of Total Loss"}]
[{"$f":"IF(B241<>\"\",0,1)","v":0},{"$f":"B31","v":"-"},null,null,null,null,{"$f":"HelperTab!AJ16","v":0},{"$f":"HelperTab!AK16","v":0},null,{"$f":"HelperTab!AL16","v":0},{"$f":"HelperTab!AM16","v":0},{"$f":"HelperTab!AN16","v":0}]
[1,"",null,null,null,null,{"$f":"HelperTab!AJ17","v":""},{"$f":"HelperTab!AK17","v":""},null,{"$f":"HelperTab!AL17","v":""},{"$f":"HelperTab!AM17","v":""},{"$f":"HelperTab!AN17","v":""}]
[1,"",null,null,null,null,{"$f":"HelperTab!AJ18","v":""},{"$f":"HelperTab!AK18","v":""},null,{"$f":"HelperTab!AL18","v":""},{"$f":"HelperTab!AM18","v":""},{"$f":"HelperTab!AN18","v":""}]
[1,"",null,null,null,null,{"$f":"HelperTab!AJ19","v":""},{"$f":"HelperTab!AK19","v":""},null,{"$f":"HelperTab!AL19","v":""},{"$f":"HelperTab!AM19","v":""},{"$f":"HelperTab!AN19","v":""}]
[1,"",null,null,null,null,{"$f":"HelperTab!AJ20","v":""},{"$f":"HelperTab!AK20","v":""},null,{"$f":"HelperTab!AL20","v":""},{"$f":"HelperTab!AM20","v":""},{"$f":"HelperTab!AN20","v":""}]
[1,"",null,null,null,null,{"$f":"HelperTab!AJ21","v":""},{"$f":"HelperTab!AK21","v":""},null,{"$f":"HelperTab!AL21","v":""},{"$f":"HelperTab!AM21","v":""},{"$f":"HelperTab!AN21","v":""}]
[1,"",null,null,null,null,{"$f":"HelperTab!AJ22","v":""},{"$f":"HelperTab!AK22","v":""},null,{"$f":"HelperTab!AL22","v":""},{"$f":"HelperTab!AM22","v":""},{"$f":"HelperTab!AN22","v":""}]
[1,"",null,null,null,null,{"$f":"HelperTab!AJ23","v":""},{"$f":"HelperTab!AK23","v":""},null,{"$f":"HelperTab!AL23","v":""},{"$f":"HelperTab!AM23","v":""},{"$f":"HelperTab!AN23","v":""}]
[1,"",null,null,null,null,{"$f":"HelperTab!AJ24","v":""},{"$f":"HelperTab!AK24","v":""},null,{"$f":"HelperTab!AL24","v":""},{"$f":"HelperTab!AM24","v":""},{"$f":"HelperTab!AN24","v":""}]
[1,"",null,null,null,null,{"$f":"HelperTab!AJ25","v":""},{"$f":"HelperTab!AK25","v":""},null,{"$f":"HelperTab!AL25","v":""},{"$f":"HelperTab!AM25","v":""},{"$f":"HelperTab!AN25","v":""}]
[1,"",null,null,null,null,{"$f":"HelperTab!AJ26","v":""},{"$f":"HelperTab!AK26","v":""},null,{"$f":"HelperTab!AL26","v":""},{"$f":"HelperTab!AM26","v":""},{"$f":"HelperTab!AN26","v":""}]
[null,"PLANT TOTAL",null,null,null,null,{"$f":"SUM(G241:G251)","v":0},{"$f":"SUM(H241:H251)","v":0},null,{"$f":"SUM(J241:J251)","v":0},{"$f":"SUM(K241:K251)","v":0},{"$f":"SUM(L241:L251)","v":0}]
[]
[]
[{"$f":"IF(G252=H252,1,0)","v":1}]
[{"$f":"$A$255","v":1},null,null,null,null,null,null,null,null,"This chart presents water imbalance for different water-using systems in your plant. A positive value indicates unknown water loss and a negative value indicates incoming water in the system from unknown sources. Use these values to investigate unknown water flows, water losses and leaks. By identifying systems with the highest water imbalance, you may prioritize measures to maximize water and true cost savings from eliminating unknown water flows and losses in those systems."]
[1]
[1]
[1]
[1]
[1]
[1]
[1]
[1]
[1]
[1]
[1]
[1]
[1]
[]
[]
[{"$f":"$A$255","v":1}]
[1]
[1]
[1]
[1]
[1]
[1]
[1]
[1]
[1]
[1]
[1]
[1]
[1]
[1]
[1]
[]
[null,"Part 4: True Cost of Water"]
[]
[null,"4.1 True Cost of Water by System"]
[null,{"$f":"B29","v":"Water-Using System"},null,null,{"$f":"HelperTab!AQ2","v":"Municipal Water Intake"},{"$f":"HelperTab!AR2","v":"Municipal Wastewater Disposal"},{"$f":"HelperTab!AS2","v":"Third-party Disposal"},{"$f":"HelperTab!AT2","v":"Water Treatment"},{"$f":"HelperTab!AU2","v":"Wastewater Treatment"},{"$f":"HelperTab!AV2","v":"Pump and Motor Energy"},{"$f":"HelperTab!AW2","v":"Heat Energy in Wastewater"},{"$f":"HelperTab!AX2","v":"Total"}]
[null,null,null,null,"$ per Year"]
[{"$f":"IF(B294<>\"\",0,1)","v":0},{"$f":"B31","v":"-"},null,null,{"$f":"HelperTab!AQ16","v":0},{"$f":"HelperTab!AR16","v":0},{"$f":"HelperTab!AS16","v":0},{"$f":"HelperTab!AT16","v":0},{"$f":"HelperTab!AU16","v":0},{"$f":"HelperTab!AV16","v":0},{"$f":"HelperTab!AW16","v":0},{"$f":"HelperTab!AX16","v":0}]
[{"$f":"IF(B295<>\"\",0,1)","v":1},"",null,null,{"$f":"HelperTab!AQ17","v":""},{"$f":"HelperTab!AR17","v":""},{"$f":"HelperTab!AS17","v":""},{"$f":"HelperTab!AT17","v":""},{"$f":"HelperTab!AU17","v":""},{"$f":"HelperTab!AV17","v":""},{"$f":"HelperTab!AW17","v":""},{"$f":"HelperTab!AX17","v":""}]
[1,"",null,null,{"$f":"HelperTab!AQ18","v":""},{"$f":"HelperTab!AR18","v":""},{"$f":"HelperTab!AS18","v":""},{"$f":"HelperTab!AT18","v":""},{"$f":"HelperTab!AU18","v":""},{"$f":"HelperTab!AV18","v":""},{"$f":"HelperTab!AW18","v":""},{"$f":"HelperTab!AX18","v":""}]
[1,"",null,null,{"$f":"HelperTab!AQ19","v":""},{"$f":"HelperTab!AR19","v":""},{"$f":"HelperTab!AS19","v":""},{"$f":"HelperTab!AT19","v":""},{"$f":"HelperTab!AU19","v":""},{"$f":"HelperTab!AV19","v":""},{"$f":"HelperTab!AW19","v":""},{"$f":"HelperTab!AX19","v":""}]
[1,"",null,null,{"$f":"HelperTab!AQ20","v":""},{"$f":"HelperTab!AR20","v":""},{"$f":"HelperTab!AS20","v":""},{"$f":"HelperTab!AT20","v":""},{"$f":"HelperTab!AU20","v":""},{"$f":"HelperTab!AV20","v":""},{"$f":"HelperTab!AW20","v":""},{"$f":"HelperTab!AX20","v":""}]
[1,"",null,null,{"$f":"HelperTab!AQ21","v":""},{"$f":"HelperTab!AR21","v":""},{"$f":"HelperTab!AS21","v":""},{"$f":"HelperTab!AT21","v":""},{"$f":"HelperTab!AU21","v":""},{"$f":"HelperTab!AV21","v":""},{"$f":"HelperTab!AW21","v":""},{"$f":"HelperTab!AX21","v":""}]
[1,"",null,null,{"$f":"HelperTab!AQ22","v":""},{"$f":"HelperTab!AR22","v":""},{"$f":"HelperTab!AS22","v":""},{"$f":"HelperTab!AT22","v":""},{"$f":"HelperTab!AU22","v":""},{"$f":"HelperTab!AV22","v":""},{"$f":"HelperTab!AW22","v":""},{"$f":"HelperTab!AX22","v":""}]
[1,"",null,null,{"$f":"HelperTab!AQ23","v":""},{"$f":"HelperTab!AR23","v":""},{"$f":"HelperTab!AS23","v":""},{"$f":"HelperTab!AT23","v":""},{"$f":"HelperTab!AU23","v":""},{"$f":"HelperTab!AV23","v":""},{"$f":"HelperTab!AW23","v":""},{"$f":"HelperTab!AX23","v":""}]
[1,"",null,null,{"$f":"HelperTab!AQ24","v":""},{"$f":"HelperTab!AR24","v":""},{"$f":"HelperTab!AS24","v":""},{"$f":"HelperTab!AT24","v":""},{"$f":"HelperTab!AU24","v":""},{"$f":"HelperTab!AV24","v":""},{"$f":"HelperTab!AW24","v":""},{"$f":"HelperTab!AX24","v":""}]
[1,"",null,null,{"$f":"HelperTab!AQ25","v":""},{"$f":"HelperTab!AR25","v":""},{"$f":"HelperTab!AS25","v":""},{"$f":"HelperTab!AT25","v":""},{"$f":"HelperTab!AU25","v":""},{"$f":"HelperTab!AV25","v":""},{"$f":"HelperTab!AW25","v":""},{"$f":"HelperTab!AX25","v":""}]
[1,"",null,null,{"$f":"HelperTab!AQ26","v":""},{"$f":"HelperTab!AR26","v":""},{"$f":"HelperTab!AS26","v":""},{"$f":"HelperTab!AT26","v":""},{"$f":"HelperTab!AU26","v":""},{"$f":"HelperTab!AV26","v":""},{"$f":"HelperTab!AW26","v":""},{"$f":"HelperTab!AX26","v":""}]
[null,"PLANT TOTAL",null,null,{"$f":"SUM(E294:E302)","v":0},0,0,0,0,0,0,0]
[]
[]
[]
[null,null,null,null,null,null,null,null,null,"This chart presents the breakdown of true cost of water in different water-using systems in your plant.\n\nBy identifying systems and cost components that are contributing the most towards true cost of water, you may prioritize measures to focus on them. "]
[]
[]
[]
[]
[]
[]
[]
[]
[]
[]
[]
[]
[]
[]
[]
[null,null,null,null,null,null,null,null,null,"These charts present the percent distribution of true cost of water by different water-using systems in your plant (left) and by cost components (right).\n\nBy identifying systems and cost components that are contributing the most towards true cost of water, you may prioritize measures to focus on them. "]
[]
[]
[]
[]
[]
[]
[]
[]
[]
[]
[]
[]
[]
[]
[]
[]
[null,"Part 5: Water Savings Opportunity"]
[]
[null,"5.1 Comparison with Industry Average"]
[]
[null,null,null,"Source Water Intake",null,null,"Percentile","Comments",null,null,"These charts compare water flows in your plant (marked as X) with those in the same industry subsector. "]
[null,null,null,null,null,null,{"$f":"StatCanada!L7","v":"NA"},{"$f":"StatCanada!L9","v":"Data Not Available"}]
[null,null,null,null,null,null,{"$f":"StatCanada!M7","v":"NA"},{"$f":"StatCanada!M9","v":"Data Not Available"}]
[null,null,null,null,null,null,{"$f":"StatCanada!N7","v":"NA"},{"$f":"StatCanada!N9","v":"Data Not Available"}]
[null,null,null,null,null,null,{"$f":"StatCanada!O7","v":"NA"},{"$f":"StatCanada!O9","v":"Data Not Available"}]
[null,null,null,null,null,null,null,null,null,null,"* Percentile represents the percentage of similar facilities with a higher water usage. \n\nThe percentiles are determined using data from STATCAN, Canada’s statistics agency.  Average water use for each industry was determined using total water use data and number of facilities for each 3-digit NAICS code.  The standard deviation was derived using the reported coefficient of variance “grade” for each reported value. "]
[]
[null,null,null,"Gross Water Use",null,null,"Percentile","Comments"]
[null,null,null,null,null,null,{"$f":"StatCanada!L31","v":"NA"},{"$f":"StatCanada!L33","v":"Data Not Available"}]
[null,null,null,null,null,null,{"$f":"StatCanada!M31","v":"NA"},{"$f":"StatCanada!M33","v":"Data Not Available"}]
[null,null,null,null,null,null,{"$f":"StatCanada!N31","v":"NA"},{"$f":"StatCanada!N33","v":"Data Not Available"}]
[]
[]
[null,null,null,"Wastewater Discharge",null,null,"Percentile","Comments"]
[null,null,null,null,null,null,{"$f":"StatCanada!L23","v":"NA"},{"$f":"StatCanada!L25","v":"Data Not Available"}]
[]
[]
[null," x",": Plant","> 80%","60-80 %","40-60%","20-40%","< 20%",": Percentile Ranges*"]
[]
[]
[]
[null,"5.2 Savings from Eliminating Water Loss"]
[{"$f":"$A$255","v":1}]
[1]
[1]
[1]
[1]
[1]
[1]
[1]
[1]
[1]
[1]
[1]
[1]
[1]
[1,"These charts present the intake water savings (left) and true cost savings (right) from eliminating unknown water loss in different water-using systems in your plant. The solid red bars in both charts represent water and true cost savings resulting from reduced municipal water intake. The red dotted bars represent maximum potential cost savings associated with other cost components identified in Part 3. These savings may or may not be realized depending on which part of the system water flow the unknown losses are eliminated."]
[1]
[1]
[1]
[]
[]
[]
[null,"5.3 Savings from Maximizing Recirculation Within Systems"]
[]
[{"$f":"IF(SUM('3.Water Use Calculations'!$X$15:$AC$20)>0,0,1)","v":1},null,null,null,null,null,null,null,null,"This chart shows incoming water savings from increasing fraction of recirculated water for different process applications. Each curve corresponds to a process application you have described. \n\nBased on an achievable/acceptable value for fraction of recirculated water on the x-axis, follow the curve to estimate incoming water savings on the y-axis.\n\n"]
[{"$f":"$A$391","v":1}]
[1]
[1]
[1]
[1]
[1]
[1]
[1]
[1]
[1]
[1]
[{"$f":"IF(SUMIF('3.Water Use Calculations'!$AR$32:$AX$37,\"<>#N/A\")>0,0,1)","v":1}]
[{"$f":"$A$403","v":1},null,null,null,null,null,null,null,null,"This chart shows makeup water savings in cooling towers from increasing the cycles of concentration. Each curve corresponds to a cooling tower you have described. Based on an achievable/acceptable value for cycles of concentration on the x-axis, follow the curve to estimate makeup water savings on the y-axis.\nNote: The presence of dissolved solids in the system increases as cycles of concentration increase. This may lead to scaling and corrosion unless carefully controlled."]
[1]
[1]
[1]
[1]
[1]
[1]
[1]
[1]
[1]
[1]
[1]
[1]
[{"$f":"IF(SUMIF('3.Water Use Calculations'!$AS$49:$AZ$50,\"<>#N/A\")>0,0,1)","v":1}]
[{"$f":"$A$417","v":1},null,null,null,null,null,null,null,null,"These charts show makeup water savings in boilers from increasing condensate return and cycles of concentration. Based on feasible values for % condensate return and cycles of concentration, follow the curve to estimate makeup water savings on the y-axis.\nNote: The presence of dissolved solids in the system increases as cycles of concentration increase. This may lead to scaling and corrosion unless carefully controlled."]
[1]
[1]
[1]
[1]
[1]
[1]
[1]
[1]
[1]
[1]
[1]
[{"$f":"IF(SUMIF('3.Water Use Calculations'!$AS$51:$AZ$52,\"<>#N/A\")>0,0,1)","v":1}]
[{"$f":"$A$430","v":1}]
[1]
[1]
[1]
[1]
[1]
[1]
[1]
[1]
[1]
[1]
[1]
[{"$f":"IF(SUMIF('3.Water Use Calculations'!$AS$53:$AZ$54,\"<>#N/A\")>0,0,1)","v":1}]
[{"$f":"$A$443","v":1}]
[1]
[1]
[1]
[1]
[1]
[1]
[1]
[1]
[1]
[1]
[1]
[]
[null,"Part 6: Water Efficiency Projects and Opportunities"]
[]
[null,"Part 6.1 Status of System Assessment and Measures Implementation"]
[]
[null,"You have indicated the following status of system assessment and water efficiency measures implementation in the last 3 years. "]
[]
[null,{"$f":"B29","v":"Water-Using System"},null,null,null,{"$f":"HelperTab!AY2","v":"System Assessment Status"},null,{"$f":"HelperTab!AZ2","v":"Measures Implementation Status"}]
[{"$f":"IF(B464<>\"\",0,1)","v":0},{"$f":"B31","v":"-"},null,null,null,{"$f":"HelperTab!AY16","v":0},null,{"$f":"HelperTab!AZ16","v":0}]
[1,{"$f":"B32","v":""},null,null,null,{"$f":"HelperTab!AY17","v":""},null,{"$f":"HelperTab!AZ17","v":""}]
[1,{"$f":"B33","v":""},null,null,null,{"$f":"HelperTab!AY18","v":""},null,{"$f":"HelperTab!AZ18","v":""}]
[1,{"$f":"B34","v":""},null,null,null,{"$f":"HelperTab!AY19","v":""},null,{"$f":"HelperTab!AZ19","v":""}]
[1,{"$f":"B35","v":""},null,null,null,{"$f":"HelperTab!AY20","v":""},null,{"$f":"HelperTab!AZ20","v":""}]
[1,{"$f":"B36","v":""},null,null,null,{"$f":"HelperTab!AY21","v":""},null,{"$f":"HelperTab!AZ21","v":""}]
[1,{"$f":"B37","v":""},null,null,null,{"$f":"HelperTab!AY22","v":""},null,{"$f":"HelperTab!AZ22","v":""}]
[1,{"$f":"B38","v":""},null,null,null,{"$f":"HelperTab!AY23","v":""},null,{"$f":"HelperTab!AZ23","v":""}]
[1,{"$f":"B39","v":""},null,null,null,{"$f":"HelperTab!AY24","v":""},null,{"$f":"HelperTab!AZ24","v":""}]
[1,{"$f":"B40","v":""},null,null,null,{"$f":"HelperTab!AY25","v":""},null,{"$f":"HelperTab!AZ25","v":""}]
[1,{"$f":"B41","v":""},null,null,null,{"$f":"HelperTab!AY26","v":""},null,{"$f":"HelperTab!AZ26","v":""}]
[]
[]
[]
[null,"Part 6.2 Implemented Water Efficiency Projects"]
[]
[{"$f":"IF(A481=0,1,0)","v":0},"None Listed."]
[{"$f":"IF(PRODUCT($A$484:$A$488)=0,0,1)","v":1},"You have indicated the following water efficiency projects implemented at your plant during the analysis year."]
[{"$f":"IF(PRODUCT($A$484:$A$488)=0,0,1)","v":1}]
[{"$f":"IF(PRODUCT($A$484:$A$488)=0,0,1)","v":1},{"$f":"'9.Plant Water Efficiency Status'!B28","v":"Name of the project"},null,{"$f":"'9.Plant Water Efficiency Status'!D28","v":"Date of Implementation"},null,{"$f":"'9.Plant Water Efficiency Status'!E28","v":"Description of the project"}]
[{"$f":"IF(B484=0,1,0)","v":1},{"$f":"'9.Plant Water Efficiency Status'!$B29","v":0},null,{"$f":"'9.Plant Water Efficiency Status'!D29","v":0},null,{"$f":"'9.Plant Water Efficiency Status'!$E29","v":0}]
[{"$f":"IF(B485=0,1,0)","v":1},{"$f":"'9.Plant Water Efficiency Status'!$B30","v":0},null,{"$f":"'9.Plant Water Efficiency Status'!D30","v":0},null,{"$f":"'9.Plant Water Efficiency Status'!$E30","v":0}]
[1,{"$f":"'9.Plant Water Efficiency Status'!$B31","v":0},null,{"$f":"'9.Plant Water Efficiency Status'!D31","v":0},null,{"$f":"'9.Plant Water Efficiency Status'!$E31","v":0}]
[1,{"$f":"'9.Plant Water Efficiency Status'!$B32","v":0},null,{"$f":"'9.Plant Water Efficiency Status'!D32","v":0},null,{"$f":"'9.Plant Water Efficiency Status'!$E32","v":0}]
[1,{"$f":"'9.Plant Water Efficiency Status'!$B33","v":0},null,{"$f":"'9.Plant Water Efficiency Status'!D33","v":0},null,{"$f":"'9.Plant Water Efficiency Status'!$E33","v":0}]
[]
[]
[]
[null,"Part 6.3 Recommended Measures and Opportunities"]
[]
[{"$f":"IF(PRODUCT($A$496:$A$669)=0,0,1)","v":1},"Based on your inputs, the following water efficiency measures are recommended for your plant."]
[{"$f":"IF(PRODUCT($A$496:$A$669)=0,0,1)","v":1}]
[{"$f":"IF(PRODUCT($A$497:$A$510)=0,0,1)","v":1},"Plant Water Management"]
[{"$f":"IF('9.Plant Water Efficiency Status'!J10=\"No\",0,1)","v":1},{"$f":"'9.Plant Water Efficiency Status'!L10","v":"Put together a formal water management plan."}]
[{"$f":"IF('9.Plant Water Efficiency Status'!J11=\"No\",0,1)","v":1},{"$f":"'9.Plant Water Efficiency Status'!L11","v":"Form a cross-functional Water Management Team."}]
[{"$f":"IF('9.Plant Water Efficiency Status'!J12=\"No\",0,1)","v":1},{"$f":"'9.Plant Water Efficiency Status'!L12","v":"Construct a formal methodology to communicate water management practices to employees."}]
[{"$f":"IF('9.Plant Water Efficiency Status'!J13=\"No\",0,1)","v":1},{"$f":"'9.Plant Water Efficiency Status'!L13","v":"Make use of life-cycle cost analysis to evaluate and select water efficiency projects."}]
[{"$f":"IF('9.Plant Water Efficiency Status'!J14=\"No\",0,1)","v":1},{"$f":"'9.Plant Water Efficiency Status'!L14","v":"Establish suitable payback periods for water efficiency projects."}]
[{"$f":"IF('9.Plant Water Efficiency Status'!J15=\"No\",0,1)","v":1},{"$f":"'9.Plant Water Efficiency Status'!L15","v":"Recycle water on site. For example, industrial wastewater may be recycled in the same process or treated and applied to other processes at the same site."}]
[{"$f":"IF('9.Plant Water Efficiency Status'!J16=\"No\",0,1)","v":1},{"$f":"'9.Plant Water Efficiency Status'!L16","v":"Match the quality of source water with the quality required by the use."}]
[{"$f":"IF('9.Plant Water Efficiency Status'!J17=\"No\",0,1)","v":1},{"$f":"'9.Plant Water Efficiency Status'!L17","v":"Use treated municipal and industrial wastewater instead of potable supplies for landscape irrigation, dust control, and cooling water."}]
[{"$f":"IF('9.Plant Water Efficiency Status'!J18=\"No\",0,1)","v":1},{"$f":"'9.Plant Water Efficiency Status'!L18","v":"Understand why and how water is used in the various processes and equipment in the facility. Know the different thermal and chemical requirements of these water uses."}]
[{"$f":"IF('9.Plant Water Efficiency Status'!J19=\"No\",0,1)","v":1},{"$f":"'9.Plant Water Efficiency Status'!L19","v":"Actively identify conservation measures that will reduce water use while sustaining production."}]
[{"$f":"IF('9.Plant Water Efficiency Status'!J20=\"No\",0,1)","v":1},{"$f":"'9.Plant Water Efficiency Status'!L20","v":"Try to conserve water and energy together, particularly when the energy is heat. Recycling warm water saves energy."}]
[{"$f":"IF('9.Plant Water Efficiency Status'!J21=\"No\",0,1)","v":1},{"$f":"'9.Plant Water Efficiency Status'!L21","v":"Try to reduce wastewater and toxic waste disposal. Efficient water management will decrease wastewater volume and require fewer chemicals that may produce toxic byproducts. When considered together, conservation becomes more cost effective."}]
[{"$f":"IF('9.Plant Water Efficiency Status'!J22=\"No\",0,1)","v":1},{"$f":"'9.Plant Water Efficiency Status'!L22","v":"Encourage water and wastewater utilities to provide rebates and other financial assistance to offset part of the initial cost of implementing water conservation measures."}]
[{"$f":"IF('9.Plant Water Efficiency Status'!J23=\"No\",0,1)","v":1},{"$f":"'9.Plant Water Efficiency Status'!L23","v":"Use the site audit analysis and water conservation plan to justify requests for reductions in wastewater charges."}]
[{"$f":"IF(PRODUCT(A512:A533)=0,0,1)","v":1},{"$f":"'10.System WaterEfficiencyStatus'!M25","v":"-"}]
[{"$f":"IF(AND('10.System WaterEfficiencyStatus'!A26=0,'10.System WaterEfficiencyStatus'!J26=\"No\"),0,1)","v":1},{"$f":"'10.System WaterEfficiencyStatus'!M26","v":"Installed equipment to automatically shut off water flow when water is not required,  such as at the end of a production cycle."}]
[{"$f":"IF(AND('10.System WaterEfficiencyStatus'!A27=0,'10.System WaterEfficiencyStatus'!J27=\"No\"),0,1)","v":1},{"$f":"'10.System WaterEfficiencyStatus'!M27","v":"Regularly check solenoids and automatic shutoff mechanisms to ensure that they are working properly."}]
[{"$f":"IF(AND('10.System WaterEfficiencyStatus'!A28=0,'10.System WaterEfficiencyStatus'!J28=\"No\"),0,1)","v":1},{"$f":"'10.System WaterEfficiencyStatus'!M28","v":"Set equipment to the minimum flow rates recommended by the manufacturer."}]
[{"$f":"IF(AND('10.System WaterEfficiencyStatus'!A29=0,'10.System WaterEfficiencyStatus'!J29=\"No\"),0,1)","v":1},{"$f":"'10.System WaterEfficiencyStatus'!M29","v":"Install pressure-reducing devices on equipment that does not require high pressure."}]
[{"$f":"IF(AND('10.System WaterEfficiencyStatus'!A30=0,'10.System WaterEfficiencyStatus'!J30=\"No\"),0,1)","v":1},{"$f":"'10.System WaterEfficiencyStatus'!M30","v":"Reuse water (closed loop) or use reclaimed water from other parts of the facility for process equipment."}]
[{"$f":"IF(AND('10.System WaterEfficiencyStatus'!A31=0,'10.System WaterEfficiencyStatus'!J31=\"No\"),0,1)","v":1},{"$f":"'10.System WaterEfficiencyStatus'!M31","v":"Replace water-based transportation with either waterless techniques or recycled water."}]
[{"$f":"IF(AND('10.System WaterEfficiencyStatus'!A32=0,'10.System WaterEfficiencyStatus'!J32=\"No\"),0,1)","v":1},{"$f":"'10.System WaterEfficiencyStatus'!M32","v":"Post signs near equipment encouraging employee awareness of water use, and discouraging tampering with equipment flow rate."}]
[{"$f":"IF(AND('10.System WaterEfficiencyStatus'!A33=0,'10.System WaterEfficiencyStatus'!J33=\"No\"),0,1)","v":1},{"$f":"'10.System WaterEfficiencyStatus'!M33","v":"Equip all hoses with an automatic shutoff nozzle."}]
[{"$f":"IF(AND('10.System WaterEfficiencyStatus'!A34=0,'10.System WaterEfficiencyStatus'!J34=\"No\"),0,1)","v":1},{"$f":"'10.System WaterEfficiencyStatus'!M34","v":"Replace or supplement process cleaning or facility cleaning with waterless techniques (e.g., using burnout ovens, ultrasonic cleaning, using alternative methods to clean products or containers or sweeping debris off the floor), where possible."}]
[{"$f":"IF(AND('10.System WaterEfficiencyStatus'!A35=0,'10.System WaterEfficiencyStatus'!J35=\"No\"),0,1)","v":1},{"$f":"'10.System WaterEfficiencyStatus'!M35","v":"Use counter-current system for rinsing."}]
[{"$f":"IF(AND('10.System WaterEfficiencyStatus'!A36=0,'10.System WaterEfficiencyStatus'!J36=\"No\"),0,1)","v":1},{"$f":"'10.System WaterEfficiencyStatus'!M36","v":"For rinsing, consider sequential use from high to lower quality needs."}]
[{"$f":"IF(AND('10.System WaterEfficiencyStatus'!A37=0,'10.System WaterEfficiencyStatus'!J37=\"No\"),0,1)","v":1},{"$f":"'10.System WaterEfficiencyStatus'!M37","v":"Use conductivity flow controls for rinsing."}]
[{"$f":"IF(AND('10.System WaterEfficiencyStatus'!A38=0,'10.System WaterEfficiencyStatus'!J38=\"No\"),0,1)","v":1},{"$f":"'10.System WaterEfficiencyStatus'!M38","v":"Use improved spray nozzles/pressure rinsing improved rinsing."}]
[{"$f":"IF(AND('10.System WaterEfficiencyStatus'!A39=0,'10.System WaterEfficiencyStatus'!J39=\"No\"),0,1)","v":1},{"$f":"'10.System WaterEfficiencyStatus'!M39","v":"Use fog rinsing."}]
[{"$f":"IF(AND('10.System WaterEfficiencyStatus'!A40=0,'10.System WaterEfficiencyStatus'!J40=\"No\"),0,1)","v":1},{"$f":"'10.System WaterEfficiencyStatus'!M40","v":"Reclaim and reuse spent rinse water for lower grade processes or for other facility applications."}]
[{"$f":"IF(AND('10.System WaterEfficiencyStatus'!A41=0,'10.System WaterEfficiencyStatus'!J41=\"No\"),0,1)","v":1},{"$f":"'10.System WaterEfficiencyStatus'!M41","v":"Take steps to reduce the water used by steam sterilizers, such as jacket and chamber."}]
[{"$f":"IF(AND('10.System WaterEfficiencyStatus'!A42=0,'10.System WaterEfficiencyStatus'!J42=\"No\"),0,1)","v":1},{"$f":"'10.System WaterEfficiencyStatus'!M42","v":"Use detergents that can easily be removed with little water."}]
[{"$f":"IF(AND('10.System WaterEfficiencyStatus'!A43=0,'10.System WaterEfficiencyStatus'!J43=\"No\"),0,1)","v":1},{"$f":"'10.System WaterEfficiencyStatus'!M43","v":"Install submeter for water used for cleaning."}]
[{"$f":"IF(AND('10.System WaterEfficiencyStatus'!A44=0,'10.System WaterEfficiencyStatus'!J44=\"No\"),0,1)","v":1},{"$f":"'10.System WaterEfficiencyStatus'!M44","v":"Integrate periodic monitoring of flow parameters in cleaning systems to reduce longer-than-necessary rinse flows. Parameters may include flow, time, temperature, pressure, and conductivity."}]
[{"$f":"IF(AND('10.System WaterEfficiencyStatus'!A45=0,'10.System WaterEfficiencyStatus'!J45=\"No\"),0,1)","v":1},{"$f":"'10.System WaterEfficiencyStatus'!M45","v":"Scrutinize deionized water use carefully by making employees aware of deionized water use."}]
[{"$f":"IF(AND('10.System WaterEfficiencyStatus'!A46=0,'10.System WaterEfficiencyStatus'!J46=\"No\"),0,1)","v":1},{"$f":"'10.System WaterEfficiencyStatus'!M46","v":"Use conductivity controllers to control quality of water in rinses."}]
[{"$f":"IF(AND('10.System WaterEfficiencyStatus'!A47=0,'10.System WaterEfficiencyStatus'!J47=\"No\"),0,1)","v":1},{"$f":"'10.System WaterEfficiencyStatus'!M47","v":"Use low-pressure portable pumps for wash stations to reduce the total amount of water discharged."}]
[{"$f":"IF(PRODUCT(A535:A556)=0,0,1)","v":1},{"$f":"'10.System WaterEfficiencyStatus'!M48","v":"-"}]
[{"$f":"IF(AND('10.System WaterEfficiencyStatus'!A49=0,'10.System WaterEfficiencyStatus'!J49=\"No\"),0,1)","v":1},{"$f":"'10.System WaterEfficiencyStatus'!M49","v":"Installed equipment to automatically shut off water flow when water is not required,  such as at the end of a production cycle."}]
[{"$f":"IF(AND('10.System WaterEfficiencyStatus'!A50=0,'10.System WaterEfficiencyStatus'!J50=\"No\"),0,1)","v":1},{"$f":"'10.System WaterEfficiencyStatus'!M50","v":"Regularly check solenoids and automatic shutoff mechanisms to ensure that they are working properly."}]
[{"$f":"IF(AND('10.System WaterEfficiencyStatus'!A51=0,'10.System WaterEfficiencyStatus'!J51=\"No\"),0,1)","v":1},{"$f":"'10.System WaterEfficiencyStatus'!M51","v":"Set equipment to the minimum flow rates recommended by the manufacturer."}]
[{"$f":"IF(AND('10.System WaterEfficiencyStatus'!A52=0,'10.System WaterEfficiencyStatus'!J52=\"No\"),0,1)","v":1},{"$f":"'10.System WaterEfficiencyStatus'!M52","v":"Install pressure-reducing devices on equipment that does not require high pressure."}]
[{"$f":"IF(AND('10.System WaterEfficiencyStatus'!A53=0,'10.System WaterEfficiencyStatus'!J53=\"No\"),0,1)","v":1},{"$f":"'10.System WaterEfficiencyStatus'!M53","v":"Reuse water (closed loop) or use reclaimed water from other parts of the facility for process equipment."}]
[{"$f":"IF(AND('10.System WaterEfficiencyStatus'!A54=0,'10.System WaterEfficiencyStatus'!J54=\"No\"),0,1)","v":1},{"$f":"'10.System WaterEfficiencyStatus'!M54","v":"Replace water-based transportation with either waterless techniques or recycled water."}]
[{"$f":"IF(AND('10.System WaterEfficiencyStatus'!A55=0,'10.System WaterEfficiencyStatus'!J55=\"No\"),0,1)","v":1},{"$f":"'10.System WaterEfficiencyStatus'!M55","v":"Post signs near equipment encouraging employee awareness of water use, and discouraging tampering with equipment flow rate."}]
[{"$f":"IF(AND('10.System WaterEfficiencyStatus'!A56=0,'10.System WaterEfficiencyStatus'!J56=\"No\"),0,1)","v":1},{"$f":"'10.System WaterEfficiencyStatus'!M56","v":"Equip all hoses with an automatic shutoff nozzle."}]
[{"$f":"IF(AND('10.System WaterEfficiencyStatus'!A57=0,'10.System WaterEfficiencyStatus'!J57=\"No\"),0,1)","v":1},{"$f":"'10.System WaterEfficiencyStatus'!M57","v":"Replace or supplement process cleaning or facility cleaning with waterless techniques (e.g., using burnout ovens, ultrasonic cleaning, using alternative methods to clean products or containers or sweeping debris off the floor), where possible."}]
[{"$f":"IF(AND('10.System WaterEfficiencyStatus'!A58=0,'10.System WaterEfficiencyStatus'!J58=\"No\"),0,1)","v":1},{"$f":"'10.System WaterEfficiencyStatus'!M58","v":"Use counter-current system for rinsing."}]
[{"$f":"IF(AND('10.System WaterEfficiencyStatus'!A59=0,'10.System WaterEfficiencyStatus'!J59=\"No\"),0,1)","v":1},{"$f":"'10.System WaterEfficiencyStatus'!M59","v":"For rinsing, consider sequential use from high to lower quality needs."}]
[{"$f":"IF(AND('10.System WaterEfficiencyStatus'!A60=0,'10.System WaterEfficiencyStatus'!J60=\"No\"),0,1)","v":1},{"$f":"'10.System WaterEfficiencyStatus'!M60","v":"Use conductivity flow controls for rinsing."}]
[{"$f":"IF(AND('10.System WaterEfficiencyStatus'!A61=0,'10.System WaterEfficiencyStatus'!J61=\"No\"),0,1)","v":1},{"$f":"'10.System WaterEfficiencyStatus'!M61","v":"Use improved spray nozzles/pressure rinsing improved rinsing."}]
[{"$f":"IF(AND('10.System WaterEfficiencyStatus'!A62=0,'10.System WaterEfficiencyStatus'!J62=\"No\"),0,1)","v":1},{"$f":"'10.System WaterEfficiencyStatus'!M62","v":"Use fog rinsing."}]
[{"$f":"IF(AND('10.System WaterEfficiencyStatus'!A63=0,'10.System WaterEfficiencyStatus'!J63=\"No\"),0,1)","v":1},{"$f":"'10.System WaterEfficiencyStatus'!M63","v":"Reclaim and reuse spent rinse water for lower grade processes or for other facility applications."}]
[{"$f":"IF(AND('10.System WaterEfficiencyStatus'!A64=0,'10.System WaterEfficiencyStatus'!J64=\"No\"),0,1)","v":1},{"$f":"'10.System WaterEfficiencyStatus'!M64","v":"Take steps to reduce the water used by steam sterilizers, such as jacket and chamber."}]
[{"$f":"IF(AND('10.System WaterEfficiencyStatus'!A65=0,'10.System WaterEfficiencyStatus'!J65=\"No\"),0,1)","v":1},{"$f":"'10.System WaterEfficiencyStatus'!M65","v":"Use detergents that can easily be removed with little water."}]
[{"$f":"IF(AND('10.System WaterEfficiencyStatus'!A66=0,'10.System WaterEfficiencyStatus'!J66=\"No\"),0,1)","v":1},{"$f":"'10.System WaterEfficiencyStatus'!M66","v":"Install submeter for water used for cleaning."}]
[{"$f":"IF(AND('10.System WaterEfficiencyStatus'!A67=0,'10.System WaterEfficiencyStatus'!J67=\"No\"),0,1)","v":1},{"$f":"'10.System WaterEfficiencyStatus'!M67","v":"Integrate periodic monitoring of flow parameters in cleaning systems to reduce longer-than-necessary rinse flows. Parameters may include flow, time, temperature, pressure, and conductivity."}]
[{"$f":"IF(AND('10.System WaterEfficiencyStatus'!A68=0,'10.System WaterEfficiencyStatus'!J68=\"No\"),0,1)","v":1},{"$f":"'10.System WaterEfficiencyStatus'!M68","v":"Scrutinize deionized water use carefully by making employees aware of deionized water use."}]
[{"$f":"IF(AND('10.System WaterEfficiencyStatus'!A69=0,'10.System WaterEfficiencyStatus'!J69=\"No\"),0,1)","v":1},{"$f":"'10.System WaterEfficiencyStatus'!M69","v":"Use conductivity controllers to control quality of water in rinses."}]
[{"$f":"IF(AND('10.System WaterEfficiencyStatus'!A70=0,'10.System WaterEfficiencyStatus'!J70=\"No\"),0,1)","v":1},{"$f":"'10.System WaterEfficiencyStatus'!M70","v":"Use low-pressure portable pumps for wash stations to reduce the total amount of water discharged."}]
[{"$f":"IF(PRODUCT(A558:A579)=0,0,1)","v":1},{"$f":"'10.System WaterEfficiencyStatus'!M71","v":"-"}]
[{"$f":"IF(AND('10.System WaterEfficiencyStatus'!A72=0,'10.System WaterEfficiencyStatus'!J72=\"No\"),0,1)","v":1},{"$f":"'10.System WaterEfficiencyStatus'!M72","v":"Installed equipment to automatically shut off water flow when water is not required,  such as at the end of a production cycle."}]
[{"$f":"IF(AND('10.System WaterEfficiencyStatus'!A73=0,'10.System WaterEfficiencyStatus'!J73=\"No\"),0,1)","v":1},{"$f":"'10.System WaterEfficiencyStatus'!M73","v":"Regularly check solenoids and automatic shutoff mechanisms to ensure that they are working properly."}]
[{"$f":"IF(AND('10.System WaterEfficiencyStatus'!A74=0,'10.System WaterEfficiencyStatus'!J74=\"No\"),0,1)","v":1},{"$f":"'10.System WaterEfficiencyStatus'!M74","v":"Set equipment to the minimum flow rates recommended by the manufacturer."}]
[{"$f":"IF(AND('10.System WaterEfficiencyStatus'!A75=0,'10.System WaterEfficiencyStatus'!J75=\"No\"),0,1)","v":1},{"$f":"'10.System WaterEfficiencyStatus'!M75","v":"Install pressure-reducing devices on equipment that does not require high pressure."}]
[{"$f":"IF(AND('10.System WaterEfficiencyStatus'!A76=0,'10.System WaterEfficiencyStatus'!J76=\"No\"),0,1)","v":1},{"$f":"'10.System WaterEfficiencyStatus'!M76","v":"Reuse water (closed loop) or use reclaimed water from other parts of the facility for process equipment."}]
[{"$f":"IF(AND('10.System WaterEfficiencyStatus'!A77=0,'10.System WaterEfficiencyStatus'!J77=\"No\"),0,1)","v":1},{"$f":"'10.System WaterEfficiencyStatus'!M77","v":"Replace water-based transportation with either waterless techniques or recycled water."}]
[{"$f":"IF(AND('10.System WaterEfficiencyStatus'!A78=0,'10.System WaterEfficiencyStatus'!J78=\"No\"),0,1)","v":1},{"$f":"'10.System WaterEfficiencyStatus'!M78","v":"Post signs near equipment encouraging employee awareness of water use, and discouraging tampering with equipment flow rate."}]
[{"$f":"IF(AND('10.System WaterEfficiencyStatus'!A79=0,'10.System WaterEfficiencyStatus'!J79=\"No\"),0,1)","v":1},{"$f":"'10.System WaterEfficiencyStatus'!M79","v":"Equip all hoses with an automatic shutoff nozzle."}]
[{"$f":"IF(AND('10.System WaterEfficiencyStatus'!A80=0,'10.System WaterEfficiencyStatus'!J80=\"No\"),0,1)","v":1},{"$f":"'10.System WaterEfficiencyStatus'!M80","v":"Replace or supplement process cleaning or facility cleaning with waterless techniques (e.g., using burnout ovens, ultrasonic cleaning, using alternative methods to clean products or containers or sweeping debris off the floor), where possible."}]
[{"$f":"IF(AND('10.System WaterEfficiencyStatus'!A81=0,'10.System WaterEfficiencyStatus'!J81=\"No\"),0,1)","v":1},{"$f":"'10.System WaterEfficiencyStatus'!M81","v":"Use counter-current system for rinsing."}]
[{"$f":"IF(AND('10.System WaterEfficiencyStatus'!A82=0,'10.System WaterEfficiencyStatus'!J82=\"No\"),0,1)","v":1},{"$f":"'10.System WaterEfficiencyStatus'!M82","v":"For rinsing, consider sequential use from high to lower quality needs."}]
[{"$f":"IF(AND('10.System WaterEfficiencyStatus'!A83=0,'10.System WaterEfficiencyStatus'!J83=\"No\"),0,1)","v":1},{"$f":"'10.System WaterEfficiencyStatus'!M83","v":"Use conductivity flow controls for rinsing."}]
[{"$f":"IF(AND('10.System WaterEfficiencyStatus'!A84=0,'10.System WaterEfficiencyStatus'!J84=\"No\"),0,1)","v":1},{"$f":"'10.System WaterEfficiencyStatus'!M84","v":"Use improved spray nozzles/pressure rinsing improved rinsing."}]
[{"$f":"IF(AND('10.System WaterEfficiencyStatus'!A85=0,'10.System WaterEfficiencyStatus'!J85=\"No\"),0,1)","v":1},{"$f":"'10.System WaterEfficiencyStatus'!M85","v":"Use fog rinsing."}]
[{"$f":"IF(AND('10.System WaterEfficiencyStatus'!A86=0,'10.System WaterEfficiencyStatus'!J86=\"No\"),0,1)","v":1},{"$f":"'10.System WaterEfficiencyStatus'!M86","v":"Reclaim and reuse spent rinse water for lower grade processes or for other facility applications."}]
[{"$f":"IF(AND('10.System WaterEfficiencyStatus'!A87=0,'10.System WaterEfficiencyStatus'!J87=\"No\"),0,1)","v":1},{"$f":"'10.System WaterEfficiencyStatus'!M87","v":"Take steps to reduce the water used by steam sterilizers, such as jacket and chamber."}]
[{"$f":"IF(AND('10.System WaterEfficiencyStatus'!A88=0,'10.System WaterEfficiencyStatus'!J88=\"No\"),0,1)","v":1},{"$f":"'10.System WaterEfficiencyStatus'!M88","v":"Use detergents that can easily be removed with little water."}]
[{"$f":"IF(AND('10.System WaterEfficiencyStatus'!A89=0,'10.System WaterEfficiencyStatus'!J89=\"No\"),0,1)","v":1},{"$f":"'10.System WaterEfficiencyStatus'!M89","v":"Install submeter for water used for cleaning."}]
[{"$f":"IF(AND('10.System WaterEfficiencyStatus'!A90=0,'10.System WaterEfficiencyStatus'!J90=\"No\"),0,1)","v":1},{"$f":"'10.System WaterEfficiencyStatus'!M90","v":"Integrate periodic monitoring of flow parameters in cleaning systems to reduce longer-than-necessary rinse flows. Parameters may include flow, time, temperature, pressure, and conductivity."}]
[{"$f":"IF(AND('10.System WaterEfficiencyStatus'!A91=0,'10.System WaterEfficiencyStatus'!J91=\"No\"),0,1)","v":1},{"$f":"'10.System WaterEfficiencyStatus'!M91","v":"Scrutinize deionized water use carefully by making employees aware of deionized water use."}]
[{"$f":"IF(AND('10.System WaterEfficiencyStatus'!A92=0,'10.System WaterEfficiencyStatus'!J92=\"No\"),0,1)","v":1},{"$f":"'10.System WaterEfficiencyStatus'!M92","v":"Use conductivity controllers to control quality of water in rinses."}]
[{"$f":"IF(AND('10.System WaterEfficiencyStatus'!A93=0,'10.System WaterEfficiencyStatus'!J93=\"No\"),0,1)","v":1},{"$f":"'10.System WaterEfficiencyStatus'!M93","v":"Use low-pressure portable pumps for wash stations to reduce the total amount of water discharged."}]
[{"$f":"IF(PRODUCT(A581:A598)=0,0,1)","v":1},{"$f":"'10.System WaterEfficiencyStatus'!M94","v":"-"}]
[{"$f":"IF(AND('10.System WaterEfficiencyStatus'!A95=0,'10.System WaterEfficiencyStatus'!J95=\"No\"),0,1)","v":1},{"$f":"'10.System WaterEfficiencyStatus'!M95","v":"Eliminate once-through cooling water with the use of chillers, cooling towers, or air-cooled equipment."}]
[{"$f":"IF(AND('10.System WaterEfficiencyStatus'!A96=0,'10.System WaterEfficiencyStatus'!J96=\"No\"),0,1)","v":1},{"$f":"'10.System WaterEfficiencyStatus'!M96","v":"Optimize blow-down/bleed-off control on cooling towers and boilers."}]
[{"$f":"IF(AND('10.System WaterEfficiencyStatus'!A97=0,'10.System WaterEfficiencyStatus'!J97=\"No\"),0,1)","v":1},{"$f":"'10.System WaterEfficiencyStatus'!M97","v":"Reuse treated wastewater (or other sources of water for cooling tower makeup) where possible?"}]
[{"$f":"IF(AND('10.System WaterEfficiencyStatus'!A98=0,'10.System WaterEfficiencyStatus'!J98=\"No\"),0,1)","v":1},{"$f":"'10.System WaterEfficiencyStatus'!M98","v":"Maximize cycles of concentration for cooling towers through efficient water treatment."}]
[{"$f":"IF(AND('10.System WaterEfficiencyStatus'!A99=0,'10.System WaterEfficiencyStatus'!J99=\"No\"),0,1)","v":1},{"$f":"'10.System WaterEfficiencyStatus'!M99","v":"Install a conductivity controller on each cooling tower."}]
[{"$f":"IF(AND('10.System WaterEfficiencyStatus'!A100=0,'10.System WaterEfficiencyStatus'!J100=\"No\"),0,1)","v":1},{"$f":"'10.System WaterEfficiencyStatus'!M100","v":"Equip cooling towers with overflow alarms."}]
[{"$f":"IF(AND('10.System WaterEfficiencyStatus'!A101=0,'10.System WaterEfficiencyStatus'!J101=\"No\"),0,1)","v":1},{"$f":"'10.System WaterEfficiencyStatus'!M101","v":"Ball float valves should be set to the correct size to minimize overflow of water from cooling tower basins."}]
[{"$f":"IF(AND('10.System WaterEfficiencyStatus'!A102=0,'10.System WaterEfficiencyStatus'!J102=\"No\"),0,1)","v":1},{"$f":"'10.System WaterEfficiencyStatus'!M102","v":"Condenser water pipe should be appropriately set to fix incorrect piping configuration."}]
[{"$f":"IF(AND('10.System WaterEfficiencyStatus'!A103=0,'10.System WaterEfficiencyStatus'!J103=\"No\"),0,1)","v":1},{"$f":"'10.System WaterEfficiencyStatus'!M103","v":"Leaks can be minimized through a well-managed maintenance program. Pump gland leaks can be addressed in a timely manner by repacking them."}]
[{"$f":"IF(AND('10.System WaterEfficiencyStatus'!A104=0,'10.System WaterEfficiencyStatus'!J104=\"No\"),0,1)","v":1},{"$f":"'10.System WaterEfficiencyStatus'!M104","v":"Constant wetness around the cooling tower is an indication of splash. This may be due to high winds or a design flaw. Install antisplash louvers to minimize splash."}]
[{"$f":"IF(AND('10.System WaterEfficiencyStatus'!A105=0,'10.System WaterEfficiencyStatus'!J105=\"No\"),0,1)","v":1},{"$f":"'10.System WaterEfficiencyStatus'!M105","v":"Excessive drift results in water and chemical losses making it harder to control voluntary blowdown."}]
[{"$f":"IF(AND('10.System WaterEfficiencyStatus'!A106=0,'10.System WaterEfficiencyStatus'!J106=\"No\"),0,1)","v":1},{"$f":"'10.System WaterEfficiencyStatus'!M106","v":"Flow meters will allow the operator to closely monitor the volume of water being used and verify that the system is operating at optimum cycles of concentration."}]
[{"$f":"IF(AND('10.System WaterEfficiencyStatus'!A107=0,'10.System WaterEfficiencyStatus'!J107=\"No\"),0,1)","v":1},{"$f":"'10.System WaterEfficiencyStatus'!M107","v":"Conductivity meters will allow the operator to closely monitor the volume of water being used and verify that the system is operating at optimum cycles of concentration."}]
[{"$f":"IF(AND('10.System WaterEfficiencyStatus'!A108=0,'10.System WaterEfficiencyStatus'!J108=\"No\"),0,1)","v":1},{"$f":"'10.System WaterEfficiencyStatus'!M108","v":"Blowdown operated in continuous control avoids large fluctuations in the conductivity, which wastes water."}]
[{"$f":"IF(AND('10.System WaterEfficiencyStatus'!A109=0,'10.System WaterEfficiencyStatus'!J109=\"No\"),0,1)","v":1},{"$f":"'10.System WaterEfficiencyStatus'!M109","v":"In the cooling system, suspended solids contribute to clogged spray nozzles, erosion of piping, pumps and heat exchangers resulting in unscheduled plant shutdowns. Side stream filter continuously removes a percentage of the solids loading."}]
[{"$f":"IF(AND('10.System WaterEfficiencyStatus'!A110=0,'10.System WaterEfficiencyStatus'!J110=\"No\"),0,1)","v":1},{"$f":"'10.System WaterEfficiencyStatus'!M110","v":"Automatic shutdown reduces water loss when the system is not in working order."}]
[{"$f":"IF(AND('10.System WaterEfficiencyStatus'!A111=0,'10.System WaterEfficiencyStatus'!J111=\"No\"),0,1)","v":1},{"$f":"'10.System WaterEfficiencyStatus'!M111","v":"Carefully adding a controlled amount of sulfuric acid to the cooling tower water lowers the pH and prevents scale by converting a portion of the scale-forming minerals into more soluble forms. This option may reduce water consumption by up to 25 percent."}]
[{"$f":"IF(AND('10.System WaterEfficiencyStatus'!A112=0,'10.System WaterEfficiencyStatus'!J112=\"No\"),0,1)","v":1},{"$f":"'10.System WaterEfficiencyStatus'!M112","v":"Use high-efficiency drift eliminators."}]
[{"$f":"IF(PRODUCT(A600:A617)=0,0,1)","v":1},{"$f":"'10.System WaterEfficiencyStatus'!M113","v":"-"}]
[{"$f":"IF(AND('10.System WaterEfficiencyStatus'!A114=0,'10.System WaterEfficiencyStatus'!J114=\"No\"),0,1)","v":1},{"$f":"'10.System WaterEfficiencyStatus'!M114","v":"Eliminate once-through cooling water with the use of chillers, cooling towers, or air-cooled equipment."}]
[{"$f":"IF(AND('10.System WaterEfficiencyStatus'!A115=0,'10.System WaterEfficiencyStatus'!J115=\"No\"),0,1)","v":1},{"$f":"'10.System WaterEfficiencyStatus'!M115","v":"Optimize blow-down/bleed-off control on cooling towers and boilers."}]
[{"$f":"IF(AND('10.System WaterEfficiencyStatus'!A116=0,'10.System WaterEfficiencyStatus'!J116=\"No\"),0,1)","v":1},{"$f":"'10.System WaterEfficiencyStatus'!M116","v":"Reuse treated wastewater (or other sources of water for cooling tower makeup) where possible?"}]
[{"$f":"IF(AND('10.System WaterEfficiencyStatus'!A117=0,'10.System WaterEfficiencyStatus'!J117=\"No\"),0,1)","v":1},{"$f":"'10.System WaterEfficiencyStatus'!M117","v":"Maximize cycles of concentration for cooling towers through efficient water treatment."}]
[{"$f":"IF(AND('10.System WaterEfficiencyStatus'!A118=0,'10.System WaterEfficiencyStatus'!J118=\"No\"),0,1)","v":1},{"$f":"'10.System WaterEfficiencyStatus'!M118","v":"Install a conductivity controller on each cooling tower."}]
[{"$f":"IF(AND('10.System WaterEfficiencyStatus'!A119=0,'10.System WaterEfficiencyStatus'!J119=\"No\"),0,1)","v":1},{"$f":"'10.System WaterEfficiencyStatus'!M119","v":"Equip cooling towers with overflow alarms."}]
[{"$f":"IF(AND('10.System WaterEfficiencyStatus'!A120=0,'10.System WaterEfficiencyStatus'!J120=\"No\"),0,1)","v":1},{"$f":"'10.System WaterEfficiencyStatus'!M120","v":"Ball float valves should be set to the correct size to minimize overflow of water from cooling tower basins."}]
[{"$f":"IF(AND('10.System WaterEfficiencyStatus'!A121=0,'10.System WaterEfficiencyStatus'!J121=\"No\"),0,1)","v":1},{"$f":"'10.System WaterEfficiencyStatus'!M121","v":"Condenser water pipe should be appropriately set to fix incorrect piping configuration."}]
[{"$f":"IF(AND('10.System WaterEfficiencyStatus'!A122=0,'10.System WaterEfficiencyStatus'!J122=\"No\"),0,1)","v":1},{"$f":"'10.System WaterEfficiencyStatus'!M122","v":"Leaks can be minimized through a well-managed maintenance program. Pump gland leaks can be addressed in a timely manner by repacking them."}]
[{"$f":"IF(AND('10.System WaterEfficiencyStatus'!A123=0,'10.System WaterEfficiencyStatus'!J123=\"No\"),0,1)","v":1},{"$f":"'10.System WaterEfficiencyStatus'!M123","v":"Constant wetness around the cooling tower is an indication of splash. This may be due to high winds or a design flaw. Install antisplash louvers to minimize splash."}]
[{"$f":"IF(AND('10.System WaterEfficiencyStatus'!A124=0,'10.System WaterEfficiencyStatus'!J124=\"No\"),0,1)","v":1},{"$f":"'10.System WaterEfficiencyStatus'!M124","v":"Excessive drift results in water and chemical losses making it harder to control voluntary blowdown."}]
[{"$f":"IF(AND('10.System WaterEfficiencyStatus'!A125=0,'10.System WaterEfficiencyStatus'!J125=\"No\"),0,1)","v":1},{"$f":"'10.System WaterEfficiencyStatus'!M125","v":"Flow meters will allow the operator to closely monitor the volume of water being used and verify that the system is operating at optimum cycles of concentration."}]
[{"$f":"IF(AND('10.System WaterEfficiencyStatus'!A126=0,'10.System WaterEfficiencyStatus'!J126=\"No\"),0,1)","v":1},{"$f":"'10.System WaterEfficiencyStatus'!M126","v":"Conductivity meters will allow the operator to closely monitor the volume of water being used and verify that the system is operating at optimum cycles of concentration."}]
[{"$f":"IF(AND('10.System WaterEfficiencyStatus'!A127=0,'10.System WaterEfficiencyStatus'!J127=\"No\"),0,1)","v":1},{"$f":"'10.System WaterEfficiencyStatus'!M127","v":"Blowdown operated in continuous control avoids large fluctuations in the conductivity, which wastes water."}]
[{"$f":"IF(AND('10.System WaterEfficiencyStatus'!A128=0,'10.System WaterEfficiencyStatus'!J128=\"No\"),0,1)","v":1},{"$f":"'10.System WaterEfficiencyStatus'!M128","v":"In the cooling system, suspended solids contribute to clogged spray nozzles, erosion of piping, pumps and heat exchangers resulting in unscheduled plant shutdowns. Side stream filter continuously removes a percentage of the solids loading."}]
[{"$f":"IF(AND('10.System WaterEfficiencyStatus'!A129=0,'10.System WaterEfficiencyStatus'!J129=\"No\"),0,1)","v":1},{"$f":"'10.System WaterEfficiencyStatus'!M129","v":"Automatic shutdown reduces water loss when the system is not in working order."}]
[{"$f":"IF(AND('10.System WaterEfficiencyStatus'!A130=0,'10.System WaterEfficiencyStatus'!J130=\"No\"),0,1)","v":1},{"$f":"'10.System WaterEfficiencyStatus'!M130","v":"Carefully adding a controlled amount of sulfuric acid to the cooling tower water lowers the pH and prevents scale by converting a portion of the scale-forming minerals into more soluble forms. This option may reduce water consumption by up to 25 percent."}]
[{"$f":"IF(AND('10.System WaterEfficiencyStatus'!A131=0,'10.System WaterEfficiencyStatus'!J131=\"No\"),0,1)","v":1},{"$f":"'10.System WaterEfficiencyStatus'!M131","v":"Use high-efficiency drift eliminators."}]
[{"$f":"IF(PRODUCT(A619:A636)=0,0,1)","v":1},{"$f":"'10.System WaterEfficiencyStatus'!M132","v":"-"}]
[{"$f":"IF(AND('10.System WaterEfficiencyStatus'!A133=0,'10.System WaterEfficiencyStatus'!J133=\"No\"),0,1)","v":1},{"$f":"'10.System WaterEfficiencyStatus'!M133","v":"Eliminate once-through cooling water with the use of chillers, cooling towers, or air-cooled equipment."}]
[{"$f":"IF(AND('10.System WaterEfficiencyStatus'!A134=0,'10.System WaterEfficiencyStatus'!J134=\"No\"),0,1)","v":1},{"$f":"'10.System WaterEfficiencyStatus'!M134","v":"Optimize blow-down/bleed-off control on cooling towers and boilers."}]
[{"$f":"IF(AND('10.System WaterEfficiencyStatus'!A135=0,'10.System WaterEfficiencyStatus'!J135=\"No\"),0,1)","v":1},{"$f":"'10.System WaterEfficiencyStatus'!M135","v":"Reuse treated wastewater (or other sources of water for cooling tower makeup) where possible?"}]
[{"$f":"IF(AND('10.System WaterEfficiencyStatus'!A136=0,'10.System WaterEfficiencyStatus'!J136=\"No\"),0,1)","v":1},{"$f":"'10.System WaterEfficiencyStatus'!M136","v":"Maximize cycles of concentration for cooling towers through efficient water treatment."}]
[{"$f":"IF(AND('10.System WaterEfficiencyStatus'!A137=0,'10.System WaterEfficiencyStatus'!J137=\"No\"),0,1)","v":1},{"$f":"'10.System WaterEfficiencyStatus'!M137","v":"Install a conductivity controller on each cooling tower."}]
[{"$f":"IF(AND('10.System WaterEfficiencyStatus'!A138=0,'10.System WaterEfficiencyStatus'!J138=\"No\"),0,1)","v":1},{"$f":"'10.System WaterEfficiencyStatus'!M138","v":"Equip cooling towers with overflow alarms."}]
[{"$f":"IF(AND('10.System WaterEfficiencyStatus'!A139=0,'10.System WaterEfficiencyStatus'!J139=\"No\"),0,1)","v":1},{"$f":"'10.System WaterEfficiencyStatus'!M139","v":"Ball float valves should be set to the correct size to minimize overflow of water from cooling tower basins."}]
[{"$f":"IF(AND('10.System WaterEfficiencyStatus'!A140=0,'10.System WaterEfficiencyStatus'!J140=\"No\"),0,1)","v":1},{"$f":"'10.System WaterEfficiencyStatus'!M140","v":"Condenser water pipe should be appropriately set to fix incorrect piping configuration."}]
[{"$f":"IF(AND('10.System WaterEfficiencyStatus'!A141=0,'10.System WaterEfficiencyStatus'!J141=\"No\"),0,1)","v":1},{"$f":"'10.System WaterEfficiencyStatus'!M141","v":"Leaks can be minimized through a well-managed maintenance program. Pump gland leaks can be addressed in a timely manner by repacking them."}]
[{"$f":"IF(AND('10.System WaterEfficiencyStatus'!A142=0,'10.System WaterEfficiencyStatus'!J142=\"No\"),0,1)","v":1},{"$f":"'10.System WaterEfficiencyStatus'!M142","v":"Constant wetness around the cooling tower is an indication of splash. This may be due to high winds or a design flaw. Install antisplash louvers to minimize splash."}]
[{"$f":"IF(AND('10.System WaterEfficiencyStatus'!A143=0,'10.System WaterEfficiencyStatus'!J143=\"No\"),0,1)","v":1},{"$f":"'10.System WaterEfficiencyStatus'!M143","v":"Excessive drift results in water and chemical losses making it harder to control voluntary blowdown."}]
[{"$f":"IF(AND('10.System WaterEfficiencyStatus'!A144=0,'10.System WaterEfficiencyStatus'!J144=\"No\"),0,1)","v":1},{"$f":"'10.System WaterEfficiencyStatus'!M144","v":"Flow meters will allow the operator to closely monitor the volume of water being used and verify that the system is operating at optimum cycles of concentration."}]
[{"$f":"IF(AND('10.System WaterEfficiencyStatus'!A145=0,'10.System WaterEfficiencyStatus'!J145=\"No\"),0,1)","v":1},{"$f":"'10.System WaterEfficiencyStatus'!M145","v":"Conductivity meters will allow the operator to closely monitor the volume of water being used and verify that the system is operating at optimum cycles of concentration."}]
[{"$f":"IF(AND('10.System WaterEfficiencyStatus'!A146=0,'10.System WaterEfficiencyStatus'!J146=\"No\"),0,1)","v":1},{"$f":"'10.System WaterEfficiencyStatus'!M146","v":"Blowdown operated in continuous control avoids large fluctuations in the conductivity, which wastes water."}]
[{"$f":"IF(AND('10.System WaterEfficiencyStatus'!A147=0,'10.System WaterEfficiencyStatus'!J147=\"No\"),0,1)","v":1},{"$f":"'10.System WaterEfficiencyStatus'!M147","v":"In the cooling system, suspended solids contribute to clogged spray nozzles, erosion of piping, pumps and heat exchangers resulting in unscheduled plant shutdowns. Side stream filter continuously removes a percentage of the solids loading."}]
[{"$f":"IF(AND('10.System WaterEfficiencyStatus'!A148=0,'10.System WaterEfficiencyStatus'!J148=\"No\"),0,1)","v":1},{"$f":"'10.System WaterEfficiencyStatus'!M148","v":"Automatic shutdown reduces water loss when the system is not in working order."}]
[{"$f":"IF(AND('10.System WaterEfficiencyStatus'!A149=0,'10.System WaterEfficiencyStatus'!J149=\"No\"),0,1)","v":1},{"$f":"'10.System WaterEfficiencyStatus'!M149","v":"Carefully adding a controlled amount of sulfuric acid to the cooling tower water lowers the pH and prevents scale by converting a portion of the scale-forming minerals into more soluble forms. This option may reduce water consumption by up to 25 percent."}]
[{"$f":"IF(AND('10.System WaterEfficiencyStatus'!A150=0,'10.System WaterEfficiencyStatus'!J150=\"No\"),0,1)","v":1},{"$f":"'10.System WaterEfficiencyStatus'!M150","v":"Use high-efficiency drift eliminators."}]
[{"$f":"IF(PRODUCT(A638:A643)=0,0,1)","v":1},{"$f":"'10.System WaterEfficiencyStatus'!M151","v":"-"}]
[{"$f":"IF(AND('10.System WaterEfficiencyStatus'!A152=0,'10.System WaterEfficiencyStatus'!J152=\"No\"),0,1)","v":1},{"$f":"'10.System WaterEfficiencyStatus'!M152","v":"As more condensate is returned, less makeup water is required for saving on both water and pretreatment costs."}]
[{"$f":"IF(AND('10.System WaterEfficiencyStatus'!A153=0,'10.System WaterEfficiencyStatus'!J153=\"No\"),0,1)","v":1},{"$f":"'10.System WaterEfficiencyStatus'!M153","v":"Incorrect location of steam traps can cause water logging of pipes resulting in water hammering and erosion."}]
[{"$f":"IF(AND('10.System WaterEfficiencyStatus'!A154=0,'10.System WaterEfficiencyStatus'!J154=\"No\"),0,1)","v":1},{"$f":"'10.System WaterEfficiencyStatus'!M154","v":"Blowdown should be properly controlled to prevent excessive water loss."}]
[{"$f":"IF(AND('10.System WaterEfficiencyStatus'!A155=0,'10.System WaterEfficiencyStatus'!J155=\"No\"),0,1)","v":1},{"$f":"'10.System WaterEfficiencyStatus'!M155","v":"Install conductivity sensor on boiler to automatically control surface blowdown."}]
[{"$f":"IF(AND('10.System WaterEfficiencyStatus'!A156=0,'10.System WaterEfficiencyStatus'!J156=\"No\"),0,1)","v":1},{"$f":"'10.System WaterEfficiencyStatus'!M156","v":"Install a boiler blowdown flash tank to recover flash steam."}]
[{"$f":"IF(AND('10.System WaterEfficiencyStatus'!A157=0,'10.System WaterEfficiencyStatus'!J157=\"No\"),0,1)","v":1},{"$f":"'10.System WaterEfficiencyStatus'!M157","v":"Install flue gas condenser to recover combustion product water."}]
[{"$f":"IF(PRODUCT(A645:A650)=0,0,1)","v":1},{"$f":"'10.System WaterEfficiencyStatus'!M158","v":"-"}]
[{"$f":"IF(AND('10.System WaterEfficiencyStatus'!A159=0,'10.System WaterEfficiencyStatus'!J159=\"No\"),0,1)","v":1},{"$f":"'10.System WaterEfficiencyStatus'!M159","v":"As more condensate is returned, less makeup water is required for saving on both water and pretreatment costs."}]
[{"$f":"IF(AND('10.System WaterEfficiencyStatus'!A160=0,'10.System WaterEfficiencyStatus'!J160=\"No\"),0,1)","v":1},{"$f":"'10.System WaterEfficiencyStatus'!M160","v":"Incorrect location of steam traps can cause water logging of pipes resulting in water hammering and erosion."}]
[{"$f":"IF(AND('10.System WaterEfficiencyStatus'!A161=0,'10.System WaterEfficiencyStatus'!J161=\"No\"),0,1)","v":1},{"$f":"'10.System WaterEfficiencyStatus'!M161","v":"Blowdown should be properly controlled to prevent excessive water loss."}]
[{"$f":"IF(AND('10.System WaterEfficiencyStatus'!A162=0,'10.System WaterEfficiencyStatus'!J162=\"No\"),0,1)","v":1},{"$f":"'10.System WaterEfficiencyStatus'!M162","v":"Install conductivity sensor on boiler to automatically control surface blowdown."}]
[{"$f":"IF(AND('10.System WaterEfficiencyStatus'!A163=0,'10.System WaterEfficiencyStatus'!J163=\"No\"),0,1)","v":1},{"$f":"'10.System WaterEfficiencyStatus'!M163","v":"Install a boiler blowdown flash tank to recover flash steam."}]
[{"$f":"IF(AND('10.System WaterEfficiencyStatus'!A164=0,'10.System WaterEfficiencyStatus'!J164=\"No\"),0,1)","v":1},{"$f":"'10.System WaterEfficiencyStatus'!M164","v":"Install flue gas condenser to recover combustion product water."}]
[{"$f":"IF(PRODUCT(A652:A658)=0,0,1)","v":1},{"$f":"'10.System WaterEfficiencyStatus'!M165","v":"-"}]
[{"$f":"IF(AND('10.System WaterEfficiencyStatus'!A166=0,'10.System WaterEfficiencyStatus'!J166=\"No\"),0,1)","v":1},{"$f":"'10.System WaterEfficiencyStatus'!M166","v":"Install water-efficient fixtures (e.g., WaterSense labeled faucets, toilets, urinals, and showerheads)."}]
[{"$f":"IF(AND('10.System WaterEfficiencyStatus'!A167=0,'10.System WaterEfficiencyStatus'!J167=\"No\"),0,1)","v":1},{"$f":"'10.System WaterEfficiencyStatus'!M167","v":"Install signs on dual-flush toilets showing people how to use them."}]
[{"$f":"IF(AND('10.System WaterEfficiencyStatus'!A168=0,'10.System WaterEfficiencyStatus'!J168=\"No\"),0,1)","v":1},{"$f":"'10.System WaterEfficiencyStatus'!M168","v":"Install metered or spring-loaded faucets, or faucets with sensors."}]
[{"$f":"IF(AND('10.System WaterEfficiencyStatus'!A169=0,'10.System WaterEfficiencyStatus'!J169=\"No\"),0,1)","v":1},{"$f":"'10.System WaterEfficiencyStatus'!M169","v":"Use less water for partial loads for laundries."}]
[{"$f":"IF(AND('10.System WaterEfficiencyStatus'!A170=0,'10.System WaterEfficiencyStatus'!J170=\"No\"),0,1)","v":1},{"$f":"'10.System WaterEfficiencyStatus'!M170","v":"Recalculate laundry formulas for less water."}]
[{"$f":"IF(AND('10.System WaterEfficiencyStatus'!A171=0,'10.System WaterEfficiencyStatus'!J171=\"No\"),0,1)","v":1},{"$f":"'10.System WaterEfficiencyStatus'!M171","v":"Recycle rinse water to next wash."}]
[{"$f":"IF(AND('10.System WaterEfficiencyStatus'!A172=0,'10.System WaterEfficiencyStatus'!J172=\"No\"),0,1)","v":1},{"$f":"'10.System WaterEfficiencyStatus'!M172","v":"Adjust plumbing to use the minimum amount of water that is functional."}]
[{"$f":"IF(PRODUCT(A660:A664)=0,0,1)","v":1},{"$f":"'10.System WaterEfficiencyStatus'!M173","v":"-"}]
[{"$f":"IF(AND('10.System WaterEfficiencyStatus'!A174=0,'10.System WaterEfficiencyStatus'!J174=\"No\"),0,1)","v":1},{"$f":"'10.System WaterEfficiencyStatus'!M174","v":"Use low-flow sprinklers, trickle/drip irrigation, and optimized watering schedules."}]
[{"$f":"IF(AND('10.System WaterEfficiencyStatus'!A175=0,'10.System WaterEfficiencyStatus'!J175=\"No\"),0,1)","v":1},{"$f":"'10.System WaterEfficiencyStatus'!M175","v":"Use preventive maintenance techniques."}]
[{"$f":"IF(AND('10.System WaterEfficiencyStatus'!A176=0,'10.System WaterEfficiencyStatus'!J176=\"No\"),0,1)","v":1},{"$f":"'10.System WaterEfficiencyStatus'!M176","v":"Design your facility's landscape to consider the local climate and grouped plants by similar watering needs."}]
[{"$f":"IF(AND('10.System WaterEfficiencyStatus'!A177=0,'10.System WaterEfficiencyStatus'!J177=\"No\"),0,1)","v":1},{"$f":"'10.System WaterEfficiencyStatus'!M177","v":"Plant grass only in places where it will provide optimal functional and aesthetic benefits."}]
[{"$f":"IF(AND('10.System WaterEfficiencyStatus'!A178=0,'10.System WaterEfficiencyStatus'!J178=\"No\"),0,1)","v":1},{"$f":"'10.System WaterEfficiencyStatus'!M178","v":"Use systems to capture and reuse rainwater and storm water for landscaping, or for other uses (e.g., cooling tower make-up, process water, or dust suppression)."}]
[{"$f":"IF(PRODUCT(A666:A670)=0,0,1)","v":1},{"$f":"'10.System WaterEfficiencyStatus'!M179","v":"-"}]
[{"$f":"IF(AND('10.System WaterEfficiencyStatus'!A180=0,'10.System WaterEfficiencyStatus'!J180=\"No\"),0,1)","v":1},{"$f":"'10.System WaterEfficiencyStatus'!M180","v":"Conduct regular leak inspections."}]
[{"$f":"IF(AND('10.System WaterEfficiencyStatus'!A181=0,'10.System WaterEfficiencyStatus'!J181=\"No\"),0,1)","v":1},{"$f":"'10.System WaterEfficiencyStatus'!M181","v":"Identify and promptly repair leaky faucets, faulty fittings, and broken pipes and hoses."}]
[{"$f":"IF(AND('10.System WaterEfficiencyStatus'!A182=0,'10.System WaterEfficiencyStatus'!J182=\"No\"),0,1)","v":1},{"$f":"'10.System WaterEfficiencyStatus'!M182","v":"Educate and empower employees (including custodial crews)  to identify leaks and point them out for repair."}]
[{"$f":"IF(AND('10.System WaterEfficiencyStatus'!A183=0,'10.System WaterEfficiencyStatus'!J183=\"No\"),0,1)","v":1},{"$f":"'10.System WaterEfficiencyStatus'!M183","v":"Provide a user-friendly method to report leaks."}]

{"sheet":"Acknowledgments","index":16,"n_rows":21,"n_cols":6,"rows_kept":21,"cut":false,"hidden":false,"merged":[[0,2,0,6]]}
[null,null,"Acknowledgments"]
[]
[]
[null,null,"Development Team",null,null,"Industry Partners"]
[null,null,"Mini Malhotra, ORNL",null,null,"Saint-Gobain"]
[null,null,"Sachin Nimbalkar, ORNL",null,null,"Ford Motors"]
[null,null,"Kristina Armstrong, ORNL",null,null,"KYB"]
[null,null,"Asha Shibu, ORNL",null,null,"ArcelorMittal"]
[null,null,null,null,null,"ALCOA"]
[null,null,null,null,null,"Arconic"]
[]
[null,null,"Advising and Outreach",null,null,"Sponsor"]
[null,null,"Joe Cresko, DOE",null,null,"Advanced Manufacturing Office, Department of Energy"]
[null,null,"Andre Defontaine, DOE"]
[null,null,"Sandy Glatt, DOE"]
[null,null,"Sujit Das, ORNL"]
[null,null,"Tom Wenning, ORNL"]
[null,null,"Daryl Cox, ORNL"]
[null,null,"Kiran Thirumaran, ORNL"]
[null,null,"Wei Guo, ORNL"]
[null,null,"Prakash Rao, LBNL"]

{"sheet":"StatCanada","index":17,"n_rows":61,"n_cols":25,"rows_kept":61,"cut":false,"hidden":true,"merged":[[8,20,8,23],[0,2,0,5],[0,6,0,9],[0,20,0,23],[0,15,0,19]]}
[null,null,"Average (1000 gal)",null,null,null,"Standard Deviation",null,null,null,{"$f":"LEFT('1.Plant Info'!M18,3)*1","v":{"$error":"#N/A"}},1,2,3,4,"DATA FOR GRAPHS",null,null,null,null,"Bar lengths"]
["Source Water Intake","NAICS Code","Process","Cooling, condensing and steam","Sanitary and domestic use","Other",{"$f":"C2","v":"Process"},{"$f":"D2","v":"Cooling, condensing and steam"},"Sanitary and domestic use","Other",{"$f":"A2","v":"Source Water Intake"},{"$f":"C2","v":"Process"},{"$f":"D2","v":"Cooling, condensing and steam"},"Sanitary and domestic use","Other",{"$f":"A2","v":"Source Water Intake"},null,null,null,null,{"$f":"C2","v":"Process"},{"$f":"D2","v":"Cooling, condensing and steam"},{"$f":"E2","v":"Sanitary and domestic use"},{"$f":"F2","v":"Other"}]
["Food manufacturing [311] ",311,24240.73402662493,16959.067108014402,2035.3601463176512,312.20354640466161,3965.7588477883851,2874.5644927796307,315.68160939044287,157.25494329764032,"Plant",{"$f":"1000*SUM('4.System Water Balance'!H17:H19)","v":0},{"$f":"1000*SUM('4.System Water Balance'!H20:H24)","v":0},{"$f":"1000*'4.System Water Balance'!H25","v":0},{"$f":"1000*SUM('4.System Water Balance'!H26:H27)","v":0},3.0000000000000001E-3,{"$f":"_xlfn.NORM.INV($P3,L$4,L$5)","v":{"$error":"#N/A"}},{"$error":"#N/A"},{"$error":"#N/A"},{"$error":"#N/A"},{"$f":"Q3-Q2","v":{"$error":"#N/A"}},{"$error":"#N/A"},{"$error":"#N/A"},{"$error":"#N/A"},1]
["Beverage and tobacco product manufacturing [312] ",312,14745.300046918468,12218.821265953929,1027.5094977626868,1324.2904945583814,2057.6151185558601,580.36523963516481,145.42132007809968,916.58091347198763,"NAICS Ave",{"$f":"INDEX($C$3:$F$19,MATCH($K$1,$B$3:$B$19,0),MATCH(L$2,$C$2:$F$2,0))","v":{"$error":"#N/A"}},{"$f":"INDEX($C$3:$F$19,MATCH($K$1,$B$3:$B$19,0),MATCH(M$2,$C$2:$F$2,0))","v":{"$error":"#N/A"}},{"$f":"INDEX($C$3:$F$19,MATCH($K$1,$B$3:$B$19,0),MATCH(N$2,$C$2:$F$2,0))","v":{"$error":"#N/A"}},{"$f":"INDEX($C$3:$F$19,MATCH($K$1,$B$3:$B$19,0),MATCH(O$2,$C$2:$F$2,0))","v":{"$error":"#N/A"}},0.2,{"$error":"#N/A"},{"$error":"#N/A"},{"$error":"#N/A"},{"$error":"#N/A"},{"$error":"#N/A"},{"$error":"#N/A"},{"$error":"#N/A"},{"$error":"#N/A"},"> 80%"]
["Textile mills [313] ",313,6421.1729181492283,552.08496096176646,428.94639020322404,4.319460817552641,2447.7373078587607,205.53829082104349,128.36721082071992,0.2332904677731639,"NAICS StD",{"$f":"INDEX($G$3:$J$19,MATCH($K$1,$B$3:$B$19,0),MATCH(L$2,$G$2:$J$2,0))","v":{"$error":"#N/A"}},{"$f":"INDEX($G$3:$J$19,MATCH($K$1,$B$3:$B$19,0),MATCH(M$2,$G$2:$J$2,0))","v":{"$error":"#N/A"}},{"$f":"INDEX($G$3:$J$19,MATCH($K$1,$B$3:$B$19,0),MATCH(N$2,$G$2:$J$2,0))","v":{"$error":"#N/A"}},{"$f":"INDEX($G$3:$J$19,MATCH($K$1,$B$3:$B$19,0),MATCH(O$2,$G$2:$J$2,0))","v":{"$error":"#N/A"}},0.4,{"$error":"#N/A"},{"$error":"#N/A"},{"$error":"#N/A"},{"$error":"#N/A"},{"$error":"#N/A"},{"$error":"#N/A"},{"$error":"#N/A"},{"$error":"#N/A"},"60-80 %"]
["Textile product mills [314] ",314,578.41508765152162,"X","x","x",151.83621316343573,"x","x","x","Percentile",{"$f":"1-_xlfn.NORM.DIST(L3,L4,L5,1)","v":{"$error":"#N/A"}},{"$f":"1-_xlfn.NORM.DIST(M3,M4,M5,1)","v":{"$error":"#N/A"}},{"$f":"1-_xlfn.NORM.DIST(N3,N4,N5,1)","v":{"$error":"#N/A"}},{"$f":"1-_xlfn.NORM.DIST(O3,O4,O5,1)","v":{"$error":"#N/A"}},0.6,{"$error":"#N/A"},{"$error":"#N/A"},{"$error":"#N/A"},{"$error":"#N/A"},{"$error":"#N/A"},{"$error":"#N/A"},{"$error":"#N/A"},{"$error":"#N/A"},"40-60%"]
["Wood product manufacturing [321] ",321,1425.1409425993986,1041.0700140698116,1254.9275187601654,27.79350429255744,254.40765298141733,147.33088258954186,523.86349121636101,12.323198025291303,"Error Catch",{"$f":"IFERROR(L6,\"NA\")","v":"NA"},{"$f":"IFERROR(M6,\"NA\")","v":"NA"},{"$f":"IFERROR(N6,\"NA\")","v":"NA"},{"$f":"IFERROR(O6,\"NA\")","v":"NA"},0.8,{"$error":"#N/A"},{"$error":"#N/A"},{"$error":"#N/A"},{"$error":"#N/A"},{"$error":"#N/A"},{"$error":"#N/A"},{"$error":"#N/A"},{"$error":"#N/A"},"20-40%"]
["Paper manufacturing [322] ",322,812620.49178557447,273691.01545046881,9669.9424524347796,8486.2832843916094,20270.426005880643,5980.0461897600744,868.43123350975259,771.32970650471691,"Grade",{"$f":"IF(L7=\"NA\",\"-\",IF(L7>0.98,\"A+\",IF(L7>0.9,\"A\",IF(L7>0.8,\"B\",IF(L7>0.7,\"C\",IF(L7>0.6,\"D\",\"F\"))))))","v":"-"},{"$f":"IF(M7=\"NA\",\"-\",IF(M7>0.98,\"A+\",IF(M7>0.9,\"A\",IF(M7>0.8,\"B\",IF(M7>0.7,\"C\",IF(M7>0.6,\"D\",\"F\"))))))","v":"-"},{"$f":"IF(N7=\"NA\",\"-\",IF(N7>0.98,\"A+\",IF(N7>0.9,\"A\",IF(N7>0.8,\"B\",IF(N7>0.7,\"C\",IF(N7>0.6,\"D\",\"F\"))))))","v":"-"},{"$f":"IF(O7=\"NA\",\"-\",IF(O7>0.98,\"A+\",IF(O7>0.9,\"A\",IF(O7>0.8,\"B\",IF(O7>0.7,\"C\",IF(O7>0.6,\"D\",\"F\"))))))","v":"-"},0.997,{"$error":"#N/A"},{"$error":"#N/A"},{"$error":"#N/A"},{"$error":"#N/A"},{"$error":"#N/A"},{"$error":"#N/A"},{"$error":"#N/A"},{"$error":"#N/A"},"< 20%"]
["Petroleum and coal product manufacturing   [324] ",324,"x",258631.80314425338,6106.4740180375375,"x","X",18466.420984753993,423.86943380794366,"x","High Variance",{"$f":"IF(L7<>\"NA\",IF(L5/L4>0.35,\"Industry has high variance in data\",\"\"),\"Data Not Available\")","v":"Data Not Available"},{"$f":"IF(M7<>\"NA\",IF(M5/M4>0.35,\"Industry has high variance in data\",\"\"),\"Data Not Available\")","v":"Data Not Available"},{"$f":"IF(N7<>\"NA\",IF(N5/N4>0.35,\"Industry has high variance in data\",\"\"),\"Data Not Available\")","v":"Data Not Available"},{"$f":"IF(O7<>\"NA\",IF(O5/O4>0.35,\"Industry has high variance in data\",\"\"),\"Data Not Available\")","v":"Data Not Available"},0.5,{"$error":"#N/A"},{"$error":"#N/A"},{"$error":"#N/A"},{"$error":"#N/A"},null,null,null,null,0.5]
["Chemical manufacturing [325] ",325,20169.846124569453,129115.11868172266,"x","x",2966.7063627248408,22288.692202311071,"x","x",{"$f":"A22","v":"Recirculation Water Use"},{"$f":"C22","v":"Total"},{"$f":"D22","v":"Process"},{"$f":"E22","v":"Cooling, condensing and steam"},{"$f":"F22","v":"Other"},{"$f":"A22","v":"Recirculation Water Use"},null,null,null,null,{"$f":"C22","v":"Total"},{"$f":"D22","v":"Process"},{"$f":"E22","v":"Cooling, condensing and steam"},{"$f":"F22","v":"Other"}]
["Plastics and rubber products manufacturing [326] ",326,742.59676036895121,5184.7366759584002,605.25178597188403,0.84617567382992687,181.70973427661127,1722.3989205363175,82.219294805079201,0.46132175183245283,"Plant",{"$f":"SUM(M11:O11)","v":0},{"$f":"1000*SUM('4.System Water Balance'!J17:J19)","v":0},{"$f":"1000*SUM('4.System Water Balance'!J20:J24)","v":0},{"$f":"1000*SUM('4.System Water Balance'!J25:J27)","v":0},3.0000000000000001E-3,{"$f":"_xlfn.NORM.INV($P11,L$12,L$13)","v":{"$error":"#N/A"}},{"$error":"#N/A"},{"$error":"#N/A"},{"$error":"#N/A"},{"$f":"Q11-Q10","v":{"$error":"#N/A"}},{"$f":"R11-R10","v":{"$error":"#N/A"}},{"$error":"#N/A"},{"$error":"#N/A"}]
["Non-metallic mineral product manufacturing   [327] ",327,4976.8652675243802,5838.3068658941093,2603.0660375650496,615.29331224042085,1121.6525423283531,738.37264396177625,1589.4569822083379,117.24549907968108,"NAICS Ave",{"$f":"INDEX($C$23:$F$39,MATCH($K$1,$B$23:$B$39,0),MATCH(L$10,$C$22:$F$22,0))","v":{"$error":"#N/A"}},{"$f":"INDEX($C$23:$F$39,MATCH($K$1,$B$23:$B$39,0),MATCH(M$10,$C$22:$F$22,0))","v":{"$error":"#N/A"}},{"$f":"INDEX($C$23:$F$39,MATCH($K$1,$B$23:$B$39,0),MATCH(N$10,$C$22:$F$22,0))","v":{"$error":"#N/A"}},{"$f":"INDEX($C$23:$F$39,MATCH($K$1,$B$23:$B$39,0),MATCH(O$10,$C$22:$F$22,0))","v":{"$error":"#N/A"}},0.2,{"$error":"#N/A"},{"$error":"#N/A"},{"$error":"#N/A"},{"$error":"#N/A"},{"$error":"#N/A"},{"$f":"R12-R11","v":{"$error":"#N/A"}},{"$error":"#N/A"},{"$error":"#N/A"}]
["Primary metal manufacturing [331] ",331,"x",658365.24269038963,"x","x","X",68125.347092780372,"x","x","NAICS StD",{"$f":"INDEX($G$23:$J$39,MATCH($K$1,$B$23:$B$39,0),MATCH(L$10,$G$22:$J$22,0))","v":{"$error":"#N/A"}},{"$f":"INDEX($G$23:$J$39,MATCH($K$1,$B$23:$B$39,0),MATCH(M$10,$G$22:$J$22,0))","v":{"$error":"#N/A"}},{"$f":"INDEX($G$23:$J$39,MATCH($K$1,$B$23:$B$39,0),MATCH(N$10,$G$22:$J$22,0))","v":{"$error":"#N/A"}},{"$f":"INDEX($G$23:$J$39,MATCH($K$1,$B$23:$B$39,0),MATCH(O$10,$G$22:$J$22,0))","v":{"$error":"#N/A"}},0.4,{"$error":"#N/A"},{"$error":"#N/A"},{"$error":"#N/A"},{"$error":"#N/A"},{"$error":"#N/A"},{"$error":"#N/A"},{"$error":"#N/A"},{"$error":"#N/A"}]
["Fabricated metal product manufacturing [332] ",332,61.478339410533479,112.89302134245945,116.85429753740378,1.7457115208436187,18.48442238069417,88.997019866181091,20.512606658130561,0.53639589522334608,"Percentile",{"$f":"_xlfn.NORM.DIST(L11,L12,L13,1)","v":{"$error":"#N/A"}},{"$f":"_xlfn.NORM.DIST(M11,M12,M13,1)","v":{"$error":"#N/A"}},{"$f":"_xlfn.NORM.DIST(N11,N12,N13,1)","v":{"$error":"#N/A"}},{"$f":"_xlfn.NORM.DIST(O11,O12,O13,1)","v":{"$error":"#N/A"}},0.6,{"$error":"#N/A"},{"$error":"#N/A"},{"$error":"#N/A"},{"$error":"#N/A"},{"$error":"#N/A"},{"$error":"#N/A"},{"$error":"#N/A"},{"$error":"#N/A"}]
["Machinery manufacturing [333] ",333,315.7157332481508,33.81768620499728,251.30517356055424,5.8298372426470122,191.7750264145638,15.121967249374668,69.299265972040018,2.583975372713271,"Error Catch",{"$f":"IFERROR(L14,\"NA\")","v":"NA"},{"$f":"IFERROR(M14,\"NA\")","v":"NA"},{"$f":"IFERROR(N14,\"NA\")","v":"NA"},{"$f":"IFERROR(O14,\"NA\")","v":"NA"},0.8,{"$error":"#N/A"},{"$error":"#N/A"},{"$error":"#N/A"},{"$error":"#N/A"},{"$error":"#N/A"},{"$error":"#N/A"},{"$error":"#N/A"},{"$error":"#N/A"}]
["Computer and electronic product manufacturing [334] ",334,733.02490647665081,283.28337630186485,701.22046288947399,12.07478322648913,182.66150072279387,106.87385903908522,253.68452865458468,4.8597008997184687,"Grade",{"$f":"IF(L15=\"NA\",\"-\",IF(L15>0.98,\"A+\",IF(L15>0.9,\"A\",IF(L15>0.8,\"B\",IF(L15>0.7,\"C\",IF(L15>0.6,\"D\",\"F\"))))))","v":"-"},{"$f":"IF(M15=\"NA\",\"-\",IF(M15>0.98,\"A+\",IF(M15>0.9,\"A\",IF(M15>0.8,\"B\",IF(M15>0.7,\"C\",IF(M15>0.6,\"D\",\"F\"))))))","v":"-"},{"$f":"IF(N15=\"NA\",\"-\",IF(N15>0.98,\"A+\",IF(N15>0.9,\"A\",IF(N15>0.8,\"B\",IF(N15>0.7,\"C\",IF(N15>0.6,\"D\",\"F\"))))))","v":"-"},{"$f":"IF(O15=\"NA\",\"-\",IF(O15>0.98,\"A+\",IF(O15>0.9,\"A\",IF(O15>0.8,\"B\",IF(O15>0.7,\"C\",IF(O15>0.6,\"D\",\"F\"))))))","v":"-"},0.997,{"$error":"#N/A"},{"$error":"#N/A"},{"$error":"#N/A"},{"$error":"#N/A"},{"$error":"#N/A"},{"$error":"#N/A"},{"$error":"#N/A"},{"$error":"#N/A"}]
["Electrical equipment, appliance and component manufacturing [335]",335,488.98193857299964,960.81913862340616,188.73399228072347,62.400086987164244,175.13949421770263,730.55924393625526,44.049780376139516,48.122223090611797,"High Variance",{"$f":"IF(L15<>\"NA\",IF(L13/L12>0.35,\"Industry has high variance in data\",\"\"),\"Data Not Available\")","v":"Data Not Available"},{"$f":"IF(M15<>\"NA\",IF(M13/M12>0.35,\"Industry has high variance in data\",\"\"),\"Data Not Available\")","v":"Data Not Available"},{"$f":"IF(N15<>\"NA\",IF(N13/N12>0.35,\"Industry has high variance in data\",\"\"),\"Data Not Available\")","v":"Data Not Available"},{"$f":"IF(O15<>\"NA\",IF(O13/O12>0.35,\"Industry has high variance in data\",\"\"),\"Data Not Available\")","v":"Data Not Available"},0.5,{"$error":"#N/A"},{"$error":"#N/A"},{"$error":"#N/A"},{"$error":"#N/A"}]
["Transportation equipment manufacturing [336] ",336,3688.9757514202561,9122.7551862505898,2573.9819937511616,18.570955220282208,502.98493672618321,634.32400190948965,644.94338245970141,1.5798479370146539,{"$f":"A42","v":"Wastewater Discharge"},{"$f":"C42","v":"Total"},null,"Losses?","THIS MAY NOT WORK, DUE TO COMBINED VARIANCE BEING TOO HIGH",{"$f":"A42","v":"Wastewater Discharge"},null,null,null,null,{"$f":"C42","v":"Total"}]
["Miscellaneous manufacturing [339] ",339,60.767390911355562,28.994504048556603,67.754933275792965,6.4396592427880091,33.380998526686859,18.149795645192771,28.896962172939656,5.587897949855229,"Plant",{"$f":"1000*'4.System Water Balance'!H48","v":0},null,null,{"$f":"SUM(L3:O3)-L19","v":0},3.0000000000000001E-3,{"$f":"_xlfn.NORM.INV($P19,L$20,L$21)","v":{"$error":"#N/A"}},null,null,null,{"$f":"Q19-Q18","v":{"$error":"#N/A"}}]
["Other manufacturing industries1",null,"x","X",47.735464331741724,2.7270546358095999E-3,"X","x",10.351200409528653,2.7072217180673318E-3,"NAICS Ave",{"$f":"INDEX($C$43:$F$59,MATCH($K$1,$B$43:$B$59,0),MATCH(L$18,$C$42:$F$42,0))","v":{"$error":"#N/A"}},null,null,{"$f":"SUM(L4:O4)-L20","v":{"$error":"#N/A"}},0.2,{"$error":"#N/A"},null,null,null,{"$error":"#N/A"}]
["Total, all industries","Ave.",19087.147262580449,18266.376557965817,896.29475590698496,2509.0443850558422,1210.5179757440876,1068.5795676741011,91.376780607672586,361.58640907508999,"NAICS StD",{"$f":"INDEX($G$43:$J$59,MATCH($K$1,$B$43:$B$59,0),MATCH(L$18,$G$42:$J$42,0))","v":{"$error":"#N/A"}},null,null,{"$f":"SQRT(SUMPRODUCT(L5:O5,L5:O5)+L21^2)","v":{"$error":"#N/A"}},0.4,{"$error":"#N/A"},null,null,null,{"$error":"#N/A"}]
["Recirculation Water Use",null,"Total","Process","Cooling, condensing and steam","Other",{"$f":"C22","v":"Total"},{"$f":"D22","v":"Process"},{"$f":"E22","v":"Cooling, condensing and steam"},{"$f":"F22","v":"Other"},"Percentile",{"$f":"1-_xlfn.NORM.DIST(L19,L20,L21,1)","v":{"$error":"#N/A"}},null,null,{"$f":"1-_xlfn.NORM.DIST(O19,O20,O21,1)","v":{"$error":"#N/A"}},0.6,{"$error":"#N/A"},null,null,null,{"$error":"#N/A"}]
["Food manufacturing [311] ",311,39898.258734858122,28927.436386128164,10948.01616968905,22.80617949766539,19930.558752026653,14288.702408494701,5646.6734782796193,18.473522550368429,"Error Catch",{"$f":"IFERROR(L22,\"NA\")","v":"NA"},null,null,{"$f":"IFERROR(O22,\"NA\")","v":"NA"},0.8,{"$error":"#N/A"},null,null,null,{"$error":"#N/A"}]
["Beverage and tobacco product manufacturing [312] ",312,1588.744955793537,"x",576.21401904285722,"x",383.91978679429155,"x",129.46509310177987,"x","Grade",{"$f":"IF(L23=\"NA\",\"-\",IF(L23>0.98,\"A+\",IF(L23>0.9,\"A\",IF(L23>0.8,\"B\",IF(L23>0.7,\"C\",IF(L23>0.6,\"D\",\"F\"))))))","v":"-"},null,null,{"$f":"IF(O23=\"NA\",\"Data Not Available\",IF(O23>0.98,\"A+\",IF(O23>0.9,\"A\",IF(O23>0.8,\"B\",IF(O23>0.7,\"C\",IF(O23>0.6,\"D\",\"F\"))))))","v":"Data Not Available"},0.997,{"$error":"#N/A"},null,null,null,{"$error":"#N/A"}]
["Textile mills [313] ",313,832.14767674389498,0,832.14767674389498,0,783.32501647496713,0,783.32501647496713,0,"High Variance",{"$f":"IF(L23<>\"NA\",IF(L21/L20>0.35,\"Industry has high variance in data\",\"\"),\"Data Not Available\")","v":"Data Not Available"},null,null,{"$f":"IF(O21/O20>0.35,\"Industry has high variance in data\",\"Good\")","v":{"$error":"#N/A"}},0.5,{"$error":"#N/A"}]
["Textile product mills [314] ",314,0,0,0,0,0,0,0,0,"Gross Water Use",{"$f":"L2","v":"Process"},{"$f":"M2","v":"Cooling, condensing and steam"},"Other",null,"Gross",null,null,null,null,{"$f":"L26","v":"Process"},{"$f":"M26","v":"Cooling, condensing and steam"},"Other"]
["Wood product manufacturing [321] ",321,2470.0956739535004,509.98264425053367,"x","x",264.68862601505066,56.664956695458486,"x","x","Plant",{"$f":"L3+M11","v":0},{"$f":"M3+N11","v":0},{"$f":"O3+O11","v":0},null,3.0000000000000001E-3,{"$f":"_xlfn.NORM.INV($P11,L$28,L$29)","v":{"$error":"#N/A"}},{"$f":"_xlfn.NORM.INV($P11,M$28,M$29)","v":{"$error":"#N/A"}},{"$f":"_xlfn.NORM.INV($P11,N$28,N$29)","v":{"$error":"#N/A"}},null,{"$f":"Q27-AA20","v":{"$error":"#N/A"}},{"$f":"R27-AB20","v":{"$error":"#N/A"}},{"$f":"S27-AC20","v":{"$error":"#N/A"}}]
["Paper manufacturing [322] ",322,510413.7347816797,349656.82305996044,"x","x",39884.277537586771,38096.041739266744,"x","x","Gross water",{"$f":"L4+M12","v":{"$error":"#N/A"}},{"$f":"N12+M3","v":{"$error":"#N/A"}},{"$f":"O12+O4","v":{"$error":"#N/A"}},null,0.2,{"$f":"_xlfn.NORM.INV($P12,L$28,L$29)","v":{"$error":"#N/A"}},{"$f":"_xlfn.NORM.INV($P12,M$28,M$29)","v":{"$error":"#N/A"}},{"$f":"_xlfn.NORM.INV($P12,N$28,N$29)","v":{"$error":"#N/A"}},null,{"$f":"Q28-Q27","v":{"$error":"#N/A"}},{"$error":"#N/A"},{"$error":"#N/A"}]
["Petroleum and coal product manufacturing   [324] ",324,"x",3549.554978327832,"x","x","x",259.42099292516201,"x","x","Std",{"$f":"L5+M13","v":{"$error":"#N/A"}},{"$f":"N13+M4","v":{"$error":"#N/A"}},{"$f":"O13+O5","v":{"$error":"#N/A"}},null,0.4,{"$error":"#N/A"},{"$error":"#N/A"},{"$error":"#N/A"},null,{"$error":"#N/A"},{"$error":"#N/A"},{"$error":"#N/A"}]
["Chemical manufacturing [325] ",325,7340.4134803095403,"x",4580.2645925878278,"x",802.19675584936351,"x",534.81877954584149,"x","Percentile",{"$f":"1-_xlfn.NORM.DIST(L27,L28,L29,1)","v":{"$error":"#N/A"}},{"$f":"1-_xlfn.NORM.DIST(M27,M28,M29,1)","v":{"$error":"#N/A"}},{"$f":"1-_xlfn.NORM.DIST(N27,N28,N29,1)","v":{"$error":"#N/A"}},null,0.6,{"$error":"#N/A"},{"$error":"#N/A"},{"$error":"#N/A"},null,{"$error":"#N/A"},{"$error":"#N/A"},{"$error":"#N/A"}]
["Plastics and rubber products manufacturing [326] ",326,411.18099956445121,93.579374761445266,"x","x",129.44282854861177,48.988104649114845,"x","x","Error Catch",{"$f":"IFERROR(L30,\"NA\")","v":"NA"},{"$f":"IFERROR(M30,\"NA\")","v":"NA"},{"$f":"IFERROR(N30,\"NA\")","v":"NA"},null,0.8,{"$error":"#N/A"},{"$error":"#N/A"},{"$error":"#N/A"},null,{"$error":"#N/A"},{"$error":"#N/A"},{"$error":"#N/A"}]
["Non-metallic mineral product manufacturing   [327] ",327,6001.8628007881007,"x",1211.2559248707544,"x",2797.6941864708856,"x",289.59762590810135,"x",null,{"$f":"IF(L31=\"NA\",\"-\",IF(L31>0.98,\"A+\",IF(L31>0.9,\"A\",IF(L31>0.8,\"B\",IF(L31>0.7,\"C\",IF(L31>0.6,\"D\",\"F\"))))))","v":"-"},{"$f":"IF(M31=\"NA\",\"-\",IF(M31>0.98,\"A+\",IF(M31>0.9,\"A\",IF(M31>0.8,\"B\",IF(M31>0.7,\"C\",IF(M31>0.6,\"D\",\"F\"))))))","v":"-"},{"$f":"IF(N31=\"NA\",\"-\",IF(N31>0.98,\"A+\",IF(N31>0.9,\"A\",IF(N31>0.8,\"B\",IF(N31>0.7,\"C\",IF(N31>0.6,\"D\",\"F\"))))))","v":"-"},null,0.997,{"$error":"#N/A"},{"$error":"#N/A"},{"$error":"#N/A"},null,{"$error":"#N/A"},{"$error":"#N/A"},{"$error":"#N/A"}]
["Primary metal manufacturing [331] ",331,1274729.3774536706,643686.71751059929,"x","x",206204.56455043596,109946.21347529122,"x","x",null,{"$f":"IF(L31<>\"NA\",IF(L29/L28>0.35,\"Industry has high variance in data\",\"\"),\"Data Not Available\")","v":"Data Not Available"},{"$f":"IF(M31<>\"NA\",IF(M29/M28>0.35,\"Industry has high variance in data\",\"\"),\"Data Not Available\")","v":"Data Not Available"},{"$f":"IF(N31<>\"NA\",IF(N29/N28>0.35,\"Industry has high variance in data\",\"\"),\"Data Not Available\")","v":"Data Not Available"},null,0.5,{"$f":"_xlfn.NORM.INV($P17,L$28,L$29)","v":{"$error":"#N/A"}},{"$f":"_xlfn.NORM.INV($P17,M$28,M$29)","v":{"$error":"#N/A"}},{"$f":"_xlfn.NORM.INV($P17,N$28,N$29)","v":{"$error":"#N/A"}}]
["Fabricated metal product manufacturing [332] ",332,0,0,0,0,0,0,0,0]
["Machinery manufacturing [333] ",333,10.849157405521789,6.8894237454920004E-4,10.848468463173656,0,9.4982103204017481,6.2031501016660126E-4,9.49820840874143,0]
["Computer and electronic product manufacturing [334]  (5)",334,86.927025454175848,8.5256467755967247,"x","x",33.796809844389266,3.0513919775016314,"x","x"]
["Electrical equipment, appliance and component manufacturing [335]  (5)",335,243.67902318757814,"x",38.041035075250285,"x",120.09932935125653,"x",33.603138746658509,"x"]
["Transportation equipment manufacturing [336] ",336,"x","x","x",0.76254643085177565,"x","x","x",0.49486183722438393]
["Miscellaneous manufacturing [339] ",339,1.9541485343948151,0.55566486747852251,1.3984836669162926,0,0.3303554274634552,0.21603531471760298,0.18531718453857188,0]
["Other manufacturing industries1",null,0.74940690210824612,"x","x",0,0.48888912924709227,"x","x",0]
["Total, all industries","Ave.",26624.797801531044,14260.375297928114,12251.783379031642,112.6391251630333,2698.7811615621149,1696.8479506561807,1146.4549353580142,37.948425024733922]
["Wastewater Discharge",null,"Total",null,null,null,{"$f":"C42","v":"Total"}]
["Food manufacturing [311] ",311,40594.105672585967,null,null,null,5002.237680864202]
["Beverage and tobacco product manufacturing [312] ",312,21520.344970530001,null,null,null,1963.1562108164567]
["Textile mills [313] ",313,7003.1863198753008,null,null,null,2328.9904202313805]
["Textile product mills [314] ",314,558.0038471854557,null,null,null,156.79136163389109]
["Wood product manufacturing [321] ",321,2843.1452803623324,null,null,null,633.60230616428464]
["Paper manufacturing [322] ",322,1064414.851759298,null,null,null,22643.476131348187]
["Petroleum and coal product manufacturing   [324] ",324,345743.4016650836,null,null,null,25093.224753188206]
["Chemical manufacturing [325] ",325,115655.48344543068,null,null,null,22084.285639267928]
["Plastics and rubber products manufacturing [326] ",326,6043.7460308363889,null,null,null,1756.2250278182519]
["Non-metallic mineral product manufacturing   [327] ",327,13414.483619802821,null,null,null,2779.4560945221933]
["Primary metal manufacturing [331] ",331,1049525.7570860148,null,null,null,130429.94962733623]
["Fabricated metal product manufacturing [332] ",332,276.28119396107121,null,null,null,88.442720242460211]
["Machinery manufacturing [333] ",333,595.81300452424887,null,null,null,241.5499685804468]
["Computer and electronic product manufacturing [334]  (6)",334,1804.7347052859968,null,null,null,392.67351907961688]
["Electrical equipment, appliance and component manufacturing [335]  (6)",335,1498.4400573164655,null,null,null,752.93347921619306]
["Transportation equipment manufacturing [336] ",336,14468.207960254893,null,null,null,1163.5085797709473]
["Miscellaneous manufacturing [339] ",339,160.71421203481924,null,null,null,51.628450017175538]
["Other manufacturing industries1",null,226.60838608390861,null,null,null,112.85200039466223]
["Total, all industries","total",36535.091881897002,null,null,null,1805.0918865285237]

{"sheet":"EIOLCA","index":18,"n_rows":652,"n_cols":22,"rows_kept":652,"cut":false,"hidden":true,"merged":[[621,8,632,8],[622,9,626,9],[627,9,630,9],[633,8,648,8],[633,9,637,9],[643,9,648,9],[594,8,620,8],[594,9,595,9],[597,9,600,9],[609,9,614,9],[616,9,617,9],[618,9,620,9],[576,8,593,8],[577,9,579,9],[582,9,585,9],[586,9,587,9],[588,9,589,9],[590,9,591,9],[592,9,593,9],[540,9,543,9],[544,9,551,9],[552,8,575,8],[552,9,554,9],[559,9,564,9],[565,9,573,9],[574,9,575,9],[507,9,512,9],[513,8,551,8],[513,9,514,9],[516,9,517,9],[518,9,522,9],[523,9,525,9],[526,9,528,9],[529,9,533,9],[534,9,537,9],[538,9,539,9],[477,8,512,8],[477,9,481,9],[482,9,483,9],[484,9,486,9],[487,9,489,9],[492,9,493,9],[495,9,496,9],[498,9,499,9],[500,9,502,9],[503,9,506,9],[441,8,458,8],[443,9,446,9],[449,9,450,9],[455,9,458,9],[459,8,476,8],[461,9,462,9],[463,9,466,9],[469,9,470,9],[471,9,473,9],[474,9,476,9],[425,8,440,8],[425,9,427,9],[428,9,429,9],[434,9,435,9],[436,9,437,9],[439,9,440,9],[391,8,395,8],[392,9,393,9],[394,9,395,9],[396,8,424,8],[400,9,402,9],[403,9,404,9],[406,9,408,9],[410,9,413,9],[416,9,418,9],[422,9,424,9],[376,8,386,8],[377,9,378,9],[380,9,382,9],[385,9,386,9],[387,8,390,8],[387,9,389,9],[351,8,357,8],[358,8,361,8],[360,9,361,9],[362,8,375,8],[362,9,363,9],[364,9,368,9],[369,9,371,9],[373,9,375,9],[332,8,338,8],[332,9,334,9],[339,8,345,8],[346,8,350,8],[349,9,350,9],[308,9,311,9],[313,9,316,9],[318,9,320,9],[321,9,322,9],[324,9,325,9],[328,9,329,9],[282,8,288,8],[283,9,288,9],[289,8,331,8],[289,9,290,9],[291,9,293,9],[294,9,296,9],[298,9,299,9],[301,9,302,9],[303,9,304,9],[305,9,307,9],[330,9,331,9],[262,8,276,8],[262,9,263,9],[265,9,272,9],[277,8,281,8],[277,9,278,9],[280,9,281,9],[234,8,244,8],[234,9,236,9],[242,9,244,9],[245,8,252,8],[246,9,248,9],[253,8,261,8],[253,9,254,9],[255,9,256,9],[258,9,261,9],[211,8,219,8],[212,9,213,9],[215,9,217,9],[218,9,219,9],[220,8,233,8],[222,9,223,9],[224,9,226,9],[229,9,230,9],[232,9,233,9],[190,8,199,8],[190,9,196,9],[197,9,199,9],[200,8,210,8],[200,9,201,9],[203,9,206,9],[207,9,208,9],[209,9,210,9],[173,8,189,8],[173,9,177,9],[178,9,179,9],[180,9,181,9],[183,9,184,9],[185,9,186,9],[187,9,189,9],[161,8,167,8],[161,9,163,9],[164,9,167,9],[168,8,169,8],[168,9,169,9],[170,8,172,8],[170,9,172,9],[146,8,152,8],[146,9,147,9],[148,9,151,9],[153,8,155,8],[156,8,160,8],[158,9,160,9],[130,8,134,8],[130,9,133,9],[135,8,141,8],[136,9,139,9],[140,9,141,9],[142,8,145,8],[142,9,143,9],[144,9,145,9],[107,9,108,9],[109,8,129,8],[110,9,112,9],[113,9,115,9],[116,9,117,9],[118,9,119,9],[122,9,124,9],[125,9,129,9],[87,9,92,9],[93,9,96,9],[97,9,103,9],[104,9,106,9],[45,9,47,9],[48,9,49,9],[52,9,58,9],[59,9,60,9],[61,9,65,9],[66,9,70,9],[23,9,31,9],[32,9,33,9],[34,9,36,9],[37,9,38,9],[39,9,41,9],[42,9,44,9],[0,11,0,12],[71,9,79,9],[80,9,86,9]]}
[null,null,null,null,null,null,null,null,null,null,null,"EIOLCA Water Withdrawal kGal/Million$"]
[null,null,null,null,"NAICS Code",null,null,null,null,null,"Industry",null,"Min","Max","diff"]
["3 digit",1,null,null,311,null,null,null,null,null,"Food Manufacturing",null,{"$f":"MIN(IF($E$290:$E$649>=$E3*1000,IF($E$290:$E$649<($E3+1)*1000,$L$290:$L$649)))","v":82.6},{"$f":"MAX(IF($E$290:$E$649>=$E3*1000,IF($E$290:$E$649<($E3+1)*1000,$L$290:$L$649)))","v":16500},{"$f":"MAX(N3-M3,1)","v":16417.400000000001}]
["3 digit",2,null,null,312,null,null,null,null,null,"Beverage and Tobacco Product Manufacturing",null,{"$f":"MIN(IF($E$290:$E$649>=$E4*1000,IF($E$290:$E$649<($E4+1)*1000,$L$290:$L$649)))","v":199},{"$f":"MAX(IF($E$290:$E$649>=$E4*1000,IF($E$290:$E$649<($E4+1)*1000,$L$290:$L$649)))","v":39600},{"$f":"MAX(N4-M4,1)","v":39401}]
["3 digit",3,null,null,313,null,null,null,null,null,"Textile Mills",null,{"$f":"MIN(IF($E$290:$E$649>=$E5*1000,IF($E$290:$E$649<($E5+1)*1000,$L$290:$L$649)))","v":221},{"$f":"MAX(IF($E$290:$E$649>=$E5*1000,IF($E$290:$E$649<($E5+1)*1000,$L$290:$L$649)))","v":4610},4389]
["3 digit",4,null,null,314,null,null,null,null,null,"Textile Product Mills",null,{"$f":"MIN(IF($E$290:$E$649>=$E6*1000,IF($E$290:$E$649<($E6+1)*1000,$L$290:$L$649)))","v":41.3},{"$f":"MAX(IF($E$290:$E$649>=$E6*1000,IF($E$290:$E$649<($E6+1)*1000,$L$290:$L$649)))","v":173},131.69999999999999]
["3 digit",5,null,null,315,null,null,null,null,null,"Apparel Manufacturing",null,{"$f":"MIN(IF($E$290:$E$649>=$E7*1000,IF($E$290:$E$649<($E7+1)*1000,$L$290:$L$649)))","v":61.2},{"$f":"MAX(IF($E$290:$E$649>=$E7*1000,IF($E$290:$E$649<($E7+1)*1000,$L$290:$L$649)))","v":459},397.8]
["3 digit",6,null,null,316,null,null,null,null,null,"Leather and Allied Product Manufacturing",null,{"$f":"MIN(IF($E$290:$E$649>=$E8*1000,IF($E$290:$E$649<($E8+1)*1000,$L$290:$L$649)))","v":59.9},{"$f":"MAX(IF($E$290:$E$649>=$E8*1000,IF($E$290:$E$649<($E8+1)*1000,$L$290:$L$649)))","v":3380},3320.1]
["3 digit",7,null,null,321,null,null,null,null,null,"Wood Product Manufacturing",null,{"$f":"MIN(IF($E$290:$E$649>=$E9*1000,IF($E$290:$E$649<($E9+1)*1000,$L$290:$L$649)))","v":131},{"$f":"MAX(IF($E$290:$E$649>=$E9*1000,IF($E$290:$E$649<($E9+1)*1000,$L$290:$L$649)))","v":785},654]
["3 digit",8,null,null,322,null,null,null,null,null,"Paper Manufacturing",null,{"$f":"MIN(IF($E$290:$E$649>=$E10*1000,IF($E$290:$E$649<($E10+1)*1000,$L$290:$L$649)))","v":43.2},{"$f":"MAX(IF($E$290:$E$649>=$E10*1000,IF($E$290:$E$649<($E10+1)*1000,$L$290:$L$649)))","v":61500},61456.800000000003]
["3 digit",9,null,null,323,null,null,null,null,null,"Printing and Related Support Activities",null,{"$f":"MIN(IF($E$290:$E$649>=$E11*1000,IF($E$290:$E$649<($E11+1)*1000,$L$290:$L$649)))","v":92.1},{"$f":"MAX(IF($E$290:$E$649>=$E11*1000,IF($E$290:$E$649<($E11+1)*1000,$L$290:$L$649)))","v":207},114.9]
["3 digit",10,null,null,324,null,null,null,null,null,"Petroleum and Coal Products Manufacturing",null,{"$f":"MIN(IF($E$290:$E$649>=$E12*1000,IF($E$290:$E$649<($E12+1)*1000,$L$290:$L$649)))","v":28.9},{"$f":"MAX(IF($E$290:$E$649>=$E12*1000,IF($E$290:$E$649<($E12+1)*1000,$L$290:$L$649)))","v":2650},2621.1]
["3 digit",11,null,null,325,null,null,null,null,null,"Chemical Manufacturing",null,{"$f":"MIN(IF($E$290:$E$649>=$E13*1000,IF($E$290:$E$649<($E13+1)*1000,$L$290:$L$649)))","v":2.4E-2},{"$f":"MAX(IF($E$290:$E$649>=$E13*1000,IF($E$290:$E$649<($E13+1)*1000,$L$290:$L$649)))","v":25200},25199.975999999999]
["3 digit",12,null,null,326,null,null,null,null,null,"Plastics and Rubber Products Manufacturing",null,{"$f":"MIN(IF($E$290:$E$649>=$E14*1000,IF($E$290:$E$649<($E14+1)*1000,$L$290:$L$649)))","v":82.7},{"$f":"MAX(IF($E$290:$E$649>=$E14*1000,IF($E$290:$E$649<($E14+1)*1000,$L$290:$L$649)))","v":1150},1067.3]
["3 digit",13,null,null,327,null,null,null,null,null,"Nonmetallic Mineral Product Manufacturing",null,{"$f":"MIN(IF($E$290:$E$649>=$E15*1000,IF($E$290:$E$649<($E15+1)*1000,$L$290:$L$649)))","v":88.4},{"$f":"MAX(IF($E$290:$E$649>=$E15*1000,IF($E$290:$E$649<($E15+1)*1000,$L$290:$L$649)))","v":507},418.6]
["3 digit",14,null,null,331,null,null,null,null,null,"Primary Metal Manufacturing",null,{"$f":"MIN(IF($E$290:$E$649>=$E16*1000,IF($E$290:$E$649<($E16+1)*1000,$L$290:$L$649)))","v":269},{"$f":"MAX(IF($E$290:$E$649>=$E16*1000,IF($E$290:$E$649<($E16+1)*1000,$L$290:$L$649)))","v":12900},12631]
["3 digit",15,null,null,332,null,null,null,null,null,"Fabricated Metal Product Manufacturing",null,{"$f":"MIN(IF($E$290:$E$649>=$E17*1000,IF($E$290:$E$649<($E17+1)*1000,$L$290:$L$649)))","v":0.13800000000000001},{"$f":"MAX(IF($E$290:$E$649>=$E17*1000,IF($E$290:$E$649<($E17+1)*1000,$L$290:$L$649)))","v":128},127.86199999999999]
["3 digit",16,null,null,333,null,null,null,null,null,"Machinery Manufacturing",null,{"$f":"MIN(IF($E$290:$E$649>=$E18*1000,IF($E$290:$E$649<($E18+1)*1000,$L$290:$L$649)))","v":35.4},{"$f":"MAX(IF($E$290:$E$649>=$E18*1000,IF($E$290:$E$649<($E18+1)*1000,$L$290:$L$649)))","v":164},128.6]
["3 digit",17,null,null,334,null,null,null,null,null,"Computer and Electronic Product Manufacturing",null,{"$f":"MIN(IF($E$290:$E$649>=$E19*1000,IF($E$290:$E$649<($E19+1)*1000,$L$290:$L$649)))","v":8.0000000000000002E-3},{"$f":"MAX(IF($E$290:$E$649>=$E19*1000,IF($E$290:$E$649<($E19+1)*1000,$L$290:$L$649)))","v":363},362.99200000000002]
["3 digit",18,null,null,335,null,null,null,null,null,"Electrical Equipment, Appliance, and Component Manufacturing",null,{"$f":"MIN(IF($E$290:$E$649>=$E20*1000,IF($E$290:$E$649<($E20+1)*1000,$L$290:$L$649)))","v":35.6},{"$f":"MAX(IF($E$290:$E$649>=$E20*1000,IF($E$290:$E$649<($E20+1)*1000,$L$290:$L$649)))","v":168},132.4]
["3 digit",19,null,null,336,null,null,null,null,null,"Transportation Equipment Manufacturing",null,{"$f":"MIN(IF($E$290:$E$649>=$E21*1000,IF($E$290:$E$649<($E21+1)*1000,$L$290:$L$649)))","v":4.75},{"$f":"MAX(IF($E$290:$E$649>=$E21*1000,IF($E$290:$E$649<($E21+1)*1000,$L$290:$L$649)))","v":3400},3395.25]
["3 digit",20,null,null,337,null,null,null,null,null,"Furniture and Related Product Manufacturing",null,{"$f":"MIN(IF($E$290:$E$649>=$E22*1000,IF($E$290:$E$649<($E22+1)*1000,$L$290:$L$649)))","v":63.7},{"$f":"MAX(IF($E$290:$E$649>=$E22*1000,IF($E$290:$E$649<($E22+1)*1000,$L$290:$L$649)))","v":934},870.3]
["3 digit",21,null,null,339,null,null,null,null,null,"Miscellaneous Manufacturing",null,{"$f":"MIN(IF($E$290:$E$649>=$E23*1000,IF($E$290:$E$649<($E23+1)*1000,$L$290:$L$649)))","v":0.13600000000000001},{"$f":"MAX(IF($E$290:$E$649>=$E23*1000,IF($E$290:$E$649<($E23+1)*1000,$L$290:$L$649)))","v":651},650.86400000000003]
["4 digit",1,null,null,3111,null,null,null,null,{"$f":"LEFT(E24,3)","v":"311"},"Animal Food Manufacturing",null,{"$f":"MIN(IF($E$290:$E$649>=$E24*100,IF($E$290:$E$649<($E24+1)*100,$L$290:$L$649)))","v":5270},{"$f":"MAX(IF($E$290:$E$649>=$E24*100,IF($E$290:$E$649<($E24+1)*100,$L$290:$L$649)))","v":12200},6930]
["4 digit",2,null,null,3112,null,null,null,null,null,"Grain and Oilseed Milling",null,{"$f":"MIN(IF($E$290:$E$649>=$E25*100,IF($E$290:$E$649<($E25+1)*100,$L$290:$L$649)))","v":91.2},{"$f":"MAX(IF($E$290:$E$649>=$E25*100,IF($E$290:$E$649<($E25+1)*100,$L$290:$L$649)))","v":1160},1068.8]
["4 digit",3,null,null,3113,null,null,null,null,null,"Sugar and Confectionery Product Manufacturing",null,{"$f":"MIN(IF($E$290:$E$649>=$E26*100,IF($E$290:$E$649<($E26+1)*100,$L$290:$L$649)))","v":82.6},{"$f":"MAX(IF($E$290:$E$649>=$E26*100,IF($E$290:$E$649<($E26+1)*100,$L$290:$L$649)))","v":96.8},14.200000000000003]
["4 digit",4,null,null,3114,null,null,null,null,null,"Fruit and Vegetable Preserving and Specialty Food Manufacturing",null,{"$f":"MIN(IF($E$290:$E$649>=$E27*100,IF($E$290:$E$649<($E27+1)*100,$L$290:$L$649)))","v":270},{"$f":"MAX(IF($E$290:$E$649>=$E27*100,IF($E$290:$E$649<($E27+1)*100,$L$290:$L$649)))","v":12400},12130]
["4 digit",5,null,null,3115,null,null,null,null,null,"Dairy Product Manufacturing",null,{"$f":"MIN(IF($E$290:$E$649>=$E28*100,IF($E$290:$E$649<($E28+1)*100,$L$290:$L$649)))","v":187},{"$f":"MAX(IF($E$290:$E$649>=$E28*100,IF($E$290:$E$649<($E28+1)*100,$L$290:$L$649)))","v":13200},13013]
["4 digit",6,null,null,3116,null,null,null,null,null,"Animal Slaughtering and Processing",null,{"$f":"MIN(IF($E$290:$E$649>=$E29*100,IF($E$290:$E$649<($E29+1)*100,$L$290:$L$649)))","v":16500},{"$f":"MAX(IF($E$290:$E$649>=$E29*100,IF($E$290:$E$649<($E29+1)*100,$L$290:$L$649)))","v":16500},1]
["4 digit",7,null,null,3117,null,null,null,null,null,"Seafood Product Preparation and Packaging",null,{"$f":"MIN(IF($E$290:$E$649>=$E30*100,IF($E$290:$E$649<($E30+1)*100,$L$290:$L$649)))","v":243},{"$f":"MAX(IF($E$290:$E$649>=$E30*100,IF($E$290:$E$649<($E30+1)*100,$L$290:$L$649)))","v":243},1,null,null,null,"Min","Max","diff","Plant"]
["4 digit",8,null,null,3118,null,null,null,null,null,"Bakeries and Tortilla Manufacturing",null,{"$f":"MIN(IF($E$290:$E$649>=$E31*100,IF($E$290:$E$649<($E31+1)*100,$L$290:$L$649)))","v":97.8},{"$f":"MAX(IF($E$290:$E$649>=$E31*100,IF($E$290:$E$649<($E31+1)*100,$L$290:$L$649)))","v":667},569.20000000000005,{"$f":"IFERROR(LEFT(P33,3)*1,\"\")","v":""},{"$f":"IFERROR(INDEX(K$3:K$649,MATCH($P31,$E$3:$E$649,0),1),\"\")","v":""},1,{"$f":"INDEX(M$3:M$649,MATCH($P31,$E$3:$E$649,0),1)","v":{"$error":"#N/A"}},{"$error":"#N/A"},{"$f":"MAX(T31-S31,1)","v":{"$error":"#N/A"}}]
["4 digit",9,null,null,3119,null,null,null,null,null,"Other Food Manufacturing",null,{"$f":"MIN(IF($E$290:$E$649>=$E32*100,IF($E$290:$E$649<($E32+1)*100,$L$290:$L$649)))","v":127},{"$f":"MAX(IF($E$290:$E$649>=$E32*100,IF($E$290:$E$649<($E32+1)*100,$L$290:$L$649)))","v":460},333,{"$f":"IFERROR(LEFT(P33,4)*1,\"\")","v":""},{"$f":"IFERROR(INDEX(K$3:K$649,MATCH($P32,$E$3:$E$649,0),1),\"\")","v":""},2,{"$error":"#N/A"},{"$error":"#N/A"},{"$f":"MAX(T32-S32,1)","v":{"$error":"#N/A"}}]
["4 digit",10,null,null,3121,null,null,null,null,{"$f":"LEFT(E33,3)","v":"312"},"Beverage Manufacturing",null,{"$f":"MIN(IF($E$290:$E$649>=$E33*100,IF($E$290:$E$649<($E33+1)*100,$L$290:$L$649)))","v":199},{"$f":"MAX(IF($E$290:$E$649>=$E33*100,IF($E$290:$E$649<($E33+1)*100,$L$290:$L$649)))","v":39600},39401,{"$f":"IFERROR('1.Plant Info'!M18,\"\")","v":""},{"$f":"IFERROR(INDEX(K$3:K$649,MATCH($P33,$E$3:$E$649,0),1),\"\")","v":""},3,{"$error":"#N/A"},{"$error":"#N/A"},{"$f":"MAX(T33-S33,1)","v":{"$error":"#N/A"}},{"$f":"'1.Plant Info'!$H$37/'1.Plant Info'!$H$38*1000","v":{"$error":"#DIV/0!"}}]
["4 digit",11,null,null,3122,null,null,null,null,null,"Tobacco Manufacturing",null,{"$f":"MIN(IF($E$290:$E$649>=$E34*100,IF($E$290:$E$649<($E34+1)*100,$L$290:$L$649)))","v":0},{"$f":"MAX(IF($E$290:$E$649>=$E34*100,IF($E$290:$E$649<($E34+1)*100,$L$290:$L$649)))","v":0},1]
["4 digit",12,null,null,3131,null,null,null,null,{"$f":"LEFT(E35,3)","v":"313"},"Fiber, Yarn, and Thread Mills",null,{"$f":"MIN(IF($E$290:$E$649>=$E35*100,IF($E$290:$E$649<($E35+1)*100,$L$290:$L$649)))","v":4610},{"$f":"MAX(IF($E$290:$E$649>=$E35*100,IF($E$290:$E$649<($E35+1)*100,$L$290:$L$649)))","v":4610},1]
["4 digit",13,null,null,3132,null,null,null,null,null,"Fabric Mills",null,{"$f":"MIN(IF($E$290:$E$649>=$E36*100,IF($E$290:$E$649<($E36+1)*100,$L$290:$L$649)))","v":221},{"$f":"MAX(IF($E$290:$E$649>=$E36*100,IF($E$290:$E$649<($E36+1)*100,$L$290:$L$649)))","v":942},721]
["4 digit",14,null,null,3133,null,null,null,null,null,"Textile and Fabric Finishing and Fabric Coating Mills",null,{"$f":"MIN(IF($E$290:$E$649>=$E37*100,IF($E$290:$E$649<($E37+1)*100,$L$290:$L$649)))","v":314},{"$f":"MAX(IF($E$290:$E$649>=$E37*100,IF($E$290:$E$649<($E37+1)*100,$L$290:$L$649)))","v":519},205]
["4 digit",15,null,null,3141,null,null,null,null,{"$f":"LEFT(E38,3)","v":"314"},"Textile Furnishings Mills",null,{"$f":"MIN(IF($E$290:$E$649>=$E38*100,IF($E$290:$E$649<($E38+1)*100,$L$290:$L$649)))","v":41.3},{"$f":"MAX(IF($E$290:$E$649>=$E38*100,IF($E$290:$E$649<($E38+1)*100,$L$290:$L$649)))","v":136},94.7]
["4 digit",16,null,null,3149,null,null,null,null,null,"Other Textile Product Mills",null,{"$f":"MIN(IF($E$290:$E$649>=$E39*100,IF($E$290:$E$649<($E39+1)*100,$L$290:$L$649)))","v":84.7},{"$f":"MAX(IF($E$290:$E$649>=$E39*100,IF($E$290:$E$649<($E39+1)*100,$L$290:$L$649)))","v":173},88.3]
["4 digit",17,null,null,3151,null,null,null,null,{"$f":"LEFT(E40,3)","v":"315"},"Apparel Knitting Mills",null,{"$f":"MIN(IF($E$290:$E$649>=$E40*100,IF($E$290:$E$649<($E40+1)*100,$L$290:$L$649)))","v":459},{"$f":"MAX(IF($E$290:$E$649>=$E40*100,IF($E$290:$E$649<($E40+1)*100,$L$290:$L$649)))","v":459},1]
["4 digit",18,null,null,3152,null,null,null,null,null,"Cut and Sew Apparel Manufacturing",null,{"$f":"MIN(IF($E$290:$E$649>=$E41*100,IF($E$290:$E$649<($E41+1)*100,$L$290:$L$649)))","v":61.2},{"$f":"MAX(IF($E$290:$E$649>=$E41*100,IF($E$290:$E$649<($E41+1)*100,$L$290:$L$649)))","v":95.3},34.099999999999994]
["4 digit",19,null,null,3159,null,null,null,null,null,"Apparel Accessories and Other Apparel Manufacturing",null,{"$f":"MIN(IF($E$290:$E$649>=$E42*100,IF($E$290:$E$649<($E42+1)*100,$L$290:$L$649)))","v":126},{"$f":"MAX(IF($E$290:$E$649>=$E42*100,IF($E$290:$E$649<($E42+1)*100,$L$290:$L$649)))","v":126},1]
["4 digit",20,null,null,3161,null,null,null,null,{"$f":"LEFT(E43,3)","v":"316"},"Leather and Hide Tanning and Finishing",null,{"$f":"MIN(IF($E$290:$E$649>=$E43*100,IF($E$290:$E$649<($E43+1)*100,$L$290:$L$649)))","v":3380},{"$f":"MAX(IF($E$290:$E$649>=$E43*100,IF($E$290:$E$649<($E43+1)*100,$L$290:$L$649)))","v":3380},1]
["4 digit",21,null,null,3162,null,null,null,null,null,"Footwear Manufacturing",null,{"$f":"MIN(IF($E$290:$E$649>=$E44*100,IF($E$290:$E$649<($E44+1)*100,$L$290:$L$649)))","v":114},{"$f":"MAX(IF($E$290:$E$649>=$E44*100,IF($E$290:$E$649<($E44+1)*100,$L$290:$L$649)))","v":114},1]
["4 digit",22,null,null,3169,null,null,null,null,null,"Other Leather and Allied Product Manufacturing",null,{"$f":"MIN(IF($E$290:$E$649>=$E45*100,IF($E$290:$E$649<($E45+1)*100,$L$290:$L$649)))","v":59.9},{"$f":"MAX(IF($E$290:$E$649>=$E45*100,IF($E$290:$E$649<($E45+1)*100,$L$290:$L$649)))","v":59.9},1]
["4 digit",23,null,null,3211,null,null,null,null,{"$f":"LEFT(E46,3)","v":"321"},"Sawmills and Wood Preservation",null,{"$f":"MIN(IF($E$290:$E$649>=$E46*100,IF($E$290:$E$649<($E46+1)*100,$L$290:$L$649)))","v":785},{"$f":"MAX(IF($E$290:$E$649>=$E46*100,IF($E$290:$E$649<($E46+1)*100,$L$290:$L$649)))","v":785},1]
["4 digit",24,null,null,3212,null,null,null,null,null,"Veneer, Plywood, and Engineered Wood Product Manufacturing",null,{"$f":"MIN(IF($E$290:$E$649>=$E47*100,IF($E$290:$E$649<($E47+1)*100,$L$290:$L$649)))","v":219},{"$f":"MAX(IF($E$290:$E$649>=$E47*100,IF($E$290:$E$649<($E47+1)*100,$L$290:$L$649)))","v":219},1]
["4 digit",25,null,null,3219,null,null,null,null,null,"Other Wood Product Manufacturing",null,{"$f":"MIN(IF($E$290:$E$649>=$E48*100,IF($E$290:$E$649<($E48+1)*100,$L$290:$L$649)))","v":131},{"$f":"MAX(IF($E$290:$E$649>=$E48*100,IF($E$290:$E$649<($E48+1)*100,$L$290:$L$649)))","v":422},291]
["4 digit",26,null,null,3221,null,null,null,null,{"$f":"LEFT(E49,3)","v":"322"},"Pulp, Paper, and Paperboard Mills",null,{"$f":"MIN(IF($E$290:$E$649>=$E49*100,IF($E$290:$E$649<($E49+1)*100,$L$290:$L$649)))","v":7830},{"$f":"MAX(IF($E$290:$E$649>=$E49*100,IF($E$290:$E$649<($E49+1)*100,$L$290:$L$649)))","v":61500},53670]
["4 digit",27,null,null,3222,null,null,null,null,null,"Converted Paper Product Manufacturing",null,{"$f":"MIN(IF($E$290:$E$649>=$E50*100,IF($E$290:$E$649<($E50+1)*100,$L$290:$L$649)))","v":43.2},{"$f":"MAX(IF($E$290:$E$649>=$E50*100,IF($E$290:$E$649<($E50+1)*100,$L$290:$L$649)))","v":312},268.8]
["4 digit",28,null,null,3231,null,null,null,null,{"$f":"LEFT(E51,3)","v":"323"},"Printing and Related Support Activities",null,{"$f":"MIN(IF($E$290:$E$649>=$E51*100,IF($E$290:$E$649<($E51+1)*100,$L$290:$L$649)))","v":92.1},{"$f":"MAX(IF($E$290:$E$649>=$E51*100,IF($E$290:$E$649<($E51+1)*100,$L$290:$L$649)))","v":207},114.9]
["4 digit",29,null,null,3241,null,null,null,null,{"$f":"LEFT(E52,3)","v":"324"},"Petroleum and Coal Products Manufacturing",null,{"$f":"MIN(IF($E$290:$E$649>=$E52*100,IF($E$290:$E$649<($E52+1)*100,$L$290:$L$649)))","v":28.9},{"$f":"MAX(IF($E$290:$E$649>=$E52*100,IF($E$290:$E$649<($E52+1)*100,$L$290:$L$649)))","v":2650},2621.1]
["4 digit",30,null,null,3251,null,null,null,null,{"$f":"LEFT(E53,3)","v":"325"},"Basic Chemical Manufacturing",null,{"$f":"MIN(IF($E$290:$E$649>=$E53*100,IF($E$290:$E$649<($E53+1)*100,$L$290:$L$649)))","v":2830},{"$f":"MAX(IF($E$290:$E$649>=$E53*100,IF($E$290:$E$649<($E53+1)*100,$L$290:$L$649)))","v":25200},22370]
["4 digit",31,null,null,3252,null,null,null,null,null,"Resin, Synthetic Rubber, and Artificial Synthetic Fibers and Filaments Manufacturing",null,{"$f":"MIN(IF($E$290:$E$649>=$E54*100,IF($E$290:$E$649<($E54+1)*100,$L$290:$L$649)))","v":56.1},{"$f":"MAX(IF($E$290:$E$649>=$E54*100,IF($E$290:$E$649<($E54+1)*100,$L$290:$L$649)))","v":154},97.9]
["4 digit",32,null,null,3253,null,null,null,null,null,"Pesticide, Fertilizer, and Other Agricultural Chemical Manufacturing",null,{"$f":"MIN(IF($E$290:$E$649>=$E55*100,IF($E$290:$E$649<($E55+1)*100,$L$290:$L$649)))","v":411},{"$f":"MAX(IF($E$290:$E$649>=$E55*100,IF($E$290:$E$649<($E55+1)*100,$L$290:$L$649)))","v":506},95]
["4 digit",33,null,null,3254,null,null,null,null,null,"Pharmaceutical and Medicine Manufacturing",null,{"$f":"MIN(IF($E$290:$E$649>=$E56*100,IF($E$290:$E$649<($E56+1)*100,$L$290:$L$649)))","v":2.4E-2},{"$f":"MAX(IF($E$290:$E$649>=$E56*100,IF($E$290:$E$649<($E56+1)*100,$L$290:$L$649)))","v":1.53},1.506]
["4 digit",34,null,null,3255,null,null,null,null,null,"Paint, Coating, and Adhesive Manufacturing",null,{"$f":"MIN(IF($E$290:$E$649>=$E57*100,IF($E$290:$E$649<($E57+1)*100,$L$290:$L$649)))","v":829},{"$f":"MAX(IF($E$290:$E$649>=$E57*100,IF($E$290:$E$649<($E57+1)*100,$L$290:$L$649)))","v":3680},2851]
["4 digit",35,null,null,3256,null,null,null,null,null,"Soap, Cleaning Compound, and Toilet Preparation Manufacturing",null,{"$f":"MIN(IF($E$290:$E$649>=$E58*100,IF($E$290:$E$649<($E58+1)*100,$L$290:$L$649)))","v":3.89},{"$f":"MAX(IF($E$290:$E$649>=$E58*100,IF($E$290:$E$649<($E58+1)*100,$L$290:$L$649)))","v":345},341.11]
["4 digit",36,null,null,3259,null,null,null,null,null,"Other Chemical Product and Preparation Manufacturing",null,{"$f":"MIN(IF($E$290:$E$649>=$E59*100,IF($E$290:$E$649<($E59+1)*100,$L$290:$L$649)))","v":1.0900000000000001},{"$f":"MAX(IF($E$290:$E$649>=$E59*100,IF($E$290:$E$649<($E59+1)*100,$L$290:$L$649)))","v":1.0900000000000001},1]
["4 digit",37,null,null,3261,null,null,null,null,{"$f":"LEFT(E60,3)","v":"326"},"Plastics Product Manufacturing",null,{"$f":"MIN(IF($E$290:$E$649>=$E60*100,IF($E$290:$E$649<($E60+1)*100,$L$290:$L$649)))","v":82.7},{"$f":"MAX(IF($E$290:$E$649>=$E60*100,IF($E$290:$E$649<($E60+1)*100,$L$290:$L$649)))","v":250},167.3]
["4 digit",38,null,null,3262,null,null,null,null,null,"Rubber Product Manufacturing",null,{"$f":"MIN(IF($E$290:$E$649>=$E61*100,IF($E$290:$E$649<($E61+1)*100,$L$290:$L$649)))","v":158},{"$f":"MAX(IF($E$290:$E$649>=$E61*100,IF($E$290:$E$649<($E61+1)*100,$L$290:$L$649)))","v":1150},992]
["4 digit",39,null,null,3271,null,null,null,null,{"$f":"LEFT(E62,3)","v":"327"},"Clay Product and Refractory Manufacturing",null,{"$f":"MIN(IF($E$290:$E$649>=$E62*100,IF($E$290:$E$649<($E62+1)*100,$L$290:$L$649)))","v":0},{"$f":"MAX(IF($E$290:$E$649>=$E62*100,IF($E$290:$E$649<($E62+1)*100,$L$290:$L$649)))","v":0},1]
["4 digit",40,null,null,3272,null,null,null,null,null,"Glass and Glass Product Manufacturing",null,{"$f":"MIN(IF($E$290:$E$649>=$E63*100,IF($E$290:$E$649<($E63+1)*100,$L$290:$L$649)))","v":121},{"$f":"MAX(IF($E$290:$E$649>=$E63*100,IF($E$290:$E$649<($E63+1)*100,$L$290:$L$649)))","v":492},371]
["4 digit",41,null,null,3273,null,null,null,null,null,"Cement and Concrete Product Manufacturing",null,{"$f":"MIN(IF($E$290:$E$649>=$E64*100,IF($E$290:$E$649<($E64+1)*100,$L$290:$L$649)))","v":133},{"$f":"MAX(IF($E$290:$E$649>=$E64*100,IF($E$290:$E$649<($E64+1)*100,$L$290:$L$649)))","v":249},116]
["4 digit",42,null,null,3274,null,null,null,null,null,"Lime and Gypsum Product Manufacturing",null,{"$f":"MIN(IF($E$290:$E$649>=$E65*100,IF($E$290:$E$649<($E65+1)*100,$L$290:$L$649)))","v":0},{"$f":"MAX(IF($E$290:$E$649>=$E65*100,IF($E$290:$E$649<($E65+1)*100,$L$290:$L$649)))","v":0},1]
["4 digit",43,null,null,3279,null,null,null,null,null,"Other Nonmetallic Mineral Product Manufacturing",null,{"$f":"MIN(IF($E$290:$E$649>=$E66*100,IF($E$290:$E$649<($E66+1)*100,$L$290:$L$649)))","v":88.4},{"$f":"MAX(IF($E$290:$E$649>=$E66*100,IF($E$290:$E$649<($E66+1)*100,$L$290:$L$649)))","v":507},418.6]
["4 digit",44,null,null,3311,null,null,null,null,{"$f":"LEFT(E67,3)","v":"331"},"Iron and Steel Mills and Ferroalloy Manufacturing",null,{"$f":"MIN(IF($E$290:$E$649>=$E67*100,IF($E$290:$E$649<($E67+1)*100,$L$290:$L$649)))","v":9120},{"$f":"MAX(IF($E$290:$E$649>=$E67*100,IF($E$290:$E$649<($E67+1)*100,$L$290:$L$649)))","v":9120},1]
["4 digit",45,null,null,3312,null,null,null,null,null,"Steel Product Manufacturing from Purchased Steel",null,{"$f":"MIN(IF($E$290:$E$649>=$E68*100,IF($E$290:$E$649<($E68+1)*100,$L$290:$L$649)))","v":326},{"$f":"MAX(IF($E$290:$E$649>=$E68*100,IF($E$290:$E$649<($E68+1)*100,$L$290:$L$649)))","v":326},{"$f":"MAX(N68-M68,1)","v":1}]
["4 digit",46,null,null,3313,null,null,null,null,null,"Alumina and Aluminum Production and Processing",null,{"$f":"MIN(IF($E$290:$E$649>=$E69*100,IF($E$290:$E$649<($E69+1)*100,$L$290:$L$649)))","v":12900},{"$f":"MAX(IF($E$290:$E$649>=$E69*100,IF($E$290:$E$649<($E69+1)*100,$L$290:$L$649)))","v":12900},1]
["4 digit",47,null,null,3314,null,null,null,null,null,"Nonferrous Metal (except Aluminum) Production and Processing",null,{"$f":"MIN(IF($E$290:$E$649>=$E70*100,IF($E$290:$E$649<($E70+1)*100,$L$290:$L$649)))","v":269},{"$f":"MAX(IF($E$290:$E$649>=$E70*100,IF($E$290:$E$649<($E70+1)*100,$L$290:$L$649)))","v":364},95]
["4 digit",48,null,null,3315,null,null,null,null,null,"Foundries",null,{"$f":"MIN(IF($E$290:$E$649>=$E71*100,IF($E$290:$E$649<($E71+1)*100,$L$290:$L$649)))","v":515},{"$f":"MAX(IF($E$290:$E$649>=$E71*100,IF($E$290:$E$649<($E71+1)*100,$L$290:$L$649)))","v":535},20]
["4 digit",49,null,null,3321,null,null,null,null,{"$f":"LEFT(E72,3)","v":"332"},"Forging and Stamping",null,{"$f":"MIN(IF($E$290:$E$649>=$E72*100,IF($E$290:$E$649<($E72+1)*100,$L$290:$L$649)))","v":102},{"$f":"MAX(IF($E$290:$E$649>=$E72*100,IF($E$290:$E$649<($E72+1)*100,$L$290:$L$649)))","v":102},1]
["4 digit",50,null,null,3322,null,null,null,null,null,"Cutlery and Handtool Manufacturing",null,{"$f":"MIN(IF($E$290:$E$649>=$E73*100,IF($E$290:$E$649<($E73+1)*100,$L$290:$L$649)))","v":0},{"$f":"MAX(IF($E$290:$E$649>=$E73*100,IF($E$290:$E$649<($E73+1)*100,$L$290:$L$649)))","v":0},1]
["4 digit",51,null,null,3323,null,null,null,null,null,"Architectural and Structural Metals Manufacturing",null,{"$f":"MIN(IF($E$290:$E$649>=$E74*100,IF($E$290:$E$649<($E74+1)*100,$L$290:$L$649)))","v":4.55},{"$f":"MAX(IF($E$290:$E$649>=$E74*100,IF($E$290:$E$649<($E74+1)*100,$L$290:$L$649)))","v":8.6},4.05]
["4 digit",52,null,null,3324,null,null,null,null,null,"Boiler, Tank, and Shipping Container Manufacturing",null,{"$f":"MIN(IF($E$290:$E$649>=$E75*100,IF($E$290:$E$649<($E75+1)*100,$L$290:$L$649)))","v":0.68899999999999995},{"$f":"MAX(IF($E$290:$E$649>=$E75*100,IF($E$290:$E$649<($E75+1)*100,$L$290:$L$649)))","v":2.19},1.5009999999999999]
["4 digit",53,null,null,3325,null,null,null,null,null,"Hardware Manufacturing",null,{"$f":"MIN(IF($E$290:$E$649>=$E76*100,IF($E$290:$E$649<($E76+1)*100,$L$290:$L$649)))","v":2.42},{"$f":"MAX(IF($E$290:$E$649>=$E76*100,IF($E$290:$E$649<($E76+1)*100,$L$290:$L$649)))","v":2.42},1]
["4 digit",54,null,null,3326,null,null,null,null,null,"Spring and Wire Product Manufacturing",null,{"$f":"MIN(IF($E$290:$E$649>=$E77*100,IF($E$290:$E$649<($E77+1)*100,$L$290:$L$649)))","v":128},{"$f":"MAX(IF($E$290:$E$649>=$E77*100,IF($E$290:$E$649<($E77+1)*100,$L$290:$L$649)))","v":128},1]
["4 digit",55,null,null,3327,null,null,null,null,null,"Machine Shops; Turned Product; and Screw, Nut, and Bolt Manufacturing",null,{"$f":"MIN(IF($E$290:$E$649>=$E78*100,IF($E$290:$E$649<($E78+1)*100,$L$290:$L$649)))","v":8.7899999999999991},{"$f":"MAX(IF($E$290:$E$649>=$E78*100,IF($E$290:$E$649<($E78+1)*100,$L$290:$L$649)))","v":39.1},30.310000000000002]
["4 digit",56,null,null,3328,null,null,null,null,null,"Coating, Engraving, Heat Treating, and Allied Activities",null,{"$f":"MIN(IF($E$290:$E$649>=$E79*100,IF($E$290:$E$649<($E79+1)*100,$L$290:$L$649)))","v":53.1},{"$f":"MAX(IF($E$290:$E$649>=$E79*100,IF($E$290:$E$649<($E79+1)*100,$L$290:$L$649)))","v":53.1},1]
["4 digit",57,null,null,3329,null,null,null,null,null,"Other Fabricated Metal Product Manufacturing",null,{"$f":"MIN(IF($E$290:$E$649>=$E80*100,IF($E$290:$E$649<($E80+1)*100,$L$290:$L$649)))","v":0.13800000000000001},{"$f":"MAX(IF($E$290:$E$649>=$E80*100,IF($E$290:$E$649<($E80+1)*100,$L$290:$L$649)))","v":3.25},3.1120000000000001]
["4 digit",58,null,null,3331,null,null,null,null,{"$f":"LEFT(E81,3)","v":"333"},"Agriculture, Construction, and Mining Machinery Manufacturing",null,{"$f":"MIN(IF($E$290:$E$649>=$E81*100,IF($E$290:$E$649<($E81+1)*100,$L$290:$L$649)))","v":51.6},{"$f":"MAX(IF($E$290:$E$649>=$E81*100,IF($E$290:$E$649<($E81+1)*100,$L$290:$L$649)))","v":94.3},42.699999999999996]
["4 digit",59,null,null,3332,null,null,null,null,null,"Industrial Machinery Manufacturing",null,{"$f":"MIN(IF($E$290:$E$649>=$E82*100,IF($E$290:$E$649<($E82+1)*100,$L$290:$L$649)))","v":0},{"$f":"MAX(IF($E$290:$E$649>=$E82*100,IF($E$290:$E$649<($E82+1)*100,$L$290:$L$649)))","v":0},1]
["4 digit",60,null,null,3333,null,null,null,null,null,"Commercial and Service Industry Machinery Manufacturing",null,{"$f":"MIN(IF($E$290:$E$649>=$E83*100,IF($E$290:$E$649<($E83+1)*100,$L$290:$L$649)))","v":81.400000000000006},{"$f":"MAX(IF($E$290:$E$649>=$E83*100,IF($E$290:$E$649<($E83+1)*100,$L$290:$L$649)))","v":81.400000000000006},1]
["4 digit",61,null,null,3334,null,null,null,null,null,"Ventilation, Heating, Air-Conditioning, and Commercial Refrigeration Equipment Manufacturing",null,{"$f":"MIN(IF($E$290:$E$649>=$E84*100,IF($E$290:$E$649<($E84+1)*100,$L$290:$L$649)))","v":71.7},{"$f":"MAX(IF($E$290:$E$649>=$E84*100,IF($E$290:$E$649<($E84+1)*100,$L$290:$L$649)))","v":107},35.299999999999997]
["4 digit",62,null,null,3335,null,null,null,null,null,"Metalworking Machinery Manufacturing",null,{"$f":"MIN(IF($E$290:$E$649>=$E85*100,IF($E$290:$E$649<($E85+1)*100,$L$290:$L$649)))","v":75.3},{"$f":"MAX(IF($E$290:$E$649>=$E85*100,IF($E$290:$E$649<($E85+1)*100,$L$290:$L$649)))","v":143},67.7]
["4 digit",63,null,null,3336,null,null,null,null,null,"Engine, Turbine, and Power Transmission Equipment Manufacturing",null,{"$f":"MIN(IF($E$290:$E$649>=$E86*100,IF($E$290:$E$649<($E86+1)*100,$L$290:$L$649)))","v":35.4},{"$f":"MAX(IF($E$290:$E$649>=$E86*100,IF($E$290:$E$649<($E86+1)*100,$L$290:$L$649)))","v":164},128.6]
["4 digit",64,null,null,3339,null,null,null,null,null,"Other General Purpose Machinery Manufacturing",null,{"$f":"MIN(IF($E$290:$E$649>=$E87*100,IF($E$290:$E$649<($E87+1)*100,$L$290:$L$649)))","v":47.5},{"$f":"MAX(IF($E$290:$E$649>=$E87*100,IF($E$290:$E$649<($E87+1)*100,$L$290:$L$649)))","v":143},95.5]
["4 digit",65,null,null,3341,null,null,null,null,{"$f":"LEFT(E88,3)","v":"334"},"Computer and Peripheral Equipment Manufacturing",null,{"$f":"MIN(IF($E$290:$E$649>=$E88*100,IF($E$290:$E$649<($E88+1)*100,$L$290:$L$649)))","v":14},{"$f":"MAX(IF($E$290:$E$649>=$E88*100,IF($E$290:$E$649<($E88+1)*100,$L$290:$L$649)))","v":58.8},44.8]
["4 digit",66,null,null,3342,null,null,null,null,null,"Communications Equipment Manufacturing",null,{"$f":"MIN(IF($E$290:$E$649>=$E89*100,IF($E$290:$E$649<($E89+1)*100,$L$290:$L$649)))","v":33.700000000000003},{"$f":"MAX(IF($E$290:$E$649>=$E89*100,IF($E$290:$E$649<($E89+1)*100,$L$290:$L$649)))","v":76.900000000000006},43.2]
["4 digit",67,null,null,3343,null,null,null,null,null,"Audio and Video Equipment Manufacturing",null,{"$f":"MIN(IF($E$290:$E$649>=$E90*100,IF($E$290:$E$649<($E90+1)*100,$L$290:$L$649)))","v":34.1},{"$f":"MAX(IF($E$290:$E$649>=$E90*100,IF($E$290:$E$649<($E90+1)*100,$L$290:$L$649)))","v":34.1},1]
["4 digit",68,null,null,3344,null,null,null,null,null,"Semiconductor and Other Electronic Component Manufacturing",null,{"$f":"MIN(IF($E$290:$E$649>=$E91*100,IF($E$290:$E$649<($E91+1)*100,$L$290:$L$649)))","v":14.3},{"$f":"MAX(IF($E$290:$E$649>=$E91*100,IF($E$290:$E$649<($E91+1)*100,$L$290:$L$649)))","v":363},348.7]
["4 digit",69,null,null,3345,null,null,null,null,null,"Navigational, Measuring, Electromedical, and Control Instruments Manufacturing",null,{"$f":"MIN(IF($E$290:$E$649>=$E92*100,IF($E$290:$E$649<($E92+1)*100,$L$290:$L$649)))","v":8.0000000000000002E-3},{"$f":"MAX(IF($E$290:$E$649>=$E92*100,IF($E$290:$E$649<($E92+1)*100,$L$290:$L$649)))","v":2.66},2.6520000000000001]
["4 digit",70,null,null,3346,null,null,null,null,null,"Manufacturing and Reproducing Magnetic and Optical Media",null,{"$f":"MIN(IF($E$290:$E$649>=$E93*100,IF($E$290:$E$649<($E93+1)*100,$L$290:$L$649)))","v":0.59599999999999997},{"$f":"MAX(IF($E$290:$E$649>=$E93*100,IF($E$290:$E$649<($E93+1)*100,$L$290:$L$649)))","v":0.59599999999999997},1]
["4 digit",71,null,null,3351,null,null,null,null,{"$f":"LEFT(E94,3)","v":"335"},"Electric Lighting Equipment Manufacturing",null,{"$f":"MIN(IF($E$290:$E$649>=$E94*100,IF($E$290:$E$649<($E94+1)*100,$L$290:$L$649)))","v":78.7},{"$f":"MAX(IF($E$290:$E$649>=$E94*100,IF($E$290:$E$649<($E94+1)*100,$L$290:$L$649)))","v":168},89.3]
["4 digit",72,null,null,3352,null,null,null,null,null,"Household Appliance Manufacturing",null,{"$f":"MIN(IF($E$290:$E$649>=$E95*100,IF($E$290:$E$649<($E95+1)*100,$L$290:$L$649)))","v":116},{"$f":"MAX(IF($E$290:$E$649>=$E95*100,IF($E$290:$E$649<($E95+1)*100,$L$290:$L$649)))","v":116},1]
["4 digit",73,null,null,3353,null,null,null,null,null,"Electrical Equipment Manufacturing",null,{"$f":"MIN(IF($E$290:$E$649>=$E96*100,IF($E$290:$E$649<($E96+1)*100,$L$290:$L$649)))","v":35.6},{"$f":"MAX(IF($E$290:$E$649>=$E96*100,IF($E$290:$E$649<($E96+1)*100,$L$290:$L$649)))","v":59.9},24.299999999999997]
["4 digit",74,null,null,3359,null,null,null,null,null,"Other Electrical Equipment and Component Manufacturing",null,{"$f":"MIN(IF($E$290:$E$649>=$E97*100,IF($E$290:$E$649<($E97+1)*100,$L$290:$L$649)))","v":58.1},{"$f":"MAX(IF($E$290:$E$649>=$E97*100,IF($E$290:$E$649<($E97+1)*100,$L$290:$L$649)))","v":140},81.900000000000006]
["4 digit",75,null,null,3361,null,null,null,null,{"$f":"LEFT(E98,3)","v":"336"},"Motor Vehicle Manufacturing",null,{"$f":"MIN(IF($E$290:$E$649>=$E98*100,IF($E$290:$E$649<($E98+1)*100,$L$290:$L$649)))","v":19.2},{"$f":"MAX(IF($E$290:$E$649>=$E98*100,IF($E$290:$E$649<($E98+1)*100,$L$290:$L$649)))","v":39.4},20.2]
["4 digit",76,null,null,3362,null,null,null,null,null,"Motor Vehicle Body and Trailer Manufacturing",null,{"$f":"MIN(IF($E$290:$E$649>=$E99*100,IF($E$290:$E$649<($E99+1)*100,$L$290:$L$649)))","v":87.5},{"$f":"MAX(IF($E$290:$E$649>=$E99*100,IF($E$290:$E$649<($E99+1)*100,$L$290:$L$649)))","v":3400},3312.5]
["4 digit",77,null,null,3363,null,null,null,null,null,"Motor Vehicle Parts Manufacturing",null,{"$f":"MIN(IF($E$290:$E$649>=$E100*100,IF($E$290:$E$649<($E100+1)*100,$L$290:$L$649)))","v":334},{"$f":"MAX(IF($E$290:$E$649>=$E100*100,IF($E$290:$E$649<($E100+1)*100,$L$290:$L$649)))","v":334},1]
["4 digit",78,null,null,3364,null,null,null,null,null,"Aerospace Product and Parts Manufacturing",null,{"$f":"MIN(IF($E$290:$E$649>=$E101*100,IF($E$290:$E$649<($E101+1)*100,$L$290:$L$649)))","v":4.75},{"$f":"MAX(IF($E$290:$E$649>=$E101*100,IF($E$290:$E$649<($E101+1)*100,$L$290:$L$649)))","v":141},136.25]
["4 digit",79,null,null,3365,null,null,null,null,null,"Railroad Rolling Stock Manufacturing",null,{"$f":"MIN(IF($E$290:$E$649>=$E102*100,IF($E$290:$E$649<($E102+1)*100,$L$290:$L$649)))","v":61.7},{"$f":"MAX(IF($E$290:$E$649>=$E102*100,IF($E$290:$E$649<($E102+1)*100,$L$290:$L$649)))","v":61.7},1]
["4 digit",80,null,null,3366,null,null,null,null,null,"Ship and Boat Building",null,{"$f":"MIN(IF($E$290:$E$649>=$E103*100,IF($E$290:$E$649<($E103+1)*100,$L$290:$L$649)))","v":130},{"$f":"MAX(IF($E$290:$E$649>=$E103*100,IF($E$290:$E$649<($E103+1)*100,$L$290:$L$649)))","v":164},34]
["4 digit",81,null,null,3369,null,null,null,null,null,"Other Transportation Equipment Manufacturing",null,{"$f":"MIN(IF($E$290:$E$649>=$E104*100,IF($E$290:$E$649<($E104+1)*100,$L$290:$L$649)))","v":44.6},{"$f":"MAX(IF($E$290:$E$649>=$E104*100,IF($E$290:$E$649<($E104+1)*100,$L$290:$L$649)))","v":80},35.4]
["4 digit",82,null,null,3371,null,null,null,null,{"$f":"LEFT(E105,3)","v":"337"},"Household and Institutional Furniture and Kitchen Cabinet Manufacturing",null,{"$f":"MIN(IF($E$290:$E$649>=$E105*100,IF($E$290:$E$649<($E105+1)*100,$L$290:$L$649)))","v":63.7},{"$f":"MAX(IF($E$290:$E$649>=$E105*100,IF($E$290:$E$649<($E105+1)*100,$L$290:$L$649)))","v":934},870.3]
["4 digit",83,null,null,3372,null,null,null,null,null,"Office Furniture (including Fixtures) Manufacturing",null,{"$f":"MIN(IF($E$290:$E$649>=$E106*100,IF($E$290:$E$649<($E106+1)*100,$L$290:$L$649)))","v":142},{"$f":"MAX(IF($E$290:$E$649>=$E106*100,IF($E$290:$E$649<($E106+1)*100,$L$290:$L$649)))","v":178},36]
["4 digit",84,null,null,3379,null,null,null,null,null,"Other Furniture Related Product Manufacturing",null,{"$f":"MIN(IF($E$290:$E$649>=$E107*100,IF($E$290:$E$649<($E107+1)*100,$L$290:$L$649)))","v":73.599999999999994},{"$f":"MAX(IF($E$290:$E$649>=$E107*100,IF($E$290:$E$649<($E107+1)*100,$L$290:$L$649)))","v":89.9},16.300000000000011]
["4 digit",85,null,null,3391,null,null,null,null,{"$f":"LEFT(E108,3)","v":"339"},"Medical Equipment and Supplies Manufacturing",null,{"$f":"MIN(IF($E$290:$E$649>=$E108*100,IF($E$290:$E$649<($E108+1)*100,$L$290:$L$649)))","v":10},{"$f":"MAX(IF($E$290:$E$649>=$E108*100,IF($E$290:$E$649<($E108+1)*100,$L$290:$L$649)))","v":72.2},62.2]
["4 digit",86,null,null,3399,null,null,null,null,null,"Other Miscellaneous Manufacturing",null,{"$f":"MIN(IF($E$290:$E$649>=$E109*100,IF($E$290:$E$649<($E109+1)*100,$L$290:$L$649)))","v":0.13600000000000001},{"$f":"MAX(IF($E$290:$E$649>=$E109*100,IF($E$290:$E$649<($E109+1)*100,$L$290:$L$649)))","v":651},650.86400000000003]
["5 digit",1,null,null,31111,null,null,null,{"$f":"LEFT(E110,3)","v":"311"},{"$f":"LEFT(E110,4)","v":"3111"},"Animal Food Manufacturing",null,{"$f":"MIN(IF($E$290:$E$649>=$E110*10,IF($E$290:$E$649<($E110+1)*10,$L$290:$L$649)))","v":5270},{"$f":"MAX(IF($E$290:$E$649>=$E110*10,IF($E$290:$E$649<($E110+1)*10,$L$290:$L$649)))","v":12200},6930]
["5 digit",2,null,null,31121,null,null,null,null,{"$f":"LEFT(E111,4)","v":"3112"},"Flour Milling and Malt Manufacturing",null,{"$f":"MIN(IF($E$290:$E$649>=$E111*10,IF($E$290:$E$649<($E111+1)*10,$L$290:$L$649)))","v":121},{"$f":"MAX(IF($E$290:$E$649>=$E111*10,IF($E$290:$E$649<($E111+1)*10,$L$290:$L$649)))","v":121},1]
["5 digit",3,null,null,31122,null,null,null,null,null,"Starch and Vegetable Fats and Oils Manufacturing",null,{"$f":"MIN(IF($E$290:$E$649>=$E112*10,IF($E$290:$E$649<($E112+1)*10,$L$290:$L$649)))","v":236},{"$f":"MAX(IF($E$290:$E$649>=$E112*10,IF($E$290:$E$649<($E112+1)*10,$L$290:$L$649)))","v":1160},924]
["5 digit",4,null,null,31123,null,null,null,null,null,"Breakfast Cereal Manufacturing",null,{"$f":"MIN(IF($E$290:$E$649>=$E113*10,IF($E$290:$E$649<($E113+1)*10,$L$290:$L$649)))","v":91.2},{"$f":"MAX(IF($E$290:$E$649>=$E113*10,IF($E$290:$E$649<($E113+1)*10,$L$290:$L$649)))","v":91.2},1]
["5 digit",5,null,null,31131,null,null,null,null,{"$f":"LEFT(E114,4)","v":"3113"},"Sugar Manufacturing",null,{"$f":"MIN(IF($E$290:$E$649>=$E114*10,IF($E$290:$E$649<($E114+1)*10,$L$290:$L$649)))","v":82.6},{"$f":"MAX(IF($E$290:$E$649>=$E114*10,IF($E$290:$E$649<($E114+1)*10,$L$290:$L$649)))","v":82.6},1]
["5 digit",6,null,null,31134,null,null,null,null,null,"Nonchocolate Confectionery Manufacturing",null,{"$f":"MIN(IF($E$290:$E$649>=$E115*10,IF($E$290:$E$649<($E115+1)*10,$L$290:$L$649)))","v":96.8},{"$f":"MAX(IF($E$290:$E$649>=$E115*10,IF($E$290:$E$649<($E115+1)*10,$L$290:$L$649)))","v":96.8},1]
["5 digit",7,null,null,31135,null,null,null,null,null,"Chocolate and Confectionery Manufacturing",null,{"$f":"MIN(IF($E$290:$E$649>=$E116*10,IF($E$290:$E$649<($E116+1)*10,$L$290:$L$649)))","v":0},{"$f":"MAX(IF($E$290:$E$649>=$E116*10,IF($E$290:$E$649<($E116+1)*10,$L$290:$L$649)))","v":0},1]
["5 digit",8,null,null,31141,null,null,null,null,{"$f":"LEFT(E117,4)","v":"3114"},"Frozen Food Manufacturing",null,{"$f":"MIN(IF($E$290:$E$649>=$E117*10,IF($E$290:$E$649<($E117+1)*10,$L$290:$L$649)))","v":270},{"$f":"MAX(IF($E$290:$E$649>=$E117*10,IF($E$290:$E$649<($E117+1)*10,$L$290:$L$649)))","v":270},1]
["5 digit",9,null,null,31142,null,null,null,null,null,"Fruit and Vegetable Canning, Pickling, and Drying",null,{"$f":"MIN(IF($E$290:$E$649>=$E118*10,IF($E$290:$E$649<($E118+1)*10,$L$290:$L$649)))","v":12400},{"$f":"MAX(IF($E$290:$E$649>=$E118*10,IF($E$290:$E$649<($E118+1)*10,$L$290:$L$649)))","v":12400},1]
["5 digit",10,null,null,31151,null,null,null,null,{"$f":"LEFT(E119,4)","v":"3115"},"Dairy Product (except Frozen) Manufacturing",null,{"$f":"MIN(IF($E$290:$E$649>=$E119*10,IF($E$290:$E$649<($E119+1)*10,$L$290:$L$649)))","v":187},{"$f":"MAX(IF($E$290:$E$649>=$E119*10,IF($E$290:$E$649<($E119+1)*10,$L$290:$L$649)))","v":13200},13013]
["5 digit",11,null,null,31152,null,null,null,null,null,"Ice Cream and Frozen Dessert Manufacturing",null,{"$f":"MIN(IF($E$290:$E$649>=$E120*10,IF($E$290:$E$649<($E120+1)*10,$L$290:$L$649)))","v":191},{"$f":"MAX(IF($E$290:$E$649>=$E120*10,IF($E$290:$E$649<($E120+1)*10,$L$290:$L$649)))","v":191},1]
["5 digit",12,null,null,31161,null,null,null,null,{"$f":"LEFT(E121,4)","v":"3116"},"Animal Slaughtering and Processing",null,{"$f":"MIN(IF($E$290:$E$649>=$E121*10,IF($E$290:$E$649<($E121+1)*10,$L$290:$L$649)))","v":16500},{"$f":"MAX(IF($E$290:$E$649>=$E121*10,IF($E$290:$E$649<($E121+1)*10,$L$290:$L$649)))","v":16500},1]
["5 digit",13,null,null,31171,null,null,null,null,{"$f":"LEFT(E122,4)","v":"3117"},"Seafood Product Preparation and Packaging",null,{"$f":"MIN(IF($E$290:$E$649>=$E122*10,IF($E$290:$E$649<($E122+1)*10,$L$290:$L$649)))","v":243},{"$f":"MAX(IF($E$290:$E$649>=$E122*10,IF($E$290:$E$649<($E122+1)*10,$L$290:$L$649)))","v":243},1]
["5 digit",14,null,null,31181,null,null,null,null,{"$f":"LEFT(E123,4)","v":"3118"},"Bread and Bakery Product Manufacturing",null,{"$f":"MIN(IF($E$290:$E$649>=$E123*10,IF($E$290:$E$649<($E123+1)*10,$L$290:$L$649)))","v":667},{"$f":"MAX(IF($E$290:$E$649>=$E123*10,IF($E$290:$E$649<($E123+1)*10,$L$290:$L$649)))","v":667},1]
["5 digit",15,null,null,31182,null,null,null,null,null,"Cookie, Cracker, and Pasta Manufacturing",null,{"$f":"MIN(IF($E$290:$E$649>=$E124*10,IF($E$290:$E$649<($E124+1)*10,$L$290:$L$649)))","v":97.8},{"$f":"MAX(IF($E$290:$E$649>=$E124*10,IF($E$290:$E$649<($E124+1)*10,$L$290:$L$649)))","v":97.8},1]
["5 digit",16,null,null,31183,null,null,null,null,null,"Tortilla Manufacturing",null,{"$f":"MIN(IF($E$290:$E$649>=$E125*10,IF($E$290:$E$649<($E125+1)*10,$L$290:$L$649)))","v":200},{"$f":"MAX(IF($E$290:$E$649>=$E125*10,IF($E$290:$E$649<($E125+1)*10,$L$290:$L$649)))","v":200},1]
["5 digit",17,null,null,31191,null,null,null,null,{"$f":"LEFT(E126,4)","v":"3119"},"Snack Food Manufacturing",null,{"$f":"MIN(IF($E$290:$E$649>=$E126*10,IF($E$290:$E$649<($E126+1)*10,$L$290:$L$649)))","v":188},{"$f":"MAX(IF($E$290:$E$649>=$E126*10,IF($E$290:$E$649<($E126+1)*10,$L$290:$L$649)))","v":188},1]
["5 digit",18,null,null,31192,null,null,null,null,null,"Coffee and Tea Manufacturing",null,{"$f":"MIN(IF($E$290:$E$649>=$E127*10,IF($E$290:$E$649<($E127+1)*10,$L$290:$L$649)))","v":138},{"$f":"MAX(IF($E$290:$E$649>=$E127*10,IF($E$290:$E$649<($E127+1)*10,$L$290:$L$649)))","v":138},1]
["5 digit",19,null,null,31193,null,null,null,null,null,"Flavoring Syrup and Concentrate Manufacturing",null,{"$f":"MIN(IF($E$290:$E$649>=$E128*10,IF($E$290:$E$649<($E128+1)*10,$L$290:$L$649)))","v":127},{"$f":"MAX(IF($E$290:$E$649>=$E128*10,IF($E$290:$E$649<($E128+1)*10,$L$290:$L$649)))","v":127},1]
["5 digit",20,null,null,31194,null,null,null,null,null,"Seasoning and Dressing Manufacturing",null,{"$f":"MIN(IF($E$290:$E$649>=$E129*10,IF($E$290:$E$649<($E129+1)*10,$L$290:$L$649)))","v":460},{"$f":"MAX(IF($E$290:$E$649>=$E129*10,IF($E$290:$E$649<($E129+1)*10,$L$290:$L$649)))","v":460},1]
["5 digit",21,null,null,31199,null,null,null,null,null,"All Other Food Manufacturing",null,{"$f":"MIN(IF($E$290:$E$649>=$E130*10,IF($E$290:$E$649<($E130+1)*10,$L$290:$L$649)))","v":227},{"$f":"MAX(IF($E$290:$E$649>=$E130*10,IF($E$290:$E$649<($E130+1)*10,$L$290:$L$649)))","v":227},1]
["5 digit",22,null,null,31211,null,null,null,{"$f":"LEFT(E131,3)","v":"312"},{"$f":"LEFT(E131,4)","v":"3121"},"Soft Drink and Ice Manufacturing",null,{"$f":"MIN(IF($E$290:$E$649>=$E131*10,IF($E$290:$E$649<($E131+1)*10,$L$290:$L$649)))","v":199},{"$f":"MAX(IF($E$290:$E$649>=$E131*10,IF($E$290:$E$649<($E131+1)*10,$L$290:$L$649)))","v":199},1]
["5 digit",23,null,null,31212,null,null,null,null,null,"Breweries",null,{"$f":"MIN(IF($E$290:$E$649>=$E132*10,IF($E$290:$E$649<($E132+1)*10,$L$290:$L$649)))","v":5640},{"$f":"MAX(IF($E$290:$E$649>=$E132*10,IF($E$290:$E$649<($E132+1)*10,$L$290:$L$649)))","v":5640},{"$f":"MAX(N132-M132,1)","v":1}]
["5 digit",24,null,null,31213,null,null,null,null,null,"Wineries",null,{"$f":"MIN(IF($E$290:$E$649>=$E133*10,IF($E$290:$E$649<($E133+1)*10,$L$290:$L$649)))","v":39600},{"$f":"MAX(IF($E$290:$E$649>=$E133*10,IF($E$290:$E$649<($E133+1)*10,$L$290:$L$649)))","v":39600},1]
["5 digit",25,null,null,31214,null,null,null,null,null,"Distilleries",null,{"$f":"MIN(IF($E$290:$E$649>=$E134*10,IF($E$290:$E$649<($E134+1)*10,$L$290:$L$649)))","v":14800},{"$f":"MAX(IF($E$290:$E$649>=$E134*10,IF($E$290:$E$649<($E134+1)*10,$L$290:$L$649)))","v":14800},1]
["5 digit",26,null,null,31223,null,null,null,null,{"$f":"LEFT(E135,4)","v":"3122"},"Tobacco Manufacturing",null,{"$f":"MIN(IF($E$290:$E$649>=$E135*10,IF($E$290:$E$649<($E135+1)*10,$L$290:$L$649)))","v":0},{"$f":"MAX(IF($E$290:$E$649>=$E135*10,IF($E$290:$E$649<($E135+1)*10,$L$290:$L$649)))","v":0},1]
["5 digit",27,null,null,31311,null,null,null,{"$f":"LEFT(E136,3)","v":"313"},{"$f":"LEFT(E136,4)","v":"3131"},"Fiber, Yarn, and Thread Mills",null,{"$f":"MIN(IF($E$290:$E$649>=$E136*10,IF($E$290:$E$649<($E136+1)*10,$L$290:$L$649)))","v":4610},{"$f":"MAX(IF($E$290:$E$649>=$E136*10,IF($E$290:$E$649<($E136+1)*10,$L$290:$L$649)))","v":4610},1]
["5 digit",28,null,null,31321,null,null,null,null,{"$f":"LEFT(E137,4)","v":"3132"},"Broadwoven Fabric Mills",null,{"$f":"MIN(IF($E$290:$E$649>=$E137*10,IF($E$290:$E$649<($E137+1)*10,$L$290:$L$649)))","v":568},{"$f":"MAX(IF($E$290:$E$649>=$E137*10,IF($E$290:$E$649<($E137+1)*10,$L$290:$L$649)))","v":568},1]
["5 digit",29,null,null,31322,null,null,null,null,null,"Narrow Fabric Mills and Schiffli Machine Embroidery",null,{"$f":"MIN(IF($E$290:$E$649>=$E138*10,IF($E$290:$E$649<($E138+1)*10,$L$290:$L$649)))","v":221},{"$f":"MAX(IF($E$290:$E$649>=$E138*10,IF($E$290:$E$649<($E138+1)*10,$L$290:$L$649)))","v":221},1]
["5 digit",30,null,null,31323,null,null,null,null,null,"Nonwoven Fabric Mills",null,{"$f":"MIN(IF($E$290:$E$649>=$E139*10,IF($E$290:$E$649<($E139+1)*10,$L$290:$L$649)))","v":252},{"$f":"MAX(IF($E$290:$E$649>=$E139*10,IF($E$290:$E$649<($E139+1)*10,$L$290:$L$649)))","v":252},1]
["5 digit",31,null,null,31324,null,null,null,null,null,"Knit Fabric Mills",null,{"$f":"MIN(IF($E$290:$E$649>=$E140*10,IF($E$290:$E$649<($E140+1)*10,$L$290:$L$649)))","v":942},{"$f":"MAX(IF($E$290:$E$649>=$E140*10,IF($E$290:$E$649<($E140+1)*10,$L$290:$L$649)))","v":942},1]
["5 digit",32,null,null,31331,null,null,null,null,{"$f":"LEFT(E141,4)","v":"3133"},"Textile and Fabric Finishing Mills",null,{"$f":"MIN(IF($E$290:$E$649>=$E141*10,IF($E$290:$E$649<($E141+1)*10,$L$290:$L$649)))","v":519},{"$f":"MAX(IF($E$290:$E$649>=$E141*10,IF($E$290:$E$649<($E141+1)*10,$L$290:$L$649)))","v":519},1]
["5 digit",33,null,null,31332,null,null,null,null,null,"Fabric Coating Mills",null,{"$f":"MIN(IF($E$290:$E$649>=$E142*10,IF($E$290:$E$649<($E142+1)*10,$L$290:$L$649)))","v":314},{"$f":"MAX(IF($E$290:$E$649>=$E142*10,IF($E$290:$E$649<($E142+1)*10,$L$290:$L$649)))","v":314},1]
["5 digit",34,null,null,31411,null,null,null,{"$f":"LEFT(E143,3)","v":"314"},{"$f":"LEFT(E143,4)","v":"3141"},"Carpet and Rug Mills",null,{"$f":"MIN(IF($E$290:$E$649>=$E143*10,IF($E$290:$E$649<($E143+1)*10,$L$290:$L$649)))","v":136},{"$f":"MAX(IF($E$290:$E$649>=$E143*10,IF($E$290:$E$649<($E143+1)*10,$L$290:$L$649)))","v":136},1]
["5 digit",35,null,null,31412,null,null,null,null,null,"Curtain and Linen Mills",null,{"$f":"MIN(IF($E$290:$E$649>=$E144*10,IF($E$290:$E$649<($E144+1)*10,$L$290:$L$649)))","v":41.3},{"$f":"MAX(IF($E$290:$E$649>=$E144*10,IF($E$290:$E$649<($E144+1)*10,$L$290:$L$649)))","v":41.3},1]
["5 digit",36,null,null,31491,null,null,null,null,{"$f":"LEFT(E145,4)","v":"3149"},"Textile Bag and Canvas Mills",null,{"$f":"MIN(IF($E$290:$E$649>=$E145*10,IF($E$290:$E$649<($E145+1)*10,$L$290:$L$649)))","v":84.7},{"$f":"MAX(IF($E$290:$E$649>=$E145*10,IF($E$290:$E$649<($E145+1)*10,$L$290:$L$649)))","v":84.7},1]
["5 digit",37,null,null,31499,null,null,null,null,null,"All Other Textile Product Mills",null,{"$f":"MIN(IF($E$290:$E$649>=$E146*10,IF($E$290:$E$649<($E146+1)*10,$L$290:$L$649)))","v":173},{"$f":"MAX(IF($E$290:$E$649>=$E146*10,IF($E$290:$E$649<($E146+1)*10,$L$290:$L$649)))","v":173},1]
["5 digit",38,null,null,31511,null,null,null,{"$f":"LEFT(E147,3)","v":"315"},{"$f":"LEFT(E147,4)","v":"3151"},"Hosiery and Sock Mills",null,{"$f":"MIN(IF($E$290:$E$649>=$E147*10,IF($E$290:$E$649<($E147+1)*10,$L$290:$L$649)))","v":459},{"$f":"MAX(IF($E$290:$E$649>=$E147*10,IF($E$290:$E$649<($E147+1)*10,$L$290:$L$649)))","v":459},1]
["5 digit",39,null,null,31519,null,null,null,null,null,"Other Apparel Knitting Mills",null,{"$f":"MIN(IF($E$290:$E$649>=$E148*10,IF($E$290:$E$649<($E148+1)*10,$L$290:$L$649)))","v":459},{"$f":"MAX(IF($E$290:$E$649>=$E148*10,IF($E$290:$E$649<($E148+1)*10,$L$290:$L$649)))","v":459},1]
["5 digit",40,null,null,31521,null,null,null,null,{"$f":"LEFT(E149,4)","v":"3152"},"Cut and Sew Apparel Contractors ",null,{"$f":"MIN(IF($E$290:$E$649>=$E149*10,IF($E$290:$E$649<($E149+1)*10,$L$290:$L$649)))","v":95.3},{"$f":"MAX(IF($E$290:$E$649>=$E149*10,IF($E$290:$E$649<($E149+1)*10,$L$290:$L$649)))","v":95.3},1]
["5 digit",41,null,null,31522,null,null,null,null,null,"Men’s and Boys’ Cut and Sew Apparel Manufacturing ",null,{"$f":"MIN(IF($E$290:$E$649>=$E150*10,IF($E$290:$E$649<($E150+1)*10,$L$290:$L$649)))","v":61.2},{"$f":"MAX(IF($E$290:$E$649>=$E150*10,IF($E$290:$E$649<($E150+1)*10,$L$290:$L$649)))","v":61.2},1]
["5 digit",42,null,null,31524,null,null,null,null,null,"Women’s, Girls’, and Infants’ Cut and Sew Apparel Manufacturing",null,{"$f":"MIN(IF($E$290:$E$649>=$E151*10,IF($E$290:$E$649<($E151+1)*10,$L$290:$L$649)))","v":0},{"$f":"MAX(IF($E$290:$E$649>=$E151*10,IF($E$290:$E$649<($E151+1)*10,$L$290:$L$649)))","v":0},1]
["5 digit",43,null,null,31528,null,null,null,null,null,"Other Cut and Sew Apparel Manufacturing ",null,{"$f":"MIN(IF($E$290:$E$649>=$E152*10,IF($E$290:$E$649<($E152+1)*10,$L$290:$L$649)))","v":0},{"$f":"MAX(IF($E$290:$E$649>=$E152*10,IF($E$290:$E$649<($E152+1)*10,$L$290:$L$649)))","v":0},1]
["5 digit",44,null,null,31599,null,null,null,null,{"$f":"LEFT(E153,4)","v":"3159"},"Apparel Accessories and Other Apparel Manufacturing",null,{"$f":"MIN(IF($E$290:$E$649>=$E153*10,IF($E$290:$E$649<($E153+1)*10,$L$290:$L$649)))","v":126},{"$f":"MAX(IF($E$290:$E$649>=$E153*10,IF($E$290:$E$649<($E153+1)*10,$L$290:$L$649)))","v":126},1]
["5 digit",45,null,null,31611,null,null,null,{"$f":"LEFT(E154,3)","v":"316"},"3161","Leather and Hide Tanning and Finishing",null,{"$f":"MIN(IF($E$290:$E$649>=$E154*10,IF($E$290:$E$649<($E154+1)*10,$L$290:$L$649)))","v":3380},{"$f":"MAX(IF($E$290:$E$649>=$E154*10,IF($E$290:$E$649<($E154+1)*10,$L$290:$L$649)))","v":3380},1]
["5 digit",46,null,null,31621,null,null,null,null,"3162","Footwear Manufacturing",null,{"$f":"MIN(IF($E$290:$E$649>=$E155*10,IF($E$290:$E$649<($E155+1)*10,$L$290:$L$649)))","v":114},{"$f":"MAX(IF($E$290:$E$649>=$E155*10,IF($E$290:$E$649<($E155+1)*10,$L$290:$L$649)))","v":114},1]
["5 digit",47,null,null,31699,null,null,null,null,"3169","Other Leather and Allied Product Manufacturing",null,{"$f":"MIN(IF($E$290:$E$649>=$E156*10,IF($E$290:$E$649<($E156+1)*10,$L$290:$L$649)))","v":59.9},{"$f":"MAX(IF($E$290:$E$649>=$E156*10,IF($E$290:$E$649<($E156+1)*10,$L$290:$L$649)))","v":59.9},1]
["5 digit",48,null,null,32111,null,null,null,{"$f":"LEFT(E157,3)","v":"321"},"3211","Sawmills and Wood Preservation",null,{"$f":"MIN(IF($E$290:$E$649>=$E157*10,IF($E$290:$E$649<($E157+1)*10,$L$290:$L$649)))","v":785},{"$f":"MAX(IF($E$290:$E$649>=$E157*10,IF($E$290:$E$649<($E157+1)*10,$L$290:$L$649)))","v":785},1]
["5 digit",49,null,null,32121,null,null,null,null,"3212","Veneer, Plywood, and Engineered Wood Product Manufacturing",null,{"$f":"MIN(IF($E$290:$E$649>=$E158*10,IF($E$290:$E$649<($E158+1)*10,$L$290:$L$649)))","v":219},{"$f":"MAX(IF($E$290:$E$649>=$E158*10,IF($E$290:$E$649<($E158+1)*10,$L$290:$L$649)))","v":219},1]
["5 digit",50,null,null,32191,null,null,null,null,"3219","Millwork",null,{"$f":"MIN(IF($E$290:$E$649>=$E159*10,IF($E$290:$E$649<($E159+1)*10,$L$290:$L$649)))","v":204},{"$f":"MAX(IF($E$290:$E$649>=$E159*10,IF($E$290:$E$649<($E159+1)*10,$L$290:$L$649)))","v":204},1]
["5 digit",51,null,null,32192,null,null,null,null,null,"Wood Container and Pallet Manufacturing",null,{"$f":"MIN(IF($E$290:$E$649>=$E160*10,IF($E$290:$E$649<($E160+1)*10,$L$290:$L$649)))","v":131},{"$f":"MAX(IF($E$290:$E$649>=$E160*10,IF($E$290:$E$649<($E160+1)*10,$L$290:$L$649)))","v":131},1]
["5 digit",52,null,null,32199,null,null,null,null,null,"All Other Wood Product Manufacturing",null,{"$f":"MIN(IF($E$290:$E$649>=$E161*10,IF($E$290:$E$649<($E161+1)*10,$L$290:$L$649)))","v":170},{"$f":"MAX(IF($E$290:$E$649>=$E161*10,IF($E$290:$E$649<($E161+1)*10,$L$290:$L$649)))","v":422},252]
["5 digit",53,null,null,32211,null,null,null,{"$f":"LEFT(E162,3)","v":"322"},{"$f":"LEFT(E162,4)","v":"3221"},"Pulp Mills",null,{"$f":"MIN(IF($E$290:$E$649>=$E162*10,IF($E$290:$E$649<($E162+1)*10,$L$290:$L$649)))","v":7830},{"$f":"MAX(IF($E$290:$E$649>=$E162*10,IF($E$290:$E$649<($E162+1)*10,$L$290:$L$649)))","v":7830},1]
["5 digit",54,null,null,32212,null,null,null,null,null,"Paper Mills",null,{"$f":"MIN(IF($E$290:$E$649>=$E163*10,IF($E$290:$E$649<($E163+1)*10,$L$290:$L$649)))","v":13800},{"$f":"MAX(IF($E$290:$E$649>=$E163*10,IF($E$290:$E$649<($E163+1)*10,$L$290:$L$649)))","v":13800},1]
["5 digit",55,null,null,32213,null,null,null,null,null,"Paperboard Mills",null,{"$f":"MIN(IF($E$290:$E$649>=$E164*10,IF($E$290:$E$649<($E164+1)*10,$L$290:$L$649)))","v":61500},{"$f":"MAX(IF($E$290:$E$649>=$E164*10,IF($E$290:$E$649<($E164+1)*10,$L$290:$L$649)))","v":61500},1]
["5 digit",56,null,null,32221,null,null,null,null,{"$f":"LEFT(E165,4)","v":"3222"},"Paperboard Container Manufacturing",null,{"$f":"MIN(IF($E$290:$E$649>=$E165*10,IF($E$290:$E$649<($E165+1)*10,$L$290:$L$649)))","v":114},{"$f":"MAX(IF($E$290:$E$649>=$E165*10,IF($E$290:$E$649<($E165+1)*10,$L$290:$L$649)))","v":114},1]
["5 digit",57,null,null,32222,null,null,null,null,null,"Paper Bag and Coated and Treated Paper Manufacturing",null,{"$f":"MIN(IF($E$290:$E$649>=$E166*10,IF($E$290:$E$649<($E166+1)*10,$L$290:$L$649)))","v":0},{"$f":"MAX(IF($E$290:$E$649>=$E166*10,IF($E$290:$E$649<($E166+1)*10,$L$290:$L$649)))","v":0},1]
["5 digit",58,null,null,32223,null,null,null,null,null,"Stationery Product Manufacturing",null,{"$f":"MIN(IF($E$290:$E$649>=$E167*10,IF($E$290:$E$649<($E167+1)*10,$L$290:$L$649)))","v":61.3},{"$f":"MAX(IF($E$290:$E$649>=$E167*10,IF($E$290:$E$649<($E167+1)*10,$L$290:$L$649)))","v":61.3},1]
["5 digit",59,null,null,32229,null,null,null,null,null,"Other Converted Paper Product Manufacturing",null,{"$f":"MIN(IF($E$290:$E$649>=$E168*10,IF($E$290:$E$649<($E168+1)*10,$L$290:$L$649)))","v":43.2},{"$f":"MAX(IF($E$290:$E$649>=$E168*10,IF($E$290:$E$649<($E168+1)*10,$L$290:$L$649)))","v":312},268.8]
["5 digit",60,null,null,32311,null,null,null,{"$f":"LEFT(E169,3)","v":"323"},{"$f":"LEFT(E169,4)","v":"3231"},"Printing",null,{"$f":"MIN(IF($E$290:$E$649>=$E169*10,IF($E$290:$E$649<($E169+1)*10,$L$290:$L$649)))","v":207},{"$f":"MAX(IF($E$290:$E$649>=$E169*10,IF($E$290:$E$649<($E169+1)*10,$L$290:$L$649)))","v":207},1]
["5 digit",61,null,null,32312,null,null,null,null,null,"Support Activities for Printing",null,{"$f":"MIN(IF($E$290:$E$649>=$E170*10,IF($E$290:$E$649<($E170+1)*10,$L$290:$L$649)))","v":92.1},{"$f":"MAX(IF($E$290:$E$649>=$E170*10,IF($E$290:$E$649<($E170+1)*10,$L$290:$L$649)))","v":92.1},1]
["5 digit",62,null,null,32411,null,null,null,{"$f":"LEFT(E171,3)","v":"324"},{"$f":"LEFT(E171,4)","v":"3241"},"Petroleum Refineries",null,{"$f":"MIN(IF($E$290:$E$649>=$E171*10,IF($E$290:$E$649<($E171+1)*10,$L$290:$L$649)))","v":2650},{"$f":"MAX(IF($E$290:$E$649>=$E171*10,IF($E$290:$E$649<($E171+1)*10,$L$290:$L$649)))","v":2650},1]
["5 digit",63,null,null,32412,null,null,null,null,null,"Asphalt Paving, Roofing, and Saturated Materials Manufacturing",null,{"$f":"MIN(IF($E$290:$E$649>=$E172*10,IF($E$290:$E$649<($E172+1)*10,$L$290:$L$649)))","v":28.9},{"$f":"MAX(IF($E$290:$E$649>=$E172*10,IF($E$290:$E$649<($E172+1)*10,$L$290:$L$649)))","v":354},325.10000000000002]
["5 digit",64,null,null,32419,null,null,null,null,null,"Other Petroleum and Coal Products Manufacturing",null,{"$f":"MIN(IF($E$290:$E$649>=$E173*10,IF($E$290:$E$649<($E173+1)*10,$L$290:$L$649)))","v":75.8},{"$f":"MAX(IF($E$290:$E$649>=$E173*10,IF($E$290:$E$649<($E173+1)*10,$L$290:$L$649)))","v":129},53.2]
["5 digit",65,null,null,32511,null,null,null,{"$f":"LEFT(E174,3)","v":"325"},{"$f":"LEFT(E174,4)","v":"3251"},"Petrochemical Manufacturing",null,{"$f":"MIN(IF($E$290:$E$649>=$E174*10,IF($E$290:$E$649<($E174+1)*10,$L$290:$L$649)))","v":2830},{"$f":"MAX(IF($E$290:$E$649>=$E174*10,IF($E$290:$E$649<($E174+1)*10,$L$290:$L$649)))","v":2830},1]
["5 digit",66,null,null,32512,null,null,null,null,null,"Industrial Gas Manufacturing",null,{"$f":"MIN(IF($E$290:$E$649>=$E175*10,IF($E$290:$E$649<($E175+1)*10,$L$290:$L$649)))","v":19600},{"$f":"MAX(IF($E$290:$E$649>=$E175*10,IF($E$290:$E$649<($E175+1)*10,$L$290:$L$649)))","v":19600},1]
["5 digit",67,null,null,32513,null,null,null,null,null,"Synthetic Dye and Pigment Manufacturing",null,{"$f":"MIN(IF($E$290:$E$649>=$E176*10,IF($E$290:$E$649<($E176+1)*10,$L$290:$L$649)))","v":25200},{"$f":"MAX(IF($E$290:$E$649>=$E176*10,IF($E$290:$E$649<($E176+1)*10,$L$290:$L$649)))","v":25200},1]
["5 digit",68,null,null,32518,null,null,null,null,null,"Other Basic Inorganic Chemical Manufacturing",null,{"$f":"MIN(IF($E$290:$E$649>=$E177*10,IF($E$290:$E$649<($E177+1)*10,$L$290:$L$649)))","v":0},{"$f":"MAX(IF($E$290:$E$649>=$E177*10,IF($E$290:$E$649<($E177+1)*10,$L$290:$L$649)))","v":0},1]
["5 digit",69,null,null,32519,null,null,null,null,null,"Other Basic Organic Chemical Manufacturing",null,{"$f":"MIN(IF($E$290:$E$649>=$E178*10,IF($E$290:$E$649<($E178+1)*10,$L$290:$L$649)))","v":13700},{"$f":"MAX(IF($E$290:$E$649>=$E178*10,IF($E$290:$E$649<($E178+1)*10,$L$290:$L$649)))","v":13700},1]
["5 digit",70,null,null,32521,null,null,null,null,{"$f":"LEFT(E179,4)","v":"3252"},"Resin and Synthetic Rubber Manufacturing",null,{"$f":"MIN(IF($E$290:$E$649>=$E179*10,IF($E$290:$E$649<($E179+1)*10,$L$290:$L$649)))","v":56.1},{"$f":"MAX(IF($E$290:$E$649>=$E179*10,IF($E$290:$E$649<($E179+1)*10,$L$290:$L$649)))","v":118},61.9]
["5 digit",71,null,null,32522,null,null,null,null,null,"Artificial and Synthetic Fibers and Filaments Manufacturing",null,{"$f":"MIN(IF($E$290:$E$649>=$E180*10,IF($E$290:$E$649<($E180+1)*10,$L$290:$L$649)))","v":154},{"$f":"MAX(IF($E$290:$E$649>=$E180*10,IF($E$290:$E$649<($E180+1)*10,$L$290:$L$649)))","v":154},1]
["5 digit",72,null,null,32531,null,null,null,null,"3253","Fertilizer Manufacturing",null,{"$f":"MIN(IF($E$290:$E$649>=$E181*10,IF($E$290:$E$649<($E181+1)*10,$L$290:$L$649)))","v":506},{"$f":"MAX(IF($E$290:$E$649>=$E181*10,IF($E$290:$E$649<($E181+1)*10,$L$290:$L$649)))","v":506},1]
["5 digit",73,null,null,32532,null,null,null,null,null,"Pesticide and Other Agricultural Chemical Manufacturing",null,{"$f":"MIN(IF($E$290:$E$649>=$E182*10,IF($E$290:$E$649<($E182+1)*10,$L$290:$L$649)))","v":411},{"$f":"MAX(IF($E$290:$E$649>=$E182*10,IF($E$290:$E$649<($E182+1)*10,$L$290:$L$649)))","v":411},1]
["5 digit",74,null,null,32541,null,null,null,null,"3254","Pharmaceutical and Medicine Manufacturing",null,{"$f":"MIN(IF($E$290:$E$649>=$E183*10,IF($E$290:$E$649<($E183+1)*10,$L$290:$L$649)))","v":2.4E-2},{"$f":"MAX(IF($E$290:$E$649>=$E183*10,IF($E$290:$E$649<($E183+1)*10,$L$290:$L$649)))","v":1.53},1.506]
["5 digit",75,null,null,32551,null,null,null,null,"3255","Paint and Coating Manufacturing",null,{"$f":"MIN(IF($E$290:$E$649>=$E184*10,IF($E$290:$E$649<($E184+1)*10,$L$290:$L$649)))","v":3680},{"$f":"MAX(IF($E$290:$E$649>=$E184*10,IF($E$290:$E$649<($E184+1)*10,$L$290:$L$649)))","v":3680},1]
["5 digit",76,null,null,32552,null,null,null,null,null,"Adhesive Manufacturing",null,{"$f":"MIN(IF($E$290:$E$649>=$E185*10,IF($E$290:$E$649<($E185+1)*10,$L$290:$L$649)))","v":829},{"$f":"MAX(IF($E$290:$E$649>=$E185*10,IF($E$290:$E$649<($E185+1)*10,$L$290:$L$649)))","v":829},1]
["5 digit",77,null,null,32561,null,null,null,null,"3256","Soap and Cleaning Compound Manufacturing",null,{"$f":"MIN(IF($E$290:$E$649>=$E186*10,IF($E$290:$E$649<($E186+1)*10,$L$290:$L$649)))","v":345},{"$f":"MAX(IF($E$290:$E$649>=$E186*10,IF($E$290:$E$649<($E186+1)*10,$L$290:$L$649)))","v":345},1]
["5 digit",78,null,null,32562,null,null,null,null,null,"Toilet Preparation Manufacturing",null,{"$f":"MIN(IF($E$290:$E$649>=$E187*10,IF($E$290:$E$649<($E187+1)*10,$L$290:$L$649)))","v":3.89},{"$f":"MAX(IF($E$290:$E$649>=$E187*10,IF($E$290:$E$649<($E187+1)*10,$L$290:$L$649)))","v":3.89},1]
["5 digit",79,null,null,32591,null,null,null,null,"3259","Printing Ink Manufacturing",null,{"$f":"MIN(IF($E$290:$E$649>=$E188*10,IF($E$290:$E$649<($E188+1)*10,$L$290:$L$649)))","v":1.0900000000000001},{"$f":"MAX(IF($E$290:$E$649>=$E188*10,IF($E$290:$E$649<($E188+1)*10,$L$290:$L$649)))","v":1.0900000000000001},1]
["5 digit",80,null,null,32592,null,null,null,null,null,"Explosives Manufacturing",null,{"$f":"MIN(IF($E$290:$E$649>=$E189*10,IF($E$290:$E$649<($E189+1)*10,$L$290:$L$649)))","v":0},{"$f":"MAX(IF($E$290:$E$649>=$E189*10,IF($E$290:$E$649<($E189+1)*10,$L$290:$L$649)))","v":0},1]
["5 digit",81,null,null,32599,null,null,null,null,null,"All Other Chemical Product and Preparation Manufacturing",null,{"$f":"MIN(IF($E$290:$E$649>=$E190*10,IF($E$290:$E$649<($E190+1)*10,$L$290:$L$649)))","v":0},{"$f":"MAX(IF($E$290:$E$649>=$E190*10,IF($E$290:$E$649<($E190+1)*10,$L$290:$L$649)))","v":0},1]
["5 digit",82,null,null,32611,null,null,null,{"$f":"LEFT(E191,3)","v":"326"},"3261","Plastics Packaging Materials and Unlaminated Film and Sheet Manufacturing",null,{"$f":"MIN(IF($E$290:$E$649>=$E191*10,IF($E$290:$E$649<($E191+1)*10,$L$290:$L$649)))","v":250},{"$f":"MAX(IF($E$290:$E$649>=$E191*10,IF($E$290:$E$649<($E191+1)*10,$L$290:$L$649)))","v":250},1]
["5 digit",83,null,null,32612,null,null,null,null,null,"Plastics Pipe, Pipe Fitting, and Unlaminated Profile Shape Manufacturing",null,{"$f":"MIN(IF($E$290:$E$649>=$E192*10,IF($E$290:$E$649<($E192+1)*10,$L$290:$L$649)))","v":87.7},{"$f":"MAX(IF($E$290:$E$649>=$E192*10,IF($E$290:$E$649<($E192+1)*10,$L$290:$L$649)))","v":138},50.3]
["5 digit",84,null,null,32613,null,null,null,null,null,"Laminated Plastics Plate, Sheet (except Packaging), and Shape Manufacturing",null,{"$f":"MIN(IF($E$290:$E$649>=$E193*10,IF($E$290:$E$649<($E193+1)*10,$L$290:$L$649)))","v":174},{"$f":"MAX(IF($E$290:$E$649>=$E193*10,IF($E$290:$E$649<($E193+1)*10,$L$290:$L$649)))","v":174},1]
["5 digit",85,null,null,32614,null,null,null,null,null,"Polystyrene Foam Product Manufacturing",null,{"$f":"MIN(IF($E$290:$E$649>=$E194*10,IF($E$290:$E$649<($E194+1)*10,$L$290:$L$649)))","v":118},{"$f":"MAX(IF($E$290:$E$649>=$E194*10,IF($E$290:$E$649<($E194+1)*10,$L$290:$L$649)))","v":118},1]
["5 digit",86,null,null,32615,null,null,null,null,null,"Urethane and Other Foam Product (except Polystyrene) Manufacturing",null,{"$f":"MIN(IF($E$290:$E$649>=$E195*10,IF($E$290:$E$649<($E195+1)*10,$L$290:$L$649)))","v":118},{"$f":"MAX(IF($E$290:$E$649>=$E195*10,IF($E$290:$E$649<($E195+1)*10,$L$290:$L$649)))","v":118},1]
["5 digit",87,null,null,32616,null,null,null,null,null,"Plastics Bottle Manufacturing",null,{"$f":"MIN(IF($E$290:$E$649>=$E196*10,IF($E$290:$E$649<($E196+1)*10,$L$290:$L$649)))","v":82.7},{"$f":"MAX(IF($E$290:$E$649>=$E196*10,IF($E$290:$E$649<($E196+1)*10,$L$290:$L$649)))","v":82.7},{"$f":"MAX(N196-M196,1)","v":1}]
["5 digit",88,null,null,32619,null,null,null,null,null,"Other Plastics Product Manufacturing",null,{"$f":"MIN(IF($E$290:$E$649>=$E197*10,IF($E$290:$E$649<($E197+1)*10,$L$290:$L$649)))","v":0},{"$f":"MAX(IF($E$290:$E$649>=$E197*10,IF($E$290:$E$649<($E197+1)*10,$L$290:$L$649)))","v":0},1]
["5 digit",89,null,null,32621,null,null,null,null,"3262","Tire Manufacturing",null,{"$f":"MIN(IF($E$290:$E$649>=$E198*10,IF($E$290:$E$649<($E198+1)*10,$L$290:$L$649)))","v":1150},{"$f":"MAX(IF($E$290:$E$649>=$E198*10,IF($E$290:$E$649<($E198+1)*10,$L$290:$L$649)))","v":1150},1]
["5 digit",90,null,null,32622,null,null,null,null,null,"Rubber and Plastics Hoses and Belting Manufacturing",null,{"$f":"MIN(IF($E$290:$E$649>=$E199*10,IF($E$290:$E$649<($E199+1)*10,$L$290:$L$649)))","v":158},{"$f":"MAX(IF($E$290:$E$649>=$E199*10,IF($E$290:$E$649<($E199+1)*10,$L$290:$L$649)))","v":158},1]
["5 digit",91,null,null,32629,null,null,null,null,null,"Other Rubber Product Manufacturing",null,{"$f":"MIN(IF($E$290:$E$649>=$E200*10,IF($E$290:$E$649<($E200+1)*10,$L$290:$L$649)))","v":247},{"$f":"MAX(IF($E$290:$E$649>=$E200*10,IF($E$290:$E$649<($E200+1)*10,$L$290:$L$649)))","v":247},1]
["5 digit",92,null,null,32711,null,null,null,{"$f":"LEFT(E201,3)","v":"327"},"3271","Pottery, Ceramics, and Plumbing Fixture Manufacturing",null,{"$f":"MIN(IF($E$290:$E$649>=$E201*10,IF($E$290:$E$649<($E201+1)*10,$L$290:$L$649)))","v":0},{"$f":"MAX(IF($E$290:$E$649>=$E201*10,IF($E$290:$E$649<($E201+1)*10,$L$290:$L$649)))","v":0},1]
["5 digit",93,null,null,32712,null,null,null,null,null,"Clay Building Material and Refractories Manufacturing",null,{"$f":"MIN(IF($E$290:$E$649>=$E202*10,IF($E$290:$E$649<($E202+1)*10,$L$290:$L$649)))","v":0},{"$f":"MAX(IF($E$290:$E$649>=$E202*10,IF($E$290:$E$649<($E202+1)*10,$L$290:$L$649)))","v":0},1]
["5 digit",94,null,null,32721,null,null,null,null,"3272","Glass and Glass Product Manufacturing",null,{"$f":"MIN(IF($E$290:$E$649>=$E203*10,IF($E$290:$E$649<($E203+1)*10,$L$290:$L$649)))","v":121},{"$f":"MAX(IF($E$290:$E$649>=$E203*10,IF($E$290:$E$649<($E203+1)*10,$L$290:$L$649)))","v":492},371]
["5 digit",95,null,null,32731,null,null,null,null,"3273","Cement Manufacturing",null,{"$f":"MIN(IF($E$290:$E$649>=$E204*10,IF($E$290:$E$649<($E204+1)*10,$L$290:$L$649)))","v":141},{"$f":"MAX(IF($E$290:$E$649>=$E204*10,IF($E$290:$E$649<($E204+1)*10,$L$290:$L$649)))","v":141},1]
["5 digit",96,null,null,32732,null,null,null,null,null,"Ready-Mix Concrete Manufacturing",null,{"$f":"MIN(IF($E$290:$E$649>=$E205*10,IF($E$290:$E$649<($E205+1)*10,$L$290:$L$649)))","v":133},{"$f":"MAX(IF($E$290:$E$649>=$E205*10,IF($E$290:$E$649<($E205+1)*10,$L$290:$L$649)))","v":133},1]
["5 digit",97,null,null,32733,null,null,null,null,null,"Concrete Pipe, Brick, and Block Manufacturing",null,{"$f":"MIN(IF($E$290:$E$649>=$E206*10,IF($E$290:$E$649<($E206+1)*10,$L$290:$L$649)))","v":139},{"$f":"MAX(IF($E$290:$E$649>=$E206*10,IF($E$290:$E$649<($E206+1)*10,$L$290:$L$649)))","v":139},1]
["5 digit",98,null,null,32739,null,null,null,null,null,"Other Concrete Product Manufacturing",null,{"$f":"MIN(IF($E$290:$E$649>=$E207*10,IF($E$290:$E$649<($E207+1)*10,$L$290:$L$649)))","v":249},{"$f":"MAX(IF($E$290:$E$649>=$E207*10,IF($E$290:$E$649<($E207+1)*10,$L$290:$L$649)))","v":249},1]
["5 digit",99,null,null,32741,null,null,null,null,"3274","Lime Manufacturing",null,{"$f":"MIN(IF($E$290:$E$649>=$E208*10,IF($E$290:$E$649<($E208+1)*10,$L$290:$L$649)))","v":0},{"$f":"MAX(IF($E$290:$E$649>=$E208*10,IF($E$290:$E$649<($E208+1)*10,$L$290:$L$649)))","v":0},1]
["5 digit",100,null,null,32742,null,null,null,null,null,"Gypsum Product Manufacturing",null,{"$f":"MIN(IF($E$290:$E$649>=$E209*10,IF($E$290:$E$649<($E209+1)*10,$L$290:$L$649)))","v":0},{"$f":"MAX(IF($E$290:$E$649>=$E209*10,IF($E$290:$E$649<($E209+1)*10,$L$290:$L$649)))","v":0},1]
["5 digit",101,null,null,32791,null,null,null,null,"3279","Abrasive Product Manufacturing",null,{"$f":"MIN(IF($E$290:$E$649>=$E210*10,IF($E$290:$E$649<($E210+1)*10,$L$290:$L$649)))","v":164},{"$f":"MAX(IF($E$290:$E$649>=$E210*10,IF($E$290:$E$649<($E210+1)*10,$L$290:$L$649)))","v":164},1]
["5 digit",102,null,null,32799,null,null,null,null,null,"All Other Nonmetallic Mineral Product Manufacturing",null,{"$f":"MIN(IF($E$290:$E$649>=$E211*10,IF($E$290:$E$649<($E211+1)*10,$L$290:$L$649)))","v":88.4},{"$f":"MAX(IF($E$290:$E$649>=$E211*10,IF($E$290:$E$649<($E211+1)*10,$L$290:$L$649)))","v":507},418.6]
["5 digit",103,null,null,33111,null,null,null,{"$f":"LEFT(E212,3)","v":"331"},"3311","Iron and Steel Mills and Ferroalloy Manufacturing",null,{"$f":"MIN(IF($E$290:$E$649>=$E212*10,IF($E$290:$E$649<($E212+1)*10,$L$290:$L$649)))","v":9120},{"$f":"MAX(IF($E$290:$E$649>=$E212*10,IF($E$290:$E$649<($E212+1)*10,$L$290:$L$649)))","v":9120},1]
["5 digit",104,null,null,33121,null,null,null,null,"3312","Iron and Steel Pipe and Tube Manufacturing from Purchased Steel",null,{"$f":"MIN(IF($E$290:$E$649>=$E213*10,IF($E$290:$E$649<($E213+1)*10,$L$290:$L$649)))","v":326},{"$f":"MAX(IF($E$290:$E$649>=$E213*10,IF($E$290:$E$649<($E213+1)*10,$L$290:$L$649)))","v":326},1]
["5 digit",105,null,null,33122,null,null,null,null,null,"Rolling and Drawing of Purchased Steel",null,{"$f":"MIN(IF($E$290:$E$649>=$E214*10,IF($E$290:$E$649<($E214+1)*10,$L$290:$L$649)))","v":326},{"$f":"MAX(IF($E$290:$E$649>=$E214*10,IF($E$290:$E$649<($E214+1)*10,$L$290:$L$649)))","v":326},1]
["5 digit",106,null,null,33131,null,null,null,null,"3313","Alumina and Aluminum Production and Processing",null,{"$f":"MIN(IF($E$290:$E$649>=$E215*10,IF($E$290:$E$649<($E215+1)*10,$L$290:$L$649)))","v":12900},{"$f":"MAX(IF($E$290:$E$649>=$E215*10,IF($E$290:$E$649<($E215+1)*10,$L$290:$L$649)))","v":12900},1]
["5 digit",107,null,null,33141,null,null,null,null,"3314","Nonferrous Metal (except Aluminum) Smelting and Refining",null,{"$f":"MIN(IF($E$290:$E$649>=$E216*10,IF($E$290:$E$649<($E216+1)*10,$L$290:$L$649)))","v":0},{"$f":"MAX(IF($E$290:$E$649>=$E216*10,IF($E$290:$E$649<($E216+1)*10,$L$290:$L$649)))","v":0},1]
["5 digit",108,null,null,33142,null,null,null,null,null,"Copper Rolling, Drawing, Extruding, and Alloying",null,{"$f":"MIN(IF($E$290:$E$649>=$E217*10,IF($E$290:$E$649<($E217+1)*10,$L$290:$L$649)))","v":269},{"$f":"MAX(IF($E$290:$E$649>=$E217*10,IF($E$290:$E$649<($E217+1)*10,$L$290:$L$649)))","v":269},1]
["5 digit",109,null,null,33149,null,null,null,null,null,"Nonferrous Metal (except Copper and Aluminum) Rolling, Drawing, Extruding, and Alloying",null,{"$f":"MIN(IF($E$290:$E$649>=$E218*10,IF($E$290:$E$649<($E218+1)*10,$L$290:$L$649)))","v":364},{"$f":"MAX(IF($E$290:$E$649>=$E218*10,IF($E$290:$E$649<($E218+1)*10,$L$290:$L$649)))","v":364},1]
["5 digit",110,null,null,33151,null,null,null,null,"3315","Ferrous Metal Foundries",null,{"$f":"MIN(IF($E$290:$E$649>=$E219*10,IF($E$290:$E$649<($E219+1)*10,$L$290:$L$649)))","v":535},{"$f":"MAX(IF($E$290:$E$649>=$E219*10,IF($E$290:$E$649<($E219+1)*10,$L$290:$L$649)))","v":535},1]
["5 digit",111,null,null,33152,null,null,null,null,null,"Nonferrous Metal Foundries",null,{"$f":"MIN(IF($E$290:$E$649>=$E220*10,IF($E$290:$E$649<($E220+1)*10,$L$290:$L$649)))","v":515},{"$f":"MAX(IF($E$290:$E$649>=$E220*10,IF($E$290:$E$649<($E220+1)*10,$L$290:$L$649)))","v":515},1]
["5 digit",112,null,null,33211,null,null,null,{"$f":"LEFT(E221,3)","v":"332"},"3321","Forging and Stamping",null,{"$f":"MIN(IF($E$290:$E$649>=$E221*10,IF($E$290:$E$649<($E221+1)*10,$L$290:$L$649)))","v":102},{"$f":"MAX(IF($E$290:$E$649>=$E221*10,IF($E$290:$E$649<($E221+1)*10,$L$290:$L$649)))","v":102},1]
["5 digit",113,null,null,33221,null,null,null,null,"3322","Cutlery and Handtool Manufacturing",null,{"$f":"MIN(IF($E$290:$E$649>=$E222*10,IF($E$290:$E$649<($E222+1)*10,$L$290:$L$649)))","v":0},{"$f":"MAX(IF($E$290:$E$649>=$E222*10,IF($E$290:$E$649<($E222+1)*10,$L$290:$L$649)))","v":0},1]
["5 digit",114,null,null,33231,null,null,null,null,"3323","Plate Work and Fabricated Structural Product Manufacturing",null,{"$f":"MIN(IF($E$290:$E$649>=$E223*10,IF($E$290:$E$649<($E223+1)*10,$L$290:$L$649)))","v":8.6},{"$f":"MAX(IF($E$290:$E$649>=$E223*10,IF($E$290:$E$649<($E223+1)*10,$L$290:$L$649)))","v":8.6},1]
["5 digit",115,null,null,33232,null,null,null,null,null,"Ornamental and Architectural Metal Products Manufacturing",null,{"$f":"MIN(IF($E$290:$E$649>=$E224*10,IF($E$290:$E$649<($E224+1)*10,$L$290:$L$649)))","v":4.55},{"$f":"MAX(IF($E$290:$E$649>=$E224*10,IF($E$290:$E$649<($E224+1)*10,$L$290:$L$649)))","v":4.55},1]
["5 digit",116,null,null,33241,null,null,null,null,"3324","Power Boiler and Heat Exchanger Manufacturing",null,{"$f":"MIN(IF($E$290:$E$649>=$E225*10,IF($E$290:$E$649<($E225+1)*10,$L$290:$L$649)))","v":0.68899999999999995},{"$f":"MAX(IF($E$290:$E$649>=$E225*10,IF($E$290:$E$649<($E225+1)*10,$L$290:$L$649)))","v":0.68899999999999995},1]
["5 digit",117,null,null,33242,null,null,null,null,null,"Metal Tank (Heavy Gauge) Manufacturing",null,{"$f":"MIN(IF($E$290:$E$649>=$E226*10,IF($E$290:$E$649<($E226+1)*10,$L$290:$L$649)))","v":1.36},{"$f":"MAX(IF($E$290:$E$649>=$E226*10,IF($E$290:$E$649<($E226+1)*10,$L$290:$L$649)))","v":1.36},1]
["5 digit",118,null,null,33243,null,null,null,null,null,"Metal Can, Box, and Other Metal Container (Light Gauge) Manufacturing",null,{"$f":"MIN(IF($E$290:$E$649>=$E227*10,IF($E$290:$E$649<($E227+1)*10,$L$290:$L$649)))","v":2.19},{"$f":"MAX(IF($E$290:$E$649>=$E227*10,IF($E$290:$E$649<($E227+1)*10,$L$290:$L$649)))","v":2.19},1]
["5 digit",119,null,null,33251,null,null,null,null,"3325","Hardware Manufacturing",null,{"$f":"MIN(IF($E$290:$E$649>=$E228*10,IF($E$290:$E$649<($E228+1)*10,$L$290:$L$649)))","v":2.42},{"$f":"MAX(IF($E$290:$E$649>=$E228*10,IF($E$290:$E$649<($E228+1)*10,$L$290:$L$649)))","v":2.42},1]
["5 digit",120,null,null,33261,null,null,null,null,"3326","Spring and Wire Product Manufacturing",null,{"$f":"MIN(IF($E$290:$E$649>=$E229*10,IF($E$290:$E$649<($E229+1)*10,$L$290:$L$649)))","v":128},{"$f":"MAX(IF($E$290:$E$649>=$E229*10,IF($E$290:$E$649<($E229+1)*10,$L$290:$L$649)))","v":128},1]
["5 digit",121,null,null,33271,null,null,null,null,"3327","Machine Shops",null,{"$f":"MIN(IF($E$290:$E$649>=$E230*10,IF($E$290:$E$649<($E230+1)*10,$L$290:$L$649)))","v":39.1},{"$f":"MAX(IF($E$290:$E$649>=$E230*10,IF($E$290:$E$649<($E230+1)*10,$L$290:$L$649)))","v":39.1},1]
["5 digit",122,null,null,33272,null,null,null,null,null,"Turned Product and Screw, Nut, and Bolt Manufacturing",null,{"$f":"MIN(IF($E$290:$E$649>=$E231*10,IF($E$290:$E$649<($E231+1)*10,$L$290:$L$649)))","v":8.7899999999999991},{"$f":"MAX(IF($E$290:$E$649>=$E231*10,IF($E$290:$E$649<($E231+1)*10,$L$290:$L$649)))","v":8.7899999999999991},1]
["5 digit",123,null,null,33281,null,null,null,null,"3328","Coating, Engraving, Heat Treating, and Allied Activities",null,{"$f":"MIN(IF($E$290:$E$649>=$E232*10,IF($E$290:$E$649<($E232+1)*10,$L$290:$L$649)))","v":53.1},{"$f":"MAX(IF($E$290:$E$649>=$E232*10,IF($E$290:$E$649<($E232+1)*10,$L$290:$L$649)))","v":53.1},1]
["5 digit",124,null,null,33291,null,null,null,null,"3329","Metal Valve Manufacturing",null,{"$f":"MIN(IF($E$290:$E$649>=$E233*10,IF($E$290:$E$649<($E233+1)*10,$L$290:$L$649)))","v":0.13800000000000001},{"$f":"MAX(IF($E$290:$E$649>=$E233*10,IF($E$290:$E$649<($E233+1)*10,$L$290:$L$649)))","v":0.13800000000000001},1]
["5 digit",125,null,null,33299,null,null,null,null,null,"All Other Fabricated Metal Product Manufacturing",null,{"$f":"MIN(IF($E$290:$E$649>=$E234*10,IF($E$290:$E$649<($E234+1)*10,$L$290:$L$649)))","v":0.753},{"$f":"MAX(IF($E$290:$E$649>=$E234*10,IF($E$290:$E$649<($E234+1)*10,$L$290:$L$649)))","v":3.25},2.4969999999999999]
["5 digit",126,null,null,33311,null,null,null,{"$f":"LEFT(E235,3)","v":"333"},"3331","Agricultural Implement Manufacturing",null,{"$f":"MIN(IF($E$290:$E$649>=$E235*10,IF($E$290:$E$649<($E235+1)*10,$L$290:$L$649)))","v":51.6},{"$f":"MAX(IF($E$290:$E$649>=$E235*10,IF($E$290:$E$649<($E235+1)*10,$L$290:$L$649)))","v":94.3},42.699999999999996]
["5 digit",127,null,null,33312,null,null,null,null,null,"Construction Machinery Manufacturing",null,{"$f":"MIN(IF($E$290:$E$649>=$E236*10,IF($E$290:$E$649<($E236+1)*10,$L$290:$L$649)))","v":54.2},{"$f":"MAX(IF($E$290:$E$649>=$E236*10,IF($E$290:$E$649<($E236+1)*10,$L$290:$L$649)))","v":54.2},1]
["5 digit",128,null,null,33313,null,null,null,null,null,"Mining and Oil and Gas Field Machinery Manufacturing",null,{"$f":"MIN(IF($E$290:$E$649>=$E237*10,IF($E$290:$E$649<($E237+1)*10,$L$290:$L$649)))","v":63.4},{"$f":"MAX(IF($E$290:$E$649>=$E237*10,IF($E$290:$E$649<($E237+1)*10,$L$290:$L$649)))","v":63.4},1]
["5 digit",129,null,null,33324,null,null,null,null,"3332","Industrial Machinery Manufacturing",null,{"$f":"MIN(IF($E$290:$E$649>=$E238*10,IF($E$290:$E$649<($E238+1)*10,$L$290:$L$649)))","v":0},{"$f":"MAX(IF($E$290:$E$649>=$E238*10,IF($E$290:$E$649<($E238+1)*10,$L$290:$L$649)))","v":0},1]
["5 digit",130,null,null,33331,null,null,null,null,"3333","Commercial and Service Industry Machinery Manufacturing",null,{"$f":"MIN(IF($E$290:$E$649>=$E239*10,IF($E$290:$E$649<($E239+1)*10,$L$290:$L$649)))","v":81.400000000000006},{"$f":"MAX(IF($E$290:$E$649>=$E239*10,IF($E$290:$E$649<($E239+1)*10,$L$290:$L$649)))","v":81.400000000000006},1]
["5 digit",131,null,null,33341,null,null,null,null,"3334","Ventilation, Heating, Air-Conditioning, and Commercial Refrigeration Equipment Manufacturing",null,{"$f":"MIN(IF($E$290:$E$649>=$E240*10,IF($E$290:$E$649<($E240+1)*10,$L$290:$L$649)))","v":71.7},{"$f":"MAX(IF($E$290:$E$649>=$E240*10,IF($E$290:$E$649<($E240+1)*10,$L$290:$L$649)))","v":107},35.299999999999997]
["5 digit",132,null,null,33351,null,null,null,null,"3335","Metalworking Machinery Manufacturing",null,{"$f":"MIN(IF($E$290:$E$649>=$E241*10,IF($E$290:$E$649<($E241+1)*10,$L$290:$L$649)))","v":75.3},{"$f":"MAX(IF($E$290:$E$649>=$E241*10,IF($E$290:$E$649<($E241+1)*10,$L$290:$L$649)))","v":143},67.7]
["5 digit",133,null,null,33361,null,null,null,null,"3336","Engine, Turbine, and Power Transmission Equipment Manufacturing",null,{"$f":"MIN(IF($E$290:$E$649>=$E242*10,IF($E$290:$E$649<($E242+1)*10,$L$290:$L$649)))","v":35.4},{"$f":"MAX(IF($E$290:$E$649>=$E242*10,IF($E$290:$E$649<($E242+1)*10,$L$290:$L$649)))","v":164},128.6]
["5 digit",134,null,null,33391,null,null,null,null,{"$f":"LEFT(E243,4)","v":"3339"},"Pump and Compressor Manufacturing",null,{"$f":"MIN(IF($E$290:$E$649>=$E243*10,IF($E$290:$E$649<($E243+1)*10,$L$290:$L$649)))","v":102},{"$f":"MAX(IF($E$290:$E$649>=$E243*10,IF($E$290:$E$649<($E243+1)*10,$L$290:$L$649)))","v":102},1]
["5 digit",135,null,null,33392,null,null,null,null,null,"Material Handling Equipment Manufacturing",null,{"$f":"MIN(IF($E$290:$E$649>=$E244*10,IF($E$290:$E$649<($E244+1)*10,$L$290:$L$649)))","v":69.900000000000006},{"$f":"MAX(IF($E$290:$E$649>=$E244*10,IF($E$290:$E$649<($E244+1)*10,$L$290:$L$649)))","v":69.900000000000006},1]
["5 digit",136,null,null,33399,null,null,null,null,null,"All Other General Purpose Machinery Manufacturing",null,{"$f":"MIN(IF($E$290:$E$649>=$E245*10,IF($E$290:$E$649<($E245+1)*10,$L$290:$L$649)))","v":47.5},{"$f":"MAX(IF($E$290:$E$649>=$E245*10,IF($E$290:$E$649<($E245+1)*10,$L$290:$L$649)))","v":143},95.5]
["5 digit",137,null,null,33411,null,null,null,{"$f":"LEFT(E246,3)","v":"334"},"3341","Computer and Peripheral Equipment Manufacturing",null,{"$f":"MIN(IF($E$290:$E$649>=$E246*10,IF($E$290:$E$649<($E246+1)*10,$L$290:$L$649)))","v":14},{"$f":"MAX(IF($E$290:$E$649>=$E246*10,IF($E$290:$E$649<($E246+1)*10,$L$290:$L$649)))","v":58.8},44.8]
["5 digit",138,null,null,33421,null,null,null,null,"3342","Telephone Apparatus Manufacturing",null,{"$f":"MIN(IF($E$290:$E$649>=$E247*10,IF($E$290:$E$649<($E247+1)*10,$L$290:$L$649)))","v":39.799999999999997},{"$f":"MAX(IF($E$290:$E$649>=$E247*10,IF($E$290:$E$649<($E247+1)*10,$L$290:$L$649)))","v":39.799999999999997},1]
["5 digit",139,null,null,33422,null,null,null,null,null,"Radio and Television Broadcasting and Wireless Communications Equipment Manufacturing",null,{"$f":"MIN(IF($E$290:$E$649>=$E248*10,IF($E$290:$E$649<($E248+1)*10,$L$290:$L$649)))","v":76.900000000000006},{"$f":"MAX(IF($E$290:$E$649>=$E248*10,IF($E$290:$E$649<($E248+1)*10,$L$290:$L$649)))","v":76.900000000000006},1]
["5 digit",140,null,null,33429,null,null,null,null,null,"Other Communications Equipment Manufacturing",null,{"$f":"MIN(IF($E$290:$E$649>=$E249*10,IF($E$290:$E$649<($E249+1)*10,$L$290:$L$649)))","v":33.700000000000003},{"$f":"MAX(IF($E$290:$E$649>=$E249*10,IF($E$290:$E$649<($E249+1)*10,$L$290:$L$649)))","v":33.700000000000003},1]
["5 digit",141,null,null,33431,null,null,null,null,"3343","Audio and Video Equipment Manufacturing",null,{"$f":"MIN(IF($E$290:$E$649>=$E250*10,IF($E$290:$E$649<($E250+1)*10,$L$290:$L$649)))","v":34.1},{"$f":"MAX(IF($E$290:$E$649>=$E250*10,IF($E$290:$E$649<($E250+1)*10,$L$290:$L$649)))","v":34.1},1]
["5 digit",142,null,null,33441,null,null,null,null,"3344","Semiconductor and Other Electronic Component Manufacturing",null,{"$f":"MIN(IF($E$290:$E$649>=$E251*10,IF($E$290:$E$649<($E251+1)*10,$L$290:$L$649)))","v":14.3},{"$f":"MAX(IF($E$290:$E$649>=$E251*10,IF($E$290:$E$649<($E251+1)*10,$L$290:$L$649)))","v":363},348.7]
["5 digit",143,null,null,33451,null,null,null,null,"3345","Navigational, Measuring, Electromedical, and Control Instruments Manufacturing",null,{"$f":"MIN(IF($E$290:$E$649>=$E252*10,IF($E$290:$E$649<($E252+1)*10,$L$290:$L$649)))","v":8.0000000000000002E-3},{"$f":"MAX(IF($E$290:$E$649>=$E252*10,IF($E$290:$E$649<($E252+1)*10,$L$290:$L$649)))","v":2.66},2.6520000000000001]
["5 digit",144,null,null,33461,null,null,null,null,"3346","Manufacturing and Reproducing Magnetic and Optical Media",null,{"$f":"MIN(IF($E$290:$E$649>=$E253*10,IF($E$290:$E$649<($E253+1)*10,$L$290:$L$649)))","v":0.59599999999999997},{"$f":"MAX(IF($E$290:$E$649>=$E253*10,IF($E$290:$E$649<($E253+1)*10,$L$290:$L$649)))","v":0.59599999999999997},1]
["5 digit",145,null,null,33511,null,null,null,{"$f":"LEFT(E254,3)","v":"335"},"3351","Electric Lamp Bulb and Part Manufacturing",null,{"$f":"MIN(IF($E$290:$E$649>=$E254*10,IF($E$290:$E$649<($E254+1)*10,$L$290:$L$649)))","v":168},{"$f":"MAX(IF($E$290:$E$649>=$E254*10,IF($E$290:$E$649<($E254+1)*10,$L$290:$L$649)))","v":168},1]
["5 digit",146,null,null,33512,null,null,null,null,null,"Lighting Fixture Manufacturing",null,{"$f":"MIN(IF($E$290:$E$649>=$E255*10,IF($E$290:$E$649<($E255+1)*10,$L$290:$L$649)))","v":78.7},{"$f":"MAX(IF($E$290:$E$649>=$E255*10,IF($E$290:$E$649<($E255+1)*10,$L$290:$L$649)))","v":78.7},1]
["5 digit",147,null,null,33521,null,null,null,null,"3352","Small Electrical Appliance Manufacturing",null,{"$f":"MIN(IF($E$290:$E$649>=$E256*10,IF($E$290:$E$649<($E256+1)*10,$L$290:$L$649)))","v":116},{"$f":"MAX(IF($E$290:$E$649>=$E256*10,IF($E$290:$E$649<($E256+1)*10,$L$290:$L$649)))","v":116},1]
["5 digit",148,null,null,33522,null,null,null,null,null,"Major Appliance Manufacturing",null,{"$f":"MIN(IF($E$290:$E$649>=$E257*10,IF($E$290:$E$649<($E257+1)*10,$L$290:$L$649)))","v":0},{"$f":"MAX(IF($E$290:$E$649>=$E257*10,IF($E$290:$E$649<($E257+1)*10,$L$290:$L$649)))","v":0},1]
["5 digit",149,null,null,33531,null,null,null,null,"3353","Electrical Equipment Manufacturing",null,{"$f":"MIN(IF($E$290:$E$649>=$E258*10,IF($E$290:$E$649<($E258+1)*10,$L$290:$L$649)))","v":35.6},{"$f":"MAX(IF($E$290:$E$649>=$E258*10,IF($E$290:$E$649<($E258+1)*10,$L$290:$L$649)))","v":59.9},24.299999999999997]
["5 digit",150,null,null,33591,null,null,null,null,"3359","Battery Manufacturing",null,{"$f":"MIN(IF($E$290:$E$649>=$E259*10,IF($E$290:$E$649<($E259+1)*10,$L$290:$L$649)))","v":99.8},{"$f":"MAX(IF($E$290:$E$649>=$E259*10,IF($E$290:$E$649<($E259+1)*10,$L$290:$L$649)))","v":140},40.200000000000003]
["5 digit",151,null,null,33592,null,null,null,null,null,"Communication and Energy Wire and Cable Manufacturing",null,{"$f":"MIN(IF($E$290:$E$649>=$E260*10,IF($E$290:$E$649<($E260+1)*10,$L$290:$L$649)))","v":81.599999999999994},{"$f":"MAX(IF($E$290:$E$649>=$E260*10,IF($E$290:$E$649<($E260+1)*10,$L$290:$L$649)))","v":81.599999999999994},{"$f":"MAX(N260-M260,1)","v":1}]
["5 digit",152,null,null,33593,null,null,null,null,null,"Wiring Device Manufacturing",null,{"$f":"MIN(IF($E$290:$E$649>=$E261*10,IF($E$290:$E$649<($E261+1)*10,$L$290:$L$649)))","v":95.4},{"$f":"MAX(IF($E$290:$E$649>=$E261*10,IF($E$290:$E$649<($E261+1)*10,$L$290:$L$649)))","v":95.4},1]
["5 digit",153,null,null,33599,null,null,null,null,null,"All Other Electrical Equipment and Component Manufacturing",null,{"$f":"MIN(IF($E$290:$E$649>=$E262*10,IF($E$290:$E$649<($E262+1)*10,$L$290:$L$649)))","v":58.1},{"$f":"MAX(IF($E$290:$E$649>=$E262*10,IF($E$290:$E$649<($E262+1)*10,$L$290:$L$649)))","v":140},81.900000000000006]
["5 digit",154,null,null,33611,null,null,null,{"$f":"LEFT(E263,3)","v":"336"},"3361","Automobile and Light Duty Motor Vehicle Manufacturing",null,{"$f":"MIN(IF($E$290:$E$649>=$E263*10,IF($E$290:$E$649<($E263+1)*10,$L$290:$L$649)))","v":19.2},{"$f":"MAX(IF($E$290:$E$649>=$E263*10,IF($E$290:$E$649<($E263+1)*10,$L$290:$L$649)))","v":20.9},1.6999999999999993]
["5 digit",155,null,null,33612,null,null,null,null,null,"Heavy Duty Truck Manufacturing",null,{"$f":"MIN(IF($E$290:$E$649>=$E264*10,IF($E$290:$E$649<($E264+1)*10,$L$290:$L$649)))","v":39.4},{"$f":"MAX(IF($E$290:$E$649>=$E264*10,IF($E$290:$E$649<($E264+1)*10,$L$290:$L$649)))","v":39.4},1]
["5 digit",156,null,null,33621,null,null,null,null,"3362","Motor Vehicle Body and Trailer Manufacturing",null,{"$f":"MIN(IF($E$290:$E$649>=$E265*10,IF($E$290:$E$649<($E265+1)*10,$L$290:$L$649)))","v":87.5},{"$f":"MAX(IF($E$290:$E$649>=$E265*10,IF($E$290:$E$649<($E265+1)*10,$L$290:$L$649)))","v":3400},3312.5]
["5 digit",157,null,null,33631,null,null,null,null,"3363","Motor Vehicle Gasoline Engine and Engine Parts Manufacturing",null,{"$f":"MIN(IF($E$290:$E$649>=$E266*10,IF($E$290:$E$649<($E266+1)*10,$L$290:$L$649)))","v":334},{"$f":"MAX(IF($E$290:$E$649>=$E266*10,IF($E$290:$E$649<($E266+1)*10,$L$290:$L$649)))","v":334},1]
["5 digit",158,null,null,33632,null,null,null,null,null,"Motor Vehicle Electrical and Electronic Equipment Manufacturing",null,{"$f":"MIN(IF($E$290:$E$649>=$E267*10,IF($E$290:$E$649<($E267+1)*10,$L$290:$L$649)))","v":334},{"$f":"MAX(IF($E$290:$E$649>=$E267*10,IF($E$290:$E$649<($E267+1)*10,$L$290:$L$649)))","v":334},1]
["5 digit",159,null,null,33633,null,null,null,null,null,"Motor Vehicle Steering and Suspension Components (except Spring) Manufacturing",null,{"$f":"MIN(IF($E$290:$E$649>=$E268*10,IF($E$290:$E$649<($E268+1)*10,$L$290:$L$649)))","v":334},{"$f":"MAX(IF($E$290:$E$649>=$E268*10,IF($E$290:$E$649<($E268+1)*10,$L$290:$L$649)))","v":334},1]
["5 digit",160,null,null,33634,null,null,null,null,null,"Motor Vehicle Brake System Manufacturing",null,{"$f":"MIN(IF($E$290:$E$649>=$E269*10,IF($E$290:$E$649<($E269+1)*10,$L$290:$L$649)))","v":334},{"$f":"MAX(IF($E$290:$E$649>=$E269*10,IF($E$290:$E$649<($E269+1)*10,$L$290:$L$649)))","v":334},1]
["5 digit",161,null,null,33635,null,null,null,null,null,"Motor Vehicle Transmission and Power Train Parts Manufacturing",null,{"$f":"MIN(IF($E$290:$E$649>=$E270*10,IF($E$290:$E$649<($E270+1)*10,$L$290:$L$649)))","v":334},{"$f":"MAX(IF($E$290:$E$649>=$E270*10,IF($E$290:$E$649<($E270+1)*10,$L$290:$L$649)))","v":334},1]
["5 digit",162,null,null,33636,null,null,null,null,null,"Motor Vehicle Seating and Interior Trim Manufacturing",null,{"$f":"MIN(IF($E$290:$E$649>=$E271*10,IF($E$290:$E$649<($E271+1)*10,$L$290:$L$649)))","v":334},{"$f":"MAX(IF($E$290:$E$649>=$E271*10,IF($E$290:$E$649<($E271+1)*10,$L$290:$L$649)))","v":334},1]
["5 digit",163,null,null,33637,null,null,null,null,null,"Motor Vehicle Metal Stamping",null,{"$f":"MIN(IF($E$290:$E$649>=$E272*10,IF($E$290:$E$649<($E272+1)*10,$L$290:$L$649)))","v":334},{"$f":"MAX(IF($E$290:$E$649>=$E272*10,IF($E$290:$E$649<($E272+1)*10,$L$290:$L$649)))","v":334},1]
["5 digit",164,null,null,33639,null,null,null,null,null,"Other Motor Vehicle Parts Manufacturing",null,{"$f":"MIN(IF($E$290:$E$649>=$E273*10,IF($E$290:$E$649<($E273+1)*10,$L$290:$L$649)))","v":334},{"$f":"MAX(IF($E$290:$E$649>=$E273*10,IF($E$290:$E$649<($E273+1)*10,$L$290:$L$649)))","v":334},1]
["5 digit",165,null,null,33641,null,null,null,null,"3364","Aerospace Product and Parts Manufacturing",null,{"$f":"MIN(IF($E$290:$E$649>=$E274*10,IF($E$290:$E$649<($E274+1)*10,$L$290:$L$649)))","v":4.75},{"$f":"MAX(IF($E$290:$E$649>=$E274*10,IF($E$290:$E$649<($E274+1)*10,$L$290:$L$649)))","v":141},136.25]
["5 digit",166,null,null,33651,null,null,null,null,"3365","Railroad Rolling Stock Manufacturing",null,{"$f":"MIN(IF($E$290:$E$649>=$E275*10,IF($E$290:$E$649<($E275+1)*10,$L$290:$L$649)))","v":61.7},{"$f":"MAX(IF($E$290:$E$649>=$E275*10,IF($E$290:$E$649<($E275+1)*10,$L$290:$L$649)))","v":61.7},1]
["5 digit",167,null,null,33661,null,null,null,null,"3366","Ship and Boat Building",null,{"$f":"MIN(IF($E$290:$E$649>=$E276*10,IF($E$290:$E$649<($E276+1)*10,$L$290:$L$649)))","v":130},{"$f":"MAX(IF($E$290:$E$649>=$E276*10,IF($E$290:$E$649<($E276+1)*10,$L$290:$L$649)))","v":164},34]
["5 digit",168,null,null,33699,null,null,null,null,"3369","Other Transportation Equipment Manufacturing",null,{"$f":"MIN(IF($E$290:$E$649>=$E277*10,IF($E$290:$E$649<($E277+1)*10,$L$290:$L$649)))","v":44.6},{"$f":"MAX(IF($E$290:$E$649>=$E277*10,IF($E$290:$E$649<($E277+1)*10,$L$290:$L$649)))","v":80},35.4]
["5 digit",169,null,null,33711,null,null,null,{"$f":"LEFT(E278,3)","v":"337"},"3371","Wood Kitchen Cabinet and Countertop Manufacturing",null,{"$f":"MIN(IF($E$290:$E$649>=$E278*10,IF($E$290:$E$649<($E278+1)*10,$L$290:$L$649)))","v":934},{"$f":"MAX(IF($E$290:$E$649>=$E278*10,IF($E$290:$E$649<($E278+1)*10,$L$290:$L$649)))","v":934},1]
["5 digit",170,null,null,33712,null,null,null,null,null,"Household and Institutional Furniture Manufacturing",null,{"$f":"MIN(IF($E$290:$E$649>=$E279*10,IF($E$290:$E$649<($E279+1)*10,$L$290:$L$649)))","v":63.7},{"$f":"MAX(IF($E$290:$E$649>=$E279*10,IF($E$290:$E$649<($E279+1)*10,$L$290:$L$649)))","v":137},73.3]
["5 digit",171,null,null,33721,null,null,null,null,"3372","Office Furniture (including Fixtures) Manufacturing",null,{"$f":"MIN(IF($E$290:$E$649>=$E280*10,IF($E$290:$E$649<($E280+1)*10,$L$290:$L$649)))","v":142},{"$f":"MAX(IF($E$290:$E$649>=$E280*10,IF($E$290:$E$649<($E280+1)*10,$L$290:$L$649)))","v":178},36]
["5 digit",172,null,null,33791,null,null,null,null,"3379","Mattress Manufacturing",null,{"$f":"MIN(IF($E$290:$E$649>=$E281*10,IF($E$290:$E$649<($E281+1)*10,$L$290:$L$649)))","v":73.599999999999994},{"$f":"MAX(IF($E$290:$E$649>=$E281*10,IF($E$290:$E$649<($E281+1)*10,$L$290:$L$649)))","v":73.599999999999994},1]
["5 digit",173,null,null,33792,null,null,null,null,null,"Blind and Shade Manufacturing",null,{"$f":"MIN(IF($E$290:$E$649>=$E282*10,IF($E$290:$E$649<($E282+1)*10,$L$290:$L$649)))","v":89.9},{"$f":"MAX(IF($E$290:$E$649>=$E282*10,IF($E$290:$E$649<($E282+1)*10,$L$290:$L$649)))","v":89.9},1]
["5 digit",174,null,null,33911,null,null,null,{"$f":"LEFT(E283,3)","v":"339"},"3391","Medical Equipment and Supplies Manufacturing",null,{"$f":"MIN(IF($E$290:$E$649>=$E283*10,IF($E$290:$E$649<($E283+1)*10,$L$290:$L$649)))","v":10},{"$f":"MAX(IF($E$290:$E$649>=$E283*10,IF($E$290:$E$649<($E283+1)*10,$L$290:$L$649)))","v":72.2},62.2]
["5 digit",175,null,null,33991,null,null,null,null,"3399","Jewelry and Silverware Manufacturing",null,{"$f":"MIN(IF($E$290:$E$649>=$E284*10,IF($E$290:$E$649<($E284+1)*10,$L$290:$L$649)))","v":0.13600000000000001},{"$f":"MAX(IF($E$290:$E$649>=$E284*10,IF($E$290:$E$649<($E284+1)*10,$L$290:$L$649)))","v":0.13600000000000001},1]
["5 digit",176,null,null,33992,null,null,null,null,null,"Sporting and Athletic Goods Manufacturing",null,{"$f":"MIN(IF($E$290:$E$649>=$E285*10,IF($E$290:$E$649<($E285+1)*10,$L$290:$L$649)))","v":71.7},{"$f":"MAX(IF($E$290:$E$649>=$E285*10,IF($E$290:$E$649<($E285+1)*10,$L$290:$L$649)))","v":71.7},1]
["5 digit",177,null,null,33993,null,null,null,null,null,"Doll, Toy, and Game Manufacturing",null,{"$f":"MIN(IF($E$290:$E$649>=$E286*10,IF($E$290:$E$649<($E286+1)*10,$L$290:$L$649)))","v":89.6},{"$f":"MAX(IF($E$290:$E$649>=$E286*10,IF($E$290:$E$649<($E286+1)*10,$L$290:$L$649)))","v":89.6},1]
["5 digit",178,null,null,33994,null,null,null,null,null,"Office Supplies (except Paper) Manufacturing",null,{"$f":"MIN(IF($E$290:$E$649>=$E287*10,IF($E$290:$E$649<($E287+1)*10,$L$290:$L$649)))","v":116},{"$f":"MAX(IF($E$290:$E$649>=$E287*10,IF($E$290:$E$649<($E287+1)*10,$L$290:$L$649)))","v":116},1]
["5 digit",179,null,null,33995,null,null,null,null,null,"Sign Manufacturing",null,{"$f":"MIN(IF($E$290:$E$649>=$E288*10,IF($E$290:$E$649<($E288+1)*10,$L$290:$L$649)))","v":651},{"$f":"MAX(IF($E$290:$E$649>=$E288*10,IF($E$290:$E$649<($E288+1)*10,$L$290:$L$649)))","v":651},1]
["5 digit",180,null,null,33999,null,null,null,null,null,"All Other Miscellaneous Manufacturing",null,{"$f":"MIN(IF($E$290:$E$649>=$E289*10,IF($E$290:$E$649<($E289+1)*10,$L$290:$L$649)))","v":47.4},{"$f":"MAX(IF($E$290:$E$649>=$E289*10,IF($E$290:$E$649<($E289+1)*10,$L$290:$L$649)))","v":271},223.6]
["6 digit",{"$f":"INDEX($B$3:$E$23,MATCH(F290,$E$3:$E$23,0),1)","v":1},{"$f":"INDEX($B$24:$E$109,MATCH(G290,$E$24:$E$109,0),1)","v":1},{"$f":"INDEX($B$110:$E$289,MATCH(H290,$E$110:$E$289,0),1)","v":1},311111,{"$f":"LEFT(E290,3)*1","v":311},{"$f":"LEFT(E290,4)*1","v":3111},{"$f":"LEFT(E290,5)*1","v":31111},{"$f":"LEFT(E290,3)","v":"311"},{"$f":"LEFT(E290,5)","v":"31111"},"Dog and Cat Food Manufacturing ",{"$f":"IFERROR(IFERROR(IFERROR(INDEX(Table1[],MATCH(EIOLCA!$E290,Table1[NAICS Code],0),3),INDEX(Table1[],MATCH(ROUNDDOWN(EIOLCA!$E290/10,0)*10,Table1[NAICS Code],0),3)),INDEX(Table1[],MATCH(ROUNDDOWN(EIOLCA!$E290/100,0)*100,Table1[NAICS Code],0),3)),\"\")","v":5270}]
["6 digit",{"$f":"INDEX($B$3:$E$23,MATCH(F291,$E$3:$E$23,0),1)","v":1},1,{"$f":"INDEX($B$110:$E$289,MATCH(H291,$E$110:$E$289,0),1)","v":1},311119,311,3111,{"$f":"LEFT(E291,5)*1","v":31111},null,null,"Other Animal Food Manufacturing ",{"$f":"IFERROR(IFERROR(IFERROR(INDEX(Table1[],MATCH(EIOLCA!$E291,Table1[NAICS Code],0),3),INDEX(Table1[],MATCH(ROUNDDOWN(EIOLCA!$E291/10,0)*10,Table1[NAICS Code],0),3)),INDEX(Table1[],MATCH(ROUNDDOWN(EIOLCA!$E291/100,0)*100,Table1[NAICS Code],0),3)),\"\")","v":12200}]
["6 digit",1,2,2,311211,311,3112,31121,null,{"$f":"LEFT(E292,5)","v":"31121"},"Flour Milling ",{"$f":"IFERROR(IFERROR(IFERROR(INDEX(Table1[],MATCH(EIOLCA!$E292,Table1[NAICS Code],0),3),INDEX(Table1[],MATCH(ROUNDDOWN(EIOLCA!$E292/10,0)*10,Table1[NAICS Code],0),3)),INDEX(Table1[],MATCH(ROUNDDOWN(EIOLCA!$E292/100,0)*100,Table1[NAICS Code],0),3)),\"\")","v":121}]
["6 digit",1,2,2,311212,311,3112,31121,null,null,"Rice Milling ",{"$f":"IFERROR(IFERROR(IFERROR(INDEX(Table1[],MATCH(EIOLCA!$E293,Table1[NAICS Code],0),3),INDEX(Table1[],MATCH(ROUNDDOWN(EIOLCA!$E293/10,0)*10,Table1[NAICS Code],0),3)),INDEX(Table1[],MATCH(ROUNDDOWN(EIOLCA!$E293/100,0)*100,Table1[NAICS Code],0),3)),\"\")","v":121}]
["6 digit",1,2,2,311213,311,3112,31121,null,null,"Malt Manufacturing ",{"$f":"IFERROR(IFERROR(IFERROR(INDEX(Table1[],MATCH(EIOLCA!$E294,Table1[NAICS Code],0),3),INDEX(Table1[],MATCH(ROUNDDOWN(EIOLCA!$E294/10,0)*10,Table1[NAICS Code],0),3)),INDEX(Table1[],MATCH(ROUNDDOWN(EIOLCA!$E294/100,0)*100,Table1[NAICS Code],0),3)),\"\")","v":121}]
["6 digit",1,2,3,311221,311,3112,31122,null,"31122","Wet Corn Milling ",{"$f":"IFERROR(IFERROR(IFERROR(INDEX(Table1[],MATCH(EIOLCA!$E295,Table1[NAICS Code],0),3),INDEX(Table1[],MATCH(ROUNDDOWN(EIOLCA!$E295/10,0)*10,Table1[NAICS Code],0),3)),INDEX(Table1[],MATCH(ROUNDDOWN(EIOLCA!$E295/100,0)*100,Table1[NAICS Code],0),3)),\"\")","v":1160}]
["6 digit",1,2,3,311224,311,3112,31122,null,null,"Soybean and Other Oilseed Processing ",{"$f":"IFERROR(IFERROR(IFERROR(INDEX(Table1[],MATCH(EIOLCA!$E296,Table1[NAICS Code],0),3),INDEX(Table1[],MATCH(ROUNDDOWN(EIOLCA!$E296/10,0)*10,Table1[NAICS Code],0),3)),INDEX(Table1[],MATCH(ROUNDDOWN(EIOLCA!$E296/100,0)*100,Table1[NAICS Code],0),3)),\"\")","v":""}]
["6 digit",1,2,3,311225,311,3112,31122,null,null,"Fats and Oils Refining and Blending ",{"$f":"IFERROR(IFERROR(IFERROR(INDEX(Table1[],MATCH(EIOLCA!$E297,Table1[NAICS Code],0),3),INDEX(Table1[],MATCH(ROUNDDOWN(EIOLCA!$E297/10,0)*10,Table1[NAICS Code],0),3)),INDEX(Table1[],MATCH(ROUNDDOWN(EIOLCA!$E297/100,0)*100,Table1[NAICS Code],0),3)),\"\")","v":236}]
["6 digit",1,2,4,311230,311,3112,31123,null,"31123","Breakfast Cereal Manufacturing",{"$f":"IFERROR(IFERROR(IFERROR(INDEX(Table1[],MATCH(EIOLCA!$E298,Table1[NAICS Code],0),3),INDEX(Table1[],MATCH(ROUNDDOWN(EIOLCA!$E298/10,0)*10,Table1[NAICS Code],0),3)),INDEX(Table1[],MATCH(ROUNDDOWN(EIOLCA!$E298/100,0)*100,Table1[NAICS Code],0),3)),\"\")","v":91.2}]
["6 digit",1,3,5,311313,311,3113,31131,null,"31131","Beet Sugar Manufacturing ",{"$f":"IFERROR(IFERROR(IFERROR(INDEX(Table1[],MATCH(EIOLCA!$E299,Table1[NAICS Code],0),3),INDEX(Table1[],MATCH(ROUNDDOWN(EIOLCA!$E299/10,0)*10,Table1[NAICS Code],0),3)),INDEX(Table1[],MATCH(ROUNDDOWN(EIOLCA!$E299/100,0)*100,Table1[NAICS Code],0),3)),\"\")","v":82.6}]
["6 digit",1,3,5,311314,311,3113,31131,null,null,"Cane Sugar Manufacturing ",{"$f":"IFERROR(IFERROR(IFERROR(INDEX(Table1[],MATCH(EIOLCA!$E300,Table1[NAICS Code],0),3),INDEX(Table1[],MATCH(ROUNDDOWN(EIOLCA!$E300/10,0)*10,Table1[NAICS Code],0),3)),INDEX(Table1[],MATCH(ROUNDDOWN(EIOLCA!$E300/100,0)*100,Table1[NAICS Code],0),3)),\"\")","v":""}]
["6 digit",1,3,6,311340,311,3113,31134,null,"31134","Nonchocolate Confectionery Manufacturing",{"$f":"IFERROR(IFERROR(IFERROR(INDEX(Table1[],MATCH(EIOLCA!$E301,Table1[NAICS Code],0),3),INDEX(Table1[],MATCH(ROUNDDOWN(EIOLCA!$E301/10,0)*10,Table1[NAICS Code],0),3)),INDEX(Table1[],MATCH(ROUNDDOWN(EIOLCA!$E301/100,0)*100,Table1[NAICS Code],0),3)),\"\")","v":96.8}]
["6 digit",1,3,7,311351,311,3113,31135,null,"31135","Chocolate and Confectionery Manufacturing from Cacao Beans ",{"$f":"IFERROR(IFERROR(IFERROR(INDEX(Table1[],MATCH(EIOLCA!$E302,Table1[NAICS Code],0),3),INDEX(Table1[],MATCH(ROUNDDOWN(EIOLCA!$E302/10,0)*10,Table1[NAICS Code],0),3)),INDEX(Table1[],MATCH(ROUNDDOWN(EIOLCA!$E302/100,0)*100,Table1[NAICS Code],0),3)),\"\")","v":""}]
["6 digit",1,{"$f":"INDEX($B$24:$E$109,MATCH(G303,$E$24:$E$109,0),1)","v":3},7,311352,311,3113,31135,null,null,"Confectionery Manufacturing from Purchased Chocolate ",{"$f":"IFERROR(IFERROR(IFERROR(INDEX(Table1[],MATCH(EIOLCA!$E303,Table1[NAICS Code],0),3),INDEX(Table1[],MATCH(ROUNDDOWN(EIOLCA!$E303/10,0)*10,Table1[NAICS Code],0),3)),INDEX(Table1[],MATCH(ROUNDDOWN(EIOLCA!$E303/100,0)*100,Table1[NAICS Code],0),3)),\"\")","v":""}]
["6 digit",1,4,8,311411,311,3114,31141,null,"31141","Frozen Fruit, Juice, and Vegetable Manufacturing ",{"$f":"IFERROR(IFERROR(IFERROR(INDEX(Table1[],MATCH(EIOLCA!$E304,Table1[NAICS Code],0),3),INDEX(Table1[],MATCH(ROUNDDOWN(EIOLCA!$E304/10,0)*10,Table1[NAICS Code],0),3)),INDEX(Table1[],MATCH(ROUNDDOWN(EIOLCA!$E304/100,0)*100,Table1[NAICS Code],0),3)),\"\")","v":270}]
["6 digit",1,4,8,311412,311,3114,31141,null,null,"Frozen Specialty Food Manufacturing ",{"$f":"IFERROR(IFERROR(IFERROR(INDEX(Table1[],MATCH(EIOLCA!$E305,Table1[NAICS Code],0),3),INDEX(Table1[],MATCH(ROUNDDOWN(EIOLCA!$E305/10,0)*10,Table1[NAICS Code],0),3)),INDEX(Table1[],MATCH(ROUNDDOWN(EIOLCA!$E305/100,0)*100,Table1[NAICS Code],0),3)),\"\")","v":270}]
["6 digit",1,4,9,311421,311,3114,31142,null,"31142","Fruit and Vegetable Canning ",{"$f":"IFERROR(IFERROR(IFERROR(INDEX(Table1[],MATCH(EIOLCA!$E306,Table1[NAICS Code],0),3),INDEX(Table1[],MATCH(ROUNDDOWN(EIOLCA!$E306/10,0)*10,Table1[NAICS Code],0),3)),INDEX(Table1[],MATCH(ROUNDDOWN(EIOLCA!$E306/100,0)*100,Table1[NAICS Code],0),3)),\"\")","v":12400}]
["6 digit",1,4,9,311422,311,3114,31142,null,null,"Specialty Canning ",{"$f":"IFERROR(IFERROR(IFERROR(INDEX(Table1[],MATCH(EIOLCA!$E307,Table1[NAICS Code],0),3),INDEX(Table1[],MATCH(ROUNDDOWN(EIOLCA!$E307/10,0)*10,Table1[NAICS Code],0),3)),INDEX(Table1[],MATCH(ROUNDDOWN(EIOLCA!$E307/100,0)*100,Table1[NAICS Code],0),3)),\"\")","v":12400}]
["6 digit",1,4,9,311423,311,3114,31142,null,null,"Dried and Dehydrated Food Manufacturing ",{"$f":"IFERROR(IFERROR(IFERROR(INDEX(Table1[],MATCH(EIOLCA!$E308,Table1[NAICS Code],0),3),INDEX(Table1[],MATCH(ROUNDDOWN(EIOLCA!$E308/10,0)*10,Table1[NAICS Code],0),3)),INDEX(Table1[],MATCH(ROUNDDOWN(EIOLCA!$E308/100,0)*100,Table1[NAICS Code],0),3)),\"\")","v":12400}]
["6 digit",1,5,10,311511,311,3115,31151,null,"31151","Fluid Milk Manufacturing ",{"$f":"IFERROR(IFERROR(IFERROR(INDEX(Table1[],MATCH(EIOLCA!$E309,Table1[NAICS Code],0),3),INDEX(Table1[],MATCH(ROUNDDOWN(EIOLCA!$E309/10,0)*10,Table1[NAICS Code],0),3)),INDEX(Table1[],MATCH(ROUNDDOWN(EIOLCA!$E309/100,0)*100,Table1[NAICS Code],0),3)),\"\")","v":""}]
["6 digit",1,5,10,311512,311,3115,31151,null,null,"Creamery Butter Manufacturing ",{"$f":"IFERROR(IFERROR(IFERROR(INDEX(Table1[],MATCH(EIOLCA!$E310,Table1[NAICS Code],0),3),INDEX(Table1[],MATCH(ROUNDDOWN(EIOLCA!$E310/10,0)*10,Table1[NAICS Code],0),3)),INDEX(Table1[],MATCH(ROUNDDOWN(EIOLCA!$E310/100,0)*100,Table1[NAICS Code],0),3)),\"\")","v":""}]
["6 digit",1,5,10,311513,311,3115,31151,null,null,"Cheese Manufacturing ",{"$f":"IFERROR(IFERROR(IFERROR(INDEX(Table1[],MATCH(EIOLCA!$E311,Table1[NAICS Code],0),3),INDEX(Table1[],MATCH(ROUNDDOWN(EIOLCA!$E311/10,0)*10,Table1[NAICS Code],0),3)),INDEX(Table1[],MATCH(ROUNDDOWN(EIOLCA!$E311/100,0)*100,Table1[NAICS Code],0),3)),\"\")","v":13200}]
["6 digit",1,5,10,311514,311,3115,31151,null,null,"Dry, Condensed, and Evaporated Dairy Product Manufacturing ",{"$f":"IFERROR(IFERROR(IFERROR(INDEX(Table1[],MATCH(EIOLCA!$E312,Table1[NAICS Code],0),3),INDEX(Table1[],MATCH(ROUNDDOWN(EIOLCA!$E312/10,0)*10,Table1[NAICS Code],0),3)),INDEX(Table1[],MATCH(ROUNDDOWN(EIOLCA!$E312/100,0)*100,Table1[NAICS Code],0),3)),\"\")","v":187}]
["6 digit",1,5,11,311520,311,3115,31152,null,"31152","Ice Cream and Frozen Dessert Manufacturing",{"$f":"IFERROR(IFERROR(IFERROR(INDEX(Table1[],MATCH(EIOLCA!$E313,Table1[NAICS Code],0),3),INDEX(Table1[],MATCH(ROUNDDOWN(EIOLCA!$E313/10,0)*10,Table1[NAICS Code],0),3)),INDEX(Table1[],MATCH(ROUNDDOWN(EIOLCA!$E313/100,0)*100,Table1[NAICS Code],0),3)),\"\")","v":191}]
["6 digit",1,6,12,311611,311,3116,31161,null,"31161","Animal (except Poultry) Slaughtering ",{"$f":"IFERROR(IFERROR(IFERROR(INDEX(Table1[],MATCH(EIOLCA!$E314,Table1[NAICS Code],0),3),INDEX(Table1[],MATCH(ROUNDDOWN(EIOLCA!$E314/10,0)*10,Table1[NAICS Code],0),3)),INDEX(Table1[],MATCH(ROUNDDOWN(EIOLCA!$E314/100,0)*100,Table1[NAICS Code],0),3)),\"\")","v":""}]
["6 digit",1,6,12,311612,311,3116,31161,null,null,"Meat Processed from Carcasses ",{"$f":"IFERROR(IFERROR(IFERROR(INDEX(Table1[],MATCH(EIOLCA!$E315,Table1[NAICS Code],0),3),INDEX(Table1[],MATCH(ROUNDDOWN(EIOLCA!$E315/10,0)*10,Table1[NAICS Code],0),3)),INDEX(Table1[],MATCH(ROUNDDOWN(EIOLCA!$E315/100,0)*100,Table1[NAICS Code],0),3)),\"\")","v":""}]
["6 digit",1,6,12,311613,311,3116,31161,null,null,"Rendering and Meat Byproduct Processing ",{"$f":"IFERROR(IFERROR(IFERROR(INDEX(Table1[],MATCH(EIOLCA!$E316,Table1[NAICS Code],0),3),INDEX(Table1[],MATCH(ROUNDDOWN(EIOLCA!$E316/10,0)*10,Table1[NAICS Code],0),3)),INDEX(Table1[],MATCH(ROUNDDOWN(EIOLCA!$E316/100,0)*100,Table1[NAICS Code],0),3)),\"\")","v":""}]
["6 digit",1,6,12,311615,311,3116,31161,null,null,"Poultry Processing ",{"$f":"IFERROR(IFERROR(IFERROR(INDEX(Table1[],MATCH(EIOLCA!$E317,Table1[NAICS Code],0),3),INDEX(Table1[],MATCH(ROUNDDOWN(EIOLCA!$E317/10,0)*10,Table1[NAICS Code],0),3)),INDEX(Table1[],MATCH(ROUNDDOWN(EIOLCA!$E317/100,0)*100,Table1[NAICS Code],0),3)),\"\")","v":16500}]
["6 digit",1,7,13,311710,311,3117,31171,null,"31171","Seafood Product Preparation and Packaging",{"$f":"IFERROR(IFERROR(IFERROR(INDEX(Table1[],MATCH(EIOLCA!$E318,Table1[NAICS Code],0),3),INDEX(Table1[],MATCH(ROUNDDOWN(EIOLCA!$E318/10,0)*10,Table1[NAICS Code],0),3)),INDEX(Table1[],MATCH(ROUNDDOWN(EIOLCA!$E318/100,0)*100,Table1[NAICS Code],0),3)),\"\")","v":243}]
["6 digit",1,8,14,311811,311,3118,31181,null,"31181","Retail Bakeries ",{"$f":"IFERROR(IFERROR(IFERROR(INDEX(Table1[],MATCH(EIOLCA!$E319,Table1[NAICS Code],0),3),INDEX(Table1[],MATCH(ROUNDDOWN(EIOLCA!$E319/10,0)*10,Table1[NAICS Code],0),3)),INDEX(Table1[],MATCH(ROUNDDOWN(EIOLCA!$E319/100,0)*100,Table1[NAICS Code],0),3)),\"\")","v":667}]
["6 digit",1,8,14,311812,311,3118,31181,null,null,"Commercial Bakeries ",{"$f":"IFERROR(IFERROR(IFERROR(INDEX(Table1[],MATCH(EIOLCA!$E320,Table1[NAICS Code],0),3),INDEX(Table1[],MATCH(ROUNDDOWN(EIOLCA!$E320/10,0)*10,Table1[NAICS Code],0),3)),INDEX(Table1[],MATCH(ROUNDDOWN(EIOLCA!$E320/100,0)*100,Table1[NAICS Code],0),3)),\"\")","v":667}]
["6 digit",1,8,14,311813,311,3118,31181,null,null,"Frozen Cakes, Pies, and Other Pastries Manufacturing ",{"$f":"IFERROR(IFERROR(IFERROR(INDEX(Table1[],MATCH(EIOLCA!$E321,Table1[NAICS Code],0),3),INDEX(Table1[],MATCH(ROUNDDOWN(EIOLCA!$E321/10,0)*10,Table1[NAICS Code],0),3)),INDEX(Table1[],MATCH(ROUNDDOWN(EIOLCA!$E321/100,0)*100,Table1[NAICS Code],0),3)),\"\")","v":667}]
["6 digit",1,8,15,311821,311,3118,31182,null,"31182","Cookie and Cracker Manufacturing ",{"$f":"IFERROR(IFERROR(IFERROR(INDEX(Table1[],MATCH(EIOLCA!$E322,Table1[NAICS Code],0),3),INDEX(Table1[],MATCH(ROUNDDOWN(EIOLCA!$E322/10,0)*10,Table1[NAICS Code],0),3)),INDEX(Table1[],MATCH(ROUNDDOWN(EIOLCA!$E322/100,0)*100,Table1[NAICS Code],0),3)),\"\")","v":97.8}]
["6 digit",1,8,15,311824,311,3118,31182,null,null,"Dry Pasta, Dough, and Flour Mixes Manufacturing from Purchased Flour ",{"$f":"IFERROR(IFERROR(IFERROR(INDEX(Table1[],MATCH(EIOLCA!$E323,Table1[NAICS Code],0),3),INDEX(Table1[],MATCH(ROUNDDOWN(EIOLCA!$E323/10,0)*10,Table1[NAICS Code],0),3)),INDEX(Table1[],MATCH(ROUNDDOWN(EIOLCA!$E323/100,0)*100,Table1[NAICS Code],0),3)),\"\")","v":97.8}]
["6 digit",1,8,16,311830,311,3118,31183,null,"31183","Tortilla Manufacturing",{"$f":"IFERROR(IFERROR(IFERROR(INDEX(Table1[],MATCH(EIOLCA!$E324,Table1[NAICS Code],0),3),INDEX(Table1[],MATCH(ROUNDDOWN(EIOLCA!$E324/10,0)*10,Table1[NAICS Code],0),3)),INDEX(Table1[],MATCH(ROUNDDOWN(EIOLCA!$E324/100,0)*100,Table1[NAICS Code],0),3)),\"\")","v":200}]
["6 digit",1,9,17,311911,311,3119,31191,null,"31191","Roasted Nuts and Peanut Butter Manufacturing ",{"$f":"IFERROR(IFERROR(IFERROR(INDEX(Table1[],MATCH(EIOLCA!$E325,Table1[NAICS Code],0),3),INDEX(Table1[],MATCH(ROUNDDOWN(EIOLCA!$E325/10,0)*10,Table1[NAICS Code],0),3)),INDEX(Table1[],MATCH(ROUNDDOWN(EIOLCA!$E325/100,0)*100,Table1[NAICS Code],0),3)),\"\")","v":188}]
["6 digit",1,9,17,311919,311,3119,31191,null,null,"Other Snack Food Manufacturing ",{"$f":"IFERROR(IFERROR(IFERROR(INDEX(Table1[],MATCH(EIOLCA!$E326,Table1[NAICS Code],0),3),INDEX(Table1[],MATCH(ROUNDDOWN(EIOLCA!$E326/10,0)*10,Table1[NAICS Code],0),3)),INDEX(Table1[],MATCH(ROUNDDOWN(EIOLCA!$E326/100,0)*100,Table1[NAICS Code],0),3)),\"\")","v":188}]
["6 digit",1,9,18,311920,311,3119,31192,null,"31192","Coffee and Tea Manufacturing ",{"$f":"IFERROR(IFERROR(IFERROR(INDEX(Table1[],MATCH(EIOLCA!$E327,Table1[NAICS Code],0),3),INDEX(Table1[],MATCH(ROUNDDOWN(EIOLCA!$E327/10,0)*10,Table1[NAICS Code],0),3)),INDEX(Table1[],MATCH(ROUNDDOWN(EIOLCA!$E327/100,0)*100,Table1[NAICS Code],0),3)),\"\")","v":138}]
["6 digit",1,9,19,311930,311,3119,31193,null,"31193","Flavoring Syrup and Concentrate Manufacturing",{"$f":"IFERROR(IFERROR(IFERROR(INDEX(Table1[],MATCH(EIOLCA!$E328,Table1[NAICS Code],0),3),INDEX(Table1[],MATCH(ROUNDDOWN(EIOLCA!$E328/10,0)*10,Table1[NAICS Code],0),3)),INDEX(Table1[],MATCH(ROUNDDOWN(EIOLCA!$E328/100,0)*100,Table1[NAICS Code],0),3)),\"\")","v":127}]
["6 digit",1,9,20,311941,311,3119,31194,null,"31194","Mayonnaise, Dressing, and Other Prepared Sauce Manufacturing ",{"$f":"IFERROR(IFERROR(IFERROR(INDEX(Table1[],MATCH(EIOLCA!$E329,Table1[NAICS Code],0),3),INDEX(Table1[],MATCH(ROUNDDOWN(EIOLCA!$E329/10,0)*10,Table1[NAICS Code],0),3)),INDEX(Table1[],MATCH(ROUNDDOWN(EIOLCA!$E329/100,0)*100,Table1[NAICS Code],0),3)),\"\")","v":460}]
["6 digit",1,9,20,311942,311,3119,31194,null,null,"Spice and Extract Manufacturing ",{"$f":"IFERROR(IFERROR(IFERROR(INDEX(Table1[],MATCH(EIOLCA!$E330,Table1[NAICS Code],0),3),INDEX(Table1[],MATCH(ROUNDDOWN(EIOLCA!$E330/10,0)*10,Table1[NAICS Code],0),3)),INDEX(Table1[],MATCH(ROUNDDOWN(EIOLCA!$E330/100,0)*100,Table1[NAICS Code],0),3)),\"\")","v":460}]
["6 digit",1,9,21,311991,311,3119,31199,null,"31199","Perishable Prepared Food Manufacturing ",{"$f":"IFERROR(IFERROR(IFERROR(INDEX(Table1[],MATCH(EIOLCA!$E331,Table1[NAICS Code],0),3),INDEX(Table1[],MATCH(ROUNDDOWN(EIOLCA!$E331/10,0)*10,Table1[NAICS Code],0),3)),INDEX(Table1[],MATCH(ROUNDDOWN(EIOLCA!$E331/100,0)*100,Table1[NAICS Code],0),3)),\"\")","v":227}]
["6 digit",1,9,21,311999,311,3119,31199,null,null,"All Other Miscellaneous Food Manufacturing ",{"$f":"IFERROR(IFERROR(IFERROR(INDEX(Table1[],MATCH(EIOLCA!$E332,Table1[NAICS Code],0),3),INDEX(Table1[],MATCH(ROUNDDOWN(EIOLCA!$E332/10,0)*10,Table1[NAICS Code],0),3)),INDEX(Table1[],MATCH(ROUNDDOWN(EIOLCA!$E332/100,0)*100,Table1[NAICS Code],0),3)),\"\")","v":227}]
["6 digit",2,10,22,312111,312,3121,31211,{"$f":"LEFT(E333,3)","v":"312"},"31211","Soft Drink Manufacturing ",{"$f":"IFERROR(IFERROR(IFERROR(INDEX(Table1[],MATCH(EIOLCA!$E333,Table1[NAICS Code],0),3),INDEX(Table1[],MATCH(ROUNDDOWN(EIOLCA!$E333/10,0)*10,Table1[NAICS Code],0),3)),INDEX(Table1[],MATCH(ROUNDDOWN(EIOLCA!$E333/100,0)*100,Table1[NAICS Code],0),3)),\"\")","v":199}]
["6 digit",2,10,22,312112,312,3121,31211,null,null,"Bottled Water Manufacturing ",{"$f":"IFERROR(IFERROR(IFERROR(INDEX(Table1[],MATCH(EIOLCA!$E334,Table1[NAICS Code],0),3),INDEX(Table1[],MATCH(ROUNDDOWN(EIOLCA!$E334/10,0)*10,Table1[NAICS Code],0),3)),INDEX(Table1[],MATCH(ROUNDDOWN(EIOLCA!$E334/100,0)*100,Table1[NAICS Code],0),3)),\"\")","v":199}]
["6 digit",2,10,22,312113,312,3121,31211,null,null,"Ice Manufacturing ",{"$f":"IFERROR(IFERROR(IFERROR(INDEX(Table1[],MATCH(EIOLCA!$E335,Table1[NAICS Code],0),3),INDEX(Table1[],MATCH(ROUNDDOWN(EIOLCA!$E335/10,0)*10,Table1[NAICS Code],0),3)),INDEX(Table1[],MATCH(ROUNDDOWN(EIOLCA!$E335/100,0)*100,Table1[NAICS Code],0),3)),\"\")","v":199}]
["6 digit",2,10,23,312120,312,3121,31212,null,"31212","Breweries",{"$f":"IFERROR(IFERROR(IFERROR(INDEX(Table1[],MATCH(EIOLCA!$E336,Table1[NAICS Code],0),3),INDEX(Table1[],MATCH(ROUNDDOWN(EIOLCA!$E336/10,0)*10,Table1[NAICS Code],0),3)),INDEX(Table1[],MATCH(ROUNDDOWN(EIOLCA!$E336/100,0)*100,Table1[NAICS Code],0),3)),\"\")","v":5640}]
["6 digit",2,10,24,312130,312,3121,31213,null,"31213","Wineries ",{"$f":"IFERROR(IFERROR(IFERROR(INDEX(Table1[],MATCH(EIOLCA!$E337,Table1[NAICS Code],0),3),INDEX(Table1[],MATCH(ROUNDDOWN(EIOLCA!$E337/10,0)*10,Table1[NAICS Code],0),3)),INDEX(Table1[],MATCH(ROUNDDOWN(EIOLCA!$E337/100,0)*100,Table1[NAICS Code],0),3)),\"\")","v":39600}]
["6 digit",2,10,25,312140,312,3121,31214,null,"31214","Distilleries ",{"$f":"IFERROR(IFERROR(IFERROR(INDEX(Table1[],MATCH(EIOLCA!$E338,Table1[NAICS Code],0),3),INDEX(Table1[],MATCH(ROUNDDOWN(EIOLCA!$E338/10,0)*10,Table1[NAICS Code],0),3)),INDEX(Table1[],MATCH(ROUNDDOWN(EIOLCA!$E338/100,0)*100,Table1[NAICS Code],0),3)),\"\")","v":14800}]
["6 digit",2,11,26,312230,312,3122,31223,null,"31223","Tobacco Manufacturing ",{"$f":"IFERROR(IFERROR(IFERROR(INDEX(Table1[],MATCH(EIOLCA!$E339,Table1[NAICS Code],0),3),INDEX(Table1[],MATCH(ROUNDDOWN(EIOLCA!$E339/10,0)*10,Table1[NAICS Code],0),3)),INDEX(Table1[],MATCH(ROUNDDOWN(EIOLCA!$E339/100,0)*100,Table1[NAICS Code],0),3)),\"\")","v":""}]
["6 digit",3,12,27,313110,313,3131,31311,{"$f":"LEFT(E340,3)","v":"313"},"31311","Fiber, Yarn, and Thread Mills ",{"$f":"IFERROR(IFERROR(IFERROR(INDEX(Table1[],MATCH(EIOLCA!$E340,Table1[NAICS Code],0),3),INDEX(Table1[],MATCH(ROUNDDOWN(EIOLCA!$E340/10,0)*10,Table1[NAICS Code],0),3)),INDEX(Table1[],MATCH(ROUNDDOWN(EIOLCA!$E340/100,0)*100,Table1[NAICS Code],0),3)),\"\")","v":4610}]
["6 digit",3,13,28,313210,313,3132,31321,null,"31321","Broadwoven Fabric Mills",{"$f":"IFERROR(IFERROR(IFERROR(INDEX(Table1[],MATCH(EIOLCA!$E341,Table1[NAICS Code],0),3),INDEX(Table1[],MATCH(ROUNDDOWN(EIOLCA!$E341/10,0)*10,Table1[NAICS Code],0),3)),INDEX(Table1[],MATCH(ROUNDDOWN(EIOLCA!$E341/100,0)*100,Table1[NAICS Code],0),3)),\"\")","v":568}]
["6 digit",3,13,29,313220,313,3132,31322,null,"31322","Narrow Fabric Mills and Schiffli Machine Embroidery",{"$f":"IFERROR(IFERROR(IFERROR(INDEX(Table1[],MATCH(EIOLCA!$E342,Table1[NAICS Code],0),3),INDEX(Table1[],MATCH(ROUNDDOWN(EIOLCA!$E342/10,0)*10,Table1[NAICS Code],0),3)),INDEX(Table1[],MATCH(ROUNDDOWN(EIOLCA!$E342/100,0)*100,Table1[NAICS Code],0),3)),\"\")","v":221}]
["6 digit",3,13,30,313230,313,3132,31323,null,"31323","Nonwoven Fabric Mills",{"$f":"IFERROR(IFERROR(IFERROR(INDEX(Table1[],MATCH(EIOLCA!$E343,Table1[NAICS Code],0),3),INDEX(Table1[],MATCH(ROUNDDOWN(EIOLCA!$E343/10,0)*10,Table1[NAICS Code],0),3)),INDEX(Table1[],MATCH(ROUNDDOWN(EIOLCA!$E343/100,0)*100,Table1[NAICS Code],0),3)),\"\")","v":252}]
["6 digit",3,13,31,313240,313,3132,31324,null,"31324","Knit Fabric Mills",{"$f":"IFERROR(IFERROR(IFERROR(INDEX(Table1[],MATCH(EIOLCA!$E344,Table1[NAICS Code],0),3),INDEX(Table1[],MATCH(ROUNDDOWN(EIOLCA!$E344/10,0)*10,Table1[NAICS Code],0),3)),INDEX(Table1[],MATCH(ROUNDDOWN(EIOLCA!$E344/100,0)*100,Table1[NAICS Code],0),3)),\"\")","v":942}]
["6 digit",{"$f":"INDEX($B$3:$E$23,MATCH(F345,$E$3:$E$23,0),1)","v":3},14,32,313310,{"$f":"LEFT(E345,3)*1","v":313},{"$f":"LEFT(E345,4)*1","v":3133},31331,null,"31331","Textile and Fabric Finishing Mills ",{"$f":"IFERROR(IFERROR(IFERROR(INDEX(Table1[],MATCH(EIOLCA!$E345,Table1[NAICS Code],0),3),INDEX(Table1[],MATCH(ROUNDDOWN(EIOLCA!$E345/10,0)*10,Table1[NAICS Code],0),3)),INDEX(Table1[],MATCH(ROUNDDOWN(EIOLCA!$E345/100,0)*100,Table1[NAICS Code],0),3)),\"\")","v":519}]
["6 digit",3,14,33,313320,313,3133,31332,null,"31332","Fabric Coating Mills",{"$f":"IFERROR(IFERROR(IFERROR(INDEX(Table1[],MATCH(EIOLCA!$E346,Table1[NAICS Code],0),3),INDEX(Table1[],MATCH(ROUNDDOWN(EIOLCA!$E346/10,0)*10,Table1[NAICS Code],0),3)),INDEX(Table1[],MATCH(ROUNDDOWN(EIOLCA!$E346/100,0)*100,Table1[NAICS Code],0),3)),\"\")","v":314}]
["6 digit",4,15,34,314110,314,3141,31411,{"$f":"LEFT(E347,3)","v":"314"},"31411","Carpet and Rug Mills",{"$f":"IFERROR(IFERROR(IFERROR(INDEX(Table1[],MATCH(EIOLCA!$E347,Table1[NAICS Code],0),3),INDEX(Table1[],MATCH(ROUNDDOWN(EIOLCA!$E347/10,0)*10,Table1[NAICS Code],0),3)),INDEX(Table1[],MATCH(ROUNDDOWN(EIOLCA!$E347/100,0)*100,Table1[NAICS Code],0),3)),\"\")","v":136}]
["6 digit",4,15,35,314120,314,3141,31412,null,"31412","Curtain and Linen Mills",{"$f":"IFERROR(IFERROR(IFERROR(INDEX(Table1[],MATCH(EIOLCA!$E348,Table1[NAICS Code],0),3),INDEX(Table1[],MATCH(ROUNDDOWN(EIOLCA!$E348/10,0)*10,Table1[NAICS Code],0),3)),INDEX(Table1[],MATCH(ROUNDDOWN(EIOLCA!$E348/100,0)*100,Table1[NAICS Code],0),3)),\"\")","v":41.3}]
["6 digit",4,16,36,314910,314,3149,31491,null,"31491","Textile Bag and Canvas Mills ",{"$f":"IFERROR(IFERROR(IFERROR(INDEX(Table1[],MATCH(EIOLCA!$E349,Table1[NAICS Code],0),3),INDEX(Table1[],MATCH(ROUNDDOWN(EIOLCA!$E349/10,0)*10,Table1[NAICS Code],0),3)),INDEX(Table1[],MATCH(ROUNDDOWN(EIOLCA!$E349/100,0)*100,Table1[NAICS Code],0),3)),\"\")","v":84.7}]
["6 digit",4,16,37,314994,314,3149,31499,null,"31499","Rope, Cordage, Twine, Tire Cord, and Tire Fabric Mills ",{"$f":"IFERROR(IFERROR(IFERROR(INDEX(Table1[],MATCH(EIOLCA!$E350,Table1[NAICS Code],0),3),INDEX(Table1[],MATCH(ROUNDDOWN(EIOLCA!$E350/10,0)*10,Table1[NAICS Code],0),3)),INDEX(Table1[],MATCH(ROUNDDOWN(EIOLCA!$E350/100,0)*100,Table1[NAICS Code],0),3)),\"\")","v":173}]
["6 digit",4,16,37,314999,314,3149,31499,null,null,"All Other Miscellaneous Textile Product Mills ",{"$f":"IFERROR(IFERROR(IFERROR(INDEX(Table1[],MATCH(EIOLCA!$E351,Table1[NAICS Code],0),3),INDEX(Table1[],MATCH(ROUNDDOWN(EIOLCA!$E351/10,0)*10,Table1[NAICS Code],0),3)),INDEX(Table1[],MATCH(ROUNDDOWN(EIOLCA!$E351/100,0)*100,Table1[NAICS Code],0),3)),\"\")","v":173}]
["6 digit",5,17,38,315110,315,3151,31511,{"$f":"LEFT(E352,3)","v":"315"},"31511","Hosiery and Sock Mills",{"$f":"IFERROR(IFERROR(IFERROR(INDEX(Table1[],MATCH(EIOLCA!$E352,Table1[NAICS Code],0),3),INDEX(Table1[],MATCH(ROUNDDOWN(EIOLCA!$E352/10,0)*10,Table1[NAICS Code],0),3)),INDEX(Table1[],MATCH(ROUNDDOWN(EIOLCA!$E352/100,0)*100,Table1[NAICS Code],0),3)),\"\")","v":459}]
["6 digit",5,17,39,315190,315,3151,31519,null,"31519","Other Apparel Knitting Mills ",{"$f":"IFERROR(IFERROR(IFERROR(INDEX(Table1[],MATCH(EIOLCA!$E353,Table1[NAICS Code],0),3),INDEX(Table1[],MATCH(ROUNDDOWN(EIOLCA!$E353/10,0)*10,Table1[NAICS Code],0),3)),INDEX(Table1[],MATCH(ROUNDDOWN(EIOLCA!$E353/100,0)*100,Table1[NAICS Code],0),3)),\"\")","v":459}]
["6 digit",5,18,40,315210,315,3152,31521,null,"31521","Cut and Sew Apparel Contractors ",{"$f":"IFERROR(IFERROR(IFERROR(INDEX(Table1[],MATCH(EIOLCA!$E354,Table1[NAICS Code],0),3),INDEX(Table1[],MATCH(ROUNDDOWN(EIOLCA!$E354/10,0)*10,Table1[NAICS Code],0),3)),INDEX(Table1[],MATCH(ROUNDDOWN(EIOLCA!$E354/100,0)*100,Table1[NAICS Code],0),3)),\"\")","v":95.3}]
["6 digit",5,18,{"$f":"INDEX($B$110:$E$289,MATCH(H355,$E$110:$E$289,0),1)","v":41},315220,315,3152,{"$f":"LEFT(E355,5)*1","v":31522},null,"31522","Men?s and Boys? Cut and Sew Apparel Manufacturing ",{"$f":"IFERROR(IFERROR(IFERROR(INDEX(Table1[],MATCH(EIOLCA!$E355,Table1[NAICS Code],0),3),INDEX(Table1[],MATCH(ROUNDDOWN(EIOLCA!$E355/10,0)*10,Table1[NAICS Code],0),3)),INDEX(Table1[],MATCH(ROUNDDOWN(EIOLCA!$E355/100,0)*100,Table1[NAICS Code],0),3)),\"\")","v":61.2}]
["6 digit",5,18,42,315240,315,3152,31524,null,{"$f":"LEFT(E356,5)","v":"31524"},"Women?s, Girls?, and Infants? Cut and Sew Apparel Manufacturing ",{"$f":"IFERROR(IFERROR(IFERROR(INDEX(Table1[],MATCH(EIOLCA!$E356,Table1[NAICS Code],0),3),INDEX(Table1[],MATCH(ROUNDDOWN(EIOLCA!$E356/10,0)*10,Table1[NAICS Code],0),3)),INDEX(Table1[],MATCH(ROUNDDOWN(EIOLCA!$E356/100,0)*100,Table1[NAICS Code],0),3)),\"\")","v":""}]
["6 digit",5,18,43,315280,315,3152,31528,null,"31528","Other Cut and Sew Apparel Manufacturing ",{"$f":"IFERROR(IFERROR(IFERROR(INDEX(Table1[],MATCH(EIOLCA!$E357,Table1[NAICS Code],0),3),INDEX(Table1[],MATCH(ROUNDDOWN(EIOLCA!$E357/10,0)*10,Table1[NAICS Code],0),3)),INDEX(Table1[],MATCH(ROUNDDOWN(EIOLCA!$E357/100,0)*100,Table1[NAICS Code],0),3)),\"\")","v":""}]
["6 digit",5,19,44,315990,315,3159,31599,null,"31599","Apparel Accessories and Other Apparel Manufacturing ",{"$f":"IFERROR(IFERROR(IFERROR(INDEX(Table1[],MATCH(EIOLCA!$E358,Table1[NAICS Code],0),3),INDEX(Table1[],MATCH(ROUNDDOWN(EIOLCA!$E358/10,0)*10,Table1[NAICS Code],0),3)),INDEX(Table1[],MATCH(ROUNDDOWN(EIOLCA!$E358/100,0)*100,Table1[NAICS Code],0),3)),\"\")","v":126}]
["6 digit",6,20,45,316110,316,3161,31611,{"$f":"LEFT(E359,3)","v":"316"},"31611","Leather and Hide Tanning and Finishing",{"$f":"IFERROR(IFERROR(IFERROR(INDEX(Table1[],MATCH(EIOLCA!$E359,Table1[NAICS Code],0),3),INDEX(Table1[],MATCH(ROUNDDOWN(EIOLCA!$E359/10,0)*10,Table1[NAICS Code],0),3)),INDEX(Table1[],MATCH(ROUNDDOWN(EIOLCA!$E359/100,0)*100,Table1[NAICS Code],0),3)),\"\")","v":3380}]
["6 digit",6,21,46,316210,316,3162,31621,null,"31621","Footwear Manufacturing ",{"$f":"IFERROR(IFERROR(IFERROR(INDEX(Table1[],MATCH(EIOLCA!$E360,Table1[NAICS Code],0),3),INDEX(Table1[],MATCH(ROUNDDOWN(EIOLCA!$E360/10,0)*10,Table1[NAICS Code],0),3)),INDEX(Table1[],MATCH(ROUNDDOWN(EIOLCA!$E360/100,0)*100,Table1[NAICS Code],0),3)),\"\")","v":114}]
["6 digit",6,22,47,316992,316,3169,31699,null,"31699","Women's Handbag and Purse Manufacturing ",{"$f":"IFERROR(IFERROR(IFERROR(INDEX(Table1[],MATCH(EIOLCA!$E361,Table1[NAICS Code],0),3),INDEX(Table1[],MATCH(ROUNDDOWN(EIOLCA!$E361/10,0)*10,Table1[NAICS Code],0),3)),INDEX(Table1[],MATCH(ROUNDDOWN(EIOLCA!$E361/100,0)*100,Table1[NAICS Code],0),3)),\"\")","v":59.9}]
["6 digit",6,22,47,316998,316,3169,31699,null,null,"All Other Leather Good and Allied Product Manufacturing ",{"$f":"IFERROR(IFERROR(IFERROR(INDEX(Table1[],MATCH(EIOLCA!$E362,Table1[NAICS Code],0),3),INDEX(Table1[],MATCH(ROUNDDOWN(EIOLCA!$E362/10,0)*10,Table1[NAICS Code],0),3)),INDEX(Table1[],MATCH(ROUNDDOWN(EIOLCA!$E362/100,0)*100,Table1[NAICS Code],0),3)),\"\")","v":59.9}]
["6 digit",7,23,48,321113,321,3211,32111,{"$f":"LEFT(E363,3)","v":"321"},"32111","Sawmills ",{"$f":"IFERROR(IFERROR(IFERROR(INDEX(Table1[],MATCH(EIOLCA!$E363,Table1[NAICS Code],0),3),INDEX(Table1[],MATCH(ROUNDDOWN(EIOLCA!$E363/10,0)*10,Table1[NAICS Code],0),3)),INDEX(Table1[],MATCH(ROUNDDOWN(EIOLCA!$E363/100,0)*100,Table1[NAICS Code],0),3)),\"\")","v":785}]
["6 digit",7,23,48,321114,321,3211,32111,null,null,"Wood Preservation ",{"$f":"IFERROR(IFERROR(IFERROR(INDEX(Table1[],MATCH(EIOLCA!$E364,Table1[NAICS Code],0),3),INDEX(Table1[],MATCH(ROUNDDOWN(EIOLCA!$E364/10,0)*10,Table1[NAICS Code],0),3)),INDEX(Table1[],MATCH(ROUNDDOWN(EIOLCA!$E364/100,0)*100,Table1[NAICS Code],0),3)),\"\")","v":785}]
["6 digit",7,24,49,321211,321,3212,32121,null,"32121","Hardwood Veneer and Plywood Manufacturing ",{"$f":"IFERROR(IFERROR(IFERROR(INDEX(Table1[],MATCH(EIOLCA!$E365,Table1[NAICS Code],0),3),INDEX(Table1[],MATCH(ROUNDDOWN(EIOLCA!$E365/10,0)*10,Table1[NAICS Code],0),3)),INDEX(Table1[],MATCH(ROUNDDOWN(EIOLCA!$E365/100,0)*100,Table1[NAICS Code],0),3)),\"\")","v":""}]
["6 digit",7,24,49,321212,321,3212,32121,null,null,"Softwood Veneer and Plywood Manufacturing ",{"$f":"IFERROR(IFERROR(IFERROR(INDEX(Table1[],MATCH(EIOLCA!$E366,Table1[NAICS Code],0),3),INDEX(Table1[],MATCH(ROUNDDOWN(EIOLCA!$E366/10,0)*10,Table1[NAICS Code],0),3)),INDEX(Table1[],MATCH(ROUNDDOWN(EIOLCA!$E366/100,0)*100,Table1[NAICS Code],0),3)),\"\")","v":""}]
["6 digit",7,{"$f":"INDEX($B$24:$E$109,MATCH(G367,$E$24:$E$109,0),1)","v":24},49,321213,321,3212,32121,null,null,"Engineered Wood Member (except Truss) Manufacturing ",{"$f":"IFERROR(IFERROR(IFERROR(INDEX(Table1[],MATCH(EIOLCA!$E367,Table1[NAICS Code],0),3),INDEX(Table1[],MATCH(ROUNDDOWN(EIOLCA!$E367/10,0)*10,Table1[NAICS Code],0),3)),INDEX(Table1[],MATCH(ROUNDDOWN(EIOLCA!$E367/100,0)*100,Table1[NAICS Code],0),3)),\"\")","v":""}]
["6 digit",7,24,49,321214,321,3212,32121,null,null,"Truss Manufacturing ",{"$f":"IFERROR(IFERROR(IFERROR(INDEX(Table1[],MATCH(EIOLCA!$E368,Table1[NAICS Code],0),3),INDEX(Table1[],MATCH(ROUNDDOWN(EIOLCA!$E368/10,0)*10,Table1[NAICS Code],0),3)),INDEX(Table1[],MATCH(ROUNDDOWN(EIOLCA!$E368/100,0)*100,Table1[NAICS Code],0),3)),\"\")","v":""}]
["6 digit",7,24,49,321219,321,3212,32121,null,null,"Reconstituted Wood Product Manufacturing ",{"$f":"IFERROR(IFERROR(IFERROR(INDEX(Table1[],MATCH(EIOLCA!$E369,Table1[NAICS Code],0),3),INDEX(Table1[],MATCH(ROUNDDOWN(EIOLCA!$E369/10,0)*10,Table1[NAICS Code],0),3)),INDEX(Table1[],MATCH(ROUNDDOWN(EIOLCA!$E369/100,0)*100,Table1[NAICS Code],0),3)),\"\")","v":219}]
["6 digit",7,25,50,321911,321,3219,32191,null,"32191","Wood Window and Door Manufacturing ",{"$f":"IFERROR(IFERROR(IFERROR(INDEX(Table1[],MATCH(EIOLCA!$E370,Table1[NAICS Code],0),3),INDEX(Table1[],MATCH(ROUNDDOWN(EIOLCA!$E370/10,0)*10,Table1[NAICS Code],0),3)),INDEX(Table1[],MATCH(ROUNDDOWN(EIOLCA!$E370/100,0)*100,Table1[NAICS Code],0),3)),\"\")","v":204}]
["6 digit",7,25,50,321912,321,3219,32191,null,null,"Cut Stock, Resawing Lumber, and Planing ",{"$f":"IFERROR(IFERROR(IFERROR(INDEX(Table1[],MATCH(EIOLCA!$E371,Table1[NAICS Code],0),3),INDEX(Table1[],MATCH(ROUNDDOWN(EIOLCA!$E371/10,0)*10,Table1[NAICS Code],0),3)),INDEX(Table1[],MATCH(ROUNDDOWN(EIOLCA!$E371/100,0)*100,Table1[NAICS Code],0),3)),\"\")","v":204}]
["6 digit",7,25,50,321918,321,3219,32191,null,null,"Other Millwork (including Flooring) ",{"$f":"IFERROR(IFERROR(IFERROR(INDEX(Table1[],MATCH(EIOLCA!$E372,Table1[NAICS Code],0),3),INDEX(Table1[],MATCH(ROUNDDOWN(EIOLCA!$E372/10,0)*10,Table1[NAICS Code],0),3)),INDEX(Table1[],MATCH(ROUNDDOWN(EIOLCA!$E372/100,0)*100,Table1[NAICS Code],0),3)),\"\")","v":204}]
["6 digit",7,25,51,321920,321,3219,32192,null,"32192","Wood Container and Pallet Manufacturing",{"$f":"IFERROR(IFERROR(IFERROR(INDEX(Table1[],MATCH(EIOLCA!$E373,Table1[NAICS Code],0),3),INDEX(Table1[],MATCH(ROUNDDOWN(EIOLCA!$E373/10,0)*10,Table1[NAICS Code],0),3)),INDEX(Table1[],MATCH(ROUNDDOWN(EIOLCA!$E373/100,0)*100,Table1[NAICS Code],0),3)),\"\")","v":131}]
["6 digit",7,25,52,321991,321,3219,32199,null,"32199","Manufactured Home (Mobile Home) Manufacturing ",{"$f":"IFERROR(IFERROR(IFERROR(INDEX(Table1[],MATCH(EIOLCA!$E374,Table1[NAICS Code],0),3),INDEX(Table1[],MATCH(ROUNDDOWN(EIOLCA!$E374/10,0)*10,Table1[NAICS Code],0),3)),INDEX(Table1[],MATCH(ROUNDDOWN(EIOLCA!$E374/100,0)*100,Table1[NAICS Code],0),3)),\"\")","v":228}]
["6 digit",7,25,52,321992,321,3219,32199,null,null,"Prefabricated Wood Building Manufacturing ",{"$f":"IFERROR(IFERROR(IFERROR(INDEX(Table1[],MATCH(EIOLCA!$E375,Table1[NAICS Code],0),3),INDEX(Table1[],MATCH(ROUNDDOWN(EIOLCA!$E375/10,0)*10,Table1[NAICS Code],0),3)),INDEX(Table1[],MATCH(ROUNDDOWN(EIOLCA!$E375/100,0)*100,Table1[NAICS Code],0),3)),\"\")","v":170}]
["6 digit",7,25,52,321999,321,3219,32199,null,null,"All Other Miscellaneous Wood Product Manufacturing ",{"$f":"IFERROR(IFERROR(IFERROR(INDEX(Table1[],MATCH(EIOLCA!$E376,Table1[NAICS Code],0),3),INDEX(Table1[],MATCH(ROUNDDOWN(EIOLCA!$E376/10,0)*10,Table1[NAICS Code],0),3)),INDEX(Table1[],MATCH(ROUNDDOWN(EIOLCA!$E376/100,0)*100,Table1[NAICS Code],0),3)),\"\")","v":422}]
["6 digit",8,26,53,322110,322,3221,32211,{"$f":"LEFT(E377,3)","v":"322"},"32211","Pulp Mills ",{"$f":"IFERROR(IFERROR(IFERROR(INDEX(Table1[],MATCH(EIOLCA!$E377,Table1[NAICS Code],0),3),INDEX(Table1[],MATCH(ROUNDDOWN(EIOLCA!$E377/10,0)*10,Table1[NAICS Code],0),3)),INDEX(Table1[],MATCH(ROUNDDOWN(EIOLCA!$E377/100,0)*100,Table1[NAICS Code],0),3)),\"\")","v":7830}]
["6 digit",8,26,54,322121,322,3221,32212,null,"32212","Paper (except Newsprint) Mills ",{"$f":"IFERROR(IFERROR(IFERROR(INDEX(Table1[],MATCH(EIOLCA!$E378,Table1[NAICS Code],0),3),INDEX(Table1[],MATCH(ROUNDDOWN(EIOLCA!$E378/10,0)*10,Table1[NAICS Code],0),3)),INDEX(Table1[],MATCH(ROUNDDOWN(EIOLCA!$E378/100,0)*100,Table1[NAICS Code],0),3)),\"\")","v":13800}]
["6 digit",8,26,54,322122,322,3221,32212,null,null,"Newsprint Mills ",{"$f":"IFERROR(IFERROR(IFERROR(INDEX(Table1[],MATCH(EIOLCA!$E379,Table1[NAICS Code],0),3),INDEX(Table1[],MATCH(ROUNDDOWN(EIOLCA!$E379/10,0)*10,Table1[NAICS Code],0),3)),INDEX(Table1[],MATCH(ROUNDDOWN(EIOLCA!$E379/100,0)*100,Table1[NAICS Code],0),3)),\"\")","v":13800}]
["6 digit",8,26,55,322130,322,3221,32213,null,"32213","Paperboard Mills ",{"$f":"IFERROR(IFERROR(IFERROR(INDEX(Table1[],MATCH(EIOLCA!$E380,Table1[NAICS Code],0),3),INDEX(Table1[],MATCH(ROUNDDOWN(EIOLCA!$E380/10,0)*10,Table1[NAICS Code],0),3)),INDEX(Table1[],MATCH(ROUNDDOWN(EIOLCA!$E380/100,0)*100,Table1[NAICS Code],0),3)),\"\")","v":61500}]
["6 digit",8,27,56,322211,322,3222,32221,null,"32221","Corrugated and Solid Fiber Box Manufacturing ",{"$f":"IFERROR(IFERROR(IFERROR(INDEX(Table1[],MATCH(EIOLCA!$E381,Table1[NAICS Code],0),3),INDEX(Table1[],MATCH(ROUNDDOWN(EIOLCA!$E381/10,0)*10,Table1[NAICS Code],0),3)),INDEX(Table1[],MATCH(ROUNDDOWN(EIOLCA!$E381/100,0)*100,Table1[NAICS Code],0),3)),\"\")","v":114}]
["6 digit",8,27,56,322212,322,3222,32221,null,null,"Folding Paperboard Box Manufacturing ",{"$f":"IFERROR(IFERROR(IFERROR(INDEX(Table1[],MATCH(EIOLCA!$E382,Table1[NAICS Code],0),3),INDEX(Table1[],MATCH(ROUNDDOWN(EIOLCA!$E382/10,0)*10,Table1[NAICS Code],0),3)),INDEX(Table1[],MATCH(ROUNDDOWN(EIOLCA!$E382/100,0)*100,Table1[NAICS Code],0),3)),\"\")","v":114}]
["6 digit",8,27,56,322219,322,3222,32221,null,null,"Other Paperboard Container Manufacturing ",{"$f":"IFERROR(IFERROR(IFERROR(INDEX(Table1[],MATCH(EIOLCA!$E383,Table1[NAICS Code],0),3),INDEX(Table1[],MATCH(ROUNDDOWN(EIOLCA!$E383/10,0)*10,Table1[NAICS Code],0),3)),INDEX(Table1[],MATCH(ROUNDDOWN(EIOLCA!$E383/100,0)*100,Table1[NAICS Code],0),3)),\"\")","v":114}]
["6 digit",8,27,57,322220,322,3222,32222,null,"32222","Paper Bag and Coated and Treated Paper Manufacturing",{"$f":"IFERROR(IFERROR(IFERROR(INDEX(Table1[],MATCH(EIOLCA!$E384,Table1[NAICS Code],0),3),INDEX(Table1[],MATCH(ROUNDDOWN(EIOLCA!$E384/10,0)*10,Table1[NAICS Code],0),3)),INDEX(Table1[],MATCH(ROUNDDOWN(EIOLCA!$E384/100,0)*100,Table1[NAICS Code],0),3)),\"\")","v":""}]
["6 digit",8,27,58,322230,322,3222,32223,null,"32223","Stationery Product Manufacturing",{"$f":"IFERROR(IFERROR(IFERROR(INDEX(Table1[],MATCH(EIOLCA!$E385,Table1[NAICS Code],0),3),INDEX(Table1[],MATCH(ROUNDDOWN(EIOLCA!$E385/10,0)*10,Table1[NAICS Code],0),3)),INDEX(Table1[],MATCH(ROUNDDOWN(EIOLCA!$E385/100,0)*100,Table1[NAICS Code],0),3)),\"\")","v":61.3}]
["6 digit",8,27,59,322291,322,3222,32229,null,"32229","Sanitary Paper Product Manufacturing ",{"$f":"IFERROR(IFERROR(IFERROR(INDEX(Table1[],MATCH(EIOLCA!$E386,Table1[NAICS Code],0),3),INDEX(Table1[],MATCH(ROUNDDOWN(EIOLCA!$E386/10,0)*10,Table1[NAICS Code],0),3)),INDEX(Table1[],MATCH(ROUNDDOWN(EIOLCA!$E386/100,0)*100,Table1[NAICS Code],0),3)),\"\")","v":43.2}]
["6 digit",8,27,59,322299,322,3222,32229,null,null,"All Other Converted Paper Product Manufacturing ",{"$f":"IFERROR(IFERROR(IFERROR(INDEX(Table1[],MATCH(EIOLCA!$E387,Table1[NAICS Code],0),3),INDEX(Table1[],MATCH(ROUNDDOWN(EIOLCA!$E387/10,0)*10,Table1[NAICS Code],0),3)),INDEX(Table1[],MATCH(ROUNDDOWN(EIOLCA!$E387/100,0)*100,Table1[NAICS Code],0),3)),\"\")","v":312}]
["6 digit",9,28,60,323111,323,3231,32311,{"$f":"LEFT(E388,3)","v":"323"},"32311","Commercial Printing (except Screen and Books) ",{"$f":"IFERROR(IFERROR(IFERROR(INDEX(Table1[],MATCH(EIOLCA!$E388,Table1[NAICS Code],0),3),INDEX(Table1[],MATCH(ROUNDDOWN(EIOLCA!$E388/10,0)*10,Table1[NAICS Code],0),3)),INDEX(Table1[],MATCH(ROUNDDOWN(EIOLCA!$E388/100,0)*100,Table1[NAICS Code],0),3)),\"\")","v":207}]
["6 digit",9,28,60,323113,323,3231,32311,null,null,"Commercial Screen Printing ",{"$f":"IFERROR(IFERROR(IFERROR(INDEX(Table1[],MATCH(EIOLCA!$E389,Table1[NAICS Code],0),3),INDEX(Table1[],MATCH(ROUNDDOWN(EIOLCA!$E389/10,0)*10,Table1[NAICS Code],0),3)),INDEX(Table1[],MATCH(ROUNDDOWN(EIOLCA!$E389/100,0)*100,Table1[NAICS Code],0),3)),\"\")","v":207}]
["6 digit",9,28,60,323117,323,3231,32311,null,null,"Books Printing ",{"$f":"IFERROR(IFERROR(IFERROR(INDEX(Table1[],MATCH(EIOLCA!$E390,Table1[NAICS Code],0),3),INDEX(Table1[],MATCH(ROUNDDOWN(EIOLCA!$E390/10,0)*10,Table1[NAICS Code],0),3)),INDEX(Table1[],MATCH(ROUNDDOWN(EIOLCA!$E390/100,0)*100,Table1[NAICS Code],0),3)),\"\")","v":207}]
["6 digit",9,28,61,323120,323,3231,32312,null,"32312","Support Activities for Printing",{"$f":"IFERROR(IFERROR(IFERROR(INDEX(Table1[],MATCH(EIOLCA!$E391,Table1[NAICS Code],0),3),INDEX(Table1[],MATCH(ROUNDDOWN(EIOLCA!$E391/10,0)*10,Table1[NAICS Code],0),3)),INDEX(Table1[],MATCH(ROUNDDOWN(EIOLCA!$E391/100,0)*100,Table1[NAICS Code],0),3)),\"\")","v":92.1}]
["6 digit",10,29,62,324110,324,3241,32411,{"$f":"LEFT(E392,3)","v":"324"},"32411","Petroleum Refineries",{"$f":"IFERROR(IFERROR(IFERROR(INDEX(Table1[],MATCH(EIOLCA!$E392,Table1[NAICS Code],0),3),INDEX(Table1[],MATCH(ROUNDDOWN(EIOLCA!$E392/10,0)*10,Table1[NAICS Code],0),3)),INDEX(Table1[],MATCH(ROUNDDOWN(EIOLCA!$E392/100,0)*100,Table1[NAICS Code],0),3)),\"\")","v":2650}]
["6 digit",10,29,63,324121,324,3241,32412,null,"32412","Asphalt Paving Mixture and Block Manufacturing ",{"$f":"IFERROR(IFERROR(IFERROR(INDEX(Table1[],MATCH(EIOLCA!$E393,Table1[NAICS Code],0),3),INDEX(Table1[],MATCH(ROUNDDOWN(EIOLCA!$E393/10,0)*10,Table1[NAICS Code],0),3)),INDEX(Table1[],MATCH(ROUNDDOWN(EIOLCA!$E393/100,0)*100,Table1[NAICS Code],0),3)),\"\")","v":28.9}]
["6 digit",10,29,63,324122,324,3241,32412,null,null,"Asphalt Shingle and Coating Materials Manufacturing ",{"$f":"IFERROR(IFERROR(IFERROR(INDEX(Table1[],MATCH(EIOLCA!$E394,Table1[NAICS Code],0),3),INDEX(Table1[],MATCH(ROUNDDOWN(EIOLCA!$E394/10,0)*10,Table1[NAICS Code],0),3)),INDEX(Table1[],MATCH(ROUNDDOWN(EIOLCA!$E394/100,0)*100,Table1[NAICS Code],0),3)),\"\")","v":354}]
["6 digit",10,29,64,324191,324,3241,32419,null,"32419","Petroleum Lubricating Oil and Grease Manufacturing ",{"$f":"IFERROR(IFERROR(IFERROR(INDEX(Table1[],MATCH(EIOLCA!$E395,Table1[NAICS Code],0),3),INDEX(Table1[],MATCH(ROUNDDOWN(EIOLCA!$E395/10,0)*10,Table1[NAICS Code],0),3)),INDEX(Table1[],MATCH(ROUNDDOWN(EIOLCA!$E395/100,0)*100,Table1[NAICS Code],0),3)),\"\")","v":129}]
["6 digit",10,29,64,324199,324,3241,32419,null,null,"All Other Petroleum and Coal Products Manufacturing ",{"$f":"IFERROR(IFERROR(IFERROR(INDEX(Table1[],MATCH(EIOLCA!$E396,Table1[NAICS Code],0),3),INDEX(Table1[],MATCH(ROUNDDOWN(EIOLCA!$E396/10,0)*10,Table1[NAICS Code],0),3)),INDEX(Table1[],MATCH(ROUNDDOWN(EIOLCA!$E396/100,0)*100,Table1[NAICS Code],0),3)),\"\")","v":75.8}]
["6 digit",11,30,65,325110,325,3251,32511,{"$f":"LEFT(E397,3)","v":"325"},"32511","Petrochemical Manufacturing",{"$f":"IFERROR(IFERROR(IFERROR(INDEX(Table1[],MATCH(EIOLCA!$E397,Table1[NAICS Code],0),3),INDEX(Table1[],MATCH(ROUNDDOWN(EIOLCA!$E397/10,0)*10,Table1[NAICS Code],0),3)),INDEX(Table1[],MATCH(ROUNDDOWN(EIOLCA!$E397/100,0)*100,Table1[NAICS Code],0),3)),\"\")","v":2830}]
["6 digit",11,30,66,325120,325,3251,32512,null,"32512","Industrial Gas Manufacturing",{"$f":"IFERROR(IFERROR(IFERROR(INDEX(Table1[],MATCH(EIOLCA!$E398,Table1[NAICS Code],0),3),INDEX(Table1[],MATCH(ROUNDDOWN(EIOLCA!$E398/10,0)*10,Table1[NAICS Code],0),3)),INDEX(Table1[],MATCH(ROUNDDOWN(EIOLCA!$E398/100,0)*100,Table1[NAICS Code],0),3)),\"\")","v":19600}]
["6 digit",11,30,67,325130,325,3251,32513,null,"32513","Synthetic Dye and Pigment Manufacturing",{"$f":"IFERROR(IFERROR(IFERROR(INDEX(Table1[],MATCH(EIOLCA!$E399,Table1[NAICS Code],0),3),INDEX(Table1[],MATCH(ROUNDDOWN(EIOLCA!$E399/10,0)*10,Table1[NAICS Code],0),3)),INDEX(Table1[],MATCH(ROUNDDOWN(EIOLCA!$E399/100,0)*100,Table1[NAICS Code],0),3)),\"\")","v":25200}]
["6 digit",11,30,68,325180,325,3251,32518,null,"32518","Other Basic Inorganic Chemical Manufacturing ",{"$f":"IFERROR(IFERROR(IFERROR(INDEX(Table1[],MATCH(EIOLCA!$E400,Table1[NAICS Code],0),3),INDEX(Table1[],MATCH(ROUNDDOWN(EIOLCA!$E400/10,0)*10,Table1[NAICS Code],0),3)),INDEX(Table1[],MATCH(ROUNDDOWN(EIOLCA!$E400/100,0)*100,Table1[NAICS Code],0),3)),\"\")","v":""}]
["6 digit",11,30,69,325193,325,3251,32519,null,"32519","Ethyl Alcohol Manufacturing ",{"$f":"IFERROR(IFERROR(IFERROR(INDEX(Table1[],MATCH(EIOLCA!$E401,Table1[NAICS Code],0),3),INDEX(Table1[],MATCH(ROUNDDOWN(EIOLCA!$E401/10,0)*10,Table1[NAICS Code],0),3)),INDEX(Table1[],MATCH(ROUNDDOWN(EIOLCA!$E401/100,0)*100,Table1[NAICS Code],0),3)),\"\")","v":13700}]
["6 digit",11,30,69,325194,325,3251,32519,null,null,"Cyclic Crude, Intermediate, and Gum and Wood Chemical Manufacturing ",{"$f":"IFERROR(IFERROR(IFERROR(INDEX(Table1[],MATCH(EIOLCA!$E402,Table1[NAICS Code],0),3),INDEX(Table1[],MATCH(ROUNDDOWN(EIOLCA!$E402/10,0)*10,Table1[NAICS Code],0),3)),INDEX(Table1[],MATCH(ROUNDDOWN(EIOLCA!$E402/100,0)*100,Table1[NAICS Code],0),3)),\"\")","v":13700}]
["6 digit",11,30,69,325199,325,3251,32519,null,null,"All Other Basic Organic Chemical Manufacturing ",{"$f":"IFERROR(IFERROR(IFERROR(INDEX(Table1[],MATCH(EIOLCA!$E403,Table1[NAICS Code],0),3),INDEX(Table1[],MATCH(ROUNDDOWN(EIOLCA!$E403/10,0)*10,Table1[NAICS Code],0),3)),INDEX(Table1[],MATCH(ROUNDDOWN(EIOLCA!$E403/100,0)*100,Table1[NAICS Code],0),3)),\"\")","v":13700}]
["6 digit",11,31,70,325211,325,3252,32521,null,"32521","Plastics Material and Resin Manufacturing ",{"$f":"IFERROR(IFERROR(IFERROR(INDEX(Table1[],MATCH(EIOLCA!$E404,Table1[NAICS Code],0),3),INDEX(Table1[],MATCH(ROUNDDOWN(EIOLCA!$E404/10,0)*10,Table1[NAICS Code],0),3)),INDEX(Table1[],MATCH(ROUNDDOWN(EIOLCA!$E404/100,0)*100,Table1[NAICS Code],0),3)),\"\")","v":118}]
["6 digit",11,31,70,325212,325,3252,32521,null,null,"Synthetic Rubber Manufacturing ",{"$f":"IFERROR(IFERROR(IFERROR(INDEX(Table1[],MATCH(EIOLCA!$E405,Table1[NAICS Code],0),3),INDEX(Table1[],MATCH(ROUNDDOWN(EIOLCA!$E405/10,0)*10,Table1[NAICS Code],0),3)),INDEX(Table1[],MATCH(ROUNDDOWN(EIOLCA!$E405/100,0)*100,Table1[NAICS Code],0),3)),\"\")","v":56.1}]
["6 digit",11,31,71,325220,325,3252,32522,null,"32522","Artificial and Synthetic Fibers and Filaments Manufacturing",{"$f":"IFERROR(IFERROR(IFERROR(INDEX(Table1[],MATCH(EIOLCA!$E406,Table1[NAICS Code],0),3),INDEX(Table1[],MATCH(ROUNDDOWN(EIOLCA!$E406/10,0)*10,Table1[NAICS Code],0),3)),INDEX(Table1[],MATCH(ROUNDDOWN(EIOLCA!$E406/100,0)*100,Table1[NAICS Code],0),3)),\"\")","v":154}]
["6 digit",11,32,72,325311,325,3253,32531,null,"32531","Nitrogenous Fertilizer Manufacturing ",{"$f":"IFERROR(IFERROR(IFERROR(INDEX(Table1[],MATCH(EIOLCA!$E407,Table1[NAICS Code],0),3),INDEX(Table1[],MATCH(ROUNDDOWN(EIOLCA!$E407/10,0)*10,Table1[NAICS Code],0),3)),INDEX(Table1[],MATCH(ROUNDDOWN(EIOLCA!$E407/100,0)*100,Table1[NAICS Code],0),3)),\"\")","v":506}]
["6 digit",11,32,72,325312,325,3253,32531,null,null,"Phosphatic Fertilizer Manufacturing ",{"$f":"IFERROR(IFERROR(IFERROR(INDEX(Table1[],MATCH(EIOLCA!$E408,Table1[NAICS Code],0),3),INDEX(Table1[],MATCH(ROUNDDOWN(EIOLCA!$E408/10,0)*10,Table1[NAICS Code],0),3)),INDEX(Table1[],MATCH(ROUNDDOWN(EIOLCA!$E408/100,0)*100,Table1[NAICS Code],0),3)),\"\")","v":506}]
["6 digit",{"$f":"INDEX($B$3:$E$23,MATCH(F409,$E$3:$E$23,0),1)","v":11},32,72,325314,{"$f":"LEFT(E409,3)*1","v":325},{"$f":"LEFT(E409,4)*1","v":3253},32531,null,null,"Fertilizer (Mixing Only) Manufacturing ",{"$f":"IFERROR(IFERROR(IFERROR(INDEX(Table1[],MATCH(EIOLCA!$E409,Table1[NAICS Code],0),3),INDEX(Table1[],MATCH(ROUNDDOWN(EIOLCA!$E409/10,0)*10,Table1[NAICS Code],0),3)),INDEX(Table1[],MATCH(ROUNDDOWN(EIOLCA!$E409/100,0)*100,Table1[NAICS Code],0),3)),\"\")","v":506}]
["6 digit",11,32,73,325320,325,3253,32532,null,"32532","Pesticide and Other Agricultural Chemical Manufacturing",{"$f":"IFERROR(IFERROR(IFERROR(INDEX(Table1[],MATCH(EIOLCA!$E410,Table1[NAICS Code],0),3),INDEX(Table1[],MATCH(ROUNDDOWN(EIOLCA!$E410/10,0)*10,Table1[NAICS Code],0),3)),INDEX(Table1[],MATCH(ROUNDDOWN(EIOLCA!$E410/100,0)*100,Table1[NAICS Code],0),3)),\"\")","v":411}]
["6 digit",11,33,74,325411,325,3254,32541,null,"32541","Medicinal and Botanical Manufacturing ",{"$f":"IFERROR(IFERROR(IFERROR(INDEX(Table1[],MATCH(EIOLCA!$E411,Table1[NAICS Code],0),3),INDEX(Table1[],MATCH(ROUNDDOWN(EIOLCA!$E411/10,0)*10,Table1[NAICS Code],0),3)),INDEX(Table1[],MATCH(ROUNDDOWN(EIOLCA!$E411/100,0)*100,Table1[NAICS Code],0),3)),\"\")","v":1.53}]
["6 digit",11,33,74,325412,325,3254,32541,null,null,"Pharmaceutical Preparation Manufacturing ",{"$f":"IFERROR(IFERROR(IFERROR(INDEX(Table1[],MATCH(EIOLCA!$E412,Table1[NAICS Code],0),3),INDEX(Table1[],MATCH(ROUNDDOWN(EIOLCA!$E412/10,0)*10,Table1[NAICS Code],0),3)),INDEX(Table1[],MATCH(ROUNDDOWN(EIOLCA!$E412/100,0)*100,Table1[NAICS Code],0),3)),\"\")","v":0.25700000000000001}]
["6 digit",11,33,74,325413,325,3254,32541,null,null,"In-Vitro Diagnostic Substance Manufacturing ",{"$f":"IFERROR(IFERROR(IFERROR(INDEX(Table1[],MATCH(EIOLCA!$E413,Table1[NAICS Code],0),3),INDEX(Table1[],MATCH(ROUNDDOWN(EIOLCA!$E413/10,0)*10,Table1[NAICS Code],0),3)),INDEX(Table1[],MATCH(ROUNDDOWN(EIOLCA!$E413/100,0)*100,Table1[NAICS Code],0),3)),\"\")","v":2.4E-2}]
["6 digit",11,33,74,325414,325,3254,32541,null,null,"Biological Product (except Diagnostic) Manufacturing ",{"$f":"IFERROR(IFERROR(IFERROR(INDEX(Table1[],MATCH(EIOLCA!$E414,Table1[NAICS Code],0),3),INDEX(Table1[],MATCH(ROUNDDOWN(EIOLCA!$E414/10,0)*10,Table1[NAICS Code],0),3)),INDEX(Table1[],MATCH(ROUNDDOWN(EIOLCA!$E414/100,0)*100,Table1[NAICS Code],0),3)),\"\")","v":0.20699999999999999}]
["6 digit",11,34,75,325510,325,3255,32551,null,"32551","Paint and Coating Manufacturing",{"$f":"IFERROR(IFERROR(IFERROR(INDEX(Table1[],MATCH(EIOLCA!$E415,Table1[NAICS Code],0),3),INDEX(Table1[],MATCH(ROUNDDOWN(EIOLCA!$E415/10,0)*10,Table1[NAICS Code],0),3)),INDEX(Table1[],MATCH(ROUNDDOWN(EIOLCA!$E415/100,0)*100,Table1[NAICS Code],0),3)),\"\")","v":3680}]
["6 digit",11,34,76,325520,325,3255,32552,null,"32552","Adhesive Manufacturing",{"$f":"IFERROR(IFERROR(IFERROR(INDEX(Table1[],MATCH(EIOLCA!$E416,Table1[NAICS Code],0),3),INDEX(Table1[],MATCH(ROUNDDOWN(EIOLCA!$E416/10,0)*10,Table1[NAICS Code],0),3)),INDEX(Table1[],MATCH(ROUNDDOWN(EIOLCA!$E416/100,0)*100,Table1[NAICS Code],0),3)),\"\")","v":829}]
["6 digit",11,35,77,325611,325,3256,32561,null,"32561","Soap and Other Detergent Manufacturing ",{"$f":"IFERROR(IFERROR(IFERROR(INDEX(Table1[],MATCH(EIOLCA!$E417,Table1[NAICS Code],0),3),INDEX(Table1[],MATCH(ROUNDDOWN(EIOLCA!$E417/10,0)*10,Table1[NAICS Code],0),3)),INDEX(Table1[],MATCH(ROUNDDOWN(EIOLCA!$E417/100,0)*100,Table1[NAICS Code],0),3)),\"\")","v":345}]
["6 digit",11,35,77,325612,325,3256,32561,null,null,"Polish and Other Sanitation Good Manufacturing ",{"$f":"IFERROR(IFERROR(IFERROR(INDEX(Table1[],MATCH(EIOLCA!$E418,Table1[NAICS Code],0),3),INDEX(Table1[],MATCH(ROUNDDOWN(EIOLCA!$E418/10,0)*10,Table1[NAICS Code],0),3)),INDEX(Table1[],MATCH(ROUNDDOWN(EIOLCA!$E418/100,0)*100,Table1[NAICS Code],0),3)),\"\")","v":345}]
["6 digit",11,35,{"$f":"INDEX($B$110:$E$289,MATCH(H419,$E$110:$E$289,0),1)","v":77},325613,325,3256,{"$f":"LEFT(E419,5)*1","v":32561},null,null,"Surface Active Agent Manufacturing ",{"$f":"IFERROR(IFERROR(IFERROR(INDEX(Table1[],MATCH(EIOLCA!$E419,Table1[NAICS Code],0),3),INDEX(Table1[],MATCH(ROUNDDOWN(EIOLCA!$E419/10,0)*10,Table1[NAICS Code],0),3)),INDEX(Table1[],MATCH(ROUNDDOWN(EIOLCA!$E419/100,0)*100,Table1[NAICS Code],0),3)),\"\")","v":345}]
["6 digit",11,35,78,325620,325,3256,32562,null,{"$f":"LEFT(E420,5)","v":"32562"},"Toilet Preparation Manufacturing",{"$f":"IFERROR(IFERROR(IFERROR(INDEX(Table1[],MATCH(EIOLCA!$E420,Table1[NAICS Code],0),3),INDEX(Table1[],MATCH(ROUNDDOWN(EIOLCA!$E420/10,0)*10,Table1[NAICS Code],0),3)),INDEX(Table1[],MATCH(ROUNDDOWN(EIOLCA!$E420/100,0)*100,Table1[NAICS Code],0),3)),\"\")","v":3.89}]
["6 digit",11,36,79,325910,325,3259,32591,null,"32591","Printing Ink Manufacturing",{"$f":"IFERROR(IFERROR(IFERROR(INDEX(Table1[],MATCH(EIOLCA!$E421,Table1[NAICS Code],0),3),INDEX(Table1[],MATCH(ROUNDDOWN(EIOLCA!$E421/10,0)*10,Table1[NAICS Code],0),3)),INDEX(Table1[],MATCH(ROUNDDOWN(EIOLCA!$E421/100,0)*100,Table1[NAICS Code],0),3)),\"\")","v":1.0900000000000001}]
["6 digit",11,36,80,325920,325,3259,32592,null,"32592","Explosives Manufacturing",{"$f":"IFERROR(IFERROR(IFERROR(INDEX(Table1[],MATCH(EIOLCA!$E422,Table1[NAICS Code],0),3),INDEX(Table1[],MATCH(ROUNDDOWN(EIOLCA!$E422/10,0)*10,Table1[NAICS Code],0),3)),INDEX(Table1[],MATCH(ROUNDDOWN(EIOLCA!$E422/100,0)*100,Table1[NAICS Code],0),3)),\"\")","v":""}]
["6 digit",11,36,81,325991,325,3259,32599,null,"32599","Custom Compounding of Purchased Resins ",{"$f":"IFERROR(IFERROR(IFERROR(INDEX(Table1[],MATCH(EIOLCA!$E423,Table1[NAICS Code],0),3),INDEX(Table1[],MATCH(ROUNDDOWN(EIOLCA!$E423/10,0)*10,Table1[NAICS Code],0),3)),INDEX(Table1[],MATCH(ROUNDDOWN(EIOLCA!$E423/100,0)*100,Table1[NAICS Code],0),3)),\"\")","v":""}]
["6 digit",11,36,81,325992,325,3259,32599,null,null,"Photographic Film, Paper, Plate, and Chemical Manufacturing ",{"$f":"IFERROR(IFERROR(IFERROR(INDEX(Table1[],MATCH(EIOLCA!$E424,Table1[NAICS Code],0),3),INDEX(Table1[],MATCH(ROUNDDOWN(EIOLCA!$E424/10,0)*10,Table1[NAICS Code],0),3)),INDEX(Table1[],MATCH(ROUNDDOWN(EIOLCA!$E424/100,0)*100,Table1[NAICS Code],0),3)),\"\")","v":""}]
["6 digit",11,36,81,325998,325,3259,32599,null,null,"All Other Miscellaneous Chemical Product and Preparation Manufacturing ",{"$f":"IFERROR(IFERROR(IFERROR(INDEX(Table1[],MATCH(EIOLCA!$E425,Table1[NAICS Code],0),3),INDEX(Table1[],MATCH(ROUNDDOWN(EIOLCA!$E425/10,0)*10,Table1[NAICS Code],0),3)),INDEX(Table1[],MATCH(ROUNDDOWN(EIOLCA!$E425/100,0)*100,Table1[NAICS Code],0),3)),\"\")","v":""}]
["6 digit",12,37,82,326111,326,3261,32611,{"$f":"LEFT(E426,3)","v":"326"},"32611","Plastics Bag and Pouch Manufacturing ",{"$f":"IFERROR(IFERROR(IFERROR(INDEX(Table1[],MATCH(EIOLCA!$E426,Table1[NAICS Code],0),3),INDEX(Table1[],MATCH(ROUNDDOWN(EIOLCA!$E426/10,0)*10,Table1[NAICS Code],0),3)),INDEX(Table1[],MATCH(ROUNDDOWN(EIOLCA!$E426/100,0)*100,Table1[NAICS Code],0),3)),\"\")","v":250}]
["6 digit",12,37,82,326112,326,3261,32611,null,null,"Plastics Packaging Film and Sheet (including Laminated) Manufacturing ",{"$f":"IFERROR(IFERROR(IFERROR(INDEX(Table1[],MATCH(EIOLCA!$E427,Table1[NAICS Code],0),3),INDEX(Table1[],MATCH(ROUNDDOWN(EIOLCA!$E427/10,0)*10,Table1[NAICS Code],0),3)),INDEX(Table1[],MATCH(ROUNDDOWN(EIOLCA!$E427/100,0)*100,Table1[NAICS Code],0),3)),\"\")","v":250}]
["6 digit",12,37,82,326113,326,3261,32611,null,null,"Unlaminated Plastics Film and Sheet (except Packaging) Manufacturing ",{"$f":"IFERROR(IFERROR(IFERROR(INDEX(Table1[],MATCH(EIOLCA!$E428,Table1[NAICS Code],0),3),INDEX(Table1[],MATCH(ROUNDDOWN(EIOLCA!$E428/10,0)*10,Table1[NAICS Code],0),3)),INDEX(Table1[],MATCH(ROUNDDOWN(EIOLCA!$E428/100,0)*100,Table1[NAICS Code],0),3)),\"\")","v":250}]
["6 digit",12,37,83,326121,326,3261,32612,null,"32612","Unlaminated Plastics Profile Shape Manufacturing ",{"$f":"IFERROR(IFERROR(IFERROR(INDEX(Table1[],MATCH(EIOLCA!$E429,Table1[NAICS Code],0),3),INDEX(Table1[],MATCH(ROUNDDOWN(EIOLCA!$E429/10,0)*10,Table1[NAICS Code],0),3)),INDEX(Table1[],MATCH(ROUNDDOWN(EIOLCA!$E429/100,0)*100,Table1[NAICS Code],0),3)),\"\")","v":138}]
["6 digit",12,37,83,326122,326,3261,32612,null,null,"Plastics Pipe and Pipe Fitting Manufacturing ",{"$f":"IFERROR(IFERROR(IFERROR(INDEX(Table1[],MATCH(EIOLCA!$E430,Table1[NAICS Code],0),3),INDEX(Table1[],MATCH(ROUNDDOWN(EIOLCA!$E430/10,0)*10,Table1[NAICS Code],0),3)),INDEX(Table1[],MATCH(ROUNDDOWN(EIOLCA!$E430/100,0)*100,Table1[NAICS Code],0),3)),\"\")","v":87.7}]
["6 digit",12,{"$f":"INDEX($B$24:$E$109,MATCH(G431,$E$24:$E$109,0),1)","v":37},84,326130,326,3261,32613,null,"32613","Laminated Plastics Plate, Sheet (except Packaging), and Shape Manufacturing",{"$f":"IFERROR(IFERROR(IFERROR(INDEX(Table1[],MATCH(EIOLCA!$E431,Table1[NAICS Code],0),3),INDEX(Table1[],MATCH(ROUNDDOWN(EIOLCA!$E431/10,0)*10,Table1[NAICS Code],0),3)),INDEX(Table1[],MATCH(ROUNDDOWN(EIOLCA!$E431/100,0)*100,Table1[NAICS Code],0),3)),\"\")","v":174}]
["6 digit",12,37,85,326140,326,3261,32614,null,"32614","Polystyrene Foam Product Manufacturing",{"$f":"IFERROR(IFERROR(IFERROR(INDEX(Table1[],MATCH(EIOLCA!$E432,Table1[NAICS Code],0),3),INDEX(Table1[],MATCH(ROUNDDOWN(EIOLCA!$E432/10,0)*10,Table1[NAICS Code],0),3)),INDEX(Table1[],MATCH(ROUNDDOWN(EIOLCA!$E432/100,0)*100,Table1[NAICS Code],0),3)),\"\")","v":118}]
["6 digit",12,37,86,326150,326,3261,32615,null,"32615","Urethane and Other Foam Product (except Polystyrene) Manufacturing",{"$f":"IFERROR(IFERROR(IFERROR(INDEX(Table1[],MATCH(EIOLCA!$E433,Table1[NAICS Code],0),3),INDEX(Table1[],MATCH(ROUNDDOWN(EIOLCA!$E433/10,0)*10,Table1[NAICS Code],0),3)),INDEX(Table1[],MATCH(ROUNDDOWN(EIOLCA!$E433/100,0)*100,Table1[NAICS Code],0),3)),\"\")","v":118}]
["6 digit",12,37,87,326160,326,3261,32616,null,"32616","Plastics Bottle Manufacturing",{"$f":"IFERROR(IFERROR(IFERROR(INDEX(Table1[],MATCH(EIOLCA!$E434,Table1[NAICS Code],0),3),INDEX(Table1[],MATCH(ROUNDDOWN(EIOLCA!$E434/10,0)*10,Table1[NAICS Code],0),3)),INDEX(Table1[],MATCH(ROUNDDOWN(EIOLCA!$E434/100,0)*100,Table1[NAICS Code],0),3)),\"\")","v":82.7}]
["6 digit",12,37,88,326191,326,3261,32619,null,"32619","Plastics Plumbing Fixture Manufacturing ",{"$f":"IFERROR(IFERROR(IFERROR(INDEX(Table1[],MATCH(EIOLCA!$E435,Table1[NAICS Code],0),3),INDEX(Table1[],MATCH(ROUNDDOWN(EIOLCA!$E435/10,0)*10,Table1[NAICS Code],0),3)),INDEX(Table1[],MATCH(ROUNDDOWN(EIOLCA!$E435/100,0)*100,Table1[NAICS Code],0),3)),\"\")","v":""}]
["6 digit",12,37,88,326199,326,3261,32619,null,null,"All Other Plastics Product Manufacturing ",{"$f":"IFERROR(IFERROR(IFERROR(INDEX(Table1[],MATCH(EIOLCA!$E436,Table1[NAICS Code],0),3),INDEX(Table1[],MATCH(ROUNDDOWN(EIOLCA!$E436/10,0)*10,Table1[NAICS Code],0),3)),INDEX(Table1[],MATCH(ROUNDDOWN(EIOLCA!$E436/100,0)*100,Table1[NAICS Code],0),3)),\"\")","v":""}]
["6 digit",12,38,89,326211,326,3262,32621,null,"32621","Tire Manufacturing (except Retreading) ",{"$f":"IFERROR(IFERROR(IFERROR(INDEX(Table1[],MATCH(EIOLCA!$E437,Table1[NAICS Code],0),3),INDEX(Table1[],MATCH(ROUNDDOWN(EIOLCA!$E437/10,0)*10,Table1[NAICS Code],0),3)),INDEX(Table1[],MATCH(ROUNDDOWN(EIOLCA!$E437/100,0)*100,Table1[NAICS Code],0),3)),\"\")","v":1150}]
["6 digit",12,38,89,326212,326,3262,32621,null,null,"Tire Retreading ",{"$f":"IFERROR(IFERROR(IFERROR(INDEX(Table1[],MATCH(EIOLCA!$E438,Table1[NAICS Code],0),3),INDEX(Table1[],MATCH(ROUNDDOWN(EIOLCA!$E438/10,0)*10,Table1[NAICS Code],0),3)),INDEX(Table1[],MATCH(ROUNDDOWN(EIOLCA!$E438/100,0)*100,Table1[NAICS Code],0),3)),\"\")","v":1150}]
["6 digit",12,38,90,326220,326,3262,32622,null,"32622","Rubber and Plastics Hoses and Belting Manufacturing",{"$f":"IFERROR(IFERROR(IFERROR(INDEX(Table1[],MATCH(EIOLCA!$E439,Table1[NAICS Code],0),3),INDEX(Table1[],MATCH(ROUNDDOWN(EIOLCA!$E439/10,0)*10,Table1[NAICS Code],0),3)),INDEX(Table1[],MATCH(ROUNDDOWN(EIOLCA!$E439/100,0)*100,Table1[NAICS Code],0),3)),\"\")","v":158}]
["6 digit",12,38,91,326291,326,3262,32629,null,"32629","Rubber Product Manufacturing for Mechanical Use ",{"$f":"IFERROR(IFERROR(IFERROR(INDEX(Table1[],MATCH(EIOLCA!$E440,Table1[NAICS Code],0),3),INDEX(Table1[],MATCH(ROUNDDOWN(EIOLCA!$E440/10,0)*10,Table1[NAICS Code],0),3)),INDEX(Table1[],MATCH(ROUNDDOWN(EIOLCA!$E440/100,0)*100,Table1[NAICS Code],0),3)),\"\")","v":247}]
["6 digit",12,38,91,326299,326,3262,32629,null,null,"All Other Rubber Product Manufacturing ",{"$f":"IFERROR(IFERROR(IFERROR(INDEX(Table1[],MATCH(EIOLCA!$E441,Table1[NAICS Code],0),3),INDEX(Table1[],MATCH(ROUNDDOWN(EIOLCA!$E441/10,0)*10,Table1[NAICS Code],0),3)),INDEX(Table1[],MATCH(ROUNDDOWN(EIOLCA!$E441/100,0)*100,Table1[NAICS Code],0),3)),\"\")","v":247}]
["6 digit",13,39,92,327110,327,3271,32711,{"$f":"LEFT(E442,3)","v":"327"},"32711","Pottery, Ceramics, and Plumbing Fixture Manufacturing ",{"$f":"IFERROR(IFERROR(IFERROR(INDEX(Table1[],MATCH(EIOLCA!$E442,Table1[NAICS Code],0),3),INDEX(Table1[],MATCH(ROUNDDOWN(EIOLCA!$E442/10,0)*10,Table1[NAICS Code],0),3)),INDEX(Table1[],MATCH(ROUNDDOWN(EIOLCA!$E442/100,0)*100,Table1[NAICS Code],0),3)),\"\")","v":""}]
["6 digit",13,39,93,327120,327,3271,32712,null,"32712","Clay Building Material and Refractories Manufacturing ",{"$f":"IFERROR(IFERROR(IFERROR(INDEX(Table1[],MATCH(EIOLCA!$E443,Table1[NAICS Code],0),3),INDEX(Table1[],MATCH(ROUNDDOWN(EIOLCA!$E443/10,0)*10,Table1[NAICS Code],0),3)),INDEX(Table1[],MATCH(ROUNDDOWN(EIOLCA!$E443/100,0)*100,Table1[NAICS Code],0),3)),\"\")","v":""}]
["6 digit",13,40,94,327211,327,3272,32721,null,"32721","Flat Glass Manufacturing ",{"$f":"IFERROR(IFERROR(IFERROR(INDEX(Table1[],MATCH(EIOLCA!$E444,Table1[NAICS Code],0),3),INDEX(Table1[],MATCH(ROUNDDOWN(EIOLCA!$E444/10,0)*10,Table1[NAICS Code],0),3)),INDEX(Table1[],MATCH(ROUNDDOWN(EIOLCA!$E444/100,0)*100,Table1[NAICS Code],0),3)),\"\")","v":450}]
["6 digit",13,40,94,327212,327,3272,32721,null,null,"Other Pressed and Blown Glass and Glassware Manufacturing ",{"$f":"IFERROR(IFERROR(IFERROR(INDEX(Table1[],MATCH(EIOLCA!$E445,Table1[NAICS Code],0),3),INDEX(Table1[],MATCH(ROUNDDOWN(EIOLCA!$E445/10,0)*10,Table1[NAICS Code],0),3)),INDEX(Table1[],MATCH(ROUNDDOWN(EIOLCA!$E445/100,0)*100,Table1[NAICS Code],0),3)),\"\")","v":121}]
["6 digit",13,40,94,327213,327,3272,32721,null,null,"Glass Container Manufacturing ",{"$f":"IFERROR(IFERROR(IFERROR(INDEX(Table1[],MATCH(EIOLCA!$E446,Table1[NAICS Code],0),3),INDEX(Table1[],MATCH(ROUNDDOWN(EIOLCA!$E446/10,0)*10,Table1[NAICS Code],0),3)),INDEX(Table1[],MATCH(ROUNDDOWN(EIOLCA!$E446/100,0)*100,Table1[NAICS Code],0),3)),\"\")","v":153}]
["6 digit",13,40,94,327215,327,3272,32721,null,null,"Glass Product Manufacturing Made of Purchased Glass ",{"$f":"IFERROR(IFERROR(IFERROR(INDEX(Table1[],MATCH(EIOLCA!$E447,Table1[NAICS Code],0),3),INDEX(Table1[],MATCH(ROUNDDOWN(EIOLCA!$E447/10,0)*10,Table1[NAICS Code],0),3)),INDEX(Table1[],MATCH(ROUNDDOWN(EIOLCA!$E447/100,0)*100,Table1[NAICS Code],0),3)),\"\")","v":492}]
["6 digit",13,41,95,327310,327,3273,32731,null,"32731","Cement Manufacturing",{"$f":"IFERROR(IFERROR(IFERROR(INDEX(Table1[],MATCH(EIOLCA!$E448,Table1[NAICS Code],0),3),INDEX(Table1[],MATCH(ROUNDDOWN(EIOLCA!$E448/10,0)*10,Table1[NAICS Code],0),3)),INDEX(Table1[],MATCH(ROUNDDOWN(EIOLCA!$E448/100,0)*100,Table1[NAICS Code],0),3)),\"\")","v":141}]
["6 digit",13,41,96,327320,327,3273,32732,null,"32732","Ready-Mix Concrete Manufacturing",{"$f":"IFERROR(IFERROR(IFERROR(INDEX(Table1[],MATCH(EIOLCA!$E449,Table1[NAICS Code],0),3),INDEX(Table1[],MATCH(ROUNDDOWN(EIOLCA!$E449/10,0)*10,Table1[NAICS Code],0),3)),INDEX(Table1[],MATCH(ROUNDDOWN(EIOLCA!$E449/100,0)*100,Table1[NAICS Code],0),3)),\"\")","v":133}]
["6 digit",13,41,97,327331,327,3273,32733,null,"32733","Concrete Block and Brick Manufacturing ",{"$f":"IFERROR(IFERROR(IFERROR(INDEX(Table1[],MATCH(EIOLCA!$E450,Table1[NAICS Code],0),3),INDEX(Table1[],MATCH(ROUNDDOWN(EIOLCA!$E450/10,0)*10,Table1[NAICS Code],0),3)),INDEX(Table1[],MATCH(ROUNDDOWN(EIOLCA!$E450/100,0)*100,Table1[NAICS Code],0),3)),\"\")","v":139}]
["6 digit",13,41,97,327332,327,3273,32733,null,null,"Concrete Pipe Manufacturing ",{"$f":"IFERROR(IFERROR(IFERROR(INDEX(Table1[],MATCH(EIOLCA!$E451,Table1[NAICS Code],0),3),INDEX(Table1[],MATCH(ROUNDDOWN(EIOLCA!$E451/10,0)*10,Table1[NAICS Code],0),3)),INDEX(Table1[],MATCH(ROUNDDOWN(EIOLCA!$E451/100,0)*100,Table1[NAICS Code],0),3)),\"\")","v":139}]
["6 digit",13,41,98,327390,327,3273,32739,null,"32739","Other Concrete Product Manufacturing ",{"$f":"IFERROR(IFERROR(IFERROR(INDEX(Table1[],MATCH(EIOLCA!$E452,Table1[NAICS Code],0),3),INDEX(Table1[],MATCH(ROUNDDOWN(EIOLCA!$E452/10,0)*10,Table1[NAICS Code],0),3)),INDEX(Table1[],MATCH(ROUNDDOWN(EIOLCA!$E452/100,0)*100,Table1[NAICS Code],0),3)),\"\")","v":249}]
["6 digit",13,42,99,327410,327,3274,32741,null,"32741","Lime Manufacturing",{"$f":"IFERROR(IFERROR(IFERROR(INDEX(Table1[],MATCH(EIOLCA!$E453,Table1[NAICS Code],0),3),INDEX(Table1[],MATCH(ROUNDDOWN(EIOLCA!$E453/10,0)*10,Table1[NAICS Code],0),3)),INDEX(Table1[],MATCH(ROUNDDOWN(EIOLCA!$E453/100,0)*100,Table1[NAICS Code],0),3)),\"\")","v":""}]
["6 digit",13,42,100,327420,327,3274,32742,null,"32742","Gypsum Product Manufacturing",{"$f":"IFERROR(IFERROR(IFERROR(INDEX(Table1[],MATCH(EIOLCA!$E454,Table1[NAICS Code],0),3),INDEX(Table1[],MATCH(ROUNDDOWN(EIOLCA!$E454/10,0)*10,Table1[NAICS Code],0),3)),INDEX(Table1[],MATCH(ROUNDDOWN(EIOLCA!$E454/100,0)*100,Table1[NAICS Code],0),3)),\"\")","v":""}]
["6 digit",13,43,101,327910,327,3279,32791,null,"32791","Abrasive Product Manufacturing",{"$f":"IFERROR(IFERROR(IFERROR(INDEX(Table1[],MATCH(EIOLCA!$E455,Table1[NAICS Code],0),3),INDEX(Table1[],MATCH(ROUNDDOWN(EIOLCA!$E455/10,0)*10,Table1[NAICS Code],0),3)),INDEX(Table1[],MATCH(ROUNDDOWN(EIOLCA!$E455/100,0)*100,Table1[NAICS Code],0),3)),\"\")","v":164}]
["6 digit",13,43,102,327991,327,3279,32799,null,"32799","Cut Stone and Stone Product Manufacturing ",{"$f":"IFERROR(IFERROR(IFERROR(INDEX(Table1[],MATCH(EIOLCA!$E456,Table1[NAICS Code],0),3),INDEX(Table1[],MATCH(ROUNDDOWN(EIOLCA!$E456/10,0)*10,Table1[NAICS Code],0),3)),INDEX(Table1[],MATCH(ROUNDDOWN(EIOLCA!$E456/100,0)*100,Table1[NAICS Code],0),3)),\"\")","v":88.4}]
["6 digit",13,43,102,327992,327,3279,32799,null,null,"Ground or Treated Mineral and Earth Manufacturing ",{"$f":"IFERROR(IFERROR(IFERROR(INDEX(Table1[],MATCH(EIOLCA!$E457,Table1[NAICS Code],0),3),INDEX(Table1[],MATCH(ROUNDDOWN(EIOLCA!$E457/10,0)*10,Table1[NAICS Code],0),3)),INDEX(Table1[],MATCH(ROUNDDOWN(EIOLCA!$E457/100,0)*100,Table1[NAICS Code],0),3)),\"\")","v":156}]
["6 digit",13,43,102,327993,327,3279,32799,null,null,"Mineral Wool Manufacturing ",{"$f":"IFERROR(IFERROR(IFERROR(INDEX(Table1[],MATCH(EIOLCA!$E458,Table1[NAICS Code],0),3),INDEX(Table1[],MATCH(ROUNDDOWN(EIOLCA!$E458/10,0)*10,Table1[NAICS Code],0),3)),INDEX(Table1[],MATCH(ROUNDDOWN(EIOLCA!$E458/100,0)*100,Table1[NAICS Code],0),3)),\"\")","v":507}]
["6 digit",13,43,102,327999,327,3279,32799,null,null,"All Other Miscellaneous Nonmetallic Mineral Product Manufacturing ",{"$f":"IFERROR(IFERROR(IFERROR(INDEX(Table1[],MATCH(EIOLCA!$E459,Table1[NAICS Code],0),3),INDEX(Table1[],MATCH(ROUNDDOWN(EIOLCA!$E459/10,0)*10,Table1[NAICS Code],0),3)),INDEX(Table1[],MATCH(ROUNDDOWN(EIOLCA!$E459/100,0)*100,Table1[NAICS Code],0),3)),\"\")","v":167}]
["6 digit",14,44,103,331110,331,3311,33111,{"$f":"LEFT(E460,3)","v":"331"},"33111","Iron and Steel Mills and Ferroalloy Manufacturing ",{"$f":"IFERROR(IFERROR(IFERROR(INDEX(Table1[],MATCH(EIOLCA!$E460,Table1[NAICS Code],0),3),INDEX(Table1[],MATCH(ROUNDDOWN(EIOLCA!$E460/10,0)*10,Table1[NAICS Code],0),3)),INDEX(Table1[],MATCH(ROUNDDOWN(EIOLCA!$E460/100,0)*100,Table1[NAICS Code],0),3)),\"\")","v":9120}]
["6 digit",14,45,104,331210,331,3312,33121,null,"33121","Iron and Steel Pipe and Tube Manufacturing from Purchased Steel",{"$f":"IFERROR(IFERROR(IFERROR(INDEX(Table1[],MATCH(EIOLCA!$E461,Table1[NAICS Code],0),3),INDEX(Table1[],MATCH(ROUNDDOWN(EIOLCA!$E461/10,0)*10,Table1[NAICS Code],0),3)),INDEX(Table1[],MATCH(ROUNDDOWN(EIOLCA!$E461/100,0)*100,Table1[NAICS Code],0),3)),\"\")","v":326}]
["6 digit",14,45,105,331221,331,3312,33122,null,"33122","Rolled Steel Shape Manufacturing ",{"$f":"IFERROR(IFERROR(IFERROR(INDEX(Table1[],MATCH(EIOLCA!$E462,Table1[NAICS Code],0),3),INDEX(Table1[],MATCH(ROUNDDOWN(EIOLCA!$E462/10,0)*10,Table1[NAICS Code],0),3)),INDEX(Table1[],MATCH(ROUNDDOWN(EIOLCA!$E462/100,0)*100,Table1[NAICS Code],0),3)),\"\")","v":326}]
["6 digit",14,45,105,331222,331,3312,33122,null,null,"Steel Wire Drawing ",{"$f":"IFERROR(IFERROR(IFERROR(INDEX(Table1[],MATCH(EIOLCA!$E463,Table1[NAICS Code],0),3),INDEX(Table1[],MATCH(ROUNDDOWN(EIOLCA!$E463/10,0)*10,Table1[NAICS Code],0),3)),INDEX(Table1[],MATCH(ROUNDDOWN(EIOLCA!$E463/100,0)*100,Table1[NAICS Code],0),3)),\"\")","v":326}]
["6 digit",14,46,106,331313,331,3313,33131,null,"33131","Alumina Refining and Primary Aluminum Production ",{"$f":"IFERROR(IFERROR(IFERROR(INDEX(Table1[],MATCH(EIOLCA!$E464,Table1[NAICS Code],0),3),INDEX(Table1[],MATCH(ROUNDDOWN(EIOLCA!$E464/10,0)*10,Table1[NAICS Code],0),3)),INDEX(Table1[],MATCH(ROUNDDOWN(EIOLCA!$E464/100,0)*100,Table1[NAICS Code],0),3)),\"\")","v":""}]
["6 digit",14,46,106,331314,331,3313,33131,null,null,"Secondary Smelting and Alloying of Aluminum ",{"$f":"IFERROR(IFERROR(IFERROR(INDEX(Table1[],MATCH(EIOLCA!$E465,Table1[NAICS Code],0),3),INDEX(Table1[],MATCH(ROUNDDOWN(EIOLCA!$E465/10,0)*10,Table1[NAICS Code],0),3)),INDEX(Table1[],MATCH(ROUNDDOWN(EIOLCA!$E465/100,0)*100,Table1[NAICS Code],0),3)),\"\")","v":12900}]
["6 digit",14,46,106,331315,331,3313,33131,null,null,"Aluminum Sheet, Plate, and Foil Manufacturing ",{"$f":"IFERROR(IFERROR(IFERROR(INDEX(Table1[],MATCH(EIOLCA!$E466,Table1[NAICS Code],0),3),INDEX(Table1[],MATCH(ROUNDDOWN(EIOLCA!$E466/10,0)*10,Table1[NAICS Code],0),3)),INDEX(Table1[],MATCH(ROUNDDOWN(EIOLCA!$E466/100,0)*100,Table1[NAICS Code],0),3)),\"\")","v":""}]
["6 digit",14,46,106,331318,331,3313,33131,null,null,"Other Aluminum Rolling, Drawing, and Extruding ",{"$f":"IFERROR(IFERROR(IFERROR(INDEX(Table1[],MATCH(EIOLCA!$E467,Table1[NAICS Code],0),3),INDEX(Table1[],MATCH(ROUNDDOWN(EIOLCA!$E467/10,0)*10,Table1[NAICS Code],0),3)),INDEX(Table1[],MATCH(ROUNDDOWN(EIOLCA!$E467/100,0)*100,Table1[NAICS Code],0),3)),\"\")","v":""}]
["6 digit",14,47,107,331410,331,3314,33141,null,"33141","Nonferrous Metal (except Aluminum) Smelting and Refining ",{"$f":"IFERROR(IFERROR(IFERROR(INDEX(Table1[],MATCH(EIOLCA!$E468,Table1[NAICS Code],0),3),INDEX(Table1[],MATCH(ROUNDDOWN(EIOLCA!$E468/10,0)*10,Table1[NAICS Code],0),3)),INDEX(Table1[],MATCH(ROUNDDOWN(EIOLCA!$E468/100,0)*100,Table1[NAICS Code],0),3)),\"\")","v":""}]
["6 digit",14,47,108,331420,331,3314,33142,null,"33142","Copper Rolling, Drawing, Extruding, and Alloying",{"$f":"IFERROR(IFERROR(IFERROR(INDEX(Table1[],MATCH(EIOLCA!$E469,Table1[NAICS Code],0),3),INDEX(Table1[],MATCH(ROUNDDOWN(EIOLCA!$E469/10,0)*10,Table1[NAICS Code],0),3)),INDEX(Table1[],MATCH(ROUNDDOWN(EIOLCA!$E469/100,0)*100,Table1[NAICS Code],0),3)),\"\")","v":269}]
["6 digit",14,47,109,331491,331,3314,33149,null,"33149","Nonferrous Metal (except Copper and Aluminum) Rolling, Drawing, and Extruding ",{"$f":"IFERROR(IFERROR(IFERROR(INDEX(Table1[],MATCH(EIOLCA!$E470,Table1[NAICS Code],0),3),INDEX(Table1[],MATCH(ROUNDDOWN(EIOLCA!$E470/10,0)*10,Table1[NAICS Code],0),3)),INDEX(Table1[],MATCH(ROUNDDOWN(EIOLCA!$E470/100,0)*100,Table1[NAICS Code],0),3)),\"\")","v":364}]
["6 digit",14,47,109,331492,331,3314,33149,null,null,"Secondary Smelting, Refining, and Alloying of Nonferrous Metal (except Copper and Aluminum) ",{"$f":"IFERROR(IFERROR(IFERROR(INDEX(Table1[],MATCH(EIOLCA!$E471,Table1[NAICS Code],0),3),INDEX(Table1[],MATCH(ROUNDDOWN(EIOLCA!$E471/10,0)*10,Table1[NAICS Code],0),3)),INDEX(Table1[],MATCH(ROUNDDOWN(EIOLCA!$E471/100,0)*100,Table1[NAICS Code],0),3)),\"\")","v":364}]
["6 digit",14,48,110,331511,331,3315,33151,null,"33151","Iron Foundries ",{"$f":"IFERROR(IFERROR(IFERROR(INDEX(Table1[],MATCH(EIOLCA!$E472,Table1[NAICS Code],0),3),INDEX(Table1[],MATCH(ROUNDDOWN(EIOLCA!$E472/10,0)*10,Table1[NAICS Code],0),3)),INDEX(Table1[],MATCH(ROUNDDOWN(EIOLCA!$E472/100,0)*100,Table1[NAICS Code],0),3)),\"\")","v":535}]
["6 digit",{"$f":"INDEX($B$3:$E$23,MATCH(F473,$E$3:$E$23,0),1)","v":14},48,110,331512,{"$f":"LEFT(E473,3)*1","v":331},{"$f":"LEFT(E473,4)*1","v":3315},33151,null,null,"Steel Investment Foundries ",{"$f":"IFERROR(IFERROR(IFERROR(INDEX(Table1[],MATCH(EIOLCA!$E473,Table1[NAICS Code],0),3),INDEX(Table1[],MATCH(ROUNDDOWN(EIOLCA!$E473/10,0)*10,Table1[NAICS Code],0),3)),INDEX(Table1[],MATCH(ROUNDDOWN(EIOLCA!$E473/100,0)*100,Table1[NAICS Code],0),3)),\"\")","v":535}]
["6 digit",14,48,110,331513,331,3315,33151,null,null,"Steel Foundries (except Investment) ",{"$f":"IFERROR(IFERROR(IFERROR(INDEX(Table1[],MATCH(EIOLCA!$E474,Table1[NAICS Code],0),3),INDEX(Table1[],MATCH(ROUNDDOWN(EIOLCA!$E474/10,0)*10,Table1[NAICS Code],0),3)),INDEX(Table1[],MATCH(ROUNDDOWN(EIOLCA!$E474/100,0)*100,Table1[NAICS Code],0),3)),\"\")","v":535}]
["6 digit",14,48,111,331523,331,3315,33152,null,"33152","Nonferrous Metal Die-Casting Foundries ",{"$f":"IFERROR(IFERROR(IFERROR(INDEX(Table1[],MATCH(EIOLCA!$E475,Table1[NAICS Code],0),3),INDEX(Table1[],MATCH(ROUNDDOWN(EIOLCA!$E475/10,0)*10,Table1[NAICS Code],0),3)),INDEX(Table1[],MATCH(ROUNDDOWN(EIOLCA!$E475/100,0)*100,Table1[NAICS Code],0),3)),\"\")","v":515}]
["6 digit",14,48,111,331524,331,3315,33152,null,null,"Aluminum Foundries (except Die-Casting) ",{"$f":"IFERROR(IFERROR(IFERROR(INDEX(Table1[],MATCH(EIOLCA!$E476,Table1[NAICS Code],0),3),INDEX(Table1[],MATCH(ROUNDDOWN(EIOLCA!$E476/10,0)*10,Table1[NAICS Code],0),3)),INDEX(Table1[],MATCH(ROUNDDOWN(EIOLCA!$E476/100,0)*100,Table1[NAICS Code],0),3)),\"\")","v":515}]
["6 digit",14,48,111,331529,331,3315,33152,null,null,"Other Nonferrous Metal Foundries (except Die-Casting) ",{"$f":"IFERROR(IFERROR(IFERROR(INDEX(Table1[],MATCH(EIOLCA!$E477,Table1[NAICS Code],0),3),INDEX(Table1[],MATCH(ROUNDDOWN(EIOLCA!$E477/10,0)*10,Table1[NAICS Code],0),3)),INDEX(Table1[],MATCH(ROUNDDOWN(EIOLCA!$E477/100,0)*100,Table1[NAICS Code],0),3)),\"\")","v":515}]
["6 digit",15,49,112,332111,332,3321,33211,{"$f":"LEFT(E478,3)","v":"332"},"33211","Iron and Steel Forging ",{"$f":"IFERROR(IFERROR(IFERROR(INDEX(Table1[],MATCH(EIOLCA!$E478,Table1[NAICS Code],0),3),INDEX(Table1[],MATCH(ROUNDDOWN(EIOLCA!$E478/10,0)*10,Table1[NAICS Code],0),3)),INDEX(Table1[],MATCH(ROUNDDOWN(EIOLCA!$E478/100,0)*100,Table1[NAICS Code],0),3)),\"\")","v":""}]
["6 digit",15,49,112,332112,332,3321,33211,null,null,"Nonferrous Forging ",{"$f":"IFERROR(IFERROR(IFERROR(INDEX(Table1[],MATCH(EIOLCA!$E479,Table1[NAICS Code],0),3),INDEX(Table1[],MATCH(ROUNDDOWN(EIOLCA!$E479/10,0)*10,Table1[NAICS Code],0),3)),INDEX(Table1[],MATCH(ROUNDDOWN(EIOLCA!$E479/100,0)*100,Table1[NAICS Code],0),3)),\"\")","v":""}]
["6 digit",15,49,112,332114,332,3321,33211,null,null,"Custom Roll Forming ",{"$f":"IFERROR(IFERROR(IFERROR(INDEX(Table1[],MATCH(EIOLCA!$E480,Table1[NAICS Code],0),3),INDEX(Table1[],MATCH(ROUNDDOWN(EIOLCA!$E480/10,0)*10,Table1[NAICS Code],0),3)),INDEX(Table1[],MATCH(ROUNDDOWN(EIOLCA!$E480/100,0)*100,Table1[NAICS Code],0),3)),\"\")","v":102}]
["6 digit",15,49,112,332117,332,3321,33211,null,null,"Powder Metallurgy Part Manufacturing ",{"$f":"IFERROR(IFERROR(IFERROR(INDEX(Table1[],MATCH(EIOLCA!$E481,Table1[NAICS Code],0),3),INDEX(Table1[],MATCH(ROUNDDOWN(EIOLCA!$E481/10,0)*10,Table1[NAICS Code],0),3)),INDEX(Table1[],MATCH(ROUNDDOWN(EIOLCA!$E481/100,0)*100,Table1[NAICS Code],0),3)),\"\")","v":""}]
["6 digit",15,49,112,332119,332,3321,33211,null,null,"Metal Crown, Closure, and Other Metal Stamping (except Automotive) ",{"$f":"IFERROR(IFERROR(IFERROR(INDEX(Table1[],MATCH(EIOLCA!$E482,Table1[NAICS Code],0),3),INDEX(Table1[],MATCH(ROUNDDOWN(EIOLCA!$E482/10,0)*10,Table1[NAICS Code],0),3)),INDEX(Table1[],MATCH(ROUNDDOWN(EIOLCA!$E482/100,0)*100,Table1[NAICS Code],0),3)),\"\")","v":""}]
["6 digit",15,50,{"$f":"INDEX($B$110:$E$289,MATCH(H483,$E$110:$E$289,0),1)","v":113},332215,332,3322,{"$f":"LEFT(E483,5)*1","v":33221},null,{"$f":"LEFT(E483,5)","v":"33221"},"Metal Kitchen Cookware, Utensil, Cutlery, and Flatware (except Precious) Manufacturing ",{"$f":"IFERROR(IFERROR(IFERROR(INDEX(Table1[],MATCH(EIOLCA!$E483,Table1[NAICS Code],0),3),INDEX(Table1[],MATCH(ROUNDDOWN(EIOLCA!$E483/10,0)*10,Table1[NAICS Code],0),3)),INDEX(Table1[],MATCH(ROUNDDOWN(EIOLCA!$E483/100,0)*100,Table1[NAICS Code],0),3)),\"\")","v":""}]
["6 digit",15,50,113,332216,332,3322,33221,null,null,"Saw Blade and Handtool Manufacturing ",{"$f":"IFERROR(IFERROR(IFERROR(INDEX(Table1[],MATCH(EIOLCA!$E484,Table1[NAICS Code],0),3),INDEX(Table1[],MATCH(ROUNDDOWN(EIOLCA!$E484/10,0)*10,Table1[NAICS Code],0),3)),INDEX(Table1[],MATCH(ROUNDDOWN(EIOLCA!$E484/100,0)*100,Table1[NAICS Code],0),3)),\"\")","v":""}]
["6 digit",15,51,114,332311,332,3323,33231,null,{"$f":"LEFT(E485,5)","v":"33231"},"Prefabricated Metal Building and Component Manufacturing ",{"$f":"IFERROR(IFERROR(IFERROR(INDEX(Table1[],MATCH(EIOLCA!$E485,Table1[NAICS Code],0),3),INDEX(Table1[],MATCH(ROUNDDOWN(EIOLCA!$E485/10,0)*10,Table1[NAICS Code],0),3)),INDEX(Table1[],MATCH(ROUNDDOWN(EIOLCA!$E485/100,0)*100,Table1[NAICS Code],0),3)),\"\")","v":8.6}]
["6 digit",15,51,114,332312,332,3323,33231,null,null,"Fabricated Structural Metal Manufacturing ",{"$f":"IFERROR(IFERROR(IFERROR(INDEX(Table1[],MATCH(EIOLCA!$E486,Table1[NAICS Code],0),3),INDEX(Table1[],MATCH(ROUNDDOWN(EIOLCA!$E486/10,0)*10,Table1[NAICS Code],0),3)),INDEX(Table1[],MATCH(ROUNDDOWN(EIOLCA!$E486/100,0)*100,Table1[NAICS Code],0),3)),\"\")","v":8.6}]
["6 digit",15,51,114,332313,332,3323,33231,null,null,"Plate Work Manufacturing ",{"$f":"IFERROR(IFERROR(IFERROR(INDEX(Table1[],MATCH(EIOLCA!$E487,Table1[NAICS Code],0),3),INDEX(Table1[],MATCH(ROUNDDOWN(EIOLCA!$E487/10,0)*10,Table1[NAICS Code],0),3)),INDEX(Table1[],MATCH(ROUNDDOWN(EIOLCA!$E487/100,0)*100,Table1[NAICS Code],0),3)),\"\")","v":8.6}]
["6 digit",15,51,115,332321,332,3323,33232,null,{"$f":"LEFT(E488,5)","v":"33232"},"Metal Window and Door Manufacturing ",{"$f":"IFERROR(IFERROR(IFERROR(INDEX(Table1[],MATCH(EIOLCA!$E488,Table1[NAICS Code],0),3),INDEX(Table1[],MATCH(ROUNDDOWN(EIOLCA!$E488/10,0)*10,Table1[NAICS Code],0),3)),INDEX(Table1[],MATCH(ROUNDDOWN(EIOLCA!$E488/100,0)*100,Table1[NAICS Code],0),3)),\"\")","v":4.55}]
["6 digit",15,51,115,332322,332,3323,33232,null,null,"Sheet Metal Work Manufacturing ",{"$f":"IFERROR(IFERROR(IFERROR(INDEX(Table1[],MATCH(EIOLCA!$E489,Table1[NAICS Code],0),3),INDEX(Table1[],MATCH(ROUNDDOWN(EIOLCA!$E489/10,0)*10,Table1[NAICS Code],0),3)),INDEX(Table1[],MATCH(ROUNDDOWN(EIOLCA!$E489/100,0)*100,Table1[NAICS Code],0),3)),\"\")","v":4.55}]
["6 digit",15,51,115,332323,332,3323,33232,null,null,"Ornamental and Architectural Metal Work Manufacturing ",{"$f":"IFERROR(IFERROR(IFERROR(INDEX(Table1[],MATCH(EIOLCA!$E490,Table1[NAICS Code],0),3),INDEX(Table1[],MATCH(ROUNDDOWN(EIOLCA!$E490/10,0)*10,Table1[NAICS Code],0),3)),INDEX(Table1[],MATCH(ROUNDDOWN(EIOLCA!$E490/100,0)*100,Table1[NAICS Code],0),3)),\"\")","v":4.55}]
["6 digit",15,52,116,332410,332,3324,33241,null,{"$f":"LEFT(E491,5)","v":"33241"},"Power Boiler and Heat Exchanger Manufacturing",{"$f":"IFERROR(IFERROR(IFERROR(INDEX(Table1[],MATCH(EIOLCA!$E491,Table1[NAICS Code],0),3),INDEX(Table1[],MATCH(ROUNDDOWN(EIOLCA!$E491/10,0)*10,Table1[NAICS Code],0),3)),INDEX(Table1[],MATCH(ROUNDDOWN(EIOLCA!$E491/100,0)*100,Table1[NAICS Code],0),3)),\"\")","v":0.68899999999999995}]
["6 digit",15,52,117,332420,332,3324,33242,null,{"$f":"LEFT(E492,5)","v":"33242"},"Metal Tank (Heavy Gauge) Manufacturing",{"$f":"IFERROR(IFERROR(IFERROR(INDEX(Table1[],MATCH(EIOLCA!$E492,Table1[NAICS Code],0),3),INDEX(Table1[],MATCH(ROUNDDOWN(EIOLCA!$E492/10,0)*10,Table1[NAICS Code],0),3)),INDEX(Table1[],MATCH(ROUNDDOWN(EIOLCA!$E492/100,0)*100,Table1[NAICS Code],0),3)),\"\")","v":1.36}]
["6 digit",15,52,118,332431,332,3324,33243,null,{"$f":"LEFT(E493,5)","v":"33243"},"Metal Can Manufacturing ",{"$f":"IFERROR(IFERROR(IFERROR(INDEX(Table1[],MATCH(EIOLCA!$E493,Table1[NAICS Code],0),3),INDEX(Table1[],MATCH(ROUNDDOWN(EIOLCA!$E493/10,0)*10,Table1[NAICS Code],0),3)),INDEX(Table1[],MATCH(ROUNDDOWN(EIOLCA!$E493/100,0)*100,Table1[NAICS Code],0),3)),\"\")","v":2.19}]
["6 digit",15,52,118,332439,332,3324,33243,null,null,"Other Metal Container Manufacturing ",{"$f":"IFERROR(IFERROR(IFERROR(INDEX(Table1[],MATCH(EIOLCA!$E494,Table1[NAICS Code],0),3),INDEX(Table1[],MATCH(ROUNDDOWN(EIOLCA!$E494/10,0)*10,Table1[NAICS Code],0),3)),INDEX(Table1[],MATCH(ROUNDDOWN(EIOLCA!$E494/100,0)*100,Table1[NAICS Code],0),3)),\"\")","v":2.19}]
["6 digit",15,{"$f":"INDEX($B$24:$E$109,MATCH(G495,$E$24:$E$109,0),1)","v":53},119,332510,332,3325,33251,null,{"$f":"LEFT(E495,5)","v":"33251"},"Hardware Manufacturing",{"$f":"IFERROR(IFERROR(IFERROR(INDEX(Table1[],MATCH(EIOLCA!$E495,Table1[NAICS Code],0),3),INDEX(Table1[],MATCH(ROUNDDOWN(EIOLCA!$E495/10,0)*10,Table1[NAICS Code],0),3)),INDEX(Table1[],MATCH(ROUNDDOWN(EIOLCA!$E495/100,0)*100,Table1[NAICS Code],0),3)),\"\")","v":2.42}]
["6 digit",15,54,120,332613,332,3326,33261,null,{"$f":"LEFT(E496,5)","v":"33261"},"Spring Manufacturing ",{"$f":"IFERROR(IFERROR(IFERROR(INDEX(Table1[],MATCH(EIOLCA!$E496,Table1[NAICS Code],0),3),INDEX(Table1[],MATCH(ROUNDDOWN(EIOLCA!$E496/10,0)*10,Table1[NAICS Code],0),3)),INDEX(Table1[],MATCH(ROUNDDOWN(EIOLCA!$E496/100,0)*100,Table1[NAICS Code],0),3)),\"\")","v":128}]
["6 digit",15,54,120,332618,332,3326,33261,null,null,"Other Fabricated Wire Product Manufacturing ",{"$f":"IFERROR(IFERROR(IFERROR(INDEX(Table1[],MATCH(EIOLCA!$E497,Table1[NAICS Code],0),3),INDEX(Table1[],MATCH(ROUNDDOWN(EIOLCA!$E497/10,0)*10,Table1[NAICS Code],0),3)),INDEX(Table1[],MATCH(ROUNDDOWN(EIOLCA!$E497/100,0)*100,Table1[NAICS Code],0),3)),\"\")","v":128}]
["6 digit",15,55,121,332710,332,3327,33271,null,{"$f":"LEFT(E498,5)","v":"33271"},"Machine Shops",{"$f":"IFERROR(IFERROR(IFERROR(INDEX(Table1[],MATCH(EIOLCA!$E498,Table1[NAICS Code],0),3),INDEX(Table1[],MATCH(ROUNDDOWN(EIOLCA!$E498/10,0)*10,Table1[NAICS Code],0),3)),INDEX(Table1[],MATCH(ROUNDDOWN(EIOLCA!$E498/100,0)*100,Table1[NAICS Code],0),3)),\"\")","v":39.1}]
["6 digit",15,55,122,332721,332,3327,33272,null,{"$f":"LEFT(E499,5)","v":"33272"},"Precision Turned Product Manufacturing ",{"$f":"IFERROR(IFERROR(IFERROR(INDEX(Table1[],MATCH(EIOLCA!$E499,Table1[NAICS Code],0),3),INDEX(Table1[],MATCH(ROUNDDOWN(EIOLCA!$E499/10,0)*10,Table1[NAICS Code],0),3)),INDEX(Table1[],MATCH(ROUNDDOWN(EIOLCA!$E499/100,0)*100,Table1[NAICS Code],0),3)),\"\")","v":8.7899999999999991}]
["6 digit",15,55,122,332722,332,3327,33272,null,null,"Bolt, Nut, Screw, Rivet, and Washer Manufacturing ",{"$f":"IFERROR(IFERROR(IFERROR(INDEX(Table1[],MATCH(EIOLCA!$E500,Table1[NAICS Code],0),3),INDEX(Table1[],MATCH(ROUNDDOWN(EIOLCA!$E500/10,0)*10,Table1[NAICS Code],0),3)),INDEX(Table1[],MATCH(ROUNDDOWN(EIOLCA!$E500/100,0)*100,Table1[NAICS Code],0),3)),\"\")","v":8.7899999999999991}]
["6 digit",15,56,123,332811,332,3328,33281,null,{"$f":"LEFT(E501,5)","v":"33281"},"Metal Heat Treating ",{"$f":"IFERROR(IFERROR(IFERROR(INDEX(Table1[],MATCH(EIOLCA!$E501,Table1[NAICS Code],0),3),INDEX(Table1[],MATCH(ROUNDDOWN(EIOLCA!$E501/10,0)*10,Table1[NAICS Code],0),3)),INDEX(Table1[],MATCH(ROUNDDOWN(EIOLCA!$E501/100,0)*100,Table1[NAICS Code],0),3)),\"\")","v":53.1}]
["6 digit",15,56,123,332812,332,3328,33281,null,null,"Metal Coating, Engraving (except Jewelry and Silverware), and Allied Services to Manufacturers ",{"$f":"IFERROR(IFERROR(IFERROR(INDEX(Table1[],MATCH(EIOLCA!$E502,Table1[NAICS Code],0),3),INDEX(Table1[],MATCH(ROUNDDOWN(EIOLCA!$E502/10,0)*10,Table1[NAICS Code],0),3)),INDEX(Table1[],MATCH(ROUNDDOWN(EIOLCA!$E502/100,0)*100,Table1[NAICS Code],0),3)),\"\")","v":53.1}]
["6 digit",15,56,123,332813,332,3328,33281,null,null,"Electroplating, Plating, Polishing, Anodizing, and Coloring ",{"$f":"IFERROR(IFERROR(IFERROR(INDEX(Table1[],MATCH(EIOLCA!$E503,Table1[NAICS Code],0),3),INDEX(Table1[],MATCH(ROUNDDOWN(EIOLCA!$E503/10,0)*10,Table1[NAICS Code],0),3)),INDEX(Table1[],MATCH(ROUNDDOWN(EIOLCA!$E503/100,0)*100,Table1[NAICS Code],0),3)),\"\")","v":53.1}]
["6 digit",15,57,124,332911,332,3329,33291,null,{"$f":"LEFT(E504,5)","v":"33291"},"Industrial Valve Manufacturing ",{"$f":"IFERROR(IFERROR(IFERROR(INDEX(Table1[],MATCH(EIOLCA!$E504,Table1[NAICS Code],0),3),INDEX(Table1[],MATCH(ROUNDDOWN(EIOLCA!$E504/10,0)*10,Table1[NAICS Code],0),3)),INDEX(Table1[],MATCH(ROUNDDOWN(EIOLCA!$E504/100,0)*100,Table1[NAICS Code],0),3)),\"\")","v":""}]
["6 digit",15,57,124,332912,332,3329,33291,null,null,"Fluid Power Valve and Hose Fitting Manufacturing ",{"$f":"IFERROR(IFERROR(IFERROR(INDEX(Table1[],MATCH(EIOLCA!$E505,Table1[NAICS Code],0),3),INDEX(Table1[],MATCH(ROUNDDOWN(EIOLCA!$E505/10,0)*10,Table1[NAICS Code],0),3)),INDEX(Table1[],MATCH(ROUNDDOWN(EIOLCA!$E505/100,0)*100,Table1[NAICS Code],0),3)),\"\")","v":""}]
["6 digit",15,57,124,332913,332,3329,33291,null,null,"Plumbing Fixture Fitting and Trim Manufacturing ",{"$f":"IFERROR(IFERROR(IFERROR(INDEX(Table1[],MATCH(EIOLCA!$E506,Table1[NAICS Code],0),3),INDEX(Table1[],MATCH(ROUNDDOWN(EIOLCA!$E506/10,0)*10,Table1[NAICS Code],0),3)),INDEX(Table1[],MATCH(ROUNDDOWN(EIOLCA!$E506/100,0)*100,Table1[NAICS Code],0),3)),\"\")","v":0.13800000000000001}]
["6 digit",15,57,124,332919,332,3329,33291,null,null,"Other Metal Valve and Pipe Fitting Manufacturing ",{"$f":"IFERROR(IFERROR(IFERROR(INDEX(Table1[],MATCH(EIOLCA!$E507,Table1[NAICS Code],0),3),INDEX(Table1[],MATCH(ROUNDDOWN(EIOLCA!$E507/10,0)*10,Table1[NAICS Code],0),3)),INDEX(Table1[],MATCH(ROUNDDOWN(EIOLCA!$E507/100,0)*100,Table1[NAICS Code],0),3)),\"\")","v":""}]
["6 digit",15,57,125,332991,332,3329,33299,null,{"$f":"LEFT(E508,5)","v":"33299"},"Ball and Roller Bearing Manufacturing",{"$f":"IFERROR(IFERROR(IFERROR(INDEX(Table1[],MATCH(EIOLCA!$E508,Table1[NAICS Code],0),3),INDEX(Table1[],MATCH(ROUNDDOWN(EIOLCA!$E508/10,0)*10,Table1[NAICS Code],0),3)),INDEX(Table1[],MATCH(ROUNDDOWN(EIOLCA!$E508/100,0)*100,Table1[NAICS Code],0),3)),\"\")","v":3.25}]
["6 digit",15,57,125,332992,332,3329,33299,null,null,"Small Arms Ammunition Manufacturing ",{"$f":"IFERROR(IFERROR(IFERROR(INDEX(Table1[],MATCH(EIOLCA!$E509,Table1[NAICS Code],0),3),INDEX(Table1[],MATCH(ROUNDDOWN(EIOLCA!$E509/10,0)*10,Table1[NAICS Code],0),3)),INDEX(Table1[],MATCH(ROUNDDOWN(EIOLCA!$E509/100,0)*100,Table1[NAICS Code],0),3)),\"\")","v":""}]
["6 digit",15,57,125,332993,332,3329,33299,null,null,"Ammunition (except Small Arms) Manufacturing ",{"$f":"IFERROR(IFERROR(IFERROR(INDEX(Table1[],MATCH(EIOLCA!$E510,Table1[NAICS Code],0),3),INDEX(Table1[],MATCH(ROUNDDOWN(EIOLCA!$E510/10,0)*10,Table1[NAICS Code],0),3)),INDEX(Table1[],MATCH(ROUNDDOWN(EIOLCA!$E510/100,0)*100,Table1[NAICS Code],0),3)),\"\")","v":""}]
["6 digit",15,57,125,332994,332,3329,33299,null,null,"Small Arms, Ordnance, and Ordnance Accessories Manufacturing ",{"$f":"IFERROR(IFERROR(IFERROR(INDEX(Table1[],MATCH(EIOLCA!$E511,Table1[NAICS Code],0),3),INDEX(Table1[],MATCH(ROUNDDOWN(EIOLCA!$E511/10,0)*10,Table1[NAICS Code],0),3)),INDEX(Table1[],MATCH(ROUNDDOWN(EIOLCA!$E511/100,0)*100,Table1[NAICS Code],0),3)),\"\")","v":""}]
["6 digit",15,57,125,332996,332,3329,33299,null,null,"Fabricated Pipe and Pipe Fitting Manufacturing ",{"$f":"IFERROR(IFERROR(IFERROR(INDEX(Table1[],MATCH(EIOLCA!$E512,Table1[NAICS Code],0),3),INDEX(Table1[],MATCH(ROUNDDOWN(EIOLCA!$E512/10,0)*10,Table1[NAICS Code],0),3)),INDEX(Table1[],MATCH(ROUNDDOWN(EIOLCA!$E512/100,0)*100,Table1[NAICS Code],0),3)),\"\")","v":0.753}]
["6 digit",15,57,125,332999,332,3329,33299,null,null,"All Other Miscellaneous Fabricated Metal Product Manufacturing ",{"$f":"IFERROR(IFERROR(IFERROR(INDEX(Table1[],MATCH(EIOLCA!$E513,Table1[NAICS Code],0),3),INDEX(Table1[],MATCH(ROUNDDOWN(EIOLCA!$E513/10,0)*10,Table1[NAICS Code],0),3)),INDEX(Table1[],MATCH(ROUNDDOWN(EIOLCA!$E513/100,0)*100,Table1[NAICS Code],0),3)),\"\")","v":""}]
["6 digit",16,58,126,333111,333,3331,33311,{"$f":"LEFT(E514,3)","v":"333"},{"$f":"LEFT(E514,5)","v":"33311"},"Farm Machinery and Equipment Manufacturing ",{"$f":"IFERROR(IFERROR(IFERROR(INDEX(Table1[],MATCH(EIOLCA!$E514,Table1[NAICS Code],0),3),INDEX(Table1[],MATCH(ROUNDDOWN(EIOLCA!$E514/10,0)*10,Table1[NAICS Code],0),3)),INDEX(Table1[],MATCH(ROUNDDOWN(EIOLCA!$E514/100,0)*100,Table1[NAICS Code],0),3)),\"\")","v":94.3}]
["6 digit",16,58,126,333112,333,3331,33311,null,null,"Lawn and Garden Tractor and Home Lawn and Garden Equipment Manufacturing ",{"$f":"IFERROR(IFERROR(IFERROR(INDEX(Table1[],MATCH(EIOLCA!$E515,Table1[NAICS Code],0),3),INDEX(Table1[],MATCH(ROUNDDOWN(EIOLCA!$E515/10,0)*10,Table1[NAICS Code],0),3)),INDEX(Table1[],MATCH(ROUNDDOWN(EIOLCA!$E515/100,0)*100,Table1[NAICS Code],0),3)),\"\")","v":51.6}]
["6 digit",16,58,127,333120,333,3331,33312,null,{"$f":"LEFT(E516,5)","v":"33312"},"Construction Machinery Manufacturing",{"$f":"IFERROR(IFERROR(IFERROR(INDEX(Table1[],MATCH(EIOLCA!$E516,Table1[NAICS Code],0),3),INDEX(Table1[],MATCH(ROUNDDOWN(EIOLCA!$E516/10,0)*10,Table1[NAICS Code],0),3)),INDEX(Table1[],MATCH(ROUNDDOWN(EIOLCA!$E516/100,0)*100,Table1[NAICS Code],0),3)),\"\")","v":54.2}]
["6 digit",16,58,128,333131,333,3331,33313,null,{"$f":"LEFT(E517,5)","v":"33313"},"Mining Machinery and Equipment Manufacturing ",{"$f":"IFERROR(IFERROR(IFERROR(INDEX(Table1[],MATCH(EIOLCA!$E517,Table1[NAICS Code],0),3),INDEX(Table1[],MATCH(ROUNDDOWN(EIOLCA!$E517/10,0)*10,Table1[NAICS Code],0),3)),INDEX(Table1[],MATCH(ROUNDDOWN(EIOLCA!$E517/100,0)*100,Table1[NAICS Code],0),3)),\"\")","v":63.4}]
["6 digit",16,58,128,333132,333,3331,33313,null,null,"Oil and Gas Field Machinery and Equipment Manufacturing ",{"$f":"IFERROR(IFERROR(IFERROR(INDEX(Table1[],MATCH(EIOLCA!$E518,Table1[NAICS Code],0),3),INDEX(Table1[],MATCH(ROUNDDOWN(EIOLCA!$E518/10,0)*10,Table1[NAICS Code],0),3)),INDEX(Table1[],MATCH(ROUNDDOWN(EIOLCA!$E518/100,0)*100,Table1[NAICS Code],0),3)),\"\")","v":63.4}]
["6 digit",16,59,129,333241,333,3332,33324,null,{"$f":"LEFT(E519,5)","v":"33324"},"Food Product Machinery Manufacturing ",{"$f":"IFERROR(IFERROR(IFERROR(INDEX(Table1[],MATCH(EIOLCA!$E519,Table1[NAICS Code],0),3),INDEX(Table1[],MATCH(ROUNDDOWN(EIOLCA!$E519/10,0)*10,Table1[NAICS Code],0),3)),INDEX(Table1[],MATCH(ROUNDDOWN(EIOLCA!$E519/100,0)*100,Table1[NAICS Code],0),3)),\"\")","v":""}]
["6 digit",16,59,129,333242,333,3332,33324,null,null,"Semiconductor Machinery Manufacturing ",{"$f":"IFERROR(IFERROR(IFERROR(INDEX(Table1[],MATCH(EIOLCA!$E520,Table1[NAICS Code],0),3),INDEX(Table1[],MATCH(ROUNDDOWN(EIOLCA!$E520/10,0)*10,Table1[NAICS Code],0),3)),INDEX(Table1[],MATCH(ROUNDDOWN(EIOLCA!$E520/100,0)*100,Table1[NAICS Code],0),3)),\"\")","v":""}]
["6 digit",16,59,129,333243,333,3332,33324,null,null,"Sawmill, Woodworking, and Paper Machinery Manufacturing ",{"$f":"IFERROR(IFERROR(IFERROR(INDEX(Table1[],MATCH(EIOLCA!$E521,Table1[NAICS Code],0),3),INDEX(Table1[],MATCH(ROUNDDOWN(EIOLCA!$E521/10,0)*10,Table1[NAICS Code],0),3)),INDEX(Table1[],MATCH(ROUNDDOWN(EIOLCA!$E521/100,0)*100,Table1[NAICS Code],0),3)),\"\")","v":""}]
["6 digit",16,59,129,333244,333,3332,33324,null,null,"Printing Machinery and Equipment Manufacturing ",{"$f":"IFERROR(IFERROR(IFERROR(INDEX(Table1[],MATCH(EIOLCA!$E522,Table1[NAICS Code],0),3),INDEX(Table1[],MATCH(ROUNDDOWN(EIOLCA!$E522/10,0)*10,Table1[NAICS Code],0),3)),INDEX(Table1[],MATCH(ROUNDDOWN(EIOLCA!$E522/100,0)*100,Table1[NAICS Code],0),3)),\"\")","v":""}]
["6 digit",16,59,129,333249,333,3332,33324,null,null,"Other Industrial Machinery Manufacturing ",{"$f":"IFERROR(IFERROR(IFERROR(INDEX(Table1[],MATCH(EIOLCA!$E523,Table1[NAICS Code],0),3),INDEX(Table1[],MATCH(ROUNDDOWN(EIOLCA!$E523/10,0)*10,Table1[NAICS Code],0),3)),INDEX(Table1[],MATCH(ROUNDDOWN(EIOLCA!$E523/100,0)*100,Table1[NAICS Code],0),3)),\"\")","v":""}]
["6 digit",16,60,130,333314,333,3333,33331,null,{"$f":"LEFT(E524,5)","v":"33331"},"Optical Instrument and Lens Manufacturing ",{"$f":"IFERROR(IFERROR(IFERROR(INDEX(Table1[],MATCH(EIOLCA!$E524,Table1[NAICS Code],0),3),INDEX(Table1[],MATCH(ROUNDDOWN(EIOLCA!$E524/10,0)*10,Table1[NAICS Code],0),3)),INDEX(Table1[],MATCH(ROUNDDOWN(EIOLCA!$E524/100,0)*100,Table1[NAICS Code],0),3)),\"\")","v":81.400000000000006}]
["6 digit",16,60,130,333316,333,3333,33331,null,null,"Photographic and Photocopying Equipment Manufacturing ",{"$f":"IFERROR(IFERROR(IFERROR(INDEX(Table1[],MATCH(EIOLCA!$E525,Table1[NAICS Code],0),3),INDEX(Table1[],MATCH(ROUNDDOWN(EIOLCA!$E525/10,0)*10,Table1[NAICS Code],0),3)),INDEX(Table1[],MATCH(ROUNDDOWN(EIOLCA!$E525/100,0)*100,Table1[NAICS Code],0),3)),\"\")","v":""}]
["6 digit",16,60,130,333318,333,3333,33331,null,null,"Other Commercial and Service Industry Machinery Manufacturing ",{"$f":"IFERROR(IFERROR(IFERROR(INDEX(Table1[],MATCH(EIOLCA!$E526,Table1[NAICS Code],0),3),INDEX(Table1[],MATCH(ROUNDDOWN(EIOLCA!$E526/10,0)*10,Table1[NAICS Code],0),3)),INDEX(Table1[],MATCH(ROUNDDOWN(EIOLCA!$E526/100,0)*100,Table1[NAICS Code],0),3)),\"\")","v":""}]
["6 digit",16,61,131,333413,333,3334,33341,null,{"$f":"LEFT(E527,5)","v":"33341"},"Industrial and Commercial Fan and Blower and Air Purification Equipment Manufacturing ",{"$f":"IFERROR(IFERROR(IFERROR(INDEX(Table1[],MATCH(EIOLCA!$E527,Table1[NAICS Code],0),3),INDEX(Table1[],MATCH(ROUNDDOWN(EIOLCA!$E527/10,0)*10,Table1[NAICS Code],0),3)),INDEX(Table1[],MATCH(ROUNDDOWN(EIOLCA!$E527/100,0)*100,Table1[NAICS Code],0),3)),\"\")","v":""}]
["6 digit",16,61,131,333414,333,3334,33341,null,null,"Heating Equipment (except Warm Air Furnaces) Manufacturing ",{"$f":"IFERROR(IFERROR(IFERROR(INDEX(Table1[],MATCH(EIOLCA!$E528,Table1[NAICS Code],0),3),INDEX(Table1[],MATCH(ROUNDDOWN(EIOLCA!$E528/10,0)*10,Table1[NAICS Code],0),3)),INDEX(Table1[],MATCH(ROUNDDOWN(EIOLCA!$E528/100,0)*100,Table1[NAICS Code],0),3)),\"\")","v":107}]
["6 digit",16,61,131,333415,333,3334,33341,null,null,"Air-Conditioning and Warm Air Heating Equipment and Commercial and Industrial Refrigeration Equipment Manufacturing ",{"$f":"IFERROR(IFERROR(IFERROR(INDEX(Table1[],MATCH(EIOLCA!$E529,Table1[NAICS Code],0),3),INDEX(Table1[],MATCH(ROUNDDOWN(EIOLCA!$E529/10,0)*10,Table1[NAICS Code],0),3)),INDEX(Table1[],MATCH(ROUNDDOWN(EIOLCA!$E529/100,0)*100,Table1[NAICS Code],0),3)),\"\")","v":71.7}]
["6 digit",16,62,132,333511,333,3335,33351,null,{"$f":"LEFT(E530,5)","v":"33351"},"Industrial Mold Manufacturing ",{"$f":"IFERROR(IFERROR(IFERROR(INDEX(Table1[],MATCH(EIOLCA!$E530,Table1[NAICS Code],0),3),INDEX(Table1[],MATCH(ROUNDDOWN(EIOLCA!$E530/10,0)*10,Table1[NAICS Code],0),3)),INDEX(Table1[],MATCH(ROUNDDOWN(EIOLCA!$E530/100,0)*100,Table1[NAICS Code],0),3)),\"\")","v":97.9}]
["6 digit",16,62,132,333514,333,3335,33351,null,null,"Special Die and Tool, Die Set, Jig, and Fixture Manufacturing ",{"$f":"IFERROR(IFERROR(IFERROR(INDEX(Table1[],MATCH(EIOLCA!$E531,Table1[NAICS Code],0),3),INDEX(Table1[],MATCH(ROUNDDOWN(EIOLCA!$E531/10,0)*10,Table1[NAICS Code],0),3)),INDEX(Table1[],MATCH(ROUNDDOWN(EIOLCA!$E531/100,0)*100,Table1[NAICS Code],0),3)),\"\")","v":75.3}]
["6 digit",16,62,132,333515,333,3335,33351,null,null,"Cutting Tool and Machine Tool Accessory Manufacturing ",{"$f":"IFERROR(IFERROR(IFERROR(INDEX(Table1[],MATCH(EIOLCA!$E532,Table1[NAICS Code],0),3),INDEX(Table1[],MATCH(ROUNDDOWN(EIOLCA!$E532/10,0)*10,Table1[NAICS Code],0),3)),INDEX(Table1[],MATCH(ROUNDDOWN(EIOLCA!$E532/100,0)*100,Table1[NAICS Code],0),3)),\"\")","v":143}]
["6 digit",16,62,132,333517,333,3335,33351,null,null,"Machine Tool Manufacturing ",{"$f":"IFERROR(IFERROR(IFERROR(INDEX(Table1[],MATCH(EIOLCA!$E533,Table1[NAICS Code],0),3),INDEX(Table1[],MATCH(ROUNDDOWN(EIOLCA!$E533/10,0)*10,Table1[NAICS Code],0),3)),INDEX(Table1[],MATCH(ROUNDDOWN(EIOLCA!$E533/100,0)*100,Table1[NAICS Code],0),3)),\"\")","v":""}]
["6 digit",16,62,132,333519,333,3335,33351,null,null,"Rolling Mill and Other Metalworking Machinery Manufacturing ",{"$f":"IFERROR(IFERROR(IFERROR(INDEX(Table1[],MATCH(EIOLCA!$E534,Table1[NAICS Code],0),3),INDEX(Table1[],MATCH(ROUNDDOWN(EIOLCA!$E534/10,0)*10,Table1[NAICS Code],0),3)),INDEX(Table1[],MATCH(ROUNDDOWN(EIOLCA!$E534/100,0)*100,Table1[NAICS Code],0),3)),\"\")","v":""}]
["6 digit",16,63,133,333611,333,3336,33361,null,{"$f":"LEFT(E535,5)","v":"33361"},"Turbine and Turbine Generator Set Units Manufacturing ",{"$f":"IFERROR(IFERROR(IFERROR(INDEX(Table1[],MATCH(EIOLCA!$E535,Table1[NAICS Code],0),3),INDEX(Table1[],MATCH(ROUNDDOWN(EIOLCA!$E535/10,0)*10,Table1[NAICS Code],0),3)),INDEX(Table1[],MATCH(ROUNDDOWN(EIOLCA!$E535/100,0)*100,Table1[NAICS Code],0),3)),\"\")","v":35.4}]
["6 digit",16,63,133,333612,333,3336,33361,null,null,"Speed Changer, Industrial High-Speed Drive, and Gear Manufacturing ",{"$f":"IFERROR(IFERROR(IFERROR(INDEX(Table1[],MATCH(EIOLCA!$E536,Table1[NAICS Code],0),3),INDEX(Table1[],MATCH(ROUNDDOWN(EIOLCA!$E536/10,0)*10,Table1[NAICS Code],0),3)),INDEX(Table1[],MATCH(ROUNDDOWN(EIOLCA!$E536/100,0)*100,Table1[NAICS Code],0),3)),\"\")","v":122}]
["6 digit",{"$f":"INDEX($B$3:$E$23,MATCH(F537,$E$3:$E$23,0),1)","v":16},63,133,333613,{"$f":"LEFT(E537,3)*1","v":333},{"$f":"LEFT(E537,4)*1","v":3336},33361,null,null,"Mechanical Power Transmission Equipment Manufacturing ",{"$f":"IFERROR(IFERROR(IFERROR(INDEX(Table1[],MATCH(EIOLCA!$E537,Table1[NAICS Code],0),3),INDEX(Table1[],MATCH(ROUNDDOWN(EIOLCA!$E537/10,0)*10,Table1[NAICS Code],0),3)),INDEX(Table1[],MATCH(ROUNDDOWN(EIOLCA!$E537/100,0)*100,Table1[NAICS Code],0),3)),\"\")","v":164}]
["6 digit",16,63,133,333618,333,3336,33361,null,null,"Other Engine Equipment Manufacturing ",{"$f":"IFERROR(IFERROR(IFERROR(INDEX(Table1[],MATCH(EIOLCA!$E538,Table1[NAICS Code],0),3),INDEX(Table1[],MATCH(ROUNDDOWN(EIOLCA!$E538/10,0)*10,Table1[NAICS Code],0),3)),INDEX(Table1[],MATCH(ROUNDDOWN(EIOLCA!$E538/100,0)*100,Table1[NAICS Code],0),3)),\"\")","v":110}]
["6 digit",16,64,134,333912,333,3339,33391,null,{"$f":"LEFT(E539,5)","v":"33391"},"Air and Gas Compressor Manufacturing ",{"$f":"IFERROR(IFERROR(IFERROR(INDEX(Table1[],MATCH(EIOLCA!$E539,Table1[NAICS Code],0),3),INDEX(Table1[],MATCH(ROUNDDOWN(EIOLCA!$E539/10,0)*10,Table1[NAICS Code],0),3)),INDEX(Table1[],MATCH(ROUNDDOWN(EIOLCA!$E539/100,0)*100,Table1[NAICS Code],0),3)),\"\")","v":102}]
["6 digit",16,64,134,333914,333,3339,33391,null,null,"Measuring, Dispensing, and Other Pumping Equipment Manufacturing ",{"$f":"IFERROR(IFERROR(IFERROR(INDEX(Table1[],MATCH(EIOLCA!$E540,Table1[NAICS Code],0),3),INDEX(Table1[],MATCH(ROUNDDOWN(EIOLCA!$E540/10,0)*10,Table1[NAICS Code],0),3)),INDEX(Table1[],MATCH(ROUNDDOWN(EIOLCA!$E540/100,0)*100,Table1[NAICS Code],0),3)),\"\")","v":""}]
["6 digit",16,64,135,333921,333,3339,33392,null,{"$f":"LEFT(E541,5)","v":"33392"},"Elevator and Moving Stairway Manufacturing ",{"$f":"IFERROR(IFERROR(IFERROR(INDEX(Table1[],MATCH(EIOLCA!$E541,Table1[NAICS Code],0),3),INDEX(Table1[],MATCH(ROUNDDOWN(EIOLCA!$E541/10,0)*10,Table1[NAICS Code],0),3)),INDEX(Table1[],MATCH(ROUNDDOWN(EIOLCA!$E541/100,0)*100,Table1[NAICS Code],0),3)),\"\")","v":69.900000000000006}]
["6 digit",16,64,135,333922,333,3339,33392,null,null,"Conveyor and Conveying Equipment Manufacturing ",{"$f":"IFERROR(IFERROR(IFERROR(INDEX(Table1[],MATCH(EIOLCA!$E542,Table1[NAICS Code],0),3),INDEX(Table1[],MATCH(ROUNDDOWN(EIOLCA!$E542/10,0)*10,Table1[NAICS Code],0),3)),INDEX(Table1[],MATCH(ROUNDDOWN(EIOLCA!$E542/100,0)*100,Table1[NAICS Code],0),3)),\"\")","v":69.900000000000006}]
["6 digit",16,64,135,333923,333,3339,33392,null,null,"Overhead Traveling Crane, Hoist, and Monorail System Manufacturing ",{"$f":"IFERROR(IFERROR(IFERROR(INDEX(Table1[],MATCH(EIOLCA!$E543,Table1[NAICS Code],0),3),INDEX(Table1[],MATCH(ROUNDDOWN(EIOLCA!$E543/10,0)*10,Table1[NAICS Code],0),3)),INDEX(Table1[],MATCH(ROUNDDOWN(EIOLCA!$E543/100,0)*100,Table1[NAICS Code],0),3)),\"\")","v":69.900000000000006}]
["6 digit",16,64,135,333924,333,3339,33392,null,null,"Industrial Truck, Tractor, Trailer, and Stacker Machinery Manufacturing ",{"$f":"IFERROR(IFERROR(IFERROR(INDEX(Table1[],MATCH(EIOLCA!$E544,Table1[NAICS Code],0),3),INDEX(Table1[],MATCH(ROUNDDOWN(EIOLCA!$E544/10,0)*10,Table1[NAICS Code],0),3)),INDEX(Table1[],MATCH(ROUNDDOWN(EIOLCA!$E544/100,0)*100,Table1[NAICS Code],0),3)),\"\")","v":69.900000000000006}]
["6 digit",16,64,136,333991,333,3339,33399,null,{"$f":"LEFT(E545,5)","v":"33399"},"Power-Driven Handtool Manufacturing ",{"$f":"IFERROR(IFERROR(IFERROR(INDEX(Table1[],MATCH(EIOLCA!$E545,Table1[NAICS Code],0),3),INDEX(Table1[],MATCH(ROUNDDOWN(EIOLCA!$E545/10,0)*10,Table1[NAICS Code],0),3)),INDEX(Table1[],MATCH(ROUNDDOWN(EIOLCA!$E545/100,0)*100,Table1[NAICS Code],0),3)),\"\")","v":47.5}]
["6 digit",16,64,136,333992,333,3339,33399,null,null,"Welding and Soldering Equipment Manufacturing ",{"$f":"IFERROR(IFERROR(IFERROR(INDEX(Table1[],MATCH(EIOLCA!$E546,Table1[NAICS Code],0),3),INDEX(Table1[],MATCH(ROUNDDOWN(EIOLCA!$E546/10,0)*10,Table1[NAICS Code],0),3)),INDEX(Table1[],MATCH(ROUNDDOWN(EIOLCA!$E546/100,0)*100,Table1[NAICS Code],0),3)),\"\")","v":""}]
["6 digit",16,64,{"$f":"INDEX($B$110:$E$289,MATCH(H547,$E$110:$E$289,0),1)","v":136},333993,333,3339,{"$f":"LEFT(E547,5)*1","v":33399},null,null,"Packaging Machinery Manufacturing ",{"$f":"IFERROR(IFERROR(IFERROR(INDEX(Table1[],MATCH(EIOLCA!$E547,Table1[NAICS Code],0),3),INDEX(Table1[],MATCH(ROUNDDOWN(EIOLCA!$E547/10,0)*10,Table1[NAICS Code],0),3)),INDEX(Table1[],MATCH(ROUNDDOWN(EIOLCA!$E547/100,0)*100,Table1[NAICS Code],0),3)),\"\")","v":57.3}]
["6 digit",16,64,136,333994,333,3339,33399,null,null,"Industrial Process Furnace and Oven Manufacturing ",{"$f":"IFERROR(IFERROR(IFERROR(INDEX(Table1[],MATCH(EIOLCA!$E548,Table1[NAICS Code],0),3),INDEX(Table1[],MATCH(ROUNDDOWN(EIOLCA!$E548/10,0)*10,Table1[NAICS Code],0),3)),INDEX(Table1[],MATCH(ROUNDDOWN(EIOLCA!$E548/100,0)*100,Table1[NAICS Code],0),3)),\"\")","v":143}]
["6 digit",16,64,136,333995,333,3339,33399,null,null,"Fluid Power Cylinder and Actuator Manufacturing ",{"$f":"IFERROR(IFERROR(IFERROR(INDEX(Table1[],MATCH(EIOLCA!$E549,Table1[NAICS Code],0),3),INDEX(Table1[],MATCH(ROUNDDOWN(EIOLCA!$E549/10,0)*10,Table1[NAICS Code],0),3)),INDEX(Table1[],MATCH(ROUNDDOWN(EIOLCA!$E549/100,0)*100,Table1[NAICS Code],0),3)),\"\")","v":""}]
["6 digit",16,64,136,333996,333,3339,33399,null,null,"Fluid Power Pump and Motor Manufacturing ",{"$f":"IFERROR(IFERROR(IFERROR(INDEX(Table1[],MATCH(EIOLCA!$E550,Table1[NAICS Code],0),3),INDEX(Table1[],MATCH(ROUNDDOWN(EIOLCA!$E550/10,0)*10,Table1[NAICS Code],0),3)),INDEX(Table1[],MATCH(ROUNDDOWN(EIOLCA!$E550/100,0)*100,Table1[NAICS Code],0),3)),\"\")","v":""}]
["6 digit",16,64,136,333997,333,3339,33399,null,null,"Scale and Balance Manufacturing ",{"$f":"IFERROR(IFERROR(IFERROR(INDEX(Table1[],MATCH(EIOLCA!$E551,Table1[NAICS Code],0),3),INDEX(Table1[],MATCH(ROUNDDOWN(EIOLCA!$E551/10,0)*10,Table1[NAICS Code],0),3)),INDEX(Table1[],MATCH(ROUNDDOWN(EIOLCA!$E551/100,0)*100,Table1[NAICS Code],0),3)),\"\")","v":""}]
["6 digit",16,64,136,333999,333,3339,33399,null,null,"All Other Miscellaneous General Purpose Machinery Manufacturing ",{"$f":"IFERROR(IFERROR(IFERROR(INDEX(Table1[],MATCH(EIOLCA!$E552,Table1[NAICS Code],0),3),INDEX(Table1[],MATCH(ROUNDDOWN(EIOLCA!$E552/10,0)*10,Table1[NAICS Code],0),3)),INDEX(Table1[],MATCH(ROUNDDOWN(EIOLCA!$E552/100,0)*100,Table1[NAICS Code],0),3)),\"\")","v":""}]
["6 digit",17,65,137,334111,334,3341,33411,{"$f":"LEFT(E553,3)","v":"334"},{"$f":"LEFT(E553,5)","v":"33411"},"Electronic Computer Manufacturing ",{"$f":"IFERROR(IFERROR(IFERROR(INDEX(Table1[],MATCH(EIOLCA!$E553,Table1[NAICS Code],0),3),INDEX(Table1[],MATCH(ROUNDDOWN(EIOLCA!$E553/10,0)*10,Table1[NAICS Code],0),3)),INDEX(Table1[],MATCH(ROUNDDOWN(EIOLCA!$E553/100,0)*100,Table1[NAICS Code],0),3)),\"\")","v":14}]
["6 digit",17,65,137,334112,334,3341,33411,null,null,"Computer Storage Device Manufacturing ",{"$f":"IFERROR(IFERROR(IFERROR(INDEX(Table1[],MATCH(EIOLCA!$E554,Table1[NAICS Code],0),3),INDEX(Table1[],MATCH(ROUNDDOWN(EIOLCA!$E554/10,0)*10,Table1[NAICS Code],0),3)),INDEX(Table1[],MATCH(ROUNDDOWN(EIOLCA!$E554/100,0)*100,Table1[NAICS Code],0),3)),\"\")","v":58.8}]
["6 digit",17,65,137,334118,334,3341,33411,null,null,"Computer Terminal and Other Computer Peripheral Equipment Manufacturing ",{"$f":"IFERROR(IFERROR(IFERROR(INDEX(Table1[],MATCH(EIOLCA!$E555,Table1[NAICS Code],0),3),INDEX(Table1[],MATCH(ROUNDDOWN(EIOLCA!$E555/10,0)*10,Table1[NAICS Code],0),3)),INDEX(Table1[],MATCH(ROUNDDOWN(EIOLCA!$E555/100,0)*100,Table1[NAICS Code],0),3)),\"\")","v":""}]
["6 digit",17,66,138,334210,334,3342,33421,null,"33421","Telephone Apparatus Manufacturing",{"$f":"IFERROR(IFERROR(IFERROR(INDEX(Table1[],MATCH(EIOLCA!$E556,Table1[NAICS Code],0),3),INDEX(Table1[],MATCH(ROUNDDOWN(EIOLCA!$E556/10,0)*10,Table1[NAICS Code],0),3)),INDEX(Table1[],MATCH(ROUNDDOWN(EIOLCA!$E556/100,0)*100,Table1[NAICS Code],0),3)),\"\")","v":39.799999999999997}]
["6 digit",17,66,139,334220,334,3342,33422,null,"33422","Radio and Television Broadcasting and Wireless Communications Equipment Manufacturing",{"$f":"IFERROR(IFERROR(IFERROR(INDEX(Table1[],MATCH(EIOLCA!$E557,Table1[NAICS Code],0),3),INDEX(Table1[],MATCH(ROUNDDOWN(EIOLCA!$E557/10,0)*10,Table1[NAICS Code],0),3)),INDEX(Table1[],MATCH(ROUNDDOWN(EIOLCA!$E557/100,0)*100,Table1[NAICS Code],0),3)),\"\")","v":76.900000000000006}]
["6 digit",17,66,140,334290,334,3342,33429,null,"33429","Other Communications Equipment Manufacturing",{"$f":"IFERROR(IFERROR(IFERROR(INDEX(Table1[],MATCH(EIOLCA!$E558,Table1[NAICS Code],0),3),INDEX(Table1[],MATCH(ROUNDDOWN(EIOLCA!$E558/10,0)*10,Table1[NAICS Code],0),3)),INDEX(Table1[],MATCH(ROUNDDOWN(EIOLCA!$E558/100,0)*100,Table1[NAICS Code],0),3)),\"\")","v":33.700000000000003}]
["6 digit",17,{"$f":"INDEX($B$24:$E$109,MATCH(G559,$E$24:$E$109,0),1)","v":67},141,334310,334,3343,33431,null,"33431","Audio and Video Equipment Manufacturing",{"$f":"IFERROR(IFERROR(IFERROR(INDEX(Table1[],MATCH(EIOLCA!$E559,Table1[NAICS Code],0),3),INDEX(Table1[],MATCH(ROUNDDOWN(EIOLCA!$E559/10,0)*10,Table1[NAICS Code],0),3)),INDEX(Table1[],MATCH(ROUNDDOWN(EIOLCA!$E559/100,0)*100,Table1[NAICS Code],0),3)),\"\")","v":34.1}]
["6 digit",17,68,142,334412,334,3344,33441,null,"33441","Bare Printed Circuit Board Manufacturing ",{"$f":"IFERROR(IFERROR(IFERROR(INDEX(Table1[],MATCH(EIOLCA!$E560,Table1[NAICS Code],0),3),INDEX(Table1[],MATCH(ROUNDDOWN(EIOLCA!$E560/10,0)*10,Table1[NAICS Code],0),3)),INDEX(Table1[],MATCH(ROUNDDOWN(EIOLCA!$E560/100,0)*100,Table1[NAICS Code],0),3)),\"\")","v":363}]
["6 digit",17,68,142,334413,334,3344,33441,null,null,"Semiconductor and Related Device Manufacturing ",{"$f":"IFERROR(IFERROR(IFERROR(INDEX(Table1[],MATCH(EIOLCA!$E561,Table1[NAICS Code],0),3),INDEX(Table1[],MATCH(ROUNDDOWN(EIOLCA!$E561/10,0)*10,Table1[NAICS Code],0),3)),INDEX(Table1[],MATCH(ROUNDDOWN(EIOLCA!$E561/100,0)*100,Table1[NAICS Code],0),3)),\"\")","v":66.400000000000006}]
["6 digit",17,68,142,334416,334,3344,33441,null,null,"Capacitor, Resistor, Coil, Transformer, and Other Inductor Manufacturing ",{"$f":"IFERROR(IFERROR(IFERROR(INDEX(Table1[],MATCH(EIOLCA!$E562,Table1[NAICS Code],0),3),INDEX(Table1[],MATCH(ROUNDDOWN(EIOLCA!$E562/10,0)*10,Table1[NAICS Code],0),3)),INDEX(Table1[],MATCH(ROUNDDOWN(EIOLCA!$E562/100,0)*100,Table1[NAICS Code],0),3)),\"\")","v":""}]
["6 digit",17,68,142,334417,334,3344,33441,null,null,"Electronic Connector Manufacturing ",{"$f":"IFERROR(IFERROR(IFERROR(INDEX(Table1[],MATCH(EIOLCA!$E563,Table1[NAICS Code],0),3),INDEX(Table1[],MATCH(ROUNDDOWN(EIOLCA!$E563/10,0)*10,Table1[NAICS Code],0),3)),INDEX(Table1[],MATCH(ROUNDDOWN(EIOLCA!$E563/100,0)*100,Table1[NAICS Code],0),3)),\"\")","v":14.3}]
["6 digit",17,68,142,334418,334,3344,33441,null,null,"Printed Circuit Assembly (Electronic Assembly) Manufacturing ",{"$f":"IFERROR(IFERROR(IFERROR(INDEX(Table1[],MATCH(EIOLCA!$E564,Table1[NAICS Code],0),3),INDEX(Table1[],MATCH(ROUNDDOWN(EIOLCA!$E564/10,0)*10,Table1[NAICS Code],0),3)),INDEX(Table1[],MATCH(ROUNDDOWN(EIOLCA!$E564/100,0)*100,Table1[NAICS Code],0),3)),\"\")","v":16.2}]
["6 digit",17,68,142,334419,334,3344,33441,null,null,"Other Electronic Component Manufacturing ",{"$f":"IFERROR(IFERROR(IFERROR(INDEX(Table1[],MATCH(EIOLCA!$E565,Table1[NAICS Code],0),3),INDEX(Table1[],MATCH(ROUNDDOWN(EIOLCA!$E565/10,0)*10,Table1[NAICS Code],0),3)),INDEX(Table1[],MATCH(ROUNDDOWN(EIOLCA!$E565/100,0)*100,Table1[NAICS Code],0),3)),\"\")","v":20}]
["6 digit",17,69,143,334510,334,3345,33451,null,"33451","Electromedical and Electrotherapeutic Apparatus Manufacturing ",{"$f":"IFERROR(IFERROR(IFERROR(INDEX(Table1[],MATCH(EIOLCA!$E566,Table1[NAICS Code],0),3),INDEX(Table1[],MATCH(ROUNDDOWN(EIOLCA!$E566/10,0)*10,Table1[NAICS Code],0),3)),INDEX(Table1[],MATCH(ROUNDDOWN(EIOLCA!$E566/100,0)*100,Table1[NAICS Code],0),3)),\"\")","v":8.0000000000000002E-3}]
["6 digit",17,69,143,334511,334,3345,33451,null,null,"Search, Detection, Navigation, Guidance, Aeronautical, and Nautical System and Instrument Manufacturing ",{"$f":"IFERROR(IFERROR(IFERROR(INDEX(Table1[],MATCH(EIOLCA!$E567,Table1[NAICS Code],0),3),INDEX(Table1[],MATCH(ROUNDDOWN(EIOLCA!$E567/10,0)*10,Table1[NAICS Code],0),3)),INDEX(Table1[],MATCH(ROUNDDOWN(EIOLCA!$E567/100,0)*100,Table1[NAICS Code],0),3)),\"\")","v":2.66}]
["6 digit",17,69,143,334512,334,3345,33451,null,null,"Automatic Environmental Control Manufacturing for Residential, Commercial, and Appliance Use ",{"$f":"IFERROR(IFERROR(IFERROR(INDEX(Table1[],MATCH(EIOLCA!$E568,Table1[NAICS Code],0),3),INDEX(Table1[],MATCH(ROUNDDOWN(EIOLCA!$E568/10,0)*10,Table1[NAICS Code],0),3)),INDEX(Table1[],MATCH(ROUNDDOWN(EIOLCA!$E568/100,0)*100,Table1[NAICS Code],0),3)),\"\")","v":7.5999999999999998E-2}]
["6 digit",17,69,143,334513,334,3345,33451,null,null,"Instruments and Related Products Manufacturing for Measuring, Displaying, and Controlling Industrial Process Variables ",{"$f":"IFERROR(IFERROR(IFERROR(INDEX(Table1[],MATCH(EIOLCA!$E569,Table1[NAICS Code],0),3),INDEX(Table1[],MATCH(ROUNDDOWN(EIOLCA!$E569/10,0)*10,Table1[NAICS Code],0),3)),INDEX(Table1[],MATCH(ROUNDDOWN(EIOLCA!$E569/100,0)*100,Table1[NAICS Code],0),3)),\"\")","v":0.45300000000000001}]
["6 digit",17,69,143,334514,334,3345,33451,null,null,"Totalizing Fluid Meter and Counting Device Manufacturing ",{"$f":"IFERROR(IFERROR(IFERROR(INDEX(Table1[],MATCH(EIOLCA!$E570,Table1[NAICS Code],0),3),INDEX(Table1[],MATCH(ROUNDDOWN(EIOLCA!$E570/10,0)*10,Table1[NAICS Code],0),3)),INDEX(Table1[],MATCH(ROUNDDOWN(EIOLCA!$E570/100,0)*100,Table1[NAICS Code],0),3)),\"\")","v":0.112}]
["6 digit",17,69,143,334515,334,3345,33451,null,null,"Instrument Manufacturing for Measuring and Testing Electricity and Electrical Signals ",{"$f":"IFERROR(IFERROR(IFERROR(INDEX(Table1[],MATCH(EIOLCA!$E571,Table1[NAICS Code],0),3),INDEX(Table1[],MATCH(ROUNDDOWN(EIOLCA!$E571/10,0)*10,Table1[NAICS Code],0),3)),INDEX(Table1[],MATCH(ROUNDDOWN(EIOLCA!$E571/100,0)*100,Table1[NAICS Code],0),3)),\"\")","v":1.1000000000000001}]
["6 digit",17,69,143,334516,334,3345,33451,null,null,"Analytical Laboratory Instrument Manufacturing ",{"$f":"IFERROR(IFERROR(IFERROR(INDEX(Table1[],MATCH(EIOLCA!$E572,Table1[NAICS Code],0),3),INDEX(Table1[],MATCH(ROUNDDOWN(EIOLCA!$E572/10,0)*10,Table1[NAICS Code],0),3)),INDEX(Table1[],MATCH(ROUNDDOWN(EIOLCA!$E572/100,0)*100,Table1[NAICS Code],0),3)),\"\")","v":0.26800000000000002}]
["6 digit",17,69,143,334517,334,3345,33451,null,null,"Irradiation Apparatus Manufacturing ",{"$f":"IFERROR(IFERROR(IFERROR(INDEX(Table1[],MATCH(EIOLCA!$E573,Table1[NAICS Code],0),3),INDEX(Table1[],MATCH(ROUNDDOWN(EIOLCA!$E573/10,0)*10,Table1[NAICS Code],0),3)),INDEX(Table1[],MATCH(ROUNDDOWN(EIOLCA!$E573/100,0)*100,Table1[NAICS Code],0),3)),\"\")","v":3.4000000000000002E-2}]
["6 digit",17,69,143,334519,334,3345,33451,null,null,"Other Measuring and Controlling Device Manufacturing ",{"$f":"IFERROR(IFERROR(IFERROR(INDEX(Table1[],MATCH(EIOLCA!$E574,Table1[NAICS Code],0),3),INDEX(Table1[],MATCH(ROUNDDOWN(EIOLCA!$E574/10,0)*10,Table1[NAICS Code],0),3)),INDEX(Table1[],MATCH(ROUNDDOWN(EIOLCA!$E574/100,0)*100,Table1[NAICS Code],0),3)),\"\")","v":8.0000000000000002E-3}]
["6 digit",17,70,144,334613,334,3346,33461,null,"33461","Blank Magnetic and Optical Recording Media Manufacturing ",{"$f":"IFERROR(IFERROR(IFERROR(INDEX(Table1[],MATCH(EIOLCA!$E575,Table1[NAICS Code],0),3),INDEX(Table1[],MATCH(ROUNDDOWN(EIOLCA!$E575/10,0)*10,Table1[NAICS Code],0),3)),INDEX(Table1[],MATCH(ROUNDDOWN(EIOLCA!$E575/100,0)*100,Table1[NAICS Code],0),3)),\"\")","v":0.59599999999999997}]
["6 digit",17,70,144,334614,334,3346,33461,null,null,"Software and Other Prerecorded Compact Disc, Tape, and Record Reproducing ",{"$f":"IFERROR(IFERROR(IFERROR(INDEX(Table1[],MATCH(EIOLCA!$E576,Table1[NAICS Code],0),3),INDEX(Table1[],MATCH(ROUNDDOWN(EIOLCA!$E576/10,0)*10,Table1[NAICS Code],0),3)),INDEX(Table1[],MATCH(ROUNDDOWN(EIOLCA!$E576/100,0)*100,Table1[NAICS Code],0),3)),\"\")","v":""}]
["6 digit",18,71,145,335110,335,3351,33511,{"$f":"LEFT(E577,3)","v":"335"},"33511","Electric Lamp Bulb and Part Manufacturing",{"$f":"IFERROR(IFERROR(IFERROR(INDEX(Table1[],MATCH(EIOLCA!$E577,Table1[NAICS Code],0),3),INDEX(Table1[],MATCH(ROUNDDOWN(EIOLCA!$E577/10,0)*10,Table1[NAICS Code],0),3)),INDEX(Table1[],MATCH(ROUNDDOWN(EIOLCA!$E577/100,0)*100,Table1[NAICS Code],0),3)),\"\")","v":168}]
["6 digit",18,71,146,335121,335,3351,33512,null,"33512","Residential Electric Lighting Fixture Manufacturing ",{"$f":"IFERROR(IFERROR(IFERROR(INDEX(Table1[],MATCH(EIOLCA!$E578,Table1[NAICS Code],0),3),INDEX(Table1[],MATCH(ROUNDDOWN(EIOLCA!$E578/10,0)*10,Table1[NAICS Code],0),3)),INDEX(Table1[],MATCH(ROUNDDOWN(EIOLCA!$E578/100,0)*100,Table1[NAICS Code],0),3)),\"\")","v":78.7}]
["6 digit",18,71,146,335122,335,3351,33512,null,null,"Commercial, Industrial, and Institutional Electric Lighting Fixture Manufacturing ",{"$f":"IFERROR(IFERROR(IFERROR(INDEX(Table1[],MATCH(EIOLCA!$E579,Table1[NAICS Code],0),3),INDEX(Table1[],MATCH(ROUNDDOWN(EIOLCA!$E579/10,0)*10,Table1[NAICS Code],0),3)),INDEX(Table1[],MATCH(ROUNDDOWN(EIOLCA!$E579/100,0)*100,Table1[NAICS Code],0),3)),\"\")","v":78.7}]
["6 digit",18,71,146,335129,335,3351,33512,null,null,"Other Lighting Equipment Manufacturing ",{"$f":"IFERROR(IFERROR(IFERROR(INDEX(Table1[],MATCH(EIOLCA!$E580,Table1[NAICS Code],0),3),INDEX(Table1[],MATCH(ROUNDDOWN(EIOLCA!$E580/10,0)*10,Table1[NAICS Code],0),3)),INDEX(Table1[],MATCH(ROUNDDOWN(EIOLCA!$E580/100,0)*100,Table1[NAICS Code],0),3)),\"\")","v":78.7}]
["6 digit",18,72,147,335210,335,3352,33521,null,"33521","Small Electrical Appliance Manufacturing",{"$f":"IFERROR(IFERROR(IFERROR(INDEX(Table1[],MATCH(EIOLCA!$E581,Table1[NAICS Code],0),3),INDEX(Table1[],MATCH(ROUNDDOWN(EIOLCA!$E581/10,0)*10,Table1[NAICS Code],0),3)),INDEX(Table1[],MATCH(ROUNDDOWN(EIOLCA!$E581/100,0)*100,Table1[NAICS Code],0),3)),\"\")","v":116}]
["6 digit",18,72,148,335220,335,3352,33522,null,"33522","Major Household Appliance Manufacturing ",{"$f":"IFERROR(IFERROR(IFERROR(INDEX(Table1[],MATCH(EIOLCA!$E582,Table1[NAICS Code],0),3),INDEX(Table1[],MATCH(ROUNDDOWN(EIOLCA!$E582/10,0)*10,Table1[NAICS Code],0),3)),INDEX(Table1[],MATCH(ROUNDDOWN(EIOLCA!$E582/100,0)*100,Table1[NAICS Code],0),3)),\"\")","v":""}]
["6 digit",18,73,149,335311,335,3353,33531,null,"33531","Power, Distribution, and Specialty Transformer Manufacturing ",{"$f":"IFERROR(IFERROR(IFERROR(INDEX(Table1[],MATCH(EIOLCA!$E583,Table1[NAICS Code],0),3),INDEX(Table1[],MATCH(ROUNDDOWN(EIOLCA!$E583/10,0)*10,Table1[NAICS Code],0),3)),INDEX(Table1[],MATCH(ROUNDDOWN(EIOLCA!$E583/100,0)*100,Table1[NAICS Code],0),3)),\"\")","v":53.2}]
["6 digit",18,73,149,335312,335,3353,33531,null,null,"Motor and Generator Manufacturing ",{"$f":"IFERROR(IFERROR(IFERROR(INDEX(Table1[],MATCH(EIOLCA!$E584,Table1[NAICS Code],0),3),INDEX(Table1[],MATCH(ROUNDDOWN(EIOLCA!$E584/10,0)*10,Table1[NAICS Code],0),3)),INDEX(Table1[],MATCH(ROUNDDOWN(EIOLCA!$E584/100,0)*100,Table1[NAICS Code],0),3)),\"\")","v":59.9}]
["6 digit",18,73,149,335313,335,3353,33531,null,null,"Switchgear and Switchboard Apparatus Manufacturing ",{"$f":"IFERROR(IFERROR(IFERROR(INDEX(Table1[],MATCH(EIOLCA!$E585,Table1[NAICS Code],0),3),INDEX(Table1[],MATCH(ROUNDDOWN(EIOLCA!$E585/10,0)*10,Table1[NAICS Code],0),3)),INDEX(Table1[],MATCH(ROUNDDOWN(EIOLCA!$E585/100,0)*100,Table1[NAICS Code],0),3)),\"\")","v":57.5}]
["6 digit",18,73,149,335314,335,3353,33531,null,null,"Relay and Industrial Control Manufacturing ",{"$f":"IFERROR(IFERROR(IFERROR(INDEX(Table1[],MATCH(EIOLCA!$E586,Table1[NAICS Code],0),3),INDEX(Table1[],MATCH(ROUNDDOWN(EIOLCA!$E586/10,0)*10,Table1[NAICS Code],0),3)),INDEX(Table1[],MATCH(ROUNDDOWN(EIOLCA!$E586/100,0)*100,Table1[NAICS Code],0),3)),\"\")","v":35.6}]
["6 digit",18,74,150,335911,335,3359,33591,null,"33591","Storage Battery Manufacturing ",{"$f":"IFERROR(IFERROR(IFERROR(INDEX(Table1[],MATCH(EIOLCA!$E587,Table1[NAICS Code],0),3),INDEX(Table1[],MATCH(ROUNDDOWN(EIOLCA!$E587/10,0)*10,Table1[NAICS Code],0),3)),INDEX(Table1[],MATCH(ROUNDDOWN(EIOLCA!$E587/100,0)*100,Table1[NAICS Code],0),3)),\"\")","v":140}]
["6 digit",18,74,150,335912,335,3359,33591,null,null,"Primary Battery Manufacturing ",{"$f":"IFERROR(IFERROR(IFERROR(INDEX(Table1[],MATCH(EIOLCA!$E588,Table1[NAICS Code],0),3),INDEX(Table1[],MATCH(ROUNDDOWN(EIOLCA!$E588/10,0)*10,Table1[NAICS Code],0),3)),INDEX(Table1[],MATCH(ROUNDDOWN(EIOLCA!$E588/100,0)*100,Table1[NAICS Code],0),3)),\"\")","v":99.8}]
["6 digit",18,74,151,335921,335,3359,33592,null,"33592","Fiber Optic Cable Manufacturing ",{"$f":"IFERROR(IFERROR(IFERROR(INDEX(Table1[],MATCH(EIOLCA!$E589,Table1[NAICS Code],0),3),INDEX(Table1[],MATCH(ROUNDDOWN(EIOLCA!$E589/10,0)*10,Table1[NAICS Code],0),3)),INDEX(Table1[],MATCH(ROUNDDOWN(EIOLCA!$E589/100,0)*100,Table1[NAICS Code],0),3)),\"\")","v":81.599999999999994}]
["6 digit",18,74,151,335929,335,3359,33592,null,null,"Other Communication and Energy Wire Manufacturing ",{"$f":"IFERROR(IFERROR(IFERROR(INDEX(Table1[],MATCH(EIOLCA!$E590,Table1[NAICS Code],0),3),INDEX(Table1[],MATCH(ROUNDDOWN(EIOLCA!$E590/10,0)*10,Table1[NAICS Code],0),3)),INDEX(Table1[],MATCH(ROUNDDOWN(EIOLCA!$E590/100,0)*100,Table1[NAICS Code],0),3)),\"\")","v":81.599999999999994}]
["6 digit",18,74,152,335931,335,3359,33593,null,"33593","Current-Carrying Wiring Device Manufacturing ",{"$f":"IFERROR(IFERROR(IFERROR(INDEX(Table1[],MATCH(EIOLCA!$E591,Table1[NAICS Code],0),3),INDEX(Table1[],MATCH(ROUNDDOWN(EIOLCA!$E591/10,0)*10,Table1[NAICS Code],0),3)),INDEX(Table1[],MATCH(ROUNDDOWN(EIOLCA!$E591/100,0)*100,Table1[NAICS Code],0),3)),\"\")","v":95.4}]
["6 digit",18,74,152,335932,335,3359,33593,null,null,"Noncurrent-Carrying Wiring Device Manufacturing ",{"$f":"IFERROR(IFERROR(IFERROR(INDEX(Table1[],MATCH(EIOLCA!$E592,Table1[NAICS Code],0),3),INDEX(Table1[],MATCH(ROUNDDOWN(EIOLCA!$E592/10,0)*10,Table1[NAICS Code],0),3)),INDEX(Table1[],MATCH(ROUNDDOWN(EIOLCA!$E592/100,0)*100,Table1[NAICS Code],0),3)),\"\")","v":95.4}]
["6 digit",18,74,153,335991,335,3359,33599,null,"33599","Carbon and Graphite Product Manufacturing ",{"$f":"IFERROR(IFERROR(IFERROR(INDEX(Table1[],MATCH(EIOLCA!$E593,Table1[NAICS Code],0),3),INDEX(Table1[],MATCH(ROUNDDOWN(EIOLCA!$E593/10,0)*10,Table1[NAICS Code],0),3)),INDEX(Table1[],MATCH(ROUNDDOWN(EIOLCA!$E593/100,0)*100,Table1[NAICS Code],0),3)),\"\")","v":140}]
["6 digit",18,74,153,335999,335,3359,33599,null,null,"All Other Miscellaneous Electrical Equipment and Component Manufacturing ",{"$f":"IFERROR(IFERROR(IFERROR(INDEX(Table1[],MATCH(EIOLCA!$E594,Table1[NAICS Code],0),3),INDEX(Table1[],MATCH(ROUNDDOWN(EIOLCA!$E594/10,0)*10,Table1[NAICS Code],0),3)),INDEX(Table1[],MATCH(ROUNDDOWN(EIOLCA!$E594/100,0)*100,Table1[NAICS Code],0),3)),\"\")","v":58.1}]
["6 digit",19,75,154,336111,336,3361,33611,{"$f":"LEFT(E595,3)","v":"336"},"33611","Automobile Manufacturing ",{"$f":"IFERROR(IFERROR(IFERROR(INDEX(Table1[],MATCH(EIOLCA!$E595,Table1[NAICS Code],0),3),INDEX(Table1[],MATCH(ROUNDDOWN(EIOLCA!$E595/10,0)*10,Table1[NAICS Code],0),3)),INDEX(Table1[],MATCH(ROUNDDOWN(EIOLCA!$E595/100,0)*100,Table1[NAICS Code],0),3)),\"\")","v":20.9}]
["6 digit",19,75,154,336112,336,3361,33611,null,null,"Light Truck and Utility Vehicle Manufacturing ",{"$f":"IFERROR(IFERROR(IFERROR(INDEX(Table1[],MATCH(EIOLCA!$E596,Table1[NAICS Code],0),3),INDEX(Table1[],MATCH(ROUNDDOWN(EIOLCA!$E596/10,0)*10,Table1[NAICS Code],0),3)),INDEX(Table1[],MATCH(ROUNDDOWN(EIOLCA!$E596/100,0)*100,Table1[NAICS Code],0),3)),\"\")","v":19.2}]
["6 digit",19,75,155,336120,336,3361,33612,null,"33612","Heavy Duty Truck Manufacturing",{"$f":"IFERROR(IFERROR(IFERROR(INDEX(Table1[],MATCH(EIOLCA!$E597,Table1[NAICS Code],0),3),INDEX(Table1[],MATCH(ROUNDDOWN(EIOLCA!$E597/10,0)*10,Table1[NAICS Code],0),3)),INDEX(Table1[],MATCH(ROUNDDOWN(EIOLCA!$E597/100,0)*100,Table1[NAICS Code],0),3)),\"\")","v":39.4}]
["6 digit",19,76,156,336211,336,3362,33621,null,"33621","Motor Vehicle Body Manufacturing ",{"$f":"IFERROR(IFERROR(IFERROR(INDEX(Table1[],MATCH(EIOLCA!$E598,Table1[NAICS Code],0),3),INDEX(Table1[],MATCH(ROUNDDOWN(EIOLCA!$E598/10,0)*10,Table1[NAICS Code],0),3)),INDEX(Table1[],MATCH(ROUNDDOWN(EIOLCA!$E598/100,0)*100,Table1[NAICS Code],0),3)),\"\")","v":93.1}]
["6 digit",19,76,156,336212,336,3362,33621,null,null,"Truck Trailer Manufacturing ",{"$f":"IFERROR(IFERROR(IFERROR(INDEX(Table1[],MATCH(EIOLCA!$E599,Table1[NAICS Code],0),3),INDEX(Table1[],MATCH(ROUNDDOWN(EIOLCA!$E599/10,0)*10,Table1[NAICS Code],0),3)),INDEX(Table1[],MATCH(ROUNDDOWN(EIOLCA!$E599/100,0)*100,Table1[NAICS Code],0),3)),\"\")","v":87.5}]
["6 digit",19,76,156,336213,336,3362,33621,null,null,"Motor Home Manufacturing ",{"$f":"IFERROR(IFERROR(IFERROR(INDEX(Table1[],MATCH(EIOLCA!$E600,Table1[NAICS Code],0),3),INDEX(Table1[],MATCH(ROUNDDOWN(EIOLCA!$E600/10,0)*10,Table1[NAICS Code],0),3)),INDEX(Table1[],MATCH(ROUNDDOWN(EIOLCA!$E600/100,0)*100,Table1[NAICS Code],0),3)),\"\")","v":3400}]
["6 digit",{"$f":"INDEX($B$3:$E$23,MATCH(F601,$E$3:$E$23,0),1)","v":19},76,156,336214,{"$f":"LEFT(E601,3)*1","v":336},{"$f":"LEFT(E601,4)*1","v":3362},33621,null,null,"Travel Trailer and Camper Manufacturing ",{"$f":"IFERROR(IFERROR(IFERROR(INDEX(Table1[],MATCH(EIOLCA!$E601,Table1[NAICS Code],0),3),INDEX(Table1[],MATCH(ROUNDDOWN(EIOLCA!$E601/10,0)*10,Table1[NAICS Code],0),3)),INDEX(Table1[],MATCH(ROUNDDOWN(EIOLCA!$E601/100,0)*100,Table1[NAICS Code],0),3)),\"\")","v":490}]
["6 digit",19,77,157,336310,336,3363,33631,null,"33631","Motor Vehicle Gasoline Engine and Engine Parts Manufacturing",{"$f":"IFERROR(IFERROR(IFERROR(INDEX(Table1[],MATCH(EIOLCA!$E602,Table1[NAICS Code],0),3),INDEX(Table1[],MATCH(ROUNDDOWN(EIOLCA!$E602/10,0)*10,Table1[NAICS Code],0),3)),INDEX(Table1[],MATCH(ROUNDDOWN(EIOLCA!$E602/100,0)*100,Table1[NAICS Code],0),3)),\"\")","v":334}]
["6 digit",19,77,158,336320,336,3363,33632,null,"33632","Motor Vehicle Electrical and Electronic Equipment Manufacturing",{"$f":"IFERROR(IFERROR(IFERROR(INDEX(Table1[],MATCH(EIOLCA!$E603,Table1[NAICS Code],0),3),INDEX(Table1[],MATCH(ROUNDDOWN(EIOLCA!$E603/10,0)*10,Table1[NAICS Code],0),3)),INDEX(Table1[],MATCH(ROUNDDOWN(EIOLCA!$E603/100,0)*100,Table1[NAICS Code],0),3)),\"\")","v":334}]
["6 digit",19,77,159,336330,336,3363,33633,null,"33633","Motor Vehicle Steering and Suspension Components (except Spring) Manufacturing",{"$f":"IFERROR(IFERROR(IFERROR(INDEX(Table1[],MATCH(EIOLCA!$E604,Table1[NAICS Code],0),3),INDEX(Table1[],MATCH(ROUNDDOWN(EIOLCA!$E604/10,0)*10,Table1[NAICS Code],0),3)),INDEX(Table1[],MATCH(ROUNDDOWN(EIOLCA!$E604/100,0)*100,Table1[NAICS Code],0),3)),\"\")","v":334}]
["6 digit",19,77,160,336340,336,3363,33634,null,"33634","Motor Vehicle Brake System Manufacturing",{"$f":"IFERROR(IFERROR(IFERROR(INDEX(Table1[],MATCH(EIOLCA!$E605,Table1[NAICS Code],0),3),INDEX(Table1[],MATCH(ROUNDDOWN(EIOLCA!$E605/10,0)*10,Table1[NAICS Code],0),3)),INDEX(Table1[],MATCH(ROUNDDOWN(EIOLCA!$E605/100,0)*100,Table1[NAICS Code],0),3)),\"\")","v":334}]
["6 digit",19,77,161,336350,336,3363,33635,null,"33635","Motor Vehicle Transmission and Power Train Parts Manufacturing",{"$f":"IFERROR(IFERROR(IFERROR(INDEX(Table1[],MATCH(EIOLCA!$E606,Table1[NAICS Code],0),3),INDEX(Table1[],MATCH(ROUNDDOWN(EIOLCA!$E606/10,0)*10,Table1[NAICS Code],0),3)),INDEX(Table1[],MATCH(ROUNDDOWN(EIOLCA!$E606/100,0)*100,Table1[NAICS Code],0),3)),\"\")","v":334}]
["6 digit",19,77,162,336360,336,3363,33636,null,"33636","Motor Vehicle Seating and Interior Trim Manufacturing",{"$f":"IFERROR(IFERROR(IFERROR(INDEX(Table1[],MATCH(EIOLCA!$E607,Table1[NAICS Code],0),3),INDEX(Table1[],MATCH(ROUNDDOWN(EIOLCA!$E607/10,0)*10,Table1[NAICS Code],0),3)),INDEX(Table1[],MATCH(ROUNDDOWN(EIOLCA!$E607/100,0)*100,Table1[NAICS Code],0),3)),\"\")","v":334}]
["6 digit",19,77,163,336370,336,3363,33637,null,"33637","Motor Vehicle Metal Stamping",{"$f":"IFERROR(IFERROR(IFERROR(INDEX(Table1[],MATCH(EIOLCA!$E608,Table1[NAICS Code],0),3),INDEX(Table1[],MATCH(ROUNDDOWN(EIOLCA!$E608/10,0)*10,Table1[NAICS Code],0),3)),INDEX(Table1[],MATCH(ROUNDDOWN(EIOLCA!$E608/100,0)*100,Table1[NAICS Code],0),3)),\"\")","v":334}]
["6 digit",19,77,164,336390,336,3363,33639,null,"33639","Other Motor Vehicle Parts Manufacturing",{"$f":"IFERROR(IFERROR(IFERROR(INDEX(Table1[],MATCH(EIOLCA!$E609,Table1[NAICS Code],0),3),INDEX(Table1[],MATCH(ROUNDDOWN(EIOLCA!$E609/10,0)*10,Table1[NAICS Code],0),3)),INDEX(Table1[],MATCH(ROUNDDOWN(EIOLCA!$E609/100,0)*100,Table1[NAICS Code],0),3)),\"\")","v":334}]
["6 digit",19,78,165,336411,336,3364,33641,null,"33641","Aircraft Manufacturing ",{"$f":"IFERROR(IFERROR(IFERROR(INDEX(Table1[],MATCH(EIOLCA!$E610,Table1[NAICS Code],0),3),INDEX(Table1[],MATCH(ROUNDDOWN(EIOLCA!$E610/10,0)*10,Table1[NAICS Code],0),3)),INDEX(Table1[],MATCH(ROUNDDOWN(EIOLCA!$E610/100,0)*100,Table1[NAICS Code],0),3)),\"\")","v":21.4}]
["6 digit",19,78,{"$f":"INDEX($B$110:$E$289,MATCH(H611,$E$110:$E$289,0),1)","v":165},336412,336,3364,{"$f":"LEFT(E611,5)*1","v":33641},null,null,"Aircraft Engine and Engine Parts Manufacturing ",{"$f":"IFERROR(IFERROR(IFERROR(INDEX(Table1[],MATCH(EIOLCA!$E611,Table1[NAICS Code],0),3),INDEX(Table1[],MATCH(ROUNDDOWN(EIOLCA!$E611/10,0)*10,Table1[NAICS Code],0),3)),INDEX(Table1[],MATCH(ROUNDDOWN(EIOLCA!$E611/100,0)*100,Table1[NAICS Code],0),3)),\"\")","v":141}]
["6 digit",19,78,165,336413,336,3364,33641,null,null,"Other Aircraft Parts and Auxiliary Equipment Manufacturing ",{"$f":"IFERROR(IFERROR(IFERROR(INDEX(Table1[],MATCH(EIOLCA!$E612,Table1[NAICS Code],0),3),INDEX(Table1[],MATCH(ROUNDDOWN(EIOLCA!$E612/10,0)*10,Table1[NAICS Code],0),3)),INDEX(Table1[],MATCH(ROUNDDOWN(EIOLCA!$E612/100,0)*100,Table1[NAICS Code],0),3)),\"\")","v":109}]
["6 digit",19,78,165,336414,336,3364,33641,null,null,"Guided Missile and Space Vehicle Manufacturing ",{"$f":"IFERROR(IFERROR(IFERROR(INDEX(Table1[],MATCH(EIOLCA!$E613,Table1[NAICS Code],0),3),INDEX(Table1[],MATCH(ROUNDDOWN(EIOLCA!$E613/10,0)*10,Table1[NAICS Code],0),3)),INDEX(Table1[],MATCH(ROUNDDOWN(EIOLCA!$E613/100,0)*100,Table1[NAICS Code],0),3)),\"\")","v":4.75}]
["6 digit",19,78,165,336415,336,3364,33641,null,null,"Guided Missile and Space Vehicle Propulsion Unit and Propulsion Unit Parts Manufacturing ",{"$f":"IFERROR(IFERROR(IFERROR(INDEX(Table1[],MATCH(EIOLCA!$E614,Table1[NAICS Code],0),3),INDEX(Table1[],MATCH(ROUNDDOWN(EIOLCA!$E614/10,0)*10,Table1[NAICS Code],0),3)),INDEX(Table1[],MATCH(ROUNDDOWN(EIOLCA!$E614/100,0)*100,Table1[NAICS Code],0),3)),\"\")","v":""}]
["6 digit",19,78,165,336419,336,3364,33641,null,null,"Other Guided Missile and Space Vehicle Parts and Auxiliary Equipment Manufacturing ",{"$f":"IFERROR(IFERROR(IFERROR(INDEX(Table1[],MATCH(EIOLCA!$E615,Table1[NAICS Code],0),3),INDEX(Table1[],MATCH(ROUNDDOWN(EIOLCA!$E615/10,0)*10,Table1[NAICS Code],0),3)),INDEX(Table1[],MATCH(ROUNDDOWN(EIOLCA!$E615/100,0)*100,Table1[NAICS Code],0),3)),\"\")","v":""}]
["6 digit",19,79,166,336510,336,3365,33651,null,{"$f":"LEFT(E616,5)","v":"33651"},"Railroad Rolling Stock Manufacturing",{"$f":"IFERROR(IFERROR(IFERROR(INDEX(Table1[],MATCH(EIOLCA!$E616,Table1[NAICS Code],0),3),INDEX(Table1[],MATCH(ROUNDDOWN(EIOLCA!$E616/10,0)*10,Table1[NAICS Code],0),3)),INDEX(Table1[],MATCH(ROUNDDOWN(EIOLCA!$E616/100,0)*100,Table1[NAICS Code],0),3)),\"\")","v":61.7}]
["6 digit",19,80,167,336611,336,3366,33661,null,"33661","Ship Building and Repairing ",{"$f":"IFERROR(IFERROR(IFERROR(INDEX(Table1[],MATCH(EIOLCA!$E617,Table1[NAICS Code],0),3),INDEX(Table1[],MATCH(ROUNDDOWN(EIOLCA!$E617/10,0)*10,Table1[NAICS Code],0),3)),INDEX(Table1[],MATCH(ROUNDDOWN(EIOLCA!$E617/100,0)*100,Table1[NAICS Code],0),3)),\"\")","v":164}]
["6 digit",19,80,167,336612,336,3366,33661,null,null,"Boat Building ",{"$f":"IFERROR(IFERROR(IFERROR(INDEX(Table1[],MATCH(EIOLCA!$E618,Table1[NAICS Code],0),3),INDEX(Table1[],MATCH(ROUNDDOWN(EIOLCA!$E618/10,0)*10,Table1[NAICS Code],0),3)),INDEX(Table1[],MATCH(ROUNDDOWN(EIOLCA!$E618/100,0)*100,Table1[NAICS Code],0),3)),\"\")","v":130}]
["6 digit",19,81,168,336991,336,3369,33699,null,"33699","Motorcycle, Bicycle, and Parts Manufacturing ",{"$f":"IFERROR(IFERROR(IFERROR(INDEX(Table1[],MATCH(EIOLCA!$E619,Table1[NAICS Code],0),3),INDEX(Table1[],MATCH(ROUNDDOWN(EIOLCA!$E619/10,0)*10,Table1[NAICS Code],0),3)),INDEX(Table1[],MATCH(ROUNDDOWN(EIOLCA!$E619/100,0)*100,Table1[NAICS Code],0),3)),\"\")","v":80}]
["6 digit",19,81,168,336992,336,3369,33699,null,null,"Military Armored Vehicle, Tank, and Tank Component Manufacturing ",{"$f":"IFERROR(IFERROR(IFERROR(INDEX(Table1[],MATCH(EIOLCA!$E620,Table1[NAICS Code],0),3),INDEX(Table1[],MATCH(ROUNDDOWN(EIOLCA!$E620/10,0)*10,Table1[NAICS Code],0),3)),INDEX(Table1[],MATCH(ROUNDDOWN(EIOLCA!$E620/100,0)*100,Table1[NAICS Code],0),3)),\"\")","v":54.1}]
["6 digit",19,81,168,336999,336,3369,33699,null,null,"All Other Transportation Equipment Manufacturing ",{"$f":"IFERROR(IFERROR(IFERROR(INDEX(Table1[],MATCH(EIOLCA!$E621,Table1[NAICS Code],0),3),INDEX(Table1[],MATCH(ROUNDDOWN(EIOLCA!$E621/10,0)*10,Table1[NAICS Code],0),3)),INDEX(Table1[],MATCH(ROUNDDOWN(EIOLCA!$E621/100,0)*100,Table1[NAICS Code],0),3)),\"\")","v":44.6}]
["6 digit",20,82,169,337110,337,3371,33711,{"$f":"LEFT(E622,3)","v":"337"},"33711","Wood Kitchen Cabinet and Countertop Manufacturing",{"$f":"IFERROR(IFERROR(IFERROR(INDEX(Table1[],MATCH(EIOLCA!$E622,Table1[NAICS Code],0),3),INDEX(Table1[],MATCH(ROUNDDOWN(EIOLCA!$E622/10,0)*10,Table1[NAICS Code],0),3)),INDEX(Table1[],MATCH(ROUNDDOWN(EIOLCA!$E622/100,0)*100,Table1[NAICS Code],0),3)),\"\")","v":934}]
["6 digit",20,{"$f":"INDEX($B$24:$E$109,MATCH(G623,$E$24:$E$109,0),1)","v":82},170,337121,337,3371,33712,null,"33712","Upholstered Household Furniture Manufacturing ",{"$f":"IFERROR(IFERROR(IFERROR(INDEX(Table1[],MATCH(EIOLCA!$E623,Table1[NAICS Code],0),3),INDEX(Table1[],MATCH(ROUNDDOWN(EIOLCA!$E623/10,0)*10,Table1[NAICS Code],0),3)),INDEX(Table1[],MATCH(ROUNDDOWN(EIOLCA!$E623/100,0)*100,Table1[NAICS Code],0),3)),\"\")","v":63.7}]
["6 digit",20,82,170,337122,337,3371,33712,null,null,"Nonupholstered Wood Household Furniture Manufacturing ",{"$f":"IFERROR(IFERROR(IFERROR(INDEX(Table1[],MATCH(EIOLCA!$E624,Table1[NAICS Code],0),3),INDEX(Table1[],MATCH(ROUNDDOWN(EIOLCA!$E624/10,0)*10,Table1[NAICS Code],0),3)),INDEX(Table1[],MATCH(ROUNDDOWN(EIOLCA!$E624/100,0)*100,Table1[NAICS Code],0),3)),\"\")","v":136}]
["6 digit",20,82,170,337124,337,3371,33712,null,null,"Metal Household Furniture Manufacturing ",{"$f":"IFERROR(IFERROR(IFERROR(INDEX(Table1[],MATCH(EIOLCA!$E625,Table1[NAICS Code],0),3),INDEX(Table1[],MATCH(ROUNDDOWN(EIOLCA!$E625/10,0)*10,Table1[NAICS Code],0),3)),INDEX(Table1[],MATCH(ROUNDDOWN(EIOLCA!$E625/100,0)*100,Table1[NAICS Code],0),3)),\"\")","v":""}]
["6 digit",20,82,170,337125,337,3371,33712,null,null,"Household Furniture (except Wood and Metal) Manufacturing ",{"$f":"IFERROR(IFERROR(IFERROR(INDEX(Table1[],MATCH(EIOLCA!$E626,Table1[NAICS Code],0),3),INDEX(Table1[],MATCH(ROUNDDOWN(EIOLCA!$E626/10,0)*10,Table1[NAICS Code],0),3)),INDEX(Table1[],MATCH(ROUNDDOWN(EIOLCA!$E626/100,0)*100,Table1[NAICS Code],0),3)),\"\")","v":""}]
["6 digit",20,82,170,337127,337,3371,33712,null,null,"Institutional Furniture Manufacturing ",{"$f":"IFERROR(IFERROR(IFERROR(INDEX(Table1[],MATCH(EIOLCA!$E627,Table1[NAICS Code],0),3),INDEX(Table1[],MATCH(ROUNDDOWN(EIOLCA!$E627/10,0)*10,Table1[NAICS Code],0),3)),INDEX(Table1[],MATCH(ROUNDDOWN(EIOLCA!$E627/100,0)*100,Table1[NAICS Code],0),3)),\"\")","v":137}]
["6 digit",20,83,171,337211,337,3372,33721,null,"33721","Wood Office Furniture Manufacturing ",{"$f":"IFERROR(IFERROR(IFERROR(INDEX(Table1[],MATCH(EIOLCA!$E628,Table1[NAICS Code],0),3),INDEX(Table1[],MATCH(ROUNDDOWN(EIOLCA!$E628/10,0)*10,Table1[NAICS Code],0),3)),INDEX(Table1[],MATCH(ROUNDDOWN(EIOLCA!$E628/100,0)*100,Table1[NAICS Code],0),3)),\"\")","v":""}]
["6 digit",20,83,171,337212,337,3372,33721,null,null,"Custom Architectural Woodwork and Millwork Manufacturing ",{"$f":"IFERROR(IFERROR(IFERROR(INDEX(Table1[],MATCH(EIOLCA!$E629,Table1[NAICS Code],0),3),INDEX(Table1[],MATCH(ROUNDDOWN(EIOLCA!$E629/10,0)*10,Table1[NAICS Code],0),3)),INDEX(Table1[],MATCH(ROUNDDOWN(EIOLCA!$E629/100,0)*100,Table1[NAICS Code],0),3)),\"\")","v":142}]
["6 digit",20,83,171,337214,337,3372,33721,null,null,"Office Furniture (except Wood) Manufacturing ",{"$f":"IFERROR(IFERROR(IFERROR(INDEX(Table1[],MATCH(EIOLCA!$E630,Table1[NAICS Code],0),3),INDEX(Table1[],MATCH(ROUNDDOWN(EIOLCA!$E630/10,0)*10,Table1[NAICS Code],0),3)),INDEX(Table1[],MATCH(ROUNDDOWN(EIOLCA!$E630/100,0)*100,Table1[NAICS Code],0),3)),\"\")","v":""}]
["6 digit",20,83,171,337215,337,3372,33721,null,null,"Showcase, Partition, Shelving, and Locker Manufacturing ",{"$f":"IFERROR(IFERROR(IFERROR(INDEX(Table1[],MATCH(EIOLCA!$E631,Table1[NAICS Code],0),3),INDEX(Table1[],MATCH(ROUNDDOWN(EIOLCA!$E631/10,0)*10,Table1[NAICS Code],0),3)),INDEX(Table1[],MATCH(ROUNDDOWN(EIOLCA!$E631/100,0)*100,Table1[NAICS Code],0),3)),\"\")","v":178}]
["6 digit",20,84,172,337910,337,3379,33791,null,"33791","Mattress Manufacturing",{"$f":"IFERROR(IFERROR(IFERROR(INDEX(Table1[],MATCH(EIOLCA!$E632,Table1[NAICS Code],0),3),INDEX(Table1[],MATCH(ROUNDDOWN(EIOLCA!$E632/10,0)*10,Table1[NAICS Code],0),3)),INDEX(Table1[],MATCH(ROUNDDOWN(EIOLCA!$E632/100,0)*100,Table1[NAICS Code],0),3)),\"\")","v":73.599999999999994}]
["6 digit",20,84,173,337920,337,3379,33792,null,"33792","Blind and Shade Manufacturing",{"$f":"IFERROR(IFERROR(IFERROR(INDEX(Table1[],MATCH(EIOLCA!$E633,Table1[NAICS Code],0),3),INDEX(Table1[],MATCH(ROUNDDOWN(EIOLCA!$E633/10,0)*10,Table1[NAICS Code],0),3)),INDEX(Table1[],MATCH(ROUNDDOWN(EIOLCA!$E633/100,0)*100,Table1[NAICS Code],0),3)),\"\")","v":89.9}]
["6 digit",21,85,174,339112,339,3391,33911,{"$f":"LEFT(E634,3)","v":"339"},"33911","Surgical and Medical Instrument Manufacturing ",{"$f":"IFERROR(IFERROR(IFERROR(INDEX(Table1[],MATCH(EIOLCA!$E634,Table1[NAICS Code],0),3),INDEX(Table1[],MATCH(ROUNDDOWN(EIOLCA!$E634/10,0)*10,Table1[NAICS Code],0),3)),INDEX(Table1[],MATCH(ROUNDDOWN(EIOLCA!$E634/100,0)*100,Table1[NAICS Code],0),3)),\"\")","v":64.900000000000006}]
["6 digit",21,85,174,339113,339,3391,33911,null,null,"Surgical Appliance and Supplies Manufacturing ",{"$f":"IFERROR(IFERROR(IFERROR(INDEX(Table1[],MATCH(EIOLCA!$E635,Table1[NAICS Code],0),3),INDEX(Table1[],MATCH(ROUNDDOWN(EIOLCA!$E635/10,0)*10,Table1[NAICS Code],0),3)),INDEX(Table1[],MATCH(ROUNDDOWN(EIOLCA!$E635/100,0)*100,Table1[NAICS Code],0),3)),\"\")","v":10}]
["6 digit",21,85,174,339114,339,3391,33911,null,null,"Dental Equipment and Supplies Manufacturing ",{"$f":"IFERROR(IFERROR(IFERROR(INDEX(Table1[],MATCH(EIOLCA!$E636,Table1[NAICS Code],0),3),INDEX(Table1[],MATCH(ROUNDDOWN(EIOLCA!$E636/10,0)*10,Table1[NAICS Code],0),3)),INDEX(Table1[],MATCH(ROUNDDOWN(EIOLCA!$E636/100,0)*100,Table1[NAICS Code],0),3)),\"\")","v":72.2}]
["6 digit",21,85,174,339115,339,3391,33911,null,null,"Ophthalmic Goods Manufacturing ",{"$f":"IFERROR(IFERROR(IFERROR(INDEX(Table1[],MATCH(EIOLCA!$E637,Table1[NAICS Code],0),3),INDEX(Table1[],MATCH(ROUNDDOWN(EIOLCA!$E637/10,0)*10,Table1[NAICS Code],0),3)),INDEX(Table1[],MATCH(ROUNDDOWN(EIOLCA!$E637/100,0)*100,Table1[NAICS Code],0),3)),\"\")","v":51}]
["6 digit",21,85,174,339116,339,3391,33911,null,null,"Dental Laboratories ",{"$f":"IFERROR(IFERROR(IFERROR(INDEX(Table1[],MATCH(EIOLCA!$E638,Table1[NAICS Code],0),3),INDEX(Table1[],MATCH(ROUNDDOWN(EIOLCA!$E638/10,0)*10,Table1[NAICS Code],0),3)),INDEX(Table1[],MATCH(ROUNDDOWN(EIOLCA!$E638/100,0)*100,Table1[NAICS Code],0),3)),\"\")","v":47.3}]
["6 digit",21,86,175,339910,339,3399,33991,null,"33991","Jewelry and Silverware Manufacturing ",{"$f":"IFERROR(IFERROR(IFERROR(INDEX(Table1[],MATCH(EIOLCA!$E639,Table1[NAICS Code],0),3),INDEX(Table1[],MATCH(ROUNDDOWN(EIOLCA!$E639/10,0)*10,Table1[NAICS Code],0),3)),INDEX(Table1[],MATCH(ROUNDDOWN(EIOLCA!$E639/100,0)*100,Table1[NAICS Code],0),3)),\"\")","v":0.13600000000000001}]
["6 digit",21,86,176,339920,339,3399,33992,null,"33992","Sporting and Athletic Goods Manufacturing",{"$f":"IFERROR(IFERROR(IFERROR(INDEX(Table1[],MATCH(EIOLCA!$E640,Table1[NAICS Code],0),3),INDEX(Table1[],MATCH(ROUNDDOWN(EIOLCA!$E640/10,0)*10,Table1[NAICS Code],0),3)),INDEX(Table1[],MATCH(ROUNDDOWN(EIOLCA!$E640/100,0)*100,Table1[NAICS Code],0),3)),\"\")","v":71.7}]
["6 digit",21,86,177,339930,339,3399,33993,null,"33993","Doll, Toy, and Game Manufacturing",{"$f":"IFERROR(IFERROR(IFERROR(INDEX(Table1[],MATCH(EIOLCA!$E641,Table1[NAICS Code],0),3),INDEX(Table1[],MATCH(ROUNDDOWN(EIOLCA!$E641/10,0)*10,Table1[NAICS Code],0),3)),INDEX(Table1[],MATCH(ROUNDDOWN(EIOLCA!$E641/100,0)*100,Table1[NAICS Code],0),3)),\"\")","v":89.6}]
["6 digit",21,86,178,339940,339,3399,33994,null,"33994","Office Supplies (except Paper) Manufacturing",{"$f":"IFERROR(IFERROR(IFERROR(INDEX(Table1[],MATCH(EIOLCA!$E642,Table1[NAICS Code],0),3),INDEX(Table1[],MATCH(ROUNDDOWN(EIOLCA!$E642/10,0)*10,Table1[NAICS Code],0),3)),INDEX(Table1[],MATCH(ROUNDDOWN(EIOLCA!$E642/100,0)*100,Table1[NAICS Code],0),3)),\"\")","v":116}]
["6 digit",21,86,179,339950,339,3399,33995,null,"33995","Sign Manufacturing",{"$f":"IFERROR(IFERROR(IFERROR(INDEX(Table1[],MATCH(EIOLCA!$E643,Table1[NAICS Code],0),3),INDEX(Table1[],MATCH(ROUNDDOWN(EIOLCA!$E643/10,0)*10,Table1[NAICS Code],0),3)),INDEX(Table1[],MATCH(ROUNDDOWN(EIOLCA!$E643/100,0)*100,Table1[NAICS Code],0),3)),\"\")","v":651}]
["6 digit",21,86,180,339991,339,3399,33999,null,"33999","Gasket, Packing, and Sealing Device Manufacturing ",{"$f":"IFERROR(IFERROR(IFERROR(INDEX(Table1[],MATCH(EIOLCA!$E644,Table1[NAICS Code],0),3),INDEX(Table1[],MATCH(ROUNDDOWN(EIOLCA!$E644/10,0)*10,Table1[NAICS Code],0),3)),INDEX(Table1[],MATCH(ROUNDDOWN(EIOLCA!$E644/100,0)*100,Table1[NAICS Code],0),3)),\"\")","v":271}]
["6 digit",21,86,180,339992,339,3399,33999,null,null,"Musical Instrument Manufacturing ",{"$f":"IFERROR(IFERROR(IFERROR(INDEX(Table1[],MATCH(EIOLCA!$E645,Table1[NAICS Code],0),3),INDEX(Table1[],MATCH(ROUNDDOWN(EIOLCA!$E645/10,0)*10,Table1[NAICS Code],0),3)),INDEX(Table1[],MATCH(ROUNDDOWN(EIOLCA!$E645/100,0)*100,Table1[NAICS Code],0),3)),\"\")","v":89.2}]
["6 digit",21,86,180,339993,339,3399,33999,null,null,"Fastener, Button, Needle, and Pin Manufacturing ",{"$f":"IFERROR(IFERROR(IFERROR(INDEX(Table1[],MATCH(EIOLCA!$E646,Table1[NAICS Code],0),3),INDEX(Table1[],MATCH(ROUNDDOWN(EIOLCA!$E646/10,0)*10,Table1[NAICS Code],0),3)),INDEX(Table1[],MATCH(ROUNDDOWN(EIOLCA!$E646/100,0)*100,Table1[NAICS Code],0),3)),\"\")","v":""}]
["6 digit",21,86,180,339994,339,3399,33999,null,null,"Broom, Brush, and Mop Manufacturing ",{"$f":"IFERROR(IFERROR(IFERROR(INDEX(Table1[],MATCH(EIOLCA!$E647,Table1[NAICS Code],0),3),INDEX(Table1[],MATCH(ROUNDDOWN(EIOLCA!$E647/10,0)*10,Table1[NAICS Code],0),3)),INDEX(Table1[],MATCH(ROUNDDOWN(EIOLCA!$E647/100,0)*100,Table1[NAICS Code],0),3)),\"\")","v":47.4}]
["6 digit",21,86,180,339995,339,3399,33999,null,null,"Burial Casket Manufacturing ",{"$f":"IFERROR(IFERROR(IFERROR(INDEX(Table1[],MATCH(EIOLCA!$E648,Table1[NAICS Code],0),3),INDEX(Table1[],MATCH(ROUNDDOWN(EIOLCA!$E648/10,0)*10,Table1[NAICS Code],0),3)),INDEX(Table1[],MATCH(ROUNDDOWN(EIOLCA!$E648/100,0)*100,Table1[NAICS Code],0),3)),\"\")","v":""}]
["6 digit",21,86,180,339999,339,3399,33999,null,null,"All Other Miscellaneous Manufacturing ",{"$f":"IFERROR(IFERROR(IFERROR(INDEX(Table1[],MATCH(EIOLCA!$E649,Table1[NAICS Code],0),3),INDEX(Table1[],MATCH(ROUNDDOWN(EIOLCA!$E649/10,0)*10,Table1[NAICS Code],0),3)),INDEX(Table1[],MATCH(ROUNDDOWN(EIOLCA!$E649/100,0)*100,Table1[NAICS Code],0),3)),\"\")","v":""}]
[]
[null,null,null,null,null,null,null,null,null,null,null,{"$f":"COUNTIF($L$290:$L$649,\">\"&0.0000001)","v":286}]
[null,null,null,null,null,null,null,null,null,null,null,{"$f":"COUNTIF($L$290:$L$649,0.0000001)","v":0}]

{"sheet":"Lookup_EIOLCA","index":19,"n_rows":262,"n_cols":4,"rows_kept":262,"cut":false,"hidden":true,"merged":[]}
[]
["check","NAICS Code","Industry","Water Withdrawal (kGal/mill $)"]
[{"$f":"IFERROR(IFERROR(MATCH(Table1[[#This Row],[NAICS Code]],EIOLCA!$E$24:$E$649,0),MATCH(Table1[[#This Row],[NAICS Code]]/10,EIOLCA!$E$24:$E$649,0)),MATCH(Table1[[#This Row],[NAICS Code]]/100,EIOLCA!$E$24:$E$649,0))","v":267},311111,"Dog and cat food manufacturing",5270]
[{"$f":"IFERROR(IFERROR(MATCH(Table1[[#This Row],[NAICS Code]],EIOLCA!$E$24:$E$649,0),MATCH(Table1[[#This Row],[NAICS Code]]/10,EIOLCA!$E$24:$E$649,0)),MATCH(Table1[[#This Row],[NAICS Code]]/100,EIOLCA!$E$24:$E$649,0))","v":268},311119,"Other animal food manufacturing",12200]
[{"$f":"IFERROR(IFERROR(MATCH(Table1[[#This Row],[NAICS Code]],EIOLCA!$E$24:$E$649,0),MATCH(Table1[[#This Row],[NAICS Code]]/10,EIOLCA!$E$24:$E$649,0)),MATCH(Table1[[#This Row],[NAICS Code]]/100,EIOLCA!$E$24:$E$649,0))","v":88},311210,"Flour milling and malt manufacturing",121]
[{"$f":"IFERROR(IFERROR(MATCH(Table1[[#This Row],[NAICS Code]],EIOLCA!$E$24:$E$649,0),MATCH(Table1[[#This Row],[NAICS Code]]/10,EIOLCA!$E$24:$E$649,0)),MATCH(Table1[[#This Row],[NAICS Code]]/100,EIOLCA!$E$24:$E$649,0))","v":272},311221,"Wet corn milling",1160]
[{"$f":"IFERROR(IFERROR(MATCH(Table1[[#This Row],[NAICS Code]],EIOLCA!$E$24:$E$649,0),MATCH(Table1[[#This Row],[NAICS Code]]/10,EIOLCA!$E$24:$E$649,0)),MATCH(Table1[[#This Row],[NAICS Code]]/100,EIOLCA!$E$24:$E$649,0))","v":274},311225,"Fats and oils refining and blending",236]
[{"$f":"IFERROR(IFERROR(MATCH(Table1[[#This Row],[NAICS Code]],EIOLCA!$E$24:$E$649,0),MATCH(Table1[[#This Row],[NAICS Code]]/10,EIOLCA!$E$24:$E$649,0)),MATCH(Table1[[#This Row],[NAICS Code]]/100,EIOLCA!$E$24:$E$649,0))","v":275},311230,"Breakfast cereal manufacturing",91.2]
[{"$f":"IFERROR(IFERROR(MATCH(Table1[[#This Row],[NAICS Code]],EIOLCA!$E$24:$E$649,0),MATCH(Table1[[#This Row],[NAICS Code]]/10,EIOLCA!$E$24:$E$649,0)),MATCH(Table1[[#This Row],[NAICS Code]]/100,EIOLCA!$E$24:$E$649,0))","v":276},311313,"Beet sugar manufacturing",82.6]
[{"$f":"IFERROR(IFERROR(MATCH(Table1[[#This Row],[NAICS Code]],EIOLCA!$E$24:$E$649,0),MATCH(Table1[[#This Row],[NAICS Code]]/10,EIOLCA!$E$24:$E$649,0)),MATCH(Table1[[#This Row],[NAICS Code]]/100,EIOLCA!$E$24:$E$649,0))","v":{"$error":"#N/A"}},311320,"Confectionery manufacturing from cacao beans",441]
[{"$f":"IFERROR(IFERROR(MATCH(Table1[[#This Row],[NAICS Code]],EIOLCA!$E$24:$E$649,0),MATCH(Table1[[#This Row],[NAICS Code]]/10,EIOLCA!$E$24:$E$649,0)),MATCH(Table1[[#This Row],[NAICS Code]]/100,EIOLCA!$E$24:$E$649,0))","v":{"$error":"#N/A"}},311330,"Confectionery manufacturing from purchased chocolate",75.3]
[{"$f":"IFERROR(IFERROR(MATCH(Table1[[#This Row],[NAICS Code]],EIOLCA!$E$24:$E$649,0),MATCH(Table1[[#This Row],[NAICS Code]]/10,EIOLCA!$E$24:$E$649,0)),MATCH(Table1[[#This Row],[NAICS Code]]/100,EIOLCA!$E$24:$E$649,0))","v":278},311340,"Nonchocolate confectionery manufacturing",96.8]
[{"$f":"IFERROR(IFERROR(MATCH(Table1[[#This Row],[NAICS Code]],EIOLCA!$E$24:$E$649,0),MATCH(Table1[[#This Row],[NAICS Code]]/10,EIOLCA!$E$24:$E$649,0)),MATCH(Table1[[#This Row],[NAICS Code]]/100,EIOLCA!$E$24:$E$649,0))","v":94},311410,"Frozen food manufacturing",270]
[{"$f":"IFERROR(IFERROR(MATCH(Table1[[#This Row],[NAICS Code]],EIOLCA!$E$24:$E$649,0),MATCH(Table1[[#This Row],[NAICS Code]]/10,EIOLCA!$E$24:$E$649,0)),MATCH(Table1[[#This Row],[NAICS Code]]/100,EIOLCA!$E$24:$E$649,0))","v":95},311420,"Fruit and vegetable canning, pickling and drying",12400]
[{"$f":"IFERROR(IFERROR(MATCH(Table1[[#This Row],[NAICS Code]],EIOLCA!$E$24:$E$649,0),MATCH(Table1[[#This Row],[NAICS Code]]/10,EIOLCA!$E$24:$E$649,0)),MATCH(Table1[[#This Row],[NAICS Code]]/100,EIOLCA!$E$24:$E$649,0))","v":288},311513,"Cheese manufacturing",13200]
[{"$f":"IFERROR(IFERROR(MATCH(Table1[[#This Row],[NAICS Code]],EIOLCA!$E$24:$E$649,0),MATCH(Table1[[#This Row],[NAICS Code]]/10,EIOLCA!$E$24:$E$649,0)),MATCH(Table1[[#This Row],[NAICS Code]]/100,EIOLCA!$E$24:$E$649,0))","v":289},311514,"Dry, condensed, and evaporated dairy products",187]
[{"$f":"IFERROR(IFERROR(MATCH(Table1[[#This Row],[NAICS Code]],EIOLCA!$E$24:$E$649,0),MATCH(Table1[[#This Row],[NAICS Code]]/10,EIOLCA!$E$24:$E$649,0)),MATCH(Table1[[#This Row],[NAICS Code]]/100,EIOLCA!$E$24:$E$649,0))","v":290},311520,"Ice cream and frozen dessert manufacturing",191]
[{"$f":"IFERROR(IFERROR(MATCH(Table1[[#This Row],[NAICS Code]],EIOLCA!$E$24:$E$649,0),MATCH(Table1[[#This Row],[NAICS Code]]/10,EIOLCA!$E$24:$E$649,0)),MATCH(Table1[[#This Row],[NAICS Code]]/100,EIOLCA!$E$24:$E$649,0))","v":294},311615,"Poultry processing",16500]
[{"$f":"IFERROR(IFERROR(MATCH(Table1[[#This Row],[NAICS Code]],EIOLCA!$E$24:$E$649,0),MATCH(Table1[[#This Row],[NAICS Code]]/10,EIOLCA!$E$24:$E$649,0)),MATCH(Table1[[#This Row],[NAICS Code]]/100,EIOLCA!$E$24:$E$649,0))","v":7},311700,"Seafood product preparation and packaging",243]
[{"$f":"IFERROR(IFERROR(MATCH(Table1[[#This Row],[NAICS Code]],EIOLCA!$E$24:$E$649,0),MATCH(Table1[[#This Row],[NAICS Code]]/10,EIOLCA!$E$24:$E$649,0)),MATCH(Table1[[#This Row],[NAICS Code]]/100,EIOLCA!$E$24:$E$649,0))","v":100},311810,"Bread and bakery product manufacturing",667]
[{"$f":"IFERROR(IFERROR(MATCH(Table1[[#This Row],[NAICS Code]],EIOLCA!$E$24:$E$649,0),MATCH(Table1[[#This Row],[NAICS Code]]/10,EIOLCA!$E$24:$E$649,0)),MATCH(Table1[[#This Row],[NAICS Code]]/100,EIOLCA!$E$24:$E$649,0))","v":101},311820,"Cookie, cracker and pasta manufacturing",97.8]
[{"$f":"IFERROR(IFERROR(MATCH(Table1[[#This Row],[NAICS Code]],EIOLCA!$E$24:$E$649,0),MATCH(Table1[[#This Row],[NAICS Code]]/10,EIOLCA!$E$24:$E$649,0)),MATCH(Table1[[#This Row],[NAICS Code]]/100,EIOLCA!$E$24:$E$649,0))","v":301},311830,"Tortilla manufacturing",200]
[{"$f":"IFERROR(IFERROR(MATCH(Table1[[#This Row],[NAICS Code]],EIOLCA!$E$24:$E$649,0),MATCH(Table1[[#This Row],[NAICS Code]]/10,EIOLCA!$E$24:$E$649,0)),MATCH(Table1[[#This Row],[NAICS Code]]/100,EIOLCA!$E$24:$E$649,0))","v":103},311910,"Snack food manufacturing",188]
[{"$f":"IFERROR(IFERROR(MATCH(Table1[[#This Row],[NAICS Code]],EIOLCA!$E$24:$E$649,0),MATCH(Table1[[#This Row],[NAICS Code]]/10,EIOLCA!$E$24:$E$649,0)),MATCH(Table1[[#This Row],[NAICS Code]]/100,EIOLCA!$E$24:$E$649,0))","v":304},311920,"Coffee and tea manufacturing",138]
[{"$f":"IFERROR(IFERROR(MATCH(Table1[[#This Row],[NAICS Code]],EIOLCA!$E$24:$E$649,0),MATCH(Table1[[#This Row],[NAICS Code]]/10,EIOLCA!$E$24:$E$649,0)),MATCH(Table1[[#This Row],[NAICS Code]]/100,EIOLCA!$E$24:$E$649,0))","v":305},311930,"Flavoring syrup and concentrate manufacturing",127]
[{"$f":"IFERROR(IFERROR(MATCH(Table1[[#This Row],[NAICS Code]],EIOLCA!$E$24:$E$649,0),MATCH(Table1[[#This Row],[NAICS Code]]/10,EIOLCA!$E$24:$E$649,0)),MATCH(Table1[[#This Row],[NAICS Code]]/100,EIOLCA!$E$24:$E$649,0))","v":106},311940,"Seasoning and dressing manufacturing",460]
[{"$f":"IFERROR(IFERROR(MATCH(Table1[[#This Row],[NAICS Code]],EIOLCA!$E$24:$E$649,0),MATCH(Table1[[#This Row],[NAICS Code]]/10,EIOLCA!$E$24:$E$649,0)),MATCH(Table1[[#This Row],[NAICS Code]]/100,EIOLCA!$E$24:$E$649,0))","v":107},311990,"All other food manufacturing",227]
[{"$f":"IFERROR(IFERROR(MATCH(Table1[[#This Row],[NAICS Code]],EIOLCA!$E$24:$E$649,0),MATCH(Table1[[#This Row],[NAICS Code]]/10,EIOLCA!$E$24:$E$649,0)),MATCH(Table1[[#This Row],[NAICS Code]]/100,EIOLCA!$E$24:$E$649,0))","v":108},312110,"Soft drink and ice manufacturing",199]
[{"$f":"IFERROR(IFERROR(MATCH(Table1[[#This Row],[NAICS Code]],EIOLCA!$E$24:$E$649,0),MATCH(Table1[[#This Row],[NAICS Code]]/10,EIOLCA!$E$24:$E$649,0)),MATCH(Table1[[#This Row],[NAICS Code]]/100,EIOLCA!$E$24:$E$649,0))","v":313},312120,"Breweries",5640]
[{"$f":"IFERROR(IFERROR(MATCH(Table1[[#This Row],[NAICS Code]],EIOLCA!$E$24:$E$649,0),MATCH(Table1[[#This Row],[NAICS Code]]/10,EIOLCA!$E$24:$E$649,0)),MATCH(Table1[[#This Row],[NAICS Code]]/100,EIOLCA!$E$24:$E$649,0))","v":314},312130,"Wineries",39600]
[{"$f":"IFERROR(IFERROR(MATCH(Table1[[#This Row],[NAICS Code]],EIOLCA!$E$24:$E$649,0),MATCH(Table1[[#This Row],[NAICS Code]]/10,EIOLCA!$E$24:$E$649,0)),MATCH(Table1[[#This Row],[NAICS Code]]/100,EIOLCA!$E$24:$E$649,0))","v":315},312140,"Distilleries",14800]
[{"$f":"IFERROR(IFERROR(MATCH(Table1[[#This Row],[NAICS Code]],EIOLCA!$E$24:$E$649,0),MATCH(Table1[[#This Row],[NAICS Code]]/10,EIOLCA!$E$24:$E$649,0)),MATCH(Table1[[#This Row],[NAICS Code]]/100,EIOLCA!$E$24:$E$649,0))","v":12},313100,"Fiber, yarn, and thread mills",4610]
[{"$f":"IFERROR(IFERROR(MATCH(Table1[[#This Row],[NAICS Code]],EIOLCA!$E$24:$E$649,0),MATCH(Table1[[#This Row],[NAICS Code]]/10,EIOLCA!$E$24:$E$649,0)),MATCH(Table1[[#This Row],[NAICS Code]]/100,EIOLCA!$E$24:$E$649,0))","v":318},313210,"Broadwoven fabric mills",568]
[{"$f":"IFERROR(IFERROR(MATCH(Table1[[#This Row],[NAICS Code]],EIOLCA!$E$24:$E$649,0),MATCH(Table1[[#This Row],[NAICS Code]]/10,EIOLCA!$E$24:$E$649,0)),MATCH(Table1[[#This Row],[NAICS Code]]/100,EIOLCA!$E$24:$E$649,0))","v":319},313220,"Narrow fabric mills and schiffli embroidery",221]
[{"$f":"IFERROR(IFERROR(MATCH(Table1[[#This Row],[NAICS Code]],EIOLCA!$E$24:$E$649,0),MATCH(Table1[[#This Row],[NAICS Code]]/10,EIOLCA!$E$24:$E$649,0)),MATCH(Table1[[#This Row],[NAICS Code]]/100,EIOLCA!$E$24:$E$649,0))","v":320},313230,"Nonwoven fabric mills",252]
[{"$f":"IFERROR(IFERROR(MATCH(Table1[[#This Row],[NAICS Code]],EIOLCA!$E$24:$E$649,0),MATCH(Table1[[#This Row],[NAICS Code]]/10,EIOLCA!$E$24:$E$649,0)),MATCH(Table1[[#This Row],[NAICS Code]]/100,EIOLCA!$E$24:$E$649,0))","v":321},313240,"Knit fabric mills",942]
[{"$f":"IFERROR(IFERROR(MATCH(Table1[[#This Row],[NAICS Code]],EIOLCA!$E$24:$E$649,0),MATCH(Table1[[#This Row],[NAICS Code]]/10,EIOLCA!$E$24:$E$649,0)),MATCH(Table1[[#This Row],[NAICS Code]]/100,EIOLCA!$E$24:$E$649,0))","v":322},313310,"Textile and fabric finishing mills",519]
[{"$f":"IFERROR(IFERROR(MATCH(Table1[[#This Row],[NAICS Code]],EIOLCA!$E$24:$E$649,0),MATCH(Table1[[#This Row],[NAICS Code]]/10,EIOLCA!$E$24:$E$649,0)),MATCH(Table1[[#This Row],[NAICS Code]]/100,EIOLCA!$E$24:$E$649,0))","v":323},313320,"Fabric coating mills",314]
[{"$f":"IFERROR(IFERROR(MATCH(Table1[[#This Row],[NAICS Code]],EIOLCA!$E$24:$E$649,0),MATCH(Table1[[#This Row],[NAICS Code]]/10,EIOLCA!$E$24:$E$649,0)),MATCH(Table1[[#This Row],[NAICS Code]]/100,EIOLCA!$E$24:$E$649,0))","v":324},314110,"Carpet and rug mills",136]
[{"$f":"IFERROR(IFERROR(MATCH(Table1[[#This Row],[NAICS Code]],EIOLCA!$E$24:$E$649,0),MATCH(Table1[[#This Row],[NAICS Code]]/10,EIOLCA!$E$24:$E$649,0)),MATCH(Table1[[#This Row],[NAICS Code]]/100,EIOLCA!$E$24:$E$649,0))","v":325},314120,"Curtain and linen mills",41.3]
[{"$f":"IFERROR(IFERROR(MATCH(Table1[[#This Row],[NAICS Code]],EIOLCA!$E$24:$E$649,0),MATCH(Table1[[#This Row],[NAICS Code]]/10,EIOLCA!$E$24:$E$649,0)),MATCH(Table1[[#This Row],[NAICS Code]]/100,EIOLCA!$E$24:$E$649,0))","v":326},314910,"Textile bag and canvas mills",84.7]
[{"$f":"IFERROR(IFERROR(MATCH(Table1[[#This Row],[NAICS Code]],EIOLCA!$E$24:$E$649,0),MATCH(Table1[[#This Row],[NAICS Code]]/10,EIOLCA!$E$24:$E$649,0)),MATCH(Table1[[#This Row],[NAICS Code]]/100,EIOLCA!$E$24:$E$649,0))","v":123},314990,"All other miscellaneous textile product mills",173]
[{"$f":"IFERROR(IFERROR(MATCH(Table1[[#This Row],[NAICS Code]],EIOLCA!$E$24:$E$649,0),MATCH(Table1[[#This Row],[NAICS Code]]/10,EIOLCA!$E$24:$E$649,0)),MATCH(Table1[[#This Row],[NAICS Code]]/100,EIOLCA!$E$24:$E$649,0))","v":17},315100,"Hosiery and sock mills",459]
[{"$f":"IFERROR(IFERROR(MATCH(Table1[[#This Row],[NAICS Code]],EIOLCA!$E$24:$E$649,0),MATCH(Table1[[#This Row],[NAICS Code]]/10,EIOLCA!$E$24:$E$649,0)),MATCH(Table1[[#This Row],[NAICS Code]]/100,EIOLCA!$E$24:$E$649,0))","v":331},315210,"Cut and sew apparel contractors",95.3]
[{"$f":"IFERROR(IFERROR(MATCH(Table1[[#This Row],[NAICS Code]],EIOLCA!$E$24:$E$649,0),MATCH(Table1[[#This Row],[NAICS Code]]/10,EIOLCA!$E$24:$E$649,0)),MATCH(Table1[[#This Row],[NAICS Code]]/100,EIOLCA!$E$24:$E$649,0))","v":332},315220,"Men's and boys' cut and sew apparel manufacturing",61.2]
[{"$f":"IFERROR(IFERROR(MATCH(Table1[[#This Row],[NAICS Code]],EIOLCA!$E$24:$E$649,0),MATCH(Table1[[#This Row],[NAICS Code]]/10,EIOLCA!$E$24:$E$649,0)),MATCH(Table1[[#This Row],[NAICS Code]]/100,EIOLCA!$E$24:$E$649,0))","v":{"$error":"#N/A"}},315230,"Women's and girls' cut and sew apparel manufacturing",52.1]
[{"$f":"IFERROR(IFERROR(MATCH(Table1[[#This Row],[NAICS Code]],EIOLCA!$E$24:$E$649,0),MATCH(Table1[[#This Row],[NAICS Code]]/10,EIOLCA!$E$24:$E$649,0)),MATCH(Table1[[#This Row],[NAICS Code]]/100,EIOLCA!$E$24:$E$649,0))","v":{"$error":"#N/A"}},315290,"Other cut and sew apparel manufacturing",70.2]
[{"$f":"IFERROR(IFERROR(MATCH(Table1[[#This Row],[NAICS Code]],EIOLCA!$E$24:$E$649,0),MATCH(Table1[[#This Row],[NAICS Code]]/10,EIOLCA!$E$24:$E$649,0)),MATCH(Table1[[#This Row],[NAICS Code]]/100,EIOLCA!$E$24:$E$649,0))","v":19},315900,"Accessories and other apparel manufacturing",126]
[{"$f":"IFERROR(IFERROR(MATCH(Table1[[#This Row],[NAICS Code]],EIOLCA!$E$24:$E$649,0),MATCH(Table1[[#This Row],[NAICS Code]]/10,EIOLCA!$E$24:$E$649,0)),MATCH(Table1[[#This Row],[NAICS Code]]/100,EIOLCA!$E$24:$E$649,0))","v":20},316100,"Leather and hide tanning and finishing",3380]
[{"$f":"IFERROR(IFERROR(MATCH(Table1[[#This Row],[NAICS Code]],EIOLCA!$E$24:$E$649,0),MATCH(Table1[[#This Row],[NAICS Code]]/10,EIOLCA!$E$24:$E$649,0)),MATCH(Table1[[#This Row],[NAICS Code]]/100,EIOLCA!$E$24:$E$649,0))","v":21},316200,"Footwear manufacturing",114]
[{"$f":"IFERROR(IFERROR(MATCH(Table1[[#This Row],[NAICS Code]],EIOLCA!$E$24:$E$649,0),MATCH(Table1[[#This Row],[NAICS Code]]/10,EIOLCA!$E$24:$E$649,0)),MATCH(Table1[[#This Row],[NAICS Code]]/100,EIOLCA!$E$24:$E$649,0))","v":22},316900,"Other leather and allied product manufacturing",59.9]
[{"$f":"IFERROR(IFERROR(MATCH(Table1[[#This Row],[NAICS Code]],EIOLCA!$E$24:$E$649,0),MATCH(Table1[[#This Row],[NAICS Code]]/10,EIOLCA!$E$24:$E$649,0)),MATCH(Table1[[#This Row],[NAICS Code]]/100,EIOLCA!$E$24:$E$649,0))","v":23},321100,"Sawmills and wood preservation",785]
[{"$f":"IFERROR(IFERROR(MATCH(Table1[[#This Row],[NAICS Code]],EIOLCA!$E$24:$E$649,0),MATCH(Table1[[#This Row],[NAICS Code]]/10,EIOLCA!$E$24:$E$649,0)),MATCH(Table1[[#This Row],[NAICS Code]]/100,EIOLCA!$E$24:$E$649,0))","v":346},321219,"Reconstituted wood product manufacturing",219]
[{"$f":"IFERROR(IFERROR(MATCH(Table1[[#This Row],[NAICS Code]],EIOLCA!$E$24:$E$649,0),MATCH(Table1[[#This Row],[NAICS Code]]/10,EIOLCA!$E$24:$E$649,0)),MATCH(Table1[[#This Row],[NAICS Code]]/100,EIOLCA!$E$24:$E$649,0))","v":136},321910,"Wood windows and doors and millwork",204]
[{"$f":"IFERROR(IFERROR(MATCH(Table1[[#This Row],[NAICS Code]],EIOLCA!$E$24:$E$649,0),MATCH(Table1[[#This Row],[NAICS Code]]/10,EIOLCA!$E$24:$E$649,0)),MATCH(Table1[[#This Row],[NAICS Code]]/100,EIOLCA!$E$24:$E$649,0))","v":350},321920,"Wood container and pallet manufacturing",131]
[{"$f":"IFERROR(IFERROR(MATCH(Table1[[#This Row],[NAICS Code]],EIOLCA!$E$24:$E$649,0),MATCH(Table1[[#This Row],[NAICS Code]]/10,EIOLCA!$E$24:$E$649,0)),MATCH(Table1[[#This Row],[NAICS Code]]/100,EIOLCA!$E$24:$E$649,0))","v":351},321991,"Manufactured home, mobile home, manufacturing",228]
[{"$f":"IFERROR(IFERROR(MATCH(Table1[[#This Row],[NAICS Code]],EIOLCA!$E$24:$E$649,0),MATCH(Table1[[#This Row],[NAICS Code]]/10,EIOLCA!$E$24:$E$649,0)),MATCH(Table1[[#This Row],[NAICS Code]]/100,EIOLCA!$E$24:$E$649,0))","v":352},321992,"Prefabricated wood building manufacturing",170]
[{"$f":"IFERROR(IFERROR(MATCH(Table1[[#This Row],[NAICS Code]],EIOLCA!$E$24:$E$649,0),MATCH(Table1[[#This Row],[NAICS Code]]/10,EIOLCA!$E$24:$E$649,0)),MATCH(Table1[[#This Row],[NAICS Code]]/100,EIOLCA!$E$24:$E$649,0))","v":353},321999,"Miscellaneous wood product manufacturing",422]
[{"$f":"IFERROR(IFERROR(MATCH(Table1[[#This Row],[NAICS Code]],EIOLCA!$E$24:$E$649,0),MATCH(Table1[[#This Row],[NAICS Code]]/10,EIOLCA!$E$24:$E$649,0)),MATCH(Table1[[#This Row],[NAICS Code]]/100,EIOLCA!$E$24:$E$649,0))","v":354},322110,"Pulp mills",7830]
[{"$f":"IFERROR(IFERROR(MATCH(Table1[[#This Row],[NAICS Code]],EIOLCA!$E$24:$E$649,0),MATCH(Table1[[#This Row],[NAICS Code]]/10,EIOLCA!$E$24:$E$649,0)),MATCH(Table1[[#This Row],[NAICS Code]]/100,EIOLCA!$E$24:$E$649,0))","v":140},322120,"Paper mills",13800]
[{"$f":"IFERROR(IFERROR(MATCH(Table1[[#This Row],[NAICS Code]],EIOLCA!$E$24:$E$649,0),MATCH(Table1[[#This Row],[NAICS Code]]/10,EIOLCA!$E$24:$E$649,0)),MATCH(Table1[[#This Row],[NAICS Code]]/100,EIOLCA!$E$24:$E$649,0))","v":357},322130,"Paperboard Mills",61500]
[{"$f":"IFERROR(IFERROR(MATCH(Table1[[#This Row],[NAICS Code]],EIOLCA!$E$24:$E$649,0),MATCH(Table1[[#This Row],[NAICS Code]]/10,EIOLCA!$E$24:$E$649,0)),MATCH(Table1[[#This Row],[NAICS Code]]/100,EIOLCA!$E$24:$E$649,0))","v":142},322210,"Paperboard container manufacturing",114]
[{"$f":"IFERROR(IFERROR(MATCH(Table1[[#This Row],[NAICS Code]],EIOLCA!$E$24:$E$649,0),MATCH(Table1[[#This Row],[NAICS Code]]/10,EIOLCA!$E$24:$E$649,0)),MATCH(Table1[[#This Row],[NAICS Code]]/100,EIOLCA!$E$24:$E$649,0))","v":362},322230,"Stationery product manufacturing",61.3]
[{"$f":"IFERROR(IFERROR(MATCH(Table1[[#This Row],[NAICS Code]],EIOLCA!$E$24:$E$649,0),MATCH(Table1[[#This Row],[NAICS Code]]/10,EIOLCA!$E$24:$E$649,0)),MATCH(Table1[[#This Row],[NAICS Code]]/100,EIOLCA!$E$24:$E$649,0))","v":363},322291,"Sanitary paper product manufacturing",43.2]
[{"$f":"IFERROR(IFERROR(MATCH(Table1[[#This Row],[NAICS Code]],EIOLCA!$E$24:$E$649,0),MATCH(Table1[[#This Row],[NAICS Code]]/10,EIOLCA!$E$24:$E$649,0)),MATCH(Table1[[#This Row],[NAICS Code]]/100,EIOLCA!$E$24:$E$649,0))","v":364},322299,"All other converted paper product manufacturing",312]
[{"$f":"IFERROR(IFERROR(MATCH(Table1[[#This Row],[NAICS Code]],EIOLCA!$E$24:$E$649,0),MATCH(Table1[[#This Row],[NAICS Code]]/10,EIOLCA!$E$24:$E$649,0)),MATCH(Table1[[#This Row],[NAICS Code]]/100,EIOLCA!$E$24:$E$649,0))","v":146},323110,"Printing",207]
[{"$f":"IFERROR(IFERROR(MATCH(Table1[[#This Row],[NAICS Code]],EIOLCA!$E$24:$E$649,0),MATCH(Table1[[#This Row],[NAICS Code]]/10,EIOLCA!$E$24:$E$649,0)),MATCH(Table1[[#This Row],[NAICS Code]]/100,EIOLCA!$E$24:$E$649,0))","v":368},323120,"Support activities for printing",92.1]
[{"$f":"IFERROR(IFERROR(MATCH(Table1[[#This Row],[NAICS Code]],EIOLCA!$E$24:$E$649,0),MATCH(Table1[[#This Row],[NAICS Code]]/10,EIOLCA!$E$24:$E$649,0)),MATCH(Table1[[#This Row],[NAICS Code]]/100,EIOLCA!$E$24:$E$649,0))","v":369},324110,"Petroleum refineries",2650]
[{"$f":"IFERROR(IFERROR(MATCH(Table1[[#This Row],[NAICS Code]],EIOLCA!$E$24:$E$649,0),MATCH(Table1[[#This Row],[NAICS Code]]/10,EIOLCA!$E$24:$E$649,0)),MATCH(Table1[[#This Row],[NAICS Code]]/100,EIOLCA!$E$24:$E$649,0))","v":370},324121,"Asphalt paving mixture and block manufacturing",28.9]
[{"$f":"IFERROR(IFERROR(MATCH(Table1[[#This Row],[NAICS Code]],EIOLCA!$E$24:$E$649,0),MATCH(Table1[[#This Row],[NAICS Code]]/10,EIOLCA!$E$24:$E$649,0)),MATCH(Table1[[#This Row],[NAICS Code]]/100,EIOLCA!$E$24:$E$649,0))","v":371},324122,"Asphalt shingle and coating materials manufacturing",354]
[{"$f":"IFERROR(IFERROR(MATCH(Table1[[#This Row],[NAICS Code]],EIOLCA!$E$24:$E$649,0),MATCH(Table1[[#This Row],[NAICS Code]]/10,EIOLCA!$E$24:$E$649,0)),MATCH(Table1[[#This Row],[NAICS Code]]/100,EIOLCA!$E$24:$E$649,0))","v":372},324191,"Petroleum lubricating oil and grease manufacturing",129]
[{"$f":"IFERROR(IFERROR(MATCH(Table1[[#This Row],[NAICS Code]],EIOLCA!$E$24:$E$649,0),MATCH(Table1[[#This Row],[NAICS Code]]/10,EIOLCA!$E$24:$E$649,0)),MATCH(Table1[[#This Row],[NAICS Code]]/100,EIOLCA!$E$24:$E$649,0))","v":373},324199,"All other petroleum and coal products manufacturing",75.8]
[{"$f":"IFERROR(IFERROR(MATCH(Table1[[#This Row],[NAICS Code]],EIOLCA!$E$24:$E$649,0),MATCH(Table1[[#This Row],[NAICS Code]]/10,EIOLCA!$E$24:$E$649,0)),MATCH(Table1[[#This Row],[NAICS Code]]/100,EIOLCA!$E$24:$E$649,0))","v":374},325110,"Petrochemical manufacturing",2830]
[{"$f":"IFERROR(IFERROR(MATCH(Table1[[#This Row],[NAICS Code]],EIOLCA!$E$24:$E$649,0),MATCH(Table1[[#This Row],[NAICS Code]]/10,EIOLCA!$E$24:$E$649,0)),MATCH(Table1[[#This Row],[NAICS Code]]/100,EIOLCA!$E$24:$E$649,0))","v":375},325120,"Industrial gas manufacturing",19600]
[{"$f":"IFERROR(IFERROR(MATCH(Table1[[#This Row],[NAICS Code]],EIOLCA!$E$24:$E$649,0),MATCH(Table1[[#This Row],[NAICS Code]]/10,EIOLCA!$E$24:$E$649,0)),MATCH(Table1[[#This Row],[NAICS Code]]/100,EIOLCA!$E$24:$E$649,0))","v":376},325130,"Synthetic dye and pigment manufacturing",25200]
[{"$f":"IFERROR(IFERROR(MATCH(Table1[[#This Row],[NAICS Code]],EIOLCA!$E$24:$E$649,0),MATCH(Table1[[#This Row],[NAICS Code]]/10,EIOLCA!$E$24:$E$649,0)),MATCH(Table1[[#This Row],[NAICS Code]]/100,EIOLCA!$E$24:$E$649,0))","v":{"$error":"#N/A"}},325181,"Alkalies and chlorine manufacturing",23500]
[{"$f":"IFERROR(IFERROR(MATCH(Table1[[#This Row],[NAICS Code]],EIOLCA!$E$24:$E$649,0),MATCH(Table1[[#This Row],[NAICS Code]]/10,EIOLCA!$E$24:$E$649,0)),MATCH(Table1[[#This Row],[NAICS Code]]/100,EIOLCA!$E$24:$E$649,0))","v":{"$error":"#N/A"}},325182,"Carbon black manufacturing",103]
[{"$f":"IFERROR(IFERROR(MATCH(Table1[[#This Row],[NAICS Code]],EIOLCA!$E$24:$E$649,0),MATCH(Table1[[#This Row],[NAICS Code]]/10,EIOLCA!$E$24:$E$649,0)),MATCH(Table1[[#This Row],[NAICS Code]]/100,EIOLCA!$E$24:$E$649,0))","v":{"$error":"#N/A"}},325188,"All other basic inorganic chemical manufacturing",10400]
[{"$f":"IFERROR(IFERROR(MATCH(Table1[[#This Row],[NAICS Code]],EIOLCA!$E$24:$E$649,0),MATCH(Table1[[#This Row],[NAICS Code]]/10,EIOLCA!$E$24:$E$649,0)),MATCH(Table1[[#This Row],[NAICS Code]]/100,EIOLCA!$E$24:$E$649,0))","v":155},325190,"Other basic organic chemical manufacturing",13700]
[{"$f":"IFERROR(IFERROR(MATCH(Table1[[#This Row],[NAICS Code]],EIOLCA!$E$24:$E$649,0),MATCH(Table1[[#This Row],[NAICS Code]]/10,EIOLCA!$E$24:$E$649,0)),MATCH(Table1[[#This Row],[NAICS Code]]/100,EIOLCA!$E$24:$E$649,0))","v":381},325211,"Plastics material and resin manufacturing",118]
[{"$f":"IFERROR(IFERROR(MATCH(Table1[[#This Row],[NAICS Code]],EIOLCA!$E$24:$E$649,0),MATCH(Table1[[#This Row],[NAICS Code]]/10,EIOLCA!$E$24:$E$649,0)),MATCH(Table1[[#This Row],[NAICS Code]]/100,EIOLCA!$E$24:$E$649,0))","v":382},325212,"Synthetic rubber manufacturing",56.1]
[{"$f":"IFERROR(IFERROR(MATCH(Table1[[#This Row],[NAICS Code]],EIOLCA!$E$24:$E$649,0),MATCH(Table1[[#This Row],[NAICS Code]]/10,EIOLCA!$E$24:$E$649,0)),MATCH(Table1[[#This Row],[NAICS Code]]/100,EIOLCA!$E$24:$E$649,0))","v":383},325220,"Artificial and synthetic fibers and filaments manufacturing",154]
[{"$f":"IFERROR(IFERROR(MATCH(Table1[[#This Row],[NAICS Code]],EIOLCA!$E$24:$E$649,0),MATCH(Table1[[#This Row],[NAICS Code]]/10,EIOLCA!$E$24:$E$649,0)),MATCH(Table1[[#This Row],[NAICS Code]]/100,EIOLCA!$E$24:$E$649,0))","v":158},325310,"Fertilizer Manufacturing",506]
[{"$f":"IFERROR(IFERROR(MATCH(Table1[[#This Row],[NAICS Code]],EIOLCA!$E$24:$E$649,0),MATCH(Table1[[#This Row],[NAICS Code]]/10,EIOLCA!$E$24:$E$649,0)),MATCH(Table1[[#This Row],[NAICS Code]]/100,EIOLCA!$E$24:$E$649,0))","v":387},325320,"Pesticide and other agricultural chemical manufacturing",411]
[{"$f":"IFERROR(IFERROR(MATCH(Table1[[#This Row],[NAICS Code]],EIOLCA!$E$24:$E$649,0),MATCH(Table1[[#This Row],[NAICS Code]]/10,EIOLCA!$E$24:$E$649,0)),MATCH(Table1[[#This Row],[NAICS Code]]/100,EIOLCA!$E$24:$E$649,0))","v":388},325411,"Medicinal and botanical manufacturing",1.53]
[{"$f":"IFERROR(IFERROR(MATCH(Table1[[#This Row],[NAICS Code]],EIOLCA!$E$24:$E$649,0),MATCH(Table1[[#This Row],[NAICS Code]]/10,EIOLCA!$E$24:$E$649,0)),MATCH(Table1[[#This Row],[NAICS Code]]/100,EIOLCA!$E$24:$E$649,0))","v":389},325412,"Pharmaceutical preparation manufacturing",0.25700000000000001]
[{"$f":"IFERROR(IFERROR(MATCH(Table1[[#This Row],[NAICS Code]],EIOLCA!$E$24:$E$649,0),MATCH(Table1[[#This Row],[NAICS Code]]/10,EIOLCA!$E$24:$E$649,0)),MATCH(Table1[[#This Row],[NAICS Code]]/100,EIOLCA!$E$24:$E$649,0))","v":390},325413,"In-vitro diagnostic substance manufacturing",2.4E-2]
[{"$f":"IFERROR(IFERROR(MATCH(Table1[[#This Row],[NAICS Code]],EIOLCA!$E$24:$E$649,0),MATCH(Table1[[#This Row],[NAICS Code]]/10,EIOLCA!$E$24:$E$649,0)),MATCH(Table1[[#This Row],[NAICS Code]]/100,EIOLCA!$E$24:$E$649,0))","v":391},325414,"Biological product (except diagnostic) Manufacturing",0.20699999999999999]
[{"$f":"IFERROR(IFERROR(MATCH(Table1[[#This Row],[NAICS Code]],EIOLCA!$E$24:$E$649,0),MATCH(Table1[[#This Row],[NAICS Code]]/10,EIOLCA!$E$24:$E$649,0)),MATCH(Table1[[#This Row],[NAICS Code]]/100,EIOLCA!$E$24:$E$649,0))","v":392},325510,"Paint and coating manufacturing",3680]
[{"$f":"IFERROR(IFERROR(MATCH(Table1[[#This Row],[NAICS Code]],EIOLCA!$E$24:$E$649,0),MATCH(Table1[[#This Row],[NAICS Code]]/10,EIOLCA!$E$24:$E$649,0)),MATCH(Table1[[#This Row],[NAICS Code]]/100,EIOLCA!$E$24:$E$649,0))","v":393},325520,"Adhesive manufacturing",829]
[{"$f":"IFERROR(IFERROR(MATCH(Table1[[#This Row],[NAICS Code]],EIOLCA!$E$24:$E$649,0),MATCH(Table1[[#This Row],[NAICS Code]]/10,EIOLCA!$E$24:$E$649,0)),MATCH(Table1[[#This Row],[NAICS Code]]/100,EIOLCA!$E$24:$E$649,0))","v":163},325610,"Soap and cleaning compound manufacturing",345]
[{"$f":"IFERROR(IFERROR(MATCH(Table1[[#This Row],[NAICS Code]],EIOLCA!$E$24:$E$649,0),MATCH(Table1[[#This Row],[NAICS Code]]/10,EIOLCA!$E$24:$E$649,0)),MATCH(Table1[[#This Row],[NAICS Code]]/100,EIOLCA!$E$24:$E$649,0))","v":397},325620,"Toilet preparation manufacturing",3.89]
[{"$f":"IFERROR(IFERROR(MATCH(Table1[[#This Row],[NAICS Code]],EIOLCA!$E$24:$E$649,0),MATCH(Table1[[#This Row],[NAICS Code]]/10,EIOLCA!$E$24:$E$649,0)),MATCH(Table1[[#This Row],[NAICS Code]]/100,EIOLCA!$E$24:$E$649,0))","v":398},325910,"Printing ink manufacturing",1.0900000000000001]
[{"$f":"IFERROR(IFERROR(MATCH(Table1[[#This Row],[NAICS Code]],EIOLCA!$E$24:$E$649,0),MATCH(Table1[[#This Row],[NAICS Code]]/10,EIOLCA!$E$24:$E$649,0)),MATCH(Table1[[#This Row],[NAICS Code]]/100,EIOLCA!$E$24:$E$649,0))","v":168},326110,"Plastics packaging materials, film and sheet",250]
[{"$f":"IFERROR(IFERROR(MATCH(Table1[[#This Row],[NAICS Code]],EIOLCA!$E$24:$E$649,0),MATCH(Table1[[#This Row],[NAICS Code]]/10,EIOLCA!$E$24:$E$649,0)),MATCH(Table1[[#This Row],[NAICS Code]]/100,EIOLCA!$E$24:$E$649,0))","v":406},326121,"Unlaminated plastics profile shape manufacturing",138]
[{"$f":"IFERROR(IFERROR(MATCH(Table1[[#This Row],[NAICS Code]],EIOLCA!$E$24:$E$649,0),MATCH(Table1[[#This Row],[NAICS Code]]/10,EIOLCA!$E$24:$E$649,0)),MATCH(Table1[[#This Row],[NAICS Code]]/100,EIOLCA!$E$24:$E$649,0))","v":407},326122,"Plastics Pipe and Pipe Fitting Manufacturing",87.7]
[{"$f":"IFERROR(IFERROR(MATCH(Table1[[#This Row],[NAICS Code]],EIOLCA!$E$24:$E$649,0),MATCH(Table1[[#This Row],[NAICS Code]]/10,EIOLCA!$E$24:$E$649,0)),MATCH(Table1[[#This Row],[NAICS Code]]/100,EIOLCA!$E$24:$E$649,0))","v":408},326130,"Laminated plastics plate, sheet, and shapes",174]
[{"$f":"IFERROR(IFERROR(MATCH(Table1[[#This Row],[NAICS Code]],EIOLCA!$E$24:$E$649,0),MATCH(Table1[[#This Row],[NAICS Code]]/10,EIOLCA!$E$24:$E$649,0)),MATCH(Table1[[#This Row],[NAICS Code]]/100,EIOLCA!$E$24:$E$649,0))","v":409},326140,"Polystyrene Foam Product Manufacturing",118]
[{"$f":"IFERROR(IFERROR(MATCH(Table1[[#This Row],[NAICS Code]],EIOLCA!$E$24:$E$649,0),MATCH(Table1[[#This Row],[NAICS Code]]/10,EIOLCA!$E$24:$E$649,0)),MATCH(Table1[[#This Row],[NAICS Code]]/100,EIOLCA!$E$24:$E$649,0))","v":410},326150,"Urethane and Other Foam Product (except Polystyrene) Manufacturing",118]
[{"$f":"IFERROR(IFERROR(MATCH(Table1[[#This Row],[NAICS Code]],EIOLCA!$E$24:$E$649,0),MATCH(Table1[[#This Row],[NAICS Code]]/10,EIOLCA!$E$24:$E$649,0)),MATCH(Table1[[#This Row],[NAICS Code]]/100,EIOLCA!$E$24:$E$649,0))","v":411},326160,"Plastics bottle manufacturing",82.7]
[{"$f":"IFERROR(IFERROR(MATCH(Table1[[#This Row],[NAICS Code]],EIOLCA!$E$24:$E$649,0),MATCH(Table1[[#This Row],[NAICS Code]]/10,EIOLCA!$E$24:$E$649,0)),MATCH(Table1[[#This Row],[NAICS Code]]/100,EIOLCA!$E$24:$E$649,0))","v":175},326210,"Tire manufacturing",1150]
[{"$f":"IFERROR(IFERROR(MATCH(Table1[[#This Row],[NAICS Code]],EIOLCA!$E$24:$E$649,0),MATCH(Table1[[#This Row],[NAICS Code]]/10,EIOLCA!$E$24:$E$649,0)),MATCH(Table1[[#This Row],[NAICS Code]]/100,EIOLCA!$E$24:$E$649,0))","v":416},326220,"Rubber and plastics hose and belting manufacturing",158]
[{"$f":"IFERROR(IFERROR(MATCH(Table1[[#This Row],[NAICS Code]],EIOLCA!$E$24:$E$649,0),MATCH(Table1[[#This Row],[NAICS Code]]/10,EIOLCA!$E$24:$E$649,0)),MATCH(Table1[[#This Row],[NAICS Code]]/100,EIOLCA!$E$24:$E$649,0))","v":177},326290,"Other rubber product manufacturing",247]
[{"$f":"IFERROR(IFERROR(MATCH(Table1[[#This Row],[NAICS Code]],EIOLCA!$E$24:$E$649,0),MATCH(Table1[[#This Row],[NAICS Code]]/10,EIOLCA!$E$24:$E$649,0)),MATCH(Table1[[#This Row],[NAICS Code]]/100,EIOLCA!$E$24:$E$649,0))","v":421},327211,"Flat glass manufacturing",450]
[{"$f":"IFERROR(IFERROR(MATCH(Table1[[#This Row],[NAICS Code]],EIOLCA!$E$24:$E$649,0),MATCH(Table1[[#This Row],[NAICS Code]]/10,EIOLCA!$E$24:$E$649,0)),MATCH(Table1[[#This Row],[NAICS Code]]/100,EIOLCA!$E$24:$E$649,0))","v":422},327212,"Other pressed and blown glass and glassware manufacturing",121]
[{"$f":"IFERROR(IFERROR(MATCH(Table1[[#This Row],[NAICS Code]],EIOLCA!$E$24:$E$649,0),MATCH(Table1[[#This Row],[NAICS Code]]/10,EIOLCA!$E$24:$E$649,0)),MATCH(Table1[[#This Row],[NAICS Code]]/100,EIOLCA!$E$24:$E$649,0))","v":423},327213,"Glass container manufacturing",153]
[{"$f":"IFERROR(IFERROR(MATCH(Table1[[#This Row],[NAICS Code]],EIOLCA!$E$24:$E$649,0),MATCH(Table1[[#This Row],[NAICS Code]]/10,EIOLCA!$E$24:$E$649,0)),MATCH(Table1[[#This Row],[NAICS Code]]/100,EIOLCA!$E$24:$E$649,0))","v":424},327215,"Glass Product Manufacturing Made of Purchased Glass",492]
[{"$f":"IFERROR(IFERROR(MATCH(Table1[[#This Row],[NAICS Code]],EIOLCA!$E$24:$E$649,0),MATCH(Table1[[#This Row],[NAICS Code]]/10,EIOLCA!$E$24:$E$649,0)),MATCH(Table1[[#This Row],[NAICS Code]]/100,EIOLCA!$E$24:$E$649,0))","v":425},327310,"Cement manufacturing",141]
[{"$f":"IFERROR(IFERROR(MATCH(Table1[[#This Row],[NAICS Code]],EIOLCA!$E$24:$E$649,0),MATCH(Table1[[#This Row],[NAICS Code]]/10,EIOLCA!$E$24:$E$649,0)),MATCH(Table1[[#This Row],[NAICS Code]]/100,EIOLCA!$E$24:$E$649,0))","v":426},327320,"Ready-mix concrete manufacturing",133]
[{"$f":"IFERROR(IFERROR(MATCH(Table1[[#This Row],[NAICS Code]],EIOLCA!$E$24:$E$649,0),MATCH(Table1[[#This Row],[NAICS Code]]/10,EIOLCA!$E$24:$E$649,0)),MATCH(Table1[[#This Row],[NAICS Code]]/100,EIOLCA!$E$24:$E$649,0))","v":183},327330,"Concrete pipe, brick and block manufacturing",139]
[{"$f":"IFERROR(IFERROR(MATCH(Table1[[#This Row],[NAICS Code]],EIOLCA!$E$24:$E$649,0),MATCH(Table1[[#This Row],[NAICS Code]]/10,EIOLCA!$E$24:$E$649,0)),MATCH(Table1[[#This Row],[NAICS Code]]/100,EIOLCA!$E$24:$E$649,0))","v":429},327390,"Other concrete product manufacturing",249]
[{"$f":"IFERROR(IFERROR(MATCH(Table1[[#This Row],[NAICS Code]],EIOLCA!$E$24:$E$649,0),MATCH(Table1[[#This Row],[NAICS Code]]/10,EIOLCA!$E$24:$E$649,0)),MATCH(Table1[[#This Row],[NAICS Code]]/100,EIOLCA!$E$24:$E$649,0))","v":432},327910,"Abrasive product manufacturing",164]
[{"$f":"IFERROR(IFERROR(MATCH(Table1[[#This Row],[NAICS Code]],EIOLCA!$E$24:$E$649,0),MATCH(Table1[[#This Row],[NAICS Code]]/10,EIOLCA!$E$24:$E$649,0)),MATCH(Table1[[#This Row],[NAICS Code]]/100,EIOLCA!$E$24:$E$649,0))","v":433},327991,"Cut stone and stone product manufacturing",88.4]
[{"$f":"IFERROR(IFERROR(MATCH(Table1[[#This Row],[NAICS Code]],EIOLCA!$E$24:$E$649,0),MATCH(Table1[[#This Row],[NAICS Code]]/10,EIOLCA!$E$24:$E$649,0)),MATCH(Table1[[#This Row],[NAICS Code]]/100,EIOLCA!$E$24:$E$649,0))","v":434},327992,"Ground or treated minerals and earths manufacturing",156]
[{"$f":"IFERROR(IFERROR(MATCH(Table1[[#This Row],[NAICS Code]],EIOLCA!$E$24:$E$649,0),MATCH(Table1[[#This Row],[NAICS Code]]/10,EIOLCA!$E$24:$E$649,0)),MATCH(Table1[[#This Row],[NAICS Code]]/100,EIOLCA!$E$24:$E$649,0))","v":435},327993,"Mineral wool manufacturing",507]
[{"$f":"IFERROR(IFERROR(MATCH(Table1[[#This Row],[NAICS Code]],EIOLCA!$E$24:$E$649,0),MATCH(Table1[[#This Row],[NAICS Code]]/10,EIOLCA!$E$24:$E$649,0)),MATCH(Table1[[#This Row],[NAICS Code]]/100,EIOLCA!$E$24:$E$649,0))","v":436},327999,"Miscellaneous nonmetallic mineral products",167]
[{"$f":"IFERROR(IFERROR(MATCH(Table1[[#This Row],[NAICS Code]],EIOLCA!$E$24:$E$649,0),MATCH(Table1[[#This Row],[NAICS Code]]/10,EIOLCA!$E$24:$E$649,0)),MATCH(Table1[[#This Row],[NAICS Code]]/100,EIOLCA!$E$24:$E$649,0))","v":437},331110,"Iron and steel mills",9120]
[{"$f":"IFERROR(IFERROR(MATCH(Table1[[#This Row],[NAICS Code]],EIOLCA!$E$24:$E$649,0),MATCH(Table1[[#This Row],[NAICS Code]]/10,EIOLCA!$E$24:$E$649,0)),MATCH(Table1[[#This Row],[NAICS Code]]/100,EIOLCA!$E$24:$E$649,0))","v":45},331200,"Iron, steel pipe and tube manufacturing from purchased steel",326]
[{"$f":"IFERROR(IFERROR(MATCH(Table1[[#This Row],[NAICS Code]],EIOLCA!$E$24:$E$649,0),MATCH(Table1[[#This Row],[NAICS Code]]/10,EIOLCA!$E$24:$E$649,0)),MATCH(Table1[[#This Row],[NAICS Code]]/100,EIOLCA!$E$24:$E$649,0))","v":442},331314,"Secondary smelting and alloying of aluminum",12900]
[{"$f":"IFERROR(IFERROR(MATCH(Table1[[#This Row],[NAICS Code]],EIOLCA!$E$24:$E$649,0),MATCH(Table1[[#This Row],[NAICS Code]]/10,EIOLCA!$E$24:$E$649,0)),MATCH(Table1[[#This Row],[NAICS Code]]/100,EIOLCA!$E$24:$E$649,0))","v":{"$error":"#N/A"}},331411,"Primary smelting and refining of copper",147]
[{"$f":"IFERROR(IFERROR(MATCH(Table1[[#This Row],[NAICS Code]],EIOLCA!$E$24:$E$649,0),MATCH(Table1[[#This Row],[NAICS Code]]/10,EIOLCA!$E$24:$E$649,0)),MATCH(Table1[[#This Row],[NAICS Code]]/100,EIOLCA!$E$24:$E$649,0))","v":{"$error":"#N/A"}},331419,"Primary smelting and refining of nonferrous metal (except copper and aluminum)",105]
[{"$f":"IFERROR(IFERROR(MATCH(Table1[[#This Row],[NAICS Code]],EIOLCA!$E$24:$E$649,0),MATCH(Table1[[#This Row],[NAICS Code]]/10,EIOLCA!$E$24:$E$649,0)),MATCH(Table1[[#This Row],[NAICS Code]]/100,EIOLCA!$E$24:$E$649,0))","v":446},331420,"Copper rolling, drawing, extruding and alloying",269]
[{"$f":"IFERROR(IFERROR(MATCH(Table1[[#This Row],[NAICS Code]],EIOLCA!$E$24:$E$649,0),MATCH(Table1[[#This Row],[NAICS Code]]/10,EIOLCA!$E$24:$E$649,0)),MATCH(Table1[[#This Row],[NAICS Code]]/100,EIOLCA!$E$24:$E$649,0))","v":195},331490,"Nonferrous metal (except copper and aluminum) rolling, drawing, extruding and alloying",364]
[{"$f":"IFERROR(IFERROR(MATCH(Table1[[#This Row],[NAICS Code]],EIOLCA!$E$24:$E$649,0),MATCH(Table1[[#This Row],[NAICS Code]]/10,EIOLCA!$E$24:$E$649,0)),MATCH(Table1[[#This Row],[NAICS Code]]/100,EIOLCA!$E$24:$E$649,0))","v":196},331510,"Ferrous metal foundaries",535]
[{"$f":"IFERROR(IFERROR(MATCH(Table1[[#This Row],[NAICS Code]],EIOLCA!$E$24:$E$649,0),MATCH(Table1[[#This Row],[NAICS Code]]/10,EIOLCA!$E$24:$E$649,0)),MATCH(Table1[[#This Row],[NAICS Code]]/100,EIOLCA!$E$24:$E$649,0))","v":197},331520,"Nonferrous foundries",515]
[{"$f":"IFERROR(IFERROR(MATCH(Table1[[#This Row],[NAICS Code]],EIOLCA!$E$24:$E$649,0),MATCH(Table1[[#This Row],[NAICS Code]]/10,EIOLCA!$E$24:$E$649,0)),MATCH(Table1[[#This Row],[NAICS Code]]/100,EIOLCA!$E$24:$E$649,0))","v":457},332114,"Custom roll forming",102]
[{"$f":"IFERROR(IFERROR(MATCH(Table1[[#This Row],[NAICS Code]],EIOLCA!$E$24:$E$649,0),MATCH(Table1[[#This Row],[NAICS Code]]/10,EIOLCA!$E$24:$E$649,0)),MATCH(Table1[[#This Row],[NAICS Code]]/100,EIOLCA!$E$24:$E$649,0))","v":200},332310,"Plate work and fabricated structural product manufacturing",8.6]
[{"$f":"IFERROR(IFERROR(MATCH(Table1[[#This Row],[NAICS Code]],EIOLCA!$E$24:$E$649,0),MATCH(Table1[[#This Row],[NAICS Code]]/10,EIOLCA!$E$24:$E$649,0)),MATCH(Table1[[#This Row],[NAICS Code]]/100,EIOLCA!$E$24:$E$649,0))","v":201},332320,"Ornamental and architectural metail products manufacturing",4.55]
[{"$f":"IFERROR(IFERROR(MATCH(Table1[[#This Row],[NAICS Code]],EIOLCA!$E$24:$E$649,0),MATCH(Table1[[#This Row],[NAICS Code]]/10,EIOLCA!$E$24:$E$649,0)),MATCH(Table1[[#This Row],[NAICS Code]]/100,EIOLCA!$E$24:$E$649,0))","v":468},332410,"Power boiler and heat exchanger manufacturing",0.68899999999999995]
[{"$f":"IFERROR(IFERROR(MATCH(Table1[[#This Row],[NAICS Code]],EIOLCA!$E$24:$E$649,0),MATCH(Table1[[#This Row],[NAICS Code]]/10,EIOLCA!$E$24:$E$649,0)),MATCH(Table1[[#This Row],[NAICS Code]]/100,EIOLCA!$E$24:$E$649,0))","v":469},332420,"Metal tank, heavy gauge, manufacturing",1.36]
[{"$f":"IFERROR(IFERROR(MATCH(Table1[[#This Row],[NAICS Code]],EIOLCA!$E$24:$E$649,0),MATCH(Table1[[#This Row],[NAICS Code]]/10,EIOLCA!$E$24:$E$649,0)),MATCH(Table1[[#This Row],[NAICS Code]]/100,EIOLCA!$E$24:$E$649,0))","v":204},332430,"Metal can, box, and other container manufacturing",2.19]
[{"$f":"IFERROR(IFERROR(MATCH(Table1[[#This Row],[NAICS Code]],EIOLCA!$E$24:$E$649,0),MATCH(Table1[[#This Row],[NAICS Code]]/10,EIOLCA!$E$24:$E$649,0)),MATCH(Table1[[#This Row],[NAICS Code]]/100,EIOLCA!$E$24:$E$649,0))","v":53},332500,"Hardware manufacturing",2.42]
[{"$f":"IFERROR(IFERROR(MATCH(Table1[[#This Row],[NAICS Code]],EIOLCA!$E$24:$E$649,0),MATCH(Table1[[#This Row],[NAICS Code]]/10,EIOLCA!$E$24:$E$649,0)),MATCH(Table1[[#This Row],[NAICS Code]]/100,EIOLCA!$E$24:$E$649,0))","v":54},332600,"Spring and wire product manufacturing",128]
[{"$f":"IFERROR(IFERROR(MATCH(Table1[[#This Row],[NAICS Code]],EIOLCA!$E$24:$E$649,0),MATCH(Table1[[#This Row],[NAICS Code]]/10,EIOLCA!$E$24:$E$649,0)),MATCH(Table1[[#This Row],[NAICS Code]]/100,EIOLCA!$E$24:$E$649,0))","v":475},332710,"Machine shops",39.1]
[{"$f":"IFERROR(IFERROR(MATCH(Table1[[#This Row],[NAICS Code]],EIOLCA!$E$24:$E$649,0),MATCH(Table1[[#This Row],[NAICS Code]]/10,EIOLCA!$E$24:$E$649,0)),MATCH(Table1[[#This Row],[NAICS Code]]/100,EIOLCA!$E$24:$E$649,0))","v":208},332720,"Turned product and screw, nut, and bolt manufacturing",8.7899999999999991]
[{"$f":"IFERROR(IFERROR(MATCH(Table1[[#This Row],[NAICS Code]],EIOLCA!$E$24:$E$649,0),MATCH(Table1[[#This Row],[NAICS Code]]/10,EIOLCA!$E$24:$E$649,0)),MATCH(Table1[[#This Row],[NAICS Code]]/100,EIOLCA!$E$24:$E$649,0))","v":56},332800,"Coating, engraving, heat treating and allied activities",53.1]
[{"$f":"IFERROR(IFERROR(MATCH(Table1[[#This Row],[NAICS Code]],EIOLCA!$E$24:$E$649,0),MATCH(Table1[[#This Row],[NAICS Code]]/10,EIOLCA!$E$24:$E$649,0)),MATCH(Table1[[#This Row],[NAICS Code]]/100,EIOLCA!$E$24:$E$649,0))","v":483},332913,"Plumbing Fixture Fitting and Trim Manufacturing",0.13800000000000001]
[{"$f":"IFERROR(IFERROR(MATCH(Table1[[#This Row],[NAICS Code]],EIOLCA!$E$24:$E$649,0),MATCH(Table1[[#This Row],[NAICS Code]]/10,EIOLCA!$E$24:$E$649,0)),MATCH(Table1[[#This Row],[NAICS Code]]/100,EIOLCA!$E$24:$E$649,0))","v":485},332991,"Ball and roller bearing manufacturing",3.25]
[{"$f":"IFERROR(IFERROR(MATCH(Table1[[#This Row],[NAICS Code]],EIOLCA!$E$24:$E$649,0),MATCH(Table1[[#This Row],[NAICS Code]]/10,EIOLCA!$E$24:$E$649,0)),MATCH(Table1[[#This Row],[NAICS Code]]/100,EIOLCA!$E$24:$E$649,0))","v":489},332996,"Fabricated pipe and pipe fitting manufacturing",0.753]
[{"$f":"IFERROR(IFERROR(MATCH(Table1[[#This Row],[NAICS Code]],EIOLCA!$E$24:$E$649,0),MATCH(Table1[[#This Row],[NAICS Code]]/10,EIOLCA!$E$24:$E$649,0)),MATCH(Table1[[#This Row],[NAICS Code]]/100,EIOLCA!$E$24:$E$649,0))","v":491},333111,"Farm machinery and equipment manufacturing",94.3]
[{"$f":"IFERROR(IFERROR(MATCH(Table1[[#This Row],[NAICS Code]],EIOLCA!$E$24:$E$649,0),MATCH(Table1[[#This Row],[NAICS Code]]/10,EIOLCA!$E$24:$E$649,0)),MATCH(Table1[[#This Row],[NAICS Code]]/100,EIOLCA!$E$24:$E$649,0))","v":492},333112,"Lawn and garden equipment manufacturing",51.6]
[{"$f":"IFERROR(IFERROR(MATCH(Table1[[#This Row],[NAICS Code]],EIOLCA!$E$24:$E$649,0),MATCH(Table1[[#This Row],[NAICS Code]]/10,EIOLCA!$E$24:$E$649,0)),MATCH(Table1[[#This Row],[NAICS Code]]/100,EIOLCA!$E$24:$E$649,0))","v":493},333120,"Construction machinery manufacturing",54.2]
[{"$f":"IFERROR(IFERROR(MATCH(Table1[[#This Row],[NAICS Code]],EIOLCA!$E$24:$E$649,0),MATCH(Table1[[#This Row],[NAICS Code]]/10,EIOLCA!$E$24:$E$649,0)),MATCH(Table1[[#This Row],[NAICS Code]]/100,EIOLCA!$E$24:$E$649,0))","v":214},333130,"Mining and oil and gas field machinery manufacturing",63.4]
[{"$f":"IFERROR(IFERROR(MATCH(Table1[[#This Row],[NAICS Code]],EIOLCA!$E$24:$E$649,0),MATCH(Table1[[#This Row],[NAICS Code]]/10,EIOLCA!$E$24:$E$649,0)),MATCH(Table1[[#This Row],[NAICS Code]]/100,EIOLCA!$E$24:$E$649,0))","v":{"$error":"#N/A"}},333220,"Plastics and rubber industry machinery",66.7]
[{"$f":"IFERROR(IFERROR(MATCH(Table1[[#This Row],[NAICS Code]],EIOLCA!$E$24:$E$649,0),MATCH(Table1[[#This Row],[NAICS Code]]/10,EIOLCA!$E$24:$E$649,0)),MATCH(Table1[[#This Row],[NAICS Code]]/100,EIOLCA!$E$24:$E$649,0))","v":{"$error":"#N/A"}},333295,"Semiconductor machinery manufacturing",33.299999999999997]
[{"$f":"IFERROR(IFERROR(MATCH(Table1[[#This Row],[NAICS Code]],EIOLCA!$E$24:$E$649,0),MATCH(Table1[[#This Row],[NAICS Code]]/10,EIOLCA!$E$24:$E$649,0)),MATCH(Table1[[#This Row],[NAICS Code]]/100,EIOLCA!$E$24:$E$649,0))","v":501},333314,"Optical instrument and lens manufacturing",81.400000000000006]
[{"$f":"IFERROR(IFERROR(MATCH(Table1[[#This Row],[NAICS Code]],EIOLCA!$E$24:$E$649,0),MATCH(Table1[[#This Row],[NAICS Code]]/10,EIOLCA!$E$24:$E$649,0)),MATCH(Table1[[#This Row],[NAICS Code]]/100,EIOLCA!$E$24:$E$649,0))","v":{"$error":"#N/A"}},333315,"Photographic and photocopying equipment manufacturing",30.6]
[{"$f":"IFERROR(IFERROR(MATCH(Table1[[#This Row],[NAICS Code]],EIOLCA!$E$24:$E$649,0),MATCH(Table1[[#This Row],[NAICS Code]]/10,EIOLCA!$E$24:$E$649,0)),MATCH(Table1[[#This Row],[NAICS Code]]/100,EIOLCA!$E$24:$E$649,0))","v":{"$error":"#N/A"}},333319,"Other commercial and service industry machinery manufacturing",57.1]
[{"$f":"IFERROR(IFERROR(MATCH(Table1[[#This Row],[NAICS Code]],EIOLCA!$E$24:$E$649,0),MATCH(Table1[[#This Row],[NAICS Code]]/10,EIOLCA!$E$24:$E$649,0)),MATCH(Table1[[#This Row],[NAICS Code]]/100,EIOLCA!$E$24:$E$649,0))","v":505},333414,"Heating equipment (except warm air furnaces) manufacturing",107]
[{"$f":"IFERROR(IFERROR(MATCH(Table1[[#This Row],[NAICS Code]],EIOLCA!$E$24:$E$649,0),MATCH(Table1[[#This Row],[NAICS Code]]/10,EIOLCA!$E$24:$E$649,0)),MATCH(Table1[[#This Row],[NAICS Code]]/100,EIOLCA!$E$24:$E$649,0))","v":506},333415,"Air conditioning, refrigeration, and warm air heating equipment manufacturing",71.7]
[{"$f":"IFERROR(IFERROR(MATCH(Table1[[#This Row],[NAICS Code]],EIOLCA!$E$24:$E$649,0),MATCH(Table1[[#This Row],[NAICS Code]]/10,EIOLCA!$E$24:$E$649,0)),MATCH(Table1[[#This Row],[NAICS Code]]/100,EIOLCA!$E$24:$E$649,0))","v":507},333511,"Industrial mold manufacturing",97.9]
[{"$f":"IFERROR(IFERROR(MATCH(Table1[[#This Row],[NAICS Code]],EIOLCA!$E$24:$E$649,0),MATCH(Table1[[#This Row],[NAICS Code]]/10,EIOLCA!$E$24:$E$649,0)),MATCH(Table1[[#This Row],[NAICS Code]]/100,EIOLCA!$E$24:$E$649,0))","v":508},333514,"Special tool, die, jig, and fixture manufacturing",75.3]
[{"$f":"IFERROR(IFERROR(MATCH(Table1[[#This Row],[NAICS Code]],EIOLCA!$E$24:$E$649,0),MATCH(Table1[[#This Row],[NAICS Code]]/10,EIOLCA!$E$24:$E$649,0)),MATCH(Table1[[#This Row],[NAICS Code]]/100,EIOLCA!$E$24:$E$649,0))","v":509},333515,"Cutting tool and machine tool accessory manufacturing",143]
[{"$f":"IFERROR(IFERROR(MATCH(Table1[[#This Row],[NAICS Code]],EIOLCA!$E$24:$E$649,0),MATCH(Table1[[#This Row],[NAICS Code]]/10,EIOLCA!$E$24:$E$649,0)),MATCH(Table1[[#This Row],[NAICS Code]]/100,EIOLCA!$E$24:$E$649,0))","v":512},333611,"Turbine and turbine generator set units manufacturing",35.4]
[{"$f":"IFERROR(IFERROR(MATCH(Table1[[#This Row],[NAICS Code]],EIOLCA!$E$24:$E$649,0),MATCH(Table1[[#This Row],[NAICS Code]]/10,EIOLCA!$E$24:$E$649,0)),MATCH(Table1[[#This Row],[NAICS Code]]/100,EIOLCA!$E$24:$E$649,0))","v":513},333612,"Speed Changer, Industrial High-Speed Drive, and Gear Manufacturing",122]
[{"$f":"IFERROR(IFERROR(MATCH(Table1[[#This Row],[NAICS Code]],EIOLCA!$E$24:$E$649,0),MATCH(Table1[[#This Row],[NAICS Code]]/10,EIOLCA!$E$24:$E$649,0)),MATCH(Table1[[#This Row],[NAICS Code]]/100,EIOLCA!$E$24:$E$649,0))","v":514},333613,"Mechanical Power Transmission Equipment Manufacturing",164]
[{"$f":"IFERROR(IFERROR(MATCH(Table1[[#This Row],[NAICS Code]],EIOLCA!$E$24:$E$649,0),MATCH(Table1[[#This Row],[NAICS Code]]/10,EIOLCA!$E$24:$E$649,0)),MATCH(Table1[[#This Row],[NAICS Code]]/100,EIOLCA!$E$24:$E$649,0))","v":515},333618,"Other engine equipment manufacturing",110]
[{"$f":"IFERROR(IFERROR(MATCH(Table1[[#This Row],[NAICS Code]],EIOLCA!$E$24:$E$649,0),MATCH(Table1[[#This Row],[NAICS Code]]/10,EIOLCA!$E$24:$E$649,0)),MATCH(Table1[[#This Row],[NAICS Code]]/100,EIOLCA!$E$24:$E$649,0))","v":{"$error":"#N/A"}},333911,"Pump and pumping equipment manufacturing",77.3]
[{"$f":"IFERROR(IFERROR(MATCH(Table1[[#This Row],[NAICS Code]],EIOLCA!$E$24:$E$649,0),MATCH(Table1[[#This Row],[NAICS Code]]/10,EIOLCA!$E$24:$E$649,0)),MATCH(Table1[[#This Row],[NAICS Code]]/100,EIOLCA!$E$24:$E$649,0))","v":516},333912,"Air and gas compressor manufacturing",102]
[{"$f":"IFERROR(IFERROR(MATCH(Table1[[#This Row],[NAICS Code]],EIOLCA!$E$24:$E$649,0),MATCH(Table1[[#This Row],[NAICS Code]]/10,EIOLCA!$E$24:$E$649,0)),MATCH(Table1[[#This Row],[NAICS Code]]/100,EIOLCA!$E$24:$E$649,0))","v":221},333920,"Material handling equipment manufacturing",69.900000000000006]
[{"$f":"IFERROR(IFERROR(MATCH(Table1[[#This Row],[NAICS Code]],EIOLCA!$E$24:$E$649,0),MATCH(Table1[[#This Row],[NAICS Code]]/10,EIOLCA!$E$24:$E$649,0)),MATCH(Table1[[#This Row],[NAICS Code]]/100,EIOLCA!$E$24:$E$649,0))","v":522},333991,"Power-driven handtool manufacturing",47.5]
[{"$f":"IFERROR(IFERROR(MATCH(Table1[[#This Row],[NAICS Code]],EIOLCA!$E$24:$E$649,0),MATCH(Table1[[#This Row],[NAICS Code]]/10,EIOLCA!$E$24:$E$649,0)),MATCH(Table1[[#This Row],[NAICS Code]]/100,EIOLCA!$E$24:$E$649,0))","v":524},333993,"Packaging machinery manufacturing",57.3]
[{"$f":"IFERROR(IFERROR(MATCH(Table1[[#This Row],[NAICS Code]],EIOLCA!$E$24:$E$649,0),MATCH(Table1[[#This Row],[NAICS Code]]/10,EIOLCA!$E$24:$E$649,0)),MATCH(Table1[[#This Row],[NAICS Code]]/100,EIOLCA!$E$24:$E$649,0))","v":525},333994,"Industrial process furnace and oven manufacturing",143]
[{"$f":"IFERROR(IFERROR(MATCH(Table1[[#This Row],[NAICS Code]],EIOLCA!$E$24:$E$649,0),MATCH(Table1[[#This Row],[NAICS Code]]/10,EIOLCA!$E$24:$E$649,0)),MATCH(Table1[[#This Row],[NAICS Code]]/100,EIOLCA!$E$24:$E$649,0))","v":530},334111,"Electronic computer manufacturing",14]
[{"$f":"IFERROR(IFERROR(MATCH(Table1[[#This Row],[NAICS Code]],EIOLCA!$E$24:$E$649,0),MATCH(Table1[[#This Row],[NAICS Code]]/10,EIOLCA!$E$24:$E$649,0)),MATCH(Table1[[#This Row],[NAICS Code]]/100,EIOLCA!$E$24:$E$649,0))","v":531},334112,"Computer storage device manufacturing",58.8]
[{"$f":"IFERROR(IFERROR(MATCH(Table1[[#This Row],[NAICS Code]],EIOLCA!$E$24:$E$649,0),MATCH(Table1[[#This Row],[NAICS Code]]/10,EIOLCA!$E$24:$E$649,0)),MATCH(Table1[[#This Row],[NAICS Code]]/100,EIOLCA!$E$24:$E$649,0))","v":533},334210,"Telephone apparatus manufacturing",39.799999999999997]
[{"$f":"IFERROR(IFERROR(MATCH(Table1[[#This Row],[NAICS Code]],EIOLCA!$E$24:$E$649,0),MATCH(Table1[[#This Row],[NAICS Code]]/10,EIOLCA!$E$24:$E$649,0)),MATCH(Table1[[#This Row],[NAICS Code]]/100,EIOLCA!$E$24:$E$649,0))","v":534},334220,"Broadcast and wireless communications equipment",76.900000000000006]
[{"$f":"IFERROR(IFERROR(MATCH(Table1[[#This Row],[NAICS Code]],EIOLCA!$E$24:$E$649,0),MATCH(Table1[[#This Row],[NAICS Code]]/10,EIOLCA!$E$24:$E$649,0)),MATCH(Table1[[#This Row],[NAICS Code]]/100,EIOLCA!$E$24:$E$649,0))","v":535},334290,"Other communications equipment manufacturing",33.700000000000003]
[{"$f":"IFERROR(IFERROR(MATCH(Table1[[#This Row],[NAICS Code]],EIOLCA!$E$24:$E$649,0),MATCH(Table1[[#This Row],[NAICS Code]]/10,EIOLCA!$E$24:$E$649,0)),MATCH(Table1[[#This Row],[NAICS Code]]/100,EIOLCA!$E$24:$E$649,0))","v":67},334300,"Audio and video equipment manufacturing",34.1]
[{"$f":"IFERROR(IFERROR(MATCH(Table1[[#This Row],[NAICS Code]],EIOLCA!$E$24:$E$649,0),MATCH(Table1[[#This Row],[NAICS Code]]/10,EIOLCA!$E$24:$E$649,0)),MATCH(Table1[[#This Row],[NAICS Code]]/100,EIOLCA!$E$24:$E$649,0))","v":{"$error":"#N/A"}},334411,"Electron tube manufacturing",182]
[{"$f":"IFERROR(IFERROR(MATCH(Table1[[#This Row],[NAICS Code]],EIOLCA!$E$24:$E$649,0),MATCH(Table1[[#This Row],[NAICS Code]]/10,EIOLCA!$E$24:$E$649,0)),MATCH(Table1[[#This Row],[NAICS Code]]/100,EIOLCA!$E$24:$E$649,0))","v":537},334412,"Bare printed circuit board manufacturing",363]
[{"$f":"IFERROR(IFERROR(MATCH(Table1[[#This Row],[NAICS Code]],EIOLCA!$E$24:$E$649,0),MATCH(Table1[[#This Row],[NAICS Code]]/10,EIOLCA!$E$24:$E$649,0)),MATCH(Table1[[#This Row],[NAICS Code]]/100,EIOLCA!$E$24:$E$649,0))","v":538},334413,"Semiconductor and related device manufacturing",66.400000000000006]
[{"$f":"IFERROR(IFERROR(MATCH(Table1[[#This Row],[NAICS Code]],EIOLCA!$E$24:$E$649,0),MATCH(Table1[[#This Row],[NAICS Code]]/10,EIOLCA!$E$24:$E$649,0)),MATCH(Table1[[#This Row],[NAICS Code]]/100,EIOLCA!$E$24:$E$649,0))","v":540},334417,"Electronic connector manufacturing",14.3]
[{"$f":"IFERROR(IFERROR(MATCH(Table1[[#This Row],[NAICS Code]],EIOLCA!$E$24:$E$649,0),MATCH(Table1[[#This Row],[NAICS Code]]/10,EIOLCA!$E$24:$E$649,0)),MATCH(Table1[[#This Row],[NAICS Code]]/100,EIOLCA!$E$24:$E$649,0))","v":541},334418,"Printed circuit assembly (electronic assembly) manufacturing",16.2]
[{"$f":"IFERROR(IFERROR(MATCH(Table1[[#This Row],[NAICS Code]],EIOLCA!$E$24:$E$649,0),MATCH(Table1[[#This Row],[NAICS Code]]/10,EIOLCA!$E$24:$E$649,0)),MATCH(Table1[[#This Row],[NAICS Code]]/100,EIOLCA!$E$24:$E$649,0))","v":542},334419,"Other electronic component manufacturing",20]
[{"$f":"IFERROR(IFERROR(MATCH(Table1[[#This Row],[NAICS Code]],EIOLCA!$E$24:$E$649,0),MATCH(Table1[[#This Row],[NAICS Code]]/10,EIOLCA!$E$24:$E$649,0)),MATCH(Table1[[#This Row],[NAICS Code]]/100,EIOLCA!$E$24:$E$649,0))","v":543},334510,"Electromedical apparatus manufacturing",8.0000000000000002E-3]
[{"$f":"IFERROR(IFERROR(MATCH(Table1[[#This Row],[NAICS Code]],EIOLCA!$E$24:$E$649,0),MATCH(Table1[[#This Row],[NAICS Code]]/10,EIOLCA!$E$24:$E$649,0)),MATCH(Table1[[#This Row],[NAICS Code]]/100,EIOLCA!$E$24:$E$649,0))","v":544},334511,"Search, detection, and navigation instruments",2.66]
[{"$f":"IFERROR(IFERROR(MATCH(Table1[[#This Row],[NAICS Code]],EIOLCA!$E$24:$E$649,0),MATCH(Table1[[#This Row],[NAICS Code]]/10,EIOLCA!$E$24:$E$649,0)),MATCH(Table1[[#This Row],[NAICS Code]]/100,EIOLCA!$E$24:$E$649,0))","v":545},334512,"Automatic environmental control manufacturing",7.5999999999999998E-2]
[{"$f":"IFERROR(IFERROR(MATCH(Table1[[#This Row],[NAICS Code]],EIOLCA!$E$24:$E$649,0),MATCH(Table1[[#This Row],[NAICS Code]]/10,EIOLCA!$E$24:$E$649,0)),MATCH(Table1[[#This Row],[NAICS Code]]/100,EIOLCA!$E$24:$E$649,0))","v":546},334513,"Industrial process variable instruments",0.45300000000000001]
[{"$f":"IFERROR(IFERROR(MATCH(Table1[[#This Row],[NAICS Code]],EIOLCA!$E$24:$E$649,0),MATCH(Table1[[#This Row],[NAICS Code]]/10,EIOLCA!$E$24:$E$649,0)),MATCH(Table1[[#This Row],[NAICS Code]]/100,EIOLCA!$E$24:$E$649,0))","v":547},334514,"Totalizing fluid meters and counting devices",0.112]
[{"$f":"IFERROR(IFERROR(MATCH(Table1[[#This Row],[NAICS Code]],EIOLCA!$E$24:$E$649,0),MATCH(Table1[[#This Row],[NAICS Code]]/10,EIOLCA!$E$24:$E$649,0)),MATCH(Table1[[#This Row],[NAICS Code]]/100,EIOLCA!$E$24:$E$649,0))","v":548},334515,"Electricity and signal testing instruments",1.1000000000000001]
[{"$f":"IFERROR(IFERROR(MATCH(Table1[[#This Row],[NAICS Code]],EIOLCA!$E$24:$E$649,0),MATCH(Table1[[#This Row],[NAICS Code]]/10,EIOLCA!$E$24:$E$649,0)),MATCH(Table1[[#This Row],[NAICS Code]]/100,EIOLCA!$E$24:$E$649,0))","v":549},334516,"Analytical laboratory instrument manufacturing",0.26800000000000002]
[{"$f":"IFERROR(IFERROR(MATCH(Table1[[#This Row],[NAICS Code]],EIOLCA!$E$24:$E$649,0),MATCH(Table1[[#This Row],[NAICS Code]]/10,EIOLCA!$E$24:$E$649,0)),MATCH(Table1[[#This Row],[NAICS Code]]/100,EIOLCA!$E$24:$E$649,0))","v":550},334517,"Irradiation apparatus manufacturing",3.4000000000000002E-2]
[{"$f":"IFERROR(IFERROR(MATCH(Table1[[#This Row],[NAICS Code]],EIOLCA!$E$24:$E$649,0),MATCH(Table1[[#This Row],[NAICS Code]]/10,EIOLCA!$E$24:$E$649,0)),MATCH(Table1[[#This Row],[NAICS Code]]/100,EIOLCA!$E$24:$E$649,0))","v":552},334613,"Magnetic and optical recording media manufacturing",0.59599999999999997]
[{"$f":"IFERROR(IFERROR(MATCH(Table1[[#This Row],[NAICS Code]],EIOLCA!$E$24:$E$649,0),MATCH(Table1[[#This Row],[NAICS Code]]/10,EIOLCA!$E$24:$E$649,0)),MATCH(Table1[[#This Row],[NAICS Code]]/100,EIOLCA!$E$24:$E$649,0))","v":540},334417,"Electronic connector manufacturing",281]
[{"$f":"IFERROR(IFERROR(MATCH(Table1[[#This Row],[NAICS Code]],EIOLCA!$E$24:$E$649,0),MATCH(Table1[[#This Row],[NAICS Code]]/10,EIOLCA!$E$24:$E$649,0)),MATCH(Table1[[#This Row],[NAICS Code]]/100,EIOLCA!$E$24:$E$649,0))","v":538},334413,"Semiconductor and related device manufacturing",175]
[{"$f":"IFERROR(IFERROR(MATCH(Table1[[#This Row],[NAICS Code]],EIOLCA!$E$24:$E$649,0),MATCH(Table1[[#This Row],[NAICS Code]]/10,EIOLCA!$E$24:$E$649,0)),MATCH(Table1[[#This Row],[NAICS Code]]/100,EIOLCA!$E$24:$E$649,0))","v":537},334412,"Bare printed circuit board manufacturing",87.8]
[{"$f":"IFERROR(IFERROR(MATCH(Table1[[#This Row],[NAICS Code]],EIOLCA!$E$24:$E$649,0),MATCH(Table1[[#This Row],[NAICS Code]]/10,EIOLCA!$E$24:$E$649,0)),MATCH(Table1[[#This Row],[NAICS Code]]/100,EIOLCA!$E$24:$E$649,0))","v":542},334419,"Other electronic component manufacturing",86.8]
[{"$f":"IFERROR(IFERROR(MATCH(Table1[[#This Row],[NAICS Code]],EIOLCA!$E$24:$E$649,0),MATCH(Table1[[#This Row],[NAICS Code]]/10,EIOLCA!$E$24:$E$649,0)),MATCH(Table1[[#This Row],[NAICS Code]]/100,EIOLCA!$E$24:$E$649,0))","v":552},334613,"Magnetic and optical recording media manufacturing",75.8]
[{"$f":"IFERROR(IFERROR(MATCH(Table1[[#This Row],[NAICS Code]],EIOLCA!$E$24:$E$649,0),MATCH(Table1[[#This Row],[NAICS Code]]/10,EIOLCA!$E$24:$E$649,0)),MATCH(Table1[[#This Row],[NAICS Code]]/100,EIOLCA!$E$24:$E$649,0))","v":549},334516,"Analytical laboratory instrument manufacturing",75]
[{"$f":"IFERROR(IFERROR(MATCH(Table1[[#This Row],[NAICS Code]],EIOLCA!$E$24:$E$649,0),MATCH(Table1[[#This Row],[NAICS Code]]/10,EIOLCA!$E$24:$E$649,0)),MATCH(Table1[[#This Row],[NAICS Code]]/100,EIOLCA!$E$24:$E$649,0))","v":546},334513,"Industrial process variable instruments",64.599999999999994]
[{"$f":"IFERROR(IFERROR(MATCH(Table1[[#This Row],[NAICS Code]],EIOLCA!$E$24:$E$649,0),MATCH(Table1[[#This Row],[NAICS Code]]/10,EIOLCA!$E$24:$E$649,0)),MATCH(Table1[[#This Row],[NAICS Code]]/100,EIOLCA!$E$24:$E$649,0))","v":544},334511,"Search, detection, and navigation instruments",61.7]
[{"$f":"IFERROR(IFERROR(MATCH(Table1[[#This Row],[NAICS Code]],EIOLCA!$E$24:$E$649,0),MATCH(Table1[[#This Row],[NAICS Code]]/10,EIOLCA!$E$24:$E$649,0)),MATCH(Table1[[#This Row],[NAICS Code]]/100,EIOLCA!$E$24:$E$649,0))","v":545},334512,"Automatic environmental control manufacturing",52]
[{"$f":"IFERROR(IFERROR(MATCH(Table1[[#This Row],[NAICS Code]],EIOLCA!$E$24:$E$649,0),MATCH(Table1[[#This Row],[NAICS Code]]/10,EIOLCA!$E$24:$E$649,0)),MATCH(Table1[[#This Row],[NAICS Code]]/100,EIOLCA!$E$24:$E$649,0))","v":547},334514,"Totalizing fluid meters and counting devices",49.9]
[{"$f":"IFERROR(IFERROR(MATCH(Table1[[#This Row],[NAICS Code]],EIOLCA!$E$24:$E$649,0),MATCH(Table1[[#This Row],[NAICS Code]]/10,EIOLCA!$E$24:$E$649,0)),MATCH(Table1[[#This Row],[NAICS Code]]/100,EIOLCA!$E$24:$E$649,0))","v":541},334418,"Printed circuit assembly (electronic assembly) manufacturing",44.8]
[{"$f":"IFERROR(IFERROR(MATCH(Table1[[#This Row],[NAICS Code]],EIOLCA!$E$24:$E$649,0),MATCH(Table1[[#This Row],[NAICS Code]]/10,EIOLCA!$E$24:$E$649,0)),MATCH(Table1[[#This Row],[NAICS Code]]/100,EIOLCA!$E$24:$E$649,0))","v":543},334510,"Electromedical apparatus manufacturing",33.799999999999997]
[{"$f":"IFERROR(IFERROR(MATCH(Table1[[#This Row],[NAICS Code]],EIOLCA!$E$24:$E$649,0),MATCH(Table1[[#This Row],[NAICS Code]]/10,EIOLCA!$E$24:$E$649,0)),MATCH(Table1[[#This Row],[NAICS Code]]/100,EIOLCA!$E$24:$E$649,0))","v":548},334515,"Electricity and signal testing instruments",29.4]
[{"$f":"IFERROR(IFERROR(MATCH(Table1[[#This Row],[NAICS Code]],EIOLCA!$E$24:$E$649,0),MATCH(Table1[[#This Row],[NAICS Code]]/10,EIOLCA!$E$24:$E$649,0)),MATCH(Table1[[#This Row],[NAICS Code]]/100,EIOLCA!$E$24:$E$649,0))","v":550},334517,"Irradiation apparatus manufacturing",14.4]
[{"$f":"IFERROR(IFERROR(MATCH(Table1[[#This Row],[NAICS Code]],EIOLCA!$E$24:$E$649,0),MATCH(Table1[[#This Row],[NAICS Code]]/10,EIOLCA!$E$24:$E$649,0)),MATCH(Table1[[#This Row],[NAICS Code]]/100,EIOLCA!$E$24:$E$649,0))","v":{"$error":"#N/A"}},334411,"Electron tube manufacturing",11.4]
[{"$f":"IFERROR(IFERROR(MATCH(Table1[[#This Row],[NAICS Code]],EIOLCA!$E$24:$E$649,0),MATCH(Table1[[#This Row],[NAICS Code]]/10,EIOLCA!$E$24:$E$649,0)),MATCH(Table1[[#This Row],[NAICS Code]]/100,EIOLCA!$E$24:$E$649,0))","v":534},334220,"Broadcast and wireless communications equipment",6.75]
[{"$f":"IFERROR(IFERROR(MATCH(Table1[[#This Row],[NAICS Code]],EIOLCA!$E$24:$E$649,0),MATCH(Table1[[#This Row],[NAICS Code]]/10,EIOLCA!$E$24:$E$649,0)),MATCH(Table1[[#This Row],[NAICS Code]]/100,EIOLCA!$E$24:$E$649,0))","v":531},334112,"Computer storage device manufacturing",4.33]
[{"$f":"IFERROR(IFERROR(MATCH(Table1[[#This Row],[NAICS Code]],EIOLCA!$E$24:$E$649,0),MATCH(Table1[[#This Row],[NAICS Code]]/10,EIOLCA!$E$24:$E$649,0)),MATCH(Table1[[#This Row],[NAICS Code]]/100,EIOLCA!$E$24:$E$649,0))","v":67},334300,"Audio and video equipment manufacturing",4.03]
[{"$f":"IFERROR(IFERROR(MATCH(Table1[[#This Row],[NAICS Code]],EIOLCA!$E$24:$E$649,0),MATCH(Table1[[#This Row],[NAICS Code]]/10,EIOLCA!$E$24:$E$649,0)),MATCH(Table1[[#This Row],[NAICS Code]]/100,EIOLCA!$E$24:$E$649,0))","v":530},334111,"Electronic computer manufacturing",1.43]
[{"$f":"IFERROR(IFERROR(MATCH(Table1[[#This Row],[NAICS Code]],EIOLCA!$E$24:$E$649,0),MATCH(Table1[[#This Row],[NAICS Code]]/10,EIOLCA!$E$24:$E$649,0)),MATCH(Table1[[#This Row],[NAICS Code]]/100,EIOLCA!$E$24:$E$649,0))","v":533},334210,"Telephone apparatus manufacturing",0.92200000000000004]
[{"$f":"IFERROR(IFERROR(MATCH(Table1[[#This Row],[NAICS Code]],EIOLCA!$E$24:$E$649,0),MATCH(Table1[[#This Row],[NAICS Code]]/10,EIOLCA!$E$24:$E$649,0)),MATCH(Table1[[#This Row],[NAICS Code]]/100,EIOLCA!$E$24:$E$649,0))","v":535},334290,"Other communications equipment manufacturing",0.629]
[{"$f":"IFERROR(IFERROR(MATCH(Table1[[#This Row],[NAICS Code]],EIOLCA!$E$24:$E$649,0),MATCH(Table1[[#This Row],[NAICS Code]]/10,EIOLCA!$E$24:$E$649,0)),MATCH(Table1[[#This Row],[NAICS Code]]/100,EIOLCA!$E$24:$E$649,0))","v":554},335110,"Electric lamp bulb and part manufacturing",168]
[{"$f":"IFERROR(IFERROR(MATCH(Table1[[#This Row],[NAICS Code]],EIOLCA!$E$24:$E$649,0),MATCH(Table1[[#This Row],[NAICS Code]]/10,EIOLCA!$E$24:$E$649,0)),MATCH(Table1[[#This Row],[NAICS Code]]/100,EIOLCA!$E$24:$E$649,0))","v":232},335120,"Lighting fixture manufacturing",78.7]
[{"$f":"IFERROR(IFERROR(MATCH(Table1[[#This Row],[NAICS Code]],EIOLCA!$E$24:$E$649,0),MATCH(Table1[[#This Row],[NAICS Code]]/10,EIOLCA!$E$24:$E$649,0)),MATCH(Table1[[#This Row],[NAICS Code]]/100,EIOLCA!$E$24:$E$649,0))","v":558},335210,"Small electrical appliance manufacturing",116]
[{"$f":"IFERROR(IFERROR(MATCH(Table1[[#This Row],[NAICS Code]],EIOLCA!$E$24:$E$649,0),MATCH(Table1[[#This Row],[NAICS Code]]/10,EIOLCA!$E$24:$E$649,0)),MATCH(Table1[[#This Row],[NAICS Code]]/100,EIOLCA!$E$24:$E$649,0))","v":{"$error":"#N/A"}},335221,"Household cooking appliance manufacturing",53.4]
[{"$f":"IFERROR(IFERROR(MATCH(Table1[[#This Row],[NAICS Code]],EIOLCA!$E$24:$E$649,0),MATCH(Table1[[#This Row],[NAICS Code]]/10,EIOLCA!$E$24:$E$649,0)),MATCH(Table1[[#This Row],[NAICS Code]]/100,EIOLCA!$E$24:$E$649,0))","v":{"$error":"#N/A"}},335222,"Household refrigerator and home freezer manufacturing",43.1]
[{"$f":"IFERROR(IFERROR(MATCH(Table1[[#This Row],[NAICS Code]],EIOLCA!$E$24:$E$649,0),MATCH(Table1[[#This Row],[NAICS Code]]/10,EIOLCA!$E$24:$E$649,0)),MATCH(Table1[[#This Row],[NAICS Code]]/100,EIOLCA!$E$24:$E$649,0))","v":{"$error":"#N/A"}},335224,"Household laundry equipment manufacturing",20.6]
[{"$f":"IFERROR(IFERROR(MATCH(Table1[[#This Row],[NAICS Code]],EIOLCA!$E$24:$E$649,0),MATCH(Table1[[#This Row],[NAICS Code]]/10,EIOLCA!$E$24:$E$649,0)),MATCH(Table1[[#This Row],[NAICS Code]]/100,EIOLCA!$E$24:$E$649,0))","v":{"$error":"#N/A"}},335228,"Other major household appliance manufacturing",83.4]
[{"$f":"IFERROR(IFERROR(MATCH(Table1[[#This Row],[NAICS Code]],EIOLCA!$E$24:$E$649,0),MATCH(Table1[[#This Row],[NAICS Code]]/10,EIOLCA!$E$24:$E$649,0)),MATCH(Table1[[#This Row],[NAICS Code]]/100,EIOLCA!$E$24:$E$649,0))","v":560},335311,"Electric power and specialty transformer manufacturing",53.2]
[{"$f":"IFERROR(IFERROR(MATCH(Table1[[#This Row],[NAICS Code]],EIOLCA!$E$24:$E$649,0),MATCH(Table1[[#This Row],[NAICS Code]]/10,EIOLCA!$E$24:$E$649,0)),MATCH(Table1[[#This Row],[NAICS Code]]/100,EIOLCA!$E$24:$E$649,0))","v":561},335312,"Motor and generator manufacturing",59.9]
[{"$f":"IFERROR(IFERROR(MATCH(Table1[[#This Row],[NAICS Code]],EIOLCA!$E$24:$E$649,0),MATCH(Table1[[#This Row],[NAICS Code]]/10,EIOLCA!$E$24:$E$649,0)),MATCH(Table1[[#This Row],[NAICS Code]]/100,EIOLCA!$E$24:$E$649,0))","v":562},335313,"Switchgear and switchboard apparatus manufacturing",57.5]
[{"$f":"IFERROR(IFERROR(MATCH(Table1[[#This Row],[NAICS Code]],EIOLCA!$E$24:$E$649,0),MATCH(Table1[[#This Row],[NAICS Code]]/10,EIOLCA!$E$24:$E$649,0)),MATCH(Table1[[#This Row],[NAICS Code]]/100,EIOLCA!$E$24:$E$649,0))","v":563},335314,"Relay and industrial control manufacturing",35.6]
[{"$f":"IFERROR(IFERROR(MATCH(Table1[[#This Row],[NAICS Code]],EIOLCA!$E$24:$E$649,0),MATCH(Table1[[#This Row],[NAICS Code]]/10,EIOLCA!$E$24:$E$649,0)),MATCH(Table1[[#This Row],[NAICS Code]]/100,EIOLCA!$E$24:$E$649,0))","v":564},335911,"Storage battery manufacturing",140]
[{"$f":"IFERROR(IFERROR(MATCH(Table1[[#This Row],[NAICS Code]],EIOLCA!$E$24:$E$649,0),MATCH(Table1[[#This Row],[NAICS Code]]/10,EIOLCA!$E$24:$E$649,0)),MATCH(Table1[[#This Row],[NAICS Code]]/100,EIOLCA!$E$24:$E$649,0))","v":565},335912,"Primary battery manufacturing",99.8]
[{"$f":"IFERROR(IFERROR(MATCH(Table1[[#This Row],[NAICS Code]],EIOLCA!$E$24:$E$649,0),MATCH(Table1[[#This Row],[NAICS Code]]/10,EIOLCA!$E$24:$E$649,0)),MATCH(Table1[[#This Row],[NAICS Code]]/100,EIOLCA!$E$24:$E$649,0))","v":237},335920,"Communication and energy wire and cable manufacturing",81.599999999999994]
[{"$f":"IFERROR(IFERROR(MATCH(Table1[[#This Row],[NAICS Code]],EIOLCA!$E$24:$E$649,0),MATCH(Table1[[#This Row],[NAICS Code]]/10,EIOLCA!$E$24:$E$649,0)),MATCH(Table1[[#This Row],[NAICS Code]]/100,EIOLCA!$E$24:$E$649,0))","v":238},335930,"Wiring device manufacturing",95.4]
[{"$f":"IFERROR(IFERROR(MATCH(Table1[[#This Row],[NAICS Code]],EIOLCA!$E$24:$E$649,0),MATCH(Table1[[#This Row],[NAICS Code]]/10,EIOLCA!$E$24:$E$649,0)),MATCH(Table1[[#This Row],[NAICS Code]]/100,EIOLCA!$E$24:$E$649,0))","v":570},335991,"Carbon and graphite product manufacturing",140]
[{"$f":"IFERROR(IFERROR(MATCH(Table1[[#This Row],[NAICS Code]],EIOLCA!$E$24:$E$649,0),MATCH(Table1[[#This Row],[NAICS Code]]/10,EIOLCA!$E$24:$E$649,0)),MATCH(Table1[[#This Row],[NAICS Code]]/100,EIOLCA!$E$24:$E$649,0))","v":571},335999,"Miscellaneous electrical equipment manufacturing",58.1]
[{"$f":"IFERROR(IFERROR(MATCH(Table1[[#This Row],[NAICS Code]],EIOLCA!$E$24:$E$649,0),MATCH(Table1[[#This Row],[NAICS Code]]/10,EIOLCA!$E$24:$E$649,0)),MATCH(Table1[[#This Row],[NAICS Code]]/100,EIOLCA!$E$24:$E$649,0))","v":572},336111,"Automobile Manufacturing",20.9]
[{"$f":"IFERROR(IFERROR(MATCH(Table1[[#This Row],[NAICS Code]],EIOLCA!$E$24:$E$649,0),MATCH(Table1[[#This Row],[NAICS Code]]/10,EIOLCA!$E$24:$E$649,0)),MATCH(Table1[[#This Row],[NAICS Code]]/100,EIOLCA!$E$24:$E$649,0))","v":573},336112,"Light Truck and Utility Vehicle Manufacturing",19.2]
[{"$f":"IFERROR(IFERROR(MATCH(Table1[[#This Row],[NAICS Code]],EIOLCA!$E$24:$E$649,0),MATCH(Table1[[#This Row],[NAICS Code]]/10,EIOLCA!$E$24:$E$649,0)),MATCH(Table1[[#This Row],[NAICS Code]]/100,EIOLCA!$E$24:$E$649,0))","v":574},336120,"Heavy duty truck manufacturing",39.4]
[{"$f":"IFERROR(IFERROR(MATCH(Table1[[#This Row],[NAICS Code]],EIOLCA!$E$24:$E$649,0),MATCH(Table1[[#This Row],[NAICS Code]]/10,EIOLCA!$E$24:$E$649,0)),MATCH(Table1[[#This Row],[NAICS Code]]/100,EIOLCA!$E$24:$E$649,0))","v":575},336211,"Motor vehicle body manufacturing",93.1]
[{"$f":"IFERROR(IFERROR(MATCH(Table1[[#This Row],[NAICS Code]],EIOLCA!$E$24:$E$649,0),MATCH(Table1[[#This Row],[NAICS Code]]/10,EIOLCA!$E$24:$E$649,0)),MATCH(Table1[[#This Row],[NAICS Code]]/100,EIOLCA!$E$24:$E$649,0))","v":576},336212,"Truck trailer manufacturing",87.5]
[{"$f":"IFERROR(IFERROR(MATCH(Table1[[#This Row],[NAICS Code]],EIOLCA!$E$24:$E$649,0),MATCH(Table1[[#This Row],[NAICS Code]]/10,EIOLCA!$E$24:$E$649,0)),MATCH(Table1[[#This Row],[NAICS Code]]/100,EIOLCA!$E$24:$E$649,0))","v":577},336213,"Motor home manufacturing",3400]
[{"$f":"IFERROR(IFERROR(MATCH(Table1[[#This Row],[NAICS Code]],EIOLCA!$E$24:$E$649,0),MATCH(Table1[[#This Row],[NAICS Code]]/10,EIOLCA!$E$24:$E$649,0)),MATCH(Table1[[#This Row],[NAICS Code]]/100,EIOLCA!$E$24:$E$649,0))","v":578},336214,"Travel trailer and camper manufacturing",490]
[{"$f":"IFERROR(IFERROR(MATCH(Table1[[#This Row],[NAICS Code]],EIOLCA!$E$24:$E$649,0),MATCH(Table1[[#This Row],[NAICS Code]]/10,EIOLCA!$E$24:$E$649,0)),MATCH(Table1[[#This Row],[NAICS Code]]/100,EIOLCA!$E$24:$E$649,0))","v":77},336300,"Motor vehicle parts manufacturing",334]
[{"$f":"IFERROR(IFERROR(MATCH(Table1[[#This Row],[NAICS Code]],EIOLCA!$E$24:$E$649,0),MATCH(Table1[[#This Row],[NAICS Code]]/10,EIOLCA!$E$24:$E$649,0)),MATCH(Table1[[#This Row],[NAICS Code]]/100,EIOLCA!$E$24:$E$649,0))","v":587},336411,"Aircraft manufacturing",21.4]
[{"$f":"IFERROR(IFERROR(MATCH(Table1[[#This Row],[NAICS Code]],EIOLCA!$E$24:$E$649,0),MATCH(Table1[[#This Row],[NAICS Code]]/10,EIOLCA!$E$24:$E$649,0)),MATCH(Table1[[#This Row],[NAICS Code]]/100,EIOLCA!$E$24:$E$649,0))","v":588},336412,"Aircraft engine and engine parts manufacturing",141]
[{"$f":"IFERROR(IFERROR(MATCH(Table1[[#This Row],[NAICS Code]],EIOLCA!$E$24:$E$649,0),MATCH(Table1[[#This Row],[NAICS Code]]/10,EIOLCA!$E$24:$E$649,0)),MATCH(Table1[[#This Row],[NAICS Code]]/100,EIOLCA!$E$24:$E$649,0))","v":589},336413,"Other aircraft parts and equipment",109]
[{"$f":"IFERROR(IFERROR(MATCH(Table1[[#This Row],[NAICS Code]],EIOLCA!$E$24:$E$649,0),MATCH(Table1[[#This Row],[NAICS Code]]/10,EIOLCA!$E$24:$E$649,0)),MATCH(Table1[[#This Row],[NAICS Code]]/100,EIOLCA!$E$24:$E$649,0))","v":590},336414,"Guided missile and space vehicle manufacturing",4.75]
[{"$f":"IFERROR(IFERROR(MATCH(Table1[[#This Row],[NAICS Code]],EIOLCA!$E$24:$E$649,0),MATCH(Table1[[#This Row],[NAICS Code]]/10,EIOLCA!$E$24:$E$649,0)),MATCH(Table1[[#This Row],[NAICS Code]]/100,EIOLCA!$E$24:$E$649,0))","v":79},336500,"Railroad rolling stock manufacturing",61.7]
[{"$f":"IFERROR(IFERROR(MATCH(Table1[[#This Row],[NAICS Code]],EIOLCA!$E$24:$E$649,0),MATCH(Table1[[#This Row],[NAICS Code]]/10,EIOLCA!$E$24:$E$649,0)),MATCH(Table1[[#This Row],[NAICS Code]]/100,EIOLCA!$E$24:$E$649,0))","v":594},336611,"Ship building and repairing",164]
[{"$f":"IFERROR(IFERROR(MATCH(Table1[[#This Row],[NAICS Code]],EIOLCA!$E$24:$E$649,0),MATCH(Table1[[#This Row],[NAICS Code]]/10,EIOLCA!$E$24:$E$649,0)),MATCH(Table1[[#This Row],[NAICS Code]]/100,EIOLCA!$E$24:$E$649,0))","v":595},336612,"Boat building",130]
[{"$f":"IFERROR(IFERROR(MATCH(Table1[[#This Row],[NAICS Code]],EIOLCA!$E$24:$E$649,0),MATCH(Table1[[#This Row],[NAICS Code]]/10,EIOLCA!$E$24:$E$649,0)),MATCH(Table1[[#This Row],[NAICS Code]]/100,EIOLCA!$E$24:$E$649,0))","v":596},336991,"Motorcycle, bicycle, and parts manufacturing",80]
[{"$f":"IFERROR(IFERROR(MATCH(Table1[[#This Row],[NAICS Code]],EIOLCA!$E$24:$E$649,0),MATCH(Table1[[#This Row],[NAICS Code]]/10,EIOLCA!$E$24:$E$649,0)),MATCH(Table1[[#This Row],[NAICS Code]]/100,EIOLCA!$E$24:$E$649,0))","v":597},336992,"Military armored vehicles and tank parts manufacturing",54.1]
[{"$f":"IFERROR(IFERROR(MATCH(Table1[[#This Row],[NAICS Code]],EIOLCA!$E$24:$E$649,0),MATCH(Table1[[#This Row],[NAICS Code]]/10,EIOLCA!$E$24:$E$649,0)),MATCH(Table1[[#This Row],[NAICS Code]]/100,EIOLCA!$E$24:$E$649,0))","v":598},336999,"All other transportation equipment manufacturing",44.6]
[{"$f":"IFERROR(IFERROR(MATCH(Table1[[#This Row],[NAICS Code]],EIOLCA!$E$24:$E$649,0),MATCH(Table1[[#This Row],[NAICS Code]]/10,EIOLCA!$E$24:$E$649,0)),MATCH(Table1[[#This Row],[NAICS Code]]/100,EIOLCA!$E$24:$E$649,0))","v":599},337110,"Wood kitchen cabinet and countertop manufacturing",934]
[{"$f":"IFERROR(IFERROR(MATCH(Table1[[#This Row],[NAICS Code]],EIOLCA!$E$24:$E$649,0),MATCH(Table1[[#This Row],[NAICS Code]]/10,EIOLCA!$E$24:$E$649,0)),MATCH(Table1[[#This Row],[NAICS Code]]/100,EIOLCA!$E$24:$E$649,0))","v":600},337121,"Upholstered household furniture manufacturing",63.7]
[{"$f":"IFERROR(IFERROR(MATCH(Table1[[#This Row],[NAICS Code]],EIOLCA!$E$24:$E$649,0),MATCH(Table1[[#This Row],[NAICS Code]]/10,EIOLCA!$E$24:$E$649,0)),MATCH(Table1[[#This Row],[NAICS Code]]/100,EIOLCA!$E$24:$E$649,0))","v":601},337122,"Nonupholstered wood household furniture manufacturing",136]
[{"$f":"IFERROR(IFERROR(MATCH(Table1[[#This Row],[NAICS Code]],EIOLCA!$E$24:$E$649,0),MATCH(Table1[[#This Row],[NAICS Code]]/10,EIOLCA!$E$24:$E$649,0)),MATCH(Table1[[#This Row],[NAICS Code]]/100,EIOLCA!$E$24:$E$649,0))","v":604},337127,"Institutional furniture manufacturing",137]
[{"$f":"IFERROR(IFERROR(MATCH(Table1[[#This Row],[NAICS Code]],EIOLCA!$E$24:$E$649,0),MATCH(Table1[[#This Row],[NAICS Code]]/10,EIOLCA!$E$24:$E$649,0)),MATCH(Table1[[#This Row],[NAICS Code]]/100,EIOLCA!$E$24:$E$649,0))","v":606},337212,"Custom architectural woodwork and millwork",142]
[{"$f":"IFERROR(IFERROR(MATCH(Table1[[#This Row],[NAICS Code]],EIOLCA!$E$24:$E$649,0),MATCH(Table1[[#This Row],[NAICS Code]]/10,EIOLCA!$E$24:$E$649,0)),MATCH(Table1[[#This Row],[NAICS Code]]/100,EIOLCA!$E$24:$E$649,0))","v":608},337215,"Showcases, partitions, shelving, and lockers",178]
[{"$f":"IFERROR(IFERROR(MATCH(Table1[[#This Row],[NAICS Code]],EIOLCA!$E$24:$E$649,0),MATCH(Table1[[#This Row],[NAICS Code]]/10,EIOLCA!$E$24:$E$649,0)),MATCH(Table1[[#This Row],[NAICS Code]]/100,EIOLCA!$E$24:$E$649,0))","v":609},337910,"Mattress manufacturing",73.599999999999994]
[{"$f":"IFERROR(IFERROR(MATCH(Table1[[#This Row],[NAICS Code]],EIOLCA!$E$24:$E$649,0),MATCH(Table1[[#This Row],[NAICS Code]]/10,EIOLCA!$E$24:$E$649,0)),MATCH(Table1[[#This Row],[NAICS Code]]/100,EIOLCA!$E$24:$E$649,0))","v":610},337920,"Blind and shade manufacturing",89.9]
[{"$f":"IFERROR(IFERROR(MATCH(Table1[[#This Row],[NAICS Code]],EIOLCA!$E$24:$E$649,0),MATCH(Table1[[#This Row],[NAICS Code]]/10,EIOLCA!$E$24:$E$649,0)),MATCH(Table1[[#This Row],[NAICS Code]]/100,EIOLCA!$E$24:$E$649,0))","v":{"$error":"#N/A"}},339111,"Laboratory apparatus and furniture manufacturing",68.099999999999994]
[{"$f":"IFERROR(IFERROR(MATCH(Table1[[#This Row],[NAICS Code]],EIOLCA!$E$24:$E$649,0),MATCH(Table1[[#This Row],[NAICS Code]]/10,EIOLCA!$E$24:$E$649,0)),MATCH(Table1[[#This Row],[NAICS Code]]/100,EIOLCA!$E$24:$E$649,0))","v":611},339112,"Surgical and medical instrument manufacturing",64.900000000000006]
[{"$f":"IFERROR(IFERROR(MATCH(Table1[[#This Row],[NAICS Code]],EIOLCA!$E$24:$E$649,0),MATCH(Table1[[#This Row],[NAICS Code]]/10,EIOLCA!$E$24:$E$649,0)),MATCH(Table1[[#This Row],[NAICS Code]]/100,EIOLCA!$E$24:$E$649,0))","v":612},339113,"Surgical appliance and supplies manufacturing",10]
[{"$f":"IFERROR(IFERROR(MATCH(Table1[[#This Row],[NAICS Code]],EIOLCA!$E$24:$E$649,0),MATCH(Table1[[#This Row],[NAICS Code]]/10,EIOLCA!$E$24:$E$649,0)),MATCH(Table1[[#This Row],[NAICS Code]]/100,EIOLCA!$E$24:$E$649,0))","v":613},339114,"Dental equipment and supplies manufacturing",72.2]
[{"$f":"IFERROR(IFERROR(MATCH(Table1[[#This Row],[NAICS Code]],EIOLCA!$E$24:$E$649,0),MATCH(Table1[[#This Row],[NAICS Code]]/10,EIOLCA!$E$24:$E$649,0)),MATCH(Table1[[#This Row],[NAICS Code]]/100,EIOLCA!$E$24:$E$649,0))","v":614},339115,"Ophthalmic goods manufacturing",51]
[{"$f":"IFERROR(IFERROR(MATCH(Table1[[#This Row],[NAICS Code]],EIOLCA!$E$24:$E$649,0),MATCH(Table1[[#This Row],[NAICS Code]]/10,EIOLCA!$E$24:$E$649,0)),MATCH(Table1[[#This Row],[NAICS Code]]/100,EIOLCA!$E$24:$E$649,0))","v":615},339116,"Dental laboratories",47.3]
[{"$f":"IFERROR(IFERROR(MATCH(Table1[[#This Row],[NAICS Code]],EIOLCA!$E$24:$E$649,0),MATCH(Table1[[#This Row],[NAICS Code]]/10,EIOLCA!$E$24:$E$649,0)),MATCH(Table1[[#This Row],[NAICS Code]]/100,EIOLCA!$E$24:$E$649,0))","v":616},339910,"Jewelry and silverware manufacturing",0.13600000000000001]
[{"$f":"IFERROR(IFERROR(MATCH(Table1[[#This Row],[NAICS Code]],EIOLCA!$E$24:$E$649,0),MATCH(Table1[[#This Row],[NAICS Code]]/10,EIOLCA!$E$24:$E$649,0)),MATCH(Table1[[#This Row],[NAICS Code]]/100,EIOLCA!$E$24:$E$649,0))","v":617},339920,"Sporting and athletic goods manufacturing",71.7]
[{"$f":"IFERROR(IFERROR(MATCH(Table1[[#This Row],[NAICS Code]],EIOLCA!$E$24:$E$649,0),MATCH(Table1[[#This Row],[NAICS Code]]/10,EIOLCA!$E$24:$E$649,0)),MATCH(Table1[[#This Row],[NAICS Code]]/100,EIOLCA!$E$24:$E$649,0))","v":618},339930,"Doll, toy, and game manufacturing",89.6]
[{"$f":"IFERROR(IFERROR(MATCH(Table1[[#This Row],[NAICS Code]],EIOLCA!$E$24:$E$649,0),MATCH(Table1[[#This Row],[NAICS Code]]/10,EIOLCA!$E$24:$E$649,0)),MATCH(Table1[[#This Row],[NAICS Code]]/100,EIOLCA!$E$24:$E$649,0))","v":619},339940,"Office supplies (except paper) manufacturing",116]
[{"$f":"IFERROR(IFERROR(MATCH(Table1[[#This Row],[NAICS Code]],EIOLCA!$E$24:$E$649,0),MATCH(Table1[[#This Row],[NAICS Code]]/10,EIOLCA!$E$24:$E$649,0)),MATCH(Table1[[#This Row],[NAICS Code]]/100,EIOLCA!$E$24:$E$649,0))","v":620},339950,"Sign manufacturing",651]
[{"$f":"IFERROR(IFERROR(MATCH(Table1[[#This Row],[NAICS Code]],EIOLCA!$E$24:$E$649,0),MATCH(Table1[[#This Row],[NAICS Code]]/10,EIOLCA!$E$24:$E$649,0)),MATCH(Table1[[#This Row],[NAICS Code]]/100,EIOLCA!$E$24:$E$649,0))","v":621},339991,"Gasket, packing, and sealing device manufacturing",271]
[{"$f":"IFERROR(IFERROR(MATCH(Table1[[#This Row],[NAICS Code]],EIOLCA!$E$24:$E$649,0),MATCH(Table1[[#This Row],[NAICS Code]]/10,EIOLCA!$E$24:$E$649,0)),MATCH(Table1[[#This Row],[NAICS Code]]/100,EIOLCA!$E$24:$E$649,0))","v":622},339992,"Musical instrument manufacturing",89.2]
[{"$f":"IFERROR(IFERROR(MATCH(Table1[[#This Row],[NAICS Code]],EIOLCA!$E$24:$E$649,0),MATCH(Table1[[#This Row],[NAICS Code]]/10,EIOLCA!$E$24:$E$649,0)),MATCH(Table1[[#This Row],[NAICS Code]]/100,EIOLCA!$E$24:$E$649,0))","v":624},339994,"Broom, brush, and mop manufacturing",47.4]

{"sheet":"Lookup_NAICS Code","index":20,"n_rows":649,"n_cols":7,"rows_kept":649,"cut":false,"hidden":true,"merged":[[32,4,33,4],[34,4,36,4],[37,4,38,4],[39,4,41,4],[42,4,44,4],[45,4,47,4],[23,4,31,4],[80,4,86,4],[87,4,92,4],[93,4,96,4],[97,4,103,4],[104,4,106,4],[107,4,108,4],[48,4,49,4],[52,4,58,4],[59,4,60,4],[61,4,65,4],[66,4,70,4],[71,4,79,4],[130,3,134,3],[130,4,133,4],[135,3,141,3],[136,4,139,4],[140,4,141,4],[142,3,145,3],[142,4,143,4],[144,4,145,4],[109,3,129,3],[110,4,112,4],[113,4,115,4],[116,4,117,4],[118,4,119,4],[122,4,124,4],[125,4,129,4],[161,3,167,3],[161,4,163,4],[164,4,167,4],[168,3,169,3],[168,4,169,4],[170,3,172,3],[170,4,172,4],[146,3,152,3],[146,4,147,4],[148,4,151,4],[153,3,155,3],[156,3,160,3],[158,4,160,4],[190,3,199,3],[190,4,196,4],[197,4,199,4],[200,3,210,3],[200,4,201,4],[203,4,206,4],[207,4,208,4],[209,4,210,4],[173,3,189,3],[173,4,177,4],[178,4,179,4],[180,4,181,4],[183,4,184,4],[185,4,186,4],[187,4,189,4],[211,3,219,3],[212,4,213,4],[215,4,217,4],[218,4,219,4],[220,3,233,3],[222,4,223,4],[224,4,226,4],[229,4,230,4],[232,4,233,4],[262,3,276,3],[262,4,263,4],[265,4,272,4],[277,3,281,3],[277,4,278,4],[280,4,281,4],[234,3,244,3],[234,4,236,4],[242,4,244,4],[245,3,252,3],[246,4,248,4],[253,3,261,3],[253,4,254,4],[255,4,256,4],[258,4,261,4],[282,3,288,3],[283,4,288,4],[289,3,331,3],[289,4,290,4],[291,4,293,4],[294,4,296,4],[298,4,299,4],[301,4,302,4],[303,4,304,4],[305,4,307,4],[330,4,331,4],[332,3,338,3],[332,4,334,4],[339,3,345,3],[346,3,350,3],[349,4,350,4],[308,4,311,4],[313,4,316,4],[318,4,320,4],[321,4,322,4],[324,4,325,4],[328,4,329,4],[376,3,386,3],[377,4,378,4],[380,4,382,4],[385,4,386,4],[387,3,390,3],[387,4,389,4],[351,3,357,3],[358,3,361,3],[360,4,361,4],[362,3,375,3],[362,4,363,4],[364,4,368,4],[369,4,371,4],[373,4,375,4],[425,3,440,3],[425,4,427,4],[428,4,429,4],[434,4,435,4],[436,4,437,4],[439,4,440,4],[391,3,395,3],[392,4,393,4],[394,4,395,4],[396,3,424,3],[400,4,402,4],[403,4,404,4],[406,4,408,4],[410,4,413,4],[416,4,418,4],[422,4,424,4],[441,3,458,3],[443,4,446,4],[449,4,450,4],[455,4,458,4],[459,3,476,3],[461,4,462,4],[463,4,466,4],[469,4,470,4],[471,4,473,4],[474,4,476,4],[507,4,512,4],[513,3,551,3],[513,4,514,4],[516,4,517,4],[518,4,522,4],[523,4,525,4],[526,4,528,4],[529,4,533,4],[534,4,537,4],[538,4,539,4],[477,3,512,3],[477,4,481,4],[482,4,483,4],[484,4,486,4],[487,4,489,4],[492,4,493,4],[495,4,496,4],[498,4,499,4],[500,4,502,4],[503,4,506,4],[576,3,593,3],[577,4,579,4],[582,4,585,4],[586,4,587,4],[588,4,589,4],[590,4,591,4],[592,4,593,4],[540,4,543,4],[544,4,551,4],[552,3,575,3],[552,4,554,4],[559,4,564,4],[565,4,573,4],[574,4,575,4],[621,3,632,3],[622,4,626,4],[627,4,630,4],[633,3,648,3],[633,4,637,4],[643,4,648,4],[594,3,620,3],[594,4,595,4],[597,4,600,4],[609,4,614,4],[616,4,617,4],[618,4,620,4]]}
[]
["SIC Code",null,"NAICS Code",null,null,"Industry"]
[null,"3 digit",311,null,null,"Food Manufacturing",{"$f":"C3&\". \"&F3","v":"311. Food Manufacturing"}]
[null,"3 digit",312,null,null,"Beverage and Tobacco Product Manufacturing",{"$f":"C4&\". \"&F4","v":"312. Beverage and Tobacco Product Manufacturing"}]
[22,"3 digit",313,null,null,"Textile Mills","313. Textile Mills"]
[22,"3 digit",314,null,null,"Textile Product Mills","314. Textile Product Mills"]
[null,"3 digit",315,null,null,"Apparel Manufacturing","315. Apparel Manufacturing"]
[null,"3 digit",316,null,null,"Leather and Allied Product Manufacturing","316. Leather and Allied Product Manufacturing"]
[null,"3 digit",321,null,null,"Wood Product Manufacturing","321. Wood Product Manufacturing"]
[null,"3 digit",322,null,null,"Paper Manufacturing","322. Paper Manufacturing"]
[null,"3 digit",323,null,null,"Printing and Related Support Activities","323. Printing and Related Support Activities"]
[291,"3 digit",324,null,null,"Petroleum and Coal Products Manufacturing","324. Petroleum and Coal Products Manufacturing"]
[null,"3 digit",325,null,null,"Chemical Manufacturing","325. Chemical Manufacturing"]
[null,"3 digit",326,null,null,"Plastics and Rubber Products Manufacturing","326. Plastics and Rubber Products Manufacturing"]
[null,"3 digit",327,null,null,"Nonmetallic Mineral Product Manufacturing","327. Nonmetallic Mineral Product Manufacturing"]
[null,"3 digit",331,null,null,"Primary Metal Manufacturing","331. Primary Metal Manufacturing"]
[34,"3 digit",332,null,null,"Fabricated Metal Product Manufacturing","332. Fabricated Metal Product Manufacturing"]
[null,"3 digit",333,null,null,"Machinery Manufacturing","333. Machinery Manufacturing"]
["357, 36, 38","3 digit",334,null,null,"Computer and Electronic Product Manufacturing","334. Computer and Electronic Product Manufacturing"]
[null,"3 digit",335,null,null,"Electrical Equipment, Appliance, and Component Manufacturing","335. Electrical Equipment, Appliance, and Component Manufacturing"]
[null,"3 digit",336,null,null,"Transportation Equipment Manufacturing","336. Transportation Equipment Manufacturing"]
[null,"3 digit",337,null,null,"Furniture and Related Product Manufacturing","337. Furniture and Related Product Manufacturing"]
[null,"3 digit",339,null,null,"Miscellaneous Manufacturing","339. Miscellaneous Manufacturing"]
[null,"4 digit",3111,null,{"$f":"LEFT(C24,3)","v":"311"},"Animal Food Manufacturing"]
[null,"4 digit",3112,null,null,"Grain and Oilseed Milling"]
[null,"4 digit",3113,null,null,"Sugar and Confectionery Product Manufacturing"]
[203,"4 digit",3114,null,null,"Fruit and Vegetable Preserving and Specialty Food Manufacturing"]
[202,"4 digit",3115,null,null,"Dairy Product Manufacturing"]
[201,"4 digit",3116,null,null,"Animal Slaughtering and Processing"]
[null,"4 digit",3117,null,null,"Seafood Product Preparation and Packaging"]
[null,"4 digit",3118,null,null,"Bakeries and Tortilla Manufacturing"]
[null,"4 digit",3119,null,null,"Other Food Manufacturing"]
[208,"4 digit",3121,null,{"$f":"LEFT(C33,3)","v":"312"},"Beverage Manufacturing"]
[null,"4 digit",3122,null,null,"Tobacco Manufacturing"]
[228,"4 digit",3131,null,{"$f":"LEFT(C35,3)","v":"313"},"Fiber, Yarn, and Thread Mills"]
[null,"4 digit",3132,null,null,"Fabric Mills"]
[226,"4 digit",3133,null,null,"Textile and Fabric Finishing and Fabric Coating Mills"]
[null,"4 digit",3141,null,{"$f":"LEFT(C38,3)","v":"314"},"Textile Furnishings Mills"]
[null,"4 digit",3149,null,null,"Other Textile Product Mills"]
[null,"4 digit",3151,null,{"$f":"LEFT(C40,3)","v":"315"},"Apparel Knitting Mills"]
[null,"4 digit",3152,null,null,"Cut and Sew Apparel Manufacturing"]
[null,"4 digit",3159,null,null,"Apparel Accessories and Other Apparel Manufacturing"]
[null,"4 digit",3161,null,{"$f":"LEFT(C43,3)","v":"316"},"Leather and Hide Tanning and Finishing"]
[null,"4 digit",3162,null,null,"Footwear Manufacturing"]
[null,"4 digit",3169,null,null,"Other Leather and Allied Product Manufacturing"]
[null,"4 digit",3211,null,{"$f":"LEFT(C46,3)","v":"321"},"Sawmills and Wood Preservation"]
[null,"4 digit",3212,null,null,"Veneer, Plywood, and Engineered Wood Product Manufacturing"]
[null,"4 digit",3219,null,null,"Other Wood Product Manufacturing"]
[26,"4 digit",3221,null,{"$f":"LEFT(C49,3)","v":"322"},"Pulp, Paper, and Paperboard Mills"]
[null,"4 digit",3222,null,null,"Converted Paper Product Manufacturing"]
[null,"4 digit",3231,null,{"$f":"LEFT(C51,3)","v":"323"},"Printing and Related Support Activities"]
[291,"4 digit",3241,null,{"$f":"LEFT(C52,3)","v":"324"},"Petroleum and Coal Products Manufacturing"]
[null,"4 digit",3251,null,{"$f":"LEFT(C53,3)","v":"325"},"Basic Chemical Manufacturing"]
[null,"4 digit",3252,null,null,"Resin, Synthetic Rubber, and Artificial Synthetic Fibers and Filaments Manufacturing"]
[null,"4 digit",3253,null,null,"Pesticide, Fertilizer, and Other Agricultural Chemical Manufacturing"]
[null,"4 digit",3254,null,null,"Pharmaceutical and Medicine Manufacturing"]
[null,"4 digit",3255,null,null,"Paint, Coating, and Adhesive Manufacturing"]
[null,"4 digit",3256,null,null,"Soap, Cleaning Compound, and Toilet Preparation Manufacturing"]
[null,"4 digit",3259,null,null,"Other Chemical Product and Preparation Manufacturing"]
[null,"4 digit",3261,null,{"$f":"LEFT(C60,3)","v":"326"},"Plastics Product Manufacturing"]
[null,"4 digit",3262,null,null,"Rubber Product Manufacturing"]
[null,"4 digit",3271,null,{"$f":"LEFT(C62,3)","v":"327"},"Clay Product and Refractory Manufacturing"]
[null,"4 digit",3272,null,null,"Glass and Glass Product Manufacturing"]
[327,"4 digit",3273,null,null,"Cement and Concrete Product Manufacturing"]
[null,"4 digit",3274,null,null,"Lime and Gypsum Product Manufacturing"]
[null,"4 digit",3279,null,null,"Other Nonmetallic Mineral Product Manufacturing"]
[null,"4 digit",3311,null,{"$f":"LEFT(C67,3)","v":"331"},"Iron and Steel Mills and Ferroalloy Manufacturing"]
[null,"4 digit",3312,null,null,"Steel Product Manufacturing from Purchased Steel"]
[null,"4 digit",3313,null,null,"Alumina and Aluminum Production and Processing"]
[null,"4 digit",3314,null,null,"Nonferrous Metal (except Aluminum) Production and Processing"]
[null,"4 digit",3315,null,null,"Foundries"]
[null,"4 digit",3321,null,{"$f":"LEFT(C72,3)","v":"332"},"Forging and Stamping"]
[null,"4 digit",3322,null,null,"Cutlery and Handtool Manufacturing"]
[null,"4 digit",3323,null,null,"Architectural and Structural Metals Manufacturing"]
[null,"4 digit",3324,null,null,"Boiler, Tank, and Shipping Container Manufacturing"]
[null,"4 digit",3325,null,null,"Hardware Manufacturing"]
[null,"4 digit",3326,null,null,"Spring and Wire Product Manufacturing"]
[null,"4 digit",3327,null,null,"Machine Shops; Turned Product; and Screw, Nut, and Bolt Manufacturing"]
[null,"4 digit",3328,null,null,"Coating, Engraving, Heat Treating, and Allied Activities"]
[null,"4 digit",3329,null,null,"Other Fabricated Metal Product Manufacturing"]
[null,"4 digit",3331,null,{"$f":"LEFT(C81,3)","v":"333"},"Agriculture, Construction, and Mining Machinery Manufacturing"]
[null,"4 digit",3332,null,null,"Industrial Machinery Manufacturing"]
[null,"4 digit",3333,null,null,"Commercial and Service Industry Machinery Manufacturing"]
[null,"4 digit",3334,null,null,"Ventilation, Heating, Air-Conditioning, and Commercial Refrigeration Equipment Manufacturing"]
[null,"4 digit",3335,null,null,"Metalworking Machinery Manufacturing"]
[null,"4 digit",3336,null,null,"Engine, Turbine, and Power Transmission Equipment Manufacturing"]
[null,"4 digit",3339,null,null,"Other General Purpose Machinery Manufacturing"]
[357,"4 digit",3341,null,{"$f":"LEFT(C88,3)","v":"334"},"Computer and Peripheral Equipment Manufacturing"]
[null,"4 digit",3342,null,null,"Communications Equipment Manufacturing"]
[null,"4 digit",3343,null,null,"Audio and Video Equipment Manufacturing"]
["3674, 3672, 3679","4 digit",3344,null,null,"Semiconductor and Other Electronic Component Manufacturing"]
[38,"4 digit",3345,null,null,"Navigational, Measuring, Electromedical, and Control Instruments Manufacturing"]
[null,"4 digit",3346,null,null,"Manufacturing and Reproducing Magnetic and Optical Media"]
[null,"4 digit",3351,null,{"$f":"LEFT(C94,3)","v":"335"},"Electric Lighting Equipment Manufacturing"]
[null,"4 digit",3352,null,null,"Household Appliance Manufacturing"]
[null,"4 digit",3353,null,null,"Electrical Equipment Manufacturing"]
[null,"4 digit",3359,null,null,"Other Electrical Equipment and Component Manufacturing"]
[null,"4 digit",3361,null,{"$f":"LEFT(C98,3)","v":"336"},"Motor Vehicle Manufacturing"]
[null,"4 digit",3362,null,null,"Motor Vehicle Body and Trailer Manufacturing"]
[null,"4 digit",3363,null,null,"Motor Vehicle Parts Manufacturing"]
[null,"4 digit",3364,null,null,"Aerospace Product and Parts Manufacturing"]
[null,"4 digit",3365,null,null,"Railroad Rolling Stock Manufacturing"]
[null,"4 digit",3366,null,null,"Ship and Boat Building"]
[null,"4 digit",3369,null,null,"Other Transportation Equipment Manufacturing"]
[null,"4 digit",3371,null,{"$f":"LEFT(C105,3)","v":"337"},"Household and Institutional Furniture and Kitchen Cabinet Manufacturing"]
[null,"4 digit",3372,null,null,"Office Furniture (including Fixtures) Manufacturing"]
[null,"4 digit",3379,null,null,"Other Furniture Related Product Manufacturing"]
[null,"4 digit",3391,null,{"$f":"LEFT(C108,3)","v":"339"},"Medical Equipment and Supplies Manufacturing"]
[null,"4 digit",3399,null,null,"Other Miscellaneous Manufacturing"]
[null,"5 digit",31111,{"$f":"LEFT(C110,3)","v":"311"},{"$f":"LEFT(C110,4)","v":"3111"},"Animal Food Manufacturing",{"$f":"C110&\". \"&F110","v":"31111. Animal Food Manufacturing"}]
[null,"5 digit",31121,null,{"$f":"LEFT(C111,4)","v":"3112"},"Flour Milling and Malt Manufacturing","31121. Flour Milling and Malt Manufacturing"]
[null,"5 digit",31122,null,null,"Starch and Vegetable Fats and Oils Manufacturing","31122. Starch and Vegetable Fats and Oils Manufacturing"]
[null,"5 digit",31123,null,null,"Breakfast Cereal Manufacturing","31123. Breakfast Cereal Manufacturing"]
[null,"5 digit",31131,null,{"$f":"LEFT(C114,4)","v":"3113"},"Sugar Manufacturing","31131. Sugar Manufacturing"]
[null,"5 digit",31134,null,null,"Nonchocolate Confectionery Manufacturing","31134. Nonchocolate Confectionery Manufacturing"]
[null,"5 digit",31135,null,null,"Chocolate and Confectionery Manufacturing","31135. Chocolate and Confectionery Manufacturing"]
["(203)","5 digit",31141,null,{"$f":"LEFT(C117,4)","v":"3114"},"Frozen Food Manufacturing","31141. Frozen Food Manufacturing"]
["(203)","5 digit",31142,null,null,"Fruit and Vegetable Canning, Pickling, and Drying","31142. Fruit and Vegetable Canning, Pickling, and Drying"]
["2021, 2022, 2023, 2026","5 digit",31151,null,{"$f":"LEFT(C119,4)","v":"3115"},"Dairy Product (except Frozen) Manufacturing","31151. Dairy Product (except Frozen) Manufacturing"]
[2024,"5 digit",31152,null,null,"Ice Cream and Frozen Dessert Manufacturing","31152. Ice Cream and Frozen Dessert Manufacturing"]
[201,"5 digit",31161,null,{"$f":"LEFT(C121,4)","v":"3116"},"Animal Slaughtering and Processing","31161. Animal Slaughtering and Processing"]
[null,"5 digit",31171,null,{"$f":"LEFT(C122,4)","v":"3117"},"Seafood Product Preparation and Packaging","31171. Seafood Product Preparation and Packaging"]
[null,"5 digit",31181,null,{"$f":"LEFT(C123,4)","v":"3118"},"Bread and Bakery Product Manufacturing","31181. Bread and Bakery Product Manufacturing"]
[null,"5 digit",31182,null,null,"Cookie, Cracker, and Pasta Manufacturing","31182. Cookie, Cracker, and Pasta Manufacturing"]
[null,"5 digit",31183,null,null,"Tortilla Manufacturing","31183. Tortilla Manufacturing"]
[null,"5 digit",31191,null,{"$f":"LEFT(C126,4)","v":"3119"},"Snack Food Manufacturing","31191. Snack Food Manufacturing"]
[null,"5 digit",31192,null,null,"Coffee and Tea Manufacturing","31192. Coffee and Tea Manufacturing"]
[null,"5 digit",31193,null,null,"Flavoring Syrup and Concentrate Manufacturing","31193. Flavoring Syrup and Concentrate Manufacturing"]
[null,"5 digit",31194,null,null,"Seasoning and Dressing Manufacturing","31194. Seasoning and Dressing Manufacturing"]
[null,"5 digit",31199,null,null,"All Other Food Manufacturing","31199. All Other Food Manufacturing"]
[2086,"5 digit",31211,{"$f":"LEFT(C131,3)","v":"312"},{"$f":"LEFT(C131,4)","v":"3121"},"Soft Drink and Ice Manufacturing","31211. Soft Drink and Ice Manufacturing"]
[2082,"5 digit",31212,null,null,"Breweries",{"$f":"C132&\". \"&F132","v":"31212. Breweries"}]
[2084,"5 digit",31213,null,null,"Wineries","31213. Wineries"]
[2085,"5 digit",31214,null,null,"Distilleries","31214. Distilleries"]
[null,"5 digit",31223,null,{"$f":"LEFT(C135,4)","v":"3122"},"Tobacco Manufacturing","31223. Tobacco Manufacturing"]
[228,"5 digit",31311,{"$f":"LEFT(C136,3)","v":"313"},{"$f":"LEFT(C136,4)","v":"3131"},"Fiber, Yarn, and Thread Mills","31311. Fiber, Yarn, and Thread Mills"]
[null,"5 digit",31321,null,{"$f":"LEFT(C137,4)","v":"3132"},"Broadwoven Fabric Mills","31321. Broadwoven Fabric Mills"]
["221, 224","5 digit",31322,null,null,"Narrow Fabric Mills and Schiffli Machine Embroidery","31322. Narrow Fabric Mills and Schiffli Machine Embroidery"]
[null,"5 digit",31323,null,null,"Nonwoven Fabric Mills","31323. Nonwoven Fabric Mills"]
["221, 224","5 digit",31324,null,null,"Knit Fabric Mills","31324. Knit Fabric Mills"]
[226,"5 digit",31331,null,{"$f":"LEFT(C141,4)","v":"3133"},"Textile and Fabric Finishing Mills","31331. Textile and Fabric Finishing Mills"]
[null,"5 digit",31332,null,null,"Fabric Coating Mills","31332. Fabric Coating Mills"]
[227,"5 digit",31411,{"$f":"LEFT(C143,3)","v":"314"},{"$f":"LEFT(C143,4)","v":"3141"},"Carpet and Rug Mills","31411. Carpet and Rug Mills"]
[null,"5 digit",31412,null,null,"Curtain and Linen Mills","31412. Curtain and Linen Mills"]
[null,"5 digit",31491,null,{"$f":"LEFT(C145,4)","v":"3149"},"Textile Bag and Canvas Mills","31491. Textile Bag and Canvas Mills"]
[null,"5 digit",31499,null,null,"All Other Textile Product Mills","31499. All Other Textile Product Mills"]
[null,"5 digit",31511,{"$f":"LEFT(C147,3)","v":"315"},{"$f":"LEFT(C147,4)","v":"3151"},"Hosiery and Sock Mills","31511. Hosiery and Sock Mills"]
[null,"5 digit",31519,null,null,"Other Apparel Knitting Mills","31519. Other Apparel Knitting Mills"]
[null,"5 digit",31521,null,{"$f":"LEFT(C149,4)","v":"3152"},"Cut and Sew Apparel Contractors ","31521. Cut and Sew Apparel Contractors "]
[null,"5 digit",31522,null,null,"Men’s and Boys’ Cut and Sew Apparel Manufacturing ","31522. Men’s and Boys’ Cut and Sew Apparel Manufacturing "]
[null,"5 digit",31524,null,null,"Women’s, Girls’, and Infants’ Cut and Sew Apparel Manufacturing","31524. Women’s, Girls’, and Infants’ Cut and Sew Apparel Manufacturing"]
[null,"5 digit",31528,null,null,"Other Cut and Sew Apparel Manufacturing ","31528. Other Cut and Sew Apparel Manufacturing "]
[null,"5 digit",31599,null,{"$f":"LEFT(C153,4)","v":"3159"},"Apparel Accessories and Other Apparel Manufacturing","31599. Apparel Accessories and Other Apparel Manufacturing"]
[null,"5 digit",31611,{"$f":"LEFT(C154,3)","v":"316"},"3161","Leather and Hide Tanning and Finishing","31611. Leather and Hide Tanning and Finishing"]
[null,"5 digit",31621,null,"3162","Footwear Manufacturing","31621. Footwear Manufacturing"]
[null,"5 digit",31699,null,"3169","Other Leather and Allied Product Manufacturing","31699. Other Leather and Allied Product Manufacturing"]
[null,"5 digit",32111,{"$f":"LEFT(C157,3)","v":"321"},"3211","Sawmills and Wood Preservation","32111. Sawmills and Wood Preservation"]
[null,"5 digit",32121,null,"3212","Veneer, Plywood, and Engineered Wood Product Manufacturing","32121. Veneer, Plywood, and Engineered Wood Product Manufacturing"]
[null,"5 digit",32191,null,"3219","Millwork","32191. Millwork"]
[null,"5 digit",32192,null,null,"Wood Container and Pallet Manufacturing","32192. Wood Container and Pallet Manufacturing"]
[null,"5 digit",32199,null,null,"All Other Wood Product Manufacturing","32199. All Other Wood Product Manufacturing"]
[261,"5 digit",32211,{"$f":"LEFT(C162,3)","v":"322"},{"$f":"LEFT(C162,4)","v":"3221"},"Pulp Mills","32211. Pulp Mills"]
[262,"5 digit",32212,null,null,"Paper Mills","32212. Paper Mills"]
[263,"5 digit",32213,null,null,"Paperboard Mills","32213. Paperboard Mills"]
[null,"5 digit",32221,null,{"$f":"LEFT(C165,4)","v":"3222"},"Paperboard Container Manufacturing","32221. Paperboard Container Manufacturing"]
[null,"5 digit",32222,null,null,"Paper Bag and Coated and Treated Paper Manufacturing","32222. Paper Bag and Coated and Treated Paper Manufacturing"]
[null,"5 digit",32223,null,null,"Stationery Product Manufacturing","32223. Stationery Product Manufacturing"]
[null,"5 digit",32229,null,null,"Other Converted Paper Product Manufacturing","32229. Other Converted Paper Product Manufacturing"]
[null,"5 digit",32311,{"$f":"LEFT(C169,3)","v":"323"},{"$f":"LEFT(C169,4)","v":"3231"},"Printing","32311. Printing"]
[null,"5 digit",32312,null,null,"Support Activities for Printing","32312. Support Activities for Printing"]
[291,"5 digit",32411,{"$f":"LEFT(C171,3)","v":"324"},{"$f":"LEFT(C171,4)","v":"3241"},"Petroleum Refineries","32411. Petroleum Refineries"]
[null,"5 digit",32412,null,null,"Asphalt Paving, Roofing, and Saturated Materials Manufacturing","32412. Asphalt Paving, Roofing, and Saturated Materials Manufacturing"]
[null,"5 digit",32419,null,null,"Other Petroleum and Coal Products Manufacturing","32419. Other Petroleum and Coal Products Manufacturing"]
[null,"5 digit",32511,{"$f":"LEFT(C174,3)","v":"325"},{"$f":"LEFT(C174,4)","v":"3251"},"Petrochemical Manufacturing","32511. Petrochemical Manufacturing"]
[null,"5 digit",32512,null,null,"Industrial Gas Manufacturing","32512. Industrial Gas Manufacturing"]
[null,"5 digit",32513,null,null,"Synthetic Dye and Pigment Manufacturing","32513. Synthetic Dye and Pigment Manufacturing"]
[null,"5 digit",32518,null,null,"Other Basic Inorganic Chemical Manufacturing","32518. Other Basic Inorganic Chemical Manufacturing"]
[null,"5 digit",32519,null,null,"Other Basic Organic Chemical Manufacturing","32519. Other Basic Organic Chemical Manufacturing"]
[null,"5 digit",32521,null,{"$f":"LEFT(C179,4)","v":"3252"},"Resin and Synthetic Rubber Manufacturing","32521. Resin and Synthetic Rubber Manufacturing"]
[null,"5 digit",32522,null,null,"Artificial and Synthetic Fibers and Filaments Manufacturing","32522. Artificial and Synthetic Fibers and Filaments Manufacturing"]
[null,"5 digit",32531,null,"3253","Fertilizer Manufacturing","32531. Fertilizer Manufacturing"]
[null,"5 digit",32532,null,null,"Pesticide and Other Agricultural Chemical Manufacturing","32532. Pesticide and Other Agricultural Chemical Manufacturing"]
[null,"5 digit",32541,null,"3254","Pharmaceutical and Medicine Manufacturing","32541. Pharmaceutical and Medicine Manufacturing"]
[null,"5 digit",32551,null,"3255","Paint and Coating Manufacturing","32551. Paint and Coating Manufacturing"]
[null,"5 digit",32552,null,null,"Adhesive Manufacturing","32552. Adhesive Manufacturing"]
[null,"5 digit",32561,null,"3256","Soap and Cleaning Compound Manufacturing","32561. Soap and Cleaning Compound Manufacturing"]
[null,"5 digit",32562,null,null,"Toilet Preparation Manufacturing","32562. Toilet Preparation Manufacturing"]
[null,"5 digit",32591,null,"3259","Printing Ink Manufacturing","32591. Printing Ink Manufacturing"]
[null,"5 digit",32592,null,null,"Explosives Manufacturing","32592. Explosives Manufacturing"]
[null,"5 digit",32599,null,null,"All Other Chemical Product and Preparation Manufacturing","32599. All Other Chemical Product and Preparation Manufacturing"]
[null,"5 digit",32611,{"$f":"LEFT(C191,3)","v":"326"},"3261","Plastics Packaging Materials and Unlaminated Film and Sheet Manufacturing","32611. Plastics Packaging Materials and Unlaminated Film and Sheet Manufacturing"]
[null,"5 digit",32612,null,null,"Plastics Pipe, Pipe Fitting, and Unlaminated Profile Shape Manufacturing","32612. Plastics Pipe, Pipe Fitting, and Unlaminated Profile Shape Manufacturing"]
[null,"5 digit",32613,null,null,"Laminated Plastics Plate, Sheet (except Packaging), and Shape Manufacturing","32613. Laminated Plastics Plate, Sheet (except Packaging), and Shape Manufacturing"]
[null,"5 digit",32614,null,null,"Polystyrene Foam Product Manufacturing","32614. Polystyrene Foam Product Manufacturing"]
[null,"5 digit",32615,null,null,"Urethane and Other Foam Product (except Polystyrene) Manufacturing","32615. Urethane and Other Foam Product (except Polystyrene) Manufacturing"]
[null,"5 digit",32616,null,null,"Plastics Bottle Manufacturing",{"$f":"C196&\". \"&F196","v":"32616. Plastics Bottle Manufacturing"}]
[null,"5 digit",32619,null,null,"Other Plastics Product Manufacturing","32619. Other Plastics Product Manufacturing"]
[null,"5 digit",32621,null,"3262","Tire Manufacturing","32621. Tire Manufacturing"]
[null,"5 digit",32622,null,null,"Rubber and Plastics Hoses and Belting Manufacturing","32622. Rubber and Plastics Hoses and Belting Manufacturing"]
[null,"5 digit",32629,null,null,"Other Rubber Product Manufacturing","32629. Other Rubber Product Manufacturing"]
[null,"5 digit",32711,{"$f":"LEFT(C201,3)","v":"327"},"3271","Pottery, Ceramics, and Plumbing Fixture Manufacturing","32711. Pottery, Ceramics, and Plumbing Fixture Manufacturing"]
[null,"5 digit",32712,null,null,"Clay Building Material and Refractories Manufacturing","32712. Clay Building Material and Refractories Manufacturing"]
[null,"5 digit",32721,null,"3272","Glass and Glass Product Manufacturing","32721. Glass and Glass Product Manufacturing"]
[null,"5 digit",32731,null,"3273","Cement Manufacturing","32731. Cement Manufacturing"]
[null,"5 digit",32732,null,null,"Ready-Mix Concrete Manufacturing","32732. Ready-Mix Concrete Manufacturing"]
[null,"5 digit",32733,null,null,"Concrete Pipe, Brick, and Block Manufacturing","32733. Concrete Pipe, Brick, and Block Manufacturing"]
[null,"5 digit",32739,null,null,"Other Concrete Product Manufacturing","32739. Other Concrete Product Manufacturing"]
[null,"5 digit",32741,null,"3274","Lime Manufacturing","32741. Lime Manufacturing"]
[null,"5 digit",32742,null,null,"Gypsum Product Manufacturing","32742. Gypsum Product Manufacturing"]
[null,"5 digit",32791,null,"3279","Abrasive Product Manufacturing","32791. Abrasive Product Manufacturing"]
[null,"5 digit",32799,null,null,"All Other Nonmetallic Mineral Product Manufacturing","32799. All Other Nonmetallic Mineral Product Manufacturing"]
[null,"5 digit",33111,{"$f":"LEFT(C212,3)","v":"331"},"3311","Iron and Steel Mills and Ferroalloy Manufacturing","33111. Iron and Steel Mills and Ferroalloy Manufacturing"]
[null,"5 digit",33121,null,"3312","Iron and Steel Pipe and Tube Manufacturing from Purchased Steel","33121. Iron and Steel Pipe and Tube Manufacturing from Purchased Steel"]
[null,"5 digit",33122,null,null,"Rolling and Drawing of Purchased Steel","33122. Rolling and Drawing of Purchased Steel"]
[null,"5 digit",33131,null,"3313","Alumina and Aluminum Production and Processing","33131. Alumina and Aluminum Production and Processing"]
[null,"5 digit",33141,null,"3314","Nonferrous Metal (except Aluminum) Smelting and Refining","33141. Nonferrous Metal (except Aluminum) Smelting and Refining"]
[null,"5 digit",33142,null,null,"Copper Rolling, Drawing, Extruding, and Alloying","33142. Copper Rolling, Drawing, Extruding, and Alloying"]
[null,"5 digit",33149,null,null,"Nonferrous Metal (except Copper and Aluminum) Rolling, Drawing, Extruding, and Alloying","33149. Nonferrous Metal (except Copper and Aluminum) Rolling, Drawing, Extruding, and Alloying"]
[null,"5 digit",33151,null,"3315","Ferrous Metal Foundries","33151. Ferrous Metal Foundries"]
[null,"5 digit",33152,null,null,"Nonferrous Metal Foundries","33152. Nonferrous Metal Foundries"]
[null,"5 digit",33211,{"$f":"LEFT(C221,3)","v":"332"},"3321","Forging and Stamping","33211. Forging and Stamping"]
[null,"5 digit",33221,null,"3322","Cutlery and Handtool Manufacturing","33221. Cutlery and Handtool Manufacturing"]
[null,"5 digit",33231,null,"3323","Plate Work and Fabricated Structural Product Manufacturing","33231. Plate Work and Fabricated Structural Product Manufacturing"]
[null,"5 digit",33232,null,null,"Ornamental and Architectural Metal Products Manufacturing","33232. Ornamental and Architectural Metal Products Manufacturing"]
[null,"5 digit",33241,null,"3324","Power Boiler and Heat Exchanger Manufacturing","33241. Power Boiler and Heat Exchanger Manufacturing"]
[null,"5 digit",33242,null,null,"Metal Tank (Heavy Gauge) Manufacturing","33242. Metal Tank (Heavy Gauge) Manufacturing"]
[null,"5 digit",33243,null,null,"Metal Can, Box, and Other Metal Container (Light Gauge) Manufacturing","33243. Metal Can, Box, and Other Metal Container (Light Gauge) Manufacturing"]
[null,"5 digit",33251,null,"3325","Hardware Manufacturing","33251. Hardware Manufacturing"]
[null,"5 digit",33261,null,"3326","Spring and Wire Product Manufacturing","33261. Spring and Wire Product Manufacturing"]
[null,"5 digit",33271,null,"3327","Machine Shops","33271. Machine Shops"]
[null,"5 digit",33272,null,null,"Turned Product and Screw, Nut, and Bolt Manufacturing","33272. Turned Product and Screw, Nut, and Bolt Manufacturing"]
[null,"5 digit",33281,null,"3328","Coating, Engraving, Heat Treating, and Allied Activities","33281. Coating, Engraving, Heat Treating, and Allied Activities"]
[null,"5 digit",33291,null,"3329","Metal Valve Manufacturing","33291. Metal Valve Manufacturing"]
[null,"5 digit",33299,null,null,"All Other Fabricated Metal Product Manufacturing","33299. All Other Fabricated Metal Product Manufacturing"]
[null,"5 digit",33311,{"$f":"LEFT(C235,3)","v":"333"},"3331","Agricultural Implement Manufacturing","33311. Agricultural Implement Manufacturing"]
[null,"5 digit",33312,null,null,"Construction Machinery Manufacturing","33312. Construction Machinery Manufacturing"]
[null,"5 digit",33313,null,null,"Mining and Oil and Gas Field Machinery Manufacturing","33313. Mining and Oil and Gas Field Machinery Manufacturing"]
[null,"5 digit",33324,null,"3332","Industrial Machinery Manufacturing","33324. Industrial Machinery Manufacturing"]
[null,"5 digit",33331,null,"3333","Commercial and Service Industry Machinery Manufacturing","33331. Commercial and Service Industry Machinery Manufacturing"]
[null,"5 digit",33341,null,"3334","Ventilation, Heating, Air-Conditioning, and Commercial Refrigeration Equipment Manufacturing","33341. Ventilation, Heating, Air-Conditioning, and Commercial Refrigeration Equipment Manufacturing"]
[null,"5 digit",33351,null,"3335","Metalworking Machinery Manufacturing","33351. Metalworking Machinery Manufacturing"]
[null,"5 digit",33361,null,"3336","Engine, Turbine, and Power Transmission Equipment Manufacturing","33361. Engine, Turbine, and Power Transmission Equipment Manufacturing"]
[null,"5 digit",33391,null,{"$f":"LEFT(C243,4)","v":"3339"},"Pump and Compressor Manufacturing","33391. Pump and Compressor Manufacturing"]
[null,"5 digit",33392,null,null,"Material Handling Equipment Manufacturing","33392. Material Handling Equipment Manufacturing"]
[null,"5 digit",33399,null,null,"All Other General Purpose Machinery Manufacturing","33399. All Other General Purpose Machinery Manufacturing"]
[357,"5 digit",33411,{"$f":"LEFT(C246,3)","v":"334"},"3341","Computer and Peripheral Equipment Manufacturing","33411. Computer and Peripheral Equipment Manufacturing"]
[null,"5 digit",33421,null,"3342","Telephone Apparatus Manufacturing","33421. Telephone Apparatus Manufacturing"]
[null,"5 digit",33422,null,null,"Radio and Television Broadcasting and Wireless Communications Equipment Manufacturing","33422. Radio and Television Broadcasting and Wireless Communications Equipment Manufacturing"]
[null,"5 digit",33429,null,null,"Other Communications Equipment Manufacturing","33429. Other Communications Equipment Manufacturing"]
[null,"5 digit",33431,null,"3343","Audio and Video Equipment Manufacturing","33431. Audio and Video Equipment Manufacturing"]
["3674, 3672, 3679","5 digit",33441,null,"3344","Semiconductor and Other Electronic Component Manufacturing","33441. Semiconductor and Other Electronic Component Manufacturing"]
[38,"5 digit",33451,null,"3345","Navigational, Measuring, Electromedical, and Control Instruments Manufacturing","33451. Navigational, Measuring, Electromedical, and Control Instruments Manufacturing"]
[null,"5 digit",33461,null,"3346","Manufacturing and Reproducing Magnetic and Optical Media","33461. Manufacturing and Reproducing Magnetic and Optical Media"]
[null,"5 digit",33511,{"$f":"LEFT(C254,3)","v":"335"},"3351","Electric Lamp Bulb and Part Manufacturing","33511. Electric Lamp Bulb and Part Manufacturing"]
[null,"5 digit",33512,null,null,"Lighting Fixture Manufacturing","33512. Lighting Fixture Manufacturing"]
[null,"5 digit",33521,null,"3352","Small Electrical Appliance Manufacturing","33521. Small Electrical Appliance Manufacturing"]
[null,"5 digit",33522,null,null,"Major Appliance Manufacturing","33522. Major Appliance Manufacturing"]
[null,"5 digit",33531,null,"3353","Electrical Equipment Manufacturing","33531. Electrical Equipment Manufacturing"]
[null,"5 digit",33591,null,"3359","Battery Manufacturing","33591. Battery Manufacturing"]
[null,"5 digit",33592,null,null,"Communication and Energy Wire and Cable Manufacturing",{"$f":"C260&\". \"&F260","v":"33592. Communication and Energy Wire and Cable Manufacturing"}]
[null,"5 digit",33593,null,null,"Wiring Device Manufacturing","33593. Wiring Device Manufacturing"]
[null,"5 digit",33599,null,null,"All Other Electrical Equipment and Component Manufacturing","33599. All Other Electrical Equipment and Component Manufacturing"]
[null,"5 digit",33611,{"$f":"LEFT(C263,3)","v":"336"},"3361","Automobile and Light Duty Motor Vehicle Manufacturing","33611. Automobile and Light Duty Motor Vehicle Manufacturing"]
[null,"5 digit",33612,null,null,"Heavy Duty Truck Manufacturing","33612. Heavy Duty Truck Manufacturing"]
[null,"5 digit",33621,null,"3362","Motor Vehicle Body and Trailer Manufacturing","33621. Motor Vehicle Body and Trailer Manufacturing"]
[null,"5 digit",33631,null,"3363","Motor Vehicle Gasoline Engine and Engine Parts Manufacturing","33631. Motor Vehicle Gasoline Engine and Engine Parts Manufacturing"]
[null,"5 digit",33632,null,null,"Motor Vehicle Electrical and Electronic Equipment Manufacturing","33632. Motor Vehicle Electrical and Electronic Equipment Manufacturing"]
[null,"5 digit",33633,null,null,"Motor Vehicle Steering and Suspension Components (except Spring) Manufacturing","33633. Motor Vehicle Steering and Suspension Components (except Spring) Manufacturing"]
[null,"5 digit",33634,null,null,"Motor Vehicle Brake System Manufacturing","33634. Motor Vehicle Brake System Manufacturing"]
[null,"5 digit",33635,null,null,"Motor Vehicle Transmission and Power Train Parts Manufacturing","33635. Motor Vehicle Transmission and Power Train Parts Manufacturing"]
[null,"5 digit",33636,null,null,"Motor Vehicle Seating and Interior Trim Manufacturing","33636. Motor Vehicle Seating and Interior Trim Manufacturing"]
[null,"5 digit",33637,null,null,"Motor Vehicle Metal Stamping","33637. Motor Vehicle Metal Stamping"]
[null,"5 digit",33639,null,null,"Other Motor Vehicle Parts Manufacturing","33639. Other Motor Vehicle Parts Manufacturing"]
[null,"5 digit",33641,null,"3364","Aerospace Product and Parts Manufacturing","33641. Aerospace Product and Parts Manufacturing"]
[null,"5 digit",33651,null,"3365","Railroad Rolling Stock Manufacturing","33651. Railroad Rolling Stock Manufacturing"]
[null,"5 digit",33661,null,"3366","Ship and Boat Building","33661. Ship and Boat Building"]
[null,"5 digit",33699,null,"3369","Other Transportation Equipment Manufacturing","33699. Other Transportation Equipment Manufacturing"]
[null,"5 digit",33711,{"$f":"LEFT(C278,3)","v":"337"},"3371","Wood Kitchen Cabinet and Countertop Manufacturing","33711. Wood Kitchen Cabinet and Countertop Manufacturing"]
[null,"5 digit",33712,null,null,"Household and Institutional Furniture Manufacturing","33712. Household and Institutional Furniture Manufacturing"]
[null,"5 digit",33721,null,"3372","Office Furniture (including Fixtures) Manufacturing","33721. Office Furniture (including Fixtures) Manufacturing"]
[null,"5 digit",33791,null,"3379","Mattress Manufacturing","33791. Mattress Manufacturing"]
[null,"5 digit",33792,null,null,"Blind and Shade Manufacturing","33792. Blind and Shade Manufacturing"]
[null,"5 digit",33911,{"$f":"LEFT(C283,3)","v":"339"},"3391","Medical Equipment and Supplies Manufacturing","33911. Medical Equipment and Supplies Manufacturing"]
[null,"5 digit",33991,null,"3399","Jewelry and Silverware Manufacturing","33991. Jewelry and Silverware Manufacturing"]
[null,"5 digit",33992,null,null,"Sporting and Athletic Goods Manufacturing","33992. Sporting and Athletic Goods Manufacturing"]
[null,"5 digit",33993,null,null,"Doll, Toy, and Game Manufacturing","33993. Doll, Toy, and Game Manufacturing"]
[null,"5 digit",33994,null,null,"Office Supplies (except Paper) Manufacturing","33994. Office Supplies (except Paper) Manufacturing"]
[null,"5 digit",33995,null,null,"Sign Manufacturing","33995. Sign Manufacturing"]
[null,"5 digit",33999,null,null,"All Other Miscellaneous Manufacturing","33999. All Other Miscellaneous Manufacturing"]
[null,"6 digit",311111,{"$f":"LEFT(C290,3)","v":"311"},{"$f":"LEFT(C290,5)","v":"31111"},"Dog and Cat Food Manufacturing ","311111. Dog and Cat Food Manufacturing "]
[null,"6 digit",311119,null,null,"Other Animal Food Manufacturing ","311119. Other Animal Food Manufacturing "]
[null,"6 digit",311211,null,{"$f":"LEFT(C292,5)","v":"31121"},"Flour Milling ","311211. Flour Milling "]
[null,"6 digit",311212,null,null,"Rice Milling ","311212. Rice Milling "]
[null,"6 digit",311213,null,null,"Malt Manufacturing ","311213. Malt Manufacturing "]
[null,"6 digit",311221,null,"31122","Wet Corn Milling ","311221. Wet Corn Milling "]
[null,"6 digit",311224,null,null,"Soybean and Other Oilseed Processing ","311224. Soybean and Other Oilseed Processing "]
[null,"6 digit",311225,null,null,"Fats and Oils Refining and Blending ","311225. Fats and Oils Refining and Blending "]
[null,"6 digit",311230,null,"31123","Breakfast Cereal Manufacturing","311230. Breakfast Cereal Manufacturing"]
[null,"6 digit",311313,null,"31131","Beet Sugar Manufacturing ","311313. Beet Sugar Manufacturing "]
[null,"6 digit",311314,null,null,"Cane Sugar Manufacturing ","311314. Cane Sugar Manufacturing "]
[null,"6 digit",311340,null,"31134","Nonchocolate Confectionery Manufacturing","311340. Nonchocolate Confectionery Manufacturing"]
[null,"6 digit",311351,null,"31135","Chocolate and Confectionery Manufacturing from Cacao Beans ","311351. Chocolate and Confectionery Manufacturing from Cacao Beans "]
[null,"6 digit",311352,null,null,"Confectionery Manufacturing from Purchased Chocolate ","311352. Confectionery Manufacturing from Purchased Chocolate "]
[null,"6 digit",311411,null,"31141","Frozen Fruit, Juice, and Vegetable Manufacturing ","311411. Frozen Fruit, Juice, and Vegetable Manufacturing "]
[null,"6 digit",311412,null,null,"Frozen Specialty Food Manufacturing ","311412. Frozen Specialty Food Manufacturing "]
[null,"6 digit",311421,null,"31142","Fruit and Vegetable Canning ","311421. Fruit and Vegetable Canning "]
[null,"6 digit",311422,null,null,"Specialty Canning ","311422. Specialty Canning "]
[null,"6 digit",311423,null,null,"Dried and Dehydrated Food Manufacturing ","311423. Dried and Dehydrated Food Manufacturing "]
[null,"6 digit",311511,null,"31151","Fluid Milk Manufacturing ","311511. Fluid Milk Manufacturing "]
[null,"6 digit",311512,null,null,"Creamery Butter Manufacturing ","311512. Creamery Butter Manufacturing "]
[null,"6 digit",311513,null,null,"Cheese Manufacturing ","311513. Cheese Manufacturing "]
[null,"6 digit",311514,null,null,"Dry, Condensed, and Evaporated Dairy Product Manufacturing ","311514. Dry, Condensed, and Evaporated Dairy Product Manufacturing "]
[null,"6 digit",311520,null,"31152","Ice Cream and Frozen Dessert Manufacturing","311520. Ice Cream and Frozen Dessert Manufacturing"]
[null,"6 digit",311611,null,"31161","Animal (except Poultry) Slaughtering ","311611. Animal (except Poultry) Slaughtering "]
[null,"6 digit",311612,null,null,"Meat Processed from Carcasses ","311612. Meat Processed from Carcasses "]
[null,"6 digit",311613,null,null,"Rendering and Meat Byproduct Processing ","311613. Rendering and Meat Byproduct Processing "]
[null,"6 digit",311615,null,null,"Poultry Processing ","311615. Poultry Processing "]
[null,"6 digit",311710,null,"31171","Seafood Product Preparation and Packaging","311710. Seafood Product Preparation and Packaging"]
[null,"6 digit",311811,null,"31181","Retail Bakeries ","311811. Retail Bakeries "]
[null,"6 digit",311812,null,null,"Commercial Bakeries ","311812. Commercial Bakeries "]
[null,"6 digit",311813,null,null,"Frozen Cakes, Pies, and Other Pastries Manufacturing ","311813. Frozen Cakes, Pies, and Other Pastries Manufacturing "]
[null,"6 digit",311821,null,"31182","Cookie and Cracker Manufacturing ","311821. Cookie and Cracker Manufacturing "]
[null,"6 digit",311824,null,null,"Dry Pasta, Dough, and Flour Mixes Manufacturing from Purchased Flour ","311824. Dry Pasta, Dough, and Flour Mixes Manufacturing from Purchased Flour "]
[null,"6 digit",311830,null,"31183","Tortilla Manufacturing",{"$f":"C324&\". \"&F324","v":"311830. Tortilla Manufacturing"}]
[null,"6 digit",311911,null,"31191","Roasted Nuts and Peanut Butter Manufacturing ","311911. Roasted Nuts and Peanut Butter Manufacturing "]
[null,"6 digit",311919,null,null,"Other Snack Food Manufacturing ","311919. Other Snack Food Manufacturing "]
[null,"6 digit",311920,null,"31192","Coffee and Tea Manufacturing ","311920. Coffee and Tea Manufacturing "]
[null,"6 digit",311930,null,"31193","Flavoring Syrup and Concentrate Manufacturing","311930. Flavoring Syrup and Concentrate Manufacturing"]
[null,"6 digit",311941,null,"31194","Mayonnaise, Dressing, and Other Prepared Sauce Manufacturing ","311941. Mayonnaise, Dressing, and Other Prepared Sauce Manufacturing "]
[null,"6 digit",311942,null,null,"Spice and Extract Manufacturing ","311942. Spice and Extract Manufacturing "]
[null,"6 digit",311991,null,"31199","Perishable Prepared Food Manufacturing ","311991. Perishable Prepared Food Manufacturing "]
[null,"6 digit",311999,null,null,"All Other Miscellaneous Food Manufacturing ","311999. All Other Miscellaneous Food Manufacturing "]
[null,"6 digit",312111,{"$f":"LEFT(C333,3)","v":"312"},"31211","Soft Drink Manufacturing ","312111. Soft Drink Manufacturing "]
[null,"6 digit",312112,null,null,"Bottled Water Manufacturing ","312112. Bottled Water Manufacturing "]
[null,"6 digit",312113,null,null,"Ice Manufacturing ","312113. Ice Manufacturing "]
[null,"6 digit",312120,null,"31212","Breweries","312120. Breweries"]
[null,"6 digit",312130,null,"31213","Wineries ","312130. Wineries "]
[null,"6 digit",312140,null,"31214","Distilleries ","312140. Distilleries "]
[null,"6 digit",312230,null,"31223","Tobacco Manufacturing ","312230. Tobacco Manufacturing "]
[null,"6 digit",313110,{"$f":"LEFT(C340,3)","v":"313"},"31311","Fiber, Yarn, and Thread Mills ","313110. Fiber, Yarn, and Thread Mills "]
[null,"6 digit",313210,null,"31321","Broadwoven Fabric Mills","313210. Broadwoven Fabric Mills"]
[null,"6 digit",313220,null,"31322","Narrow Fabric Mills and Schiffli Machine Embroidery","313220. Narrow Fabric Mills and Schiffli Machine Embroidery"]
[null,"6 digit",313230,null,"31323","Nonwoven Fabric Mills","313230. Nonwoven Fabric Mills"]
[null,"6 digit",313240,null,"31324","Knit Fabric Mills","313240. Knit Fabric Mills"]
[null,"6 digit",313310,null,"31331","Textile and Fabric Finishing Mills ","313310. Textile and Fabric Finishing Mills "]
[null,"6 digit",313320,null,"31332","Fabric Coating Mills","313320. Fabric Coating Mills"]
[null,"6 digit",314110,{"$f":"LEFT(C347,3)","v":"314"},"31411","Carpet and Rug Mills","314110. Carpet and Rug Mills"]
[null,"6 digit",314120,null,"31412","Curtain and Linen Mills","314120. Curtain and Linen Mills"]
[null,"6 digit",314910,null,"31491","Textile Bag and Canvas Mills ","314910. Textile Bag and Canvas Mills "]
[null,"6 digit",314994,null,"31499","Rope, Cordage, Twine, Tire Cord, and Tire Fabric Mills ","314994. Rope, Cordage, Twine, Tire Cord, and Tire Fabric Mills "]
[null,"6 digit",314999,null,null,"All Other Miscellaneous Textile Product Mills ","314999. All Other Miscellaneous Textile Product Mills "]
[null,"6 digit",315110,{"$f":"LEFT(C352,3)","v":"315"},"31511","Hosiery and Sock Mills","315110. Hosiery and Sock Mills"]
[null,"6 digit",315190,null,"31519","Other Apparel Knitting Mills ","315190. Other Apparel Knitting Mills "]
[null,"6 digit",315210,null,"31521","Cut and Sew Apparel Contractors ","315210. Cut and Sew Apparel Contractors "]
[null,"6 digit",315220,null,"31522","Men?s and Boys? Cut and Sew Apparel Manufacturing ","315220. Men?s and Boys? Cut and Sew Apparel Manufacturing "]
[null,"6 digit",315240,null,{"$f":"LEFT(C356,5)","v":"31524"},"Women?s, Girls?, and Infants? Cut and Sew Apparel Manufacturing ","315240. Women?s, Girls?, and Infants? Cut and Sew Apparel Manufacturing "]
[null,"6 digit",315280,null,"31528","Other Cut and Sew Apparel Manufacturing ","315280. Other Cut and Sew Apparel Manufacturing "]
[null,"6 digit",315990,null,"31599","Apparel Accessories and Other Apparel Manufacturing ","315990. Apparel Accessories and Other Apparel Manufacturing "]
[null,"6 digit",316110,{"$f":"LEFT(C359,3)","v":"316"},"31611","Leather and Hide Tanning and Finishing","316110. Leather and Hide Tanning and Finishing"]
[null,"6 digit",316210,null,"31621","Footwear Manufacturing ","316210. Footwear Manufacturing "]
[null,"6 digit",316992,null,"31699","Women's Handbag and Purse Manufacturing ","316992. Women's Handbag and Purse Manufacturing "]
[null,"6 digit",316998,null,null,"All Other Leather Good and Allied Product Manufacturing ","316998. All Other Leather Good and Allied Product Manufacturing "]
[null,"6 digit",321113,{"$f":"LEFT(C363,3)","v":"321"},"32111","Sawmills ","321113. Sawmills "]
[null,"6 digit",321114,null,null,"Wood Preservation ","321114. Wood Preservation "]
[null,"6 digit",321211,null,"32121","Hardwood Veneer and Plywood Manufacturing ","321211. Hardwood Veneer and Plywood Manufacturing "]
[null,"6 digit",321212,null,null,"Softwood Veneer and Plywood Manufacturing ","321212. Softwood Veneer and Plywood Manufacturing "]
[null,"6 digit",321213,null,null,"Engineered Wood Member (except Truss) Manufacturing ","321213. Engineered Wood Member (except Truss) Manufacturing "]
[null,"6 digit",321214,null,null,"Truss Manufacturing ","321214. Truss Manufacturing "]
[null,"6 digit",321219,null,null,"Reconstituted Wood Product Manufacturing ","321219. Reconstituted Wood Product Manufacturing "]
[null,"6 digit",321911,null,"32191","Wood Window and Door Manufacturing ","321911. Wood Window and Door Manufacturing "]
[null,"6 digit",321912,null,null,"Cut Stock, Resawing Lumber, and Planing ","321912. Cut Stock, Resawing Lumber, and Planing "]
[null,"6 digit",321918,null,null,"Other Millwork (including Flooring) ","321918. Other Millwork (including Flooring) "]
[null,"6 digit",321920,null,"32192","Wood Container and Pallet Manufacturing","321920. Wood Container and Pallet Manufacturing"]
[null,"6 digit",321991,null,"32199","Manufactured Home (Mobile Home) Manufacturing ","321991. Manufactured Home (Mobile Home) Manufacturing "]
[null,"6 digit",321992,null,null,"Prefabricated Wood Building Manufacturing ","321992. Prefabricated Wood Building Manufacturing "]
[null,"6 digit",321999,null,null,"All Other Miscellaneous Wood Product Manufacturing ","321999. All Other Miscellaneous Wood Product Manufacturing "]
[null,"6 digit",322110,{"$f":"LEFT(C377,3)","v":"322"},"32211","Pulp Mills ","322110. Pulp Mills "]
[null,"6 digit",322121,null,"32212","Paper (except Newsprint) Mills ","322121. Paper (except Newsprint) Mills "]
[null,"6 digit",322122,null,null,"Newsprint Mills ","322122. Newsprint Mills "]
[null,"6 digit",322130,null,"32213","Paperboard Mills ","322130. Paperboard Mills "]
[null,"6 digit",322211,null,"32221","Corrugated and Solid Fiber Box Manufacturing ","322211. Corrugated and Solid Fiber Box Manufacturing "]
[null,"6 digit",322212,null,null,"Folding Paperboard Box Manufacturing ","322212. Folding Paperboard Box Manufacturing "]
[null,"6 digit",322219,null,null,"Other Paperboard Container Manufacturing ","322219. Other Paperboard Container Manufacturing "]
[null,"6 digit",322220,null,"32222","Paper Bag and Coated and Treated Paper Manufacturing","322220. Paper Bag and Coated and Treated Paper Manufacturing"]
[null,"6 digit",322230,null,"32223","Stationery Product Manufacturing","322230. Stationery Product Manufacturing"]
[null,"6 digit",322291,null,"32229","Sanitary Paper Product Manufacturing ","322291. Sanitary Paper Product Manufacturing "]
[null,"6 digit",322299,null,null,"All Other Converted Paper Product Manufacturing ","322299. All Other Converted Paper Product Manufacturing "]
[null,"6 digit",323111,{"$f":"LEFT(C388,3)","v":"323"},"32311","Commercial Printing (except Screen and Books) ",{"$f":"C388&\". \"&F388","v":"323111. Commercial Printing (except Screen and Books) "}]
[null,"6 digit",323113,null,null,"Commercial Screen Printing ","323113. Commercial Screen Printing "]
[null,"6 digit",323117,null,null,"Books Printing ","323117. Books Printing "]
[null,"6 digit",323120,null,"32312","Support Activities for Printing","323120. Support Activities for Printing"]
[null,"6 digit",324110,{"$f":"LEFT(C392,3)","v":"324"},"32411","Petroleum Refineries","324110. Petroleum Refineries"]
[null,"6 digit",324121,null,"32412","Asphalt Paving Mixture and Block Manufacturing ","324121. Asphalt Paving Mixture and Block Manufacturing "]
[null,"6 digit",324122,null,null,"Asphalt Shingle and Coating Materials Manufacturing ","324122. Asphalt Shingle and Coating Materials Manufacturing "]
[null,"6 digit",324191,null,"32419","Petroleum Lubricating Oil and Grease Manufacturing ","324191. Petroleum Lubricating Oil and Grease Manufacturing "]
[null,"6 digit",324199,null,null,"All Other Petroleum and Coal Products Manufacturing ","324199. All Other Petroleum and Coal Products Manufacturing "]
[null,"6 digit",325110,{"$f":"LEFT(C397,3)","v":"325"},"32511","Petrochemical Manufacturing","325110. Petrochemical Manufacturing"]
[null,"6 digit",325120,null,"32512","Industrial Gas Manufacturing","325120. Industrial Gas Manufacturing"]
[null,"6 digit",325130,null,"32513","Synthetic Dye and Pigment Manufacturing","325130. Synthetic Dye and Pigment Manufacturing"]
[null,"6 digit",325180,null,"32518","Other Basic Inorganic Chemical Manufacturing ","325180. Other Basic Inorganic Chemical Manufacturing "]
[null,"6 digit",325193,null,"32519","Ethyl Alcohol Manufacturing ","325193. Ethyl Alcohol Manufacturing "]
[null,"6 digit",325194,null,null,"Cyclic Crude, Intermediate, and Gum and Wood Chemical Manufacturing ","325194. Cyclic Crude, Intermediate, and Gum and Wood Chemical Manufacturing "]
[null,"6 digit",325199,null,null,"All Other Basic Organic Chemical Manufacturing ","325199. All Other Basic Organic Chemical Manufacturing "]
[null,"6 digit",325211,null,"32521","Plastics Material and Resin Manufacturing ","325211. Plastics Material and Resin Manufacturing "]
[null,"6 digit",325212,null,null,"Synthetic Rubber Manufacturing ","325212. Synthetic Rubber Manufacturing "]
[null,"6 digit",325220,null,"32522","Artificial and Synthetic Fibers and Filaments Manufacturing","325220. Artificial and Synthetic Fibers and Filaments Manufacturing"]
[null,"6 digit",325311,null,"32531","Nitrogenous Fertilizer Manufacturing ","325311. Nitrogenous Fertilizer Manufacturing "]
[null,"6 digit",325312,null,null,"Phosphatic Fertilizer Manufacturing ","325312. Phosphatic Fertilizer Manufacturing "]
[null,"6 digit",325314,null,null,"Fertilizer (Mixing Only) Manufacturing ","325314. Fertilizer (Mixing Only) Manufacturing "]
[null,"6 digit",325320,null,"32532","Pesticide and Other Agricultural Chemical Manufacturing","325320. Pesticide and Other Agricultural Chemical Manufacturing"]
[null,"6 digit",325411,null,"32541","Medicinal and Botanical Manufacturing ","325411. Medicinal and Botanical Manufacturing "]
[null,"6 digit",325412,null,null,"Pharmaceutical Preparation Manufacturing ","325412. Pharmaceutical Preparation Manufacturing "]
[null,"6 digit",325413,null,null,"In-Vitro Diagnostic Substance Manufacturing ","325413. In-Vitro Diagnostic Substance Manufacturing "]
[null,"6 digit",325414,null,null,"Biological Product (except Diagnostic) Manufacturing ","325414. Biological Product (except Diagnostic) Manufacturing "]
[null,"6 digit",325510,null,"32551","Paint and Coating Manufacturing","325510. Paint and Coating Manufacturing"]
[null,"6 digit",325520,null,"32552","Adhesive Manufacturing","325520. Adhesive Manufacturing"]
[null,"6 digit",325611,null,"32561","Soap and Other Detergent Manufacturing ","325611. Soap and Other Detergent Manufacturing "]
[null,"6 digit",325612,null,null,"Polish and Other Sanitation Good Manufacturing ","325612. Polish and Other Sanitation Good Manufacturing "]
[null,"6 digit",325613,null,null,"Surface Active Agent Manufacturing ","325613. Surface Active Agent Manufacturing "]
[null,"6 digit",325620,null,{"$f":"LEFT(C420,5)","v":"32562"},"Toilet Preparation Manufacturing","325620. Toilet Preparation Manufacturing"]
[null,"6 digit",325910,null,"32591","Printing Ink Manufacturing","325910. Printing Ink Manufacturing"]
[null,"6 digit",325920,null,"32592","Explosives Manufacturing","325920. Explosives Manufacturing"]
[null,"6 digit",325991,null,"32599","Custom Compounding of Purchased Resins ","325991. Custom Compounding of Purchased Resins "]
[null,"6 digit",325992,null,null,"Photographic Film, Paper, Plate, and Chemical Manufacturing ","325992. Photographic Film, Paper, Plate, and Chemical Manufacturing "]
[null,"6 digit",325998,null,null,"All Other Miscellaneous Chemical Product and Preparation Manufacturing ","325998. All Other Miscellaneous Chemical Product and Preparation Manufacturing "]
[null,"6 digit",326111,{"$f":"LEFT(C426,3)","v":"326"},"32611","Plastics Bag and Pouch Manufacturing ","326111. Plastics Bag and Pouch Manufacturing "]
[null,"6 digit",326112,null,null,"Plastics Packaging Film and Sheet (including Laminated) Manufacturing ","326112. Plastics Packaging Film and Sheet (including Laminated) Manufacturing "]
[null,"6 digit",326113,null,null,"Unlaminated Plastics Film and Sheet (except Packaging) Manufacturing ","326113. Unlaminated Plastics Film and Sheet (except Packaging) Manufacturing "]
[null,"6 digit",326121,null,"32612","Unlaminated Plastics Profile Shape Manufacturing ","326121. Unlaminated Plastics Profile Shape Manufacturing "]
[null,"6 digit",326122,null,null,"Plastics Pipe and Pipe Fitting Manufacturing ","326122. Plastics Pipe and Pipe Fitting Manufacturing "]
[null,"6 digit",326130,null,"32613","Laminated Plastics Plate, Sheet (except Packaging), and Shape Manufacturing","326130. Laminated Plastics Plate, Sheet (except Packaging), and Shape Manufacturing"]
[null,"6 digit",326140,null,"32614","Polystyrene Foam Product Manufacturing","326140. Polystyrene Foam Product Manufacturing"]
[null,"6 digit",326150,null,"32615","Urethane and Other Foam Product (except Polystyrene) Manufacturing","326150. Urethane and Other Foam Product (except Polystyrene) Manufacturing"]
[null,"6 digit",326160,null,"32616","Plastics Bottle Manufacturing","326160. Plastics Bottle Manufacturing"]
[null,"6 digit",326191,null,"32619","Plastics Plumbing Fixture Manufacturing ","326191. Plastics Plumbing Fixture Manufacturing "]
[null,"6 digit",326199,null,null,"All Other Plastics Product Manufacturing ","326199. All Other Plastics Product Manufacturing "]
[null,"6 digit",326211,null,"32621","Tire Manufacturing (except Retreading) ","326211. Tire Manufacturing (except Retreading) "]
[null,"6 digit",326212,null,null,"Tire Retreading ","326212. Tire Retreading "]
[null,"6 digit",326220,null,"32622","Rubber and Plastics Hoses and Belting Manufacturing","326220. Rubber and Plastics Hoses and Belting Manufacturing"]
[null,"6 digit",326291,null,"32629","Rubber Product Manufacturing for Mechanical Use ","326291. Rubber Product Manufacturing for Mechanical Use "]
[null,"6 digit",326299,null,null,"All Other Rubber Product Manufacturing ","326299. All Other Rubber Product Manufacturing "]
[null,"6 digit",327110,{"$f":"LEFT(C442,3)","v":"327"},"32711","Pottery, Ceramics, and Plumbing Fixture Manufacturing ","327110. Pottery, Ceramics, and Plumbing Fixture Manufacturing "]
[null,"6 digit",327120,null,"32712","Clay Building Material and Refractories Manufacturing ","327120. Clay Building Material and Refractories Manufacturing "]
[null,"6 digit",327211,null,"32721","Flat Glass Manufacturing ","327211. Flat Glass Manufacturing "]
[null,"6 digit",327212,null,null,"Other Pressed and Blown Glass and Glassware Manufacturing ","327212. Other Pressed and Blown Glass and Glassware Manufacturing "]
[null,"6 digit",327213,null,null,"Glass Container Manufacturing ","327213. Glass Container Manufacturing "]
[null,"6 digit",327215,null,null,"Glass Product Manufacturing Made of Purchased Glass ","327215. Glass Product Manufacturing Made of Purchased Glass "]
[null,"6 digit",327310,null,"32731","Cement Manufacturing","327310. Cement Manufacturing"]
[null,"6 digit",327320,null,"32732","Ready-Mix Concrete Manufacturing","327320. Ready-Mix Concrete Manufacturing"]
[null,"6 digit",327331,null,"32733","Concrete Block and Brick Manufacturing ","327331. Concrete Block and Brick Manufacturing "]
[null,"6 digit",327332,null,null,"Concrete Pipe Manufacturing ","327332. Concrete Pipe Manufacturing "]
[null,"6 digit",327390,null,"32739","Other Concrete Product Manufacturing ",{"$f":"C452&\". \"&F452","v":"327390. Other Concrete Product Manufacturing "}]
[null,"6 digit",327410,null,"32741","Lime Manufacturing","327410. Lime Manufacturing"]
[null,"6 digit",327420,null,"32742","Gypsum Product Manufacturing","327420. Gypsum Product Manufacturing"]
[null,"6 digit",327910,null,"32791","Abrasive Product Manufacturing","327910. Abrasive Product Manufacturing"]
[null,"6 digit",327991,null,"32799","Cut Stone and Stone Product Manufacturing ","327991. Cut Stone and Stone Product Manufacturing "]
[null,"6 digit",327992,null,null,"Ground or Treated Mineral and Earth Manufacturing ","327992. Ground or Treated Mineral and Earth Manufacturing "]
[null,"6 digit",327993,null,null,"Mineral Wool Manufacturing ","327993. Mineral Wool Manufacturing "]
[null,"6 digit",327999,null,null,"All Other Miscellaneous Nonmetallic Mineral Product Manufacturing ","327999. All Other Miscellaneous Nonmetallic Mineral Product Manufacturing "]
[null,"6 digit",331110,{"$f":"LEFT(C460,3)","v":"331"},"33111","Iron and Steel Mills and Ferroalloy Manufacturing ","331110. Iron and Steel Mills and Ferroalloy Manufacturing "]
[null,"6 digit",331210,null,"33121","Iron and Steel Pipe and Tube Manufacturing from Purchased Steel","331210. Iron and Steel Pipe and Tube Manufacturing from Purchased Steel"]
[null,"6 digit",331221,null,"33122","Rolled Steel Shape Manufacturing ","331221. Rolled Steel Shape Manufacturing "]
[null,"6 digit",331222,null,null,"Steel Wire Drawing ","331222. Steel Wire Drawing "]
[null,"6 digit",331313,null,"33131","Alumina Refining and Primary Aluminum Production ","331313. Alumina Refining and Primary Aluminum Production "]
[null,"6 digit",331314,null,null,"Secondary Smelting and Alloying of Aluminum ","331314. Secondary Smelting and Alloying of Aluminum "]
[null,"6 digit",331315,null,null,"Aluminum Sheet, Plate, and Foil Manufacturing ","331315. Aluminum Sheet, Plate, and Foil Manufacturing "]
[null,"6 digit",331318,null,null,"Other Aluminum Rolling, Drawing, and Extruding ","331318. Other Aluminum Rolling, Drawing, and Extruding "]
[null,"6 digit",331410,null,"33141","Nonferrous Metal (except Aluminum) Smelting and Refining ","331410. Nonferrous Metal (except Aluminum) Smelting and Refining "]
[null,"6 digit",331420,null,"33142","Copper Rolling, Drawing, Extruding, and Alloying","331420. Copper Rolling, Drawing, Extruding, and Alloying"]
[null,"6 digit",331491,null,"33149","Nonferrous Metal (except Copper and Aluminum) Rolling, Drawing, and Extruding ","331491. Nonferrous Metal (except Copper and Aluminum) Rolling, Drawing, and Extruding "]
[null,"6 digit",331492,null,null,"Secondary Smelting, Refining, and Alloying of Nonferrous Metal (except Copper and Aluminum) ","331492. Secondary Smelting, Refining, and Alloying of Nonferrous Metal (except Copper and Aluminum) "]
[null,"6 digit",331511,null,"33151","Iron Foundries ","331511. Iron Foundries "]
[null,"6 digit",331512,null,null,"Steel Investment Foundries ","331512. Steel Investment Foundries "]
[null,"6 digit",331513,null,null,"Steel Foundries (except Investment) ","331513. Steel Foundries (except Investment) "]
[null,"6 digit",331523,null,"33152","Nonferrous Metal Die-Casting Foundries ","331523. Nonferrous Metal Die-Casting Foundries "]
[null,"6 digit",331524,null,null,"Aluminum Foundries (except Die-Casting) ","331524. Aluminum Foundries (except Die-Casting) "]
[null,"6 digit",331529,null,null,"Other Nonferrous Metal Foundries (except Die-Casting) ","331529. Other Nonferrous Metal Foundries (except Die-Casting) "]
[null,"6 digit",332111,{"$f":"LEFT(C478,3)","v":"332"},"33211","Iron and Steel Forging ","332111. Iron and Steel Forging "]
[null,"6 digit",332112,null,null,"Nonferrous Forging ","332112. Nonferrous Forging "]
[null,"6 digit",332114,null,null,"Custom Roll Forming ","332114. Custom Roll Forming "]
[null,"6 digit",332117,null,null,"Powder Metallurgy Part Manufacturing ","332117. Powder Metallurgy Part Manufacturing "]
[null,"6 digit",332119,null,null,"Metal Crown, Closure, and Other Metal Stamping (except Automotive) ","332119. Metal Crown, Closure, and Other Metal Stamping (except Automotive) "]
[null,"6 digit",332215,null,{"$f":"LEFT(C483,5)","v":"33221"},"Metal Kitchen Cookware, Utensil, Cutlery, and Flatware (except Precious) Manufacturing ","332215. Metal Kitchen Cookware, Utensil, Cutlery, and Flatware (except Precious) Manufacturing "]
[null,"6 digit",332216,null,null,"Saw Blade and Handtool Manufacturing ","332216. Saw Blade and Handtool Manufacturing "]
[null,"6 digit",332311,null,{"$f":"LEFT(C485,5)","v":"33231"},"Prefabricated Metal Building and Component Manufacturing ","332311. Prefabricated Metal Building and Component Manufacturing "]
[null,"6 digit",332312,null,null,"Fabricated Structural Metal Manufacturing ","332312. Fabricated Structural Metal Manufacturing "]
[null,"6 digit",332313,null,null,"Plate Work Manufacturing ","332313. Plate Work Manufacturing "]
[null,"6 digit",332321,null,{"$f":"LEFT(C488,5)","v":"33232"},"Metal Window and Door Manufacturing ","332321. Metal Window and Door Manufacturing "]
[null,"6 digit",332322,null,null,"Sheet Metal Work Manufacturing ","332322. Sheet Metal Work Manufacturing "]
[null,"6 digit",332323,null,null,"Ornamental and Architectural Metal Work Manufacturing ","332323. Ornamental and Architectural Metal Work Manufacturing "]
[null,"6 digit",332410,null,{"$f":"LEFT(C491,5)","v":"33241"},"Power Boiler and Heat Exchanger Manufacturing","332410. Power Boiler and Heat Exchanger Manufacturing"]
[null,"6 digit",332420,null,{"$f":"LEFT(C492,5)","v":"33242"},"Metal Tank (Heavy Gauge) Manufacturing","332420. Metal Tank (Heavy Gauge) Manufacturing"]
[null,"6 digit",332431,null,{"$f":"LEFT(C493,5)","v":"33243"},"Metal Can Manufacturing ","332431. Metal Can Manufacturing "]
[null,"6 digit",332439,null,null,"Other Metal Container Manufacturing ","332439. Other Metal Container Manufacturing "]
[null,"6 digit",332510,null,{"$f":"LEFT(C495,5)","v":"33251"},"Hardware Manufacturing","332510. Hardware Manufacturing"]
[null,"6 digit",332613,null,{"$f":"LEFT(C496,5)","v":"33261"},"Spring Manufacturing ","332613. Spring Manufacturing "]
[null,"6 digit",332618,null,null,"Other Fabricated Wire Product Manufacturing ","332618. Other Fabricated Wire Product Manufacturing "]
[null,"6 digit",332710,null,{"$f":"LEFT(C498,5)","v":"33271"},"Machine Shops","332710. Machine Shops"]
[null,"6 digit",332721,null,{"$f":"LEFT(C499,5)","v":"33272"},"Precision Turned Product Manufacturing ","332721. Precision Turned Product Manufacturing "]
[null,"6 digit",332722,null,null,"Bolt, Nut, Screw, Rivet, and Washer Manufacturing ","332722. Bolt, Nut, Screw, Rivet, and Washer Manufacturing "]
[null,"6 digit",332811,null,{"$f":"LEFT(C501,5)","v":"33281"},"Metal Heat Treating ","332811. Metal Heat Treating "]
[null,"6 digit",332812,null,null,"Metal Coating, Engraving (except Jewelry and Silverware), and Allied Services to Manufacturers ","332812. Metal Coating, Engraving (except Jewelry and Silverware), and Allied Services to Manufacturers "]
[null,"6 digit",332813,null,null,"Electroplating, Plating, Polishing, Anodizing, and Coloring ","332813. Electroplating, Plating, Polishing, Anodizing, and Coloring "]
[null,"6 digit",332911,null,{"$f":"LEFT(C504,5)","v":"33291"},"Industrial Valve Manufacturing ","332911. Industrial Valve Manufacturing "]
[null,"6 digit",332912,null,null,"Fluid Power Valve and Hose Fitting Manufacturing ","332912. Fluid Power Valve and Hose Fitting Manufacturing "]
[null,"6 digit",332913,null,null,"Plumbing Fixture Fitting and Trim Manufacturing ","332913. Plumbing Fixture Fitting and Trim Manufacturing "]
[null,"6 digit",332919,null,null,"Other Metal Valve and Pipe Fitting Manufacturing ","332919. Other Metal Valve and Pipe Fitting Manufacturing "]
[null,"6 digit",332991,null,{"$f":"LEFT(C508,5)","v":"33299"},"Ball and Roller Bearing Manufacturing","332991. Ball and Roller Bearing Manufacturing"]
[null,"6 digit",332992,null,null,"Small Arms Ammunition Manufacturing ","332992. Small Arms Ammunition Manufacturing "]
[null,"6 digit",332993,null,null,"Ammunition (except Small Arms) Manufacturing ","332993. Ammunition (except Small Arms) Manufacturing "]
[null,"6 digit",332994,null,null,"Small Arms, Ordnance, and Ordnance Accessories Manufacturing ","332994. Small Arms, Ordnance, and Ordnance Accessories Manufacturing "]
[null,"6 digit",332996,null,null,"Fabricated Pipe and Pipe Fitting Manufacturing ","332996. Fabricated Pipe and Pipe Fitting Manufacturing "]
[null,"6 digit",332999,null,null,"All Other Miscellaneous Fabricated Metal Product Manufacturing ","332999. All Other Miscellaneous Fabricated Metal Product Manufacturing "]
[null,"6 digit",333111,{"$f":"LEFT(C514,3)","v":"333"},{"$f":"LEFT(C514,5)","v":"33311"},"Farm Machinery and Equipment Manufacturing ","333111. Farm Machinery and Equipment Manufacturing "]
[null,"6 digit",333112,null,null,"Lawn and Garden Tractor and Home Lawn and Garden Equipment Manufacturing ","333112. Lawn and Garden Tractor and Home Lawn and Garden Equipment Manufacturing "]
[null,"6 digit",333120,null,{"$f":"LEFT(C516,5)","v":"33312"},"Construction Machinery Manufacturing",{"$f":"C516&\". \"&F516","v":"333120. Construction Machinery Manufacturing"}]
[null,"6 digit",333131,null,{"$f":"LEFT(C517,5)","v":"33313"},"Mining Machinery and Equipment Manufacturing ","333131. Mining Machinery and Equipment Manufacturing "]
[null,"6 digit",333132,null,null,"Oil and Gas Field Machinery and Equipment Manufacturing ","333132. Oil and Gas Field Machinery and Equipment Manufacturing "]
[null,"6 digit",333241,null,{"$f":"LEFT(C519,5)","v":"33324"},"Food Product Machinery Manufacturing ","333241. Food Product Machinery Manufacturing "]
[null,"6 digit",333242,null,null,"Semiconductor Machinery Manufacturing ","333242. Semiconductor Machinery Manufacturing "]
[null,"6 digit",333243,null,null,"Sawmill, Woodworking, and Paper Machinery Manufacturing ","333243. Sawmill, Woodworking, and Paper Machinery Manufacturing "]
[null,"6 digit",333244,null,null,"Printing Machinery and Equipment Manufacturing ","333244. Printing Machinery and Equipment Manufacturing "]
[null,"6 digit",333249,null,null,"Other Industrial Machinery Manufacturing ","333249. Other Industrial Machinery Manufacturing "]
[null,"6 digit",333314,null,{"$f":"LEFT(C524,5)","v":"33331"},"Optical Instrument and Lens Manufacturing ","333314. Optical Instrument and Lens Manufacturing "]
[null,"6 digit",333316,null,null,"Photographic and Photocopying Equipment Manufacturing ","333316. Photographic and Photocopying Equipment Manufacturing "]
[null,"6 digit",333318,null,null,"Other Commercial and Service Industry Machinery Manufacturing ","333318. Other Commercial and Service Industry Machinery Manufacturing "]
[null,"6 digit",333413,null,{"$f":"LEFT(C527,5)","v":"33341"},"Industrial and Commercial Fan and Blower and Air Purification Equipment Manufacturing ","333413. Industrial and Commercial Fan and Blower and Air Purification Equipment Manufacturing "]
[null,"6 digit",333414,null,null,"Heating Equipment (except Warm Air Furnaces) Manufacturing ","333414. Heating Equipment (except Warm Air Furnaces) Manufacturing "]
[null,"6 digit",333415,null,null,"Air-Conditioning and Warm Air Heating Equipment and Commercial and Industrial Refrigeration Equipment Manufacturing ","333415. Air-Conditioning and Warm Air Heating Equipment and Commercial and Industrial Refrigeration Equipment Manufacturing "]
[null,"6 digit",333511,null,{"$f":"LEFT(C530,5)","v":"33351"},"Industrial Mold Manufacturing ","333511. Industrial Mold Manufacturing "]
[null,"6 digit",333514,null,null,"Special Die and Tool, Die Set, Jig, and Fixture Manufacturing ","333514. Special Die and Tool, Die Set, Jig, and Fixture Manufacturing "]
[null,"6 digit",333515,null,null,"Cutting Tool and Machine Tool Accessory Manufacturing ","333515. Cutting Tool and Machine Tool Accessory Manufacturing "]
[null,"6 digit",333517,null,null,"Machine Tool Manufacturing ","333517. Machine Tool Manufacturing "]
[null,"6 digit",333519,null,null,"Rolling Mill and Other Metalworking Machinery Manufacturing ","333519. Rolling Mill and Other Metalworking Machinery Manufacturing "]
[null,"6 digit",333611,null,{"$f":"LEFT(C535,5)","v":"33361"},"Turbine and Turbine Generator Set Units Manufacturing ","333611. Turbine and Turbine Generator Set Units Manufacturing "]
[null,"6 digit",333612,null,null,"Speed Changer, Industrial High-Speed Drive, and Gear Manufacturing ","333612. Speed Changer, Industrial High-Speed Drive, and Gear Manufacturing "]
[null,"6 digit",333613,null,null,"Mechanical Power Transmission Equipment Manufacturing ","333613. Mechanical Power Transmission Equipment Manufacturing "]
[null,"6 digit",333618,null,null,"Other Engine Equipment Manufacturing ","333618. Other Engine Equipment Manufacturing "]
[null,"6 digit",333912,null,{"$f":"LEFT(C539,5)","v":"33391"},"Air and Gas Compressor Manufacturing ","333912. Air and Gas Compressor Manufacturing "]
[null,"6 digit",333914,null,null,"Measuring, Dispensing, and Other Pumping Equipment Manufacturing ","333914. Measuring, Dispensing, and Other Pumping Equipment Manufacturing "]
[null,"6 digit",333921,null,{"$f":"LEFT(C541,5)","v":"33392"},"Elevator and Moving Stairway Manufacturing ","333921. Elevator and Moving Stairway Manufacturing "]
[null,"6 digit",333922,null,null,"Conveyor and Conveying Equipment Manufacturing ","333922. Conveyor and Conveying Equipment Manufacturing "]
[null,"6 digit",333923,null,null,"Overhead Traveling Crane, Hoist, and Monorail System Manufacturing ","333923. Overhead Traveling Crane, Hoist, and Monorail System Manufacturing "]
[null,"6 digit",333924,null,null,"Industrial Truck, Tractor, Trailer, and Stacker Machinery Manufacturing ","333924. Industrial Truck, Tractor, Trailer, and Stacker Machinery Manufacturing "]
[null,"6 digit",333991,null,{"$f":"LEFT(C545,5)","v":"33399"},"Power-Driven Handtool Manufacturing ","333991. Power-Driven Handtool Manufacturing "]
[null,"6 digit",333992,null,null,"Welding and Soldering Equipment Manufacturing ","333992. Welding and Soldering Equipment Manufacturing "]
[null,"6 digit",333993,null,null,"Packaging Machinery Manufacturing ","333993. Packaging Machinery Manufacturing "]
[null,"6 digit",333994,null,null,"Industrial Process Furnace and Oven Manufacturing ","333994. Industrial Process Furnace and Oven Manufacturing "]
[null,"6 digit",333995,null,null,"Fluid Power Cylinder and Actuator Manufacturing ","333995. Fluid Power Cylinder and Actuator Manufacturing "]
[null,"6 digit",333996,null,null,"Fluid Power Pump and Motor Manufacturing ","333996. Fluid Power Pump and Motor Manufacturing "]
[null,"6 digit",333997,null,null,"Scale and Balance Manufacturing ","333997. Scale and Balance Manufacturing "]
[null,"6 digit",333999,null,null,"All Other Miscellaneous General Purpose Machinery Manufacturing ","333999. All Other Miscellaneous General Purpose Machinery Manufacturing "]
[null,"6 digit",334111,{"$f":"LEFT(C553,3)","v":"334"},{"$f":"LEFT(C553,5)","v":"33411"},"Electronic Computer Manufacturing ","334111. Electronic Computer Manufacturing "]
[null,"6 digit",334112,null,null,"Computer Storage Device Manufacturing ","334112. Computer Storage Device Manufacturing "]
[null,"6 digit",334118,null,null,"Computer Terminal and Other Computer Peripheral Equipment Manufacturing ","334118. Computer Terminal and Other Computer Peripheral Equipment Manufacturing "]
[null,"6 digit",334210,null,"33421","Telephone Apparatus Manufacturing","334210. Telephone Apparatus Manufacturing"]
[null,"6 digit",334220,null,"33422","Radio and Television Broadcasting and Wireless Communications Equipment Manufacturing","334220. Radio and Television Broadcasting and Wireless Communications Equipment Manufacturing"]
[null,"6 digit",334290,null,"33429","Other Communications Equipment Manufacturing","334290. Other Communications Equipment Manufacturing"]
[null,"6 digit",334310,null,"33431","Audio and Video Equipment Manufacturing","334310. Audio and Video Equipment Manufacturing"]
[null,"6 digit",334412,null,"33441","Bare Printed Circuit Board Manufacturing ","334412. Bare Printed Circuit Board Manufacturing "]
[null,"6 digit",334413,null,null,"Semiconductor and Related Device Manufacturing ","334413. Semiconductor and Related Device Manufacturing "]
[null,"6 digit",334416,null,null,"Capacitor, Resistor, Coil, Transformer, and Other Inductor Manufacturing ","334416. Capacitor, Resistor, Coil, Transformer, and Other Inductor Manufacturing "]
[null,"6 digit",334417,null,null,"Electronic Connector Manufacturing ","334417. Electronic Connector Manufacturing "]
[null,"6 digit",334418,null,null,"Printed Circuit Assembly (Electronic Assembly) Manufacturing ","334418. Printed Circuit Assembly (Electronic Assembly) Manufacturing "]
[null,"6 digit",334419,null,null,"Other Electronic Component Manufacturing ","334419. Other Electronic Component Manufacturing "]
[null,"6 digit",334510,null,"33451","Electromedical and Electrotherapeutic Apparatus Manufacturing ","334510. Electromedical and Electrotherapeutic Apparatus Manufacturing "]
[null,"6 digit",334511,null,null,"Search, Detection, Navigation, Guidance, Aeronautical, and Nautical System and Instrument Manufacturing ","334511. Search, Detection, Navigation, Guidance, Aeronautical, and Nautical System and Instrument Manufacturing "]
[null,"6 digit",334512,null,null,"Automatic Environmental Control Manufacturing for Residential, Commercial, and Appliance Use ","334512. Automatic Environmental Control Manufacturing for Residential, Commercial, and Appliance Use "]
[null,"6 digit",334513,null,null,"Instruments and Related Products Manufacturing for Measuring, Displaying, and Controlling Industrial Process Variables ","334513. Instruments and Related Products Manufacturing for Measuring, Displaying, and Controlling Industrial Process Variables "]
[null,"6 digit",334514,null,null,"Totalizing Fluid Meter and Counting Device Manufacturing ","334514. Totalizing Fluid Meter and Counting Device Manufacturing "]
[null,"6 digit",334515,null,null,"Instrument Manufacturing for Measuring and Testing Electricity and Electrical Signals ","334515. Instrument Manufacturing for Measuring and Testing Electricity and Electrical Signals "]
[null,"6 digit",334516,null,null,"Analytical Laboratory Instrument Manufacturing ","334516. Analytical Laboratory Instrument Manufacturing "]
[null,"6 digit",334517,null,null,"Irradiation Apparatus Manufacturing ","334517. Irradiation Apparatus Manufacturing "]
[null,"6 digit",334519,null,null,"Other Measuring and Controlling Device Manufacturing ","334519. Other Measuring and Controlling Device Manufacturing "]
[null,"6 digit",334613,null,"33461","Blank Magnetic and Optical Recording Media Manufacturing ","334613. Blank Magnetic and Optical Recording Media Manufacturing "]
[null,"6 digit",334614,null,null,"Software and Other Prerecorded Compact Disc, Tape, and Record Reproducing ","334614. Software and Other Prerecorded Compact Disc, Tape, and Record Reproducing "]
[null,"6 digit",335110,{"$f":"LEFT(C577,3)","v":"335"},"33511","Electric Lamp Bulb and Part Manufacturing","335110. Electric Lamp Bulb and Part Manufacturing"]
[null,"6 digit",335121,null,"33512","Residential Electric Lighting Fixture Manufacturing ","335121. Residential Electric Lighting Fixture Manufacturing "]
[null,"6 digit",335122,null,null,"Commercial, Industrial, and Institutional Electric Lighting Fixture Manufacturing ","335122. Commercial, Industrial, and Institutional Electric Lighting Fixture Manufacturing "]
[null,"6 digit",335129,null,null,"Other Lighting Equipment Manufacturing ",{"$f":"C580&\". \"&F580","v":"335129. Other Lighting Equipment Manufacturing "}]
[null,"6 digit",335210,null,"33521","Small Electrical Appliance Manufacturing","335210. Small Electrical Appliance Manufacturing"]
[null,"6 digit",335220,null,"33522","Major Household Appliance Manufacturing ","335220. Major Household Appliance Manufacturing "]
[null,"6 digit",335311,null,"33531","Power, Distribution, and Specialty Transformer Manufacturing ","335311. Power, Distribution, and Specialty Transformer Manufacturing "]
[null,"6 digit",335312,null,null,"Motor and Generator Manufacturing ","335312. Motor and Generator Manufacturing "]
[null,"6 digit",335313,null,null,"Switchgear and Switchboard Apparatus Manufacturing ","335313. Switchgear and Switchboard Apparatus Manufacturing "]
[null,"6 digit",335314,null,null,"Relay and Industrial Control Manufacturing ","335314. Relay and Industrial Control Manufacturing "]
[null,"6 digit",335911,null,"33591","Storage Battery Manufacturing ","335911. Storage Battery Manufacturing "]
[null,"6 digit",335912,null,null,"Primary Battery Manufacturing ","335912. Primary Battery Manufacturing "]
[null,"6 digit",335921,null,"33592","Fiber Optic Cable Manufacturing ","335921. Fiber Optic Cable Manufacturing "]
[null,"6 digit",335929,null,null,"Other Communication and Energy Wire Manufacturing ","335929. Other Communication and Energy Wire Manufacturing "]
[null,"6 digit",335931,null,"33593","Current-Carrying Wiring Device Manufacturing ","335931. Current-Carrying Wiring Device Manufacturing "]
[null,"6 digit",335932,null,null,"Noncurrent-Carrying Wiring Device Manufacturing ","335932. Noncurrent-Carrying Wiring Device Manufacturing "]
[null,"6 digit",335991,null,"33599","Carbon and Graphite Product Manufacturing ","335991. Carbon and Graphite Product Manufacturing "]
[null,"6 digit",335999,null,null,"All Other Miscellaneous Electrical Equipment and Component Manufacturing ","335999. All Other Miscellaneous Electrical Equipment and Component Manufacturing "]
[null,"6 digit",336111,{"$f":"LEFT(C595,3)","v":"336"},"33611","Automobile Manufacturing ","336111. Automobile Manufacturing "]
[null,"6 digit",336112,null,null,"Light Truck and Utility Vehicle Manufacturing ","336112. Light Truck and Utility Vehicle Manufacturing "]
[null,"6 digit",336120,null,"33612","Heavy Duty Truck Manufacturing","336120. Heavy Duty Truck Manufacturing"]
[null,"6 digit",336211,null,"33621","Motor Vehicle Body Manufacturing ","336211. Motor Vehicle Body Manufacturing "]
[null,"6 digit",336212,null,null,"Truck Trailer Manufacturing ","336212. Truck Trailer Manufacturing "]
[null,"6 digit",336213,null,null,"Motor Home Manufacturing ","336213. Motor Home Manufacturing "]
[null,"6 digit",336214,null,null,"Travel Trailer and Camper Manufacturing ","336214. Travel Trailer and Camper Manufacturing "]
[null,"6 digit",336310,null,"33631","Motor Vehicle Gasoline Engine and Engine Parts Manufacturing","336310. Motor Vehicle Gasoline Engine and Engine Parts Manufacturing"]
[null,"6 digit",336320,null,"33632","Motor Vehicle Electrical and Electronic Equipment Manufacturing","336320. Motor Vehicle Electrical and Electronic Equipment Manufacturing"]
[null,"6 digit",336330,null,"33633","Motor Vehicle Steering and Suspension Components (except Spring) Manufacturing","336330. Motor Vehicle Steering and Suspension Components (except Spring) Manufacturing"]
[null,"6 digit",336340,null,"33634","Motor Vehicle Brake System Manufacturing","336340. Motor Vehicle Brake System Manufacturing"]
[null,"6 digit",336350,null,"33635","Motor Vehicle Transmission and Power Train Parts Manufacturing","336350. Motor Vehicle Transmission and Power Train Parts Manufacturing"]
[null,"6 digit",336360,null,"33636","Motor Vehicle Seating and Interior Trim Manufacturing","336360. Motor Vehicle Seating and Interior Trim Manufacturing"]
[null,"6 digit",336370,null,"33637","Motor Vehicle Metal Stamping","336370. Motor Vehicle Metal Stamping"]
[null,"6 digit",336390,null,"33639","Other Motor Vehicle Parts Manufacturing","336390. Other Motor Vehicle Parts Manufacturing"]
[null,"6 digit",336411,null,"33641","Aircraft Manufacturing ","336411. Aircraft Manufacturing "]
[null,"6 digit",336412,null,null,"Aircraft Engine and Engine Parts Manufacturing ","336412. Aircraft Engine and Engine Parts Manufacturing "]
[null,"6 digit",336413,null,null,"Other Aircraft Parts and Auxiliary Equipment Manufacturing ","336413. Other Aircraft Parts and Auxiliary Equipment Manufacturing "]
[null,"6 digit",336414,null,null,"Guided Missile and Space Vehicle Manufacturing ","336414. Guided Missile and Space Vehicle Manufacturing "]
[null,"6 digit",336415,null,null,"Guided Missile and Space Vehicle Propulsion Unit and Propulsion Unit Parts Manufacturing ","336415. Guided Missile and Space Vehicle Propulsion Unit and Propulsion Unit Parts Manufacturing "]
[null,"6 digit",336419,null,null,"Other Guided Missile and Space Vehicle Parts and Auxiliary Equipment Manufacturing ","336419. Other Guided Missile and Space Vehicle Parts and Auxiliary Equipment Manufacturing "]
[null,"6 digit",336510,null,{"$f":"LEFT(C616,5)","v":"33651"},"Railroad Rolling Stock Manufacturing","336510. Railroad Rolling Stock Manufacturing"]
[null,"6 digit",336611,null,"33661","Ship Building and Repairing ","336611. Ship Building and Repairing "]
[null,"6 digit",336612,null,null,"Boat Building ","336612. Boat Building "]
[null,"6 digit",336991,null,"33699","Motorcycle, Bicycle, and Parts Manufacturing ","336991. Motorcycle, Bicycle, and Parts Manufacturing "]
[null,"6 digit",336992,null,null,"Military Armored Vehicle, Tank, and Tank Component Manufacturing ","336992. Military Armored Vehicle, Tank, and Tank Component Manufacturing "]
[null,"6 digit",336999,null,null,"All Other Transportation Equipment Manufacturing ","336999. All Other Transportation Equipment Manufacturing "]
[null,"6 digit",337110,{"$f":"LEFT(C622,3)","v":"337"},"33711","Wood Kitchen Cabinet and Countertop Manufacturing","337110. Wood Kitchen Cabinet and Countertop Manufacturing"]
[null,"6 digit",337121,null,"33712","Upholstered Household Furniture Manufacturing ","337121. Upholstered Household Furniture Manufacturing "]
[null,"6 digit",337122,null,null,"Nonupholstered Wood Household Furniture Manufacturing ","337122. Nonupholstered Wood Household Furniture Manufacturing "]
[null,"6 digit",337124,null,null,"Metal Household Furniture Manufacturing ","337124. Metal Household Furniture Manufacturing "]
[null,"6 digit",337125,null,null,"Household Furniture (except Wood and Metal) Manufacturing ","337125. Household Furniture (except Wood and Metal) Manufacturing "]
[null,"6 digit",337127,null,null,"Institutional Furniture Manufacturing ","337127. Institutional Furniture Manufacturing "]
[null,"6 digit",337211,null,"33721","Wood Office Furniture Manufacturing ","337211. Wood Office Furniture Manufacturing "]
[null,"6 digit",337212,null,null,"Custom Architectural Woodwork and Millwork Manufacturing ","337212. Custom Architectural Woodwork and Millwork Manufacturing "]
[null,"6 digit",337214,null,null,"Office Furniture (except Wood) Manufacturing ","337214. Office Furniture (except Wood) Manufacturing "]
[null,"6 digit",337215,null,null,"Showcase, Partition, Shelving, and Locker Manufacturing ","337215. Showcase, Partition, Shelving, and Locker Manufacturing "]
[null,"6 digit",337910,null,"33791","Mattress Manufacturing","337910. Mattress Manufacturing"]
[null,"6 digit",337920,null,"33792","Blind and Shade Manufacturing","337920. Blind and Shade Manufacturing"]
[null,"6 digit",339112,{"$f":"LEFT(C634,3)","v":"339"},"33911","Surgical and Medical Instrument Manufacturing ","339112. Surgical and Medical Instrument Manufacturing "]
[null,"6 digit",339113,null,null,"Surgical Appliance and Supplies Manufacturing ","339113. Surgical Appliance and Supplies Manufacturing "]
[null,"6 digit",339114,null,null,"Dental Equipment and Supplies Manufacturing ","339114. Dental Equipment and Supplies Manufacturing "]
[null,"6 digit",339115,null,null,"Ophthalmic Goods Manufacturing ","339115. Ophthalmic Goods Manufacturing "]
[null,"6 digit",339116,null,null,"Dental Laboratories ","339116. Dental Laboratories "]
[null,"6 digit",339910,null,"33991","Jewelry and Silverware Manufacturing ","339910. Jewelry and Silverware Manufacturing "]
[null,"6 digit",339920,null,"33992","Sporting and Athletic Goods Manufacturing","339920. Sporting and Athletic Goods Manufacturing"]
[null,"6 digit",339930,null,"33993","Doll, Toy, and Game Manufacturing","339930. Doll, Toy, and Game Manufacturing"]
[null,"6 digit",339940,null,"33994","Office Supplies (except Paper) Manufacturing","339940. Office Supplies (except Paper) Manufacturing"]
[null,"6 digit",339950,null,"33995","Sign Manufacturing","339950. Sign Manufacturing"]
[null,"6 digit",339991,null,"33999","Gasket, Packing, and Sealing Device Manufacturing ",{"$f":"C644&\". \"&F644","v":"339991. Gasket, Packing, and Sealing Device Manufacturing "}]
[null,"6 digit",339992,null,null,"Musical Instrument Manufacturing ","339992. Musical Instrument Manufacturing "]
[null,"6 digit",339993,null,null,"Fastener, Button, Needle, and Pin Manufacturing ","339993. Fastener, Button, Needle, and Pin Manufacturing "]
[null,"6 digit",339994,null,null,"Broom, Brush, and Mop Manufacturing ","339994. Broom, Brush, and Mop Manufacturing "]
[null,"6 digit",339995,null,null,"Burial Casket Manufacturing ","339995. Burial Casket Manufacturing "]
[null,"6 digit",339999,null,null,"All Other Miscellaneous Manufacturing ","339999. All Other Miscellaneous Manufacturing "]