Workbook
Name dd_Temp: 'Drop-downs'!$D$12:$D$14
Name dd_UnitType: 'Drop-downs'!$F$12:$F$13
Name dd_YesNo: 'Drop-downs'!$B$12:$B$13
Name SoilSensingNormalCycle?: 'General Info & Test Results'!$C$32
Name WaterSofteningDW?: 'General Info & Test Results'!$C$35

Sheet Instructions
B2: ='Version Control'!$B$2 -> Title Block
B3: ='Version Control'!$B$3 -> Test Report Template Name: | C3: ='Version Control'!$C$3 -> Dishwasher
B4: ='Version Control'!$B$4 -> Version Number: | C4: ='Version Control'!$C$4 -> v3.4
B5: ='Version Control'!$B$5 -> Latest Template Revision: | C5: ='Version Control'!$C$5 -> 45245
B6: ='Version Control'!$B$6 -> Tab Name: | C6: =MID(CELL("filename",B1), FIND("]", CELL("filename", B1))+ 1, 255) -> Instructions
B7: ='Version Control'!$B$7 -> File Name: | C7: ='Version Control'!$C$7 -> Dishwasher - v3.4.xlsx
B10: Reference Test Procedure
B11: 10 CFR 430 Subpart B Appendix C1: Uniform Test Method for Measuring the Energy Consumption of Dishwashers
B13: Table of Contents
B14: Tab | C14: Contents
B15: Instructions | C15: Instructions and Table of Contents
B16: General Info & Test Results | C16: Lab Information, Product Information, and Test Results
B17: Setup & Instrumentation | C17: Instrumentation Used to Conduct Test Measurements
B18: Settings | C18: Input for Test Settings
B19: Photos | C19: Product and Sensor Placement Photos
B20: Test Conditions | C20: Table of Test Condition Requirements for Each Test
B21: Test Data & Derived Results | C21: Energy and Water Measurement Inputs and Calculations
B22: Report Sign-Off Block | C22: Report Review History
B23: Reference Material | C23: Table of Dishware and Abbreviations
B24: Drop-downs | C24: Used for Drop-down Lists; Summary of Drop-down Options
B25: Version Control | C25: Report Template Revision History
B27: LEGEND
B28: Tabs | C28: Tabs with input cells
B29: Cells | C29: Input cell
C30: Auto-populated cell
C31: Provided data
C32: NOT USED
B34: Instructions for Completing this Template
B35: Follow the steps below, filling in all input cells (shaded light blue) in each tab you are instructed to complete. Using TAB to "hop" from input cell to input cell is useful, but does not ensure that all input cells are reached. To guarantee that you enter all required information, you must visually scan for light blue cells in the entire area bounded by yellow-shaded cells.
B38: Important: Start with a clean (unused) template copy for each new report. Enter only data and information that are unique to the unit tested and the current test of that unit. All abbreviations and variable names should be consistent with the reference test procedure.
B41: STEP: | C41: FILL IN INPUT CELLS IN THIS TAB:
B43: Step 1 | C43: General Info & Test Results
B44: Step 2 | C44: Setup & Instrumentation
B45: Step 3 | C45: Settings
B46: Step 4 | C46: Photos
B47: Step 5 | C47: Test Conditions
B48: Step 6 | C48: Test Data & Derived Results
B49: Step 7 | C49: Report Sign-off Block

Sheet General Info & Test Results
B2: ='Version Control'!$B$2 -> Title Block
B3: ='Version Control'!$B$3 -> Test Report Template Name: | C3: ='Version Control'!$C$3 -> Dishwasher | G3: Back to Instructions tab
B4: ='Version Control'!$B$4 -> Version Number: | C4: ='Version Control'!$C$4 -> v3.4
B5: ='Version Control'!$B$5 -> Latest Template Revision: | C5: ='Version Control'!$C$5 -> 45245
B6: ='Version Control'!$B$6 -> Tab Name: | C6: =MID(CELL("filename",B1), FIND("]", CELL("filename", B1))+ 1, 255) -> General Info & Test Results
B7: ='Version Control'!$B$7 -> File Name: | C7: ='Version Control'!$C$7 -> Dishwasher - v3.4.xlsx
B8: ='Version Control'!$B$8 -> Test Completion Date: | C8: ='Version Control'!$C$8 -> [MM/DD/YYYY]
B11: Lab Information | E11: Figures of Merit for Tested Unit
B12: Lab Name: | E12: Variable | F12: Result | G12: Units
B13: Lab Location: | E13: Water Consumption: | F13: =IF(C32="yes ",'Test Data & Derived Results'!F97+'Test Data & Derived Results'!F101,IF(C32="no",'Test Data & Derived Results'!O97+'Test Data & Derived Results'!O101,"")) | G13: gal/cycle
E14: Estimated Annual Energy Use: | F14: =IF(C32="yes ",'Test Data & Derived Results'!F171,IF(C32="no",'Test Data & Derived Results'!O171,"")) | G14: kWh/year
B15: Test Information
B16: Date Test Started: | C16: [MM/DD/YYYY] | E16: NOTE: Copy only; sign off is done in the Report Sign-Off Block tab
B17: Date Test Finished: | C17: [MM/DD/YYYY] | E17: Test Report Sign-Off Block
E18: We certify that the information and data in this report: (1) were obtained from the specific test unit under test; (2) were obtained during the specific test being reported; (3) were not copied from any other source, except where instructed to do so; and (4) were not altered or modified in any way.
B19: Product Information
B20: Unit Type:
B21: Manufacturer: | E21: Role | G21: Date | H21: Entity
B22: Brand: | E22: Test Completion | G22: ='Report Sign-Off Block'!D15 -> [MM/DD/YYYY] | H22: =IF('Report Sign-Off Block'!E15<>0,'Report Sign-Off Block'!E15,"") -> [Test Lab Name]
B23: Manufacturer Model Number: | E23: Template Population | G23: ='Report Sign-Off Block'!D16 -> [MM/DD/YYYY] | H23: =IF('Report Sign-Off Block'!E16<>0,'Report Sign-Off Block'!E16,"") -> [Test Lab Name]
B24: Serial Number: | E24: Report Review by Test Lab | G24: ='Report Sign-Off Block'!D17 -> [MM/DD/YYYY] | H24: =IF('Report Sign-Off Block'!E17<>0,'Report Sign-Off Block'!E17,"") -> [Test Lab Name]
B25: Date Manufactured: | E25: Report Review by Test Lab | G25: ='Report Sign-Off Block'!D18 -> [MM/DD/YYYY] | H25: =IF('Report Sign-Off Block'!E18<>0,'Report Sign-Off Block'!E18,"") -> [Test Lab Name]
B26: Date Product Received: | C26: [MM/DD/YYYY]
B27: Condition as Received:
B29: Product Characteristics
B30: Capacity (number of place settings):
B31: Does unit have a power dry feature?
B32: Does unit have a soil-sensing normal cycle?
B33: Does unit heat water?
B34: Is the unit rated for 50, 120, or 140°F ?
B35: Is the unit a water-softening dishwasher?
B36: Rated Voltage:
B37: Rated Frequency:

Sheet Setup & Instrumentation
B2: ='Version Control'!$B$2 -> Title Block
B3: ='Version Control'!$B$3 -> Test Report Template Name: | C3: ='Version Control'!$C$3 -> Dishwasher | G3: Back to Instructions tab
B4: ='Version Control'!$B$4 -> Version Number: | C4: ='Version Control'!$C$4 -> v3.4
B5: ='Version Control'!$B$5 -> Latest Template Revision: | C5: ='Version Control'!$C$5 -> 45245
B6: ='Version Control'!$B$6 -> Tab Name: | C6: =MID(CELL("filename",B1), FIND("]", CELL("filename", B1))+ 1, 255) -> Setup & Instrumentation
B7: ='Version Control'!$B$7 -> File Name: | C7: ='Version Control'!$C$7 -> Dishwasher - v3.4.xlsx
B8: Test Start Date: | C8: ='General Info & Test Results'!C16 -> [MM/DD/YYYY]
B9: ='Version Control'!$B$8 -> Test Completion Date: | C9: ='Version Control'!$C$8 -> [MM/DD/YYYY]
B12: Setup (this table should include instrumentation, sensors, and all equipment used during testing)
B13: Instrument Type | C13: Brand | D13: Model # | E13: Sensor Location | F13: Accuracy | G13: Date of Last Calibration | H13: Deadline for Next Calibration
G14: [MM/DD/YYYY] | H14: [MM/DD/YYYY]
G15: [MM/DD/YYYY] | H15: [MM/DD/YYYY]
G16: [MM/DD/YYYY] | H16: [MM/DD/YYYY]
G17: [MM/DD/YYYY] | H17: [MM/DD/YYYY]
G18: [MM/DD/YYYY] | H18: [MM/DD/YYYY]
G19: [MM/DD/YYYY] | H19: [MM/DD/YYYY]
G20: [MM/DD/YYYY] | H20: [MM/DD/YYYY]
G21: [MM/DD/YYYY] | H21: [MM/DD/YYYY]
G22: [MM/DD/YYYY] | H22: [MM/DD/YYYY]
G23: [MM/DD/YYYY] | H23: [MM/DD/YYYY]
G24: [MM/DD/YYYY] | H24: [MM/DD/YYYY]
G25: [MM/DD/YYYY] | H25: [MM/DD/YYYY]
... G31: [MM/DD/YYYY] | H31: [MM/DD/YYYY]
B33: Please describe the test setup

Sheet Settings
B2: ='Version Control'!$B$2 -> Title Block
B3: ='Version Control'!$B$3 -> Test Report Template Name: | C3: ='Version Control'!$C$3 -> Dishwasher | G3: Back to Instructions tab
B4: ='Version Control'!$B$4 -> Version Number: | C4: ='Version Control'!$C$4 -> v3.4
B5: ='Version Control'!$B$5 -> Latest Template Revision: | C5: ='Version Control'!$C$5 -> 45245
B6: ='Version Control'!$B$6 -> Tab Name: | C6: =MID(CELL("filename",B1), FIND("]", CELL("filename", B1))+ 1, 255) -> Settings
B7: ='Version Control'!$B$7 -> File Name: | C7: ='Version Control'!$C$7 -> Dishwasher - v3.4.xlsx
B8: ='Version Control'!$B$8 -> Test Completion Date: | C8: ='Version Control'!$C$8 -> [MM/DD/YYYY]
B11: Settings
B12: Cycle Settings Used for Each Test
B13: Identify all settings for all test cycles.
B14: Cycle | C14: Settings (cycle and options)
B15: Preconditioning 1
B16: Preconditioning 2
B17: Non-soil sensing cycle (if necessary)
B18: Sensor heavy response (if necessary)
B19: Sensor medium response (if necessary)
B20: Sensor light response (if necessary)
B22: Test Cycle Load (in accordance with section 2.7 of Appendix C1)
B23: Describe any deviations from the dishes specified on the Reference Material tab used for test load.
C29: Non-Soil-Sensing | D29: Sensor Heavy Response Cycle | F29: Sensor Medium Response Cycle | G29: Sensor Light Response Cycle
B30: Was Test Load used?
B31: # of Soiled Place Settings
B32: # of Clean Place Settings
B33: # of Serving Pieces
B34: # of Flatware items
B36: Detergent (in accordance with section 2.10 of Appendix C1)
B37: Fill volume from second preconditioning cycle used to determine detergent dosing
B38: Pre-wash fill volume* (Vpw) | D38: [gallons]
B39: Main wash fill volume (Vmw) | D39: [gallons]
B40: *If applicable
C42: Non-Soil-Sensing | D42: Sensor Heavy Response Cycle | F42: Sensor Medium Response Cycle | G42: Sensor Light Response Cycle
B43: Type of Detergent used
B44: Amount of pre-wash detergent used (Dpw) (g)*
B45: Amount of main wash detergent used (Dmw) (g)
B46: *If applicable

Sheet Photos
B2: ='Version Control'!$B$2 -> Title Block
B3: ='Version Control'!$B$3 -> Test Report Template Name: | C3: ='Version Control'!$C$3 -> Dishwasher | J3: Back to Instructions tab
B4: ='Version Control'!$B$4 -> Version Number: | C4: ='Version Control'!$C$4 -> v3.4
B5: ='Version Control'!$B$5 -> Latest Template Revision: | C5: ='Version Control'!$C$5 -> 45245
B6: ='Version Control'!$B$6 -> Tab Name: | C6: =MID(CELL("filename",A1), FIND("]", CELL("filename", A1))+ 1, 255) -> Photos
B7: ='Version Control'!$B$7 -> File Name: | C7: ='Version Control'!$C$7 -> Dishwasher - v3.4.xlsx
B8: ='Version Control'!$B$8 -> Test Completion Date: | C8: ='Version Control'!$C$8 -> [MM/DD/YYYY]
B11: 1. Nameplate showing model number and serial number (if applicable) | G11: 2. FTC EnergyGuide label (if present)
B32: 3. Placement of all sensors on, in, or around the appliance (for testing) | G32: 4. Dishwasher loading configuration
B53: 5. Installation of dishwasher (in accordance with section 2.1 of Appendix C1) | G53: 6. Soiled place setting
B74: 7. Photos of test unit from all sides (including control panel, if applicable)
B96: 8. Additional photos (if necessary)

Sheet Test Conditions
B2: ='Version Control'!$B$2 -> Title Block
B3: ='Version Control'!$B$3 -> Test Report Template Name: | C3: ='Version Control'!$C$3 -> Dishwasher
B4: ='Version Control'!$B$4 -> Version Number: | C4: ='Version Control'!$C$4 -> v3.4 | I4: Back to Instructions tab
B5: ='Version Control'!$B$5 -> Latest Template Revision: | C5: ='Version Control'!$C$5 -> 45245
B6: ='Version Control'!$B$6 -> Tab Name: | C6: =MID(CELL("filename",A1), FIND("]", CELL("filename", A1))+ 1, 255) -> Test Conditions
B7: ='Version Control'!$B$7 -> File Name: | C7: ='Version Control'!$C$7 -> Dishwasher - v3.4.xlsx
B8: ='Version Control'!$B$8 -> Test Completion Date: | C8: ='Version Control'!$C$8 -> [MM/DD/YYYY]
B11: Prescribed Test Conditions for DW Energy Test | J11: Voltage No-Soil Load Graph, if available | S11: Voltage Heavy Load Graph, if available | AB11: Voltage Medium Load Graph, if available | AK11: Voltage Light Load Graph, if available
B12: Line voltage (section 2.2 of Appendix C1): | C12: 115 V or 240 V ± 2%
B13: Frequency (section 2.2 of Appendix C1): | C13: < 1% of nameplate
B14: Water temperature (section 2.3 of Appendix C1): | C14: 140, 120, or 50 ± 2 F
B15: Water pressure (section 2.4 of Appendix C1): | C15: 35 ± 2.5 psig
B16: Ambient and Machine Temp (section 2.5 of Appendix C1): | C16: 75 ± 5 F
B18: Measured Test Conditions
B19: Averaged values, but conditions shall be maintained per Appendix C1 as described above.
B20: If available, plots may be used. Insert to the right, and enter "see graph".
B21: Line voltage: | D21: [V]
B22: Frequency: | D22: [Hz]
B23: Water temperature: | D23: [°F]
B24: Water pressure: | D24: [psig]
B25: Ambient and Machine temperature: | D25: [°F]
B27: Explanation of how test conditions were monitored and controlled:
B28: Line Voltage | J28: Water Temperature No-Soil Load Graph, if available | S28: Water Temperature Heavy Load Graph, if available | AB28: Water Temperature Medium Load Graph, if available | AK28: Water Temperature Light Load Graph, if available
B31: Frequency
B34: Water temperature
B37: Water pressure
B40: Ambient and Machine temperature
J44: Water Pressure No-Soil Load Graph, if available | S44: Water Pressure Heavy Load Graph, if available | AB44: Water Pressure Medium Load Graph, if available | AK44: Water Pressure Light Load Graph, if available

Sheet Test Data & Derived Results
B2: ='Version Control'!$B$2 -> Title Block
B3: ='Version Control'!$B$3 -> Test Report Template Name: | E3: ='Version Control'!$C$3 -> Dishwasher | M3: Back to Instructions tab
B4: ='Version Control'!$B$4 -> Version Number: | E4: ='Version Control'!$C$4 -> v3.4
B5: ='Version Control'!$B$5 -> Latest Template Revision: | E5: ='Version Control'!$C$5 -> 45245
B6: ='Version Control'!$B$6 -> Tab Name: | E6: =MID(CELL("filename",C1), FIND("]", CELL("filename", C1))+ 1, 255) -> Test Data & Derived Results
B7: ='Version Control'!$B$7 -> File Name: | E7: ='Version Control'!$C$7 -> Dishwasher - v3.4.xlsx
B8: ='Version Control'!$B$8 -> Test Completion Date: | E8: ='Version Control'!$C$8 -> [MM/DD/YYYY]
B11: Test Cycle and Measurements
B12: For water-softening units, record the reported additional energy and water consumption for a regeneration cycle, and the reported typical number of regeneration cycles per year.
C14: For Soil-Sensing Units | L14: For Non-Soil-Sensing Units
D16: Sensor Heavy Response
E17: Measurement | N17: Measurement
D18: Machine Electrical Energy Consumption (Mhr) | F18: [kWh] | M18: Machine Electrical Energy Consumption (M) | O18: [kWh]
D19: Water Consumption (Vhr) | F19: [gallons] | M19: Water Consumption (V) | O19: [gallons]
D20: Drying Energy Consumption (EDhr) | F20: [kWh] | M20: Drying Energy Consumption (ED) | O20: [kWh]
D21: Fan-only Mode Energy Consumption (EFhr), if applicable | F21: [kWh] | M21: Fan-only Mode Energy Consumption (EFhr), if applicable | O21: [kWh]
D22: *If measured for entire fan-only mode duration | M22: *If measured for entire fan-only mode duration
D23: Fan-only Mode Energy Consumption (EFhr), if applicable | F23: [Wh] | M23: Fan-only Mode Energy Consumption (EFhr), if applicable | O23: [Wh]
D24: *If measured for a representative 10-minute period | M24: *If measured for a representative 10-minute period
D25: Duration of Cycle (Lhr, non-truncated) | F25: [hours] | M25: Duration of Cycle (Lnon-truncated) | O25: [hours]
D26: Duration of Truncated Cycle, if available (Lhr, truncated) | F26: [hours] | M26: Duration of Truncated Cycle, if available (Ltruncated) | O26: [hours]
D27: Duration of Fan-only Mode, if available (LFhr) | F27: [hours] | M27: Duration of Fan-only Mode, if available (LF) | O27: [hours]
D28: Off Mode Power, if applicable (POM) | F28: [W] | M28: Off Mode Power, if applicable (POM) | O28: [W]
D29: Inactive Mode Power, if applicable (PIA) | F29: [W] | M29: Inactive Mode Power, if applicable (PIA) | O29: [W]
D31: Sensor Medium Response
E32: Measurement | L32: For Water Softener Regeneration Cycles
D33: Machine Electrical Energy Consumption (Mmr) | F33: [kWh]
D34: Water Consumption (Vmr) | F34: [gallons] | M34: Machine Electrical Energy Consumption* (MWScycle) | O34: [kWh]
D35: Drying Energy Consumption (EDmr) | F35: [kWh] | M35: Water Consumption* (VWScycle) | O35: [gallons]
D36: Fan-only Mode Energy Consumption (EFhr), if applicable | F36: [kWh] | M36: Representative Number of Annual Regeneration Cycles* (NWS) | O36: [cycles]
D37: *If measured for entire fan-only mode duration | M37: *Note that these values are based on the manufacturer-supplied certification report, and do not require separate testing.
D38: Fan-only Mode Energy Consumption (EFhr), if applicable | F38: [Wh]
D39: *If measured for a representative 10-minute period
D40: Duration of Cycle (Lmr, non-truncated) | F40: [hours]
D41: Duration of Truncated Cycle, if available (Lmr, truncated) | F41: [hours]
D42: Duration of Fan-only Mode, if available (LFmr) | F42: [hours]
D43: Off Mode Power, if applicable (POM) | E43: =E28 -> 0 | F43: [W]
D44: Inactive Mode Power, if applicable (PIA) | E44: =E29 -> 0 | F44: [W]
D46: Sensor Light Response
E47: Measurement
D48: Machine Electrical Energy Consumption (Mlr) | F48: [kWh]
D49: Water Consumption (Vlr) | F49: [gallons]
D50: Drying Energy Consumption (EDlr) | F50: [kWh]
D51: Fan-only Mode Energy Consumption (EFhr), if applicable | F51: [kWh]
D52: *If measured for entire fan-only mode duration
D53: Fan-only Mode Energy Consumption (EFhr), if applicable | F53: [Wh]
D54: *If measured for a representative 10-minute period
D55: Duration of Cycle (Llr, non-truncated) | F55: [hours]
D56: Duration of Truncated Cycle, if available (Llr, truncated) | F56: [hours]
D57: Duration of Fan-only Mode, if available (LFlr) | F57: [hours]
D58: Off Mode Power, if applicable (POM) | E58: =E28 -> 0 | F58: [W]
D59: Inactive Mode Power, if applicable (PIA) | E59: =E29 -> 0 | F59: [W]
B63: Notes/Comments: (Please clarify any pertinent details, unusual events, etc.)
B70: Derived Results from Test Measurements
C72: For Soil-Sensing Units | L72: For Non-Soil-Sensing Units
D74: Machine Energy Consumption (M) | F74: Measurement | M74: Machine Energy Consumption (M) | O74: Measurement
F75: =(E18*F79)+(E33*F80)+(E48*F81) -> 0 | G75: kWh/Cycle | O75: =N18 -> 0 | P75: kWh/Cycle
D76: - for soil-sensing DW M = (Mhr×Fhr) + (Mmr×Fmr) + (Mlr×Flr) | M76: - for non-soil-sensing DW, use value recorded in section 4.1.1 of Appendix C1
D78: Soil-Sensing Weighting Factors
D79: Fhr= the weighting factor based on consumer use of heavy response | F79: 0.05
D80: Fmr= the weighting factor based on consumer use of medium response | F80: 0.33
D81: Flr= the weighting factor based on consumer use of light response | F81: 0.62
D83: Machine Energy Consumption for Water Softener Regeneration (MWS) | F83: Measurement | M83: Machine Energy Consumption for Water Softener Regeneration (MWS) | O83: Measurement
F84: =N34*N36/F86 -> 0 | G84: kWh/Cycle | O84: =N34*N36/O86 -> 0 | P84: kWh/Cycle
D85: MWS=(MWScycle×NWS)/N | M85: MWS=(MWScycle×NWS)/N
E86: N | F86: 215 | G86: average DW cycles/year | N86: N | O86: 215 | P86: average DW cycles/year
D88: Drying Energy Consumption (ED) | F88: Measurement | M88: Drying Energy Consumption (ED) | O88: Measurement
F89: =(E20+E35+E50)/3 -> 0 | G89: kWh/Cycle | O89: =N20 -> 0 | P89: kWh/Cycle
D90: - for soil-sensing dishwashers ED= (EDhr+ EDmr+ EDlr)/3 | M90: - for non-soil-sensing DW, drying energy consumed during normal cycle
D92: Fan-only Mode Energy Consumption (EF) | F92: Measurement | M92: Fan-only Mode Energy Consumption (EF) | O92: Measurement
F93: =IF(E21>0,(E21+E36+E51)/3,((E23+E38+E53)/3)*((E27+E42+E57)/3)*60/10000) -> 0 | G93: kWh/Cycle | O93: =IF(N21>0,N21,N23*N27*60/10000) -> 0 | P93: kWh/Cycle
D94: - for soil-sensing dishwashers EF= (EFhr+ EFmr+ EFlr)/3 | M94: - for non-soil-sensing DW, fan-only energy consumed during normal cycle
D96: Water Consumption (V) | F96: Measurement | M96: Water Consumption (V) | O96: Measurement
F97: =(E19*F79)+(E34*F80)+(E49*F81) -> 0 | G97: gallons/cycle | O97: =N19 -> 0 | P97: gallons/cycle
D98: - for soil-sensing DW V = (Vhr×Fhr) + (Vmr×Fmr) + (Vlr×Flr) | M98: - for non-soil-sensing DW, use value recorded in section 4.1.3 of Appendix C1
D100: Water Consumption for Water Softener Regeneration (VWS) | F100: Measurement | M100: Water Consumption for Water Softener Regeneration (VWS) | O100: Measurement
F101: =N35*N36/F86 -> 0 | G101: gallons/cycle | O101: =N35*N36/O86 -> 0 | P101: gallons/cycle
D102: VWS=(VWScycle×NWS)/N | M102: VWS=(VWScycle×NWS)/N
D104: Water Energy Consumption (for DW with electrically heated water) (W) | F104: Measurement | M104: Water Energy Consumption (for DW with electrically heated water) (W) | O104: Measurement
F105: =F97*F110*F111 -> #VALUE! | G105: kWh/cycle | O105: =O97*O110*O111 -> #VALUE! | P105: kWh/cycle
D106: - for dishwashers that operate with a nominal 140°F inlet water temperature W = VxTxK, where T= 90°F | M106: - for dishwashers that operate with a nominal 140°F inlet water temperature W = VxTxK, where T= 90°F
D107: - for dishwashers that operate with a nominal 120°F inlet water temperature W = VxTxK, where T= 70°F | M107: - for dishwashers that operate with a nominal 120°F inlet water temperature W = VxTxK, where T= 70°F
D108: - K = specific heat of water in kilowatt-hours per gallon per degree Fahrenheit = 0.0024 | M108: - K = specific heat of water in kilowatt-hours per gallon per degree Fahrenheit = 0.0024
E110: T | F110: =IF('General Info & Test Results'!C34=140,90,IF('General Info & Test Results'!C34=120,70,IF('General Info & Test Results'!C34=50,0,"error"))) -> error | G110: F | N110: T | O110: =IF('General Info & Test Results'!C34=140,90,IF('General Info & Test Results'!C34=120,70,IF('General Info & Test Results'!C34=50,0,"error"))) -> error | P110: F
E111: K | F111: 0.0024 | G111: kWh/(gallon*degree) | N111: K | O111: 0.0024 | P111: kWh/(gallon*degree)
D113: Water Energy Consumption (for DW with gas- or oil-heated water) (Wg) | F113: Measurement | M113: Water Energy Consumption (for DW with gas- or oil-heated water) (Wg) | O113: Measurement
F114: =F97*F120*F121/F122 -> #VALUE! | G114: Btu/cycle | O114: =O97*O120*O121/O122 -> #VALUE! | P114: Btu/cycle
D115: - for dishwashers that operate with a nominal 140°F inlet water temperature Wg = VxTxC/e, where T= 90°F | M115: - for dishwashers that operate with a nominal 140°F inlet water temperature Wg = VxTxC/e, where T= 90°F
D116: - for dishwashers that operate with a nominal 120°F inlet water temperature Wg = VxTxC/e, where T= 70°F | M116: - for dishwashers that operate with a nominal 120°F inlet water temperature Wg = VxTxC/e, where T= 70°F
D117: - C = specific heat of water in Btu's per gallon per degree Fahrenheit = 8.2 | M117: - C = specific heat of water in Btu's per gallon per degree Fahrenheit = 8.2
D118: - e = nominal gas or oil water heater recovery efficiency = 0.75 | M118: - e = nominal gas or oil water heater recovery efficiency = 0.75
E120: T | F120: =IF('General Info & Test Results'!C34=140,90,IF('General Info & Test Results'!C34=120,70,IF('General Info & Test Results'!C34=50,0,"error"))) -> error | G120: F | N120: T | O120: =IF('General Info & Test Results'!C34=140,90,IF('General Info & Test Results'!C34=120,70,IF('General Info & Test Results'!C34=50,0,"error"))) -> error | P120: F
E121: C | F121: 8.2 | G121: Btu/(gallon*F) | N121: C | O121: 8.2 | P121: Btu/(gallon*F)
E122: e | F122: 0.75 | G122: unitless | N122: e | O122: 0.75 | P122: unitless
D124: Water Softener Regeneration Water Energy Consumption (for DW with electrically heated water) (WWS) | F124: Measurement | M124: Water Softener Regeneration Water Energy Consumption (for DW with electrically heated water) (WWS) | O124: Measurement
F125: =F101*F130*F131 -> #VALUE! | G125: kWh/cycle | O125: =O101*O130*O131 -> #VALUE! | P125: kWh/cycle
D126: - for dishwashers that operate with a nominal 140°F inlet water temperature WWS = VWSxTxK, where T= 90°F | M126: - for dishwashers that operate with a nominal 140°F inlet water temperature WWS = VWSxTxK, where T= 90°F
D127: - for dishwashers that operate with a nominal 120°F inlet water temperature WWS = VWSxTxK, where T= 70°F | M127: - for dishwashers that operate with a nominal 120°F inlet water temperature WWS = VWSxTxK, where T= 70°F
D128: - K = specific heat of water in kilowatt-hours per gallon per degree Fahrenheit = 0.0024 | M128: - K = specific heat of water in kilowatt-hours per gallon per degree Fahrenheit = 0.0024
E130: T | F130: =IF('General Info & Test Results'!C34=140,90,IF('General Info & Test Results'!C34=120,70,IF('General Info & Test Results'!C34=50,0,"error"))) -> error | G130: F | N130: T | O130: =IF('General Info & Test Results'!C34=140,90,IF('General Info & Test Results'!C34=120,70,IF('General Info & Test Results'!C34=50,0,"error"))) -> error | P130: F
...

Sheet Report Sign-Off Block
B2: ='Version Control'!$B$2 -> Title Block
B3: ='Version Control'!$B$3 -> Test Report Template Name: | C3: ='Version Control'!$C$3 -> Dishwasher | G3: Back to Instructions tab
B4: ='Version Control'!$B$4 -> Version Number: | C4: ='Version Control'!$C$4 -> v3.4
B5: ='Version Control'!$B$5 -> Latest Template Revision: | C5: ='Version Control'!$C$5 -> 45245
B6: ='Version Control'!$B$6 -> Tab Name: | C6: =MID(CELL("filename",B1), FIND("]", CELL("filename", B1))+ 1, 255) -> Report Sign-Off Block
B7: ='Version Control'!$B$7 -> File Name: | C7: ='Version Control'!$C$7 -> Dishwasher - v3.4.xlsx
B8: ='Version Control'!$B$8 -> Test Completion Date: | C8: ='Version Control'!$C$8 -> [MM/DD/YYYY]
B11: Test Report Sign-Off Block
B12: By signing in the space below, we certify that the information and data in this report: (1) were obtained from the specific test unit under test; (2) were obtained during the specific test being reported; (3) were not copied from any other source, except where instructed to do so; and (4) were not altered or modified in any way.
B14: Role | D14: Date | E14: Entity
B15: Test Completion | D15: ='General Info & Test Results'!C17 -> [MM/DD/YYYY] | E15: [Test Lab Name]
B16: Template Completion | D16: [MM/DD/YYYY] | E16: [Test Lab Name]
B17: Report Review by Test Lab | D17: [MM/DD/YYYY] | E17: [Test Lab Name]
B18: Report Review by Test Lab | D18: [MM/DD/YYYY] | E18: [Test Lab Name]

Sheet Reference Material
B2: ='Version Control'!$B$2 -> Title Block
B3: ='Version Control'!$B$3 -> Test Report Template Name: | C3: ='Version Control'!$C$3 -> Dishwasher
B4: ='Version Control'!$B$4 -> Version Number: | C4: ='Version Control'!$C$4 -> v3.4
B5: ='Version Control'!$B$5 -> Latest Template Revision: | C5: ='Version Control'!$C$5 -> 45245
B6: ='Version Control'!$B$6 -> Tab Name: | C6: =MID(CELL("filename",A1), FIND("]", CELL("filename", A1))+ 1, 255) -> Reference Material
B7: ='Version Control'!$B$7 -> File Name: | C7: ='Version Control'!$C$7 -> Dishwasher - v3.4.xlsx
B8: ='Version Control'!$B$8 -> Test Completion Date: | C8: ='Version Control'!$C$8 -> [MM/DD/YYYY]
B11: Tables for Reference from the Dishwasher Test Procedure
B12: Tables found in 10 CFR 430, Appendix C1
B13: Test Load
B14: Dishware/glassware/flatware item | C14: Primary source | D14: Description | E14: Primary No. | F14: Alternate source | G14: Alternate source No.
B15: Dinner Plate | C15: Corning Comcor®/Corelle® | D15: 10 inch Dinner Plate | E15: 6003893
B16: Bread and Butter Plate | C16: Corning Comcor®/Corelle® | D16: 6.75 inch Bread & Butter | E16: 6003887 | F16: Arzberg | G16: 8500217100 or 2000-00001-0217-1
B17: Fruit Bowl | C17: Corning Comcor®/Corelle® | D17: 10 oz. Dessert Bowl | E17: 6003899 | F17: Arzberg | G17: 3820513100
B18: Cup | C18: Corning Comcor®/Corelle® | D18: 8 oz. Ceramic Cup | E18: 6014162 | F18: Arzberg | G18: 1382-00001-4732
B19: Saucer | C19: Corning Comcor®/Corelle® | D19: 6 inch Saucer | E19: 6010972 | F19: Arzberg | G19: 1382-00001-4731
B20: Serving Bowl | C20: Corning Comcor®/Corelle® | D20: 1 qt. Serving Bowl | E20: 6003911
B21: Platter | C21: Corning Comcor®/Corelle® | D21: 9.5 inch Oval Platter | E21: 6011655
B22: Glass-Iced Tea | C22: Libbey | E22: 551 HT
B23: Flatware—Knife | C23: Oneida®—Accent | E23: 2619KPVF | F23: WMF-Gastro 0800 | G23: 12.0803.6047
B24: Flatware—Dinner Fork | C24: Oneida®—Accent | E24: 2619FRSF | F24: WMF-Signum 1900 | G24: 12.1905.6040
B25: Flatware—Salad Fork | C25: Oneida®—Accent | E25: 2619FSLF | F25: WMF-Signum 1900 | G25: 12.1964.6040
B26: Flatware—Teaspoon | C26: Oneida®—Accent | E26: 2619STSF | F26: WMF-Signum 1900 | G26: 12.1910.6040
B27: Flatware—Serving Fork | C27: Oneida®—Flight | E27: 2865FCM | F27: WMF-Signum 1900 | G27: 12.1902.6040
B28: Flatware—Serving Spoon | C28: Oneida®—Accent | E28: 2619STBF | F28: WMF-Signum 1900 | G28: 12.1904.6040
B30: Abbreviations
B31: UUT = unit under test
B32: Vpw= the value recorded in section 2.9 of Appendix C1 for the prewash water fill volume of the second preconditioning cycle, expressed in gallons
B33: Vmw= the value recorded in section 2.9 of Appendix C1 for the prewash water fill volume of the second preconditioning cycle, expressed in gallons
B34: Dpw= the prewash detergent dosing determined in section 2.10.1 of Appendix C1, expressed in grams
B35: Dmw= the prewash detergent dosing determined in section 2.10.2 of Appendix C1, expressed in grams
B36: Mhr= the value recorded in section 4.1.1 of Appendix C1 for the test of the sensor heavy response, expressed in kilowatt-hours per cycle
B37: Mmr= the value recorded in section 4.1.1 of Appendix C1 for the test of the sensor medium response, expressed in kilowatt-hours per cycle
B38: Mlr= the value recorded in section 4.1.1 of Appendix C1 for the test of the sensor light response, expressed in kilowatt-hours per cycle
B39: Fhr= the weighting factor based on consumer use of heavy response = 0.05
B40: Fmr= the weighting factor based on consumer use of medium response = 0.33
B41: Flr= the weighting factor based on consumer use of light response = 0.62
... B68: LF= the duration of the fan-only mode for the normal cycle for non-soil-sensing dishwashers; the average duration of the fan-only mode for sensor light response, sensor medium response, and sensor heavy response for soil-sensing dishwashers

Sheet Drop-downs
B2: ='Version Control'!$B$2 -> Title Block
B3: ='Version Control'!$B$3 -> Test Report Template Name: | C3: ='Version Control'!$C$3 -> Dishwasher
B4: ='Version Control'!$B$4 -> Version Number: | C4: ='Version Control'!$C$4 -> v3.4
B5: ='Version Control'!$B$5 -> Latest Template Revision: | C5: ='Version Control'!$C$5 -> 45245
B6: ='Version Control'!$B$6 -> Tab Name: | C6: =MID(CELL("filename",A1), FIND("]", CELL("filename", A1))+ 1, 255) -> Drop-downs
B7: ='Version Control'!$B$7 -> File Name: | C7: ='Version Control'!$C$7 -> Dishwasher - v3.4.xlsx
B8: ='Version Control'!$B$8 -> Test Completion Date: | C8: ='Version Control'!$C$8 -> [MM/DD/YYYY]
B11: YES/NO | D11: Inlet Temp Rating | F11: Unit Type
B12: Yes | D12: 50 | F12: Standard
B13: No | D13: 120 | F13: Compact
D14: 140

Sheet Version Control
B2: Title Block
B3: Test Report Template Name: | C3: Dishwasher
B4: Version Number: | C4: =INDEX(B13:B58,COUNTA(B13:B58),1) -> v3.4
B5: Latest Template Revision: | C5: =IF(MAX(B13:C100)=0,"No Revisions Dates Entered",MAX(C13:C100)) -> 45245
B6: Tab Name: | C6: =MID(CELL("filename",A1), FIND("]", CELL("filename", A1))+ 1, 255) -> Version Control
B7: File Name: | C7: =MID(CELL("FILENAME",A1),FIND("[",CELL("FILENAME",A1))+1,FIND("]",CELL("FILENAME",A1))-FIND("[",CELL("FILENAME",A1))-1) -> Dishwasher - v3.4.xlsx
B8: Test Completion Date: | C8: ='General Info & Test Results'!C17 -> [MM/DD/YYYY]
B11: Revisions List
B12: Version | C12: Date
B13: v1.0 | C13: 40696
B14: v1.1 | C14: 41031
B15: v1.2 | C15: 41037
B16: v2.0 | C16: 41695
B17: v3.0 | C17: 42160
B18: v3.1 | C18: 42922
B19: v3.2 | C19: 43201
B20: v3.3 | C20: 43207
B21: v3.4 | C21: 45245
