Workbook
Name dd_fanonly: 'Drop-downs'!$B$17:$B$18
Name dd_Temp: 'Drop-downs'!$D$13:$D$15
Name dd_UnitType: 'Drop-downs'!$F$13:$F$14
Name dd_YesNo: 'Drop-downs'!$B$13:$B$14
Name PowerDry: 'General Info & Test Results'!$C$32
Name RatedTemp: 'General Info & Test Results'!$C$35
Name Reservoir: 'General Info & Test Results'!$C$39
Name SoilSensingNormalCycle: 'General Info & Test Results'!$C$33
Name WasLightRun: Settings!$C$21
Name WasMedRun: Settings!$C$19
Name WaterReuse: 'General Info & Test Results'!$C$37
Name WaterSoftening: 'General Info & Test Results'!$C$36

Sheet Instructions
B2: ='Version Control'!$B$2 -> Title Block
B3: ='Version Control'!$B$3 -> Test Report Template Name: | C3: ='Version Control'!$C$3 -> Dishwashers
B4: ='Version Control'!$B$4 -> Version Number: | C4: ='Version Control'!$C$4 -> v1.0
B5: ='Version Control'!$B$5 -> Latest Template Revision: | C5: ='Version Control'!$C$5 -> 45821
B6: ='Version Control'!$B$6 -> Tab Name: | C6: =MID(CELL("filename",B1), FIND("]", CELL("filename", B1))+ 1, 255) -> Instructions
B7: ='Version Control'!$B$7 -> File Name: | C7: ='Version Control'!$C$7 -> Dishwashers Appendix C2 - v1.0.xlsx
B8: ='Version Control'!$B$8 -> Test Start Date: | C8: ='Version Control'!$C$8 -> [MM/DD/YYYY]
B9: ='Version Control'!$B$9 -> Test Completion Date: | C9: ='Version Control'!$C$9 -> [MM/DD/YYYY]
B12: Reference Test Procedure
B13: 10 CFR 430 Subpart B Appendix C2: Uniform Test Method for Measuring the Energy Consumption of Dishwashers
B15: Table of Contents
B16: Tab | C16: Contents
B17: Instructions | C17: Instructions and Table of Contents
B18: General Info & Test Results | C18: Lab Information, Product Information, and Test Results
B19: Setup & Instrumentation | C19: Instrumentation Used to Conduct Test Measurements
B20: Settings | C20: Input for Test Settings
B21: Photos | C21: Product and Sensor Placement Photos
B22: Test Conditions | C22: Table of Test Condition Requirements for Each Test
B23: Test Data & Derived Results | C23: Energy and Water Measurement Inputs and Calculations
B24: Cleaning Performance | C24: Cleaning Performance Inputs and Calculations
B25: Report Sign-Off Block | C25: Report Review History
B26: Drop-downs | C26: Used for Drop-down Lists; Summary of Drop-down Options
B27: Version Control | C27: Report Template Revision History
B29: LEGEND
B30: Tabs | C30: Tabs with input cells
B31: Cells | C31: Input cell
C32: Auto-populated cell
C33: Provided data
C34: NOT USED
B36: Instructions for Completing this Template
B37: Follow the steps below, filling in all input cells (shaded light blue) in each tab you are instructed to complete. Using TAB to "hop" from input cell to input cell is useful, but does not ensure that all input cells are reached. To guarantee that you enter all required information, you must visually scan for light blue cells in the entire area bounded by yellow-shaded cells.
B40: Important: Start with a clean (unused) template copy for each new report. Enter only data and information that are unique to the unit tested and the current test of that unit. All abbreviations and variable names should be consistent with the reference test procedure.
B43: STEP: | C43: FILL IN INPUT CELLS IN THIS TAB:
B45: Step 1 | C45: General Info & Test Results
B46: Step 2 | C46: Setup & Instrumentation
B47: Step 3 | C47: Settings
B48: Step 4 | C48: Photos
B49: Step 5 | C49: Test Conditions
B50: Step 6 | C50: Test Data & Derived Results
B51: Step 7 | C51: Cleaning Performance
B52: Step 8 | C52: Report Sign-off Block

Sheet General Info & Test Results
B2: ='Version Control'!$B$2 -> Title Block
B3: ='Version Control'!$B$3 -> Test Report Template Name: | C3: ='Version Control'!$C$3 -> Dishwashers | F3: Back to Instructions tab
B4: ='Version Control'!$B$4 -> Version Number: | C4: ='Version Control'!$C$4 -> v1.0
B5: ='Version Control'!$B$5 -> Latest Template Revision: | C5: ='Version Control'!$C$5 -> 45821
B6: ='Version Control'!$B$6 -> Tab Name: | C6: =MID(CELL("filename",A1), FIND("]", CELL("filename", A1))+ 1, 255) -> General Info & Test Results
B7: ='Version Control'!$B$7 -> File Name: | C7: ='Version Control'!$C$7 -> Dishwashers Appendix C2 - v1.0.xlsx
B8: ='Version Control'!$B$8 -> Test Start Date: | C8: ='Version Control'!$C$8 -> [MM/DD/YYYY]
B9: ='Version Control'!$B$9 -> Test Completion Date: | C9: ='Version Control'!$C$9 -> [MM/DD/YYYY]
B12: Lab Information | E12: Figures of Merit for Tested Unit
B13: Lab Name: | E13: Variable | F13: Result | G13: Units
B14: Lab Location: | E14: Water Consumption: | F14: =IFERROR('Test Data & Derived Results'!F81+'Test Data & Derived Results'!O90+'Test Data & Derived Results'!O108+'Test Data & Derived Results'!O111, "") | G14: gal/cycle
E15: Estimated Annual Energy Use: | F15: =IFERROR('Test Data & Derived Results'!F107,"") | G15: kWh/year
B16: Test Information | E16: Cleaning Index, Sensor Heavy Response | F16: =IFERROR('Cleaning Performance'!G116,"")
B17: Date Test Started: | C17: [MM/DD/YYYY] | E17: Cleaning Index, Sensor Medium Response | F17: =IFERROR('Cleaning Performance'!G118,"")
B18: Date Test Finished: | C18: [MM/DD/YYYY] | E18: Cleaning Index, Sensor Light Response | F18: =IFERROR('Cleaning Performance'!G120, "")
B20: Product Information | E20: NOTE: Copy only; sign off is done in the Report Sign-Off Block tab
B21: Unit Type: | E21: Test Report Sign-Off Block
B22: Manufacturer: | E22: We certify that the information and data in this report: (1) were obtained from the specific test unit under test; (2) were obtained during the specific test being reported; (3) were not copied from any other source, except where instructed to do so; and (4) were not altered or modified in any way.
B23: Brand:
B24: Manufacturer Model Number:
B25: Serial Number: | E25: Role | G25: Date | H25: Entity
B26: Date Manufactured: | E26: Test Completion | G26: ='Report Sign-Off Block'!D16 -> [MM/DD/YYYY] | H26: =IF('Report Sign-Off Block'!E16<>0,'Report Sign-Off Block'!E16,"") -> [Test Lab Name]
B27: Date Product Received: | C27: [MM/DD/YYYY] | E27: Template Population | G27: ='Report Sign-Off Block'!D17 -> [MM/DD/YYYY] | H27: =IF('Report Sign-Off Block'!E17<>0,'Report Sign-Off Block'!E17,"") -> [Test Lab Name]
B28: Condition as Received: | E28: Report Review by Test Lab | G28: ='Report Sign-Off Block'!D18 -> [MM/DD/YYYY] | H28: =IF('Report Sign-Off Block'!E18<>0,'Report Sign-Off Block'!E18,"") -> [Test Lab Name]
E29: Report Review by Test Lab | G29: ='Report Sign-Off Block'!D19 -> [MM/DD/YYYY] | H29: =IF('Report Sign-Off Block'!E19<>0,'Report Sign-Off Block'!E19,"") -> [Test Lab Name]
B30: Product Characteristics
B31: Capacity (number of place settings):
B32: Does unit have a power dry feature?
B33: Does unit have a soil-sensor?
B34: Does unit heat water?
B35: Is the unit rated for 50, 120, or 140°F ?
B36: Is the unit a water-softening dishwasher?
B37: Is the unit a water re-use system dishwasher?
B38: Is the unit an in-sink dishwasher?
B39: Does the unit have a built-in reservoir?
B40: Rated Voltage (V):
B41: Rated Frequency (Hz):

Sheet Setup & Instrumentation
B2: ='Version Control'!$B$2 -> Title Block
B3: ='Version Control'!$B$3 -> Test Report Template Name: | C3: ='Version Control'!$C$3 -> Dishwashers | G3: Back to Instructions tab
B4: ='Version Control'!$B$4 -> Version Number: | C4: ='Version Control'!$C$4 -> v1.0
B5: ='Version Control'!$B$5 -> Latest Template Revision: | C5: ='Version Control'!$C$5 -> 45821
B6: ='Version Control'!$B$6 -> Tab Name: | C6: =MID(CELL("filename",A1), FIND("]", CELL("filename", A1))+ 1, 255) -> Setup & Instrumentation
B7: ='Version Control'!$B$7 -> File Name: | C7: ='Version Control'!$C$7 -> Dishwashers Appendix C2 - v1.0.xlsx
B8: ='Version Control'!$B$8 -> Test Start Date: | C8: ='Version Control'!$C$8 -> [MM/DD/YYYY]
B9: ='Version Control'!$B$9 -> Test Completion Date: | C9: ='Version Control'!$C$9 -> [MM/DD/YYYY]
B12: Setup (this table should include instrumentation, sensors, and all equipment used during testing)
B13: Instrument Type | C13: Brand | D13: Model # | E13: Sensor Location | F13: Accuracy | G13: Date of Last Calibration | H13: Deadline for Next Calibration
B40: Please describe the test setup

Sheet Settings
B2: ='Version Control'!$B$2 -> Title Block
B3: ='Version Control'!$B$3 -> Test Report Template Name: | C3: ='Version Control'!$C$3 -> Dishwashers | E3: Back to Instructions tab
B4: ='Version Control'!$B$4 -> Version Number: | C4: ='Version Control'!$C$4 -> v1.0
B5: ='Version Control'!$B$5 -> Latest Template Revision: | C5: ='Version Control'!$C$5 -> 45821
B6: ='Version Control'!$B$6 -> Tab Name: | C6: =MID(CELL("filename",B1), FIND("]", CELL("filename", B1))+ 1, 255) -> Settings
B7: ='Version Control'!$B$7 -> File Name: | C7: ='Version Control'!$C$7 -> Dishwashers Appendix C2 - v1.0.xlsx
B8: ='Version Control'!$B$8 -> Test Start Date: | C8: ='Version Control'!$C$8 -> [MM/DD/YYYY]
B9: ='Version Control'!$B$9 -> Test Completion Date: | C9: ='Version Control'!$C$9 -> [MM/DD/YYYY]
B12: Settings
B13: Cycle Settings Used for Each Test
B14: Identify all settings for all test cycles.
B15: Cycle | C15: Cycle Name | D15: Is the cycle soil-sensing? | E15: Cycle Options
B16: Preconditioning 1
B17: Preconditioning 2
B18: Sensor heavy response
B19: Was sensor medium response cycle run?
B20: Sensor medium response (if necessary)
B21: Was sensor light response cycle run?
B22: Sensor light response (if necessary)
B24: Test Cycle Load (in accordance with section 2.4 of Appendix C2)
B25: Describe any deviations from the dishes specified on the Reference Material tab used for test load.
C31: Sensor Heavy Response Cycle | D31: Sensor Medium Response Cycle | E31: Sensor Light Response Cycle
B32: Was Test Load used?
B33: # of Soiled Place Settings
B34: # of Clean Place Settings
B35: # of Serving Pieces
B36: # of Flatware items
B38: Detergent (in accordance with section 2.6 of Appendix C2)
B39: Detergent dosing for dishwashers other than water re-use system dishwashers
C40: Sensor Heavy Response Cycle | D40: Sensor Medium Response Cycle | E40: Sensor Light Response Cycle
B41: Amount of pre-wash detergent used (Dpw) (g)*
B42: Placement of pre-wash detergent
B43: Amount of main wash detergent used (Dmw) (g)
B44: Placement of main wash detergent
B45: *If applicable
B47: Detergent dosing for water re-use dishwashers
B48: Water volume, representing both saved water fill and house supply water fill (Vrw) | E48: [gallons]
C50: Sensor Heavy Response Cycle | D50: Sensor Medium Response Cycle | E50: Sensor Light Response Cycle
B51: Amount of detergent used (Drw) (g)

Sheet Photos
B2: ='Version Control'!$B$2 -> Title Block
B3: ='Version Control'!$B$3 -> Test Report Template Name: | C3: ='Version Control'!$C$3 -> Dishwashers | J3: Back to Instructions tab
B4: ='Version Control'!$B$4 -> Version Number: | C4: ='Version Control'!$C$4 -> v1.0
B5: ='Version Control'!$B$5 -> Latest Template Revision: | C5: ='Version Control'!$C$5 -> 45821
B6: ='Version Control'!$B$6 -> Tab Name: | C6: =MID(CELL("filename",A1), FIND("]", CELL("filename", A1))+ 1, 255) -> Photos
B7: ='Version Control'!$B$7 -> File Name: | C7: ='Version Control'!$C$7 -> Dishwashers Appendix C2 - v1.0.xlsx
B8: ='Version Control'!$B$8 -> Test Start Date: | C8: ='Version Control'!$C$8 -> [MM/DD/YYYY]
B9: ='Version Control'!$B$9 -> Test Completion Date: | C9: ='Version Control'!$C$9 -> [MM/DD/YYYY]
B12: 1. Nameplate showing model number and serial number (if applicable) | G12: 2. FTC EnergyGuide label (if present)
B33: 3. Placement of all sensors on, in, or around the appliance (for testing) | G33: 4. Dishwasher loading configuration
B54: 5. Installation of dishwasher (in accordance with section 2.1 of Appendix C2) | G54: 6. Soiled place setting
B75: 7. Photos of test unit from all sides (including control panel, if applicable)
B97: 8. Additional photos (if necessary)

Sheet Test Conditions
B2: ='Version Control'!$B$2 -> Title Block
B3: ='Version Control'!$B$3 -> Test Report Template Name: | C3: ='Version Control'!$C$3 -> Dishwashers | F3: Back to Instructions tab
B4: ='Version Control'!$B$4 -> Version Number: | C4: ='Version Control'!$C$4 -> v1.0
B5: ='Version Control'!$B$5 -> Latest Template Revision: | C5: ='Version Control'!$C$5 -> 45821
B6: ='Version Control'!$B$6 -> Tab Name: | C6: =MID(CELL("filename",A1), FIND("]", CELL("filename", A1))+ 1, 255) -> Test Conditions
B7: ='Version Control'!$B$7 -> File Name: | C7: ='Version Control'!$C$7 -> Dishwashers Appendix C2 - v1.0.xlsx
B8: ='Version Control'!$B$8 -> Test Start Date: | C8: ='Version Control'!$C$8 -> [MM/DD/YYYY]
B9: ='Version Control'!$B$9 -> Test Completion Date: | C9: ='Version Control'!$C$9 -> [MM/DD/YYYY]
B12: Prescribed Test Conditions for DW Energy Test (section 2 of Appendix C2) | J12: Voltage Heavy Load Graph, if available | S12: Voltage Medium Load Graph, if available | AB12: Voltage Light Load Graph, if available
B13: Line voltage: | C13: 115 V, 208 V, or 240 V ± 2%
B14: Frequency: | C14: < 1% of nameplate
B15: Water temperature: | C15: 140, 120, or 50 ± 2 F
B16: Water pressure (except units without a direct water line): | C16: 35 ± 2.5 psig
B17: Ambient and machine temperature: | C17: 75 ± 5 F
B18: Relative humidity: | C18: 35% ± 15%
B19: Water hardness: | C19: 0 - 85 parts per million (ppm)
B20: Color temperature of light in evaluation room: | C20: 3,500 - 4,500 K
B21: Luminance at the plane of evaluation | C21: 1,000 - 1,500 lux
B23: Measured Test Conditions
B24: Averaged values, but conditions shall be maintained per Appendix C2 as described above.
B25: If available, plots may be used. Insert to the right, and enter "see graph".
B26: Line voltage: | D26: [V]
B27: Frequency: | D27: [Hz]
B28: Water temperature: | D28: [°F]
B29: Water pressure: | D29: [psig]
B30: Ambient and machine temperature: | D30: [°F] | J30: Water Temperature Heavy Load Graph, if available | S30: Water Temperature Medium Load Graph, if available | AB30: Water Temperature Light Load Graph, if available
B31: Relative humidity: | D31: [%]
B32: Water hardness: | D32: [ppm]
B33: Color temperature of light in evaluation room: | D33: [K]
B34: Luminance at the plane of evaluation | D34: [lux]
B36: Explanation of how test conditions were monitored and controlled:
B37: Line voltage
B40: Frequency
B43: Water temperature
B46: Water pressure
J48: Water Pressure Heavy Load Graph, if available | S48: Water Pressure Medium Load Graph, if available | AB48: Water Pressure Light Load Graph, if available
B49: Ambient and machine temperature
B52: Relative humidity
B55: Water hardness
B58: Color temperature of light in evaluation room
B61: Luminance at the plane of evaluation

Sheet Test Data & Derived Results
B2: ='Version Control'!$B$2 -> Title Block
B3: ='Version Control'!$B$3 -> Test Report Template Name: | E3: ='Version Control'!$C$3 -> Dishwashers | M3: Back to Instructions tab
B4: ='Version Control'!$B$4 -> Version Number: | E4: ='Version Control'!$C$4 -> v1.0
B5: ='Version Control'!$B$5 -> Latest Template Revision: | E5: ='Version Control'!$C$5 -> 45821
B6: ='Version Control'!$B$6 -> Tab Name: | E6: =MID(CELL("filename",C1), FIND("]", CELL("filename", C1))+ 1, 255) -> Test Data & Derived Results
B7: ='Version Control'!$B$7 -> File Name: | E7: ='Version Control'!$C$7 -> Dishwashers Appendix C2 - v1.0.xlsx
B8: ='Version Control'!$B$8 -> Test Start Date: | E8: ='Version Control'!$C$8 -> [MM/DD/YYYY]
B9: ='Version Control'!$B$9 -> Test Completion Date: | E9: ='Version Control'!$C$9 -> [MM/DD/YYYY]
B12: Test Cycle and Measurements
B13: For non-soil-sensing dishwashers, if the unit is not tested at a certain soil load, as specified in section 4.1.d of Appendix C2, the energy and water consumption values of the preceding soil load will auto populate in the cells below, as specified in section 5(b) of Appendix C2.
B14: For water-softening units, record the reported additional energy and water consumption for a regeneration cycle, and the reported typical number of regeneration cycles per year.
B15: For water re-use system dishwashers, record the reported additional energy and water consumption for a drain out and clean out event, and the reported typical number of drain out and clean out events per year.
B16: For dishwashers with a built-in reservoir, record the reported quantity of water consumed during the test cycle.
C18: For All Units | L18: For Water Softener Regeneration Cycles
N19: Reported Value
D20: Low-Power Mode | M20: Machine Electrical Energy Consumption* (MWScycle) | O20: [kWh]
E21: Measurement | M21: Water Consumption* (VWScycle) | O21: [gallons]
D22: Off Mode Power, if applicable (POM) | F22: [W] | M22: Representative Number of Annual Regeneration Cycles* (NWS) | O22: [cycles]
D23: Inactive Mode Power, if applicable (PIA) | F23: [W] | M23: *Note that these values are based on the manufacturer-supplied certification report, and do not require separate testing.
D25: Sensor Heavy Response | L25: For Water Re-Use System Dishwashers
E26: Measurement | N26: Reported Value
D27: Machine Electrical Energy Consumption (Mhr) | F27: [kWh] | M27: Machine Electrical Energy Consumption during a Drain Out Event* (MDOcycle) | O27: [kWh]
D28: Water Consumption (Vhr) | F28: [gallons] | M28: Water Consumption during a Drain Out Event* (VDOcycle) | O28: [gallons]
D29: Drying Energy Consumption (EDhr) | F29: [kWh] | M29: Representative Number of Annual Drain Out Events* (NDO) | O29: [cycles]
D30: How was fan energy measured? | M30: Machine Electrical Energy Consumption during a Clean Out Event* (MCOcycle) | O30: [kWh]
D31: Fan-only Mode Energy Consumption (EFhr), if applicable | F31: =IF(E30="Measured for the entire fan-only mode duration", "[kWh]", IF(E30="Measured for a representative 10-minute period", "[Wh]", "")) | M31: Water Consumption during a Clean Out Event* (VCOcycle) | O31: [gallons]
D32: Duration of Cycle (Lhr, non-truncated) | F32: [hours] | M32: Representative Number of Annual Clean Out Events* (NCO) | O32: [cycles]
D33: Duration of Truncated Cycle, if available (Lhr, truncated) | F33: [hours] | M33: *Note that these values are based on the manufacturer-supplied certification report, and do not require separate testing.
D34: Duration of Fan-only Mode, if available (LFhr) | F34: [hours]
L35: For Dishwashers with a Built-In Reservoir
D36: Sensor Medium Response | N36: Reported Value
E37: Measurement | M37: Water Consumption* (V) | O37: [gallons]
D38: Machine Electrical Energy Consumption (Mmr) | F38: =IF(WasMedRun="No", E27,"") | G38: [kWh] | M38: *Note that this value is based on the manufacturer-supplied certification report, and does not require separate testing.
D39: Water Consumption (Vmr) | F39: =IF(WasMedRun="No", E28,"") | G39: [gallons]
D40: Drying Energy Consumption (EDmr) | F40: =IF(WasMedRun="No", E29,"") | G40: [kWh]
D41: How was fan energy measured?
D42: Fan-only Mode Energy Consumption (EFhr), if applicable | F42: =IF(WasMedRun="No", E31,"") | G42: =IF(E41="Measured for the entire fan-only mode duration", "[kWh]", IF(E41="Measured for a representative 10-minute period", "[Wh]", ""))
D43: Duration of Cycle (Lmr, non-truncated) | F43: =IF(WasMedRun="No", E32,"") | G43: [hours]
D44: Duration of Truncated Cycle, if available (Lmr, truncated) | F44: =IF(WasMedRun="No", E33,"") | G44: [hours]
D45: Duration of Fan-only Mode, if available (LFmr) | F45: =IF(WasMedRun="No", E34,"") | G45: [hours]
D47: Sensor Light Response
E48: Measurement
D49: Machine Electrical Energy Consumption (Mlr) | F49: =IF(WasLightRun="No",IF(WasMedRun="Yes",E38,F38),"") | G49: [kWh]
D50: Water Consumption (Vlr) | F50: =IF(WasLightRun="No",IF(WasMedRun="Yes",E39,F39),"") | G50: [gallons]
D51: Drying Energy Consumption (EDlr) | F51: =IF(WasLightRun="No",IF(WasMedRun="Yes",E40,F40),"") | G51: [kWh]
D52: How was fan energy measured?
D53: Fan-only Mode Energy Consumption (EFhr), if applicable | F53: =IF(WasLightRun="No",IF(WasMedRun="Yes",E42,F42),"") | G53: =IF(E52="Measured for the entire fan-only mode duration", "[kWh]", IF(E52="Measured for a representative 10-minute period", "[Wh]", ""))
D54: Duration of Cycle (Llr, non-truncated) | F54: =IF(WasLightRun="No",IF(WasMedRun="Yes",E43,F43),"") | G54: [hours]
D55: Duration of Truncated Cycle, if available (Llr, truncated) | F55: =IF(WasLightRun="No",IF(WasMedRun="Yes",E44,F44),"") | G55: [hours]
D56: Duration of Fan-only Mode, if available (LFlr) | F56: =IF(WasLightRun="No",IF(WasMedRun="Yes",E45,F45),"") | G56: [hours]
B60: Notes/Comments: (Please clarify any pertinent details, unusual events, etc.)
B67: Derived Results from Test Measurements
C69: For All Units | L69: Weighting Factors and Other Constants
D71: Machine Energy Consumption (M) | L71: Fhr= the weighting factor based on consumer use of heavy response | N71: Fhr | O71: 0.05
D72: M = (Mhr×Fhr) + (Mmr×Fmr) + (Mlr×Flr) | F72: =IFERROR((E27*O71)+(IF(WasMedRun="Yes",E38,F38)*O72)+(IF(WasLightRun="Yes",E49,F49)*O73), "") | G72: kWh/Cycle | L72: Fmr= the weighting factor based on consumer use of medium response | N72: Fmr | O72: 0.33
L73: Flr= the weighting factor based on consumer use of light response | N73: Flr | O73: 0.62
D74: Drying Energy Consumption (ED) | L74: T = nominal water heater temperature rise | N74: T | O74: =IF(RatedTemp=140,90,IF(RatedTemp=120,70,IF(RatedTemp=50,0,"missing selection"))) -> missing selection | P74: F
D75: ED= (EDhr+ EDmr+ EDlr)/3 | F75: =IF(E29>0,(E29+IF(WasMedRun="Yes",E40,F40)+IF(WasLightRun="Yes",E51,F51))/3,0) -> 0 | G75: kWh/Cycle | M75: - for dishwashers that operate with a nominal 140°F inlet water temperature, T= 90°F
M76: - for dishwashers that operate with a nominal 120°F inlet water temperature, T= 70°F
D77: Fan-only Mode Energy Consumption (EF) | L77: K = specific heat of water in kilowatt-hours per gallon per degree Fahrenheit = 0.0024 | N77: K | O77: 0.0024 | P77: kWh/(gallon*degree)
D78: EF= (EFhr+ EFmr+ EFlr)/3 | F78: =IFERROR((E31*IF(E30='Drop-downs'!$B$18, 60/10000,1) + IF(WasMedRun="Yes",E42*IF(E41='Drop-downs'!$B$18, 60/10000,1),F42*IF(E30='Drop-downs'!$B$18, 60/10000,1)) + IF(WasLightRun="Yes",E53*IF(E52='Drop-downs'!$B$18, 60/10000,1),F53*IF(WasMedRun="Yes", IF(E41='Drop-downs'!$B$18, 60/10000,1), IF(E30='Drop-downs'!$B$18, 60/10000,1))))/3,"") | G78: kWh/Cycle | L78: C = specific heat of water in Btu's per gallon per degree Fahrenheit = 8.2 | N78: C | O78: 8.2 | P78: Btu/(gallon*F)
L79: e = nominal gas or oil water heater recovery efficiency = 0.75 | N79: e | O79: 0.75 | P79: unitless
D80: Water Consumption (V) | L80: H = the total number of hours per year = 8766 h per year | N80: H | O80: 8766 | P80: hours/year
D81: V = (Vhr×Fhr) + (Vmr×Fmr) + (Vlr×Flr) | F81: =IFERROR(IF(Reservoir="Yes",N37,((E28*O71)+(IF(WasMedRun="Yes",E39,F39)*O72)+(IF(WasLightRun="Yes",E50,F50)*O73))),"") | G81: gallons/cycle | L81: N = the representative average dishwasher use of 184 cycles per year | N81: N | O81: 184 | P81: cycles/year
L82: K = conversion factor, 0.001 kWh/Wh | N82: K | O82: 0.001 | P82: kWh/Wh
D83: Water Energy Consumption (for dishwashers with electrically heated water) (W)
D84: W = V×T×K | F84: =IFERROR(F81*O74*O77, "") | G84: kWh/cycle | L84: For Water Softener Regeneration Cycles
D86: Water Energy Consumption (for dishwashers with gas- or oil-heated water) (Wg) | M86: Machine Energy Consumption for Water Softener Regeneration (MWS)
D87: Wg = V×T×C/e | F87: =IFERROR(F81*O74*O78/O79,"") | G87: Btu/cycle | M87: MWS=(MWScycle×NWS)/N | O87: =N20*N22/O81 -> 0 | P87: kWh/Cycle
D89: Average Cycle Duration (L) | M89: Water Consumption for Water Softener Regeneration (VWS)
F90: =IF(PowerDry="Yes",(E32+E33+IF(WasMedRun="Yes",E43+E44,F43+F44)+IF(WasLightRun="Yes",E54+E55,F54+F55))/6,IF(PowerDry="No",(E32+IF(WasMedRun="Yes",E43,F43)+IF(WasLightRun="Yes",E54,F54))/3,"missing selection")) -> missing selection | G90: hours/cycle | M90: VWS=(VWScycle×NWS)/N | O90: =N21*N22/O81 -> 0 | P90: gallons/cycle
D91: - for dishwashers with a truncated normal cycle, L = (Lhr, truncated + Lhr, non-truncated + Lmr, truncated + Lmr, non-truncated + Llr, truncated + Llr, non-truncated)/6
D92: - for dishwashers without a truncated normal cycle, L = (Lhr, non-truncated + Lmr, non-truncated + Llr, non-truncated)/3 | M92: Water Energy Consumption for Water Softener Regeneration (for dishwashers with electrically heated water) (WWS)
M93: WWS = VWS×T×K | O93: =IFERROR(O90*O74*O77, "") | P93: kWh/cycle
D94: Annual Fan-Only Mode Duration (LF)
D95: LF= (LFhr+ LFmr+ LFlr)/3 | F95: =IF(E34>0,AVERAGE(E34,IF(WasMedRun="Yes",E45,F45),IF(WasLightRun="Yes",E56,F56)),0) -> 0 | G95: hours/cycle | M95: Water Energy Consumption for Water Softener Regeneration (for dishwashers with gas- or oil-heated water) (WWSg)
M96: WWSg = VWS×T×C/e | O96: =IFERROR(O90*O74*O78/O79, "") | P96: Btu/cycle
D97: Annual Combined Low-power Mode Hours (SLP)
D98: SLP = [H-(N×(L+LF))] | F98: =IFERROR(O80-(O81*(F90+F95)),"") | G98: standby hours/year
L99: For Water Re-Use System Dishwashers
D100: SIA = annual hours in inactive mode | E100: SIA | F100: =IF(E23>0,IF(E22>0,F98/2,F98),0) -> 0 | G100: total hours/year
D101: SOM = annual hours in off mode | E101: SOM | F101: =IF(E22>0,IF(E23>0,F98/2,F98),0) -> 0 | G101: total hours/year | M101: Machine Energy Consumption during Drain Out Event for Water Re-Use System Dishwashers(MDO)
M102: MDO=(MDOcycle×NDO)/N | O102: =N27*N29/O81 -> 0 | P102: kWh/Cycle
D103: Annual Combined Low-power Mode Energy Consumption (ETLP)
D104: ETLP = [(PIA×SIA)+(POM×SOM)]×K | F104: =((E23*F100)+(E22*F101))*O82 -> 0 | G104: kWh/year | M104: Machine Energy Consumption during Clean Out Event for Water Re-Use System Dishwashers(MCO)
M105: MCO=(MCOcycle×NCO)/N | O105: =N30*N32/O81 -> 0 | P105: kWh/Cycle
D106: Estimated Annual Energy Use (EAEU)
D107: EAEU = (M+MWS+MDO+MCO+EF−(ED/2)+W+WS+WDO+WCO)×N+(ETLP) | F107: =IFERROR((F72+O87+O102+O105+F78+F84+O93+O114+O117-(F75/2))*O81+F104,"") | G107: kWh/year | M107: Water Consumption during Drain Out Event for Water Re-Use System Dishwashers(VDO)
M108: VDO=(VDOcycle×NDO)/N | O108: =N28*N29/O81 -> 0 | P108: gallons/cycle
M110: Water Consumption during Clean Out Event for Water Re-Use System Dishwashers(VCO)
M111: VCO=(VCOcycle×NCO)/N | O111: =N31*N32/O81 -> 0 | P111: gallons/cycle
M113: Water Energy Consumption during Drain Out Event for Water Re-Use System Dishwashers (for dishwashers with electrically heated water) (WDO)
M114: WDO = VDO×T×K | O114: =IFERROR(O108*O74*O77,"") | P114: kWh/cycle
M116: Water Energy Consumption during Clean Out Event for Water Re-Use System Dishwashers (for dishwashers with electrically heated water) (WCO)
M117: WCO = VCO×T×K | O117: =IFERROR(O111*O74*O77,"") | P117: kWh/cycle
M119: Water Energy Consumption during Drain Out Event for Water Re-Use System Dishwashers (for dishwashers with gas- or oil-heated water) (WDOg)
M120: WDOg = VDO×T×C/e | O120: =IFERROR(O108*O74*O78/O79,"") | P120: Btu/cycle
M122: Water Energy Consumption during Clean Out Event for Water Re-Use System Dishwashers (for dishwashers with gas- or oil-heated water) (WCOg)
M123: WCOg = VCO×T×C/e | O123: =IFERROR(O111*O74*O78/O79,"") | P123: Btu/cycle

Sheet Cleaning Performance
B2: ='Version Control'!$B$2 -> Title Block
B3: ='Version Control'!$B$3 -> Test Report Template Name: | G3: ='Version Control'!$C$3 -> Dishwashers | N3: Back to Instructions tab
B4: ='Version Control'!$B$4 -> Version Number: | G4: ='Version Control'!$C$4 -> v1.0
B5: ='Version Control'!$B$5 -> Latest Template Revision: | G5: ='Version Control'!$C$5 -> 45821
B6: ='Version Control'!$B$6 -> Tab Name: | G6: =MID(CELL("filename",D1), FIND("]", CELL("filename", D1))+ 1, 255) -> Cleaning Performance
B7: ='Version Control'!$B$7 -> File Name: | G7: ='Version Control'!$C$7 -> Dishwashers Appendix C2 - v1.0.xlsx
B8: ='Version Control'!$B$8 -> Test Start Date: | G8: ='Version Control'!$C$8 -> [MM/DD/YYYY]
B9: ='Version Control'!$B$9 -> Test Completion Date: | G9: ='Version Control'!$C$9 -> [MM/DD/YYYY]
B12: Test Load Scoring
B13: Score each item in the test load on a scale from 0 to 9 as specified in section 4.2 of Appendix C2.
C15: Sensor Heavy Response
E16: Dinner Plates | F16: Bread & Butter Plates | G16: Coffee Cups | H16: Saucers | I16: Fruit Bowls | J16: Serving Dishes | K16: Glasses | L16: Dinner Forks | M16: Salad Forks | N16: Knives | O16: Teaspoons | Q16: Serving Utensils
D19: 1
D20: 2
D21: 3
D22: 4
D23: 5
D24: 6
D25: 7
D26: 8
D27: Total number of items | E27: =COUNTA(E19:E26) -> 0 | F27: =COUNTA(F19:F26) -> 0 | G27: =COUNTA(G19:G26) -> 0 | H27: =COUNTA(H19:H26) -> 0 | I27: =COUNTA(I19:I26) -> 0 | J27: =COUNTA(J19:J26) -> 0 | K27: =COUNTA(K19:K26) -> 0 | L27: =COUNTA(L19:L26) -> 0 | ... N27: =COUNTA(N19:N26) -> 0 | O27: =COUNTA(O19:P26) -> 0 | Q27: =COUNTA(Q19:Q26) -> 0
C31: Sensor Medium Response
E32: Dinner Plates | F32: Bread & Butter Plates | G32: Coffee Cups | H32: Saucers | I32: Fruit Bowls | J32: Serving Dishes | K32: Glasses | L32: Dinner Forks | M32: Salad Forks | N32: Knives | O32: Teaspoons | Q32: Serving Utensils
D35: 1
D36: 2
D37: 3
D38: 4
D39: 5
D40: 6
D41: 7
D42: 8
D43: Total number of items | E43: =COUNTA(E35:E42) -> 0 | F43: =COUNTA(F35:F42) -> 0 | G43: =COUNTA(G35:G42) -> 0 | H43: =COUNTA(H35:H42) -> 0 | I43: =COUNTA(I35:I42) -> 0 | J43: =COUNTA(J35:J42) -> 0 | K43: =COUNTA(K35:K42) -> 0 | L43: =COUNTA(L35:L42) -> 0 | ... N43: =COUNTA(N35:N42) -> 0 | O43: =COUNTA(O35:P42) -> 0 | Q43: =COUNTA(Q35:Q42) -> 0
C47: Sensor Light Response
E48: Dinner Plates | F48: Bread & Butter Plates | G48: Coffee Cups | H48: Saucers | I48: Fruit Bowls | J48: Serving Dishes | K48: Glasses | L48: Dinner Forks | M48: Salad Forks | N48: Knives | O48: Teaspoons | Q48: Serving Utensils
D51: 1
D52: 2
D53: 3
D54: 4
D55: 5
D56: 6
D57: 7
D58: 8
D59: Total number of items | E59: =COUNTA(E51:E58) -> 0 | F59: =COUNTA(F51:F58) -> 0 | G59: =COUNTA(G51:G58) -> 0 | H59: =COUNTA(H51:H58) -> 0 | I59: =COUNTA(I51:I58) -> 0 | J59: =COUNTA(J51:J58) -> 0 | K59: =COUNTA(K51:K58) -> 0 | L59: =COUNTA(L51:L58) -> 0 | ... N59: =COUNTA(N51:N58) -> 0 | O59: =COUNTA(O51:P58) -> 0 | Q59: =COUNTA(Q51:Q58) -> 0
B64: Notes/Comments: (Please clarify any pertinent details, unusual events, etc.)
B71: Calculation of Per-Cycle Cleaning Index
C73: Number of Dishware, Glasses, and Flatware with Individual Scores of 0 - 9 Per-Cycle
D75: Sensor Heavy Response | I75: Sensor Medium Response | N75: Sensor Light Response
D76: Score (0 - 9) | E76: Dishware | F76: Glasses | G76: Flatware | I76: Score (0 - 9) | J76: Dishware | K76: Glasses | L76: Flatware | N76: Score (0 - 9) | O76: Dishware | P76: Glasses | Q76: Flatware
D79: 0 | E79: =COUNTIF(E$19:J$26,$D79) -> 0 | F79: =COUNTIF(K$19:K$26,$D79) -> 0 | G79: =COUNTIF(L$19:Q$26,$D79) -> 0 | I79: 0 | J79: =COUNTIF(E$35:J$42,$I79) -> 0 | K79: =COUNTIF(K$35:K$42,$I79) -> 0 | L79: =COUNTIF(L$35:Q$42,$I79) -> 0 | N79: 0 | O79: =COUNTIF(E$51:J$58,$N79) -> 0 | P79: =COUNTIF(K$51:K$58,$N79) -> 0 | Q79: =COUNTIF(L$51:Q$58,$N79) -> 0
D80: 1 | E80: =COUNTIF(E$19:J$26,$D80) -> 0 | F80: =COUNTIF(K$19:K$26,$D80) -> 0 | G80: =COUNTIF(L$19:Q$26,$D80) -> 0 | I80: 1 | J80: =COUNTIF(E$35:J$42,$I80) -> 0 | K80: =COUNTIF(K$35:K$42,$I80) -> 0 | L80: =COUNTIF(L$35:Q$42,$I80) -> 0 | N80: 1 | O80: =COUNTIF(E$51:J$58,$N80) -> 0 | P80: =COUNTIF(K$51:K$58,$N80) -> 0 | Q80: =COUNTIF(L$51:Q$58,$N80) -> 0
D81: 2 | E81: =COUNTIF(E$19:J$26,$D81) -> 0 | F81: =COUNTIF(K$19:K$26,$D81) -> 0 | G81: =COUNTIF(L$19:Q$26,$D81) -> 0 | I81: 2 | J81: =COUNTIF(E$35:J$42,$I81) -> 0 | K81: =COUNTIF(K$35:K$42,$I81) -> 0 | L81: =COUNTIF(L$35:Q$42,$I81) -> 0 | N81: 2 | O81: =COUNTIF(E$51:J$58,$N81) -> 0 | P81: =COUNTIF(K$51:K$58,$N81) -> 0 | Q81: =COUNTIF(L$51:Q$58,$N81) -> 0
D82: 3 | E82: =COUNTIF(E$19:J$26,$D82) -> 0 | F82: =COUNTIF(K$19:K$26,$D82) -> 0 | G82: =COUNTIF(L$19:Q$26,$D82) -> 0 | I82: 3 | J82: =COUNTIF(E$35:J$42,$I82) -> 0 | K82: =COUNTIF(K$35:K$42,$I82) -> 0 | L82: =COUNTIF(L$35:Q$42,$I82) -> 0 | N82: 3 | O82: =COUNTIF(E$51:J$58,$N82) -> 0 | P82: =COUNTIF(K$51:K$58,$N82) -> 0 | Q82: =COUNTIF(L$51:Q$58,$N82) -> 0
D83: 4 | E83: =COUNTIF(E$19:J$26,$D83) -> 0 | F83: =COUNTIF(K$19:K$26,$D83) -> 0 | G83: =COUNTIF(L$19:Q$26,$D83) -> 0 | I83: 4 | J83: =COUNTIF(E$35:J$42,$I83) -> 0 | K83: =COUNTIF(K$35:K$42,$I83) -> 0 | L83: =COUNTIF(L$35:Q$42,$I83) -> 0 | N83: 4 | O83: =COUNTIF(E$51:J$58,$N83) -> 0 | P83: =COUNTIF(K$51:K$58,$N83) -> 0 | Q83: =COUNTIF(L$51:Q$58,$N83) -> 0
D84: 5 | E84: =COUNTIF(E$19:J$26,$D84) -> 0 | F84: =COUNTIF(K$19:K$26,$D84) -> 0 | G84: =COUNTIF(L$19:Q$26,$D84) -> 0 | I84: 5 | J84: =COUNTIF(E$35:J$42,$I84) -> 0 | K84: =COUNTIF(K$35:K$42,$I84) -> 0 | L84: =COUNTIF(L$35:Q$42,$I84) -> 0 | N84: 5 | O84: =COUNTIF(E$51:J$58,$N84) -> 0 | P84: =COUNTIF(K$51:K$58,$N84) -> 0 | Q84: =COUNTIF(L$51:Q$58,$N84) -> 0
D85: 6 | E85: =COUNTIF(E$19:J$26,$D85) -> 0 | F85: =COUNTIF(K$19:K$26,$D85) -> 0 | G85: =COUNTIF(L$19:Q$26,$D85) -> 0 | I85: 6 | J85: =COUNTIF(E$35:J$42,$I85) -> 0 | K85: =COUNTIF(K$35:K$42,$I85) -> 0 | L85: =COUNTIF(L$35:Q$42,$I85) -> 0 | N85: 6 | O85: =COUNTIF(E$51:J$58,$N85) -> 0 | P85: =COUNTIF(K$51:K$58,$N85) -> 0 | Q85: =COUNTIF(L$51:Q$58,$N85) -> 0
D86: 7 | E86: =COUNTIF(E$19:J$26,$D86) -> 0 | F86: =COUNTIF(K$19:K$26,$D86) -> 0 | G86: =COUNTIF(L$19:Q$26,$D86) -> 0 | I86: 7 | J86: =COUNTIF(E$35:J$42,$I86) -> 0 | K86: =COUNTIF(K$35:K$42,$I86) -> 0 | L86: =COUNTIF(L$35:Q$42,$I86) -> 0 | N86: 7 | O86: =COUNTIF(E$51:J$58,$N86) -> 0 | P86: =COUNTIF(K$51:K$58,$N86) -> 0 | Q86: =COUNTIF(L$51:Q$58,$N86) -> 0
D87: 8 | E87: =COUNTIF(E$19:J$26,$D87) -> 0 | F87: =COUNTIF(K$19:K$26,$D87) -> 0 | G87: =COUNTIF(L$19:Q$26,$D87) -> 0 | I87: 8 | J87: =COUNTIF(E$35:J$42,$I87) -> 0 | K87: =COUNTIF(K$35:K$42,$I87) -> 0 | L87: =COUNTIF(L$35:Q$42,$I87) -> 0 | N87: 8 | O87: =COUNTIF(E$51:J$58,$N87) -> 0 | P87: =COUNTIF(K$51:K$58,$N87) -> 0 | Q87: =COUNTIF(L$51:Q$58,$N87) -> 0
D88: 9 | E88: =COUNTIF(E$19:J$26,$D88) -> 0 | F88: =COUNTIF(K$19:K$26,$D88) -> 0 | G88: =COUNTIF(L$19:Q$26,$D88) -> 0 | I88: 9 | J88: =COUNTIF(E$35:J$42,$I88) -> 0 | K88: =COUNTIF(K$35:K$42,$I88) -> 0 | L88: =COUNTIF(L$35:Q$42,$I88) -> 0 | N88: 9 | O88: =COUNTIF(E$51:J$58,$N88) -> 0 | P88: =COUNTIF(K$51:K$58,$N88) -> 0 | Q88: =COUNTIF(L$51:Q$58,$N88) -> 0
D89: Total Pieces | E89: =SUM(E79:E88) -> 0 | F89: =SUM(F79:F88) -> 0 | G89: =SUM(G79:G88) -> 0 | I89: Total Pieces | J89: =SUM(J79:J88) -> 0 | K89: =SUM(K79:K88) -> 0 | L89: =SUM(L79:L88) -> 0 | N89: Total Pieces | O89: =SUM(O79:O88) -> 0 | P89: =SUM(P79:P88) -> 0 | Q89: =SUM(Q79:Q88) -> 0
C93: Per-Cycle Category Cleaning Index
D95: Sensor Heavy Response | I95: Sensor Medium Response | N95: Sensor Light Response
D96: Score (0 - 9) | E96: Dishware | F96: Glasses | G96: Flatware | I96: Score (0 - 9) | J96: Dishware | K96: Glasses | L96: Flatware | N96: Score (0 - 9) | O96: Dishware | P96: Glasses | Q96: Flatware
D98: 1's | E98: =E80 -> 0 | F98: =F80 -> 0 | G98: =G80 -> 0 | I98: 1's | J98: =J80 -> 0 | K98: =K80 -> 0 | L98: =L80 -> 0 | N98: 1's | O98: =O80 -> 0 | P98: =P80 -> 0 | Q98: =Q80 -> 0
D99: 2's + 3's | E99: =E81+E82 -> 0 | F99: =F81+F82 -> 0 | G99: =G81+G82 -> 0 | I99: 2's + 3's | J99: =J81+J82 -> 0 | K99: =K81+K82 -> 0 | L99: =L81+L82 -> 0 | N99: 2's + 3's | O99: =O81+O82 -> 0 | P99: =P81+P82 -> 0 | Q99: =Q81+Q82 -> 0
D100: 4's, 5's, 6's | E100: =E83+E84+E85 -> 0 | F100: =F83+F84+F85 -> 0 | G100: =G83+G84+G85 -> 0 | I100: 4's, 5's, 6's | J100: =J83+J84+J85 -> 0 | K100: =K83+K84+K85 -> 0 | L100: =L83+L84+L85 -> 0 | N100: 4's, 5's, 6's | O100: =O83+O84+O85 -> 0 | P100: =P83+P84+P85 -> 0 | Q100: =Q83+Q84+Q85 -> 0
D101: 7's + 8's | E101: =E86+E87 -> 0 | F101: =F86+F87 -> 0 | G101: =G86+G87 -> 0 | I101: 7's + 8's | J101: =J86+J87 -> 0 | K101: =K86+K87 -> 0 | L101: =L86+L87 -> 0 | N101: 7's + 8's | O101: =O86+O87 -> 0 | P101: =P86+P87 -> 0 | Q101: =Q86+Q87 -> 0
D102: 9's | E102: =E88 -> 0 | F102: =F88 -> 0 | G102: =G88 -> 0 | I102: 9's | J102: =J88 -> 0 | K102: =K88 -> 0 | L102: =L88 -> 0 | N102: 9's | O102: =O88 -> 0 | P102: =P88 -> 0 | Q102: =Q88 -> 0
D103: Total Pieces | E103: =E89 -> 0 | F103: =F89 -> 0 | G103: =G89 -> 0 | I103: Total Pieces | J103: =J89 -> 0 | K103: =K89 -> 0 | L103: =L89 -> 0 | N103: Total Pieces | O103: =O89 -> 0 | P103: =P89 -> 0 | Q103: =Q89 -> 0
D106: Category Cleaning Index | E106: Dishware (CID) | F106: Glasses (CIGs) | G106: Flatware (CIF) | I106: Category Cleaning Index | J106: Dishware (CID) | K106: Glasses (CIGs) | L106: Flatware (CIF) | N106: Category Cleaning Index | O106: Dishware (CID) | P106: Glasses (CIGs) | Q106: Flatware (CIF)
E108: =IFERROR(100-((12.5*E98+25*E99+50*E100+75*E101+100*E102)/E103),"") | F108: =IFERROR(100-((12.5*F98+25*F99+50*F100+75*F101+100*F102)/F103),"") | G108: =IFERROR(100-((12.5*G98+25*G99+50*G100+75*G101+100*G102)/G103),"") | J108: =IFERROR(100-((12.5*J98+25*J99+50*J100+75*J101+100*J102)/J103),"") | K108: =IFERROR(100-((12.5*K98+25*K99+50*K100+75*K101+100*K102)/K103),"") | L108: =IFERROR(100-((12.5*L98+25*L99+50*L100+75*L101+100*L102)/L103),"") | O108: =IFERROR(100-((12.5*O98+25*O99+50*O100+75*O101+100*O102)/O103),"") | P108: =IFERROR(100-((12.5*P98+25*P99+50*P100+75*P101+100*P102)/P103),"") | Q108: =IFERROR(100-((12.5*Q98+25*Q99+50*Q100+75*Q101+100*Q102)/Q103),"")
C111: Per-Cycle Cleaning Index
D112: Cleaning Index, soil only = ((CID * ND) + (CIGs * NGs) + (CIF * NF))/(ND + NGs+NF)
D113: CI = category cleaning index for Dishware (D), Glasses (Gs), and Flatware (F)
D114: N = Number of pieces specified for Dishware (D), Glasses (Gs), and Flatware (F)
D116: Sensor Heavy Response | G116: =IFERROR(((E108*E103)+(F108*F103)+(G108*G103))/SUM(E103:G104),"")
D118: Sensor Medium Response | G118: =IFERROR(((J108*J103)+(K108*K103)+(L108*L103))/SUM(J103:L104),"")
D120: Sensor Light Response | G120: =IFERROR(((O108*O103)+(P108*P103)+(Q108*Q103))/SUM(O103:Q104),"")

Sheet Report Sign-Off Block
B2: ='Version Control'!$B$2 -> Title Block
B3: ='Version Control'!$B$3 -> Test Report Template Name: | C3: ='Version Control'!$C$3 -> Dishwashers | G3: Back to Instructions tab
B4: ='Version Control'!$B$4 -> Version Number: | C4: ='Version Control'!$C$4 -> v1.0
B5: ='Version Control'!$B$5 -> Latest Template Revision: | C5: ='Version Control'!$C$5 -> 45821
B6: ='Version Control'!$B$6 -> Tab Name: | C6: =MID(CELL("filename",A1), FIND("]", CELL("filename", A1))+ 1, 255) -> Report Sign-Off Block
B7: ='Version Control'!$B$7 -> File Name: | C7: ='Version Control'!$C$7 -> Dishwashers Appendix C2 - v1.0.xlsx
B8: ='Version Control'!$B$8 -> Test Start Date: | C8: ='Version Control'!$C$8 -> [MM/DD/YYYY]
B9: ='Version Control'!$B$9 -> Test Completion Date: | C9: ='Version Control'!$C$9 -> [MM/DD/YYYY]
B12: Test Report Sign-Off Block
B13: By signing in the space below, we certify that the information and data in this report: (1) were obtained from the specific test unit under test; (2) were obtained during the specific test being reported; (3) were not copied from any other source, except where instructed to do so; and (4) were not altered or modified in any way.
B15: Role | D15: Date | E15: Entity
B16: Test Completion | D16: ='General Info & Test Results'!C18 -> [MM/DD/YYYY] | E16: [Test Lab Name]
B17: Template Completion | D17: [MM/DD/YYYY] | E17: [Test Lab Name]
B18: Report Review by Test Lab | D18: [MM/DD/YYYY] | E18: [Test Lab Name]
B19: Report Review by Test Lab | D19: [MM/DD/YYYY] | E19: [Test Lab Name]

Sheet Drop-downs
B2: ='Version Control'!$B$2 -> Title Block
B3: ='Version Control'!$B$3 -> Test Report Template Name: | C3: ='Version Control'!$C$3 -> Dishwashers
B4: ='Version Control'!$B$4 -> Version Number: | C4: ='Version Control'!$C$4 -> v1.0
B5: ='Version Control'!$B$5 -> Latest Template Revision: | C5: ='Version Control'!$C$5 -> 45821
B6: ='Version Control'!$B$6 -> Tab Name: | C6: =MID(CELL("filename",A1), FIND("]", CELL("filename", A1))+ 1, 255) -> Drop-downs
B7: ='Version Control'!$B$7 -> File Name: | C7: ='Version Control'!$C$7 -> Dishwashers Appendix C2 - v1.0.xlsx
B8: ='Version Control'!$B$8 -> Test Start Date: | C8: ='Version Control'!$C$8 -> [MM/DD/YYYY]
B9: ='Version Control'!$B$9 -> Test Completion Date: | C9: ='Version Control'!$C$9 -> [MM/DD/YYYY]
B12: YES/NO | D12: Inlet Temp Rating | F12: Unit Type
B13: Yes | D13: 50 | F13: Standard
B14: No | D14: 120 | F14: Compact
D15: 140
B16: Fan-only mode energy measurement
B17: Measured for the entire fan-only mode duration
B18: Measured for a representative 10-minute period

Sheet Version Control
B2: Title Block
B3: Test Report Template Name: | C3: Dishwashers
B4: Version Number: | C4: =INDEX(B14:B60,COUNTA(B14:B60),1) -> v1.0
B5: Latest Template Revision: | C5: =IF(MAX(B14:C102)=0,"No Revisions Dates Entered",MAX(C14:C102)) -> 45821
B6: Tab Name: | C6: =MID(CELL("filename",A1), FIND("]", CELL("filename", A1))+ 1, 255) -> Version Control
B7: File Name: | C7: =MID(CELL("FILENAME",A1),FIND("[",CELL("FILENAME",A1))+1,FIND("]",CELL("FILENAME",A1))-FIND("[",CELL("FILENAME",A1))-1) -> Dishwashers Appendix C2 - v1.0.xlsx
B8: Test Start Date: | C8: ='General Info & Test Results'!C17 -> [MM/DD/YYYY]
B9: Test Completion Date: | C9: ='General Info & Test Results'!C18 -> [MM/DD/YYYY]
B12: Revisions List
B13: Version | C13: Date
B14: v1.0 | C14: 45821
