Workbook
Name dd_fanonly: 'Drop-downs'!$B$17:$B$18
Name dd_Temp: 'Drop-downs'!$D$13:$D$15
Name dd_UnitType: 'Drop-downs'!$F$13:$F$14
Name dd_YesNo: 'Drop-downs'!$B$13:$B$14
Name PowerDry: 'General Info & Test Results'!$C$32
Name RatedTemp: 'General Info & Test Results'!$C$35
Name Reservoir: 'General Info & Test Results'!$C$39
Name SoilSensingNormalCycle: 'General Info & Test Results'!$C$33
Name WasLightRun: Settings!$C$21
Name WasMedRun: Settings!$C$19
Name WaterReuse: 'General Info & Test Results'!$C$37
Name WaterSoftening: 'General Info & Test Results'!$C$36

Sheet Instructions
B2: ='Version Control'!$B$2 -> Title Block
B3: ='Version Control'!$B$3 -> Test Report Template Name: | C3: ='Version Control'!$C$3 -> Dishwashers
B4: ='Version Control'!$B$4 -> Version Number: | C4: ='Version Control'!$C$4 -> v1.0
B5: ='Version Control'!$B$5 -> Latest Template Revision: | C5: ='Version Control'!$C$5 -> 45821
B6: ='Version Control'!$B$6 -> Tab Name: | C6: =MID(CELL("filename",B1), FIND("]", CELL("filename", B1))+ 1, 255) -> Instructions
B7: ='Version Control'!$B$7 -> File Name: | C7: ='Version Control'!$C$7 -> Dishwashers Appendix C2 - v1.0.xlsx
B8: ='Version Control'!$B$8 -> Test Start Date: | C8: ='Version Control'!$C$8 -> [MM/DD/YYYY]
B9: ='Version Control'!$B$9 -> Test Completion Date: | C9: ='Version Control'!$C$9 -> [MM/DD/YYYY]
B12: Reference Test Procedure
B13: 10 CFR 430 Subpart B Appendix C2: Uniform Test Method for Measuring the Energy Consumption of Dishwashers
B15: Table of Contents
B16: Tab | C16: Contents
B17: Instructions | C17: Instructions and Table of Contents
B18: General Info & Test Results | C18: Lab Information, Product Information, and Test Results
B19: Setup & Instrumentation | C19: Instrumentation Used to Conduct Test Measurements
B20: Settings | C20: Input for Test Settings
B21: Photos | C21: Product and Sensor Placement Photos
B22: Test Conditions | C22: Table of Test Condition Requirements for Each Test
B23: Test Data & Derived Results | C23: Energy and Water Measurement Inputs and Calculations
B24: Cleaning Performance | C24: Cleaning Performance Inputs and Calculations
B25: Report Sign-Off Block | C25: Report Review History
B26: Drop-downs | C26: Used for Drop-down Lists; Summary of Drop-down Options
B27: Version Control | C27: Report Template Revision History
B29: LEGEND
B30: Tabs | C30: Tabs with input cells
B31: Cells | C31: Input cell
C32: Auto-populated cell
C33: Provided data
C34: NOT USED
B36: Instructions for Completing this Template
B37: Follow the steps below, filling in all input cells (shaded light blue) in each tab you are instructed to complete. Using TAB to "hop" from input cell to input cell is useful, but does not ensure that all input cells are reached. To guarantee that you enter all required information, you must visually scan for light blue cells in the entire area bounded by yellow-shaded cells.
B40: Important: Start with a clean (unused) template copy for each new report. Enter only data and information that are unique to the unit tested and the current test of that unit. All abbreviations and variable names should be consistent with the reference test procedure.
B43: STEP: | C43: FILL IN INPUT CELLS IN THIS TAB:
B45: Step 1 | C45: General Info & Test Results
B46: Step 2 | C46: Setup & Instrumentation
B47: Step 3 | C47: Settings
B48: Step 4 | C48: Photos
B49: Step 5 | C49: Test Conditions
B50: Step 6 | C50: Test Data & Derived Results
B51: Step 7 | C51: Cleaning Performance
...

Sheet General Info & Test Results
B2: ='Version Control'!$B$2 -> Title Block
B3: ='Version Control'!$B$3 -> Test Report Template Name: | C3: ='Version Control'!$C$3 -> Dishwashers | F3: Back to Instructions tab
B4: ='Version Control'!$B$4 -> Version Number: | C4: ='Version Control'!$C$4 -> v1.0
B5: ='Version Control'!$B$5 -> Latest Template Revision: | C5: ='Version Control'!$C$5 -> 45821
B6: ='Version Control'!$B$6 -> Tab Name: | C6: =MID(CELL("filename",A1), FIND("]", CELL("filename", A1))+ 1, 255) -> General Info & Test Results
B7: ='Version Control'!$B$7 -> File Name: | C7: ='Version Control'!$C$7 -> Dishwashers Appendix C2 - v1.0.xlsx
B8: ='Version Control'!$B$8 -> Test Start Date: | C8: ='Version Control'!$C$8 -> [MM/DD/YYYY]
B9: ='Version Control'!$B$9 -> Test Completion Date: | C9: ='Version Control'!$C$9 -> [MM/DD/YYYY]
B12: Lab Information | E12: Figures of Merit for Tested Unit
B13: Lab Name: | E13: Variable | F13: Result | G13: Units
B14: Lab Location: | E14: Water Consumption: | F14: =IFERROR('Test Data & Derived Results'!F81+'Test Data & Derived Results'!O90+'Test Data & Derived Results'!O108+'Test Data & Derived Results'!O111, "") | G14: gal/cycle
E15: Estimated Annual Energy Use: | F15: =IFERROR('Test Data & Derived Results'!F107,"") | G15: kWh/year
B16: Test Information | E16: Cleaning Index, Sensor Heavy Response | F16: =IFERROR('Cleaning Performance'!G116,"")
B17: Date Test Started: | C17: [MM/DD/YYYY] | E17: Cleaning Index, Sensor Medium Response | F17: =IFERROR('Cleaning Performance'!G118,"")
B18: Date Test Finished: | C18: [MM/DD/YYYY] | E18: Cleaning Index, Sensor Light Response | F18: =IFERROR('Cleaning Performance'!G120, "")
B20: Product Information | E20: NOTE: Copy only; sign off is done in the Report Sign-Off Block tab
B21: Unit Type: | E21: Test Report Sign-Off Block
B22: Manufacturer: | E22: We certify that the information and data in this report: (1) were obtained from the specific test unit under test; (2) were obtained during the specific test being reported; (3) were not copied from any other source, except where instructed to do so; and (4) were not altered or modified in any way.
B23: Brand:
B24: Manufacturer Model Number:
B25: Serial Number: | E25: Role | G25: Date | H25: Entity
B26: Date Manufactured: | E26: Test Completion | G26: ='Report Sign-Off Block'!D16 -> [MM/DD/YYYY] | H26: =IF('Report Sign-Off Block'!E16<>0,'Report Sign-Off Block'!E16,"") -> [Test Lab Name]
B27: Date Product Received: | C27: [MM/DD/YYYY] | E27: Template Population | G27: ='Report Sign-Off Block'!D17 -> [MM/DD/YYYY] | H27: =IF('Report Sign-Off Block'!E17<>0,'Report Sign-Off Block'!E17,"") -> [Test Lab Name]
B28: Condition as Received: | E28: Report Review by Test Lab | G28: ='Report Sign-Off Block'!D18 -> [MM/DD/YYYY] | H28: =IF('Report Sign-Off Block'!E18<>0,'Report Sign-Off Block'!E18,"") -> [Test Lab Name]
E29: Report Review by Test Lab | G29: ='Report Sign-Off Block'!D19 -> [MM/DD/YYYY] | H29: =IF('Report Sign-Off Block'!E19<>0,'Report Sign-Off Block'!E19,"") -> [Test Lab Name]
B30: Product Characteristics
B31: Capacity (number of place settings):
B32: Does unit have a power dry feature?
B33: Does unit have a soil-sensor?
B34: Does unit heat water?
B35: Is the unit rated for 50, 120, or 140°F ?
B36: Is the unit a water-softening dishwasher?
B37: Is the unit a water re-use system dishwasher?
B38: Is the unit an in-sink dishwasher?
B39: Does the unit have a built-in reservoir?
B40: Rated Voltage (V):
B41: Rated Frequency (Hz):

Sheet Setup & Instrumentation
B2: ='Version Control'!$B$2 -> Title Block
B3: ='Version Control'!$B$3 -> Test Report Template Name: | C3: ='Version Control'!$C$3 -> Dishwashers | G3: Back to Instructions tab
B4: ='Version Control'!$B$4 -> Version Number: | C4: ='Version Control'!$C$4 -> v1.0
B5: ='Version Control'!$B$5 -> Latest Template Revision: | C5: ='Version Control'!$C$5 -> 45821
B6: ='Version Control'!$B$6 -> Tab Name: | C6: =MID(CELL("filename",A1), FIND("]", CELL("filename", A1))+ 1, 255) -> Setup & Instrumentation
B7: ='Version Control'!$B$7 -> File Name: | C7: ='Version Control'!$C$7 -> Dishwashers Appendix C2 - v1.0.xlsx
B8: ='Version Control'!$B$8 -> Test Start Date: | C8: ='Version Control'!$C$8 -> [MM/DD/YYYY]
B9: ='Version Control'!$B$9 -> Test Completion Date: | C9: ='Version Control'!$C$9 -> [MM/DD/YYYY]
B12: Setup (this table should include instrumentation, sensors, and all equipment used during testing)
B13: Instrument Type | C13: Brand | D13: Model # | E13: Sensor Location | F13: Accuracy | G13: Date of Last Calibration | H13: Deadline for Next Calibration
B40: Please describe the test setup

Sheet Settings
B2: ='Version Control'!$B$2 -> Title Block
B3: ='Version Control'!$B$3 -> Test Report Template Name: | C3: ='Version Control'!$C$3 -> Dishwashers | E3: Back to Instructions tab
B4: ='Version Control'!$B$4 -> Version Number: | C4: ='Version Control'!$C$4 -> v1.0
B5: ='Version Control'!$B$5 -> Latest Template Revision: | C5: ='Version Control'!$C$5 -> 45821
B6: ='Version Control'!$B$6 -> Tab Name: | C6: =MID(CELL("filename",B1), FIND("]", CELL("filename", B1))+ 1, 255) -> Settings
B7: ='Version Control'!$B$7 -> File Name: | C7: ='Version Control'!$C$7 -> Dishwashers Appendix C2 - v1.0.xlsx
B8: ='Version Control'!$B$8 -> Test Start Date: | C8: ='Version Control'!$C$8 -> [MM/DD/YYYY]
B9: ='Version Control'!$B$9 -> Test Completion Date: | C9: ='Version Control'!$C$9 -> [MM/DD/YYYY]
B12: Settings
B13: Cycle Settings Used for Each Test
B14: Identify all settings for all test cycles.
B15: Cycle | C15: Cycle Name | D15: Is the cycle soil-sensing? | E15: Cycle Options
B16: Preconditioning 1
B17: Preconditioning 2
B18: Sensor heavy response
B19: Was sensor medium response cycle run?
B20: Sensor medium response (if necessary)
B21: Was sensor light response cycle run?
B22: Sensor light response (if necessary)
B24: Test Cycle Load (in accordance with section 2.4 of Appendix C2)
B25: Describe any deviations from the dishes specified on the Reference Material tab used for test load.
C31: Sensor Heavy Response Cycle | D31: Sensor Medium Response Cycle | E31: Sensor Light Response Cycle
B32: Was Test Load used?
B33: # of Soiled Place Settings
B34: # of Clean Place Settings
B35: # of Serving Pieces
B36: # of Flatware items
B38: Detergent (in accordance with section 2.6 of Appendix C2)
B39: Detergent dosing for dishwashers other than water re-use system dishwashers
C40: Sensor Heavy Response Cycle | D40: Sensor Medium Response Cycle | E40: Sensor Light Response Cycle
B41: Amount of pre-wash detergent used (Dpw) (g)*
B42: Placement of pre-wash detergent
B43: Amount of main wash detergent used (Dmw) (g)
B44: Placement of main wash detergent
B45: *If applicable
B47: Detergent dosing for water re-use dishwashers
B48: Water volume, representing both saved water fill and house supply water fill (Vrw) | E48: [gallons]
C50: Sensor Heavy Response Cycle | D50: Sensor Medium Response Cycle | E50: Sensor Light Response Cycle
B51: Amount of detergent used (Drw) (g)

Sheet Photos
B2: ='Version Control'!$B$2 -> Title Block
B3: ='Version Control'!$B$3 -> Test Report Template Name: | C3: ='Version Control'!$C$3 -> Dishwashers | J3: Back to Instructions tab
B4: ='Version Control'!$B$4 -> Version Number: | C4: ='Version Control'!$C$4 -> v1.0
B5: ='Version Control'!$B$5 -> Latest Template Revision: | C5: ='Version Control'!$C$5 -> 45821
B6: ='Version Control'!$B$6 -> Tab Name: | C6: =MID(CELL("filename",A1), FIND("]", CELL("filename", A1))+ 1, 255) -> Photos
B7: ='Version Control'!$B$7 -> File Name: | C7: ='Version Control'!$C$7 -> Dishwashers Appendix C2 - v1.0.xlsx
B8: ='Version Control'!$B$8 -> Test Start Date: | C8: ='Version Control'!$C$8 -> [MM/DD/YYYY]
B9: ='Version Control'!$B$9 -> Test Completion Date: | C9: ='Version Control'!$C$9 -> [MM/DD/YYYY]
B12: 1. Nameplate showing model number and serial number (if applicable) | G12: 2. FTC EnergyGuide label (if present)
B33: 3. Placement of all sensors on, in, or around the appliance (for testing) | G33: 4. Dishwasher loading configuration
B54: 5. Installation of dishwasher (in accordance with section 2.1 of Appendix C2) | G54: 6. Soiled place setting
B75: 7. Photos of test unit from all sides (including control panel, if applicable)
B97: 8. Additional photos (if necessary)

Sheet Test Conditions
B2: ='Version Control'!$B$2 -> Title Block
B3: ='Version Control'!$B$3 -> Test Report Template Name: | C3: ='Version Control'!$C$3 -> Dishwashers | F3: Back to Instructions tab
B4: ='Version Control'!$B$4 -> Version Number: | C4: ='Version Control'!$C$4 -> v1.0
B5: ='Version Control'!$B$5 -> Latest Template Revision: | C5: ='Version Control'!$C$5 -> 45821
B6: ='Version Control'!$B$6 -> Tab Name: | C6: =MID(CELL("filename",A1), FIND("]", CELL("filename", A1))+ 1, 255) -> Test Conditions
B7: ='Version Control'!$B$7 -> File Name: | C7: ='Version Control'!$C$7 -> Dishwashers Appendix C2 - v1.0.xlsx
B8: ='Version Control'!$B$8 -> Test Start Date: | C8: ='Version Control'!$C$8 -> [MM/DD/YYYY]
B9: ='Version Control'!$B$9 -> Test Completion Date: | C9: ='Version Control'!$C$9 -> [MM/DD/YYYY]
B12: Prescribed Test Conditions for DW Energy Test (section 2 of Appendix C2) | J12: Voltage Heavy Load Graph, if available | S12: Voltage Medium Load Graph, if available | AB12: Voltage Light Load Graph, if available
B13: Line voltage: | C13: 115 V, 208 V, or 240 V ± 2%
B14: Frequency: | C14: < 1% of nameplate
B15: Water temperature: | C15: 140, 120, or 50 ± 2 F
B16: Water pressure (except units without a direct water line): | C16: 35 ± 2.5 psig
B17: Ambient and machine temperature: | C17: 75 ± 5 F
B18: Relative humidity: | C18: 35% ± 15%
B19: Water hardness: | C19: 0 - 85 parts per million (ppm)
B20: Color temperature of light in evaluation room: | C20: 3,500 - 4,500 K
B21: Luminance at the plane of evaluation | C21: 1,000 - 1,500 lux
B23: Measured Test Conditions
B24: Averaged values, but conditions shall be maintained per Appendix C2 as described above.
B25: If available, plots may be used. Insert to the right, and enter "see graph".
B26: Line voltage: | D26: [V]
B27: Frequency: | D27: [Hz]
B28: Water temperature: | D28: [°F]
B29: Water pressure: | D29: [psig]
B30: Ambient and machine temperature: | D30: [°F] | J30: Water Temperature Heavy Load Graph, if available | S30: Water Temperature Medium Load Graph, if available | AB30: Water Temperature Light Load Graph, if available
B31: Relative humidity: | D31: [%]
B32: Water hardness: | D32: [ppm]
B33: Color temperature of light in evaluation room: | D33: [K]
B34: Luminance at the plane of evaluation | D34: [lux]
B36: Explanation of how test conditions were monitored and controlled:
B37: Line voltage
B40: Frequency
B43: Water temperature
B46: Water pressure
J48: Water Pressure Heavy Load Graph, if available | S48: Water Pressure Medium Load Graph, if available | AB48: Water Pressure Light Load Graph, if available
B49: Ambient and machine temperature
B52: Relative humidity
B55: Water hardness
B58: Color temperature of light in evaluation room
...

Sheet Test Data & Derived Results
B2: ='Version Control'!$B$2 -> Title Block
B3: ='Version Control'!$B$3 -> Test Report Template Name: | E3: ='Version Control'!$C$3 -> Dishwashers | M3: Back to Instructions tab
B4: ='Version Control'!$B$4 -> Version Number: | E4: ='Version Control'!$C$4 -> v1.0
B5: ='Version Control'!$B$5 -> Latest Template Revision: | E5: ='Version Control'!$C$5 -> 45821
B6: ='Version Control'!$B$6 -> Tab Name: | E6: =MID(CELL("filename",C1), FIND("]", CELL("filename", C1))+ 1, 255) -> Test Data & Derived Results
B7: ='Version Control'!$B$7 -> File Name: | E7: ='Version Control'!$C$7 -> Dishwashers Appendix C2 - v1.0.xlsx
B8: ='Version Control'!$B$8 -> Test Start Date: | E8: ='Version Control'!$C$8 -> [MM/DD/YYYY]
B9: ='Version Control'!$B$9 -> Test Completion Date: | E9: ='Version Control'!$C$9 -> [MM/DD/YYYY]
B12: Test Cycle and Measurements
B13: For non-soil-sensing dishwashers, if the unit is not tested at a certain soil load, as specified in section 4.1.d of Appendix C2, the energy and water consumption values of the preceding soil load will auto populate in the cells below, as specified in section 5(b) of Appendix C2.
B14: For water-softening units, record the reported additional energy and water consumption for a regeneration cycle, and the reported typical number of regeneration cycles per year.
B15: For water re-use system dishwashers, record the reported additional energy and water consumption for a drain out and clean out event, and the reported typical number of drain out and clean out events per year.
B16: For dishwashers with a built-in reservoir, record the reported quantity of water consumed during the test cycle.
C18: For All Units | L18: For Water Softener Regeneration Cycles
N19: Reported Value
D20: Low-Power Mode | M20: Machine Electrical Energy Consumption* (MWScycle) | O20: [kWh]
E21: Measurement | M21: Water Consumption* (VWScycle) | O21: [gallons]
D22: Off Mode Power, if applicable (POM) | F22: [W] | M22: Representative Number of Annual Regeneration Cycles* (NWS) | O22: [cycles]
D23: Inactive Mode Power, if applicable (PIA) | F23: [W] | M23: *Note that these values are based on the manufacturer-supplied certification report, and do not require separate testing.
D25: Sensor Heavy Response | L25: For Water Re-Use System Dishwashers
E26: Measurement | N26: Reported Value
D27: Machine Electrical Energy Consumption (Mhr) | F27: [kWh] | M27: Machine Electrical Energy Consumption during a Drain Out Event* (MDOcycle) | O27: [kWh]
D28: Water Consumption (Vhr) | F28: [gallons] | M28: Water Consumption during a Drain Out Event* (VDOcycle) | O28: [gallons]
D29: Drying Energy Consumption (EDhr) | F29: [kWh] | M29: Representative Number of Annual Drain Out Events* (NDO) | O29: [cycles]
D30: How was fan energy measured? | M30: Machine Electrical Energy Consumption during a Clean Out Event* (MCOcycle) | O30: [kWh]
D31: Fan-only Mode Energy Consumption (EFhr), if applicable | F31: =IF(E30="Measured for the entire fan-only mode duration", "[kWh]", IF(E30="Measured for a representative 10-minute period", "[Wh]", "")) | M31: Water Consumption during a Clean Out Event* (VCOcycle) | O31: [gallons]
D32: Duration of Cycle (Lhr, non-truncated) | F32: [hours] | M32: Representative Number of Annual Clean Out Events* (NCO) | O32: [cycles]
D33: Duration of Truncated Cycle, if available (Lhr, truncated) | F33: [hours] | M33: *Note that these values are based on the manufacturer-supplied certification report, and do not require separate testing.
D34: Duration of Fan-only Mode, if available (LFhr) | F34: [hours]
L35: For Dishwashers with a Built-In Reservoir
D36: Sensor Medium Response | N36: Reported Value
E37: Measurement | M37: Water Consumption* (V) | O37: [gallons]
D38: Machine Electrical Energy Consumption (Mmr) | F38: =IF(WasMedRun="No", E27,"") | G38: [kWh] | M38: *Note that this value is based on the manufacturer-supplied certification report, and does not require separate testing.
D39: Water Consumption (Vmr) | F39: =IF(WasMedRun="No", E28,"") | G39: [gallons]
D40: Drying Energy Consumption (EDmr) | F40: =IF(WasMedRun="No", E29,"") | G40: [kWh]
D41: How was fan energy measured?
D42: Fan-only Mode Energy Consumption (EFhr), if applicable | F42: =IF(WasMedRun="No", E31,"") | G42: =IF(E41="Measured for the entire fan-only mode duration", "[kWh]", IF(E41="Measured for a representative 10-minute period", "[Wh]", ""))
D43: Duration of Cycle (Lmr, non-truncated) | F43: =IF(WasMedRun="No", E32,"") | G43: [hours]
D44: Duration of Truncated Cycle, if available (Lmr, truncated) | F44: =IF(WasMedRun="No", E33,"") | G44: [hours]
D45: Duration of Fan-only Mode, if available (LFmr) | F45: =IF(WasMedRun="No", E34,"") | G45: [hours]
...

Sheet Cleaning Performance
B2: ='Version Control'!$B$2 -> Title Block
B3: ='Version Control'!$B$3 -> Test Report Template Name: | G3: ='Version Control'!$C$3 -> Dishwashers | N3: Back to Instructions tab
B4: ='Version Control'!$B$4 -> Version Number: | G4: ='Version Control'!$C$4 -> v1.0
B5: ='Version Control'!$B$5 -> Latest Template Revision: | G5: ='Version Control'!$C$5 -> 45821
B6: ='Version Control'!$B$6 -> Tab Name: | G6: =MID(CELL("filename",D1), FIND("]", CELL("filename", D1))+ 1, 255) -> Cleaning Performance
B7: ='Version Control'!$B$7 -> File Name: | G7: ='Version Control'!$C$7 -> Dishwashers Appendix C2 - v1.0.xlsx
B8: ='Version Control'!$B$8 -> Test Start Date: | G8: ='Version Control'!$C$8 -> [MM/DD/YYYY]
B9: ='Version Control'!$B$9 -> Test Completion Date: | G9: ='Version Control'!$C$9 -> [MM/DD/YYYY]
B12: Test Load Scoring
B13: Score each item in the test load on a scale from 0 to 9 as specified in section 4.2 of Appendix C2.
C15: Sensor Heavy Response
E16: Dinner Plates | F16: Bread & Butter Plates | G16: Coffee Cups | H16: Saucers | I16: Fruit Bowls | J16: Serving Dishes | K16: Glasses | L16: Dinner Forks | M16: Salad Forks | N16: Knives | O16: Teaspoons | Q16: Serving Utensils
D19: 1
D20: 2
D21: 3
D22: 4
D23: 5
D24: 6
D25: 7
D26: 8
D27: Total number of items | E27: =COUNTA(E19:E26) -> 0 | F27: =COUNTA(F19:F26) -> 0 | G27: =COUNTA(G19:G26) -> 0 | H27: =COUNTA(H19:H26) -> 0 | I27: =COUNTA(I19:I26) -> 0 | J27: =COUNTA(J19:J26) -> 0 | K27: =COUNTA(K19:K26) -> 0 | L27: =COUNTA(L19:L26) -> 0 | ... N27: =COUNTA(N19:N26) -> 0 | O27: =COUNTA(O19:P26) -> 0 | Q27: =COUNTA(Q19:Q26) -> 0
C31: Sensor Medium Response
E32: Dinner Plates | F32: Bread & Butter Plates | G32: Coffee Cups | H32: Saucers | I32: Fruit Bowls | J32: Serving Dishes | K32: Glasses | L32: Dinner Forks | M32: Salad Forks | N32: Knives | O32: Teaspoons | Q32: Serving Utensils
D35: 1
D36: 2
D37: 3
D38: 4
D39: 5
D40: 6
D41: 7
D42: 8
D43: Total number of items | E43: =COUNTA(E35:E42) -> 0 | F43: =COUNTA(F35:F42) -> 0 | G43: =COUNTA(G35:G42) -> 0 | H43: =COUNTA(H35:H42) -> 0 | I43: =COUNTA(I35:I42) -> 0 | J43: =COUNTA(J35:J42) -> 0 | K43: =COUNTA(K35:K42) -> 0 | L43: =COUNTA(L35:L42) -> 0 | ... N43: =COUNTA(N35:N42) -> 0 | O43: =COUNTA(O35:P42) -> 0 | Q43: =COUNTA(Q35:Q42) -> 0
C47: Sensor Light Response
E48: Dinner Plates | F48: Bread & Butter Plates | G48: Coffee Cups | H48: Saucers | I48: Fruit Bowls | J48: Serving Dishes | K48: Glasses | L48: Dinner Forks | M48: Salad Forks | N48: Knives | O48: Teaspoons | Q48: Serving Utensils
D51: 1
D52: 2
D53: 3
D54: 4
D55: 5
D56: 6
...

Sheet Report Sign-Off Block
B2: ='Version Control'!$B$2 -> Title Block
B3: ='Version Control'!$B$3 -> Test Report Template Name: | C3: ='Version Control'!$C$3 -> Dishwashers | G3: Back to Instructions tab
B4: ='Version Control'!$B$4 -> Version Number: | C4: ='Version Control'!$C$4 -> v1.0
B5: ='Version Control'!$B$5 -> Latest Template Revision: | C5: ='Version Control'!$C$5 -> 45821
B6: ='Version Control'!$B$6 -> Tab Name: | C6: =MID(CELL("filename",A1), FIND("]", CELL("filename", A1))+ 1, 255) -> Report Sign-Off Block
B7: ='Version Control'!$B$7 -> File Name: | C7: ='Version Control'!$C$7 -> Dishwashers Appendix C2 - v1.0.xlsx
B8: ='Version Control'!$B$8 -> Test Start Date: | C8: ='Version Control'!$C$8 -> [MM/DD/YYYY]
B9: ='Version Control'!$B$9 -> Test Completion Date: | C9: ='Version Control'!$C$9 -> [MM/DD/YYYY]
B12: Test Report Sign-Off Block
B13: By signing in the space below, we certify that the information and data in this report: (1) were obtained from the specific test unit under test; (2) were obtained during the specific test being reported; (3) were not copied from any other source, except where instructed to do so; and (4) were not altered or modified in any way.
B15: Role | D15: Date | E15: Entity
B16: Test Completion | D16: ='General Info & Test Results'!C18 -> [MM/DD/YYYY] | E16: [Test Lab Name]
B17: Template Completion | D17: [MM/DD/YYYY] | E17: [Test Lab Name]
B18: Report Review by Test Lab | D18: [MM/DD/YYYY] | E18: [Test Lab Name]
B19: Report Review by Test Lab | D19: [MM/DD/YYYY] | E19: [Test Lab Name]

Sheet Drop-downs
B2: ='Version Control'!$B$2 -> Title Block
B3: ='Version Control'!$B$3 -> Test Report Template Name: | C3: ='Version Control'!$C$3 -> Dishwashers
B4: ='Version Control'!$B$4 -> Version Number: | C4: ='Version Control'!$C$4 -> v1.0
B5: ='Version Control'!$B$5 -> Latest Template Revision: | C5: ='Version Control'!$C$5 -> 45821
B6: ='Version Control'!$B$6 -> Tab Name: | C6: =MID(CELL("filename",A1), FIND("]", CELL("filename", A1))+ 1, 255) -> Drop-downs
B7: ='Version Control'!$B$7 -> File Name: | C7: ='Version Control'!$C$7 -> Dishwashers Appendix C2 - v1.0.xlsx
B8: ='Version Control'!$B$8 -> Test Start Date: | C8: ='Version Control'!$C$8 -> [MM/DD/YYYY]
B9: ='Version Control'!$B$9 -> Test Completion Date: | C9: ='Version Control'!$C$9 -> [MM/DD/YYYY]
B12: YES/NO | D12: Inlet Temp Rating | F12: Unit Type
B13: Yes | D13: 50 | F13: Standard
B14: No | D14: 120 | F14: Compact
D15: 140
B16: Fan-only mode energy measurement
B17: Measured for the entire fan-only mode duration
B18: Measured for a representative 10-minute period

Sheet Version Control
B2: Title Block
B3: Test Report Template Name: | C3: Dishwashers
B4: Version Number: | C4: =INDEX(B14:B60,COUNTA(B14:B60),1) -> v1.0
B5: Latest Template Revision: | C5: =IF(MAX(B14:C102)=0,"No Revisions Dates Entered",MAX(C14:C102)) -> 45821
B6: Tab Name: | C6: =MID(CELL("filename",A1), FIND("]", CELL("filename", A1))+ 1, 255) -> Version Control
B7: File Name: | C7: =MID(CELL("FILENAME",A1),FIND("[",CELL("FILENAME",A1))+1,FIND("]",CELL("FILENAME",A1))-FIND("[",CELL("FILENAME",A1))-1) -> Dishwashers Appendix C2 - v1.0.xlsx
B8: Test Start Date: | C8: ='General Info & Test Results'!C17 -> [MM/DD/YYYY]
B9: Test Completion Date: | C9: ='General Info & Test Results'!C18 -> [MM/DD/YYYY]
B12: Revisions List
B13: Version | C13: Date
B14: v1.0 | C14: 45821
