{"text_format":"1","workbook":"xlsx","n_sheets":12,"sheets":["Inputs and Summary","Scenarios","All Scenarios LCOE wo CapVal","All Scenarios LCOE Summary","LCOE Summary","Combined Cycle Gas","Nuclear","Utility-scale Solar","Tennessee Wind","Oklahoma Wind + P&E","Oklahoma Wind","TOD Calc"],"not_rendered":{"charts":2,"images":0,"macros":1,"external_links":0,"defined_names":0,"comments":0,"pivot_tables":0},"unopened":[],"bounds":{"document_bytes":16777216,"sheet_cells":100000,"rows_first":2000,"rows_last":500,"rows_between":2000,"halvings":0,"cell_chars":16384,"cell_head_chars":4096},"cells_cut":0,"cells_raw":0,"read":"whole","date_system":"1900"}

{"sheet":"Inputs and Summary","index":0,"n_rows":34,"n_cols":9,"rows_kept":34,"cut":false,"hidden":false,"merged":[[25,4,25,6]]}
["PLAINS AND EASTERN ALTERNATIVES ANALYSIS"]
[]
["General Inputs",null,null,null,"Source"]
["Inflation",2.5000000000000001E-2]
["Corporate Tax Rate",0.35]
[]
["Debt (%)",0.5]
["Equity (%)",{"$f":"1-B7","v":0.5}]
["Debt Cost",5.5E-2]
["Cost of Equity",0.12]
[]
["WACC",{"$f":"+B7*B9*(1-B5)+B8*B10","v":7.7875E-2}]
[]
["Dollar Value (year)",2011]
["Capacity Value ($k/MW-yr)",95.659000000000006,null,null,"Annual revenue requirement for combustion turbines in $2011/MW-yr"]
["Regional Cost Adjustments","TN is in SERC Central (SRCE)",null,null,"EIA assumptions:"]
[null,"OK is in SPP South (SPSO)",null,null,"http://www.eia.gov/forecasts/aeo/assumptions/pdf/electricity.pdf.  Figure 6."]
[]
["Variable Inputs"]
["PTC Value ($/MWh)",23]
["Carbon dioxide cost (Projection Case)\n1 - None, 2 - Med, 3 - High",2]
["Natural Gas Price (% of EIA forecast)",100]
["OK Wind Capacity Factor (%)",53]
["TN Wind Capacity Factor (%)",30]
[]
[null,null,null,null,"Annual Savings vs. ($mm)"]
["Outputs","LCOE ($/MWh)","Annual MWh","Annual Cost ($mm)",{"$f":"A28","v":"Plains and Eastern Project"},{"$f":"A29","v":"Tennessee Wind"},{"$f":"A30","v":"Combined Cycle Gas"},{"$f":"A31","v":"Nuclear "},"Utility-scale Solar"]
["Plains and Eastern Project",{"$f":"'Oklahoma Wind + P&E'!B82","v":34.09792758853991},{"$f":"'Oklahoma Wind + P&E'!E12","v":2427524.5500000003},{"$f":"+B28*C28/10^6","v":82.773556325302948},{"$f":"+$D$28-D28","v":0},{"$f":"+$D$29-D28","v":59.529952206610304},{"$f":"+$D$30-D28","v":91.005964699464002},{"$f":"+$D$31-D28","v":113.66226377253774},{"$f":"$D$32-D28","v":197.02040261145243}]
["Tennessee Wind",{"$f":"'Tennessee Wind'!B99","v":58.620831880737626},{"$f":"'Tennessee Wind'!D28","v":2427524.5499999998},{"$f":"+B29*C29/10^6","v":142.30350853191325},{"$f":"+$D$28-D29","v":-59.529952206610304},{"$f":"+$D$29-D29","v":0},{"$f":"+$D$30-D29","v":31.476012492853698},{"$f":"+$D$31-D29","v":54.132311565927438},{"$f":"$D$32-D29","v":137.49045040484211}]
["Combined Cycle Gas",{"$f":"'Combined Cycle Gas'!B113","v":71.587132259802246},{"$f":"'Combined Cycle Gas'!C44","v":2427524.5500000003},{"$f":"+B30*C30/10^6","v":173.77952102476695},{"$f":"+$D$28-D30","v":-91.005964699464002},{"$f":"+$D$29-D30","v":-31.476012492853698},{"$f":"+$D$30-D30","v":0},{"$f":"+$D$31-D30","v":22.65629907307374},106.01443791198841]
["Nuclear ",{"$f":"Nuclear!B110","v":80.920219776084522},{"$f":"Nuclear!D41","v":2427524.5500000003},{"$f":"+B31*C31/10^6","v":196.43582009784069},{"$f":"+$D$28-D31","v":-113.66226377253774},{"$f":"+$D$29-D31","v":-54.132311565927438},{"$f":"+$D$30-D31","v":-22.65629907307374},{"$f":"+$D$31-D31","v":0},83.35813883891467]
["Utility-scale Solar",{"$f":"'Utility-scale Solar'!B103","v":115.25896161863959},{"$f":"'Utility-scale Solar'!C33","v":2427524.5500000003},{"$f":"+B32*C32/10^6","v":279.79395893675536},{"$f":"+$D$28-D32","v":-197.02040261145243},{"$f":"+$D$29-D32","v":-137.49045040484211},{"$f":"+$D$30-D32","v":-106.01443791198841},{"$f":"+$D$31-D32","v":-83.35813883891467},0]
[]
["Note: LCOE is net of capacity value"]

{"sheet":"Scenarios","index":1,"n_rows":1305,"n_cols":9,"rows_kept":1305,"cut":false,"hidden":false,"merged":[[25,4,25,6]]}
["Scenarios"]
[]
["Variable Inputs","Low","Med","High"]
["PTC Value ($/MWh)",0,null,23,null,"(Only affects wind PTC)"]
["Carbon Dioxide Costs (Scenario)",1,2,3]
["Natural Gas Price (% of EIA forecast)",80,100,120]
["OK Wind Capacity Factor (%)",50,53,56]
["TN Wind Capacity Factor (%)",25,30,35]
[]
[]
["Scenario:","PL , CL , GL , OL , TL",null,null,"Annual Savings vs. ($mm)"]
["Outputs","LCOE ($/MWh)","Annual MWh","Annual Cost ($mm)","Plains and Eastern Project","Tennessee Wind","Combined Cycle Gas","Nuclear ","Utility-scale Solar"]
["Plains and Eastern Project",66.066593543856428,2290117.5,151.30026204017264,0,78.976225702281596,-47.279693427611718,34.016549372872049,112.65630299450208]
["Tennessee Wind",100.55225888735151,2290117.5,230.27648774245424,-78.976225702281596,0,-126.25591912989331,-44.959676329409547,33.680077292220489]
["Combined Cycle Gas",45.421498509382566,2290117.5,104.02056861256092,47.279693427611718,126.25591912989331,0,81.296242800483768,159.93599642211382]
["Nuclear ",80.920219776079037,2290117.5,185.31681141304469,-34.016549372872049,44.959676329409547,-81.296242800483768,0,78.639753621630035]
["Utility-scale Solar",115.25896161863953,2290117.5,263.95656503467472,-112.65630299450208,-33.680077292220489,-159.93599642211382,-78.639753621630035,0]
[]
["Scenario:","PL , CL , GL , OL , TM",null,null,"Annual Savings vs. ($mm)"]
["Outputs","LCOE ($/MWh)","Annual MWh","Annual Cost ($mm)","Plains and Eastern Project","Tennessee Wind","Combined Cycle Gas","Nuclear ","Utility-scale Solar"]
["Plains and Eastern Project",66.066593543856428,2290117.5,151.30026204017264,0,40.80510838082111,-47.279693427611718,34.016549372872049,112.65630299450208]
["Tennessee Wind",83.884503926542536,2290117.4999999995,192.10537042099375,-40.80510838082111,0,-88.084801808432829,-6.7885590079490612,71.851194613680974]
["Combined Cycle Gas",45.421498509382566,2290117.5,104.02056861256092,47.279693427611718,88.084801808432829,0,81.296242800483768,159.93599642211382]
["Nuclear ",80.920219776079037,2290117.5,185.31681141304469,-34.016549372872049,6.7885590079490612,-81.296242800483768,0,78.639753621630035]
["Utility-scale Solar",115.25896161863953,2290117.5,263.95656503467472,-112.65630299450208,-71.851194613680974,-159.93599642211382,-78.639753621630035,0]
[]
["Scenario:","PL , CL , GL , OL , TH",null,null,"Annual Savings vs. ($mm)"]
["Outputs","LCOE ($/MWh)","Annual MWh","Annual Cost ($mm)","Plains and Eastern Project","Tennessee Wind","Combined Cycle Gas","Nuclear ","Utility-scale Solar"]
["Plains and Eastern Project",66.066593543856428,2290117.5,151.30026204017264,0,13.540024579777906,-47.279693427611718,34.016549372872049,112.65630299450208]
["Tennessee Wind",71.978964668821817,2290117.5,164.84028661995055,-13.540024579777906,0,-60.819718007389625,20.476524793094143,99.116278414724178]
["Combined Cycle Gas",45.421498509382566,2290117.5,104.02056861256092,47.279693427611718,60.819718007389625,0,81.296242800483768,159.93599642211382]
["Nuclear ",80.920219776079037,2290117.5,185.31681141304469,-34.016549372872049,-20.476524793094143,-81.296242800483768,0,78.639753621630035]
["Utility-scale Solar",115.25896161863953,2290117.5,263.95656503467472,-112.65630299450208,-99.116278414724178,-159.93599642211382,-78.639753621630035,0]
[]
["Scenario:","PL , CL , GL , OM , TL",null,null,"Annual Savings vs. ($mm)"]
["Outputs","LCOE ($/MWh)","Annual MWh","Annual Cost ($mm)","Plains and Eastern Project","Tennessee Wind","Combined Cycle Gas","Nuclear ","Utility-scale Solar"]
["Plains and Eastern Project",63.035770523511928,2427524.5500000003,153.02088047399158,0,92.535199386180267,-43.340179748984426,43.414939623849108,126.77307846276378]
["Tennessee Wind",101.15493161960889,2427524.5500000003,245.55607986017185,-92.535199386180267,0,-135.87537913516468,-49.120259762331159,34.237879076583511]
["Combined Cycle Gas",45.182118024308814,2427524.5500000003,109.68070072500716,43.340179748984426,135.87537913516468,0,86.755119372833533,170.11325821174819]
["Nuclear ",80.920219776084522,2427524.5500000003,196.43582009784069,-43.414939623849108,49.120259762331159,-86.755119372833533,0,83.35813883891467]
["Utility-scale Solar",115.25896161863959,2427524.5500000003,279.79395893675536,-126.77307846276378,-34.237879076583511,-170.11325821174819,-83.35813883891467,0]
[]
["Scenario:","PL , CL , GL , OM , TM",null,null,"Annual Savings vs. ($mm)"]
["Outputs","LCOE ($/MWh)","Annual MWh","Annual Cost ($mm)","Plains and Eastern Project","Tennessee Wind","Combined Cycle Gas","Nuclear ","Utility-scale Solar"]
["Plains and Eastern Project",63.035770523511928,2427524.5500000003,153.02088047399158,0,52.073815025432054,-43.340179748984426,43.414939623849108,126.77307846276378]
["Tennessee Wind",84.487176658799868,2427524.5499999998,205.09469549942364,-52.073815025432054,0,-95.41399477441648,-8.6588754015829466,74.699263437331723]
["Combined Cycle Gas",45.182118024308814,2427524.5500000003,109.68070072500716,43.340179748984426,95.41399477441648,0,86.755119372833533,170.11325821174819]
["Nuclear ",80.920219776084522,2427524.5500000003,196.43582009784069,-43.414939623849108,8.6588754015829466,-86.755119372833533,0,83.35813883891467]
["Utility-scale Solar",115.25896161863959,2427524.5500000003,279.79395893675536,-126.77307846276378,-74.699263437331723,-170.11325821174819,-83.35813883891467,0]
[]
["Scenario:","PL , CL , GL , OM , TH",null,null,"Annual Savings vs. ($mm)"]
["Outputs","LCOE ($/MWh)","Annual MWh","Annual Cost ($mm)","Plains and Eastern Project","Tennessee Wind","Combined Cycle Gas","Nuclear ","Utility-scale Solar"]
["Plains and Eastern Project",63.035770523511928,2427524.5500000003,153.02088047399158,0,23.172826196326184,-43.340179748984426,43.414939623849108,126.77307846276378]
["Tennessee Wind",72.581637401079121,2427524.5500000003,176.19370667031777,-23.172826196326184,0,-66.51300594531061,20.242113427522924,103.60025226643759]
["Combined Cycle Gas",45.182118024308814,2427524.5500000003,109.68070072500716,43.340179748984426,66.51300594531061,0,86.755119372833533,170.11325821174819]
["Nuclear ",80.920219776084522,2427524.5500000003,196.43582009784069,-43.414939623849108,-20.242113427522924,-86.755119372833533,0,83.35813883891467]
["Utility-scale Solar",115.25896161863959,2427524.5500000003,279.79395893675536,-126.77307846276378,-103.60025226643759,-170.11325821174819,-83.35813883891467,0]
[]
["Scenario:","PL , CL , GL , OH , TL",null,null,"Annual Savings vs. ($mm)"]
["Outputs","LCOE ($/MWh)","Annual MWh","Annual Cost ($mm)","Plains and Eastern Project","Tennessee Wind","Combined Cycle Gas","Nuclear ","Utility-scale Solar"]
["Plains and Eastern Project",60.329678541061483,2564931.6,154.7414989078105,0,106.09417307007865,-38.8524566323036,52.813329874746756,140.88985393102521]
["Tennessee Wind",101.69303227341,2564931.6,260.83567197788915,-106.09417307007865,0,-144.94662970238227,-53.280843195331897,34.795680860946561]
["Combined Cycle Gas",45.182118024319593,2564931.6,115.8890422755069,38.8524566323036,144.94662970238227,0,91.665786507050356,179.74231056332883]
["Nuclear ",80.920219776058445,2564931.6,207.55482878255725,-52.813329874746756,53.280843195331897,-91.665786507050356,0,88.076524056278458]
["Utility-scale Solar",115.25896161863955,2564931.6,295.63135283883571,-140.88985393102521,-34.795680860946561,-179.74231056332883,-88.076524056278458,0]
[]
["Scenario:","PL , CL , GL , OH , TM",null,null,"Annual Savings vs. ($mm)"]
["Outputs","LCOE ($/MWh)","Annual MWh","Annual Cost ($mm)","Plains and Eastern Project","Tennessee Wind","Combined Cycle Gas","Nuclear ","Utility-scale Solar"]
["Plains and Eastern Project",60.329678541061483,2564931.6,154.7414989078105,0,63.342521670042913,-38.8524566323036,52.813329874746756,140.88985393102521]
["Tennessee Wind",85.02527731260102,2564931.5999999996,218.08402057785341,-63.342521670042913,0,-102.19497830234651,-10.529191795296157,77.547332260982301]
["Combined Cycle Gas",45.182118024319593,2564931.6,115.8890422755069,38.8524566323036,102.19497830234651,0,91.665786507050356,179.74231056332883]
["Nuclear ",80.920219776058445,2564931.6,207.55482878255725,-52.813329874746756,10.529191795296157,-91.665786507050356,0,88.076524056278458]
["Utility-scale Solar",115.25896161863955,2564931.6,295.63135283883571,-140.88985393102521,-77.547332260982301,-179.74231056332883,-88.076524056278458,0]
[]
["Scenario:","PL , CL , GL , OH , TH",null,null,"Annual Savings vs. ($mm)"]
["Outputs","LCOE ($/MWh)","Annual MWh","Annual Cost ($mm)","Plains and Eastern Project","Tennessee Wind","Combined Cycle Gas","Nuclear ","Utility-scale Solar"]
["Plains and Eastern Project",60.329678541061483,2564931.6,154.7414989078105,0,32.805627812874462,-38.8524566323036,52.813329874746756,140.88985393102521]
["Tennessee Wind",73.119738054880273,2564931.6,187.54712672068496,-32.805627812874462,0,-71.658084445178062,20.007702061872294,108.08422611815075]
["Combined Cycle Gas",45.182118024319593,2564931.6,115.8890422755069,38.8524566323036,71.658084445178062,0,91.665786507050356,179.74231056332883]
["Nuclear ",80.920219776058445,2564931.6,207.55482878255725,-52.813329874746756,-20.007702061872294,-91.665786507050356,0,88.076524056278458]
["Utility-scale Solar",115.25896161863955,2564931.6,295.63135283883571,-140.88985393102521,-108.08422611815075,-179.74231056332883,-88.076524056278458,0]
[]
["Scenario:","PL , CL , GM , OL , TL",null,null,"Annual Savings vs. ($mm)"]
["Outputs","LCOE ($/MWh)","Annual MWh","Annual Cost ($mm)","Plains and Eastern Project","Tennessee Wind","Combined Cycle Gas","Nuclear ","Utility-scale Solar"]
["Plains and Eastern Project",66.066593543856428,2290117.5,151.30026204017264,0,78.976225702281596,-24.834386607058576,34.016549372872049,112.65630299450208]
["Tennessee Wind",100.55225888735151,2290117.5,230.27648774245424,-78.976225702281596,0,-103.81061230934017,-44.959676329409547,33.680077292220489]
["Combined Cycle Gas",55.222439649107116,2290117.5,126.46587543311406,24.834386607058576,103.81061230934017,0,58.850935979930625,137.49068960156066]
["Nuclear ",80.920219776079037,2290117.5,185.31681141304469,-34.016549372872049,44.959676329409547,-58.850935979930625,0,78.639753621630035]
["Utility-scale Solar",115.25896161863953,2290117.5,263.95656503467472,-112.65630299450208,-33.680077292220489,-137.49068960156066,-78.639753621630035,0]
[]
["Scenario:","PL , CL , GM , OL , TM",null,null,"Annual Savings vs. ($mm)"]
["Outputs","LCOE ($/MWh)","Annual MWh","Annual Cost ($mm)","Plains and Eastern Project","Tennessee Wind","Combined Cycle Gas","Nuclear ","Utility-scale Solar"]
["Plains and Eastern Project",66.066593543856428,2290117.5,151.30026204017264,0,40.80510838082111,-24.834386607058576,34.016549372872049,112.65630299450208]
["Tennessee Wind",83.884503926542536,2290117.4999999995,192.10537042099375,-40.80510838082111,0,-65.639494987879687,-6.7885590079490612,71.851194613680974]
["Combined Cycle Gas",55.222439649107116,2290117.5,126.46587543311406,24.834386607058576,65.639494987879687,0,58.850935979930625,137.49068960156066]
["Nuclear ",80.920219776079037,2290117.5,185.31681141304469,-34.016549372872049,6.7885590079490612,-58.850935979930625,0,78.639753621630035]
["Utility-scale Solar",115.25896161863953,2290117.5,263.95656503467472,-112.65630299450208,-71.851194613680974,-137.49068960156066,-78.639753621630035,0]
[]
["Scenario:","PL , CL , GM , OL , TH",null,null,"Annual Savings vs. ($mm)"]
["Outputs","LCOE ($/MWh)","Annual MWh","Annual Cost ($mm)","Plains and Eastern Project","Tennessee Wind","Combined Cycle Gas","Nuclear ","Utility-scale Solar"]
["Plains and Eastern Project",66.066593543856428,2290117.5,151.30026204017264,0,13.540024579777906,-24.834386607058576,34.016549372872049,112.65630299450208]
["Tennessee Wind",71.978964668821817,2290117.5,164.84028661995055,-13.540024579777906,0,-38.374411186836483,20.476524793094143,99.116278414724178]
["Combined Cycle Gas",55.222439649107116,2290117.5,126.46587543311406,24.834386607058576,38.374411186836483,0,58.850935979930625,137.49068960156066]
["Nuclear ",80.920219776079037,2290117.5,185.31681141304469,-34.016549372872049,-20.476524793094143,-58.850935979930625,0,78.639753621630035]
["Utility-scale Solar",115.25896161863953,2290117.5,263.95656503467472,-112.65630299450208,-99.116278414724178,-137.49068960156066,-78.639753621630035,0]
[]
["Scenario:","PL , CL , GM , OM , TL",null,null,"Annual Savings vs. ($mm)"]
["Outputs","LCOE ($/MWh)","Annual MWh","Annual Cost ($mm)","Plains and Eastern Project","Tennessee Wind","Combined Cycle Gas","Nuclear ","Utility-scale Solar"]
["Plains and Eastern Project",63.035770523511928,2427524.5500000003,153.02088047399158,0,92.535199386180267,-19.548154519201205,43.414939623849108,126.77307846276378]
["Tennessee Wind",101.15493161960889,2427524.5500000003,245.55607986017185,-92.535199386180267,0,-112.08335390538147,-49.120259762331159,34.237879076583511]
["Combined Cycle Gas",54.983059164032085,2427524.5500000003,133.47272595479038,19.548154519201205,112.08335390538147,0,62.963094143050313,146.32123298196498]
["Nuclear ",80.920219776084522,2427524.5500000003,196.43582009784069,-43.414939623849108,49.120259762331159,-62.963094143050313,0,83.35813883891467]
["Utility-scale Solar",115.25896161863959,2427524.5500000003,279.79395893675536,-126.77307846276378,-34.237879076583511,-146.32123298196498,-83.35813883891467,0]
[]
["Scenario:","PL , CL , GM , OM , TM",null,null,"Annual Savings vs. ($mm)"]
["Outputs","LCOE ($/MWh)","Annual MWh","Annual Cost ($mm)","Plains and Eastern Project","Tennessee Wind","Combined Cycle Gas","Nuclear ","Utility-scale Solar"]
["Plains and Eastern Project",63.035770523511928,2427524.5500000003,153.02088047399158,0,52.073815025432054,-19.548154519201205,43.414939623849108,126.77307846276378]
["Tennessee Wind",84.487176658799868,2427524.5499999998,205.09469549942364,-52.073815025432054,0,-71.621969544633259,-8.6588754015829466,74.699263437331723]
["Combined Cycle Gas",54.983059164032085,2427524.5500000003,133.47272595479038,19.548154519201205,71.621969544633259,0,62.963094143050313,146.32123298196498]
["Nuclear ",80.920219776084522,2427524.5500000003,196.43582009784069,-43.414939623849108,8.6588754015829466,-62.963094143050313,0,83.35813883891467]
["Utility-scale Solar",115.25896161863959,2427524.5500000003,279.79395893675536,-126.77307846276378,-74.699263437331723,-146.32123298196498,-83.35813883891467,0]
[]
["Scenario:","PL , CL , GM , OM , TH",null,null,"Annual Savings vs. ($mm)"]
["Outputs","LCOE ($/MWh)","Annual MWh","Annual Cost ($mm)","Plains and Eastern Project","Tennessee Wind","Combined Cycle Gas","Nuclear ","Utility-scale Solar"]
["Plains and Eastern Project",63.035770523511928,2427524.5500000003,153.02088047399158,0,23.172826196326184,-19.548154519201205,43.414939623849108,126.77307846276378]
["Tennessee Wind",72.581637401079121,2427524.5500000003,176.19370667031777,-23.172826196326184,0,-42.720980715527389,20.242113427522924,103.60025226643759]
["Combined Cycle Gas",54.983059164032085,2427524.5500000003,133.47272595479038,19.548154519201205,42.720980715527389,0,62.963094143050313,146.32123298196498]
["Nuclear ",80.920219776084522,2427524.5500000003,196.43582009784069,-43.414939623849108,-20.242113427522924,-62.963094143050313,0,83.35813883891467]
["Utility-scale Solar",115.25896161863959,2427524.5500000003,279.79395893675536,-126.77307846276378,-103.60025226643759,-146.32123298196498,-83.35813883891467,0]
[]
["Scenario:","PL , CL , GM , OH , TL",null,null,"Annual Savings vs. ($mm)"]
["Outputs","LCOE ($/MWh)","Annual MWh","Annual Cost ($mm)","Plains and Eastern Project","Tennessee Wind","Combined Cycle Gas","Nuclear ","Utility-scale Solar"]
["Plains and Eastern Project",60.329678541061483,2564931.6,154.7414989078105,0,106.09417307007865,-13.713712993281433,52.813329874746756,140.88985393102521]
["Tennessee Wind",101.69303227341,2564931.6,260.83567197788915,-106.09417307007865,0,-119.80788606336009,-53.280843195331897,34.795680860946561]
["Combined Cycle Gas",54.983059164045173,2564931.6,141.02778591452906,13.713712993281433,119.80788606336009,0,66.52704286802819,154.60356692430665]
["Nuclear ",80.920219776058445,2564931.6,207.55482878255725,-52.813329874746756,53.280843195331897,-66.52704286802819,0,88.076524056278458]
["Utility-scale Solar",115.25896161863955,2564931.6,295.63135283883571,-140.88985393102521,-34.795680860946561,-154.60356692430665,-88.076524056278458,0]
[]
["Scenario:","PL , CL , GM , OH , TM",null,null,"Annual Savings vs. ($mm)"]
["Outputs","LCOE ($/MWh)","Annual MWh","Annual Cost ($mm)","Plains and Eastern Project","Tennessee Wind","Combined Cycle Gas","Nuclear ","Utility-scale Solar"]
["Plains and Eastern Project",60.329678541061483,2564931.6,154.7414989078105,0,63.342521670042913,-13.713712993281433,52.813329874746756,140.88985393102521]
["Tennessee Wind",85.02527731260102,2564931.5999999996,218.08402057785341,-63.342521670042913,0,-77.056234663324346,-10.529191795296157,77.547332260982301]
["Combined Cycle Gas",54.983059164045173,2564931.6,141.02778591452906,13.713712993281433,77.056234663324346,0,66.52704286802819,154.60356692430665]
["Nuclear ",80.920219776058445,2564931.6,207.55482878255725,-52.813329874746756,10.529191795296157,-66.52704286802819,0,88.076524056278458]
["Utility-scale Solar",115.25896161863955,2564931.6,295.63135283883571,-140.88985393102521,-77.547332260982301,-154.60356692430665,-88.076524056278458,0]
[]
["Scenario:","PL , CL , GM , OH , TH",null,null,"Annual Savings vs. ($mm)"]
["Outputs","LCOE ($/MWh)","Annual MWh","Annual Cost ($mm)","Plains and Eastern Project","Tennessee Wind","Combined Cycle Gas","Nuclear ","Utility-scale Solar"]
["Plains and Eastern Project",60.329678541061483,2564931.6,154.7414989078105,0,32.805627812874462,-13.713712993281433,52.813329874746756,140.88985393102521]
["Tennessee Wind",73.119738054880273,2564931.6,187.54712672068496,-32.805627812874462,0,-46.519340806155896,20.007702061872294,108.08422611815075]
["Combined Cycle Gas",54.983059164045173,2564931.6,141.02778591452906,13.713712993281433,46.519340806155896,0,66.52704286802819,154.60356692430665]
["Nuclear ",80.920219776058445,2564931.6,207.55482878255725,-52.813329874746756,-20.007702061872294,-66.52704286802819,0,88.076524056278458]
["Utility-scale Solar",115.25896161863955,2564931.6,295.63135283883571,-140.88985393102521,-108.08422611815075,-154.60356692430665,-88.076524056278458,0]
[]
["Scenario:","PL , CL , GH , OL , TL",null,null,"Annual Savings vs. ($mm)"]
["Outputs","LCOE ($/MWh)","Annual MWh","Annual Cost ($mm)","Plains and Eastern Project","Tennessee Wind","Combined Cycle Gas","Nuclear ","Utility-scale Solar"]
["Plains and Eastern Project",66.066593543856428,2290117.5,151.30026204017264,0,78.976225702281596,-2.3890797865053628,34.016549372872049,112.65630299450208]
["Tennessee Wind",100.55225888735151,2290117.5,230.27648774245424,-78.976225702281596,0,-81.365305488786959,-44.959676329409547,33.680077292220489]
["Combined Cycle Gas",65.023380788831687,2290117.5,148.91118225366728,2.3890797865053628,81.365305488786959,0,36.405629159377412,115.04538278100745]
["Nuclear ",80.920219776079037,2290117.5,185.31681141304469,-34.016549372872049,44.959676329409547,-36.405629159377412,0,78.639753621630035]
["Utility-scale Solar",115.25896161863953,2290117.5,263.95656503467472,-112.65630299450208,-33.680077292220489,-115.04538278100745,-78.639753621630035,0]
[]
["Scenario:","PL , CL , GH , OL , TM",null,null,"Annual Savings vs. ($mm)"]
["Outputs","LCOE ($/MWh)","Annual MWh","Annual Cost ($mm)","Plains and Eastern Project","Tennessee Wind","Combined Cycle Gas","Nuclear ","Utility-scale Solar"]
["Plains and Eastern Project",66.066593543856428,2290117.5,151.30026204017264,0,40.80510838082111,-2.3890797865053628,34.016549372872049,112.65630299450208]
["Tennessee Wind",83.884503926542536,2290117.4999999995,192.10537042099375,-40.80510838082111,0,-43.194188167326473,-6.7885590079490612,71.851194613680974]
["Combined Cycle Gas",65.023380788831687,2290117.5,148.91118225366728,2.3890797865053628,43.194188167326473,0,36.405629159377412,115.04538278100745]
["Nuclear ",80.920219776079037,2290117.5,185.31681141304469,-34.016549372872049,6.7885590079490612,-36.405629159377412,0,78.639753621630035]
["Utility-scale Solar",115.25896161863953,2290117.5,263.95656503467472,-112.65630299450208,-71.851194613680974,-115.04538278100745,-78.639753621630035,0]
[]
["Scenario:","PL , CL , GH , OL , TH",null,null,"Annual Savings vs. ($mm)"]
["Outputs","LCOE ($/MWh)","Annual MWh","Annual Cost ($mm)","Plains and Eastern Project","Tennessee Wind","Combined Cycle Gas","Nuclear ","Utility-scale Solar"]
["Plains and Eastern Project",66.066593543856428,2290117.5,151.30026204017264,0,13.540024579777906,-2.3890797865053628,34.016549372872049,112.65630299450208]
["Tennessee Wind",71.978964668821817,2290117.5,164.84028661995055,-13.540024579777906,0,-15.929104366283269,20.476524793094143,99.116278414724178]
["Combined Cycle Gas",65.023380788831687,2290117.5,148.91118225366728,2.3890797865053628,15.929104366283269,0,36.405629159377412,115.04538278100745]
["Nuclear ",80.920219776079037,2290117.5,185.31681141304469,-34.016549372872049,-20.476524793094143,-36.405629159377412,0,78.639753621630035]
["Utility-scale Solar",115.25896161863953,2290117.5,263.95656503467472,-112.65630299450208,-99.116278414724178,-115.04538278100745,-78.639753621630035,0]
[]
["Scenario:","PL , CL , GH , OM , TL",null,null,"Annual Savings vs. ($mm)"]
["Outputs","LCOE ($/MWh)","Annual MWh","Annual Cost ($mm)","Plains and Eastern Project","Tennessee Wind","Combined Cycle Gas","Nuclear ","Utility-scale Solar"]
["Plains and Eastern Project",63.035770523511928,2427524.5500000003,153.02088047399158,0,92.535199386180267,4.2438707105819162,43.414939623849108,126.77307846276378]
["Tennessee Wind",101.15493161960889,2427524.5500000003,245.55607986017185,-92.535199386180267,0,-88.291328675598351,-49.120259762331159,34.237879076583511]
["Combined Cycle Gas",64.78400030375532,2427524.5500000003,157.2647511845735,-4.2438707105819162,88.291328675598351,0,39.171068913267192,122.52920775218186]
["Nuclear ",80.920219776084522,2427524.5500000003,196.43582009784069,-43.414939623849108,49.120259762331159,-39.171068913267192,0,83.35813883891467]
["Utility-scale Solar",115.25896161863959,2427524.5500000003,279.79395893675536,-126.77307846276378,-34.237879076583511,-122.52920775218186,-83.35813883891467,0]
[]
["Scenario:","PL , CL , GH , OM , TM",null,null,"Annual Savings vs. ($mm)"]
["Outputs","LCOE ($/MWh)","Annual MWh","Annual Cost ($mm)","Plains and Eastern Project","Tennessee Wind","Combined Cycle Gas","Nuclear ","Utility-scale Solar"]
["Plains and Eastern Project",63.035770523511928,2427524.5500000003,153.02088047399158,0,52.073815025432054,4.2438707105819162,43.414939623849108,126.77307846276378]
["Tennessee Wind",84.487176658799868,2427524.5499999998,205.09469549942364,-52.073815025432054,0,-47.829944314850138,-8.6588754015829466,74.699263437331723]
["Combined Cycle Gas",64.78400030375532,2427524.5500000003,157.2647511845735,-4.2438707105819162,47.829944314850138,0,39.171068913267192,122.52920775218186]
["Nuclear ",80.920219776084522,2427524.5500000003,196.43582009784069,-43.414939623849108,8.6588754015829466,-39.171068913267192,0,83.35813883891467]
["Utility-scale Solar",115.25896161863959,2427524.5500000003,279.79395893675536,-126.77307846276378,-74.699263437331723,-122.52920775218186,-83.35813883891467,0]
[]
["Scenario:","PL , CL , GH , OM , TH",null,null,"Annual Savings vs. ($mm)"]
["Outputs","LCOE ($/MWh)","Annual MWh","Annual Cost ($mm)","Plains and Eastern Project","Tennessee Wind","Combined Cycle Gas","Nuclear ","Utility-scale Solar"]
["Plains and Eastern Project",63.035770523511928,2427524.5500000003,153.02088047399158,0,23.172826196326184,4.2438707105819162,43.414939623849108,126.77307846276378]
["Tennessee Wind",72.581637401079121,2427524.5500000003,176.19370667031777,-23.172826196326184,0,-18.928955485744268,20.242113427522924,103.60025226643759]
["Combined Cycle Gas",64.78400030375532,2427524.5500000003,157.2647511845735,-4.2438707105819162,18.928955485744268,0,39.171068913267192,122.52920775218186]
["Nuclear ",80.920219776084522,2427524.5500000003,196.43582009784069,-43.414939623849108,-20.242113427522924,-39.171068913267192,0,83.35813883891467]
["Utility-scale Solar",115.25896161863959,2427524.5500000003,279.79395893675536,-126.77307846276378,-103.60025226643759,-122.52920775218186,-83.35813883891467,0]
[]
["Scenario:","PL , CL , GH , OH , TL",null,null,"Annual Savings vs. ($mm)"]
["Outputs","LCOE ($/MWh)","Annual MWh","Annual Cost ($mm)","Plains and Eastern Project","Tennessee Wind","Combined Cycle Gas","Nuclear ","Utility-scale Solar"]
["Plains and Eastern Project",60.329678541061483,2564931.6,154.7414989078105,0,106.09417307007865,11.425030645740748,52.813329874746756,140.88985393102521]
["Tennessee Wind",101.69303227341,2564931.6,260.83567197788915,-106.09417307007865,0,-94.669142424337906,-53.280843195331897,34.795680860946561]
["Combined Cycle Gas",64.784000303770767,2564931.6,166.16652955355124,-11.425030645740748,94.669142424337906,0,41.388299229006009,129.46482328528447]
["Nuclear ",80.920219776058445,2564931.6,207.55482878255725,-52.813329874746756,53.280843195331897,-41.388299229006009,0,88.076524056278458]
["Utility-scale Solar",115.25896161863955,2564931.6,295.63135283883571,-140.88985393102521,-34.795680860946561,-129.46482328528447,-88.076524056278458,0]
[]
["Scenario:","PL , CL , GH , OH , TM",null,null,"Annual Savings vs. ($mm)"]
["Outputs","LCOE ($/MWh)","Annual MWh","Annual Cost ($mm)","Plains and Eastern Project","Tennessee Wind","Combined Cycle Gas","Nuclear ","Utility-scale Solar"]
["Plains and Eastern Project",60.329678541061483,2564931.6,154.7414989078105,0,63.342521670042913,11.425030645740748,52.813329874746756,140.88985393102521]
["Tennessee Wind",85.02527731260102,2564931.5999999996,218.08402057785341,-63.342521670042913,0,-51.917491024302166,-10.529191795296157,77.547332260982301]
["Combined Cycle Gas",64.784000303770767,2564931.6,166.16652955355124,-11.425030645740748,51.917491024302166,0,41.388299229006009,129.46482328528447]
["Nuclear ",80.920219776058445,2564931.6,207.55482878255725,-52.813329874746756,10.529191795296157,-41.388299229006009,0,88.076524056278458]
["Utility-scale Solar",115.25896161863955,2564931.6,295.63135283883571,-140.88985393102521,-77.547332260982301,-129.46482328528447,-88.076524056278458,0]
[]
["Scenario:","PL , CL , GH , OH , TH",null,null,"Annual Savings vs. ($mm)"]
["Outputs","LCOE ($/MWh)","Annual MWh","Annual Cost ($mm)","Plains and Eastern Project","Tennessee Wind","Combined Cycle Gas","Nuclear ","Utility-scale Solar"]
["Plains and Eastern Project",60.329678541061483,2564931.6,154.7414989078105,0,32.805627812874462,11.425030645740748,52.813329874746756,140.88985393102521]
["Tennessee Wind",73.119738054880273,2564931.6,187.54712672068496,-32.805627812874462,0,-21.380597167133715,20.007702061872294,108.08422611815075]
["Combined Cycle Gas",64.784000303770767,2564931.6,166.16652955355124,-11.425030645740748,21.380597167133715,0,41.388299229006009,129.46482328528447]
["Nuclear ",80.920219776058445,2564931.6,207.55482878255725,-52.813329874746756,-20.007702061872294,-41.388299229006009,0,88.076524056278458]
["Utility-scale Solar",115.25896161863955,2564931.6,295.63135283883571,-140.88985393102521,-108.08422611815075,-129.46482328528447,-88.076524056278458,0]
[]
["Scenario:","PL , CM , GL , OL , TL",null,null,"Annual Savings vs. ($mm)"]
["Outputs","LCOE ($/MWh)","Annual MWh","Annual Cost ($mm)","Plains and Eastern Project","Tennessee Wind","Combined Cycle Gas","Nuclear ","Utility-scale Solar"]
["Plains and Eastern Project",66.066593543856428,2290117.5,151.30026204017264,0,78.976225702281596,-9.2544150597042574,34.016549372872049,112.65630299450208]
["Tennessee Wind",100.55225888735151,2290117.5,230.27648774245424,-78.976225702281596,0,-88.230640761985853,-44.959676329409547,33.680077292220489]
["Combined Cycle Gas",62.02557160515493,2290117.5,142.04584698046838,9.2544150597042574,88.230640761985853,0,43.270964432576307,121.91071805420634]
["Nuclear ",80.920219776079037,2290117.5,185.31681141304469,-34.016549372872049,44.959676329409547,-43.270964432576307,0,78.639753621630035]
["Utility-scale Solar",115.25896161863953,2290117.5,263.95656503467472,-112.65630299450208,-33.680077292220489,-121.91071805420634,-78.639753621630035,0]
[]
["Scenario:","PL , CM , GL , OL , TM",null,null,"Annual Savings vs. ($mm)"]
["Outputs","LCOE ($/MWh)","Annual MWh","Annual Cost ($mm)","Plains and Eastern Project","Tennessee Wind","Combined Cycle Gas","Nuclear ","Utility-scale Solar"]
["Plains and Eastern Project",66.066593543856428,2290117.5,151.30026204017264,0,40.80510838082111,-9.2544150597042574,34.016549372872049,112.65630299450208]
["Tennessee Wind",83.884503926542536,2290117.4999999995,192.10537042099375,-40.80510838082111,0,-50.059523440525368,-6.7885590079490612,71.851194613680974]
["Combined Cycle Gas",62.02557160515493,2290117.5,142.04584698046838,9.2544150597042574,50.059523440525368,0,43.270964432576307,121.91071805420634]
["Nuclear ",80.920219776079037,2290117.5,185.31681141304469,-34.016549372872049,6.7885590079490612,-43.270964432576307,0,78.639753621630035]
["Utility-scale Solar",115.25896161863953,2290117.5,263.95656503467472,-112.65630299450208,-71.851194613680974,-121.91071805420634,-78.639753621630035,0]
[]
["Scenario:","PL , CM , GL , OL , TH",null,null,"Annual Savings vs. ($mm)"]
["Outputs","LCOE ($/MWh)","Annual MWh","Annual Cost ($mm)","Plains and Eastern Project","Tennessee Wind","Combined Cycle Gas","Nuclear ","Utility-scale Solar"]
["Plains and Eastern Project",66.066593543856428,2290117.5,151.30026204017264,0,13.540024579777906,-9.2544150597042574,34.016549372872049,112.65630299450208]
["Tennessee Wind",71.978964668821817,2290117.5,164.84028661995055,-13.540024579777906,0,-22.794439639482164,20.476524793094143,99.116278414724178]
["Combined Cycle Gas",62.02557160515493,2290117.5,142.04584698046838,9.2544150597042574,22.794439639482164,0,43.270964432576307,121.91071805420634]
["Nuclear ",80.920219776079037,2290117.5,185.31681141304469,-34.016549372872049,-20.476524793094143,-43.270964432576307,0,78.639753621630035]
["Utility-scale Solar",115.25896161863953,2290117.5,263.95656503467472,-112.65630299450208,-99.116278414724178,-121.91071805420634,-78.639753621630035,0]
[]
["Scenario:","PL , CM , GL , OM , TL",null,null,"Annual Savings vs. ($mm)"]
["Outputs","LCOE ($/MWh)","Annual MWh","Annual Cost ($mm)","Plains and Eastern Project","Tennessee Wind","Combined Cycle Gas","Nuclear ","Utility-scale Solar"]
["Plains and Eastern Project",63.035770523511928,2427524.5500000003,153.02088047399158,0,92.535199386180267,-3.0333846790078951,43.414939623849108,126.77307846276378]
["Tennessee Wind",101.15493161960889,2427524.5500000003,245.55607986017185,-92.535199386180267,0,-95.568584065188162,-49.120259762331159,34.237879076583511]
["Combined Cycle Gas",61.786191120078961,2427524.5500000003,149.98749579498369,3.0333846790078951,95.568584065188162,0,46.448324302857003,129.80646314177167]
["Nuclear ",80.920219776084522,2427524.5500000003,196.43582009784069,-43.414939623849108,49.120259762331159,-46.448324302857003,0,83.35813883891467]
["Utility-scale Solar",115.25896161863959,2427524.5500000003,279.79395893675536,-126.77307846276378,-34.237879076583511,-129.80646314177167,-83.35813883891467,0]
[]
["Scenario:","PL , CM , GL , OM , TM",null,null,"Annual Savings vs. ($mm)"]
["Outputs","LCOE ($/MWh)","Annual MWh","Annual Cost ($mm)","Plains and Eastern Project","Tennessee Wind","Combined Cycle Gas","Nuclear ","Utility-scale Solar"]
["Plains and Eastern Project",63.035770523511928,2427524.5500000003,153.02088047399158,0,52.073815025432054,-3.0333846790078951,43.414939623849108,126.77307846276378]
["Tennessee Wind",84.487176658799868,2427524.5499999998,205.09469549942364,-52.073815025432054,0,-55.10719970443995,-8.6588754015829466,74.699263437331723]
["Combined Cycle Gas",61.786191120078961,2427524.5500000003,149.98749579498369,3.0333846790078951,55.10719970443995,0,46.448324302857003,129.80646314177167]
["Nuclear ",80.920219776084522,2427524.5500000003,196.43582009784069,-43.414939623849108,8.6588754015829466,-46.448324302857003,0,83.35813883891467]
["Utility-scale Solar",115.25896161863959,2427524.5500000003,279.79395893675536,-126.77307846276378,-74.699263437331723,-129.80646314177167,-83.35813883891467,0]
[]
["Scenario:","PL , CM , GL , OM , TH",null,null,"Annual Savings vs. ($mm)"]
["Outputs","LCOE ($/MWh)","Annual MWh","Annual Cost ($mm)","Plains and Eastern Project","Tennessee Wind","Combined Cycle Gas","Nuclear ","Utility-scale Solar"]
["Plains and Eastern Project",63.035770523511928,2427524.5500000003,153.02088047399158,0,23.172826196326184,-3.0333846790078951,43.414939623849108,126.77307846276378]
["Tennessee Wind",72.581637401079121,2427524.5500000003,176.19370667031777,-23.172826196326184,0,-26.206210875334079,20.242113427522924,103.60025226643759]
["Combined Cycle Gas",61.786191120078961,2427524.5500000003,149.98749579498369,3.0333846790078951,26.206210875334079,0,46.448324302857003,129.80646314177167]
["Nuclear ",80.920219776084522,2427524.5500000003,196.43582009784069,-43.414939623849108,-20.242113427522924,-46.448324302857003,0,83.35813883891467]
["Utility-scale Solar",115.25896161863959,2427524.5500000003,279.79395893675536,-126.77307846276378,-103.60025226643759,-129.80646314177167,-83.35813883891467,0]
[]
["Scenario:","PL , CM , GL , OH , TL",null,null,"Annual Savings vs. ($mm)"]
["Outputs","LCOE ($/MWh)","Annual MWh","Annual Cost ($mm)","Plains and Eastern Project","Tennessee Wind","Combined Cycle Gas","Nuclear ","Utility-scale Solar"]
["Plains and Eastern Project",60.329678541061483,2564931.6,154.7414989078105,0,106.09417307007865,3.7358551397571489,52.813329874746756,140.88985393102521]
["Tennessee Wind",101.69303227341,2564931.6,260.83567197788915,-106.09417307007865,0,-102.3583179303215,-53.280843195331897,34.795680860946561]
["Combined Cycle Gas",61.786191120093662,2564931.6,158.47735404756764,-3.7358551397571489,102.3583179303215,0,49.077474734989607,137.15399879126807]
["Nuclear ",80.920219776058445,2564931.6,207.55482878255725,-52.813329874746756,53.280843195331897,-49.077474734989607,0,88.076524056278458]
["Utility-scale Solar",115.25896161863955,2564931.6,295.63135283883571,-140.88985393102521,-34.795680860946561,-137.15399879126807,-88.076524056278458,0]
[]
["Scenario:","PL , CM , GL , OH , TM",null,null,"Annual Savings vs. ($mm)"]
["Outputs","LCOE ($/MWh)","Annual MWh","Annual Cost ($mm)","Plains and Eastern Project","Tennessee Wind","Combined Cycle Gas","Nuclear ","Utility-scale Solar"]
["Plains and Eastern Project",60.329678541061483,2564931.6,154.7414989078105,0,63.342521670042913,3.7358551397571489,52.813329874746756,140.88985393102521]
["Tennessee Wind",85.02527731260102,2564931.5999999996,218.08402057785341,-63.342521670042913,0,-59.606666530285764,-10.529191795296157,77.547332260982301]
["Combined Cycle Gas",61.786191120093662,2564931.6,158.47735404756764,-3.7358551397571489,59.606666530285764,0,49.077474734989607,137.15399879126807]
["Nuclear ",80.920219776058445,2564931.6,207.55482878255725,-52.813329874746756,10.529191795296157,-49.077474734989607,0,88.076524056278458]
["Utility-scale Solar",115.25896161863955,2564931.6,295.63135283883571,-140.88985393102521,-77.547332260982301,-137.15399879126807,-88.076524056278458,0]
[]
["Scenario:","PL , CM , GL , OH , TH",null,null,"Annual Savings vs. ($mm)"]
["Outputs","LCOE ($/MWh)","Annual MWh","Annual Cost ($mm)","Plains and Eastern Project","Tennessee Wind","Combined Cycle Gas","Nuclear ","Utility-scale Solar"]
["Plains and Eastern Project",60.329678541061483,2564931.6,154.7414989078105,0,32.805627812874462,3.7358551397571489,52.813329874746756,140.88985393102521]
["Tennessee Wind",73.119738054880273,2564931.6,187.54712672068496,-32.805627812874462,0,-29.069772673117313,20.007702061872294,108.08422611815075]
["Combined Cycle Gas",61.786191120093662,2564931.6,158.47735404756764,-3.7358551397571489,29.069772673117313,0,49.077474734989607,137.15399879126807]
["Nuclear ",80.920219776058445,2564931.6,207.55482878255725,-52.813329874746756,-20.007702061872294,-49.077474734989607,0,88.076524056278458]
["Utility-scale Solar",115.25896161863955,2564931.6,295.63135283883571,-140.88985393102521,-108.08422611815075,-137.15399879126807,-88.076524056278458,0]
[]
["Scenario:","PL , CM , GM , OL , TL",null,null,"Annual Savings vs. ($mm)"]
["Outputs","LCOE ($/MWh)","Annual MWh","Annual Cost ($mm)","Plains and Eastern Project","Tennessee Wind","Combined Cycle Gas","Nuclear ","Utility-scale Solar"]
["Plains and Eastern Project",66.066593543856428,2290117.5,151.30026204017264,0,78.976225702281596,13.190891760848984,34.016549372872049,112.65630299450208]
["Tennessee Wind",100.55225888735151,2290117.5,230.27648774245424,-78.976225702281596,0,-65.785333941432611,-44.959676329409547,33.680077292220489]
["Combined Cycle Gas",71.826512744879523,2290117.5,164.49115380102162,-13.190891760848984,65.785333941432611,0,20.825657612023065,99.4654112336531]
["Nuclear ",80.920219776079037,2290117.5,185.31681141304469,-34.016549372872049,44.959676329409547,-20.825657612023065,0,78.639753621630035]
["Utility-scale Solar",115.25896161863953,2290117.5,263.95656503467472,-112.65630299450208,-33.680077292220489,-99.4654112336531,-78.639753621630035,0]
[]
["Scenario:","PL , CM , GM , OL , TM",null,null,"Annual Savings vs. ($mm)"]
["Outputs","LCOE ($/MWh)","Annual MWh","Annual Cost ($mm)","Plains and Eastern Project","Tennessee Wind","Combined Cycle Gas","Nuclear ","Utility-scale Solar"]
["Plains and Eastern Project",66.066593543856428,2290117.5,151.30026204017264,0,40.80510838082111,13.190891760848984,34.016549372872049,112.65630299450208]
["Tennessee Wind",83.884503926542536,2290117.4999999995,192.10537042099375,-40.80510838082111,0,-27.614216619972126,-6.7885590079490612,71.851194613680974]
["Combined Cycle Gas",71.826512744879523,2290117.5,164.49115380102162,-13.190891760848984,27.614216619972126,0,20.825657612023065,99.4654112336531]
["Nuclear ",80.920219776079037,2290117.5,185.31681141304469,-34.016549372872049,6.7885590079490612,-20.825657612023065,0,78.639753621630035]
["Utility-scale Solar",115.25896161863953,2290117.5,263.95656503467472,-112.65630299450208,-71.851194613680974,-99.4654112336531,-78.639753621630035,0]
[]
["Scenario:","PL , CM , GM , OL , TH",null,null,"Annual Savings vs. ($mm)"]
["Outputs","LCOE ($/MWh)","Annual MWh","Annual Cost ($mm)","Plains and Eastern Project","Tennessee Wind","Combined Cycle Gas","Nuclear ","Utility-scale Solar"]
["Plains and Eastern Project",66.066593543856428,2290117.5,151.30026204017264,0,13.540024579777906,13.190891760848984,34.016549372872049,112.65630299450208]
["Tennessee Wind",71.978964668821817,2290117.5,164.84028661995055,-13.540024579777906,0,-0.34913281892892201,20.476524793094143,99.116278414724178]
["Combined Cycle Gas",71.826512744879523,2290117.5,164.49115380102162,-13.190891760848984,0.34913281892892201,0,20.825657612023065,99.4654112336531]
["Nuclear ",80.920219776079037,2290117.5,185.31681141304469,-34.016549372872049,-20.476524793094143,-20.825657612023065,0,78.639753621630035]
["Utility-scale Solar",115.25896161863953,2290117.5,263.95656503467472,-112.65630299450208,-99.116278414724178,-99.4654112336531,-78.639753621630035,0]
[]
["Scenario:","PL , CM , GM , OM , TL",null,null,"Annual Savings vs. ($mm)"]
["Outputs","LCOE ($/MWh)","Annual MWh","Annual Cost ($mm)","Plains and Eastern Project","Tennessee Wind","Combined Cycle Gas","Nuclear ","Utility-scale Solar"]
["Plains and Eastern Project",63.035770523511928,2427524.5500000003,153.02088047399158,0,92.535199386180267,20.758640550775368,43.414939623849108,126.77307846276378]
["Tennessee Wind",101.15493161960889,2427524.5500000003,245.55607986017185,-92.535199386180267,0,-71.776558835404899,-49.120259762331159,34.237879076583511]
["Combined Cycle Gas",71.587132259802246,2427524.5500000003,173.77952102476695,-20.758640550775368,71.776558835404899,0,22.65629907307374,106.01443791198841]
["Nuclear ",80.920219776084522,2427524.5500000003,196.43582009784069,-43.414939623849108,49.120259762331159,-22.65629907307374,0,83.35813883891467]
["Utility-scale Solar",115.25896161863959,2427524.5500000003,279.79395893675536,-126.77307846276378,-34.237879076583511,-106.01443791198841,-83.35813883891467,0]
[]
["Scenario:","PL , CM , GM , OM , TM",null,null,"Annual Savings vs. ($mm)"]
["Outputs","LCOE ($/MWh)","Annual MWh","Annual Cost ($mm)","Plains and Eastern Project","Tennessee Wind","Combined Cycle Gas","Nuclear ","Utility-scale Solar"]
["Plains and Eastern Project",63.035770523511928,2427524.5500000003,153.02088047399158,0,52.073815025432054,20.758640550775368,43.414939623849108,126.77307846276378]
["Tennessee Wind",84.487176658799868,2427524.5499999998,205.09469549942364,-52.073815025432054,0,-31.315174474656686,-8.6588754015829466,74.699263437331723]
["Combined Cycle Gas",71.587132259802246,2427524.5500000003,173.77952102476695,-20.758640550775368,31.315174474656686,0,22.65629907307374,106.01443791198841]
["Nuclear ",80.920219776084522,2427524.5500000003,196.43582009784069,-43.414939623849108,8.6588754015829466,-22.65629907307374,0,83.35813883891467]
["Utility-scale Solar",115.25896161863959,2427524.5500000003,279.79395893675536,-126.77307846276378,-74.699263437331723,-106.01443791198841,-83.35813883891467,0]
[]
["Scenario:","PL , CM , GM , OM , TH",null,null,"Annual Savings vs. ($mm)"]
["Outputs","LCOE ($/MWh)","Annual MWh","Annual Cost ($mm)","Plains and Eastern Project","Tennessee Wind","Combined Cycle Gas","Nuclear ","Utility-scale Solar"]
["Plains and Eastern Project",63.035770523511928,2427524.5500000003,153.02088047399158,0,23.172826196326184,20.758640550775368,43.414939623849108,126.77307846276378]
["Tennessee Wind",72.581637401079121,2427524.5500000003,176.19370667031777,-23.172826196326184,0,-2.4141856455508162,20.242113427522924,103.60025226643759]
["Combined Cycle Gas",71.587132259802246,2427524.5500000003,173.77952102476695,-20.758640550775368,2.4141856455508162,0,22.65629907307374,106.01443791198841]
["Nuclear ",80.920219776084522,2427524.5500000003,196.43582009784069,-43.414939623849108,-20.242113427522924,-22.65629907307374,0,83.35813883891467]
["Utility-scale Solar",115.25896161863959,2427524.5500000003,279.79395893675536,-126.77307846276378,-103.60025226643759,-106.01443791198841,-83.35813883891467,0]
[]
["Scenario:","PL , CM , GM , OH , TL",null,null,"Annual Savings vs. ($mm)"]
["Outputs","LCOE ($/MWh)","Annual MWh","Annual Cost ($mm)","Plains and Eastern Project","Tennessee Wind","Combined Cycle Gas","Nuclear ","Utility-scale Solar"]
["Plains and Eastern Project",60.329678541061483,2564931.6,154.7414989078105,0,106.09417307007865,28.874598778779443,52.813329874746756,140.88985393102521]
["Tennessee Wind",101.69303227341,2564931.6,260.83567197788915,-106.09417307007865,0,-77.21957429129921,-53.280843195331897,34.795680860946561]
["Combined Cycle Gas",71.587132259819299,2564931.6,183.61609768658994,-28.874598778779443,77.21957429129921,0,23.938731095967313,112.01525515224577]
["Nuclear ",80.920219776058445,2564931.6,207.55482878255725,-52.813329874746756,53.280843195331897,-23.938731095967313,0,88.076524056278458]
["Utility-scale Solar",115.25896161863955,2564931.6,295.63135283883571,-140.88985393102521,-34.795680860946561,-112.01525515224577,-88.076524056278458,0]
[]
["Scenario:","PL , CM , GM , OH , TM",null,null,"Annual Savings vs. ($mm)"]
["Outputs","LCOE ($/MWh)","Annual MWh","Annual Cost ($mm)","Plains and Eastern Project","Tennessee Wind","Combined Cycle Gas","Nuclear ","Utility-scale Solar"]
["Plains and Eastern Project",60.329678541061483,2564931.6,154.7414989078105,0,63.342521670042913,28.874598778779443,52.813329874746756,140.88985393102521]
["Tennessee Wind",85.02527731260102,2564931.5999999996,218.08402057785341,-63.342521670042913,0,-34.46792289126347,-10.529191795296157,77.547332260982301]
["Combined Cycle Gas",71.587132259819299,2564931.6,183.61609768658994,-28.874598778779443,34.46792289126347,0,23.938731095967313,112.01525515224577]
["Nuclear ",80.920219776058445,2564931.6,207.55482878255725,-52.813329874746756,10.529191795296157,-23.938731095967313,0,88.076524056278458]
["Utility-scale Solar",115.25896161863955,2564931.6,295.63135283883571,-140.88985393102521,-77.547332260982301,-112.01525515224577,-88.076524056278458,0]
[]
["Scenario:","PL , CM , GM , OH , TH",null,null,"Annual Savings vs. ($mm)"]
["Outputs","LCOE ($/MWh)","Annual MWh","Annual Cost ($mm)","Plains and Eastern Project","Tennessee Wind","Combined Cycle Gas","Nuclear ","Utility-scale Solar"]
["Plains and Eastern Project",60.329678541061483,2564931.6,154.7414989078105,0,32.805627812874462,28.874598778779443,52.813329874746756,140.88985393102521]
["Tennessee Wind",73.119738054880273,2564931.6,187.54712672068496,-32.805627812874462,0,-3.9310290340950189,20.007702061872294,108.08422611815075]
["Combined Cycle Gas",71.587132259819299,2564931.6,183.61609768658994,-28.874598778779443,3.9310290340950189,0,23.938731095967313,112.01525515224577]
["Nuclear ",80.920219776058445,2564931.6,207.55482878255725,-52.813329874746756,-20.007702061872294,-23.938731095967313,0,88.076524056278458]
["Utility-scale Solar",115.25896161863955,2564931.6,295.63135283883571,-140.88985393102521,-108.08422611815075,-112.01525515224577,-88.076524056278458,0]
[]
["Scenario:","PL , CM , GH , OL , TL",null,null,"Annual Savings vs. ($mm)"]
["Outputs","LCOE ($/MWh)","Annual MWh","Annual Cost ($mm)","Plains and Eastern Project","Tennessee Wind","Combined Cycle Gas","Nuclear ","Utility-scale Solar"]
["Plains and Eastern Project",66.066593543856428,2290117.5,151.30026204017264,0,78.976225702281596,35.636198581402112,34.016549372872049,112.65630299450208]
["Tennessee Wind",100.55225888735151,2290117.5,230.27648774245424,-78.976225702281596,0,-43.340027120879483,-44.959676329409547,33.680077292220489]
["Combined Cycle Gas",81.627453884604066,2290117.5,186.93646062157475,-35.636198581402112,43.340027120879483,0,-1.6196492085300633,77.020104413099972]
["Nuclear ",80.920219776079037,2290117.5,185.31681141304469,-34.016549372872049,44.959676329409547,1.6196492085300633,0,78.639753621630035]
["Utility-scale Solar",115.25896161863953,2290117.5,263.95656503467472,-112.65630299450208,-33.680077292220489,-77.020104413099972,-78.639753621630035,0]
[]
["Scenario:","PL , CM , GH , OL , TM",null,null,"Annual Savings vs. ($mm)"]
["Outputs","LCOE ($/MWh)","Annual MWh","Annual Cost ($mm)","Plains and Eastern Project","Tennessee Wind","Combined Cycle Gas","Nuclear ","Utility-scale Solar"]
["Plains and Eastern Project",66.066593543856428,2290117.5,151.30026204017264,0,40.80510838082111,35.636198581402112,34.016549372872049,112.65630299450208]
["Tennessee Wind",83.884503926542536,2290117.4999999995,192.10537042099375,-40.80510838082111,0,-5.1689097994189979,-6.7885590079490612,71.851194613680974]
["Combined Cycle Gas",81.627453884604066,2290117.5,186.93646062157475,-35.636198581402112,5.1689097994189979,0,-1.6196492085300633,77.020104413099972]
["Nuclear ",80.920219776079037,2290117.5,185.31681141304469,-34.016549372872049,6.7885590079490612,1.6196492085300633,0,78.639753621630035]
["Utility-scale Solar",115.25896161863953,2290117.5,263.95656503467472,-112.65630299450208,-71.851194613680974,-77.020104413099972,-78.639753621630035,0]
[]
["Scenario:","PL , CM , GH , OL , TH",null,null,"Annual Savings vs. ($mm)"]
["Outputs","LCOE ($/MWh)","Annual MWh","Annual Cost ($mm)","Plains and Eastern Project","Tennessee Wind","Combined Cycle Gas","Nuclear ","Utility-scale Solar"]
["Plains and Eastern Project",66.066593543856428,2290117.5,151.30026204017264,0,13.540024579777906,35.636198581402112,34.016549372872049,112.65630299450208]
["Tennessee Wind",71.978964668821817,2290117.5,164.84028661995055,-13.540024579777906,0,22.096174001624206,20.476524793094143,99.116278414724178]
["Combined Cycle Gas",81.627453884604066,2290117.5,186.93646062157475,-35.636198581402112,-22.096174001624206,0,-1.6196492085300633,77.020104413099972]
["Nuclear ",80.920219776079037,2290117.5,185.31681141304469,-34.016549372872049,-20.476524793094143,1.6196492085300633,0,78.639753621630035]
["Utility-scale Solar",115.25896161863953,2290117.5,263.95656503467472,-112.65630299450208,-99.116278414724178,-77.020104413099972,-78.639753621630035,0]
[]
["Scenario:","PL , CM , GH , OM , TL",null,null,"Annual Savings vs. ($mm)"]
["Outputs","LCOE ($/MWh)","Annual MWh","Annual Cost ($mm)","Plains and Eastern Project","Tennessee Wind","Combined Cycle Gas","Nuclear ","Utility-scale Solar"]
["Plains and Eastern Project",63.035770523511928,2427524.5500000003,153.02088047399158,0,92.535199386180267,44.550665780558461,43.414939623849108,126.77307846276378]
["Tennessee Wind",101.15493161960889,2427524.5500000003,245.55607986017185,-92.535199386180267,0,-47.984533605621806,-49.120259762331159,34.237879076583511]
["Combined Cycle Gas",81.388073399525467,2427524.5500000003,197.57154625455004,-44.550665780558461,47.984533605621806,0,-1.1357261567093531,82.222412682205317]
["Nuclear ",80.920219776084522,2427524.5500000003,196.43582009784069,-43.414939623849108,49.120259762331159,1.1357261567093531,0,83.35813883891467]
["Utility-scale Solar",115.25896161863959,2427524.5500000003,279.79395893675536,-126.77307846276378,-34.237879076583511,-82.222412682205317,-83.35813883891467,0]
[]
["Scenario:","PL , CM , GH , OM , TM",null,null,"Annual Savings vs. ($mm)"]
["Outputs","LCOE ($/MWh)","Annual MWh","Annual Cost ($mm)","Plains and Eastern Project","Tennessee Wind","Combined Cycle Gas","Nuclear ","Utility-scale Solar"]
["Plains and Eastern Project",63.035770523511928,2427524.5500000003,153.02088047399158,0,52.073815025432054,44.550665780558461,43.414939623849108,126.77307846276378]
["Tennessee Wind",84.487176658799868,2427524.5499999998,205.09469549942364,-52.073815025432054,0,-7.5231492448735935,-8.6588754015829466,74.699263437331723]
["Combined Cycle Gas",81.388073399525467,2427524.5500000003,197.57154625455004,-44.550665780558461,7.5231492448735935,0,-1.1357261567093531,82.222412682205317]
["Nuclear ",80.920219776084522,2427524.5500000003,196.43582009784069,-43.414939623849108,8.6588754015829466,1.1357261567093531,0,83.35813883891467]
["Utility-scale Solar",115.25896161863959,2427524.5500000003,279.79395893675536,-126.77307846276378,-74.699263437331723,-82.222412682205317,-83.35813883891467,0]
[]
["Scenario:","PL , CM , GH , OM , TH",null,null,"Annual Savings vs. ($mm)"]
["Outputs","LCOE ($/MWh)","Annual MWh","Annual Cost ($mm)","Plains and Eastern Project","Tennessee Wind","Combined Cycle Gas","Nuclear ","Utility-scale Solar"]
["Plains and Eastern Project",63.035770523511928,2427524.5500000003,153.02088047399158,0,23.172826196326184,44.550665780558461,43.414939623849108,126.77307846276378]
["Tennessee Wind",72.581637401079121,2427524.5500000003,176.19370667031777,-23.172826196326184,0,21.377839584232277,20.242113427522924,103.60025226643759]
["Combined Cycle Gas",81.388073399525467,2427524.5500000003,197.57154625455004,-44.550665780558461,-21.377839584232277,0,-1.1357261567093531,82.222412682205317]
["Nuclear ",80.920219776084522,2427524.5500000003,196.43582009784069,-43.414939623849108,-20.242113427522924,1.1357261567093531,0,83.35813883891467]
["Utility-scale Solar",115.25896161863959,2427524.5500000003,279.79395893675536,-126.77307846276378,-103.60025226643759,-82.222412682205317,-83.35813883891467,0]
[]
["Scenario:","PL , CM , GH , OH , TL",null,null,"Annual Savings vs. ($mm)"]
["Outputs","LCOE ($/MWh)","Annual MWh","Annual Cost ($mm)","Plains and Eastern Project","Tennessee Wind","Combined Cycle Gas","Nuclear ","Utility-scale Solar"]
["Plains and Eastern Project",60.329678541061483,2564931.6,154.7414989078105,0,106.09417307007865,54.013342417801567,52.813329874746756,140.88985393102521]
["Tennessee Wind",101.69303227341,2564931.6,260.83567197788915,-106.09417307007865,0,-52.080830652277086,-53.280843195331897,34.795680860946561]
["Combined Cycle Gas",81.388073399544865,2564931.6,208.75484132561206,-54.013342417801567,52.080830652277086,0,-1.200012543054811,86.876511513223647]
["Nuclear ",80.920219776058445,2564931.6,207.55482878255725,-52.813329874746756,53.280843195331897,1.200012543054811,0,88.076524056278458]
["Utility-scale Solar",115.25896161863955,2564931.6,295.63135283883571,-140.88985393102521,-34.795680860946561,-86.876511513223647,-88.076524056278458,0]
[]
["Scenario:","PL , CM , GH , OH , TM",null,null,"Annual Savings vs. ($mm)"]
["Outputs","LCOE ($/MWh)","Annual MWh","Annual Cost ($mm)","Plains and Eastern Project","Tennessee Wind","Combined Cycle Gas","Nuclear ","Utility-scale Solar"]
["Plains and Eastern Project",60.329678541061483,2564931.6,154.7414989078105,0,63.342521670042913,54.013342417801567,52.813329874746756,140.88985393102521]
["Tennessee Wind",85.02527731260102,2564931.5999999996,218.08402057785341,-63.342521670042913,0,-9.3291792522413459,-10.529191795296157,77.547332260982301]
["Combined Cycle Gas",81.388073399544865,2564931.6,208.75484132561206,-54.013342417801567,9.3291792522413459,0,-1.200012543054811,86.876511513223647]
["Nuclear ",80.920219776058445,2564931.6,207.55482878255725,-52.813329874746756,10.529191795296157,1.200012543054811,0,88.076524056278458]
["Utility-scale Solar",115.25896161863955,2564931.6,295.63135283883571,-140.88985393102521,-77.547332260982301,-86.876511513223647,-88.076524056278458,0]
[]
["Scenario:","PL , CM , GH , OH , TH",null,null,"Annual Savings vs. ($mm)"]
["Outputs","LCOE ($/MWh)","Annual MWh","Annual Cost ($mm)","Plains and Eastern Project","Tennessee Wind","Combined Cycle Gas","Nuclear ","Utility-scale Solar"]
["Plains and Eastern Project",60.329678541061483,2564931.6,154.7414989078105,0,32.805627812874462,54.013342417801567,52.813329874746756,140.88985393102521]
["Tennessee Wind",73.119738054880273,2564931.6,187.54712672068496,-32.805627812874462,0,21.207714604927105,20.007702061872294,108.08422611815075]
["Combined Cycle Gas",81.388073399544865,2564931.6,208.75484132561206,-54.013342417801567,-21.207714604927105,0,-1.200012543054811,86.876511513223647]
["Nuclear ",80.920219776058445,2564931.6,207.55482878255725,-52.813329874746756,-20.007702061872294,1.200012543054811,0,88.076524056278458]
["Utility-scale Solar",115.25896161863955,2564931.6,295.63135283883571,-140.88985393102521,-108.08422611815075,-86.876511513223647,-88.076524056278458,0]
[]
["Scenario:","PL , CH , GL , OL , TL",null,null,"Annual Savings vs. ($mm)"]
["Outputs","LCOE ($/MWh)","Annual MWh","Annual Cost ($mm)","Plains and Eastern Project","Tennessee Wind","Combined Cycle Gas","Nuclear ","Utility-scale Solar"]
["Plains and Eastern Project",66.066593543856428,2290117.5,151.30026204017264,0,78.976225702281596,10.908645336372359,34.016549372872049,112.65630299450208]
["Tennessee Wind",100.55225888735151,2290117.5,230.27648774245424,-78.976225702281596,0,-68.067580365909237,-44.959676329409547,33.680077292220489]
["Combined Cycle Gas",70.829949719411786,2290117.5,162.208907376545,-10.908645336372359,68.067580365909237,0,23.10790403649969,101.74765765812973]
["Nuclear ",80.920219776079037,2290117.5,185.31681141304469,-34.016549372872049,44.959676329409547,-23.10790403649969,0,78.639753621630035]
["Utility-scale Solar",115.25896161863953,2290117.5,263.95656503467472,-112.65630299450208,-33.680077292220489,-101.74765765812973,-78.639753621630035,0]
[]
["Scenario:","PL , CH , GL , OL , TM",null,null,"Annual Savings vs. ($mm)"]
["Outputs","LCOE ($/MWh)","Annual MWh","Annual Cost ($mm)","Plains and Eastern Project","Tennessee Wind","Combined Cycle Gas","Nuclear ","Utility-scale Solar"]
["Plains and Eastern Project",66.066593543856428,2290117.5,151.30026204017264,0,40.80510838082111,10.908645336372359,34.016549372872049,112.65630299450208]
["Tennessee Wind",83.884503926542536,2290117.4999999995,192.10537042099375,-40.80510838082111,0,-29.896463044448751,-6.7885590079490612,71.851194613680974]
["Combined Cycle Gas",70.829949719411786,2290117.5,162.208907376545,-10.908645336372359,29.896463044448751,0,23.10790403649969,101.74765765812973]
["Nuclear ",80.920219776079037,2290117.5,185.31681141304469,-34.016549372872049,6.7885590079490612,-23.10790403649969,0,78.639753621630035]
["Utility-scale Solar",115.25896161863953,2290117.5,263.95656503467472,-112.65630299450208,-71.851194613680974,-101.74765765812973,-78.639753621630035,0]
[]
["Scenario:","PL , CH , GL , OL , TH",null,null,"Annual Savings vs. ($mm)"]
["Outputs","LCOE ($/MWh)","Annual MWh","Annual Cost ($mm)","Plains and Eastern Project","Tennessee Wind","Combined Cycle Gas","Nuclear ","Utility-scale Solar"]
["Plains and Eastern Project",66.066593543856428,2290117.5,151.30026204017264,0,13.540024579777906,10.908645336372359,34.016549372872049,112.65630299450208]
["Tennessee Wind",71.978964668821817,2290117.5,164.84028661995055,-13.540024579777906,0,-2.6313792434055472,20.476524793094143,99.116278414724178]
["Combined Cycle Gas",70.829949719411786,2290117.5,162.208907376545,-10.908645336372359,2.6313792434055472,0,23.10790403649969,101.74765765812973]
["Nuclear ",80.920219776079037,2290117.5,185.31681141304469,-34.016549372872049,-20.476524793094143,-23.10790403649969,0,78.639753621630035]
["Utility-scale Solar",115.25896161863953,2290117.5,263.95656503467472,-112.65630299450208,-99.116278414724178,-101.74765765812973,-78.639753621630035,0]
[]
["Scenario:","PL , CH , GL , OM , TL",null,null,"Annual Savings vs. ($mm)"]
["Outputs","LCOE ($/MWh)","Annual MWh","Annual Cost ($mm)","Plains and Eastern Project","Tennessee Wind","Combined Cycle Gas","Nuclear ","Utility-scale Solar"]
["Plains and Eastern Project",63.035770523511928,2427524.5500000003,153.02088047399158,0,92.535199386180267,18.339459340830473,43.414939623849108,126.77307846276378]
["Tennessee Wind",101.15493161960889,2427524.5500000003,245.55607986017185,-92.535199386180267,0,-74.195740045349794,-49.120259762331159,34.237879076583511]
["Combined Cycle Gas",70.590569234334637,2427524.5500000003,171.36033981482205,-18.339459340830473,74.195740045349794,0,25.075480283018635,108.4336191219333]
["Nuclear ",80.920219776084522,2427524.5500000003,196.43582009784069,-43.414939623849108,49.120259762331159,-25.075480283018635,0,83.35813883891467]
["Utility-scale Solar",115.25896161863959,2427524.5500000003,279.79395893675536,-126.77307846276378,-34.237879076583511,-108.4336191219333,-83.35813883891467,0]
[]
["Scenario:","PL , CH , GL , OM , TM",null,null,"Annual Savings vs. ($mm)"]
["Outputs","LCOE ($/MWh)","Annual MWh","Annual Cost ($mm)","Plains and Eastern Project","Tennessee Wind","Combined Cycle Gas","Nuclear ","Utility-scale Solar"]
["Plains and Eastern Project",63.035770523511928,2427524.5500000003,153.02088047399158,0,52.073815025432054,18.339459340830473,43.414939623849108,126.77307846276378]
["Tennessee Wind",84.487176658799868,2427524.5499999998,205.09469549942364,-52.073815025432054,0,-33.734355684601582,-8.6588754015829466,74.699263437331723]
["Combined Cycle Gas",70.590569234334637,2427524.5500000003,171.36033981482205,-18.339459340830473,33.734355684601582,0,25.075480283018635,108.4336191219333]
["Nuclear ",80.920219776084522,2427524.5500000003,196.43582009784069,-43.414939623849108,8.6588754015829466,-25.075480283018635,0,83.35813883891467]
["Utility-scale Solar",115.25896161863959,2427524.5500000003,279.79395893675536,-126.77307846276378,-74.699263437331723,-108.4336191219333,-83.35813883891467,0]
[]
["Scenario:","PL , CH , GL , OM , TH",null,null,"Annual Savings vs. ($mm)"]
["Outputs","LCOE ($/MWh)","Annual MWh","Annual Cost ($mm)","Plains and Eastern Project","Tennessee Wind","Combined Cycle Gas","Nuclear ","Utility-scale Solar"]
["Plains and Eastern Project",63.035770523511928,2427524.5500000003,153.02088047399158,0,23.172826196326184,18.339459340830473,43.414939623849108,126.77307846276378]
["Tennessee Wind",72.581637401079121,2427524.5500000003,176.19370667031777,-23.172826196326184,0,-4.8333668554957114,20.242113427522924,103.60025226643759]
["Combined Cycle Gas",70.590569234334637,2427524.5500000003,171.36033981482205,-18.339459340830473,4.8333668554957114,0,25.075480283018635,108.4336191219333]
["Nuclear ",80.920219776084522,2427524.5500000003,196.43582009784069,-43.414939623849108,-20.242113427522924,-25.075480283018635,0,83.35813883891467]
["Utility-scale Solar",115.25896161863959,2427524.5500000003,279.79395893675536,-126.77307846276378,-103.60025226643759,-108.4336191219333,-83.35813883891467,0]
[]
["Scenario:","PL , CH , GL , OH , TL",null,null,"Annual Savings vs. ($mm)"]
["Outputs","LCOE ($/MWh)","Annual MWh","Annual Cost ($mm)","Plains and Eastern Project","Tennessee Wind","Combined Cycle Gas","Nuclear ","Utility-scale Solar"]
["Plains and Eastern Project",60.329678541061483,2564931.6,154.7414989078105,0,106.09417307007865,26.31848278336534,52.813329874746756,140.88985393102521]
["Tennessee Wind",101.69303227341,2564931.6,260.83567197788915,-106.09417307007865,0,-79.775690286713314,-53.280843195331897,34.795680860946561]
["Combined Cycle Gas",70.590569234351449,2564931.6,181.05998169117584,-26.31848278336534,79.775690286713314,0,26.494847091381416,114.57137114765987]
["Nuclear ",80.920219776058445,2564931.6,207.55482878255725,-52.813329874746756,53.280843195331897,-26.494847091381416,0,88.076524056278458]
["Utility-scale Solar",115.25896161863955,2564931.6,295.63135283883571,-140.88985393102521,-34.795680860946561,-114.57137114765987,-88.076524056278458,0]
[]
["Scenario:","PL , CH , GL , OH , TM",null,null,"Annual Savings vs. ($mm)"]
["Outputs","LCOE ($/MWh)","Annual MWh","Annual Cost ($mm)","Plains and Eastern Project","Tennessee Wind","Combined Cycle Gas","Nuclear ","Utility-scale Solar"]
["Plains and Eastern Project",60.329678541061483,2564931.6,154.7414989078105,0,63.342521670042913,26.31848278336534,52.813329874746756,140.88985393102521]
["Tennessee Wind",85.02527731260102,2564931.5999999996,218.08402057785341,-63.342521670042913,0,-37.024038886677573,-10.529191795296157,77.547332260982301]
["Combined Cycle Gas",70.590569234351449,2564931.6,181.05998169117584,-26.31848278336534,37.024038886677573,0,26.494847091381416,114.57137114765987]
["Nuclear ",80.920219776058445,2564931.6,207.55482878255725,-52.813329874746756,10.529191795296157,-26.494847091381416,0,88.076524056278458]
["Utility-scale Solar",115.25896161863955,2564931.6,295.63135283883571,-140.88985393102521,-77.547332260982301,-114.57137114765987,-88.076524056278458,0]
[]
["Scenario:","PL , CH , GL , OH , TH",null,null,"Annual Savings vs. ($mm)"]
["Outputs","LCOE ($/MWh)","Annual MWh","Annual Cost ($mm)","Plains and Eastern Project","Tennessee Wind","Combined Cycle Gas","Nuclear ","Utility-scale Solar"]
["Plains and Eastern Project",60.329678541061483,2564931.6,154.7414989078105,0,32.805627812874462,26.31848278336534,52.813329874746756,140.88985393102521]
["Tennessee Wind",73.119738054880273,2564931.6,187.54712672068496,-32.805627812874462,0,-6.4871450295091222,20.007702061872294,108.08422611815075]
["Combined Cycle Gas",70.590569234351449,2564931.6,181.05998169117584,-26.31848278336534,6.4871450295091222,0,26.494847091381416,114.57137114765987]
["Nuclear ",80.920219776058445,2564931.6,207.55482878255725,-52.813329874746756,-20.007702061872294,-26.494847091381416,0,88.076524056278458]
["Utility-scale Solar",115.25896161863955,2564931.6,295.63135283883571,-140.88985393102521,-108.08422611815075,-114.57137114765987,-88.076524056278458,0]
[]
["Scenario:","PL , CH , GM , OL , TL",null,null,"Annual Savings vs. ($mm)"]
["Outputs","LCOE ($/MWh)","Annual MWh","Annual Cost ($mm)","Plains and Eastern Project","Tennessee Wind","Combined Cycle Gas","Nuclear ","Utility-scale Solar"]
["Plains and Eastern Project",66.066593543856428,2290117.5,151.30026204017264,0,78.976225702281596,33.353952156925658,34.016549372872049,112.65630299450208]
["Tennessee Wind",100.55225888735151,2290117.5,230.27648774245424,-78.976225702281596,0,-45.622273545355938,-44.959676329409547,33.680077292220489]
["Combined Cycle Gas",80.630890859136386,2290117.5,184.6542141970983,-33.353952156925658,45.622273545355938,0,0.66259721594639132,79.302350837576427]
["Nuclear ",80.920219776079037,2290117.5,185.31681141304469,-34.016549372872049,44.959676329409547,-0.66259721594639132,0,78.639753621630035]
["Utility-scale Solar",115.25896161863953,2290117.5,263.95656503467472,-112.65630299450208,-33.680077292220489,-79.302350837576427,-78.639753621630035,0]
[]
["Scenario:","PL , CH , GM , OL , TM",null,null,"Annual Savings vs. ($mm)"]
["Outputs","LCOE ($/MWh)","Annual MWh","Annual Cost ($mm)","Plains and Eastern Project","Tennessee Wind","Combined Cycle Gas","Nuclear ","Utility-scale Solar"]
["Plains and Eastern Project",66.066593543856428,2290117.5,151.30026204017264,0,40.80510838082111,33.353952156925658,34.016549372872049,112.65630299450208]
["Tennessee Wind",83.884503926542536,2290117.4999999995,192.10537042099375,-40.80510838082111,0,-7.4511562238954525,-6.7885590079490612,71.851194613680974]
["Combined Cycle Gas",80.630890859136386,2290117.5,184.6542141970983,-33.353952156925658,7.4511562238954525,0,0.66259721594639132,79.302350837576427]
["Nuclear ",80.920219776079037,2290117.5,185.31681141304469,-34.016549372872049,6.7885590079490612,-0.66259721594639132,0,78.639753621630035]
["Utility-scale Solar",115.25896161863953,2290117.5,263.95656503467472,-112.65630299450208,-71.851194613680974,-79.302350837576427,-78.639753621630035,0]
[]
["Scenario:","PL , CH , GM , OL , TH",null,null,"Annual Savings vs. ($mm)"]
["Outputs","LCOE ($/MWh)","Annual MWh","Annual Cost ($mm)","Plains and Eastern Project","Tennessee Wind","Combined Cycle Gas","Nuclear ","Utility-scale Solar"]
["Plains and Eastern Project",66.066593543856428,2290117.5,151.30026204017264,0,13.540024579777906,33.353952156925658,34.016549372872049,112.65630299450208]
["Tennessee Wind",71.978964668821817,2290117.5,164.84028661995055,-13.540024579777906,0,19.813927577147751,20.476524793094143,99.116278414724178]
["Combined Cycle Gas",80.630890859136386,2290117.5,184.6542141970983,-33.353952156925658,-19.813927577147751,0,0.66259721594639132,79.302350837576427]
["Nuclear ",80.920219776079037,2290117.5,185.31681141304469,-34.016549372872049,-20.476524793094143,-0.66259721594639132,0,78.639753621630035]
["Utility-scale Solar",115.25896161863953,2290117.5,263.95656503467472,-112.65630299450208,-99.116278414724178,-79.302350837576427,-78.639753621630035,0]
[]
["Scenario:","PL , CH , GM , OM , TL",null,null,"Annual Savings vs. ($mm)"]
["Outputs","LCOE ($/MWh)","Annual MWh","Annual Cost ($mm)","Plains and Eastern Project","Tennessee Wind","Combined Cycle Gas","Nuclear ","Utility-scale Solar"]
["Plains and Eastern Project",63.035770523511928,2427524.5500000003,153.02088047399158,0,92.535199386180267,42.131484570613765,43.414939623849108,126.77307846276378]
["Tennessee Wind",101.15493161960889,2427524.5500000003,245.55607986017185,-92.535199386180267,0,-50.403714815566502,-49.120259762331159,34.237879076583511]
["Combined Cycle Gas",80.39151037405793,2427524.5500000003,195.15236504460535,-42.131484570613765,50.403714815566502,0,1.2834550532353433,84.641593892150013]
["Nuclear ",80.920219776084522,2427524.5500000003,196.43582009784069,-43.414939623849108,49.120259762331159,-1.2834550532353433,0,83.35813883891467]
["Utility-scale Solar",115.25896161863959,2427524.5500000003,279.79395893675536,-126.77307846276378,-34.237879076583511,-84.641593892150013,-83.35813883891467,0]
[]
["Scenario:","PL , CH , GM , OM , TM",null,null,"Annual Savings vs. ($mm)"]
["Outputs","LCOE ($/MWh)","Annual MWh","Annual Cost ($mm)","Plains and Eastern Project","Tennessee Wind","Combined Cycle Gas","Nuclear ","Utility-scale Solar"]
["Plains and Eastern Project",63.035770523511928,2427524.5500000003,153.02088047399158,0,52.073815025432054,42.131484570613765,43.414939623849108,126.77307846276378]
["Tennessee Wind",84.487176658799868,2427524.5499999998,205.09469549942364,-52.073815025432054,0,-9.9423304548182898,-8.6588754015829466,74.699263437331723]
["Combined Cycle Gas",80.39151037405793,2427524.5500000003,195.15236504460535,-42.131484570613765,9.9423304548182898,0,1.2834550532353433,84.641593892150013]
["Nuclear ",80.920219776084522,2427524.5500000003,196.43582009784069,-43.414939623849108,8.6588754015829466,-1.2834550532353433,0,83.35813883891467]
["Utility-scale Solar",115.25896161863959,2427524.5500000003,279.79395893675536,-126.77307846276378,-74.699263437331723,-84.641593892150013,-83.35813883891467,0]
[]
["Scenario:","PL , CH , GM , OM , TH",null,null,"Annual Savings vs. ($mm)"]
["Outputs","LCOE ($/MWh)","Annual MWh","Annual Cost ($mm)","Plains and Eastern Project","Tennessee Wind","Combined Cycle Gas","Nuclear ","Utility-scale Solar"]
["Plains and Eastern Project",63.035770523511928,2427524.5500000003,153.02088047399158,0,23.172826196326184,42.131484570613765,43.414939623849108,126.77307846276378]
["Tennessee Wind",72.581637401079121,2427524.5500000003,176.19370667031777,-23.172826196326184,0,18.95865837428758,20.242113427522924,103.60025226643759]
["Combined Cycle Gas",80.39151037405793,2427524.5500000003,195.15236504460535,-42.131484570613765,-18.95865837428758,0,1.2834550532353433,84.641593892150013]
["Nuclear ",80.920219776084522,2427524.5500000003,196.43582009784069,-43.414939623849108,-20.242113427522924,-1.2834550532353433,0,83.35813883891467]
["Utility-scale Solar",115.25896161863959,2427524.5500000003,279.79395893675536,-126.77307846276378,-103.60025226643759,-84.641593892150013,-83.35813883891467,0]
[]
["Scenario:","PL , CH , GM , OH , TL",null,null,"Annual Savings vs. ($mm)"]
["Outputs","LCOE ($/MWh)","Annual MWh","Annual Cost ($mm)","Plains and Eastern Project","Tennessee Wind","Combined Cycle Gas","Nuclear ","Utility-scale Solar"]
["Plains and Eastern Project",60.329678541061483,2564931.6,154.7414989078105,0,106.09417307007865,51.457226422387549,52.813329874746756,140.88985393102521]
["Tennessee Wind",101.69303227341,2564931.6,260.83567197788915,-106.09417307007865,0,-54.636946647691104,-53.280843195331897,34.795680860946561]
["Combined Cycle Gas",80.391510374077043,2564931.6,206.19872533019804,-51.457226422387549,54.636946647691104,0,1.356103452359207,89.432627508637665]
["Nuclear ",80.920219776058445,2564931.6,207.55482878255725,-52.813329874746756,53.280843195331897,-1.356103452359207,0,88.076524056278458]
["Utility-scale Solar",115.25896161863955,2564931.6,295.63135283883571,-140.88985393102521,-34.795680860946561,-89.432627508637665,-88.076524056278458,0]
[]
["Scenario:","PL , CH , GM , OH , TM",null,null,"Annual Savings vs. ($mm)"]
["Outputs","LCOE ($/MWh)","Annual MWh","Annual Cost ($mm)","Plains and Eastern Project","Tennessee Wind","Combined Cycle Gas","Nuclear ","Utility-scale Solar"]
["Plains and Eastern Project",60.329678541061483,2564931.6,154.7414989078105,0,63.342521670042913,51.457226422387549,52.813329874746756,140.88985393102521]
["Tennessee Wind",85.02527731260102,2564931.5999999996,218.08402057785341,-63.342521670042913,0,-11.885295247655364,-10.529191795296157,77.547332260982301]
["Combined Cycle Gas",80.391510374077043,2564931.6,206.19872533019804,-51.457226422387549,11.885295247655364,0,1.356103452359207,89.432627508637665]
["Nuclear ",80.920219776058445,2564931.6,207.55482878255725,-52.813329874746756,10.529191795296157,-1.356103452359207,0,88.076524056278458]
["Utility-scale Solar",115.25896161863955,2564931.6,295.63135283883571,-140.88985393102521,-77.547332260982301,-89.432627508637665,-88.076524056278458,0]
[]
["Scenario:","PL , CH , GM , OH , TH",null,null,"Annual Savings vs. ($mm)"]
["Outputs","LCOE ($/MWh)","Annual MWh","Annual Cost ($mm)","Plains and Eastern Project","Tennessee Wind","Combined Cycle Gas","Nuclear ","Utility-scale Solar"]
["Plains and Eastern Project",60.329678541061483,2564931.6,154.7414989078105,0,32.805627812874462,51.457226422387549,52.813329874746756,140.88985393102521]
["Tennessee Wind",73.119738054880273,2564931.6,187.54712672068496,-32.805627812874462,0,18.651598609513087,20.007702061872294,108.08422611815075]
["Combined Cycle Gas",80.391510374077043,2564931.6,206.19872533019804,-51.457226422387549,-18.651598609513087,0,1.356103452359207,89.432627508637665]
["Nuclear ",80.920219776058445,2564931.6,207.55482878255725,-52.813329874746756,-20.007702061872294,-1.356103452359207,0,88.076524056278458]
["Utility-scale Solar",115.25896161863955,2564931.6,295.63135283883571,-140.88985393102521,-108.08422611815075,-89.432627508637665,-88.076524056278458,0]
[]
["Scenario:","PL , CH , GH , OL , TL",null,null,"Annual Savings vs. ($mm)"]
["Outputs","LCOE ($/MWh)","Annual MWh","Annual Cost ($mm)","Plains and Eastern Project","Tennessee Wind","Combined Cycle Gas","Nuclear ","Utility-scale Solar"]
["Plains and Eastern Project",66.066593543856428,2290117.5,151.30026204017264,0,78.976225702281596,55.799258977478729,34.016549372872049,112.65630299450208]
["Tennessee Wind",100.55225888735151,2290117.5,230.27648774245424,-78.976225702281596,0,-23.176966724802867,-44.959676329409547,33.680077292220489]
["Combined Cycle Gas",90.431831998860929,2290117.5,207.09952101765137,-55.799258977478729,23.176966724802867,0,-21.78270960460668,56.857044017023355]
["Nuclear ",80.920219776079037,2290117.5,185.31681141304469,-34.016549372872049,44.959676329409547,21.78270960460668,0,78.639753621630035]
["Utility-scale Solar",115.25896161863953,2290117.5,263.95656503467472,-112.65630299450208,-33.680077292220489,-56.857044017023355,-78.639753621630035,0]
[]
["Scenario:","PL , CH , GH , OL , TM",null,null,"Annual Savings vs. ($mm)"]
["Outputs","LCOE ($/MWh)","Annual MWh","Annual Cost ($mm)","Plains and Eastern Project","Tennessee Wind","Combined Cycle Gas","Nuclear ","Utility-scale Solar"]
["Plains and Eastern Project",66.066593543856428,2290117.5,151.30026204017264,0,40.80510838082111,55.799258977478729,34.016549372872049,112.65630299450208]
["Tennessee Wind",83.884503926542536,2290117.4999999995,192.10537042099375,-40.80510838082111,0,14.994150596657619,-6.7885590079490612,71.851194613680974]
["Combined Cycle Gas",90.431831998860929,2290117.5,207.09952101765137,-55.799258977478729,-14.994150596657619,0,-21.78270960460668,56.857044017023355]
["Nuclear ",80.920219776079037,2290117.5,185.31681141304469,-34.016549372872049,6.7885590079490612,21.78270960460668,0,78.639753621630035]
["Utility-scale Solar",115.25896161863953,2290117.5,263.95656503467472,-112.65630299450208,-71.851194613680974,-56.857044017023355,-78.639753621630035,0]
[]
["Scenario:","PL , CH , GH , OL , TH",null,null,"Annual Savings vs. ($mm)"]
["Outputs","LCOE ($/MWh)","Annual MWh","Annual Cost ($mm)","Plains and Eastern Project","Tennessee Wind","Combined Cycle Gas","Nuclear ","Utility-scale Solar"]
["Plains and Eastern Project",66.066593543856428,2290117.5,151.30026204017264,0,13.540024579777906,55.799258977478729,34.016549372872049,112.65630299450208]
["Tennessee Wind",71.978964668821817,2290117.5,164.84028661995055,-13.540024579777906,0,42.259234397700823,20.476524793094143,99.116278414724178]
["Combined Cycle Gas",90.431831998860929,2290117.5,207.09952101765137,-55.799258977478729,-42.259234397700823,0,-21.78270960460668,56.857044017023355]
["Nuclear ",80.920219776079037,2290117.5,185.31681141304469,-34.016549372872049,-20.476524793094143,21.78270960460668,0,78.639753621630035]
["Utility-scale Solar",115.25896161863953,2290117.5,263.95656503467472,-112.65630299450208,-99.116278414724178,-56.857044017023355,-78.639753621630035,0]
[]
["Scenario:","PL , CH , GH , OM , TL",null,null,"Annual Savings vs. ($mm)"]
["Outputs","LCOE ($/MWh)","Annual MWh","Annual Cost ($mm)","Plains and Eastern Project","Tennessee Wind","Combined Cycle Gas","Nuclear ","Utility-scale Solar"]
["Plains and Eastern Project",63.035770523511928,2427524.5500000003,153.02088047399158,0,92.535199386180267,65.923509800396829,43.414939623849108,126.77307846276378]
["Tennessee Wind",101.15493161960889,2427524.5500000003,245.55607986017185,-92.535199386180267,0,-26.611689585783438,-49.120259762331159,34.237879076583511]
["Combined Cycle Gas",90.192451513781137,2427524.5500000003,218.94439027438841,-65.923509800396829,26.611689585783438,0,-22.508570176547721,60.849568662366949]
["Nuclear ",80.920219776084522,2427524.5500000003,196.43582009784069,-43.414939623849108,49.120259762331159,22.508570176547721,0,83.35813883891467]
["Utility-scale Solar",115.25896161863959,2427524.5500000003,279.79395893675536,-126.77307846276378,-34.237879076583511,-60.849568662366949,-83.35813883891467,0]
[]
["Scenario:","PL , CH , GH , OM , TM",null,null,"Annual Savings vs. ($mm)"]
["Outputs","LCOE ($/MWh)","Annual MWh","Annual Cost ($mm)","Plains and Eastern Project","Tennessee Wind","Combined Cycle Gas","Nuclear ","Utility-scale Solar"]
["Plains and Eastern Project",63.035770523511928,2427524.5500000003,153.02088047399158,0,52.073815025432054,65.923509800396829,43.414939623849108,126.77307846276378]
["Tennessee Wind",84.487176658799868,2427524.5499999998,205.09469549942364,-52.073815025432054,0,13.849694774964775,-8.6588754015829466,74.699263437331723]
["Combined Cycle Gas",90.192451513781137,2427524.5500000003,218.94439027438841,-65.923509800396829,-13.849694774964775,0,-22.508570176547721,60.849568662366949]
["Nuclear ",80.920219776084522,2427524.5500000003,196.43582009784069,-43.414939623849108,8.6588754015829466,22.508570176547721,0,83.35813883891467]
["Utility-scale Solar",115.25896161863959,2427524.5500000003,279.79395893675536,-126.77307846276378,-74.699263437331723,-60.849568662366949,-83.35813883891467,0]
[]
["Scenario:","PL , CH , GH , OM , TH",null,null,"Annual Savings vs. ($mm)"]
["Outputs","LCOE ($/MWh)","Annual MWh","Annual Cost ($mm)","Plains and Eastern Project","Tennessee Wind","Combined Cycle Gas","Nuclear ","Utility-scale Solar"]
["Plains and Eastern Project",63.035770523511928,2427524.5500000003,153.02088047399158,0,23.172826196326184,65.923509800396829,43.414939623849108,126.77307846276378]
["Tennessee Wind",72.581637401079121,2427524.5500000003,176.19370667031777,-23.172826196326184,0,42.750683604070645,20.242113427522924,103.60025226643759]
["Combined Cycle Gas",90.192451513781137,2427524.5500000003,218.94439027438841,-65.923509800396829,-42.750683604070645,0,-22.508570176547721,60.849568662366949]
["Nuclear ",80.920219776084522,2427524.5500000003,196.43582009784069,-43.414939623849108,-20.242113427522924,22.508570176547721,0,83.35813883891467]
["Utility-scale Solar",115.25896161863959,2427524.5500000003,279.79395893675536,-126.77307846276378,-103.60025226643759,-60.849568662366949,-83.35813883891467,0]
[]
["Scenario:","PL , CH , GH , OH , TL",null,null,"Annual Savings vs. ($mm)"]
["Outputs","LCOE ($/MWh)","Annual MWh","Annual Cost ($mm)","Plains and Eastern Project","Tennessee Wind","Combined Cycle Gas","Nuclear ","Utility-scale Solar"]
["Plains and Eastern Project",60.329678541061483,2564931.6,154.7414989078105,0,106.09417307007865,76.595970061409702,52.813329874746756,140.88985393102521]
["Tennessee Wind",101.69303227341,2564931.6,260.83567197788915,-106.09417307007865,0,-29.498203008668952,-53.280843195331897,34.795680860946561]
["Combined Cycle Gas",90.192451513802624,2564931.6,231.3374689692202,-76.595970061409702,29.498203008668952,0,-23.782640186662945,64.293883869615513]
["Nuclear ",80.920219776058445,2564931.6,207.55482878255725,-52.813329874746756,53.280843195331897,23.782640186662945,0,88.076524056278458]
["Utility-scale Solar",115.25896161863955,2564931.6,295.63135283883571,-140.88985393102521,-34.795680860946561,-64.293883869615513,-88.076524056278458,0]
[]
["Scenario:","PL , CH , GH , OH , TM",null,null,"Annual Savings vs. ($mm)"]
["Outputs","LCOE ($/MWh)","Annual MWh","Annual Cost ($mm)","Plains and Eastern Project","Tennessee Wind","Combined Cycle Gas","Nuclear ","Utility-scale Solar"]
["Plains and Eastern Project",60.329678541061483,2564931.6,154.7414989078105,0,63.342521670042913,76.595970061409702,52.813329874746756,140.88985393102521]
["Tennessee Wind",85.02527731260102,2564931.5999999996,218.08402057785341,-63.342521670042913,0,13.253448391366788,-10.529191795296157,77.547332260982301]
["Combined Cycle Gas",90.192451513802624,2564931.6,231.3374689692202,-76.595970061409702,-13.253448391366788,0,-23.782640186662945,64.293883869615513]
["Nuclear ",80.920219776058445,2564931.6,207.55482878255725,-52.813329874746756,10.529191795296157,23.782640186662945,0,88.076524056278458]
["Utility-scale Solar",115.25896161863955,2564931.6,295.63135283883571,-140.88985393102521,-77.547332260982301,-64.293883869615513,-88.076524056278458,0]
[]
["Scenario:","PL , CH , GH , OH , TH",null,null,"Annual Savings vs. ($mm)"]
["Outputs","LCOE ($/MWh)","Annual MWh","Annual Cost ($mm)","Plains and Eastern Project","Tennessee Wind","Combined Cycle Gas","Nuclear ","Utility-scale Solar"]
["Plains and Eastern Project",60.329678541061483,2564931.6,154.7414989078105,0,32.805627812874462,76.595970061409702,52.813329874746756,140.88985393102521]
["Tennessee Wind",73.119738054880273,2564931.6,187.54712672068496,-32.805627812874462,0,43.790342248535239,20.007702061872294,108.08422611815075]
["Combined Cycle Gas",90.192451513802624,2564931.6,231.3374689692202,-76.595970061409702,-43.790342248535239,0,-23.782640186662945,64.293883869615513]
["Nuclear ",80.920219776058445,2564931.6,207.55482878255725,-52.813329874746756,-20.007702061872294,23.782640186662945,0,88.076524056278458]
["Utility-scale Solar",115.25896161863955,2564931.6,295.63135283883571,-140.88985393102521,-108.08422611815075,-64.293883869615513,-88.076524056278458,0]
[]
["Scenario:","PH , CL , GL , OL , TL",null,null,"Annual Savings vs. ($mm)"]
["Outputs","LCOE ($/MWh)","Annual MWh","Annual Cost ($mm)","Plains and Eastern Project","Tennessee Wind","Combined Cycle Gas","Nuclear ","Utility-scale Solar"]
["Plains and Eastern Project",37.128750608884395,2290117.5,85.029201522541811,0,86.01031738263849,18.991367090019111,100.28760989050288,178.9273635121329]
["Tennessee Wind",74.685914109289286,2290117.5,171.0395189051803,-86.01031738263849,0,-67.01895029261938,14.277292507864388,92.917046129494423]
["Combined Cycle Gas",45.421498509382566,2290117.5,104.02056861256092,-18.991367090019111,67.01895029261938,0,81.296242800483768,159.93599642211382]
["Nuclear ",80.920219776079037,2290117.5,185.31681141304469,-100.28760989050288,-14.277292507864388,-81.296242800483768,0,78.639753621630035]
["Utility-scale Solar",115.25896161863953,2290117.5,263.95656503467472,-178.9273635121329,-92.917046129494423,-159.93599642211382,-78.639753621630035,0]
[]
["Scenario:","PH , CL , GL , OL , TM",null,null,"Annual Savings vs. ($mm)"]
["Outputs","LCOE ($/MWh)","Annual MWh","Annual Cost ($mm)","Plains and Eastern Project","Tennessee Wind","Combined Cycle Gas","Nuclear ","Utility-scale Solar"]
["Plains and Eastern Project",37.128750608884395,2290117.5,85.029201522541811,0,47.839200061178033,18.991367090019111,100.28760989050288,178.9273635121329]
["Tennessee Wind",58.018159148480322,2290117.4999999995,132.86840158371984,-47.839200061178033,0,-28.847832971158923,52.448409829324845,131.08816345095488]
["Combined Cycle Gas",45.421498509382566,2290117.5,104.02056861256092,-18.991367090019111,28.847832971158923,0,81.296242800483768,159.93599642211382]
["Nuclear ",80.920219776079037,2290117.5,185.31681141304469,-100.28760989050288,-52.448409829324845,-81.296242800483768,0,78.639753621630035]
["Utility-scale Solar",115.25896161863953,2290117.5,263.95656503467472,-178.9273635121329,-131.08816345095488,-159.93599642211382,-78.639753621630035,0]
[]
["Scenario:","PH , CL , GL , OL , TH",null,null,"Annual Savings vs. ($mm)"]
["Outputs","LCOE ($/MWh)","Annual MWh","Annual Cost ($mm)","Plains and Eastern Project","Tennessee Wind","Combined Cycle Gas","Nuclear ","Utility-scale Solar"]
["Plains and Eastern Project",37.128750608884395,2290117.5,85.029201522541811,0,20.574116260134844,18.991367090019111,100.28760989050288,178.9273635121329]
["Tennessee Wind",46.112619890759603,2290117.5,105.60331778267665,-20.574116260134844,0,-1.5827491701157328,79.713493630368035,158.35324725199808]
["Combined Cycle Gas",45.421498509382566,2290117.5,104.02056861256092,-18.991367090019111,1.5827491701157328,0,81.296242800483768,159.93599642211382]
["Nuclear ",80.920219776079037,2290117.5,185.31681141304469,-100.28760989050288,-79.713493630368035,-81.296242800483768,0,78.639753621630035]
["Utility-scale Solar",115.25896161863953,2290117.5,263.95656503467472,-178.9273635121329,-158.35324725199808,-159.93599642211382,-78.639753621630035,0]
[]
["Scenario:","PH , CL , GL , OM , TL",null,null,"Annual Savings vs. ($mm)"]
["Outputs","LCOE ($/MWh)","Annual MWh","Annual Cost ($mm)","Plains and Eastern Project","Tennessee Wind","Combined Cycle Gas","Nuclear ","Utility-scale Solar"]
["Plains and Eastern Project",34.09792758853991,2427524.5500000003,82.773556325302948,0,99.991336567358488,26.907144399704208,113.66226377253774,197.02040261145243]
["Tennessee Wind",75.288586841546632,2427524.5500000003,182.76489289266144,-99.991336567358488,0,-73.08419216765428,13.670927205179254,97.029066044093923]
["Combined Cycle Gas",45.182118024308814,2427524.5500000003,109.68070072500716,-26.907144399704208,73.08419216765428,0,86.755119372833533,170.11325821174819]
["Nuclear ",80.920219776084522,2427524.5500000003,196.43582009784069,-113.66226377253774,-13.670927205179254,-86.755119372833533,0,83.35813883891467]
["Utility-scale Solar",115.25896161863959,2427524.5500000003,279.79395893675536,-197.02040261145243,-97.029066044093923,-170.11325821174819,-83.35813883891467,0]
[]
["Scenario:","PH , CL , GL , OM , TM",null,null,"Annual Savings vs. ($mm)"]
["Outputs","LCOE ($/MWh)","Annual MWh","Annual Cost ($mm)","Plains and Eastern Project","Tennessee Wind","Combined Cycle Gas","Nuclear ","Utility-scale Solar"]
["Plains and Eastern Project",34.09792758853991,2427524.5500000003,82.773556325302948,0,59.529952206610304,26.907144399704208,113.66226377253774,197.02040261145243]
["Tennessee Wind",58.620831880737626,2427524.5499999998,142.30350853191325,-59.529952206610304,0,-32.622807806906096,54.132311565927438,137.49045040484211]
["Combined Cycle Gas",45.182118024308814,2427524.5500000003,109.68070072500716,-26.907144399704208,32.622807806906096,0,86.755119372833533,170.11325821174819]
["Nuclear ",80.920219776084522,2427524.5500000003,196.43582009784069,-113.66226377253774,-54.132311565927438,-86.755119372833533,0,83.35813883891467]
["Utility-scale Solar",115.25896161863959,2427524.5500000003,279.79395893675536,-197.02040261145243,-137.49045040484211,-170.11325821174819,-83.35813883891467,0]
[]
["Scenario:","PH , CL , GL , OM , TH",null,null,"Annual Savings vs. ($mm)"]
["Outputs","LCOE ($/MWh)","Annual MWh","Annual Cost ($mm)","Plains and Eastern Project","Tennessee Wind","Combined Cycle Gas","Nuclear ","Utility-scale Solar"]
["Plains and Eastern Project",34.09792758853991,2427524.5500000003,82.773556325302948,0,30.628963377504476,26.907144399704208,113.66226377253774,197.02040261145243]
["Tennessee Wind",46.7152926230169,2427524.5500000003,113.40251970280742,-30.628963377504476,0,-3.7218189778002682,83.033300395033265,166.39143923394795]
["Combined Cycle Gas",45.182118024308814,2427524.5500000003,109.68070072500716,-26.907144399704208,3.7218189778002682,0,86.755119372833533,170.11325821174819]
["Nuclear ",80.920219776084522,2427524.5500000003,196.43582009784069,-113.66226377253774,-83.033300395033265,-86.755119372833533,0,83.35813883891467]
["Utility-scale Solar",115.25896161863959,2427524.5500000003,279.79395893675536,-197.02040261145243,-166.39143923394795,-170.11325821174819,-83.35813883891467,0]
[]
["Scenario:","PH , CL , GL , OH , TL",null,null,"Annual Savings vs. ($mm)"]
["Outputs","LCOE ($/MWh)","Annual MWh","Annual Cost ($mm)","Plains and Eastern Project","Tennessee Wind","Combined Cycle Gas","Nuclear ","Utility-scale Solar"]
["Plains and Eastern Project",31.391835606089469,2564931.6,80.517911128064043,0,113.97235575207833,35.371131147442853,127.03691765449321,215.11344171077167]
["Tennessee Wind",75.82668749534777,2564931.6,194.49026688014237,-113.97235575207833,0,-78.601224604635476,13.06456190241488,101.14108595869334]
["Combined Cycle Gas",45.182118024319593,2564931.6,115.8890422755069,-35.371131147442853,78.601224604635476,0,91.665786507050356,179.74231056332883]
["Nuclear ",80.920219776058445,2564931.6,207.55482878255725,-127.03691765449321,-13.06456190241488,-91.665786507050356,0,88.076524056278458]
["Utility-scale Solar",115.25896161863955,2564931.6,295.63135283883571,-215.11344171077167,-101.14108595869334,-179.74231056332883,-88.076524056278458,0]
[]
["Scenario:","PH , CL , GL , OH , TM",null,null,"Annual Savings vs. ($mm)"]
["Outputs","LCOE ($/MWh)","Annual MWh","Annual Cost ($mm)","Plains and Eastern Project","Tennessee Wind","Combined Cycle Gas","Nuclear ","Utility-scale Solar"]
["Plains and Eastern Project",31.391835606089469,2564931.6,80.517911128064043,0,71.220704352042617,35.371131147442853,127.03691765449321,215.11344171077167]
["Tennessee Wind",59.158932534538806,2564931.5999999996,151.73861548010666,-71.220704352042617,0,-35.849573204599764,55.816213302450592,143.89273735872905]
["Combined Cycle Gas",45.182118024319593,2564931.6,115.8890422755069,-35.371131147442853,35.849573204599764,0,91.665786507050356,179.74231056332883]
["Nuclear ",80.920219776058445,2564931.6,207.55482878255725,-127.03691765449321,-55.816213302450592,-91.665786507050356,0,88.076524056278458]
["Utility-scale Solar",115.25896161863955,2564931.6,295.63135283883571,-215.11344171077167,-143.89273735872905,-179.74231056332883,-88.076524056278458,0]
[]
["Scenario:","PH , CL , GL , OH , TH",null,null,"Annual Savings vs. ($mm)"]
["Outputs","LCOE ($/MWh)","Annual MWh","Annual Cost ($mm)","Plains and Eastern Project","Tennessee Wind","Combined Cycle Gas","Nuclear ","Utility-scale Solar"]
["Plains and Eastern Project",31.391835606089469,2564931.6,80.517911128064043,0,40.683810494874137,35.371131147442853,127.03691765449321,215.11344171077167]
["Tennessee Wind",47.253393276818059,2564931.6,121.20172162293818,-40.683810494874137,0,-5.3126793474312848,86.353107159619071,174.42963121589753]
["Combined Cycle Gas",45.182118024319593,2564931.6,115.8890422755069,-35.371131147442853,5.3126793474312848,0,91.665786507050356,179.74231056332883]
["Nuclear ",80.920219776058445,2564931.6,207.55482878255725,-127.03691765449321,-86.353107159619071,-91.665786507050356,0,88.076524056278458]
["Utility-scale Solar",115.25896161863955,2564931.6,295.63135283883571,-215.11344171077167,-174.42963121589753,-179.74231056332883,-88.076524056278458,0]
[]
["Scenario:","PH , CL , GM , OL , TL",null,null,"Annual Savings vs. ($mm)"]
["Outputs","LCOE ($/MWh)","Annual MWh","Annual Cost ($mm)","Plains and Eastern Project","Tennessee Wind","Combined Cycle Gas","Nuclear ","Utility-scale Solar"]
["Plains and Eastern Project",37.128750608884395,2290117.5,85.029201522541811,0,86.01031738263849,41.436673910572253,100.28760989050288,178.9273635121329]
["Tennessee Wind",74.685914109289286,2290117.5,171.0395189051803,-86.01031738263849,0,-44.573643472066237,14.277292507864388,92.917046129494423]
["Combined Cycle Gas",55.222439649107116,2290117.5,126.46587543311406,-41.436673910572253,44.573643472066237,0,58.850935979930625,137.49068960156066]
["Nuclear ",80.920219776079037,2290117.5,185.31681141304469,-100.28760989050288,-14.277292507864388,-58.850935979930625,0,78.639753621630035]
["Utility-scale Solar",115.25896161863953,2290117.5,263.95656503467472,-178.9273635121329,-92.917046129494423,-137.49068960156066,-78.639753621630035,0]
[]
["Scenario:","PH , CL , GM , OL , TM",null,null,"Annual Savings vs. ($mm)"]
["Outputs","LCOE ($/MWh)","Annual MWh","Annual Cost ($mm)","Plains and Eastern Project","Tennessee Wind","Combined Cycle Gas","Nuclear ","Utility-scale Solar"]
["Plains and Eastern Project",37.128750608884395,2290117.5,85.029201522541811,0,47.839200061178033,41.436673910572253,100.28760989050288,178.9273635121329]
["Tennessee Wind",58.018159148480322,2290117.4999999995,132.86840158371984,-47.839200061178033,0,-6.4025261506057802,52.448409829324845,131.08816345095488]
["Combined Cycle Gas",55.222439649107116,2290117.5,126.46587543311406,-41.436673910572253,6.4025261506057802,0,58.850935979930625,137.49068960156066]
["Nuclear ",80.920219776079037,2290117.5,185.31681141304469,-100.28760989050288,-52.448409829324845,-58.850935979930625,0,78.639753621630035]
["Utility-scale Solar",115.25896161863953,2290117.5,263.95656503467472,-178.9273635121329,-131.08816345095488,-137.49068960156066,-78.639753621630035,0]
[]
["Scenario:","PH , CL , GM , OL , TH",null,null,"Annual Savings vs. ($mm)"]
["Outputs","LCOE ($/MWh)","Annual MWh","Annual Cost ($mm)","Plains and Eastern Project","Tennessee Wind","Combined Cycle Gas","Nuclear ","Utility-scale Solar"]
["Plains and Eastern Project",37.128750608884395,2290117.5,85.029201522541811,0,20.574116260134844,41.436673910572253,100.28760989050288,178.9273635121329]
["Tennessee Wind",46.112619890759603,2290117.5,105.60331778267665,-20.574116260134844,0,20.86255765043741,79.713493630368035,158.35324725199808]
["Combined Cycle Gas",55.222439649107116,2290117.5,126.46587543311406,-41.436673910572253,-20.86255765043741,0,58.850935979930625,137.49068960156066]
["Nuclear ",80.920219776079037,2290117.5,185.31681141304469,-100.28760989050288,-79.713493630368035,-58.850935979930625,0,78.639753621630035]
["Utility-scale Solar",115.25896161863953,2290117.5,263.95656503467472,-178.9273635121329,-158.35324725199808,-137.49068960156066,-78.639753621630035,0]
[]
["Scenario:","PH , CL , GM , OM , TL",null,null,"Annual Savings vs. ($mm)"]
["Outputs","LCOE ($/MWh)","Annual MWh","Annual Cost ($mm)","Plains and Eastern Project","Tennessee Wind","Combined Cycle Gas","Nuclear ","Utility-scale Solar"]
["Plains and Eastern Project",34.09792758853991,2427524.5500000003,82.773556325302948,0,99.991336567358488,50.699169629487429,113.66226377253774,197.02040261145243]
["Tennessee Wind",75.288586841546632,2427524.5500000003,182.76489289266144,-99.991336567358488,0,-49.292166937871059,13.670927205179254,97.029066044093923]
["Combined Cycle Gas",54.983059164032085,2427524.5500000003,133.47272595479038,-50.699169629487429,49.292166937871059,0,62.963094143050313,146.32123298196498]
["Nuclear ",80.920219776084522,2427524.5500000003,196.43582009784069,-113.66226377253774,-13.670927205179254,-62.963094143050313,0,83.35813883891467]
["Utility-scale Solar",115.25896161863959,2427524.5500000003,279.79395893675536,-197.02040261145243,-97.029066044093923,-146.32123298196498,-83.35813883891467,0]
[]
["Scenario:","PH , CL , GM , OM , TM",null,null,"Annual Savings vs. ($mm)"]
["Outputs","LCOE ($/MWh)","Annual MWh","Annual Cost ($mm)","Plains and Eastern Project","Tennessee Wind","Combined Cycle Gas","Nuclear ","Utility-scale Solar"]
["Plains and Eastern Project",34.09792758853991,2427524.5500000003,82.773556325302948,0,59.529952206610304,50.699169629487429,113.66226377253774,197.02040261145243]
["Tennessee Wind",58.620831880737626,2427524.5499999998,142.30350853191325,-59.529952206610304,0,-8.830782577122875,54.132311565927438,137.49045040484211]
["Combined Cycle Gas",54.983059164032085,2427524.5500000003,133.47272595479038,-50.699169629487429,8.830782577122875,0,62.963094143050313,146.32123298196498]
["Nuclear ",80.920219776084522,2427524.5500000003,196.43582009784069,-113.66226377253774,-54.132311565927438,-62.963094143050313,0,83.35813883891467]
["Utility-scale Solar",115.25896161863959,2427524.5500000003,279.79395893675536,-197.02040261145243,-137.49045040484211,-146.32123298196498,-83.35813883891467,0]
[]
["Scenario:","PH , CL , GM , OM , TH",null,null,"Annual Savings vs. ($mm)"]
["Outputs","LCOE ($/MWh)","Annual MWh","Annual Cost ($mm)","Plains and Eastern Project","Tennessee Wind","Combined Cycle Gas","Nuclear ","Utility-scale Solar"]
["Plains and Eastern Project",34.09792758853991,2427524.5500000003,82.773556325302948,0,30.628963377504476,50.699169629487429,113.66226377253774,197.02040261145243]
["Tennessee Wind",46.7152926230169,2427524.5500000003,113.40251970280742,-30.628963377504476,0,20.070206251982952,83.033300395033265,166.39143923394795]
["Combined Cycle Gas",54.983059164032085,2427524.5500000003,133.47272595479038,-50.699169629487429,-20.070206251982952,0,62.963094143050313,146.32123298196498]
["Nuclear ",80.920219776084522,2427524.5500000003,196.43582009784069,-113.66226377253774,-83.033300395033265,-62.963094143050313,0,83.35813883891467]
["Utility-scale Solar",115.25896161863959,2427524.5500000003,279.79395893675536,-197.02040261145243,-166.39143923394795,-146.32123298196498,-83.35813883891467,0]
[]
["Scenario:","PH , CL , GM , OH , TL",null,null,"Annual Savings vs. ($mm)"]
["Outputs","LCOE ($/MWh)","Annual MWh","Annual Cost ($mm)","Plains and Eastern Project","Tennessee Wind","Combined Cycle Gas","Nuclear ","Utility-scale Solar"]
["Plains and Eastern Project",31.391835606089469,2564931.6,80.517911128064043,0,113.97235575207833,60.509874786465019,127.03691765449321,215.11344171077167]
["Tennessee Wind",75.82668749534777,2564931.6,194.49026688014237,-113.97235575207833,0,-53.46248096561331,13.06456190241488,101.14108595869334]
["Combined Cycle Gas",54.983059164045173,2564931.6,141.02778591452906,-60.509874786465019,53.46248096561331,0,66.52704286802819,154.60356692430665]
["Nuclear ",80.920219776058445,2564931.6,207.55482878255725,-127.03691765449321,-13.06456190241488,-66.52704286802819,0,88.076524056278458]
["Utility-scale Solar",115.25896161863955,2564931.6,295.63135283883571,-215.11344171077167,-101.14108595869334,-154.60356692430665,-88.076524056278458,0]
[]
["Scenario:","PH , CL , GM , OH , TM",null,null,"Annual Savings vs. ($mm)"]
["Outputs","LCOE ($/MWh)","Annual MWh","Annual Cost ($mm)","Plains and Eastern Project","Tennessee Wind","Combined Cycle Gas","Nuclear ","Utility-scale Solar"]
["Plains and Eastern Project",31.391835606089469,2564931.6,80.517911128064043,0,71.220704352042617,60.509874786465019,127.03691765449321,215.11344171077167]
["Tennessee Wind",59.158932534538806,2564931.5999999996,151.73861548010666,-71.220704352042617,0,-10.710829565577598,55.816213302450592,143.89273735872905]
["Combined Cycle Gas",54.983059164045173,2564931.6,141.02778591452906,-60.509874786465019,10.710829565577598,0,66.52704286802819,154.60356692430665]
["Nuclear ",80.920219776058445,2564931.6,207.55482878255725,-127.03691765449321,-55.816213302450592,-66.52704286802819,0,88.076524056278458]
["Utility-scale Solar",115.25896161863955,2564931.6,295.63135283883571,-215.11344171077167,-143.89273735872905,-154.60356692430665,-88.076524056278458,0]
[]
["Scenario:","PH , CL , GM , OH , TH",null,null,"Annual Savings vs. ($mm)"]
["Outputs","LCOE ($/MWh)","Annual MWh","Annual Cost ($mm)","Plains and Eastern Project","Tennessee Wind","Combined Cycle Gas","Nuclear ","Utility-scale Solar"]
["Plains and Eastern Project",31.391835606089469,2564931.6,80.517911128064043,0,40.683810494874137,60.509874786465019,127.03691765449321,215.11344171077167]
["Tennessee Wind",47.253393276818059,2564931.6,121.20172162293818,-40.683810494874137,0,19.826064291590882,86.353107159619071,174.42963121589753]
["Combined Cycle Gas",54.983059164045173,2564931.6,141.02778591452906,-60.509874786465019,-19.826064291590882,0,66.52704286802819,154.60356692430665]
["Nuclear ",80.920219776058445,2564931.6,207.55482878255725,-127.03691765449321,-86.353107159619071,-66.52704286802819,0,88.076524056278458]
["Utility-scale Solar",115.25896161863955,2564931.6,295.63135283883571,-215.11344171077167,-174.42963121589753,-154.60356692430665,-88.076524056278458,0]
[]
["Scenario:","PH , CL , GH , OL , TL",null,null,"Annual Savings vs. ($mm)"]
["Outputs","LCOE ($/MWh)","Annual MWh","Annual Cost ($mm)","Plains and Eastern Project","Tennessee Wind","Combined Cycle Gas","Nuclear ","Utility-scale Solar"]
["Plains and Eastern Project",37.128750608884395,2290117.5,85.029201522541811,0,86.01031738263849,63.881980731125466,100.28760989050288,178.9273635121329]
["Tennessee Wind",74.685914109289286,2290117.5,171.0395189051803,-86.01031738263849,0,-22.128336651513024,14.277292507864388,92.917046129494423]
["Combined Cycle Gas",65.023380788831687,2290117.5,148.91118225366728,-63.881980731125466,22.128336651513024,0,36.405629159377412,115.04538278100745]
["Nuclear ",80.920219776079037,2290117.5,185.31681141304469,-100.28760989050288,-14.277292507864388,-36.405629159377412,0,78.639753621630035]
["Utility-scale Solar",115.25896161863953,2290117.5,263.95656503467472,-178.9273635121329,-92.917046129494423,-115.04538278100745,-78.639753621630035,0]
[]
["Scenario:","PH , CL , GH , OL , TM",null,null,"Annual Savings vs. ($mm)"]
["Outputs","LCOE ($/MWh)","Annual MWh","Annual Cost ($mm)","Plains and Eastern Project","Tennessee Wind","Combined Cycle Gas","Nuclear ","Utility-scale Solar"]
["Plains and Eastern Project",37.128750608884395,2290117.5,85.029201522541811,0,47.839200061178033,63.881980731125466,100.28760989050288,178.9273635121329]
["Tennessee Wind",58.018159148480322,2290117.4999999995,132.86840158371984,-47.839200061178033,0,16.042780669947433,52.448409829324845,131.08816345095488]
["Combined Cycle Gas",65.023380788831687,2290117.5,148.91118225366728,-63.881980731125466,-16.042780669947433,0,36.405629159377412,115.04538278100745]
["Nuclear ",80.920219776079037,2290117.5,185.31681141304469,-100.28760989050288,-52.448409829324845,-36.405629159377412,0,78.639753621630035]
["Utility-scale Solar",115.25896161863953,2290117.5,263.95656503467472,-178.9273635121329,-131.08816345095488,-115.04538278100745,-78.639753621630035,0]
[]
["Scenario:","PH , CL , GH , OL , TH",null,null,"Annual Savings vs. ($mm)"]
["Outputs","LCOE ($/MWh)","Annual MWh","Annual Cost ($mm)","Plains and Eastern Project","Tennessee Wind","Combined Cycle Gas","Nuclear ","Utility-scale Solar"]
["Plains and Eastern Project",37.128750608884395,2290117.5,85.029201522541811,0,20.574116260134844,63.881980731125466,100.28760989050288,178.9273635121329]
["Tennessee Wind",46.112619890759603,2290117.5,105.60331778267665,-20.574116260134844,0,43.307864470990623,79.713493630368035,158.35324725199808]
["Combined Cycle Gas",65.023380788831687,2290117.5,148.91118225366728,-63.881980731125466,-43.307864470990623,0,36.405629159377412,115.04538278100745]
["Nuclear ",80.920219776079037,2290117.5,185.31681141304469,-100.28760989050288,-79.713493630368035,-36.405629159377412,0,78.639753621630035]
["Utility-scale Solar",115.25896161863953,2290117.5,263.95656503467472,-178.9273635121329,-158.35324725199808,-115.04538278100745,-78.639753621630035,0]
[]
["Scenario:","PH , CL , GH , OM , TL",null,null,"Annual Savings vs. ($mm)"]
["Outputs","LCOE ($/MWh)","Annual MWh","Annual Cost ($mm)","Plains and Eastern Project","Tennessee Wind","Combined Cycle Gas","Nuclear ","Utility-scale Solar"]
["Plains and Eastern Project",34.09792758853991,2427524.5500000003,82.773556325302948,0,99.991336567358488,74.49119485927055,113.66226377253774,197.02040261145243]
["Tennessee Wind",75.288586841546632,2427524.5500000003,182.76489289266144,-99.991336567358488,0,-25.500141708087938,13.670927205179254,97.029066044093923]
["Combined Cycle Gas",64.78400030375532,2427524.5500000003,157.2647511845735,-74.49119485927055,25.500141708087938,0,39.171068913267192,122.52920775218186]
["Nuclear ",80.920219776084522,2427524.5500000003,196.43582009784069,-113.66226377253774,-13.670927205179254,-39.171068913267192,0,83.35813883891467]
["Utility-scale Solar",115.25896161863959,2427524.5500000003,279.79395893675536,-197.02040261145243,-97.029066044093923,-122.52920775218186,-83.35813883891467,0]
[]
["Scenario:","PH , CL , GH , OM , TM",null,null,"Annual Savings vs. ($mm)"]
["Outputs","LCOE ($/MWh)","Annual MWh","Annual Cost ($mm)","Plains and Eastern Project","Tennessee Wind","Combined Cycle Gas","Nuclear ","Utility-scale Solar"]
["Plains and Eastern Project",34.09792758853991,2427524.5500000003,82.773556325302948,0,59.529952206610304,74.49119485927055,113.66226377253774,197.02040261145243]
["Tennessee Wind",58.620831880737626,2427524.5499999998,142.30350853191325,-59.529952206610304,0,14.961242652660246,54.132311565927438,137.49045040484211]
["Combined Cycle Gas",64.78400030375532,2427524.5500000003,157.2647511845735,-74.49119485927055,-14.961242652660246,0,39.171068913267192,122.52920775218186]
["Nuclear ",80.920219776084522,2427524.5500000003,196.43582009784069,-113.66226377253774,-54.132311565927438,-39.171068913267192,0,83.35813883891467]
["Utility-scale Solar",115.25896161863959,2427524.5500000003,279.79395893675536,-197.02040261145243,-137.49045040484211,-122.52920775218186,-83.35813883891467,0]
[]
["Scenario:","PH , CL , GH , OM , TH",null,null,"Annual Savings vs. ($mm)"]
["Outputs","LCOE ($/MWh)","Annual MWh","Annual Cost ($mm)","Plains and Eastern Project","Tennessee Wind","Combined Cycle Gas","Nuclear ","Utility-scale Solar"]
["Plains and Eastern Project",34.09792758853991,2427524.5500000003,82.773556325302948,0,30.628963377504476,74.49119485927055,113.66226377253774,197.02040261145243]
["Tennessee Wind",46.7152926230169,2427524.5500000003,113.40251970280742,-30.628963377504476,0,43.862231481766074,83.033300395033265,166.39143923394795]
["Combined Cycle Gas",64.78400030375532,2427524.5500000003,157.2647511845735,-74.49119485927055,-43.862231481766074,0,39.171068913267192,122.52920775218186]
["Nuclear ",80.920219776084522,2427524.5500000003,196.43582009784069,-113.66226377253774,-83.033300395033265,-39.171068913267192,0,83.35813883891467]
["Utility-scale Solar",115.25896161863959,2427524.5500000003,279.79395893675536,-197.02040261145243,-166.39143923394795,-122.52920775218186,-83.35813883891467,0]
[]
["Scenario:","PH , CL , GH , OH , TL",null,null,"Annual Savings vs. ($mm)"]
["Outputs","LCOE ($/MWh)","Annual MWh","Annual Cost ($mm)","Plains and Eastern Project","Tennessee Wind","Combined Cycle Gas","Nuclear ","Utility-scale Solar"]
["Plains and Eastern Project",31.391835606089469,2564931.6,80.517911128064043,0,113.97235575207833,85.6486184254872,127.03691765449321,215.11344171077167]
["Tennessee Wind",75.82668749534777,2564931.6,194.49026688014237,-113.97235575207833,0,-28.323737326591129,13.06456190241488,101.14108595869334]
["Combined Cycle Gas",64.784000303770767,2564931.6,166.16652955355124,-85.6486184254872,28.323737326591129,0,41.388299229006009,129.46482328528447]
["Nuclear ",80.920219776058445,2564931.6,207.55482878255725,-127.03691765449321,-13.06456190241488,-41.388299229006009,0,88.076524056278458]
["Utility-scale Solar",115.25896161863955,2564931.6,295.63135283883571,-215.11344171077167,-101.14108595869334,-129.46482328528447,-88.076524056278458,0]
[]
["Scenario:","PH , CL , GH , OH , TM",null,null,"Annual Savings vs. ($mm)"]
["Outputs","LCOE ($/MWh)","Annual MWh","Annual Cost ($mm)","Plains and Eastern Project","Tennessee Wind","Combined Cycle Gas","Nuclear ","Utility-scale Solar"]
["Plains and Eastern Project",31.391835606089469,2564931.6,80.517911128064043,0,71.220704352042617,85.6486184254872,127.03691765449321,215.11344171077167]
["Tennessee Wind",59.158932534538806,2564931.5999999996,151.73861548010666,-71.220704352042617,0,14.427914073444583,55.816213302450592,143.89273735872905]
["Combined Cycle Gas",64.784000303770767,2564931.6,166.16652955355124,-85.6486184254872,-14.427914073444583,0,41.388299229006009,129.46482328528447]
["Nuclear ",80.920219776058445,2564931.6,207.55482878255725,-127.03691765449321,-55.816213302450592,-41.388299229006009,0,88.076524056278458]
["Utility-scale Solar",115.25896161863955,2564931.6,295.63135283883571,-215.11344171077167,-143.89273735872905,-129.46482328528447,-88.076524056278458,0]
[]
["Scenario:","PH , CL , GH , OH , TH",null,null,"Annual Savings vs. ($mm)"]
["Outputs","LCOE ($/MWh)","Annual MWh","Annual Cost ($mm)","Plains and Eastern Project","Tennessee Wind","Combined Cycle Gas","Nuclear ","Utility-scale Solar"]
["Plains and Eastern Project",31.391835606089469,2564931.6,80.517911128064043,0,40.683810494874137,85.6486184254872,127.03691765449321,215.11344171077167]
["Tennessee Wind",47.253393276818059,2564931.6,121.20172162293818,-40.683810494874137,0,44.964807930613063,86.353107159619071,174.42963121589753]
["Combined Cycle Gas",64.784000303770767,2564931.6,166.16652955355124,-85.6486184254872,-44.964807930613063,0,41.388299229006009,129.46482328528447]
["Nuclear ",80.920219776058445,2564931.6,207.55482878255725,-127.03691765449321,-86.353107159619071,-41.388299229006009,0,88.076524056278458]
["Utility-scale Solar",115.25896161863955,2564931.6,295.63135283883571,-215.11344171077167,-174.42963121589753,-129.46482328528447,-88.076524056278458,0]
[]
["Scenario:","PH , CM , GL , OL , TL",null,null,"Annual Savings vs. ($mm)"]
["Outputs","LCOE ($/MWh)","Annual MWh","Annual Cost ($mm)","Plains and Eastern Project","Tennessee Wind","Combined Cycle Gas","Nuclear ","Utility-scale Solar"]
["Plains and Eastern Project",37.128750608884395,2290117.5,85.029201522541811,0,86.01031738263849,57.016645457926572,100.28760989050288,178.9273635121329]
["Tennessee Wind",74.685914109289286,2290117.5,171.0395189051803,-86.01031738263849,0,-28.993671924711919,14.277292507864388,92.917046129494423]
["Combined Cycle Gas",62.02557160515493,2290117.5,142.04584698046838,-57.016645457926572,28.993671924711919,0,43.270964432576307,121.91071805420634]
["Nuclear ",80.920219776079037,2290117.5,185.31681141304469,-100.28760989050288,-14.277292507864388,-43.270964432576307,0,78.639753621630035]
["Utility-scale Solar",115.25896161863953,2290117.5,263.95656503467472,-178.9273635121329,-92.917046129494423,-121.91071805420634,-78.639753621630035,0]
[]
["Scenario:","PH , CM , GL , OL , TM",null,null,"Annual Savings vs. ($mm)"]
["Outputs","LCOE ($/MWh)","Annual MWh","Annual Cost ($mm)","Plains and Eastern Project","Tennessee Wind","Combined Cycle Gas","Nuclear ","Utility-scale Solar"]
["Plains and Eastern Project",37.128750608884395,2290117.5,85.029201522541811,0,47.839200061178033,57.016645457926572,100.28760989050288,178.9273635121329]
["Tennessee Wind",58.018159148480322,2290117.4999999995,132.86840158371984,-47.839200061178033,0,9.1774453967485385,52.448409829324845,131.08816345095488]
["Combined Cycle Gas",62.02557160515493,2290117.5,142.04584698046838,-57.016645457926572,-9.1774453967485385,0,43.270964432576307,121.91071805420634]
["Nuclear ",80.920219776079037,2290117.5,185.31681141304469,-100.28760989050288,-52.448409829324845,-43.270964432576307,0,78.639753621630035]
["Utility-scale Solar",115.25896161863953,2290117.5,263.95656503467472,-178.9273635121329,-131.08816345095488,-121.91071805420634,-78.639753621630035,0]
[]
["Scenario:","PH , CM , GL , OL , TH",null,null,"Annual Savings vs. ($mm)"]
["Outputs","LCOE ($/MWh)","Annual MWh","Annual Cost ($mm)","Plains and Eastern Project","Tennessee Wind","Combined Cycle Gas","Nuclear ","Utility-scale Solar"]
["Plains and Eastern Project",37.128750608884395,2290117.5,85.029201522541811,0,20.574116260134844,57.016645457926572,100.28760989050288,178.9273635121329]
["Tennessee Wind",46.112619890759603,2290117.5,105.60331778267665,-20.574116260134844,0,36.442529197791728,79.713493630368035,158.35324725199808]
["Combined Cycle Gas",62.02557160515493,2290117.5,142.04584698046838,-57.016645457926572,-36.442529197791728,0,43.270964432576307,121.91071805420634]
["Nuclear ",80.920219776079037,2290117.5,185.31681141304469,-100.28760989050288,-79.713493630368035,-43.270964432576307,0,78.639753621630035]
["Utility-scale Solar",115.25896161863953,2290117.5,263.95656503467472,-178.9273635121329,-158.35324725199808,-121.91071805420634,-78.639753621630035,0]
[]
["Scenario:","PH , CM , GL , OM , TL",null,null,"Annual Savings vs. ($mm)"]
["Outputs","LCOE ($/MWh)","Annual MWh","Annual Cost ($mm)","Plains and Eastern Project","Tennessee Wind","Combined Cycle Gas","Nuclear ","Utility-scale Solar"]
["Plains and Eastern Project",34.09792758853991,2427524.5500000003,82.773556325302948,0,99.991336567358488,67.213939469680739,113.66226377253774,197.02040261145243]
["Tennessee Wind",75.288586841546632,2427524.5500000003,182.76489289266144,-99.991336567358488,0,-32.777397097677749,13.670927205179254,97.029066044093923]
["Combined Cycle Gas",61.786191120078961,2427524.5500000003,149.98749579498369,-67.213939469680739,32.777397097677749,0,46.448324302857003,129.80646314177167]
["Nuclear ",80.920219776084522,2427524.5500000003,196.43582009784069,-113.66226377253774,-13.670927205179254,-46.448324302857003,0,83.35813883891467]
["Utility-scale Solar",115.25896161863959,2427524.5500000003,279.79395893675536,-197.02040261145243,-97.029066044093923,-129.80646314177167,-83.35813883891467,0]
[]
["Scenario:","PH , CM , GL , OM , TM",null,null,"Annual Savings vs. ($mm)"]
["Outputs","LCOE ($/MWh)","Annual MWh","Annual Cost ($mm)","Plains and Eastern Project","Tennessee Wind","Combined Cycle Gas","Nuclear ","Utility-scale Solar"]
["Plains and Eastern Project",34.09792758853991,2427524.5500000003,82.773556325302948,0,59.529952206610304,67.213939469680739,113.66226377253774,197.02040261145243]
["Tennessee Wind",58.620831880737626,2427524.5499999998,142.30350853191325,-59.529952206610304,0,7.6839872630704349,54.132311565927438,137.49045040484211]
["Combined Cycle Gas",61.786191120078961,2427524.5500000003,149.98749579498369,-67.213939469680739,-7.6839872630704349,0,46.448324302857003,129.80646314177167]
["Nuclear ",80.920219776084522,2427524.5500000003,196.43582009784069,-113.66226377253774,-54.132311565927438,-46.448324302857003,0,83.35813883891467]
["Utility-scale Solar",115.25896161863959,2427524.5500000003,279.79395893675536,-197.02040261145243,-137.49045040484211,-129.80646314177167,-83.35813883891467,0]
[]
["Scenario:","PH , CM , GL , OM , TH",null,null,"Annual Savings vs. ($mm)"]
["Outputs","LCOE ($/MWh)","Annual MWh","Annual Cost ($mm)","Plains and Eastern Project","Tennessee Wind","Combined Cycle Gas","Nuclear ","Utility-scale Solar"]
["Plains and Eastern Project",34.09792758853991,2427524.5500000003,82.773556325302948,0,30.628963377504476,67.213939469680739,113.66226377253774,197.02040261145243]
["Tennessee Wind",46.7152926230169,2427524.5500000003,113.40251970280742,-30.628963377504476,0,36.584976092176262,83.033300395033265,166.39143923394795]
["Combined Cycle Gas",61.786191120078961,2427524.5500000003,149.98749579498369,-67.213939469680739,-36.584976092176262,0,46.448324302857003,129.80646314177167]
["Nuclear ",80.920219776084522,2427524.5500000003,196.43582009784069,-113.66226377253774,-83.033300395033265,-46.448324302857003,0,83.35813883891467]
["Utility-scale Solar",115.25896161863959,2427524.5500000003,279.79395893675536,-197.02040261145243,-166.39143923394795,-129.80646314177167,-83.35813883891467,0]
[]
["Scenario:","PH , CM , GL , OH , TL",null,null,"Annual Savings vs. ($mm)"]
["Outputs","LCOE ($/MWh)","Annual MWh","Annual Cost ($mm)","Plains and Eastern Project","Tennessee Wind","Combined Cycle Gas","Nuclear ","Utility-scale Solar"]
["Plains and Eastern Project",31.391835606089469,2564931.6,80.517911128064043,0,113.97235575207833,77.959442919503601,127.03691765449321,215.11344171077167]
["Tennessee Wind",75.82668749534777,2564931.6,194.49026688014237,-113.97235575207833,0,-36.012912832574727,13.06456190241488,101.14108595869334]
["Combined Cycle Gas",61.786191120093662,2564931.6,158.47735404756764,-77.959442919503601,36.012912832574727,0,49.077474734989607,137.15399879126807]
["Nuclear ",80.920219776058445,2564931.6,207.55482878255725,-127.03691765449321,-13.06456190241488,-49.077474734989607,0,88.076524056278458]
["Utility-scale Solar",115.25896161863955,2564931.6,295.63135283883571,-215.11344171077167,-101.14108595869334,-137.15399879126807,-88.076524056278458,0]
[]
["Scenario:","PH , CM , GL , OH , TM",null,null,"Annual Savings vs. ($mm)"]
["Outputs","LCOE ($/MWh)","Annual MWh","Annual Cost ($mm)","Plains and Eastern Project","Tennessee Wind","Combined Cycle Gas","Nuclear ","Utility-scale Solar"]
["Plains and Eastern Project",31.391835606089469,2564931.6,80.517911128064043,0,71.220704352042617,77.959442919503601,127.03691765449321,215.11344171077167]
["Tennessee Wind",59.158932534538806,2564931.5999999996,151.73861548010666,-71.220704352042617,0,6.7387385674609845,55.816213302450592,143.89273735872905]
["Combined Cycle Gas",61.786191120093662,2564931.6,158.47735404756764,-77.959442919503601,-6.7387385674609845,0,49.077474734989607,137.15399879126807]
["Nuclear ",80.920219776058445,2564931.6,207.55482878255725,-127.03691765449321,-55.816213302450592,-49.077474734989607,0,88.076524056278458]
["Utility-scale Solar",115.25896161863955,2564931.6,295.63135283883571,-215.11344171077167,-143.89273735872905,-137.15399879126807,-88.076524056278458,0]
[]
["Scenario:","PH , CM , GL , OH , TH",null,null,"Annual Savings vs. ($mm)"]
["Outputs","LCOE ($/MWh)","Annual MWh","Annual Cost ($mm)","Plains and Eastern Project","Tennessee Wind","Combined Cycle Gas","Nuclear ","Utility-scale Solar"]
["Plains and Eastern Project",31.391835606089469,2564931.6,80.517911128064043,0,40.683810494874137,77.959442919503601,127.03691765449321,215.11344171077167]
["Tennessee Wind",47.253393276818059,2564931.6,121.20172162293818,-40.683810494874137,0,37.275632424629464,86.353107159619071,174.42963121589753]
["Combined Cycle Gas",61.786191120093662,2564931.6,158.47735404756764,-77.959442919503601,-37.275632424629464,0,49.077474734989607,137.15399879126807]
["Nuclear ",80.920219776058445,2564931.6,207.55482878255725,-127.03691765449321,-86.353107159619071,-49.077474734989607,0,88.076524056278458]
["Utility-scale Solar",115.25896161863955,2564931.6,295.63135283883571,-215.11344171077167,-174.42963121589753,-137.15399879126807,-88.076524056278458,0]
[]
["Scenario:","PH , CM , GM , OL , TL",null,null,"Annual Savings vs. ($mm)"]
["Outputs","LCOE ($/MWh)","Annual MWh","Annual Cost ($mm)","Plains and Eastern Project","Tennessee Wind","Combined Cycle Gas","Nuclear ","Utility-scale Solar"]
["Plains and Eastern Project",37.128750608884395,2290117.5,85.029201522541811,0,86.01031738263849,79.461952278479814,100.28760989050288,178.9273635121329]
["Tennessee Wind",74.685914109289286,2290117.5,171.0395189051803,-86.01031738263849,0,-6.5483651041586768,14.277292507864388,92.917046129494423]
["Combined Cycle Gas",71.826512744879523,2290117.5,164.49115380102162,-79.461952278479814,6.5483651041586768,0,20.825657612023065,99.4654112336531]
["Nuclear ",80.920219776079037,2290117.5,185.31681141304469,-100.28760989050288,-14.277292507864388,-20.825657612023065,0,78.639753621630035]
["Utility-scale Solar",115.25896161863953,2290117.5,263.95656503467472,-178.9273635121329,-92.917046129494423,-99.4654112336531,-78.639753621630035,0]
[]
["Scenario:","PH , CM , GM , OL , TM",null,null,"Annual Savings vs. ($mm)"]
["Outputs","LCOE ($/MWh)","Annual MWh","Annual Cost ($mm)","Plains and Eastern Project","Tennessee Wind","Combined Cycle Gas","Nuclear ","Utility-scale Solar"]
["Plains and Eastern Project",37.128750608884395,2290117.5,85.029201522541811,0,47.839200061178033,79.461952278479814,100.28760989050288,178.9273635121329]
["Tennessee Wind",58.018159148480322,2290117.4999999995,132.86840158371984,-47.839200061178033,0,31.62275221730178,52.448409829324845,131.08816345095488]
["Combined Cycle Gas",71.826512744879523,2290117.5,164.49115380102162,-79.461952278479814,-31.62275221730178,0,20.825657612023065,99.4654112336531]
["Nuclear ",80.920219776079037,2290117.5,185.31681141304469,-100.28760989050288,-52.448409829324845,-20.825657612023065,0,78.639753621630035]
["Utility-scale Solar",115.25896161863953,2290117.5,263.95656503467472,-178.9273635121329,-131.08816345095488,-99.4654112336531,-78.639753621630035,0]
[]
["Scenario:","PH , CM , GM , OL , TH",null,null,"Annual Savings vs. ($mm)"]
["Outputs","LCOE ($/MWh)","Annual MWh","Annual Cost ($mm)","Plains and Eastern Project","Tennessee Wind","Combined Cycle Gas","Nuclear ","Utility-scale Solar"]
["Plains and Eastern Project",37.128750608884395,2290117.5,85.029201522541811,0,20.574116260134844,79.461952278479814,100.28760989050288,178.9273635121329]
["Tennessee Wind",46.112619890759603,2290117.5,105.60331778267665,-20.574116260134844,0,58.88783601834497,79.713493630368035,158.35324725199808]
["Combined Cycle Gas",71.826512744879523,2290117.5,164.49115380102162,-79.461952278479814,-58.88783601834497,0,20.825657612023065,99.4654112336531]
["Nuclear ",80.920219776079037,2290117.5,185.31681141304469,-100.28760989050288,-79.713493630368035,-20.825657612023065,0,78.639753621630035]
["Utility-scale Solar",115.25896161863953,2290117.5,263.95656503467472,-178.9273635121329,-158.35324725199808,-99.4654112336531,-78.639753621630035,0]
[]
["Scenario:","PH , CM , GM , OM , TL",null,null,"Annual Savings vs. ($mm)"]
["Outputs","LCOE ($/MWh)","Annual MWh","Annual Cost ($mm)","Plains and Eastern Project","Tennessee Wind","Combined Cycle Gas","Nuclear ","Utility-scale Solar"]
["Plains and Eastern Project",34.09792758853991,2427524.5500000003,82.773556325302948,0,99.991336567358488,91.005964699464002,113.66226377253774,197.02040261145243]
["Tennessee Wind",75.288586841546632,2427524.5500000003,182.76489289266144,-99.991336567358488,0,-8.9853718678944858,13.670927205179254,97.029066044093923]
["Combined Cycle Gas",71.587132259802246,2427524.5500000003,173.77952102476695,-91.005964699464002,8.9853718678944858,0,22.65629907307374,106.01443791198841]
["Nuclear ",80.920219776084522,2427524.5500000003,196.43582009784069,-113.66226377253774,-13.670927205179254,-22.65629907307374,0,83.35813883891467]
["Utility-scale Solar",115.25896161863959,2427524.5500000003,279.79395893675536,-197.02040261145243,-97.029066044093923,-106.01443791198841,-83.35813883891467,0]
[]
["Scenario:","PH , CM , GM , OM , TM",null,null,"Annual Savings vs. ($mm)"]
["Outputs","LCOE ($/MWh)","Annual MWh","Annual Cost ($mm)","Plains and Eastern Project","Tennessee Wind","Combined Cycle Gas","Nuclear ","Utility-scale Solar"]
["Plains and Eastern Project",34.09792758853991,2427524.5500000003,82.773556325302948,0,59.529952206610304,91.005964699464002,113.66226377253774,197.02040261145243]
["Tennessee Wind",58.620831880737626,2427524.5499999998,142.30350853191325,-59.529952206610304,0,31.476012492853698,54.132311565927438,137.49045040484211]
["Combined Cycle Gas",71.587132259802246,2427524.5500000003,173.77952102476695,-91.005964699464002,-31.476012492853698,0,22.65629907307374,106.01443791198841]
["Nuclear ",80.920219776084522,2427524.5500000003,196.43582009784069,-113.66226377253774,-54.132311565927438,-22.65629907307374,0,83.35813883891467]
["Utility-scale Solar",115.25896161863959,2427524.5500000003,279.79395893675536,-197.02040261145243,-137.49045040484211,-106.01443791198841,-83.35813883891467,0]
[]
["Scenario:","PH , CM , GM , OM , TH",null,null,"Annual Savings vs. ($mm)"]
["Outputs","LCOE ($/MWh)","Annual MWh","Annual Cost ($mm)","Plains and Eastern Project","Tennessee Wind","Combined Cycle Gas","Nuclear ","Utility-scale Solar"]
["Plains and Eastern Project",34.09792758853991,2427524.5500000003,82.773556325302948,0,30.628963377504476,91.005964699464002,113.66226377253774,197.02040261145243]
["Tennessee Wind",46.7152926230169,2427524.5500000003,113.40251970280742,-30.628963377504476,0,60.377001321959526,83.033300395033265,166.39143923394795]
["Combined Cycle Gas",71.587132259802246,2427524.5500000003,173.77952102476695,-91.005964699464002,-60.377001321959526,0,22.65629907307374,106.01443791198841]
["Nuclear ",80.920219776084522,2427524.5500000003,196.43582009784069,-113.66226377253774,-83.033300395033265,-22.65629907307374,0,83.35813883891467]
["Utility-scale Solar",115.25896161863959,2427524.5500000003,279.79395893675536,-197.02040261145243,-166.39143923394795,-106.01443791198841,-83.35813883891467,0]
[]
["Scenario:","PH , CM , GM , OH , TL",null,null,"Annual Savings vs. ($mm)"]
["Outputs","LCOE ($/MWh)","Annual MWh","Annual Cost ($mm)","Plains and Eastern Project","Tennessee Wind","Combined Cycle Gas","Nuclear ","Utility-scale Solar"]
["Plains and Eastern Project",31.391835606089469,2564931.6,80.517911128064043,0,113.97235575207833,103.0981865585259,127.03691765449321,215.11344171077167]
["Tennessee Wind",75.82668749534777,2564931.6,194.49026688014237,-113.97235575207833,0,-10.874169193552433,13.06456190241488,101.14108595869334]
["Combined Cycle Gas",71.587132259819299,2564931.6,183.61609768658994,-103.0981865585259,10.874169193552433,0,23.938731095967313,112.01525515224577]
["Nuclear ",80.920219776058445,2564931.6,207.55482878255725,-127.03691765449321,-13.06456190241488,-23.938731095967313,0,88.076524056278458]
["Utility-scale Solar",115.25896161863955,2564931.6,295.63135283883571,-215.11344171077167,-101.14108595869334,-112.01525515224577,-88.076524056278458,0]
[]
["Scenario:","PH , CM , GM , OH , TM",null,null,"Annual Savings vs. ($mm)"]
["Outputs","LCOE ($/MWh)","Annual MWh","Annual Cost ($mm)","Plains and Eastern Project","Tennessee Wind","Combined Cycle Gas","Nuclear ","Utility-scale Solar"]
["Plains and Eastern Project",31.391835606089469,2564931.6,80.517911128064043,0,71.220704352042617,103.0981865585259,127.03691765449321,215.11344171077167]
["Tennessee Wind",59.158932534538806,2564931.5999999996,151.73861548010666,-71.220704352042617,0,31.877482206483279,55.816213302450592,143.89273735872905]
["Combined Cycle Gas",71.587132259819299,2564931.6,183.61609768658994,-103.0981865585259,-31.877482206483279,0,23.938731095967313,112.01525515224577]
["Nuclear ",80.920219776058445,2564931.6,207.55482878255725,-127.03691765449321,-55.816213302450592,-23.938731095967313,0,88.076524056278458]
["Utility-scale Solar",115.25896161863955,2564931.6,295.63135283883571,-215.11344171077167,-143.89273735872905,-112.01525515224577,-88.076524056278458,0]
[]
["Scenario:","PH , CM , GM , OH , TH",null,null,"Annual Savings vs. ($mm)"]
["Outputs","LCOE ($/MWh)","Annual MWh","Annual Cost ($mm)","Plains and Eastern Project","Tennessee Wind","Combined Cycle Gas","Nuclear ","Utility-scale Solar"]
["Plains and Eastern Project",31.391835606089469,2564931.6,80.517911128064043,0,40.683810494874137,103.0981865585259,127.03691765449321,215.11344171077167]
["Tennessee Wind",47.253393276818059,2564931.6,121.20172162293818,-40.683810494874137,0,62.414376063651758,86.353107159619071,174.42963121589753]
["Combined Cycle Gas",71.587132259819299,2564931.6,183.61609768658994,-103.0981865585259,-62.414376063651758,0,23.938731095967313,112.01525515224577]
["Nuclear ",80.920219776058445,2564931.6,207.55482878255725,-127.03691765449321,-86.353107159619071,-23.938731095967313,0,88.076524056278458]
["Utility-scale Solar",115.25896161863955,2564931.6,295.63135283883571,-215.11344171077167,-174.42963121589753,-112.01525515224577,-88.076524056278458,0]
[]
["Scenario:","PH , CM , GH , OL , TL",null,null,"Annual Savings vs. ($mm)"]
["Outputs","LCOE ($/MWh)","Annual MWh","Annual Cost ($mm)","Plains and Eastern Project","Tennessee Wind","Combined Cycle Gas","Nuclear ","Utility-scale Solar"]
["Plains and Eastern Project",37.128750608884395,2290117.5,85.029201522541811,0,86.01031738263849,101.90725909903294,100.28760989050288,178.9273635121329]
["Tennessee Wind",74.685914109289286,2290117.5,171.0395189051803,-86.01031738263849,0,15.896941716394451,14.277292507864388,92.917046129494423]
["Combined Cycle Gas",81.627453884604066,2290117.5,186.93646062157475,-101.90725909903294,-15.896941716394451,0,-1.6196492085300633,77.020104413099972]
["Nuclear ",80.920219776079037,2290117.5,185.31681141304469,-100.28760989050288,-14.277292507864388,1.6196492085300633,0,78.639753621630035]
["Utility-scale Solar",115.25896161863953,2290117.5,263.95656503467472,-178.9273635121329,-92.917046129494423,-77.020104413099972,-78.639753621630035,0]
[]
["Scenario:","PH , CM , GH , OL , TM",null,null,"Annual Savings vs. ($mm)"]
["Outputs","LCOE ($/MWh)","Annual MWh","Annual Cost ($mm)","Plains and Eastern Project","Tennessee Wind","Combined Cycle Gas","Nuclear ","Utility-scale Solar"]
["Plains and Eastern Project",37.128750608884395,2290117.5,85.029201522541811,0,47.839200061178033,101.90725909903294,100.28760989050288,178.9273635121329]
["Tennessee Wind",58.018159148480322,2290117.4999999995,132.86840158371984,-47.839200061178033,0,54.068059037854908,52.448409829324845,131.08816345095488]
["Combined Cycle Gas",81.627453884604066,2290117.5,186.93646062157475,-101.90725909903294,-54.068059037854908,0,-1.6196492085300633,77.020104413099972]
["Nuclear ",80.920219776079037,2290117.5,185.31681141304469,-100.28760989050288,-52.448409829324845,1.6196492085300633,0,78.639753621630035]
["Utility-scale Solar",115.25896161863953,2290117.5,263.95656503467472,-178.9273635121329,-131.08816345095488,-77.020104413099972,-78.639753621630035,0]
[]
["Scenario:","PH , CM , GH , OL , TH",null,null,"Annual Savings vs. ($mm)"]
["Outputs","LCOE ($/MWh)","Annual MWh","Annual Cost ($mm)","Plains and Eastern Project","Tennessee Wind","Combined Cycle Gas","Nuclear ","Utility-scale Solar"]
["Plains and Eastern Project",37.128750608884395,2290117.5,85.029201522541811,0,20.574116260134844,101.90725909903294,100.28760989050288,178.9273635121329]
["Tennessee Wind",46.112619890759603,2290117.5,105.60331778267665,-20.574116260134844,0,81.333142838898098,79.713493630368035,158.35324725199808]
["Combined Cycle Gas",81.627453884604066,2290117.5,186.93646062157475,-101.90725909903294,-81.333142838898098,0,-1.6196492085300633,77.020104413099972]
["Nuclear ",80.920219776079037,2290117.5,185.31681141304469,-100.28760989050288,-79.713493630368035,1.6196492085300633,0,78.639753621630035]
["Utility-scale Solar",115.25896161863953,2290117.5,263.95656503467472,-178.9273635121329,-158.35324725199808,-77.020104413099972,-78.639753621630035,0]
[]
["Scenario:","PH , CM , GH , OM , TL",null,null,"Annual Savings vs. ($mm)"]
["Outputs","LCOE ($/MWh)","Annual MWh","Annual Cost ($mm)","Plains and Eastern Project","Tennessee Wind","Combined Cycle Gas","Nuclear ","Utility-scale Solar"]
["Plains and Eastern Project",34.09792758853991,2427524.5500000003,82.773556325302948,0,99.991336567358488,114.79798992924709,113.66226377253774,197.02040261145243]
["Tennessee Wind",75.288586841546632,2427524.5500000003,182.76489289266144,-99.991336567358488,0,14.806653361888607,13.670927205179254,97.029066044093923]
["Combined Cycle Gas",81.388073399525467,2427524.5500000003,197.57154625455004,-114.79798992924709,-14.806653361888607,0,-1.1357261567093531,82.222412682205317]
["Nuclear ",80.920219776084522,2427524.5500000003,196.43582009784069,-113.66226377253774,-13.670927205179254,1.1357261567093531,0,83.35813883891467]
["Utility-scale Solar",115.25896161863959,2427524.5500000003,279.79395893675536,-197.02040261145243,-97.029066044093923,-82.222412682205317,-83.35813883891467,0]
[]
["Scenario:","PH , CM , GH , OM , TM",null,null,"Annual Savings vs. ($mm)"]
["Outputs","LCOE ($/MWh)","Annual MWh","Annual Cost ($mm)","Plains and Eastern Project","Tennessee Wind","Combined Cycle Gas","Nuclear ","Utility-scale Solar"]
["Plains and Eastern Project",34.09792758853991,2427524.5500000003,82.773556325302948,0,59.529952206610304,114.79798992924709,113.66226377253774,197.02040261145243]
["Tennessee Wind",58.620831880737626,2427524.5499999998,142.30350853191325,-59.529952206610304,0,55.268037722636791,54.132311565927438,137.49045040484211]
["Combined Cycle Gas",81.388073399525467,2427524.5500000003,197.57154625455004,-114.79798992924709,-55.268037722636791,0,-1.1357261567093531,82.222412682205317]
["Nuclear ",80.920219776084522,2427524.5500000003,196.43582009784069,-113.66226377253774,-54.132311565927438,1.1357261567093531,0,83.35813883891467]
["Utility-scale Solar",115.25896161863959,2427524.5500000003,279.79395893675536,-197.02040261145243,-137.49045040484211,-82.222412682205317,-83.35813883891467,0]
[]
["Scenario:","PH , CM , GH , OM , TH",null,null,"Annual Savings vs. ($mm)"]
["Outputs","LCOE ($/MWh)","Annual MWh","Annual Cost ($mm)","Plains and Eastern Project","Tennessee Wind","Combined Cycle Gas","Nuclear ","Utility-scale Solar"]
["Plains and Eastern Project",34.09792758853991,2427524.5500000003,82.773556325302948,0,30.628963377504476,114.79798992924709,113.66226377253774,197.02040261145243]
["Tennessee Wind",46.7152926230169,2427524.5500000003,113.40251970280742,-30.628963377504476,0,84.169026551742618,83.033300395033265,166.39143923394795]
["Combined Cycle Gas",81.388073399525467,2427524.5500000003,197.57154625455004,-114.79798992924709,-84.169026551742618,0,-1.1357261567093531,82.222412682205317]
["Nuclear ",80.920219776084522,2427524.5500000003,196.43582009784069,-113.66226377253774,-83.033300395033265,1.1357261567093531,0,83.35813883891467]
["Utility-scale Solar",115.25896161863959,2427524.5500000003,279.79395893675536,-197.02040261145243,-166.39143923394795,-82.222412682205317,-83.35813883891467,0]
[]
["Scenario:","PH , CM , GH , OH , TL",null,null,"Annual Savings vs. ($mm)"]
["Outputs","LCOE ($/MWh)","Annual MWh","Annual Cost ($mm)","Plains and Eastern Project","Tennessee Wind","Combined Cycle Gas","Nuclear ","Utility-scale Solar"]
["Plains and Eastern Project",31.391835606089469,2564931.6,80.517911128064043,0,113.97235575207833,128.23693019754802,127.03691765449321,215.11344171077167]
["Tennessee Wind",75.82668749534777,2564931.6,194.49026688014237,-113.97235575207833,0,14.264574445469691,13.06456190241488,101.14108595869334]
["Combined Cycle Gas",81.388073399544865,2564931.6,208.75484132561206,-128.23693019754802,-14.264574445469691,0,-1.200012543054811,86.876511513223647]
["Nuclear ",80.920219776058445,2564931.6,207.55482878255725,-127.03691765449321,-13.06456190241488,1.200012543054811,0,88.076524056278458]
["Utility-scale Solar",115.25896161863955,2564931.6,295.63135283883571,-215.11344171077167,-101.14108595869334,-86.876511513223647,-88.076524056278458,0]
[]
["Scenario:","PH , CM , GH , OH , TM",null,null,"Annual Savings vs. ($mm)"]
["Outputs","LCOE ($/MWh)","Annual MWh","Annual Cost ($mm)","Plains and Eastern Project","Tennessee Wind","Combined Cycle Gas","Nuclear ","Utility-scale Solar"]
["Plains and Eastern Project",31.391835606089469,2564931.6,80.517911128064043,0,71.220704352042617,128.23693019754802,127.03691765449321,215.11344171077167]
["Tennessee Wind",59.158932534538806,2564931.5999999996,151.73861548010666,-71.220704352042617,0,57.016225845505403,55.816213302450592,143.89273735872905]
["Combined Cycle Gas",81.388073399544865,2564931.6,208.75484132561206,-128.23693019754802,-57.016225845505403,0,-1.200012543054811,86.876511513223647]
["Nuclear ",80.920219776058445,2564931.6,207.55482878255725,-127.03691765449321,-55.816213302450592,1.200012543054811,0,88.076524056278458]
["Utility-scale Solar",115.25896161863955,2564931.6,295.63135283883571,-215.11344171077167,-143.89273735872905,-86.876511513223647,-88.076524056278458,0]
[]
["Scenario:","PH , CM , GH , OH , TH",null,null,"Annual Savings vs. ($mm)"]
["Outputs","LCOE ($/MWh)","Annual MWh","Annual Cost ($mm)","Plains and Eastern Project","Tennessee Wind","Combined Cycle Gas","Nuclear ","Utility-scale Solar"]
["Plains and Eastern Project",31.391835606089469,2564931.6,80.517911128064043,0,40.683810494874137,128.23693019754802,127.03691765449321,215.11344171077167]
["Tennessee Wind",47.253393276818059,2564931.6,121.20172162293818,-40.683810494874137,0,87.553119702673882,86.353107159619071,174.42963121589753]
["Combined Cycle Gas",81.388073399544865,2564931.6,208.75484132561206,-128.23693019754802,-87.553119702673882,0,-1.200012543054811,86.876511513223647]
["Nuclear ",80.920219776058445,2564931.6,207.55482878255725,-127.03691765449321,-86.353107159619071,1.200012543054811,0,88.076524056278458]
["Utility-scale Solar",115.25896161863955,2564931.6,295.63135283883571,-215.11344171077167,-174.42963121589753,-86.876511513223647,-88.076524056278458,0]
[]
["Scenario:","PH , CH , GL , OL , TL",null,null,"Annual Savings vs. ($mm)"]
["Outputs","LCOE ($/MWh)","Annual MWh","Annual Cost ($mm)","Plains and Eastern Project","Tennessee Wind","Combined Cycle Gas","Nuclear ","Utility-scale Solar"]
["Plains and Eastern Project",37.128750608884395,2290117.5,85.029201522541811,0,86.01031738263849,77.179705854003188,100.28760989050288,178.9273635121329]
["Tennessee Wind",74.685914109289286,2290117.5,171.0395189051803,-86.01031738263849,0,-8.830611528635302,14.277292507864388,92.917046129494423]
["Combined Cycle Gas",70.829949719411786,2290117.5,162.208907376545,-77.179705854003188,8.830611528635302,0,23.10790403649969,101.74765765812973]
["Nuclear ",80.920219776079037,2290117.5,185.31681141304469,-100.28760989050288,-14.277292507864388,-23.10790403649969,0,78.639753621630035]
["Utility-scale Solar",115.25896161863953,2290117.5,263.95656503467472,-178.9273635121329,-92.917046129494423,-101.74765765812973,-78.639753621630035,0]
[]
["Scenario:","PH , CH , GL , OL , TM",null,null,"Annual Savings vs. ($mm)"]
["Outputs","LCOE ($/MWh)","Annual MWh","Annual Cost ($mm)","Plains and Eastern Project","Tennessee Wind","Combined Cycle Gas","Nuclear ","Utility-scale Solar"]
["Plains and Eastern Project",37.128750608884395,2290117.5,85.029201522541811,0,47.839200061178033,77.179705854003188,100.28760989050288,178.9273635121329]
["Tennessee Wind",58.018159148480322,2290117.4999999995,132.86840158371984,-47.839200061178033,0,29.340505792825155,52.448409829324845,131.08816345095488]
["Combined Cycle Gas",70.829949719411786,2290117.5,162.208907376545,-77.179705854003188,-29.340505792825155,0,23.10790403649969,101.74765765812973]
["Nuclear ",80.920219776079037,2290117.5,185.31681141304469,-100.28760989050288,-52.448409829324845,-23.10790403649969,0,78.639753621630035]
["Utility-scale Solar",115.25896161863953,2290117.5,263.95656503467472,-178.9273635121329,-131.08816345095488,-101.74765765812973,-78.639753621630035,0]
[]
["Scenario:","PH , CH , GL , OL , TH",null,null,"Annual Savings vs. ($mm)"]
["Outputs","LCOE ($/MWh)","Annual MWh","Annual Cost ($mm)","Plains and Eastern Project","Tennessee Wind","Combined Cycle Gas","Nuclear ","Utility-scale Solar"]
["Plains and Eastern Project",37.128750608884395,2290117.5,85.029201522541811,0,20.574116260134844,77.179705854003188,100.28760989050288,178.9273635121329]
["Tennessee Wind",46.112619890759603,2290117.5,105.60331778267665,-20.574116260134844,0,56.605589593868345,79.713493630368035,158.35324725199808]
["Combined Cycle Gas",70.829949719411786,2290117.5,162.208907376545,-77.179705854003188,-56.605589593868345,0,23.10790403649969,101.74765765812973]
["Nuclear ",80.920219776079037,2290117.5,185.31681141304469,-100.28760989050288,-79.713493630368035,-23.10790403649969,0,78.639753621630035]
["Utility-scale Solar",115.25896161863953,2290117.5,263.95656503467472,-178.9273635121329,-158.35324725199808,-101.74765765812973,-78.639753621630035,0]
[]
["Scenario:","PH , CH , GL , OM , TL",null,null,"Annual Savings vs. ($mm)"]
["Outputs","LCOE ($/MWh)","Annual MWh","Annual Cost ($mm)","Plains and Eastern Project","Tennessee Wind","Combined Cycle Gas","Nuclear ","Utility-scale Solar"]
["Plains and Eastern Project",34.09792758853991,2427524.5500000003,82.773556325302948,0,99.991336567358488,88.586783489519107,113.66226377253774,197.02040261145243]
["Tennessee Wind",75.288586841546632,2427524.5500000003,182.76489289266144,-99.991336567358488,0,-11.404553077839381,13.670927205179254,97.029066044093923]
["Combined Cycle Gas",70.590569234334637,2427524.5500000003,171.36033981482205,-88.586783489519107,11.404553077839381,0,25.075480283018635,108.4336191219333]
["Nuclear ",80.920219776084522,2427524.5500000003,196.43582009784069,-113.66226377253774,-13.670927205179254,-25.075480283018635,0,83.35813883891467]
["Utility-scale Solar",115.25896161863959,2427524.5500000003,279.79395893675536,-197.02040261145243,-97.029066044093923,-108.4336191219333,-83.35813883891467,0]
[]
["Scenario:","PH , CH , GL , OM , TM",null,null,"Annual Savings vs. ($mm)"]
["Outputs","LCOE ($/MWh)","Annual MWh","Annual Cost ($mm)","Plains and Eastern Project","Tennessee Wind","Combined Cycle Gas","Nuclear ","Utility-scale Solar"]
["Plains and Eastern Project",34.09792758853991,2427524.5500000003,82.773556325302948,0,59.529952206610304,88.586783489519107,113.66226377253774,197.02040261145243]
["Tennessee Wind",58.620831880737626,2427524.5499999998,142.30350853191325,-59.529952206610304,0,29.056831282908803,54.132311565927438,137.49045040484211]
["Combined Cycle Gas",70.590569234334637,2427524.5500000003,171.36033981482205,-88.586783489519107,-29.056831282908803,0,25.075480283018635,108.4336191219333]
["Nuclear ",80.920219776084522,2427524.5500000003,196.43582009784069,-113.66226377253774,-54.132311565927438,-25.075480283018635,0,83.35813883891467]
["Utility-scale Solar",115.25896161863959,2427524.5500000003,279.79395893675536,-197.02040261145243,-137.49045040484211,-108.4336191219333,-83.35813883891467,0]
[]
["Scenario:","PH , CH , GL , OM , TH",null,null,"Annual Savings vs. ($mm)"]
["Outputs","LCOE ($/MWh)","Annual MWh","Annual Cost ($mm)","Plains and Eastern Project","Tennessee Wind","Combined Cycle Gas","Nuclear ","Utility-scale Solar"]
["Plains and Eastern Project",34.09792758853991,2427524.5500000003,82.773556325302948,0,30.628963377504476,88.586783489519107,113.66226377253774,197.02040261145243]
["Tennessee Wind",46.7152926230169,2427524.5500000003,113.40251970280742,-30.628963377504476,0,57.95782011201463,83.033300395033265,166.39143923394795]
["Combined Cycle Gas",70.590569234334637,2427524.5500000003,171.36033981482205,-88.586783489519107,-57.95782011201463,0,25.075480283018635,108.4336191219333]
["Nuclear ",80.920219776084522,2427524.5500000003,196.43582009784069,-113.66226377253774,-83.033300395033265,-25.075480283018635,0,83.35813883891467]
["Utility-scale Solar",115.25896161863959,2427524.5500000003,279.79395893675536,-197.02040261145243,-166.39143923394795,-108.4336191219333,-83.35813883891467,0]
[]
["Scenario:","PH , CH , GL , OH , TL",null,null,"Annual Savings vs. ($mm)"]
["Outputs","LCOE ($/MWh)","Annual MWh","Annual Cost ($mm)","Plains and Eastern Project","Tennessee Wind","Combined Cycle Gas","Nuclear ","Utility-scale Solar"]
["Plains and Eastern Project",31.391835606089469,2564931.6,80.517911128064043,0,113.97235575207833,100.54207056311179,127.03691765449321,215.11344171077167]
["Tennessee Wind",75.82668749534777,2564931.6,194.49026688014237,-113.97235575207833,0,-13.430285188966536,13.06456190241488,101.14108595869334]
["Combined Cycle Gas",70.590569234351449,2564931.6,181.05998169117584,-100.54207056311179,13.430285188966536,0,26.494847091381416,114.57137114765987]
["Nuclear ",80.920219776058445,2564931.6,207.55482878255725,-127.03691765449321,-13.06456190241488,-26.494847091381416,0,88.076524056278458]
["Utility-scale Solar",115.25896161863955,2564931.6,295.63135283883571,-215.11344171077167,-101.14108595869334,-114.57137114765987,-88.076524056278458,0]
[]
["Scenario:","PH , CH , GL , OH , TM",null,null,"Annual Savings vs. ($mm)"]
["Outputs","LCOE ($/MWh)","Annual MWh","Annual Cost ($mm)","Plains and Eastern Project","Tennessee Wind","Combined Cycle Gas","Nuclear ","Utility-scale Solar"]
["Plains and Eastern Project",31.391835606089469,2564931.6,80.517911128064043,0,71.220704352042617,100.54207056311179,127.03691765449321,215.11344171077167]
["Tennessee Wind",59.158932534538806,2564931.5999999996,151.73861548010666,-71.220704352042617,0,29.321366211069176,55.816213302450592,143.89273735872905]
["Combined Cycle Gas",70.590569234351449,2564931.6,181.05998169117584,-100.54207056311179,-29.321366211069176,0,26.494847091381416,114.57137114765987]
["Nuclear ",80.920219776058445,2564931.6,207.55482878255725,-127.03691765449321,-55.816213302450592,-26.494847091381416,0,88.076524056278458]
["Utility-scale Solar",115.25896161863955,2564931.6,295.63135283883571,-215.11344171077167,-143.89273735872905,-114.57137114765987,-88.076524056278458,0]
[]
["Scenario:","PH , CH , GL , OH , TH",null,null,"Annual Savings vs. ($mm)"]
["Outputs","LCOE ($/MWh)","Annual MWh","Annual Cost ($mm)","Plains and Eastern Project","Tennessee Wind","Combined Cycle Gas","Nuclear ","Utility-scale Solar"]
["Plains and Eastern Project",31.391835606089469,2564931.6,80.517911128064043,0,40.683810494874137,100.54207056311179,127.03691765449321,215.11344171077167]
["Tennessee Wind",47.253393276818059,2564931.6,121.20172162293818,-40.683810494874137,0,59.858260068237655,86.353107159619071,174.42963121589753]
["Combined Cycle Gas",70.590569234351449,2564931.6,181.05998169117584,-100.54207056311179,-59.858260068237655,0,26.494847091381416,114.57137114765987]
["Nuclear ",80.920219776058445,2564931.6,207.55482878255725,-127.03691765449321,-86.353107159619071,-26.494847091381416,0,88.076524056278458]
["Utility-scale Solar",115.25896161863955,2564931.6,295.63135283883571,-215.11344171077167,-174.42963121589753,-114.57137114765987,-88.076524056278458,0]
[]
["Scenario:","PH , CH , GM , OL , TL",null,null,"Annual Savings vs. ($mm)"]
["Outputs","LCOE ($/MWh)","Annual MWh","Annual Cost ($mm)","Plains and Eastern Project","Tennessee Wind","Combined Cycle Gas","Nuclear ","Utility-scale Solar"]
["Plains and Eastern Project",37.128750608884395,2290117.5,85.029201522541811,0,86.01031738263849,99.625012674556487,100.28760989050288,178.9273635121329]
["Tennessee Wind",74.685914109289286,2290117.5,171.0395189051803,-86.01031738263849,0,13.614695291917997,14.277292507864388,92.917046129494423]
["Combined Cycle Gas",80.630890859136386,2290117.5,184.6542141970983,-99.625012674556487,-13.614695291917997,0,0.66259721594639132,79.302350837576427]
["Nuclear ",80.920219776079037,2290117.5,185.31681141304469,-100.28760989050288,-14.277292507864388,-0.66259721594639132,0,78.639753621630035]
["Utility-scale Solar",115.25896161863953,2290117.5,263.95656503467472,-178.9273635121329,-92.917046129494423,-79.302350837576427,-78.639753621630035,0]
[]
["Scenario:","PH , CH , GM , OL , TM",null,null,"Annual Savings vs. ($mm)"]
["Outputs","LCOE ($/MWh)","Annual MWh","Annual Cost ($mm)","Plains and Eastern Project","Tennessee Wind","Combined Cycle Gas","Nuclear ","Utility-scale Solar"]
["Plains and Eastern Project",37.128750608884395,2290117.5,85.029201522541811,0,47.839200061178033,99.625012674556487,100.28760989050288,178.9273635121329]
["Tennessee Wind",58.018159148480322,2290117.4999999995,132.86840158371984,-47.839200061178033,0,51.785812613378454,52.448409829324845,131.08816345095488]
["Combined Cycle Gas",80.630890859136386,2290117.5,184.6542141970983,-99.625012674556487,-51.785812613378454,0,0.66259721594639132,79.302350837576427]
["Nuclear ",80.920219776079037,2290117.5,185.31681141304469,-100.28760989050288,-52.448409829324845,-0.66259721594639132,0,78.639753621630035]
["Utility-scale Solar",115.25896161863953,2290117.5,263.95656503467472,-178.9273635121329,-131.08816345095488,-79.302350837576427,-78.639753621630035,0]
[]
["Scenario:","PH , CH , GM , OL , TH",null,null,"Annual Savings vs. ($mm)"]
["Outputs","LCOE ($/MWh)","Annual MWh","Annual Cost ($mm)","Plains and Eastern Project","Tennessee Wind","Combined Cycle Gas","Nuclear ","Utility-scale Solar"]
["Plains and Eastern Project",37.128750608884395,2290117.5,85.029201522541811,0,20.574116260134844,99.625012674556487,100.28760989050288,178.9273635121329]
["Tennessee Wind",46.112619890759603,2290117.5,105.60331778267665,-20.574116260134844,0,79.050896414421643,79.713493630368035,158.35324725199808]
["Combined Cycle Gas",80.630890859136386,2290117.5,184.6542141970983,-99.625012674556487,-79.050896414421643,0,0.66259721594639132,79.302350837576427]
["Nuclear ",80.920219776079037,2290117.5,185.31681141304469,-100.28760989050288,-79.713493630368035,-0.66259721594639132,0,78.639753621630035]
["Utility-scale Solar",115.25896161863953,2290117.5,263.95656503467472,-178.9273635121329,-158.35324725199808,-79.302350837576427,-78.639753621630035,0]
[]
["Scenario:","PH , CH , GM , OM , TL",null,null,"Annual Savings vs. ($mm)"]
["Outputs","LCOE ($/MWh)","Annual MWh","Annual Cost ($mm)","Plains and Eastern Project","Tennessee Wind","Combined Cycle Gas","Nuclear ","Utility-scale Solar"]
["Plains and Eastern Project",34.09792758853991,2427524.5500000003,82.773556325302948,0,99.991336567358488,112.3788087193024,113.66226377253774,197.02040261145243]
["Tennessee Wind",75.288586841546632,2427524.5500000003,182.76489289266144,-99.991336567358488,0,12.387472151943911,13.670927205179254,97.029066044093923]
["Combined Cycle Gas",80.39151037405793,2427524.5500000003,195.15236504460535,-112.3788087193024,-12.387472151943911,0,1.2834550532353433,84.641593892150013]
["Nuclear ",80.920219776084522,2427524.5500000003,196.43582009784069,-113.66226377253774,-13.670927205179254,-1.2834550532353433,0,83.35813883891467]
["Utility-scale Solar",115.25896161863959,2427524.5500000003,279.79395893675536,-197.02040261145243,-97.029066044093923,-84.641593892150013,-83.35813883891467,0]
[]
["Scenario:","PH , CH , GM , OM , TM",null,null,"Annual Savings vs. ($mm)"]
["Outputs","LCOE ($/MWh)","Annual MWh","Annual Cost ($mm)","Plains and Eastern Project","Tennessee Wind","Combined Cycle Gas","Nuclear ","Utility-scale Solar"]
["Plains and Eastern Project",34.09792758853991,2427524.5500000003,82.773556325302948,0,59.529952206610304,112.3788087193024,113.66226377253774,197.02040261145243]
["Tennessee Wind",58.620831880737626,2427524.5499999998,142.30350853191325,-59.529952206610304,0,52.848856512692095,54.132311565927438,137.49045040484211]
["Combined Cycle Gas",80.39151037405793,2427524.5500000003,195.15236504460535,-112.3788087193024,-52.848856512692095,0,1.2834550532353433,84.641593892150013]
["Nuclear ",80.920219776084522,2427524.5500000003,196.43582009784069,-113.66226377253774,-54.132311565927438,-1.2834550532353433,0,83.35813883891467]
["Utility-scale Solar",115.25896161863959,2427524.5500000003,279.79395893675536,-197.02040261145243,-137.49045040484211,-84.641593892150013,-83.35813883891467,0]
[]
["Scenario:","PH , CH , GM , OM , TH",null,null,"Annual Savings vs. ($mm)"]
["Outputs","LCOE ($/MWh)","Annual MWh","Annual Cost ($mm)","Plains and Eastern Project","Tennessee Wind","Combined Cycle Gas","Nuclear ","Utility-scale Solar"]
["Plains and Eastern Project",34.09792758853991,2427524.5500000003,82.773556325302948,0,30.628963377504476,112.3788087193024,113.66226377253774,197.02040261145243]
["Tennessee Wind",46.7152926230169,2427524.5500000003,113.40251970280742,-30.628963377504476,0,81.749845341797922,83.033300395033265,166.39143923394795]
["Combined Cycle Gas",80.39151037405793,2427524.5500000003,195.15236504460535,-112.3788087193024,-81.749845341797922,0,1.2834550532353433,84.641593892150013]
["Nuclear ",80.920219776084522,2427524.5500000003,196.43582009784069,-113.66226377253774,-83.033300395033265,-1.2834550532353433,0,83.35813883891467]
["Utility-scale Solar",115.25896161863959,2427524.5500000003,279.79395893675536,-197.02040261145243,-166.39143923394795,-84.641593892150013,-83.35813883891467,0]
[]
["Scenario:","PH , CH , GM , OH , TL",null,null,"Annual Savings vs. ($mm)"]
["Outputs","LCOE ($/MWh)","Annual MWh","Annual Cost ($mm)","Plains and Eastern Project","Tennessee Wind","Combined Cycle Gas","Nuclear ","Utility-scale Solar"]
["Plains and Eastern Project",31.391835606089469,2564931.6,80.517911128064043,0,113.97235575207833,125.680814202134,127.03691765449321,215.11344171077167]
["Tennessee Wind",75.82668749534777,2564931.6,194.49026688014237,-113.97235575207833,0,11.708458450055673,13.06456190241488,101.14108595869334]
["Combined Cycle Gas",80.391510374077043,2564931.6,206.19872533019804,-125.680814202134,-11.708458450055673,0,1.356103452359207,89.432627508637665]
["Nuclear ",80.920219776058445,2564931.6,207.55482878255725,-127.03691765449321,-13.06456190241488,-1.356103452359207,0,88.076524056278458]
["Utility-scale Solar",115.25896161863955,2564931.6,295.63135283883571,-215.11344171077167,-101.14108595869334,-89.432627508637665,-88.076524056278458,0]
[]
["Scenario:","PH , CH , GM , OH , TM",null,null,"Annual Savings vs. ($mm)"]
["Outputs","LCOE ($/MWh)","Annual MWh","Annual Cost ($mm)","Plains and Eastern Project","Tennessee Wind","Combined Cycle Gas","Nuclear ","Utility-scale Solar"]
["Plains and Eastern Project",31.391835606089469,2564931.6,80.517911128064043,0,71.220704352042617,125.680814202134,127.03691765449321,215.11344171077167]
["Tennessee Wind",59.158932534538806,2564931.5999999996,151.73861548010666,-71.220704352042617,0,54.460109850091385,55.816213302450592,143.89273735872905]
["Combined Cycle Gas",80.391510374077043,2564931.6,206.19872533019804,-125.680814202134,-54.460109850091385,0,1.356103452359207,89.432627508637665]
["Nuclear ",80.920219776058445,2564931.6,207.55482878255725,-127.03691765449321,-55.816213302450592,-1.356103452359207,0,88.076524056278458]
["Utility-scale Solar",115.25896161863955,2564931.6,295.63135283883571,-215.11344171077167,-143.89273735872905,-89.432627508637665,-88.076524056278458,0]
[]
["Scenario:","PH , CH , GM , OH , TH",null,null,"Annual Savings vs. ($mm)"]
["Outputs","LCOE ($/MWh)","Annual MWh","Annual Cost ($mm)","Plains and Eastern Project","Tennessee Wind","Combined Cycle Gas","Nuclear ","Utility-scale Solar"]
["Plains and Eastern Project",31.391835606089469,2564931.6,80.517911128064043,0,40.683810494874137,125.680814202134,127.03691765449321,215.11344171077167]
["Tennessee Wind",47.253393276818059,2564931.6,121.20172162293818,-40.683810494874137,0,84.997003707259864,86.353107159619071,174.42963121589753]
["Combined Cycle Gas",80.391510374077043,2564931.6,206.19872533019804,-125.680814202134,-84.997003707259864,0,1.356103452359207,89.432627508637665]
["Nuclear ",80.920219776058445,2564931.6,207.55482878255725,-127.03691765449321,-86.353107159619071,-1.356103452359207,0,88.076524056278458]
["Utility-scale Solar",115.25896161863955,2564931.6,295.63135283883571,-215.11344171077167,-174.42963121589753,-89.432627508637665,-88.076524056278458,0]
[]
["Scenario:","PH , CH , GH , OL , TL",null,null,"Annual Savings vs. ($mm)"]
["Outputs","LCOE ($/MWh)","Annual MWh","Annual Cost ($mm)","Plains and Eastern Project","Tennessee Wind","Combined Cycle Gas","Nuclear ","Utility-scale Solar"]
["Plains and Eastern Project",37.128750608884395,2290117.5,85.029201522541811,0,86.01031738263849,122.07031949510956,100.28760989050288,178.9273635121329]
["Tennessee Wind",74.685914109289286,2290117.5,171.0395189051803,-86.01031738263849,0,36.060002112471068,14.277292507864388,92.917046129494423]
["Combined Cycle Gas",90.431831998860929,2290117.5,207.09952101765137,-122.07031949510956,-36.060002112471068,0,-21.78270960460668,56.857044017023355]
["Nuclear ",80.920219776079037,2290117.5,185.31681141304469,-100.28760989050288,-14.277292507864388,21.78270960460668,0,78.639753621630035]
["Utility-scale Solar",115.25896161863953,2290117.5,263.95656503467472,-178.9273635121329,-92.917046129494423,-56.857044017023355,-78.639753621630035,0]
[]
["Scenario:","PH , CH , GH , OL , TM",null,null,"Annual Savings vs. ($mm)"]
["Outputs","LCOE ($/MWh)","Annual MWh","Annual Cost ($mm)","Plains and Eastern Project","Tennessee Wind","Combined Cycle Gas","Nuclear ","Utility-scale Solar"]
["Plains and Eastern Project",37.128750608884395,2290117.5,85.029201522541811,0,47.839200061178033,122.07031949510956,100.28760989050288,178.9273635121329]
["Tennessee Wind",58.018159148480322,2290117.4999999995,132.86840158371984,-47.839200061178033,0,74.231119433931525,52.448409829324845,131.08816345095488]
["Combined Cycle Gas",90.431831998860929,2290117.5,207.09952101765137,-122.07031949510956,-74.231119433931525,0,-21.78270960460668,56.857044017023355]
["Nuclear ",80.920219776079037,2290117.5,185.31681141304469,-100.28760989050288,-52.448409829324845,21.78270960460668,0,78.639753621630035]
["Utility-scale Solar",115.25896161863953,2290117.5,263.95656503467472,-178.9273635121329,-131.08816345095488,-56.857044017023355,-78.639753621630035,0]
[]
["Scenario:","PH , CH , GH , OL , TH",null,null,"Annual Savings vs. ($mm)"]
["Outputs","LCOE ($/MWh)","Annual MWh","Annual Cost ($mm)","Plains and Eastern Project","Tennessee Wind","Combined Cycle Gas","Nuclear ","Utility-scale Solar"]
["Plains and Eastern Project",37.128750608884395,2290117.5,85.029201522541811,0,20.574116260134844,122.07031949510956,100.28760989050288,178.9273635121329]
["Tennessee Wind",46.112619890759603,2290117.5,105.60331778267665,-20.574116260134844,0,101.49620323497471,79.713493630368035,158.35324725199808]
["Combined Cycle Gas",90.431831998860929,2290117.5,207.09952101765137,-122.07031949510956,-101.49620323497471,0,-21.78270960460668,56.857044017023355]
["Nuclear ",80.920219776079037,2290117.5,185.31681141304469,-100.28760989050288,-79.713493630368035,21.78270960460668,0,78.639753621630035]
["Utility-scale Solar",115.25896161863953,2290117.5,263.95656503467472,-178.9273635121329,-158.35324725199808,-56.857044017023355,-78.639753621630035,0]
[]
["Scenario:","PH , CH , GH , OM , TL",null,null,"Annual Savings vs. ($mm)"]
["Outputs","LCOE ($/MWh)","Annual MWh","Annual Cost ($mm)","Plains and Eastern Project","Tennessee Wind","Combined Cycle Gas","Nuclear ","Utility-scale Solar"]
["Plains and Eastern Project",34.09792758853991,2427524.5500000003,82.773556325302948,0,99.991336567358488,136.17083394908548,113.66226377253774,197.02040261145243]
["Tennessee Wind",75.288586841546632,2427524.5500000003,182.76489289266144,-99.991336567358488,0,36.179497381726975,13.670927205179254,97.029066044093923]
["Combined Cycle Gas",90.192451513781137,2427524.5500000003,218.94439027438841,-136.17083394908548,-36.179497381726975,0,-22.508570176547721,60.849568662366949]
["Nuclear ",80.920219776084522,2427524.5500000003,196.43582009784069,-113.66226377253774,-13.670927205179254,22.508570176547721,0,83.35813883891467]
["Utility-scale Solar",115.25896161863959,2427524.5500000003,279.79395893675536,-197.02040261145243,-97.029066044093923,-60.849568662366949,-83.35813883891467,0]
[]
["Scenario:","PH , CH , GH , OM , TM",null,null,"Annual Savings vs. ($mm)"]
["Outputs","LCOE ($/MWh)","Annual MWh","Annual Cost ($mm)","Plains and Eastern Project","Tennessee Wind","Combined Cycle Gas","Nuclear ","Utility-scale Solar"]
["Plains and Eastern Project",34.09792758853991,2427524.5500000003,82.773556325302948,0,59.529952206610304,136.17083394908548,113.66226377253774,197.02040261145243]
["Tennessee Wind",58.620831880737626,2427524.5499999998,142.30350853191325,-59.529952206610304,0,76.640881742475159,54.132311565927438,137.49045040484211]
["Combined Cycle Gas",90.192451513781137,2427524.5500000003,218.94439027438841,-136.17083394908548,-76.640881742475159,0,-22.508570176547721,60.849568662366949]
["Nuclear ",80.920219776084522,2427524.5500000003,196.43582009784069,-113.66226377253774,-54.132311565927438,22.508570176547721,0,83.35813883891467]
["Utility-scale Solar",115.25896161863959,2427524.5500000003,279.79395893675536,-197.02040261145243,-137.49045040484211,-60.849568662366949,-83.35813883891467,0]
[]
["Scenario:","PH , CH , GH , OM , TH",null,null,"Annual Savings vs. ($mm)"]
["Outputs","LCOE ($/MWh)","Annual MWh","Annual Cost ($mm)","Plains and Eastern Project","Tennessee Wind","Combined Cycle Gas","Nuclear ","Utility-scale Solar"]
["Plains and Eastern Project",34.09792758853991,2427524.5500000003,82.773556325302948,0,30.628963377504476,136.17083394908548,113.66226377253774,197.02040261145243]
["Tennessee Wind",46.7152926230169,2427524.5500000003,113.40251970280742,-30.628963377504476,0,105.54187057158099,83.033300395033265,166.39143923394795]
["Combined Cycle Gas",90.192451513781137,2427524.5500000003,218.94439027438841,-136.17083394908548,-105.54187057158099,0,-22.508570176547721,60.849568662366949]
["Nuclear ",80.920219776084522,2427524.5500000003,196.43582009784069,-113.66226377253774,-83.033300395033265,22.508570176547721,0,83.35813883891467]
["Utility-scale Solar",115.25896161863959,2427524.5500000003,279.79395893675536,-197.02040261145243,-166.39143923394795,-60.849568662366949,-83.35813883891467,0]
[]
["Scenario:","PH , CH , GH , OH , TL",null,null,"Annual Savings vs. ($mm)"]
["Outputs","LCOE ($/MWh)","Annual MWh","Annual Cost ($mm)","Plains and Eastern Project","Tennessee Wind","Combined Cycle Gas","Nuclear ","Utility-scale Solar"]
["Plains and Eastern Project",31.391835606089469,2564931.6,80.517911128064043,0,113.97235575207833,150.81955784115615,127.03691765449321,215.11344171077167]
["Tennessee Wind",75.82668749534777,2564931.6,194.49026688014237,-113.97235575207833,0,36.847202089077825,13.06456190241488,101.14108595869334]
["Combined Cycle Gas",90.192451513802624,2564931.6,231.3374689692202,-150.81955784115615,-36.847202089077825,0,-23.782640186662945,64.293883869615513]
["Nuclear ",80.920219776058445,2564931.6,207.55482878255725,-127.03691765449321,-13.06456190241488,23.782640186662945,0,88.076524056278458]
["Utility-scale Solar",115.25896161863955,2564931.6,295.63135283883571,-215.11344171077167,-101.14108595869334,-64.293883869615513,-88.076524056278458,0]
[]
["Scenario:","PH , CH , GH , OH , TM",null,null,"Annual Savings vs. ($mm)"]
["Outputs","LCOE ($/MWh)","Annual MWh","Annual Cost ($mm)","Plains and Eastern Project","Tennessee Wind","Combined Cycle Gas","Nuclear ","Utility-scale Solar"]
["Plains and Eastern Project",31.391835606089469,2564931.6,80.517911128064043,0,71.220704352042617,150.81955784115615,127.03691765449321,215.11344171077167]
["Tennessee Wind",59.158932534538806,2564931.5999999996,151.73861548010666,-71.220704352042617,0,79.598853489113537,55.816213302450592,143.89273735872905]
["Combined Cycle Gas",90.192451513802624,2564931.6,231.3374689692202,-150.81955784115615,-79.598853489113537,0,-23.782640186662945,64.293883869615513]
["Nuclear ",80.920219776058445,2564931.6,207.55482878255725,-127.03691765449321,-55.816213302450592,23.782640186662945,0,88.076524056278458]
["Utility-scale Solar",115.25896161863955,2564931.6,295.63135283883571,-215.11344171077167,-143.89273735872905,-64.293883869615513,-88.076524056278458,0]
[]
["Scenario:","PH , CH , GH , OH , TH",null,null,"Annual Savings vs. ($mm)"]
["Outputs","LCOE ($/MWh)","Annual MWh","Annual Cost ($mm)","Plains and Eastern Project","Tennessee Wind","Combined Cycle Gas","Nuclear ","Utility-scale Solar"]
["Plains and Eastern Project",31.391835606089469,2564931.6,80.517911128064043,0,40.683810494874137,150.81955784115615,127.03691765449321,215.11344171077167]
["Tennessee Wind",47.253393276818059,2564931.6,121.20172162293818,-40.683810494874137,0,110.13574734628202,86.353107159619071,174.42963121589753]
["Combined Cycle Gas",90.192451513802624,2564931.6,231.3374689692202,-150.81955784115615,-110.13574734628202,0,-23.782640186662945,64.293883869615513]
["Nuclear ",80.920219776058445,2564931.6,207.55482878255725,-127.03691765449321,-86.353107159619071,23.782640186662945,0,88.076524056278458]
["Utility-scale Solar",115.25896161863955,2564931.6,295.63135283883571,-215.11344171077167,-174.42963121589753,-64.293883869615513,-88.076524056278458,0]

{"sheet":"All Scenarios LCOE wo CapVal","index":2,"n_rows":163,"n_cols":23,"rows_kept":163,"cut":false,"hidden":false,"merged":[]}
["Scenario","PTC Value","Carbon Dioxide","Natural Gas","OK Wind CF","TN Wind CF","Plains & Eastern Project","Tennessee Project","Combined Cycle Gas","Nuclear","Utility-scale Solar","OK Wind < ?","Tennessee Wind","Combined Cycle Gas","Nuclear","Utility-scale Solar","ALL","OK Wind <","TN Wind","Gas","Nuclear","Solar","ALL"]
[1,0,0,0,0,0,77.978115354601002,111.1994771572307,61.398835410540826,98.184034493432918,142.51698015755591,null,{"$f":"($G2<H2)","v":true},{"$f":"($G2<I2)","v":false},{"$f":"($G2<J2)","v":true},{"$f":"($G2<K2)","v":true},{"$f":"AND(($G2<H2),($G2<I2),($G2<J2),($G2<K2))","v":false},null,{"$f":"COUNTIF(M2:M163,\"TRUE\")/COUNTA(M2:M163)","v":1},{"$f":"COUNTIF(N2:N163,\"TRUE\")/COUNTA(N2:N163)","v":0.90740740740740744},{"$f":"COUNTIF(O2:O163,\"TRUE\")/COUNTA(O2:O163)","v":1},{"$f":"COUNTIF(P2:P163,\"TRUE\")/COUNTA(P2:P163)","v":1},{"$f":"COUNTIF(Q2:Q163,\"TRUE\")/COUNTA(Q2:Q163)","v":0.90740740740740744}]
[2,0,0,0,0,1,77.978115354601002,94.53172219642174,61.398835410540826,98.184034493432918,142.51698015755591,null,{"$f":"($G3<H3)","v":true},false,true,true,{"$f":"AND(($G3<H3),($G3<I3),($G3<J3),($G3<K3))","v":false}]
[3,0,0,0,0,2,77.978115354601002,82.626182938700978,61.398835410540826,98.184034493432918,142.51698015755591,null,true,false,true,true,false]
[4,0,0,0,1,0,74.273055250629469,111.19947715723073,61.398835410532577,98.184034493439555,142.51698015755591,null,true,false,true,true,false]
[5,0,0,0,1,1,74.273055250629469,94.531722196421711,61.398835410532577,98.184034493439555,142.51698015755591,null,true,false,true,true,false,"for PTC=0",{"$f":"COUNTIF(M2:M81,\"TRUE\")/COUNTA(M2:M81)","v":1},{"$f":"COUNTIF(N2:N81,\"TRUE\")/COUNTA(N2:N81)","v":0.8125},1,1]
[6,0,0,0,1,2,74.273055250629469,82.626182938700993,61.398835410532577,98.184034493439555,142.51698015755591,null,true,false,true,true,false,"for PTC=1",{"$f":"COUNTIF(M82:M163,\"TRUE\")/COUNTA(M82:M163)","v":1},{"$f":"COUNTIF(N82:N163,\"TRUE\")/COUNTA(N82:N163)","v":1},1,1]
[7,0,0,0,2,0,70.964965872083454,111.1994771572307,61.398835410547207,98.184034493407921,142.51698015755596,null,true,false,true,true,false]
[8,0,0,0,2,1,70.964965872083454,94.531722196421697,61.398835410547207,98.184034493407921,142.51698015755596,null,true,false,true,true,false]
[9,0,0,0,2,2,70.964965872083454,82.626182938700936,61.398835410547207,98.184034493407921,142.51698015755596,null,true,false,true,true,false]
[10,0,0,1,0,0,77.978115354601002,111.1994771572307,71.199776550265398,98.184034493432918,142.51698015755591,null,true,false,true,true,false]
[11,0,0,1,0,1,77.978115354601002,94.53172219642174,71.199776550265398,98.184034493432918,142.51698015755591,null,true,false,true,true,false]
[12,0,0,1,0,2,77.978115354601002,82.626182938700978,71.199776550265398,98.184034493432918,142.51698015755591,null,true,false,true,true,false]
[13,0,0,1,1,0,74.273055250629469,111.19947715723073,71.199776550255848,98.184034493439555,142.51698015755591,null,true,false,true,true,false]
[14,0,0,1,1,1,74.273055250629469,94.531722196421711,71.199776550255848,98.184034493439555,142.51698015755591,null,true,false,true,true,false]
[15,0,0,1,1,2,74.273055250629469,82.626182938700993,71.199776550255848,98.184034493439555,142.51698015755591,null,true,false,true,true,false]
[16,0,0,1,2,0,70.964965872083454,111.1994771572307,71.199776550272816,98.184034493407921,142.51698015755596,null,true,true,true,true,true]
[17,0,0,1,2,1,70.964965872083454,94.531722196421697,71.199776550272816,98.184034493407921,142.51698015755596,null,true,true,true,true,true]
[18,0,0,1,2,2,70.964965872083454,82.626182938700936,71.199776550272816,98.184034493407921,142.51698015755596,null,true,true,true,true,true]
[19,0,0,2,0,0,77.978115354601002,111.1994771572307,81.000717689989983,98.184034493432918,142.51698015755591,null,true,true,true,true,true]
[20,0,0,2,0,1,77.978115354601002,94.53172219642174,81.000717689989983,98.184034493432918,142.51698015755591,null,true,true,true,true,true]
[21,0,0,2,0,2,77.978115354601002,82.626182938700978,81.000717689989983,98.184034493432918,142.51698015755591,null,true,true,true,true,true]
[22,0,0,2,1,0,74.273055250629469,111.19947715723073,81.000717689979098,98.184034493439555,142.51698015755591,null,true,true,true,true,true]
[23,0,0,2,1,1,74.273055250629469,94.531722196421711,81.000717689979098,98.184034493439555,142.51698015755591,null,true,true,true,true,true]
[24,0,0,2,1,2,74.273055250629469,82.626182938700993,81.000717689979098,98.184034493439555,142.51698015755591,null,true,true,true,true,true]
[25,0,0,2,2,0,70.964965872083454,111.1994771572307,81.00071768999841,98.184034493407921,142.51698015755596,null,true,true,true,true,true]
[26,0,0,2,2,1,70.964965872083454,94.531722196421697,81.00071768999841,98.184034493407921,142.51698015755596,null,true,true,true,true,true]
[27,0,0,2,2,2,70.964965872083454,82.626182938700936,81.00071768999841,98.184034493407921,142.51698015755596,null,true,true,true,true,true]
[28,0,1,0,0,0,77.978115354601002,111.1994771572307,78.002908506313219,98.184034493432918,142.51698015755591,null,true,true,true,true,true]
[29,0,1,0,0,1,77.978115354601002,94.53172219642174,78.002908506313219,98.184034493432918,142.51698015755591,null,true,true,true,true,true]
[30,0,1,0,0,2,77.978115354601002,82.626182938700978,78.002908506313219,98.184034493432918,142.51698015755591,null,true,true,true,true,true]
[31,0,1,0,1,0,74.273055250629469,111.19947715723073,78.002908506302731,98.184034493439555,142.51698015755591,null,true,true,true,true,true]
[32,0,1,0,1,1,74.273055250629469,94.531722196421711,78.002908506302731,98.184034493439555,142.51698015755591,null,true,true,true,true,true]
[33,0,1,0,1,2,74.273055250629469,82.626182938700993,78.002908506302731,98.184034493439555,142.51698015755591,null,true,true,true,true,true]
[34,0,1,0,2,0,70.964965872083454,111.1994771572307,78.00290850632129,98.184034493407921,142.51698015755596,null,{"$f":"($G35<H35)","v":true},true,true,true,true]
[35,0,1,0,2,1,70.964965872083454,94.531722196421697,78.00290850632129,98.184034493407921,142.51698015755596,null,true,true,true,true,true]
[36,0,1,0,2,2,70.964965872083454,82.626182938700936,78.00290850632129,98.184034493407921,142.51698015755596,null,true,true,true,true,true]
[37,0,1,1,0,0,77.978115354601002,111.1994771572307,87.803849646037818,98.184034493432918,142.51698015755591,null,true,true,true,true,true]
[38,0,1,1,0,1,77.978115354601002,94.53172219642174,87.803849646037818,98.184034493432918,142.51698015755591,null,true,true,true,true,true]
[39,0,1,1,0,2,77.978115354601002,82.626182938700978,87.803849646037818,98.184034493432918,142.51698015755591,null,true,true,true,true,true]
[40,0,1,1,1,0,74.273055250629469,111.19947715723073,87.803849646026009,98.184034493439555,142.51698015755591,null,true,true,true,true,true]
[41,0,1,1,1,1,74.273055250629469,94.531722196421711,87.803849646026009,98.184034493439555,142.51698015755591,null,true,true,true,true,true]
[42,0,1,1,1,2,74.273055250629469,82.626182938700993,87.803849646026009,98.184034493439555,142.51698015755591,null,true,true,true,true,true]
[43,0,1,1,2,0,70.964965872083454,111.1994771572307,87.803849646046913,98.184034493407921,142.51698015755596,null,true,true,true,true,true]
[44,0,1,1,2,1,70.964965872083454,94.531722196421697,87.803849646046913,98.184034493407921,142.51698015755596,null,true,true,true,true,true]
[45,0,1,1,2,2,70.964965872083454,82.626182938700936,87.803849646046913,98.184034493407921,142.51698015755596,null,true,true,true,true,true]
[46,0,1,2,0,0,77.978115354601002,111.1994771572307,97.604790785762347,98.184034493432918,142.51698015755591,null,true,true,true,true,true]
[47,0,1,2,0,1,77.978115354601002,94.53172219642174,97.604790785762347,98.184034493432918,142.51698015755591,null,true,true,true,true,true]
[48,0,1,2,0,2,77.978115354601002,82.626182938700978,97.604790785762347,98.184034493432918,142.51698015755591,null,true,true,true,true,true]
[49,0,1,2,1,0,74.273055250629469,111.19947715723073,97.604790785749231,98.184034493439555,142.51698015755591,null,true,true,true,true,true]
[50,0,1,2,1,1,74.273055250629469,94.531722196421711,97.604790785749231,98.184034493439555,142.51698015755591,null,true,true,true,true,true]
[51,0,1,2,1,2,74.273055250629469,82.626182938700993,97.604790785749231,98.184034493439555,142.51698015755591,null,true,true,true,true,true]
[52,0,1,2,2,0,70.964965872083454,111.1994771572307,97.604790785772508,98.184034493407921,142.51698015755596,null,true,true,true,true,true]
[53,0,1,2,2,1,70.964965872083454,94.531722196421697,97.604790785772508,98.184034493407921,142.51698015755596,null,true,true,true,true,true]
[54,0,1,2,2,2,70.964965872083454,82.626182938700936,97.604790785772508,98.184034493407921,142.51698015755596,null,true,true,true,true,true]
[55,0,2,0,0,0,77.978115354601002,111.1994771572307,86.807286620570068,98.184034493432918,142.51698015755591,null,true,true,true,true,true]
[56,0,2,0,0,1,77.978115354601002,94.53172219642174,86.807286620570068,98.184034493432918,142.51698015755591,null,true,true,true,true,true]
[57,0,2,0,0,2,77.978115354601002,82.626182938700978,86.807286620570068,98.184034493432918,142.51698015755591,null,true,true,true,true,true]
[58,0,2,0,1,0,74.273055250629469,111.19947715723073,86.807286620558401,98.184034493439555,142.51698015755591,null,true,true,true,true,true]
[59,0,2,0,1,1,74.273055250629469,94.531722196421711,86.807286620558401,98.184034493439555,142.51698015755591,null,true,true,true,true,true]
[60,0,2,0,1,2,74.273055250629469,82.626182938700993,86.807286620558401,98.184034493439555,142.51698015755591,null,true,true,true,true,true]
[61,0,2,0,2,0,70.964965872083454,111.1994771572307,86.807286620579077,98.184034493407921,142.51698015755596,null,true,true,true,true,true]
[62,0,2,0,2,1,70.964965872083454,94.531722196421697,86.807286620579077,98.184034493407921,142.51698015755596,null,true,true,true,true,true]
[63,0,2,0,2,2,70.964965872083454,82.626182938700936,86.807286620579077,98.184034493407921,142.51698015755596,null,true,true,true,true,true]
[64,0,2,1,0,0,77.978115354601002,111.1994771572307,96.608227760294682,98.184034493432918,142.51698015755591,null,true,true,true,true,true]
[65,0,2,1,0,1,77.978115354601002,94.53172219642174,96.608227760294682,98.184034493432918,142.51698015755591,null,true,true,true,true,true]
[66,0,2,1,0,2,77.978115354601002,82.626182938700978,96.608227760294682,98.184034493432918,142.51698015755591,null,{"$f":"($G67<H67)","v":true},true,true,true,{"$f":"AND(($G67<H67),($G67<I67),($G67<J67),($G67<K67))","v":true}]
[67,0,2,1,1,0,74.273055250629469,111.19947715723073,96.608227760281693,98.184034493439555,142.51698015755591,null,true,true,true,true,true]
[68,0,2,1,1,1,74.273055250629469,94.531722196421711,96.608227760281693,98.184034493439555,142.51698015755591,null,true,true,true,true,true]
[69,0,2,1,1,2,74.273055250629469,82.626182938700993,96.608227760281693,98.184034493439555,142.51698015755591,null,true,true,true,true,true]
[70,0,2,1,2,0,70.964965872083454,111.1994771572307,96.608227760304686,98.184034493407921,142.51698015755596,null,true,true,true,true,true]
[71,0,2,1,2,1,70.964965872083454,94.531722196421697,96.608227760304686,98.184034493407921,142.51698015755596,null,true,true,true,true,true]
[72,0,2,1,2,2,70.964965872083454,82.626182938700936,96.608227760304686,98.184034493407921,142.51698015755596,null,true,true,true,true,true]
[73,0,2,2,0,0,77.978115354601002,111.1994771572307,106.40916890001924,98.184034493432918,142.51698015755591,null,true,true,true,true,true]
[74,0,2,2,0,1,77.978115354601002,94.53172219642174,106.40916890001924,98.184034493432918,142.51698015755591,null,true,true,true,true,true]
[75,0,2,2,0,2,77.978115354601002,82.626182938700978,106.40916890001924,98.184034493432918,142.51698015755591,null,true,true,true,true,true]
[76,0,2,2,1,0,74.273055250629469,111.19947715723073,106.40916890000491,98.184034493439555,142.51698015755591,null,true,true,true,true,true]
[77,0,2,2,1,1,74.273055250629469,94.531722196421711,106.40916890000491,98.184034493439555,142.51698015755591,null,true,true,true,true,true]
[78,0,2,2,1,2,74.273055250629469,82.626182938700993,106.40916890000491,98.184034493439555,142.51698015755591,null,true,true,true,true,true]
[79,0,2,2,2,0,70.964965872083454,111.1994771572307,106.40916890003027,98.184034493407921,142.51698015755596,null,true,true,true,true,true]
[80,0,2,2,2,1,70.964965872083454,94.531722196421697,106.40916890003027,98.184034493407921,142.51698015755596,null,true,true,true,true,true]
[81,0,2,2,2,2,70.964965872083454,82.626182938700936,106.40916890003027,98.184034493407921,142.51698015755596,null,true,true,true,true,true]
[82,1,0,0,0,0,49.040272419628977,85.333132379168447,61.398835410540826,98.184034493432918,142.51698015755591,null,true,true,true,true,true]
[83,1,0,0,0,1,49.040272419628977,68.665377418359483,61.398835410540826,98.184034493432918,142.51698015755591,null,true,true,true,true,true]
[84,1,0,0,0,2,49.040272419628977,56.759838160638765,61.398835410540826,98.184034493432918,142.51698015755591,null,true,true,true,true,true]
[85,1,0,0,1,0,45.335212315657444,85.333132379168489,61.398835410532577,98.184034493439555,142.51698015755591,null,true,true,true,true,true]
[86,1,0,0,1,1,45.335212315657444,68.665377418359483,61.398835410532577,98.184034493439555,142.51698015755591,null,true,true,true,true,true]
[87,1,0,0,1,2,45.335212315657444,56.759838160638765,61.398835410532577,98.184034493439555,142.51698015755591,null,true,true,true,true,true]
[88,1,0,0,2,0,42.027122937111443,85.333132379168461,61.398835410547207,98.184034493407921,142.51698015755596,null,true,true,true,true,true]
[89,1,0,0,2,1,42.027122937111443,68.665377418359498,61.398835410547207,98.184034493407921,142.51698015755596,null,true,true,true,true,true]
[90,1,0,0,2,2,42.027122937111443,56.759838160638743,61.398835410547207,98.184034493407921,142.51698015755596,null,true,true,true,true,true]
[91,1,0,1,0,0,49.040272419628977,85.333132379168447,71.199776550265398,98.184034493432918,142.51698015755591,null,true,true,true,true,true]
[92,1,0,1,0,1,49.040272419628977,68.665377418359483,71.199776550265398,98.184034493432918,142.51698015755591,null,true,true,true,true,true]
[93,1,0,1,0,2,49.040272419628977,56.759838160638765,71.199776550265398,98.184034493432918,142.51698015755591,null,true,true,true,true,true]
[94,1,0,1,1,0,45.335212315657444,85.333132379168489,71.199776550255848,98.184034493439555,142.51698015755591,null,true,true,true,true,true]
[95,1,0,1,1,1,45.335212315657444,68.665377418359483,71.199776550255848,98.184034493439555,142.51698015755591,null,true,true,true,true,true]
[96,1,0,1,1,2,45.335212315657444,56.759838160638765,71.199776550255848,98.184034493439555,142.51698015755591,null,true,true,true,true,true]
[97,1,0,1,2,0,42.027122937111443,85.333132379168461,71.199776550272816,98.184034493407921,142.51698015755596,null,true,true,true,true,true]
[98,1,0,1,2,1,42.027122937111443,68.665377418359498,71.199776550272816,98.184034493407921,142.51698015755596,null,{"$f":"($G99<H99)","v":true},true,true,true,true]
[99,1,0,1,2,2,42.027122937111443,56.759838160638743,71.199776550272816,98.184034493407921,142.51698015755596,null,true,true,true,true,true]
[100,1,0,2,0,0,49.040272419628977,85.333132379168447,81.000717689989983,98.184034493432918,142.51698015755591,null,true,true,true,true,true]
[101,1,0,2,0,1,49.040272419628977,68.665377418359483,81.000717689989983,98.184034493432918,142.51698015755591,null,true,true,true,true,true]
[102,1,0,2,0,2,49.040272419628977,56.759838160638765,81.000717689989983,98.184034493432918,142.51698015755591,null,true,true,true,true,true]
[103,1,0,2,1,0,45.335212315657444,85.333132379168489,81.000717689979098,98.184034493439555,142.51698015755591,null,true,true,true,true,true]
[104,1,0,2,1,1,45.335212315657444,68.665377418359483,81.000717689979098,98.184034493439555,142.51698015755591,null,true,true,true,true,true]
[105,1,0,2,1,2,45.335212315657444,56.759838160638765,81.000717689979098,98.184034493439555,142.51698015755591,null,true,true,true,true,true]
[106,1,0,2,2,0,42.027122937111443,85.333132379168461,81.00071768999841,98.184034493407921,142.51698015755596,null,true,true,true,true,true]
[107,1,0,2,2,1,42.027122937111443,68.665377418359498,81.00071768999841,98.184034493407921,142.51698015755596,null,true,true,true,true,true]
[108,1,0,2,2,2,42.027122937111443,56.759838160638743,81.00071768999841,98.184034493407921,142.51698015755596,null,true,true,true,true,true]
[109,1,1,0,0,0,49.040272419628977,85.333132379168447,78.002908506313219,98.184034493432918,142.51698015755591,null,true,true,true,true,true]
[110,1,1,0,0,1,49.040272419628977,68.665377418359483,78.002908506313219,98.184034493432918,142.51698015755591,null,true,true,true,true,true]
[111,1,1,0,0,2,49.040272419628977,56.759838160638765,78.002908506313219,98.184034493432918,142.51698015755591,null,true,true,true,true,true]
[112,1,1,0,1,0,45.335212315657444,85.333132379168489,78.002908506302731,98.184034493439555,142.51698015755591,null,true,true,true,true,true]
[113,1,1,0,1,1,45.335212315657444,68.665377418359483,78.002908506302731,98.184034493439555,142.51698015755591,null,true,true,true,true,true]
[114,1,1,0,1,2,45.335212315657444,56.759838160638765,78.002908506302731,98.184034493439555,142.51698015755591,null,true,true,true,true,true]
[115,1,1,0,2,0,42.027122937111443,85.333132379168461,78.00290850632129,98.184034493407921,142.51698015755596,null,true,true,true,true,true]
[116,1,1,0,2,1,42.027122937111443,68.665377418359498,78.00290850632129,98.184034493407921,142.51698015755596,null,true,true,true,true,true]
[117,1,1,0,2,2,42.027122937111443,56.759838160638743,78.00290850632129,98.184034493407921,142.51698015755596,null,true,true,true,true,true]
[118,1,1,1,0,0,49.040272419628977,85.333132379168447,87.803849646037818,98.184034493432918,142.51698015755591,null,true,true,true,true,true]
[119,1,1,1,0,1,49.040272419628977,68.665377418359483,87.803849646037818,98.184034493432918,142.51698015755591,null,true,true,true,true,true]
[120,1,1,1,0,2,49.040272419628977,56.759838160638765,87.803849646037818,98.184034493432918,142.51698015755591,null,true,true,true,true,true]
[121,1,1,1,1,0,45.335212315657444,85.333132379168489,87.803849646026009,98.184034493439555,142.51698015755591,null,true,true,true,true,true]
[122,1,1,1,1,1,45.335212315657444,68.665377418359483,87.803849646026009,98.184034493439555,142.51698015755591,null,true,true,true,true,true]
[123,1,1,1,1,2,45.335212315657444,56.759838160638765,87.803849646026009,98.184034493439555,142.51698015755591,null,true,true,true,true,true]
[124,1,1,1,2,0,42.027122937111443,85.333132379168461,87.803849646046913,98.184034493407921,142.51698015755596,null,true,true,true,true,true]
[125,1,1,1,2,1,42.027122937111443,68.665377418359498,87.803849646046913,98.184034493407921,142.51698015755596,null,true,true,true,true,true]
[126,1,1,1,2,2,42.027122937111443,56.759838160638743,87.803849646046913,98.184034493407921,142.51698015755596,null,true,true,true,true,true]
[127,1,1,2,0,0,49.040272419628977,85.333132379168447,97.604790785762347,98.184034493432918,142.51698015755591,null,true,true,true,true,true]
[128,1,1,2,0,1,49.040272419628977,68.665377418359483,97.604790785762347,98.184034493432918,142.51698015755591,null,true,true,true,true,true]
[129,1,1,2,0,2,49.040272419628977,56.759838160638765,97.604790785762347,98.184034493432918,142.51698015755591,null,true,true,true,true,true]
[130,1,1,2,1,0,45.335212315657444,85.333132379168489,97.604790785749231,98.184034493439555,142.51698015755591,null,{"$f":"($G131<H131)","v":true},true,true,true,{"$f":"AND(($G131<H131),($G131<I131),($G131<J131),($G131<K131))","v":true}]
[131,1,1,2,1,1,45.335212315657444,68.665377418359483,97.604790785749231,98.184034493439555,142.51698015755591,null,true,true,true,true,true]
[132,1,1,2,1,2,45.335212315657444,56.759838160638765,97.604790785749231,98.184034493439555,142.51698015755591,null,true,true,true,true,true]
[133,1,1,2,2,0,42.027122937111443,85.333132379168461,97.604790785772508,98.184034493407921,142.51698015755596,null,true,true,true,true,true]
[134,1,1,2,2,1,42.027122937111443,68.665377418359498,97.604790785772508,98.184034493407921,142.51698015755596,null,true,true,true,true,true]
[135,1,1,2,2,2,42.027122937111443,56.759838160638743,97.604790785772508,98.184034493407921,142.51698015755596,null,true,true,true,true,true]
[136,1,2,0,0,0,49.040272419628977,85.333132379168447,86.807286620570068,98.184034493432918,142.51698015755591,null,true,true,true,true,true]
[137,1,2,0,0,1,49.040272419628977,68.665377418359483,86.807286620570068,98.184034493432918,142.51698015755591,null,true,true,true,true,true]
[138,1,2,0,0,2,49.040272419628977,56.759838160638765,86.807286620570068,98.184034493432918,142.51698015755591,null,true,true,true,true,true]
[139,1,2,0,1,0,45.335212315657444,85.333132379168489,86.807286620558401,98.184034493439555,142.51698015755591,null,true,true,true,true,true]
[140,1,2,0,1,1,45.335212315657444,68.665377418359483,86.807286620558401,98.184034493439555,142.51698015755591,null,true,true,true,true,true]
[141,1,2,0,1,2,45.335212315657444,56.759838160638765,86.807286620558401,98.184034493439555,142.51698015755591,null,true,true,true,true,true]
[142,1,2,0,2,0,42.027122937111443,85.333132379168461,86.807286620579077,98.184034493407921,142.51698015755596,null,true,true,true,true,true]
[143,1,2,0,2,1,42.027122937111443,68.665377418359498,86.807286620579077,98.184034493407921,142.51698015755596,null,true,true,true,true,true]
[144,1,2,0,2,2,42.027122937111443,56.759838160638743,86.807286620579077,98.184034493407921,142.51698015755596,null,true,true,true,true,true]
[145,1,2,1,0,0,49.040272419628977,85.333132379168447,96.608227760294682,98.184034493432918,142.51698015755591,null,true,true,true,true,true]
[146,1,2,1,0,1,49.040272419628977,68.665377418359483,96.608227760294682,98.184034493432918,142.51698015755591,null,true,true,true,true,true]
[147,1,2,1,0,2,49.040272419628977,56.759838160638765,96.608227760294682,98.184034493432918,142.51698015755591,null,true,true,true,true,true]
[148,1,2,1,1,0,45.335212315657444,85.333132379168489,96.608227760281693,98.184034493439555,142.51698015755591,null,true,true,true,true,true]
[149,1,2,1,1,1,45.335212315657444,68.665377418359483,96.608227760281693,98.184034493439555,142.51698015755591,null,true,true,true,true,true]
[150,1,2,1,1,2,45.335212315657444,56.759838160638765,96.608227760281693,98.184034493439555,142.51698015755591,null,true,true,true,true,true]
[151,1,2,1,2,0,42.027122937111443,85.333132379168461,96.608227760304686,98.184034493407921,142.51698015755596,null,true,true,true,true,true]
[152,1,2,1,2,1,42.027122937111443,68.665377418359498,96.608227760304686,98.184034493407921,142.51698015755596,null,true,true,true,true,true]
[153,1,2,1,2,2,42.027122937111443,56.759838160638743,96.608227760304686,98.184034493407921,142.51698015755596,null,true,true,true,true,true]
[154,1,2,2,0,0,49.040272419628977,85.333132379168447,106.40916890001924,98.184034493432918,142.51698015755591,null,true,true,true,true,true]
[155,1,2,2,0,1,49.040272419628977,68.665377418359483,106.40916890001924,98.184034493432918,142.51698015755591,null,true,true,true,true,true]
[156,1,2,2,0,2,49.040272419628977,56.759838160638765,106.40916890001924,98.184034493432918,142.51698015755591,null,true,true,true,true,true]
[157,1,2,2,1,0,45.335212315657444,85.333132379168489,106.40916890000491,98.184034493439555,142.51698015755591,null,true,true,true,true,true]
[158,1,2,2,1,1,45.335212315657444,68.665377418359483,106.40916890000491,98.184034493439555,142.51698015755591,null,true,true,true,true,true]
[159,1,2,2,1,2,45.335212315657444,56.759838160638765,106.40916890000491,98.184034493439555,142.51698015755591,null,true,true,true,true,true]
[160,1,2,2,2,0,42.027122937111443,85.333132379168461,106.40916890003027,98.184034493407921,142.51698015755596,null,true,true,true,true,true]
[161,1,2,2,2,1,42.027122937111443,68.665377418359498,106.40916890003027,98.184034493407921,142.51698015755596,null,true,true,true,true,true]
[162,1,2,2,2,2,42.027122937111443,56.759838160638743,106.40916890003027,98.184034493407921,142.51698015755596,null,true,true,true,true,true]

{"sheet":"All Scenarios LCOE Summary","index":3,"n_rows":163,"n_cols":23,"rows_kept":163,"cut":false,"hidden":false,"merged":[]}
["Scenario","PTC Value","Carbon Dioxide","Natural Gas","OK Wind CF","TN Wind CF","Plains & Eastern Project","Tennessee Project","Combined Cycle Gas","Nuclear","Utility-scale Solar","OK Wind < ?","Tennessee Wind","Combined Cycle Gas","Nuclear","Utility-scale Solar","ALL","OK Wind <","TN Wind","Gas","Nuclear","Solar","ALL"]
[1,0,0,0,0,0,66.066593543856428,100.55225888735151,45.421498509382566,80.920219776079037,115.25896161863953,null,{"$f":"($G2<H2)","v":true},{"$f":"($G2<I2)","v":false},{"$f":"($G2<J2)","v":true},{"$f":"($G2<K2)","v":true},{"$f":"AND(($G2<H2),($G2<I2),($G2<J2),($G2<K2))","v":false},null,{"$f":"COUNTIF(M2:M163,\"TRUE\")/COUNTA(M2:M163)","v":1},{"$f":"COUNTIF(N2:N163,\"TRUE\")/COUNTA(N2:N163)","v":0.83333333333333337},{"$f":"COUNTIF(O2:O163,\"TRUE\")/COUNTA(O2:O163)","v":1},{"$f":"COUNTIF(P2:P163,\"TRUE\")/COUNTA(P2:P163)","v":1},{"$f":"COUNTIF(Q2:Q163,\"TRUE\")/COUNTA(Q2:Q163)","v":0.83333333333333337}]
[2,0,0,0,0,1,66.066593543856428,83.884503926542536,45.421498509382566,80.920219776079037,115.25896161863953,null,{"$f":"($G3<H3)","v":true},{"$f":"($G3<I3)","v":false},{"$f":"($G3<J3)","v":true},{"$f":"($G3<K3)","v":true},{"$f":"AND(($G3<H3),($G3<I3),($G3<J3),($G3<K3))","v":false}]
[3,0,0,0,0,2,66.066593543856428,71.978964668821817,45.421498509382566,80.920219776079037,115.25896161863953,null,true,false,true,true,false]
[4,0,0,0,1,0,63.035770523511928,101.15493161960889,45.182118024308814,80.920219776084522,115.25896161863959,null,true,false,true,true,false]
[5,0,0,0,1,1,63.035770523511928,84.487176658799868,45.182118024308814,80.920219776084522,115.25896161863959,null,true,false,true,true,false,"for PTC=0",{"$f":"COUNTIF(M2:M81,\"TRUE\")/COUNTA(M2:M81)","v":1},{"$f":"COUNTIF(N2:N81,\"TRUE\")/COUNTA(N2:N81)","v":0.66249999999999998},1,1]
[6,0,0,0,1,2,63.035770523511928,72.581637401079121,45.182118024308814,80.920219776084522,115.25896161863959,null,true,false,true,true,false,"for PTC=1",{"$f":"COUNTIF(M82:M163,\"TRUE\")/COUNTA(M82:M163)","v":1},{"$f":"COUNTIF(N82:N163,\"TRUE\")/COUNTA(N82:N163)","v":1},1,1]
[7,0,0,0,2,0,60.329678541061483,101.69303227341,45.182118024319593,80.920219776058445,115.25896161863955,null,true,false,true,true,false]
[8,0,0,0,2,1,60.329678541061483,85.02527731260102,45.182118024319593,80.920219776058445,115.25896161863955,null,true,false,true,true,false]
[9,0,0,0,2,2,60.329678541061483,73.119738054880273,45.182118024319593,80.920219776058445,115.25896161863955,null,true,false,true,true,false]
[10,0,0,1,0,0,66.066593543856428,100.55225888735151,55.222439649107116,80.920219776079037,115.25896161863953,null,true,false,true,true,false]
[11,0,0,1,0,1,66.066593543856428,83.884503926542536,55.222439649107116,80.920219776079037,115.25896161863953,null,true,false,true,true,false]
[12,0,0,1,0,2,66.066593543856428,71.978964668821817,55.222439649107116,80.920219776079037,115.25896161863953,null,true,false,true,true,false]
[13,0,0,1,1,0,63.035770523511928,101.15493161960889,54.983059164032085,80.920219776084522,115.25896161863959,null,true,false,true,true,false]
[14,0,0,1,1,1,63.035770523511928,84.487176658799868,54.983059164032085,80.920219776084522,115.25896161863959,null,true,false,true,true,false]
[15,0,0,1,1,2,63.035770523511928,72.581637401079121,54.983059164032085,80.920219776084522,115.25896161863959,null,true,false,true,true,false]
[16,0,0,1,2,0,60.329678541061483,101.69303227341,54.983059164045173,80.920219776058445,115.25896161863955,null,true,false,true,true,false]
[17,0,0,1,2,1,60.329678541061483,85.02527731260102,54.983059164045173,80.920219776058445,115.25896161863955,null,true,false,true,true,false]
[18,0,0,1,2,2,60.329678541061483,73.119738054880273,54.983059164045173,80.920219776058445,115.25896161863955,null,true,false,true,true,false]
[19,0,0,2,0,0,66.066593543856428,100.55225888735151,65.023380788831687,80.920219776079037,115.25896161863953,null,true,false,true,true,false]
[20,0,0,2,0,1,66.066593543856428,83.884503926542536,65.023380788831687,80.920219776079037,115.25896161863953,null,true,false,true,true,false]
[21,0,0,2,0,2,66.066593543856428,71.978964668821817,65.023380788831687,80.920219776079037,115.25896161863953,null,true,false,true,true,false]
[22,0,0,2,1,0,63.035770523511928,101.15493161960889,64.78400030375532,80.920219776084522,115.25896161863959,null,true,true,true,true,true]
[23,0,0,2,1,1,63.035770523511928,84.487176658799868,64.78400030375532,80.920219776084522,115.25896161863959,null,true,true,true,true,true]
[24,0,0,2,1,2,63.035770523511928,72.581637401079121,64.78400030375532,80.920219776084522,115.25896161863959,null,true,true,true,true,true]
[25,0,0,2,2,0,60.329678541061483,101.69303227341,64.784000303770767,80.920219776058445,115.25896161863955,null,true,true,true,true,true]
[26,0,0,2,2,1,60.329678541061483,85.02527731260102,64.784000303770767,80.920219776058445,115.25896161863955,null,true,true,true,true,true]
[27,0,0,2,2,2,60.329678541061483,73.119738054880273,64.784000303770767,80.920219776058445,115.25896161863955,null,true,true,true,true,true]
[28,0,1,0,0,0,66.066593543856428,100.55225888735151,62.02557160515493,80.920219776079037,115.25896161863953,null,true,false,true,true,false]
[29,0,1,0,0,1,66.066593543856428,83.884503926542536,62.02557160515493,80.920219776079037,115.25896161863953,null,true,false,true,true,false]
[30,0,1,0,0,2,66.066593543856428,71.978964668821817,62.02557160515493,80.920219776079037,115.25896161863953,null,true,false,true,true,false]
[31,0,1,0,1,0,63.035770523511928,101.15493161960889,61.786191120078961,80.920219776084522,115.25896161863959,null,true,false,true,true,false]
[32,0,1,0,1,1,63.035770523511928,84.487176658799868,61.786191120078961,80.920219776084522,115.25896161863959,null,true,false,true,true,false]
[33,0,1,0,1,2,63.035770523511928,72.581637401079121,61.786191120078961,80.920219776084522,115.25896161863959,null,true,false,true,true,false]
[34,0,1,0,2,0,60.329678541061483,101.69303227341,61.786191120093662,80.920219776058445,115.25896161863955,null,{"$f":"($G35<H35)","v":true},{"$f":"($G35<I35)","v":true},{"$f":"($G35<J35)","v":true},true,true]
[35,0,1,0,2,1,60.329678541061483,85.02527731260102,61.786191120093662,80.920219776058445,115.25896161863955,null,true,true,true,true,true]
[36,0,1,0,2,2,60.329678541061483,73.119738054880273,61.786191120093662,80.920219776058445,115.25896161863955,null,true,true,true,true,true]
[37,0,1,1,0,0,66.066593543856428,100.55225888735151,71.826512744879523,80.920219776079037,115.25896161863953,null,true,true,true,true,true]
[38,0,1,1,0,1,66.066593543856428,83.884503926542536,71.826512744879523,80.920219776079037,115.25896161863953,null,true,true,true,true,true]
[39,0,1,1,0,2,66.066593543856428,71.978964668821817,71.826512744879523,80.920219776079037,115.25896161863953,null,true,true,true,true,true]
[40,0,1,1,1,0,63.035770523511928,101.15493161960889,71.587132259802246,80.920219776084522,115.25896161863959,null,true,true,true,true,true]
[41,0,1,1,1,1,63.035770523511928,84.487176658799868,71.587132259802246,80.920219776084522,115.25896161863959,null,true,true,true,true,true]
[42,0,1,1,1,2,63.035770523511928,72.581637401079121,71.587132259802246,80.920219776084522,115.25896161863959,null,true,true,true,true,true]
[43,0,1,1,2,0,60.329678541061483,101.69303227341,71.587132259819299,80.920219776058445,115.25896161863955,null,true,true,true,true,true]
[44,0,1,1,2,1,60.329678541061483,85.02527731260102,71.587132259819299,80.920219776058445,115.25896161863955,null,true,true,true,true,true]
[45,0,1,1,2,2,60.329678541061483,73.119738054880273,71.587132259819299,80.920219776058445,115.25896161863955,null,true,true,true,true,true]
[46,0,1,2,0,0,66.066593543856428,100.55225888735151,81.627453884604066,80.920219776079037,115.25896161863953,null,true,true,true,true,true]
[47,0,1,2,0,1,66.066593543856428,83.884503926542536,81.627453884604066,80.920219776079037,115.25896161863953,null,true,true,true,true,true]
[48,0,1,2,0,2,66.066593543856428,71.978964668821817,81.627453884604066,80.920219776079037,115.25896161863953,null,true,true,true,true,true]
[49,0,1,2,1,0,63.035770523511928,101.15493161960889,81.388073399525467,80.920219776084522,115.25896161863959,null,true,true,true,true,true]
[50,0,1,2,1,1,63.035770523511928,84.487176658799868,81.388073399525467,80.920219776084522,115.25896161863959,null,true,true,true,true,true]
[51,0,1,2,1,2,63.035770523511928,72.581637401079121,81.388073399525467,80.920219776084522,115.25896161863959,null,true,true,true,true,true]
[52,0,1,2,2,0,60.329678541061483,101.69303227341,81.388073399544865,80.920219776058445,115.25896161863955,null,true,true,true,true,true]
[53,0,1,2,2,1,60.329678541061483,85.02527731260102,81.388073399544865,80.920219776058445,115.25896161863955,null,true,true,true,true,true]
[54,0,1,2,2,2,60.329678541061483,73.119738054880273,81.388073399544865,80.920219776058445,115.25896161863955,null,true,true,true,true,true]
[55,0,2,0,0,0,66.066593543856428,100.55225888735151,70.829949719411786,80.920219776079037,115.25896161863953,null,true,true,true,true,true]
[56,0,2,0,0,1,66.066593543856428,83.884503926542536,70.829949719411786,80.920219776079037,115.25896161863953,null,true,true,true,true,true]
[57,0,2,0,0,2,66.066593543856428,71.978964668821817,70.829949719411786,80.920219776079037,115.25896161863953,null,true,true,true,true,true]
[58,0,2,0,1,0,63.035770523511928,101.15493161960889,70.590569234334637,80.920219776084522,115.25896161863959,null,true,true,true,true,true]
[59,0,2,0,1,1,63.035770523511928,84.487176658799868,70.590569234334637,80.920219776084522,115.25896161863959,null,true,true,true,true,true]
[60,0,2,0,1,2,63.035770523511928,72.581637401079121,70.590569234334637,80.920219776084522,115.25896161863959,null,true,true,true,true,true]
[61,0,2,0,2,0,60.329678541061483,101.69303227341,70.590569234351449,80.920219776058445,115.25896161863955,null,true,true,true,true,true]
[62,0,2,0,2,1,60.329678541061483,85.02527731260102,70.590569234351449,80.920219776058445,115.25896161863955,null,true,true,true,true,true]
[63,0,2,0,2,2,60.329678541061483,73.119738054880273,70.590569234351449,80.920219776058445,115.25896161863955,null,true,true,true,true,true]
[64,0,2,1,0,0,66.066593543856428,100.55225888735151,80.630890859136386,80.920219776079037,115.25896161863953,null,true,true,true,true,true]
[65,0,2,1,0,1,66.066593543856428,83.884503926542536,80.630890859136386,80.920219776079037,115.25896161863953,null,true,true,true,true,true]
[66,0,2,1,0,2,66.066593543856428,71.978964668821817,80.630890859136386,80.920219776079037,115.25896161863953,null,{"$f":"($G67<H67)","v":true},{"$f":"($G67<I67)","v":true},{"$f":"($G67<J67)","v":true},{"$f":"($G67<K67)","v":true},{"$f":"AND(($G67<H67),($G67<I67),($G67<J67),($G67<K67))","v":true}]
[67,0,2,1,1,0,63.035770523511928,101.15493161960889,80.39151037405793,80.920219776084522,115.25896161863959,null,true,true,true,true,true]
[68,0,2,1,1,1,63.035770523511928,84.487176658799868,80.39151037405793,80.920219776084522,115.25896161863959,null,true,true,true,true,true]
[69,0,2,1,1,2,63.035770523511928,72.581637401079121,80.39151037405793,80.920219776084522,115.25896161863959,null,true,true,true,true,true]
[70,0,2,1,2,0,60.329678541061483,101.69303227341,80.391510374077043,80.920219776058445,115.25896161863955,null,true,true,true,true,true]
[71,0,2,1,2,1,60.329678541061483,85.02527731260102,80.391510374077043,80.920219776058445,115.25896161863955,null,true,true,true,true,true]
[72,0,2,1,2,2,60.329678541061483,73.119738054880273,80.391510374077043,80.920219776058445,115.25896161863955,null,true,true,true,true,true]
[73,0,2,2,0,0,66.066593543856428,100.55225888735151,90.431831998860929,80.920219776079037,115.25896161863953,null,true,true,true,true,true]
[74,0,2,2,0,1,66.066593543856428,83.884503926542536,90.431831998860929,80.920219776079037,115.25896161863953,null,true,true,true,true,true]
[75,0,2,2,0,2,66.066593543856428,71.978964668821817,90.431831998860929,80.920219776079037,115.25896161863953,null,true,true,true,true,true]
[76,0,2,2,1,0,63.035770523511928,101.15493161960889,90.192451513781137,80.920219776084522,115.25896161863959,null,true,true,true,true,true]
[77,0,2,2,1,1,63.035770523511928,84.487176658799868,90.192451513781137,80.920219776084522,115.25896161863959,null,true,true,true,true,true]
[78,0,2,2,1,2,63.035770523511928,72.581637401079121,90.192451513781137,80.920219776084522,115.25896161863959,null,true,true,true,true,true]
[79,0,2,2,2,0,60.329678541061483,101.69303227341,90.192451513802624,80.920219776058445,115.25896161863955,null,true,true,true,true,true]
[80,0,2,2,2,1,60.329678541061483,85.02527731260102,90.192451513802624,80.920219776058445,115.25896161863955,null,true,true,true,true,true]
[81,0,2,2,2,2,60.329678541061483,73.119738054880273,90.192451513802624,80.920219776058445,115.25896161863955,null,true,true,true,true,true]
[82,1,0,0,0,0,37.128750608884395,74.685914109289286,45.421498509382566,80.920219776079037,115.25896161863953,null,true,true,true,true,true]
[83,1,0,0,0,1,37.128750608884395,58.018159148480322,45.421498509382566,80.920219776079037,115.25896161863953,null,true,true,true,true,true]
[84,1,0,0,0,2,37.128750608884395,46.112619890759603,45.421498509382566,80.920219776079037,115.25896161863953,null,true,true,true,true,true]
[85,1,0,0,1,0,34.09792758853991,75.288586841546632,45.182118024308814,80.920219776084522,115.25896161863959,null,true,true,true,true,true]
[86,1,0,0,1,1,34.09792758853991,58.620831880737626,45.182118024308814,80.920219776084522,115.25896161863959,null,true,true,true,true,true]
[87,1,0,0,1,2,34.09792758853991,46.7152926230169,45.182118024308814,80.920219776084522,115.25896161863959,null,true,true,true,true,true]
[88,1,0,0,2,0,31.391835606089469,75.82668749534777,45.182118024319593,80.920219776058445,115.25896161863955,null,true,true,true,true,true]
[89,1,0,0,2,1,31.391835606089469,59.158932534538806,45.182118024319593,80.920219776058445,115.25896161863955,null,true,true,true,true,true]
[90,1,0,0,2,2,31.391835606089469,47.253393276818059,45.182118024319593,80.920219776058445,115.25896161863955,null,true,true,true,true,true]
[91,1,0,1,0,0,37.128750608884395,74.685914109289286,55.222439649107116,80.920219776079037,115.25896161863953,null,true,true,true,true,true]
[92,1,0,1,0,1,37.128750608884395,58.018159148480322,55.222439649107116,80.920219776079037,115.25896161863953,null,true,true,true,true,true]
[93,1,0,1,0,2,37.128750608884395,46.112619890759603,55.222439649107116,80.920219776079037,115.25896161863953,null,true,true,true,true,true]
[94,1,0,1,1,0,34.09792758853991,75.288586841546632,54.983059164032085,80.920219776084522,115.25896161863959,null,true,true,true,true,true]
[95,1,0,1,1,1,34.09792758853991,58.620831880737626,54.983059164032085,80.920219776084522,115.25896161863959,null,true,true,true,true,true]
[96,1,0,1,1,2,34.09792758853991,46.7152926230169,54.983059164032085,80.920219776084522,115.25896161863959,null,true,true,true,true,true]
[97,1,0,1,2,0,31.391835606089469,75.82668749534777,54.983059164045173,80.920219776058445,115.25896161863955,null,true,true,true,true,true]
[98,1,0,1,2,1,31.391835606089469,59.158932534538806,54.983059164045173,80.920219776058445,115.25896161863955,null,{"$f":"($G99<H99)","v":true},{"$f":"($G99<I99)","v":true},{"$f":"($G99<J99)","v":true},true,true]
[99,1,0,1,2,2,31.391835606089469,47.253393276818059,54.983059164045173,80.920219776058445,115.25896161863955,null,true,true,true,true,true]
[100,1,0,2,0,0,37.128750608884395,74.685914109289286,65.023380788831687,80.920219776079037,115.25896161863953,null,true,true,true,true,true]
[101,1,0,2,0,1,37.128750608884395,58.018159148480322,65.023380788831687,80.920219776079037,115.25896161863953,null,true,true,true,true,true]
[102,1,0,2,0,2,37.128750608884395,46.112619890759603,65.023380788831687,80.920219776079037,115.25896161863953,null,true,true,true,true,true]
[103,1,0,2,1,0,34.09792758853991,75.288586841546632,64.78400030375532,80.920219776084522,115.25896161863959,null,true,true,true,true,true]
[104,1,0,2,1,1,34.09792758853991,58.620831880737626,64.78400030375532,80.920219776084522,115.25896161863959,null,true,true,true,true,true]
[105,1,0,2,1,2,34.09792758853991,46.7152926230169,64.78400030375532,80.920219776084522,115.25896161863959,null,true,true,true,true,true]
[106,1,0,2,2,0,31.391835606089469,75.82668749534777,64.784000303770767,80.920219776058445,115.25896161863955,null,true,true,true,true,true]
[107,1,0,2,2,1,31.391835606089469,59.158932534538806,64.784000303770767,80.920219776058445,115.25896161863955,null,true,true,true,true,true]
[108,1,0,2,2,2,31.391835606089469,47.253393276818059,64.784000303770767,80.920219776058445,115.25896161863955,null,true,true,true,true,true]
[109,1,1,0,0,0,37.128750608884395,74.685914109289286,62.02557160515493,80.920219776079037,115.25896161863953,null,true,true,true,true,true]
[110,1,1,0,0,1,37.128750608884395,58.018159148480322,62.02557160515493,80.920219776079037,115.25896161863953,null,true,true,true,true,true]
[111,1,1,0,0,2,37.128750608884395,46.112619890759603,62.02557160515493,80.920219776079037,115.25896161863953,null,true,true,true,true,true]
[112,1,1,0,1,0,34.09792758853991,75.288586841546632,61.786191120078961,80.920219776084522,115.25896161863959,null,true,true,true,true,true]
[113,1,1,0,1,1,34.09792758853991,58.620831880737626,61.786191120078961,80.920219776084522,115.25896161863959,null,true,true,true,true,true]
[114,1,1,0,1,2,34.09792758853991,46.7152926230169,61.786191120078961,80.920219776084522,115.25896161863959,null,true,true,true,true,true]
[115,1,1,0,2,0,31.391835606089469,75.82668749534777,61.786191120093662,80.920219776058445,115.25896161863955,null,true,true,true,true,true]
[116,1,1,0,2,1,31.391835606089469,59.158932534538806,61.786191120093662,80.920219776058445,115.25896161863955,null,true,true,true,true,true]
[117,1,1,0,2,2,31.391835606089469,47.253393276818059,61.786191120093662,80.920219776058445,115.25896161863955,null,true,true,true,true,true]
[118,1,1,1,0,0,37.128750608884395,74.685914109289286,71.826512744879523,80.920219776079037,115.25896161863953,null,true,true,true,true,true]
[119,1,1,1,0,1,37.128750608884395,58.018159148480322,71.826512744879523,80.920219776079037,115.25896161863953,null,true,true,true,true,true]
[120,1,1,1,0,2,37.128750608884395,46.112619890759603,71.826512744879523,80.920219776079037,115.25896161863953,null,true,true,true,true,true]
[121,1,1,1,1,0,34.09792758853991,75.288586841546632,71.587132259802246,80.920219776084522,115.25896161863959,null,true,true,true,true,true]
[122,1,1,1,1,1,34.09792758853991,58.620831880737626,71.587132259802246,80.920219776084522,115.25896161863959,null,true,true,true,true,true]
[123,1,1,1,1,2,34.09792758853991,46.7152926230169,71.587132259802246,80.920219776084522,115.25896161863959,null,true,true,true,true,true]
[124,1,1,1,2,0,31.391835606089469,75.82668749534777,71.587132259819299,80.920219776058445,115.25896161863955,null,true,true,true,true,true]
[125,1,1,1,2,1,31.391835606089469,59.158932534538806,71.587132259819299,80.920219776058445,115.25896161863955,null,true,true,true,true,true]
[126,1,1,1,2,2,31.391835606089469,47.253393276818059,71.587132259819299,80.920219776058445,115.25896161863955,null,true,true,true,true,true]
[127,1,1,2,0,0,37.128750608884395,74.685914109289286,81.627453884604066,80.920219776079037,115.25896161863953,null,true,true,true,true,true]
[128,1,1,2,0,1,37.128750608884395,58.018159148480322,81.627453884604066,80.920219776079037,115.25896161863953,null,true,true,true,true,true]
[129,1,1,2,0,2,37.128750608884395,46.112619890759603,81.627453884604066,80.920219776079037,115.25896161863953,null,true,true,true,true,true]
[130,1,1,2,1,0,34.09792758853991,75.288586841546632,81.388073399525467,80.920219776084522,115.25896161863959,null,{"$f":"($G131<H131)","v":true},{"$f":"($G131<I131)","v":true},{"$f":"($G131<J131)","v":true},{"$f":"($G131<K131)","v":true},{"$f":"AND(($G131<H131),($G131<I131),($G131<J131),($G131<K131))","v":true}]
[131,1,1,2,1,1,34.09792758853991,58.620831880737626,81.388073399525467,80.920219776084522,115.25896161863959,null,true,true,true,true,true]
[132,1,1,2,1,2,34.09792758853991,46.7152926230169,81.388073399525467,80.920219776084522,115.25896161863959,null,true,true,true,true,true]
[133,1,1,2,2,0,31.391835606089469,75.82668749534777,81.388073399544865,80.920219776058445,115.25896161863955,null,true,true,true,true,true]
[134,1,1,2,2,1,31.391835606089469,59.158932534538806,81.388073399544865,80.920219776058445,115.25896161863955,null,true,true,true,true,true]
[135,1,1,2,2,2,31.391835606089469,47.253393276818059,81.388073399544865,80.920219776058445,115.25896161863955,null,true,true,true,true,true]
[136,1,2,0,0,0,37.128750608884395,74.685914109289286,70.829949719411786,80.920219776079037,115.25896161863953,null,true,true,true,true,true]
[137,1,2,0,0,1,37.128750608884395,58.018159148480322,70.829949719411786,80.920219776079037,115.25896161863953,null,true,true,true,true,true]
[138,1,2,0,0,2,37.128750608884395,46.112619890759603,70.829949719411786,80.920219776079037,115.25896161863953,null,true,true,true,true,true]
[139,1,2,0,1,0,34.09792758853991,75.288586841546632,70.590569234334637,80.920219776084522,115.25896161863959,null,true,true,true,true,true]
[140,1,2,0,1,1,34.09792758853991,58.620831880737626,70.590569234334637,80.920219776084522,115.25896161863959,null,true,true,true,true,true]
[141,1,2,0,1,2,34.09792758853991,46.7152926230169,70.590569234334637,80.920219776084522,115.25896161863959,null,true,true,true,true,true]
[142,1,2,0,2,0,31.391835606089469,75.82668749534777,70.590569234351449,80.920219776058445,115.25896161863955,null,true,true,true,true,true]
[143,1,2,0,2,1,31.391835606089469,59.158932534538806,70.590569234351449,80.920219776058445,115.25896161863955,null,true,true,true,true,true]
[144,1,2,0,2,2,31.391835606089469,47.253393276818059,70.590569234351449,80.920219776058445,115.25896161863955,null,true,true,true,true,true]
[145,1,2,1,0,0,37.128750608884395,74.685914109289286,80.630890859136386,80.920219776079037,115.25896161863953,null,true,true,true,true,true]
[146,1,2,1,0,1,37.128750608884395,58.018159148480322,80.630890859136386,80.920219776079037,115.25896161863953,null,true,true,true,true,true]
[147,1,2,1,0,2,37.128750608884395,46.112619890759603,80.630890859136386,80.920219776079037,115.25896161863953,null,true,true,true,true,true]
[148,1,2,1,1,0,34.09792758853991,75.288586841546632,80.39151037405793,80.920219776084522,115.25896161863959,null,true,true,true,true,true]
[149,1,2,1,1,1,34.09792758853991,58.620831880737626,80.39151037405793,80.920219776084522,115.25896161863959,null,true,true,true,true,true]
[150,1,2,1,1,2,34.09792758853991,46.7152926230169,80.39151037405793,80.920219776084522,115.25896161863959,null,true,true,true,true,true]
[151,1,2,1,2,0,31.391835606089469,75.82668749534777,80.391510374077043,80.920219776058445,115.25896161863955,null,true,true,true,true,true]
[152,1,2,1,2,1,31.391835606089469,59.158932534538806,80.391510374077043,80.920219776058445,115.25896161863955,null,true,true,true,true,true]
[153,1,2,1,2,2,31.391835606089469,47.253393276818059,80.391510374077043,80.920219776058445,115.25896161863955,null,true,true,true,true,true]
[154,1,2,2,0,0,37.128750608884395,74.685914109289286,90.431831998860929,80.920219776079037,115.25896161863953,null,true,true,true,true,true]
[155,1,2,2,0,1,37.128750608884395,58.018159148480322,90.431831998860929,80.920219776079037,115.25896161863953,null,true,true,true,true,true]
[156,1,2,2,0,2,37.128750608884395,46.112619890759603,90.431831998860929,80.920219776079037,115.25896161863953,null,true,true,true,true,true]
[157,1,2,2,1,0,34.09792758853991,75.288586841546632,90.192451513781137,80.920219776084522,115.25896161863959,null,true,true,true,true,true]
[158,1,2,2,1,1,34.09792758853991,58.620831880737626,90.192451513781137,80.920219776084522,115.25896161863959,null,true,true,true,true,true]
[159,1,2,2,1,2,34.09792758853991,46.7152926230169,90.192451513781137,80.920219776084522,115.25896161863959,null,true,true,true,true,true]
[160,1,2,2,2,0,31.391835606089469,75.82668749534777,90.192451513802624,80.920219776058445,115.25896161863955,null,true,true,true,true,true]
[161,1,2,2,2,1,31.391835606089469,59.158932534538806,90.192451513802624,80.920219776058445,115.25896161863955,null,true,true,true,true,true]
[162,1,2,2,2,2,31.391835606089469,47.253393276818059,90.192451513802624,80.920219776058445,115.25896161863955,null,true,true,true,true,true]

{"sheet":"LCOE Summary","index":4,"n_rows":202,"n_cols":8,"rows_kept":202,"cut":false,"hidden":false,"merged":[]}
["LCOE Summary"]
["When isTennessee Wind + Plains & Eastern cheapest?"]
["(Reference Case)"]
["All cases","Fixed PTC Value","Fixed Carbon Cost","Fixed Gas Price","Fixed OK Wind CF","Fixed TN Wind CF",null,"Low=0, Med=1, High=2"]
[{"$f":"SUM(A40:A201)/162","v":0.83333333333333337},{"$f":"SUM(B40:B120)/81","v":0.66666666666666663},{"$f":"SUM(C40:C93)/54","v":0.61111111111111116},{"$f":"SUM(D40:D93)/54","v":0.72222222222222221},{"$f":"SUM(E40:E93)/54","v":0.77777777777777779},{"$f":"SUM(F40:F93)/54","v":0.83333333333333337},null,0]
[null,{"$f":"SUM(B121:B201)/81","v":1},{"$f":"SUM(C94:C147)/54","v":0.88888888888888884},{"$f":"SUM(D94:D147)/54","v":0.83333333333333337},{"$f":"SUM(E94:E147)/54","v":0.83333333333333337},{"$f":"SUM(F94:F147)/54","v":0.83333333333333337},null,1]
[null,null,{"$f":"SUM(C148:C201)/54","v":1},{"$f":"SUM(D148:D201)/54","v":0.94444444444444442},{"$f":"SUM(E148:E201)/54","v":0.88888888888888884},{"$f":"SUM(F148:F201)/54","v":0.83333333333333337},null,2]
[]
[]
[]
["Outputs","LCOE w/ Capacity Value = 0","LCOE","LCOE w/o Capacity Value","LCOE w/ Capacity Value","Difference with LCOE"]
["Plains & Eastern Project",{"$f":"'All Scenarios LCOE wo CapVal'!$G$42","v":74.273055250629469},{"$f":"'All Scenarios LCOE Summary'!$G$42","v":63.035770523511928},{"$f":"'All Scenarios LCOE wo CapVal'!$G$123","v":45.335212315657444},{"$f":"'All Scenarios LCOE Summary'!$G$123","v":34.09792758853991},{"$f":"B12-C12","v":11.23728472711754},{"$f":"D12-E12","v":11.237284727117533}]
["Tennessee Wind Project",{"$f":"'All Scenarios LCOE wo CapVal'!$H$42","v":94.531722196421711},{"$f":"'All Scenarios LCOE Summary'!$H$42","v":84.487176658799868},{"$f":"'All Scenarios LCOE wo CapVal'!$H$123","v":68.665377418359483},{"$f":"'All Scenarios LCOE Summary'!$H$123","v":58.620831880737626},{"$f":"B13-C13","v":10.044545537621843},{"$f":"D13-E13","v":10.044545537621858}]
["Combined Cycle Gas",{"$f":"'All Scenarios LCOE wo CapVal'!$I$42","v":87.803849646026009},{"$f":"'All Scenarios LCOE Summary'!$I$42","v":71.587132259802246},{"$f":"'All Scenarios LCOE wo CapVal'!$I$123","v":87.803849646026009},{"$f":"'All Scenarios LCOE Summary'!$I$123","v":71.587132259802246},{"$f":"B14-C14","v":16.216717386223763},{"$f":"D14-E14","v":16.216717386223763}]
["Nuclear ",{"$f":"'All Scenarios LCOE wo CapVal'!$J$42","v":98.184034493439555},{"$f":"'All Scenarios LCOE Summary'!$J$42","v":80.920219776084522},{"$f":"'All Scenarios LCOE wo CapVal'!$J$123","v":98.184034493439555},{"$f":"'All Scenarios LCOE Summary'!$J$123","v":80.920219776084522},{"$f":"B15-C15","v":17.263814717355032},{"$f":"D15-E15","v":17.263814717355032}]
["Utility-scale Solar (includes ITC)",{"$f":"'All Scenarios LCOE wo CapVal'!$K$42","v":142.51698015755591},{"$f":"'All Scenarios LCOE Summary'!$K$42","v":115.25896161863959},{"$f":"'All Scenarios LCOE wo CapVal'!$K$123","v":142.51698015755591},{"$f":"'All Scenarios LCOE Summary'!$K$123","v":115.25896161863959},{"$f":"B16-C16","v":27.258018538916318},{"$f":"D16-E16","v":27.258018538916318}]
["Scenario"]
["Capacity Value ($k/MW-yr)",0,95.659000000000006,0,95.659000000000006]
["\nPTC Value ($/MWh)",0,0,23,23]
["\nCarbon dioxide cost (Projection Case)","Med","Med","Med","Med"]
["\nNatural Gas Price (% of EIA forcast)",1,1,1,1]
["\nOK Wind Capacity Factor (%)",0.53,0.53,0.53,0.53]
["\nTN Wind Capacity Factor (%)",0.3,0.3,0.3,0.3]
[]
[]
[]
[]
[]
[]
[]
[]
[]
[]
[]
[]
[]
[]
["Worksheet ==>"]
["All cases","Fixed PTC Value","Fixed Carbon Cost","Fixed Gas Price","Fixed OK Wind CF","Fixed TN Wind CF"]
[{"$f":"IF('All Scenarios LCOE Summary'!$G2<MIN('All Scenarios LCOE Summary'!$H2:$J2),1,0)","v":0},{"$f":"IF('All Scenarios LCOE Summary'!$G2<MIN('All Scenarios LCOE Summary'!$H2:$J2),1,0)","v":0},{"$f":"IF('All Scenarios LCOE Summary'!$C2=0,IF('All Scenarios LCOE Summary'!$G2<MIN('All Scenarios LCOE Summary'!$H2:$J2),1,0),\"\")","v":0},{"$f":"IF('All Scenarios LCOE Summary'!$D2=0,IF('All Scenarios LCOE Summary'!$G2<MIN('All Scenarios LCOE Summary'!$H2:$J2),1,0),\"\")","v":0},{"$f":"IF('All Scenarios LCOE Summary'!$E2=0,IF('All Scenarios LCOE Summary'!$G2<MIN('All Scenarios LCOE Summary'!$H2:$J2),1,0),\"\")","v":0},{"$f":"IF('All Scenarios LCOE Summary'!$F2=0,IF('All Scenarios LCOE Summary'!$G2<MIN('All Scenarios LCOE Summary'!$H2:$J2),1,0),\"\")","v":0}]
[{"$f":"IF('All Scenarios LCOE Summary'!G3<MIN('All Scenarios LCOE Summary'!H3:J3),1,0)","v":0},{"$f":"IF('All Scenarios LCOE Summary'!$G3<MIN('All Scenarios LCOE Summary'!$H3:$J3),1,0)","v":0},{"$f":"IF('All Scenarios LCOE Summary'!C3=0,IF('All Scenarios LCOE Summary'!$G3<MIN('All Scenarios LCOE Summary'!$H3:$J3),1,0),\"\")","v":0},{"$f":"IF('All Scenarios LCOE Summary'!D3=0,IF('All Scenarios LCOE Summary'!$G3<MIN('All Scenarios LCOE Summary'!$H3:$J3),1,0),\"\")","v":0},{"$f":"IF('All Scenarios LCOE Summary'!$E3=0,IF('All Scenarios LCOE Summary'!$G3<MIN('All Scenarios LCOE Summary'!$H3:$J3),1,0),\"\")","v":0},{"$f":"IF('All Scenarios LCOE Summary'!$F5=0,IF('All Scenarios LCOE Summary'!$G5<MIN('All Scenarios LCOE Summary'!$H5:$J5),1,0),\"\")","v":0}]
[{"$f":"IF('All Scenarios LCOE Summary'!G4<MIN('All Scenarios LCOE Summary'!H4:J4),1,0)","v":0},{"$f":"IF('All Scenarios LCOE Summary'!$G4<MIN('All Scenarios LCOE Summary'!$H4:$J4),1,0)","v":0},{"$f":"IF('All Scenarios LCOE Summary'!C4=0,IF('All Scenarios LCOE Summary'!$G4<MIN('All Scenarios LCOE Summary'!$H4:$J4),1,0),\"\")","v":0},{"$f":"IF('All Scenarios LCOE Summary'!D4=0,IF('All Scenarios LCOE Summary'!$G4<MIN('All Scenarios LCOE Summary'!$H4:$J4),1,0),\"\")","v":0},{"$f":"IF('All Scenarios LCOE Summary'!$E4=0,IF('All Scenarios LCOE Summary'!$G4<MIN('All Scenarios LCOE Summary'!$H4:$J4),1,0),\"\")","v":0},{"$f":"IF('All Scenarios LCOE Summary'!$F8=0,IF('All Scenarios LCOE Summary'!$G8<MIN('All Scenarios LCOE Summary'!$H8:$J8),1,0),\"\")","v":0}]
[{"$f":"IF('All Scenarios LCOE Summary'!G5<MIN('All Scenarios LCOE Summary'!H5:J5),1,0)","v":0},{"$f":"IF('All Scenarios LCOE Summary'!$G5<MIN('All Scenarios LCOE Summary'!$H5:$J5),1,0)","v":0},{"$f":"IF('All Scenarios LCOE Summary'!C5=0,IF('All Scenarios LCOE Summary'!$G5<MIN('All Scenarios LCOE Summary'!$H5:$J5),1,0),\"\")","v":0},{"$f":"IF('All Scenarios LCOE Summary'!D5=0,IF('All Scenarios LCOE Summary'!$G5<MIN('All Scenarios LCOE Summary'!$H5:$J5),1,0),\"\")","v":0},{"$f":"IF('All Scenarios LCOE Summary'!$E11=0,IF('All Scenarios LCOE Summary'!$G11<MIN('All Scenarios LCOE Summary'!$H11:$J11),1,0),\"\")","v":0},{"$f":"IF('All Scenarios LCOE Summary'!$F11=0,IF('All Scenarios LCOE Summary'!$G11<MIN('All Scenarios LCOE Summary'!$H11:$J11),1,0),\"\")","v":0}]
[{"$f":"IF('All Scenarios LCOE Summary'!G6<MIN('All Scenarios LCOE Summary'!H6:J6),1,0)","v":0},{"$f":"IF('All Scenarios LCOE Summary'!$G6<MIN('All Scenarios LCOE Summary'!$H6:$J6),1,0)","v":0},{"$f":"IF('All Scenarios LCOE Summary'!C6=0,IF('All Scenarios LCOE Summary'!$G6<MIN('All Scenarios LCOE Summary'!$H6:$J6),1,0),\"\")","v":0},{"$f":"IF('All Scenarios LCOE Summary'!D6=0,IF('All Scenarios LCOE Summary'!$G6<MIN('All Scenarios LCOE Summary'!$H6:$J6),1,0),\"\")","v":0},{"$f":"IF('All Scenarios LCOE Summary'!$E12=0,IF('All Scenarios LCOE Summary'!$G12<MIN('All Scenarios LCOE Summary'!$H12:$J12),1,0),\"\")","v":0},{"$f":"IF('All Scenarios LCOE Summary'!$F14=0,IF('All Scenarios LCOE Summary'!$G14<MIN('All Scenarios LCOE Summary'!$H14:$J14),1,0),\"\")","v":0}]
[{"$f":"IF('All Scenarios LCOE Summary'!G7<MIN('All Scenarios LCOE Summary'!H7:J7),1,0)","v":0},{"$f":"IF('All Scenarios LCOE Summary'!$G7<MIN('All Scenarios LCOE Summary'!$H7:$J7),1,0)","v":0},{"$f":"IF('All Scenarios LCOE Summary'!C7=0,IF('All Scenarios LCOE Summary'!$G7<MIN('All Scenarios LCOE Summary'!$H7:$J7),1,0),\"\")","v":0},{"$f":"IF('All Scenarios LCOE Summary'!D7=0,IF('All Scenarios LCOE Summary'!$G7<MIN('All Scenarios LCOE Summary'!$H7:$J7),1,0),\"\")","v":0},{"$f":"IF('All Scenarios LCOE Summary'!$E13=0,IF('All Scenarios LCOE Summary'!$G13<MIN('All Scenarios LCOE Summary'!$H13:$J13),1,0),\"\")","v":0},{"$f":"IF('All Scenarios LCOE Summary'!$F17=0,IF('All Scenarios LCOE Summary'!$G17<MIN('All Scenarios LCOE Summary'!$H17:$J17),1,0),\"\")","v":0}]
[{"$f":"IF('All Scenarios LCOE Summary'!G8<MIN('All Scenarios LCOE Summary'!H8:J8),1,0)","v":0},{"$f":"IF('All Scenarios LCOE Summary'!$G8<MIN('All Scenarios LCOE Summary'!$H8:$J8),1,0)","v":0},{"$f":"IF('All Scenarios LCOE Summary'!C8=0,IF('All Scenarios LCOE Summary'!$G8<MIN('All Scenarios LCOE Summary'!$H8:$J8),1,0),\"\")","v":0},{"$f":"IF('All Scenarios LCOE Summary'!D8=0,IF('All Scenarios LCOE Summary'!$G8<MIN('All Scenarios LCOE Summary'!$H8:$J8),1,0),\"\")","v":0},{"$f":"IF('All Scenarios LCOE Summary'!$E20=0,IF('All Scenarios LCOE Summary'!$G20<MIN('All Scenarios LCOE Summary'!$H20:$J20),1,0),\"\")","v":0},{"$f":"IF('All Scenarios LCOE Summary'!$F20=0,IF('All Scenarios LCOE Summary'!$G20<MIN('All Scenarios LCOE Summary'!$H20:$J20),1,0),\"\")","v":0}]
[{"$f":"IF('All Scenarios LCOE Summary'!G9<MIN('All Scenarios LCOE Summary'!H9:J9),1,0)","v":0},{"$f":"IF('All Scenarios LCOE Summary'!$G9<MIN('All Scenarios LCOE Summary'!$H9:$J9),1,0)","v":0},{"$f":"IF('All Scenarios LCOE Summary'!C9=0,IF('All Scenarios LCOE Summary'!$G9<MIN('All Scenarios LCOE Summary'!$H9:$J9),1,0),\"\")","v":0},{"$f":"IF('All Scenarios LCOE Summary'!D9=0,IF('All Scenarios LCOE Summary'!$G9<MIN('All Scenarios LCOE Summary'!$H9:$J9),1,0),\"\")","v":0},{"$f":"IF('All Scenarios LCOE Summary'!$E21=0,IF('All Scenarios LCOE Summary'!$G21<MIN('All Scenarios LCOE Summary'!$H21:$J21),1,0),\"\")","v":0},{"$f":"IF('All Scenarios LCOE Summary'!$F23=0,IF('All Scenarios LCOE Summary'!$G23<MIN('All Scenarios LCOE Summary'!$H23:$J23),1,0),\"\")","v":1}]
[{"$f":"IF('All Scenarios LCOE Summary'!G10<MIN('All Scenarios LCOE Summary'!H10:J10),1,0)","v":0},{"$f":"IF('All Scenarios LCOE Summary'!$G10<MIN('All Scenarios LCOE Summary'!$H10:$J10),1,0)","v":0},{"$f":"IF('All Scenarios LCOE Summary'!C10=0,IF('All Scenarios LCOE Summary'!$G10<MIN('All Scenarios LCOE Summary'!$H10:$J10),1,0),\"\")","v":0},{"$f":"IF('All Scenarios LCOE Summary'!D10=0,IF('All Scenarios LCOE Summary'!$G10<MIN('All Scenarios LCOE Summary'!$H10:$J10),1,0),\"\")","v":0},{"$f":"IF('All Scenarios LCOE Summary'!$E22=0,IF('All Scenarios LCOE Summary'!$G22<MIN('All Scenarios LCOE Summary'!$H22:$J22),1,0),\"\")","v":0},{"$f":"IF('All Scenarios LCOE Summary'!$F26=0,IF('All Scenarios LCOE Summary'!$G26<MIN('All Scenarios LCOE Summary'!$H26:$J26),1,0),\"\")","v":1}]
[{"$f":"IF('All Scenarios LCOE Summary'!G11<MIN('All Scenarios LCOE Summary'!H11:J11),1,0)","v":0},{"$f":"IF('All Scenarios LCOE Summary'!$G11<MIN('All Scenarios LCOE Summary'!$H11:$J11),1,0)","v":0},{"$f":"IF('All Scenarios LCOE Summary'!C11=0,IF('All Scenarios LCOE Summary'!$G11<MIN('All Scenarios LCOE Summary'!$H11:$J11),1,0),\"\")","v":0},{"$f":"IF('All Scenarios LCOE Summary'!D29=0,IF('All Scenarios LCOE Summary'!$G29<MIN('All Scenarios LCOE Summary'!$H29:$J29),1,0),\"\")","v":0},{"$f":"IF('All Scenarios LCOE Summary'!$E29=0,IF('All Scenarios LCOE Summary'!$G29<MIN('All Scenarios LCOE Summary'!$H29:$J29),1,0),\"\")","v":0},{"$f":"IF('All Scenarios LCOE Summary'!$F29=0,IF('All Scenarios LCOE Summary'!$G29<MIN('All Scenarios LCOE Summary'!$H29:$J29),1,0),\"\")","v":0}]
[{"$f":"IF('All Scenarios LCOE Summary'!G12<MIN('All Scenarios LCOE Summary'!H12:J12),1,0)","v":0},{"$f":"IF('All Scenarios LCOE Summary'!$G12<MIN('All Scenarios LCOE Summary'!$H12:$J12),1,0)","v":0},{"$f":"IF('All Scenarios LCOE Summary'!C12=0,IF('All Scenarios LCOE Summary'!$G12<MIN('All Scenarios LCOE Summary'!$H12:$J12),1,0),\"\")","v":0},{"$f":"IF('All Scenarios LCOE Summary'!D30=0,IF('All Scenarios LCOE Summary'!$G30<MIN('All Scenarios LCOE Summary'!$H30:$J30),1,0),\"\")","v":0},{"$f":"IF('All Scenarios LCOE Summary'!$E30=0,IF('All Scenarios LCOE Summary'!$G30<MIN('All Scenarios LCOE Summary'!$H30:$J30),1,0),\"\")","v":0},{"$f":"IF('All Scenarios LCOE Summary'!$F32=0,IF('All Scenarios LCOE Summary'!$G32<MIN('All Scenarios LCOE Summary'!$H32:$J32),1,0),\"\")","v":0}]
[{"$f":"IF('All Scenarios LCOE Summary'!G13<MIN('All Scenarios LCOE Summary'!H13:J13),1,0)","v":0},{"$f":"IF('All Scenarios LCOE Summary'!$G13<MIN('All Scenarios LCOE Summary'!$H13:$J13),1,0)","v":0},{"$f":"IF('All Scenarios LCOE Summary'!C13=0,IF('All Scenarios LCOE Summary'!$G13<MIN('All Scenarios LCOE Summary'!$H13:$J13),1,0),\"\")","v":0},{"$f":"IF('All Scenarios LCOE Summary'!D31=0,IF('All Scenarios LCOE Summary'!$G31<MIN('All Scenarios LCOE Summary'!$H31:$J31),1,0),\"\")","v":0},{"$f":"IF('All Scenarios LCOE Summary'!$E31=0,IF('All Scenarios LCOE Summary'!$G31<MIN('All Scenarios LCOE Summary'!$H31:$J31),1,0),\"\")","v":0},{"$f":"IF('All Scenarios LCOE Summary'!$F35=0,IF('All Scenarios LCOE Summary'!$G35<MIN('All Scenarios LCOE Summary'!$H35:$J35),1,0),\"\")","v":1}]
[{"$f":"IF('All Scenarios LCOE Summary'!G14<MIN('All Scenarios LCOE Summary'!H14:J14),1,0)","v":0},{"$f":"IF('All Scenarios LCOE Summary'!$G14<MIN('All Scenarios LCOE Summary'!$H14:$J14),1,0)","v":0},{"$f":"IF('All Scenarios LCOE Summary'!C14=0,IF('All Scenarios LCOE Summary'!$G14<MIN('All Scenarios LCOE Summary'!$H14:$J14),1,0),\"\")","v":0},{"$f":"IF('All Scenarios LCOE Summary'!D32=0,IF('All Scenarios LCOE Summary'!$G32<MIN('All Scenarios LCOE Summary'!$H32:$J32),1,0),\"\")","v":0},{"$f":"IF('All Scenarios LCOE Summary'!$E38=0,IF('All Scenarios LCOE Summary'!$G38<MIN('All Scenarios LCOE Summary'!$H38:$J38),1,0),\"\")","v":1},{"$f":"IF('All Scenarios LCOE Summary'!$F38=0,IF('All Scenarios LCOE Summary'!$G38<MIN('All Scenarios LCOE Summary'!$H38:$J38),1,0),\"\")","v":1}]
[{"$f":"IF('All Scenarios LCOE Summary'!G15<MIN('All Scenarios LCOE Summary'!H15:J15),1,0)","v":0},{"$f":"IF('All Scenarios LCOE Summary'!$G15<MIN('All Scenarios LCOE Summary'!$H15:$J15),1,0)","v":0},{"$f":"IF('All Scenarios LCOE Summary'!C15=0,IF('All Scenarios LCOE Summary'!$G15<MIN('All Scenarios LCOE Summary'!$H15:$J15),1,0),\"\")","v":0},{"$f":"IF('All Scenarios LCOE Summary'!D33=0,IF('All Scenarios LCOE Summary'!$G33<MIN('All Scenarios LCOE Summary'!$H33:$J33),1,0),\"\")","v":0},{"$f":"IF('All Scenarios LCOE Summary'!$E39=0,IF('All Scenarios LCOE Summary'!$G39<MIN('All Scenarios LCOE Summary'!$H39:$J39),1,0),\"\")","v":1},{"$f":"IF('All Scenarios LCOE Summary'!$F41=0,IF('All Scenarios LCOE Summary'!$G41<MIN('All Scenarios LCOE Summary'!$H41:$J41),1,0),\"\")","v":1}]
[{"$f":"IF('All Scenarios LCOE Summary'!G16<MIN('All Scenarios LCOE Summary'!H16:J16),1,0)","v":0},{"$f":"IF('All Scenarios LCOE Summary'!$G16<MIN('All Scenarios LCOE Summary'!$H16:$J16),1,0)","v":0},{"$f":"IF('All Scenarios LCOE Summary'!C16=0,IF('All Scenarios LCOE Summary'!$G16<MIN('All Scenarios LCOE Summary'!$H16:$J16),1,0),\"\")","v":0},{"$f":"IF('All Scenarios LCOE Summary'!D34=0,IF('All Scenarios LCOE Summary'!$G34<MIN('All Scenarios LCOE Summary'!$H34:$J34),1,0),\"\")","v":0},{"$f":"IF('All Scenarios LCOE Summary'!$E40=0,IF('All Scenarios LCOE Summary'!$G40<MIN('All Scenarios LCOE Summary'!$H40:$J40),1,0),\"\")","v":1},{"$f":"IF('All Scenarios LCOE Summary'!$F44=0,IF('All Scenarios LCOE Summary'!$G44<MIN('All Scenarios LCOE Summary'!$H44:$J44),1,0),\"\")","v":1}]
[{"$f":"IF('All Scenarios LCOE Summary'!G17<MIN('All Scenarios LCOE Summary'!H17:J17),1,0)","v":0},{"$f":"IF('All Scenarios LCOE Summary'!$G17<MIN('All Scenarios LCOE Summary'!$H17:$J17),1,0)","v":0},{"$f":"IF('All Scenarios LCOE Summary'!C17=0,IF('All Scenarios LCOE Summary'!$G17<MIN('All Scenarios LCOE Summary'!$H17:$J17),1,0),\"\")","v":0},{"$f":"IF('All Scenarios LCOE Summary'!D35=0,IF('All Scenarios LCOE Summary'!$G35<MIN('All Scenarios LCOE Summary'!$H35:$J35),1,0),\"\")","v":1},{"$f":"IF('All Scenarios LCOE Summary'!$E47=0,IF('All Scenarios LCOE Summary'!$G47<MIN('All Scenarios LCOE Summary'!$H47:$J47),1,0),\"\")","v":1},{"$f":"IF('All Scenarios LCOE Summary'!$F47=0,IF('All Scenarios LCOE Summary'!$G47<MIN('All Scenarios LCOE Summary'!$H47:$J47),1,0),\"\")","v":1}]
[{"$f":"IF('All Scenarios LCOE Summary'!G18<MIN('All Scenarios LCOE Summary'!H18:J18),1,0)","v":0},{"$f":"IF('All Scenarios LCOE Summary'!$G18<MIN('All Scenarios LCOE Summary'!$H18:$J18),1,0)","v":0},{"$f":"IF('All Scenarios LCOE Summary'!C18=0,IF('All Scenarios LCOE Summary'!$G18<MIN('All Scenarios LCOE Summary'!$H18:$J18),1,0),\"\")","v":0},{"$f":"IF('All Scenarios LCOE Summary'!D36=0,IF('All Scenarios LCOE Summary'!$G36<MIN('All Scenarios LCOE Summary'!$H36:$J36),1,0),\"\")","v":1},{"$f":"IF('All Scenarios LCOE Summary'!$E48=0,IF('All Scenarios LCOE Summary'!$G48<MIN('All Scenarios LCOE Summary'!$H48:$J48),1,0),\"\")","v":1},{"$f":"IF('All Scenarios LCOE Summary'!$F50=0,IF('All Scenarios LCOE Summary'!$G50<MIN('All Scenarios LCOE Summary'!$H50:$J50),1,0),\"\")","v":1}]
[{"$f":"IF('All Scenarios LCOE Summary'!G19<MIN('All Scenarios LCOE Summary'!H19:J19),1,0)","v":0},{"$f":"IF('All Scenarios LCOE Summary'!$G19<MIN('All Scenarios LCOE Summary'!$H19:$J19),1,0)","v":0},{"$f":"IF('All Scenarios LCOE Summary'!C19=0,IF('All Scenarios LCOE Summary'!$G19<MIN('All Scenarios LCOE Summary'!$H19:$J19),1,0),\"\")","v":0},{"$f":"IF('All Scenarios LCOE Summary'!D37=0,IF('All Scenarios LCOE Summary'!$G37<MIN('All Scenarios LCOE Summary'!$H37:$J37),1,0),\"\")","v":1},{"$f":"IF('All Scenarios LCOE Summary'!$E49=0,IF('All Scenarios LCOE Summary'!$G49<MIN('All Scenarios LCOE Summary'!$H49:$J49),1,0),\"\")","v":1},{"$f":"IF('All Scenarios LCOE Summary'!$F53=0,IF('All Scenarios LCOE Summary'!$G53<MIN('All Scenarios LCOE Summary'!$H53:$J53),1,0),\"\")","v":1}]
[{"$f":"IF('All Scenarios LCOE Summary'!G20<MIN('All Scenarios LCOE Summary'!H20:J20),1,0)","v":0},{"$f":"IF('All Scenarios LCOE Summary'!$G20<MIN('All Scenarios LCOE Summary'!$H20:$J20),1,0)","v":0},{"$f":"IF('All Scenarios LCOE Summary'!C20=0,IF('All Scenarios LCOE Summary'!$G20<MIN('All Scenarios LCOE Summary'!$H20:$J20),1,0),\"\")","v":0},{"$f":"IF('All Scenarios LCOE Summary'!D56=0,IF('All Scenarios LCOE Summary'!$G56<MIN('All Scenarios LCOE Summary'!$H56:$J56),1,0),\"\")","v":1},{"$f":"IF('All Scenarios LCOE Summary'!$E56=0,IF('All Scenarios LCOE Summary'!$G56<MIN('All Scenarios LCOE Summary'!$H56:$J56),1,0),\"\")","v":1},{"$f":"IF('All Scenarios LCOE Summary'!$F56=0,IF('All Scenarios LCOE Summary'!$G56<MIN('All Scenarios LCOE Summary'!$H56:$J56),1,0),\"\")","v":1}]
[{"$f":"IF('All Scenarios LCOE Summary'!G21<MIN('All Scenarios LCOE Summary'!H21:J21),1,0)","v":0},{"$f":"IF('All Scenarios LCOE Summary'!$G21<MIN('All Scenarios LCOE Summary'!$H21:$J21),1,0)","v":0},{"$f":"IF('All Scenarios LCOE Summary'!C21=0,IF('All Scenarios LCOE Summary'!$G21<MIN('All Scenarios LCOE Summary'!$H21:$J21),1,0),\"\")","v":0},{"$f":"IF('All Scenarios LCOE Summary'!D57=0,IF('All Scenarios LCOE Summary'!$G57<MIN('All Scenarios LCOE Summary'!$H57:$J57),1,0),\"\")","v":1},{"$f":"IF('All Scenarios LCOE Summary'!$E57=0,IF('All Scenarios LCOE Summary'!$G57<MIN('All Scenarios LCOE Summary'!$H57:$J57),1,0),\"\")","v":1},{"$f":"IF('All Scenarios LCOE Summary'!$F59=0,IF('All Scenarios LCOE Summary'!$G59<MIN('All Scenarios LCOE Summary'!$H59:$J59),1,0),\"\")","v":1}]
[{"$f":"IF('All Scenarios LCOE Summary'!G22<MIN('All Scenarios LCOE Summary'!H22:J22),1,0)","v":0},{"$f":"IF('All Scenarios LCOE Summary'!$G22<MIN('All Scenarios LCOE Summary'!$H22:$J22),1,0)","v":0},{"$f":"IF('All Scenarios LCOE Summary'!C22=0,IF('All Scenarios LCOE Summary'!$G22<MIN('All Scenarios LCOE Summary'!$H22:$J22),1,0),\"\")","v":0},{"$f":"IF('All Scenarios LCOE Summary'!D58=0,IF('All Scenarios LCOE Summary'!$G58<MIN('All Scenarios LCOE Summary'!$H58:$J58),1,0),\"\")","v":1},{"$f":"IF('All Scenarios LCOE Summary'!$E58=0,IF('All Scenarios LCOE Summary'!$G58<MIN('All Scenarios LCOE Summary'!$H58:$J58),1,0),\"\")","v":1},{"$f":"IF('All Scenarios LCOE Summary'!$F62=0,IF('All Scenarios LCOE Summary'!$G62<MIN('All Scenarios LCOE Summary'!$H62:$J62),1,0),\"\")","v":1}]
[{"$f":"IF('All Scenarios LCOE Summary'!G23<MIN('All Scenarios LCOE Summary'!H23:J23),1,0)","v":1},{"$f":"IF('All Scenarios LCOE Summary'!$G23<MIN('All Scenarios LCOE Summary'!$H23:$J23),1,0)","v":1},{"$f":"IF('All Scenarios LCOE Summary'!C23=0,IF('All Scenarios LCOE Summary'!$G23<MIN('All Scenarios LCOE Summary'!$H23:$J23),1,0),\"\")","v":1},{"$f":"IF('All Scenarios LCOE Summary'!D59=0,IF('All Scenarios LCOE Summary'!$G59<MIN('All Scenarios LCOE Summary'!$H59:$J59),1,0),\"\")","v":1},{"$f":"IF('All Scenarios LCOE Summary'!$E65=0,IF('All Scenarios LCOE Summary'!$G65<MIN('All Scenarios LCOE Summary'!$H65:$J65),1,0),\"\")","v":1},{"$f":"IF('All Scenarios LCOE Summary'!$F65=0,IF('All Scenarios LCOE Summary'!$G65<MIN('All Scenarios LCOE Summary'!$H65:$J65),1,0),\"\")","v":1}]
[{"$f":"IF('All Scenarios LCOE Summary'!G24<MIN('All Scenarios LCOE Summary'!H24:J24),1,0)","v":1},{"$f":"IF('All Scenarios LCOE Summary'!$G24<MIN('All Scenarios LCOE Summary'!$H24:$J24),1,0)","v":1},{"$f":"IF('All Scenarios LCOE Summary'!C24=0,IF('All Scenarios LCOE Summary'!$G24<MIN('All Scenarios LCOE Summary'!$H24:$J24),1,0),\"\")","v":1},{"$f":"IF('All Scenarios LCOE Summary'!D60=0,IF('All Scenarios LCOE Summary'!$G60<MIN('All Scenarios LCOE Summary'!$H60:$J60),1,0),\"\")","v":1},{"$f":"IF('All Scenarios LCOE Summary'!$E66=0,IF('All Scenarios LCOE Summary'!$G66<MIN('All Scenarios LCOE Summary'!$H66:$J66),1,0),\"\")","v":1},{"$f":"IF('All Scenarios LCOE Summary'!$F68=0,IF('All Scenarios LCOE Summary'!$G68<MIN('All Scenarios LCOE Summary'!$H68:$J68),1,0),\"\")","v":1}]
[{"$f":"IF('All Scenarios LCOE Summary'!G25<MIN('All Scenarios LCOE Summary'!H25:J25),1,0)","v":1},{"$f":"IF('All Scenarios LCOE Summary'!$G25<MIN('All Scenarios LCOE Summary'!$H25:$J25),1,0)","v":1},{"$f":"IF('All Scenarios LCOE Summary'!C25=0,IF('All Scenarios LCOE Summary'!$G25<MIN('All Scenarios LCOE Summary'!$H25:$J25),1,0),\"\")","v":1},{"$f":"IF('All Scenarios LCOE Summary'!D61=0,IF('All Scenarios LCOE Summary'!$G61<MIN('All Scenarios LCOE Summary'!$H61:$J61),1,0),\"\")","v":1},{"$f":"IF('All Scenarios LCOE Summary'!$E67=0,IF('All Scenarios LCOE Summary'!$G67<MIN('All Scenarios LCOE Summary'!$H67:$J67),1,0),\"\")","v":1},{"$f":"IF('All Scenarios LCOE Summary'!$F71=0,IF('All Scenarios LCOE Summary'!$G71<MIN('All Scenarios LCOE Summary'!$H71:$J71),1,0),\"\")","v":1}]
[{"$f":"IF('All Scenarios LCOE Summary'!G26<MIN('All Scenarios LCOE Summary'!H26:J26),1,0)","v":1},{"$f":"IF('All Scenarios LCOE Summary'!$G26<MIN('All Scenarios LCOE Summary'!$H26:$J26),1,0)","v":1},{"$f":"IF('All Scenarios LCOE Summary'!C26=0,IF('All Scenarios LCOE Summary'!$G26<MIN('All Scenarios LCOE Summary'!$H26:$J26),1,0),\"\")","v":1},{"$f":"IF('All Scenarios LCOE Summary'!D62=0,IF('All Scenarios LCOE Summary'!$G62<MIN('All Scenarios LCOE Summary'!$H62:$J62),1,0),\"\")","v":1},{"$f":"IF('All Scenarios LCOE Summary'!$E74=0,IF('All Scenarios LCOE Summary'!$G74<MIN('All Scenarios LCOE Summary'!$H74:$J74),1,0),\"\")","v":1},{"$f":"IF('All Scenarios LCOE Summary'!$F74=0,IF('All Scenarios LCOE Summary'!$G74<MIN('All Scenarios LCOE Summary'!$H74:$J74),1,0),\"\")","v":1}]
[{"$f":"IF('All Scenarios LCOE Summary'!G27<MIN('All Scenarios LCOE Summary'!H27:J27),1,0)","v":1},{"$f":"IF('All Scenarios LCOE Summary'!$G27<MIN('All Scenarios LCOE Summary'!$H27:$J27),1,0)","v":1},{"$f":"IF('All Scenarios LCOE Summary'!C27=0,IF('All Scenarios LCOE Summary'!$G27<MIN('All Scenarios LCOE Summary'!$H27:$J27),1,0),\"\")","v":1},{"$f":"IF('All Scenarios LCOE Summary'!D63=0,IF('All Scenarios LCOE Summary'!$G63<MIN('All Scenarios LCOE Summary'!$H63:$J63),1,0),\"\")","v":1},{"$f":"IF('All Scenarios LCOE Summary'!$E75=0,IF('All Scenarios LCOE Summary'!$G75<MIN('All Scenarios LCOE Summary'!$H75:$J75),1,0),\"\")","v":1},{"$f":"IF('All Scenarios LCOE Summary'!$F77=0,IF('All Scenarios LCOE Summary'!$G77<MIN('All Scenarios LCOE Summary'!$H77:$J77),1,0),\"\")","v":1}]
[{"$f":"IF('All Scenarios LCOE Summary'!G28<MIN('All Scenarios LCOE Summary'!H28:J28),1,0)","v":1},{"$f":"IF('All Scenarios LCOE Summary'!$G28<MIN('All Scenarios LCOE Summary'!$H28:$J28),1,0)","v":1},{"$f":"IF('All Scenarios LCOE Summary'!C28=0,IF('All Scenarios LCOE Summary'!$G28<MIN('All Scenarios LCOE Summary'!$H28:$J28),1,0),\"\")","v":1},{"$f":"IF('All Scenarios LCOE Summary'!D64=0,IF('All Scenarios LCOE Summary'!$G64<MIN('All Scenarios LCOE Summary'!$H64:$J64),1,0),\"\")","v":1},{"$f":"IF('All Scenarios LCOE Summary'!$E76=0,IF('All Scenarios LCOE Summary'!$G76<MIN('All Scenarios LCOE Summary'!$H76:$J76),1,0),\"\")","v":1},{"$f":"IF('All Scenarios LCOE Summary'!$F80=0,IF('All Scenarios LCOE Summary'!$G80<MIN('All Scenarios LCOE Summary'!$H80:$J80),1,0),\"\")","v":1}]
[{"$f":"IF('All Scenarios LCOE Summary'!G29<MIN('All Scenarios LCOE Summary'!H29:J29),1,0)","v":0},{"$f":"IF('All Scenarios LCOE Summary'!$G29<MIN('All Scenarios LCOE Summary'!$H29:$J29),1,0)","v":0},{"$f":"IF('All Scenarios LCOE Summary'!C83=0,IF('All Scenarios LCOE Summary'!$G83<MIN('All Scenarios LCOE Summary'!$H83:$J83),1,0),\"\")","v":1},{"$f":"IF('All Scenarios LCOE Summary'!D83=0,IF('All Scenarios LCOE Summary'!$G83<MIN('All Scenarios LCOE Summary'!$H83:$J83),1,0),\"\")","v":1},{"$f":"IF('All Scenarios LCOE Summary'!$E83=0,IF('All Scenarios LCOE Summary'!$G83<MIN('All Scenarios LCOE Summary'!$H83:$J83),1,0),\"\")","v":1},{"$f":"IF('All Scenarios LCOE Summary'!$F83=0,IF('All Scenarios LCOE Summary'!$G83<MIN('All Scenarios LCOE Summary'!$H83:$J83),1,0),\"\")","v":1}]
[{"$f":"IF('All Scenarios LCOE Summary'!G30<MIN('All Scenarios LCOE Summary'!H30:J30),1,0)","v":0},{"$f":"IF('All Scenarios LCOE Summary'!$G30<MIN('All Scenarios LCOE Summary'!$H30:$J30),1,0)","v":0},{"$f":"IF('All Scenarios LCOE Summary'!C84=0,IF('All Scenarios LCOE Summary'!$G84<MIN('All Scenarios LCOE Summary'!$H84:$J84),1,0),\"\")","v":1},{"$f":"IF('All Scenarios LCOE Summary'!D84=0,IF('All Scenarios LCOE Summary'!$G84<MIN('All Scenarios LCOE Summary'!$H84:$J84),1,0),\"\")","v":1},{"$f":"IF('All Scenarios LCOE Summary'!$E84=0,IF('All Scenarios LCOE Summary'!$G84<MIN('All Scenarios LCOE Summary'!$H84:$J84),1,0),\"\")","v":1},{"$f":"IF('All Scenarios LCOE Summary'!$F86=0,IF('All Scenarios LCOE Summary'!$G86<MIN('All Scenarios LCOE Summary'!$H86:$J86),1,0),\"\")","v":1}]
[{"$f":"IF('All Scenarios LCOE Summary'!G31<MIN('All Scenarios LCOE Summary'!H31:J31),1,0)","v":0},{"$f":"IF('All Scenarios LCOE Summary'!$G31<MIN('All Scenarios LCOE Summary'!$H31:$J31),1,0)","v":0},{"$f":"IF('All Scenarios LCOE Summary'!C85=0,IF('All Scenarios LCOE Summary'!$G85<MIN('All Scenarios LCOE Summary'!$H85:$J85),1,0),\"\")","v":1},{"$f":"IF('All Scenarios LCOE Summary'!D85=0,IF('All Scenarios LCOE Summary'!$G85<MIN('All Scenarios LCOE Summary'!$H85:$J85),1,0),\"\")","v":1},{"$f":"IF('All Scenarios LCOE Summary'!$E85=0,IF('All Scenarios LCOE Summary'!$G85<MIN('All Scenarios LCOE Summary'!$H85:$J85),1,0),\"\")","v":1},{"$f":"IF('All Scenarios LCOE Summary'!$F89=0,IF('All Scenarios LCOE Summary'!$G89<MIN('All Scenarios LCOE Summary'!$H89:$J89),1,0),\"\")","v":1}]
[{"$f":"IF('All Scenarios LCOE Summary'!G32<MIN('All Scenarios LCOE Summary'!H32:J32),1,0)","v":0},{"$f":"IF('All Scenarios LCOE Summary'!$G32<MIN('All Scenarios LCOE Summary'!$H32:$J32),1,0)","v":0},{"$f":"IF('All Scenarios LCOE Summary'!C86=0,IF('All Scenarios LCOE Summary'!$G86<MIN('All Scenarios LCOE Summary'!$H86:$J86),1,0),\"\")","v":1},{"$f":"IF('All Scenarios LCOE Summary'!D86=0,IF('All Scenarios LCOE Summary'!$G86<MIN('All Scenarios LCOE Summary'!$H86:$J86),1,0),\"\")","v":1},{"$f":"IF('All Scenarios LCOE Summary'!$E92=0,IF('All Scenarios LCOE Summary'!$G92<MIN('All Scenarios LCOE Summary'!$H92:$J92),1,0),\"\")","v":1},{"$f":"IF('All Scenarios LCOE Summary'!$F92=0,IF('All Scenarios LCOE Summary'!$G92<MIN('All Scenarios LCOE Summary'!$H92:$J92),1,0),\"\")","v":1}]
[{"$f":"IF('All Scenarios LCOE Summary'!G33<MIN('All Scenarios LCOE Summary'!H33:J33),1,0)","v":0},{"$f":"IF('All Scenarios LCOE Summary'!$G33<MIN('All Scenarios LCOE Summary'!$H33:$J33),1,0)","v":0},{"$f":"IF('All Scenarios LCOE Summary'!C87=0,IF('All Scenarios LCOE Summary'!$G87<MIN('All Scenarios LCOE Summary'!$H87:$J87),1,0),\"\")","v":1},{"$f":"IF('All Scenarios LCOE Summary'!D87=0,IF('All Scenarios LCOE Summary'!$G87<MIN('All Scenarios LCOE Summary'!$H87:$J87),1,0),\"\")","v":1},{"$f":"IF('All Scenarios LCOE Summary'!$E93=0,IF('All Scenarios LCOE Summary'!$G93<MIN('All Scenarios LCOE Summary'!$H93:$J93),1,0),\"\")","v":1},{"$f":"IF('All Scenarios LCOE Summary'!$F95=0,IF('All Scenarios LCOE Summary'!$G95<MIN('All Scenarios LCOE Summary'!$H95:$J95),1,0),\"\")","v":1}]
[{"$f":"IF('All Scenarios LCOE Summary'!G34<MIN('All Scenarios LCOE Summary'!H34:J34),1,0)","v":0},{"$f":"IF('All Scenarios LCOE Summary'!$G34<MIN('All Scenarios LCOE Summary'!$H34:$J34),1,0)","v":0},{"$f":"IF('All Scenarios LCOE Summary'!C88=0,IF('All Scenarios LCOE Summary'!$G88<MIN('All Scenarios LCOE Summary'!$H88:$J88),1,0),\"\")","v":1},{"$f":"IF('All Scenarios LCOE Summary'!D88=0,IF('All Scenarios LCOE Summary'!$G88<MIN('All Scenarios LCOE Summary'!$H88:$J88),1,0),\"\")","v":1},{"$f":"IF('All Scenarios LCOE Summary'!$E94=0,IF('All Scenarios LCOE Summary'!$G94<MIN('All Scenarios LCOE Summary'!$H94:$J94),1,0),\"\")","v":1},{"$f":"IF('All Scenarios LCOE Summary'!$F98=0,IF('All Scenarios LCOE Summary'!$G98<MIN('All Scenarios LCOE Summary'!$H98:$J98),1,0),\"\")","v":1}]
[{"$f":"IF('All Scenarios LCOE Summary'!G35<MIN('All Scenarios LCOE Summary'!H35:J35),1,0)","v":1},{"$f":"IF('All Scenarios LCOE Summary'!$G35<MIN('All Scenarios LCOE Summary'!$H35:$J35),1,0)","v":1},{"$f":"IF('All Scenarios LCOE Summary'!C89=0,IF('All Scenarios LCOE Summary'!$G89<MIN('All Scenarios LCOE Summary'!$H89:$J89),1,0),\"\")","v":1},{"$f":"IF('All Scenarios LCOE Summary'!D89=0,IF('All Scenarios LCOE Summary'!$G89<MIN('All Scenarios LCOE Summary'!$H89:$J89),1,0),\"\")","v":1},{"$f":"IF('All Scenarios LCOE Summary'!$E101=0,IF('All Scenarios LCOE Summary'!$G101<MIN('All Scenarios LCOE Summary'!$H101:$J101),1,0),\"\")","v":1},{"$f":"IF('All Scenarios LCOE Summary'!$F101=0,IF('All Scenarios LCOE Summary'!$G101<MIN('All Scenarios LCOE Summary'!$H101:$J101),1,0),\"\")","v":1}]
[{"$f":"IF('All Scenarios LCOE Summary'!G36<MIN('All Scenarios LCOE Summary'!H36:J36),1,0)","v":1},{"$f":"IF('All Scenarios LCOE Summary'!$G36<MIN('All Scenarios LCOE Summary'!$H36:$J36),1,0)","v":1},{"$f":"IF('All Scenarios LCOE Summary'!C90=0,IF('All Scenarios LCOE Summary'!$G90<MIN('All Scenarios LCOE Summary'!$H90:$J90),1,0),\"\")","v":1},{"$f":"IF('All Scenarios LCOE Summary'!D90=0,IF('All Scenarios LCOE Summary'!$G90<MIN('All Scenarios LCOE Summary'!$H90:$J90),1,0),\"\")","v":1},{"$f":"IF('All Scenarios LCOE Summary'!$E102=0,IF('All Scenarios LCOE Summary'!$G102<MIN('All Scenarios LCOE Summary'!$H102:$J102),1,0),\"\")","v":1},{"$f":"IF('All Scenarios LCOE Summary'!$F104=0,IF('All Scenarios LCOE Summary'!$G104<MIN('All Scenarios LCOE Summary'!$H104:$J104),1,0),\"\")","v":1}]
[{"$f":"IF('All Scenarios LCOE Summary'!G37<MIN('All Scenarios LCOE Summary'!H37:J37),1,0)","v":1},{"$f":"IF('All Scenarios LCOE Summary'!$G37<MIN('All Scenarios LCOE Summary'!$H37:$J37),1,0)","v":1},{"$f":"IF('All Scenarios LCOE Summary'!C91=0,IF('All Scenarios LCOE Summary'!$G91<MIN('All Scenarios LCOE Summary'!$H91:$J91),1,0),\"\")","v":1},{"$f":"IF('All Scenarios LCOE Summary'!D91=0,IF('All Scenarios LCOE Summary'!$G91<MIN('All Scenarios LCOE Summary'!$H91:$J91),1,0),\"\")","v":1},{"$f":"IF('All Scenarios LCOE Summary'!$E103=0,IF('All Scenarios LCOE Summary'!$G103<MIN('All Scenarios LCOE Summary'!$H103:$J103),1,0),\"\")","v":1},{"$f":"IF('All Scenarios LCOE Summary'!$F107=0,IF('All Scenarios LCOE Summary'!$G107<MIN('All Scenarios LCOE Summary'!$H107:$J107),1,0),\"\")","v":1}]
[{"$f":"IF('All Scenarios LCOE Summary'!G38<MIN('All Scenarios LCOE Summary'!H38:J38),1,0)","v":1},{"$f":"IF('All Scenarios LCOE Summary'!$G38<MIN('All Scenarios LCOE Summary'!$H38:$J38),1,0)","v":1},{"$f":"IF('All Scenarios LCOE Summary'!C92=0,IF('All Scenarios LCOE Summary'!$G92<MIN('All Scenarios LCOE Summary'!$H92:$J92),1,0),\"\")","v":1},{"$f":"IF('All Scenarios LCOE Summary'!D110=0,IF('All Scenarios LCOE Summary'!$G110<MIN('All Scenarios LCOE Summary'!$H110:$J110),1,0),\"\")","v":1},{"$f":"IF('All Scenarios LCOE Summary'!$E110=0,IF('All Scenarios LCOE Summary'!$G110<MIN('All Scenarios LCOE Summary'!$H110:$J110),1,0),\"\")","v":1},{"$f":"IF('All Scenarios LCOE Summary'!$F110=0,IF('All Scenarios LCOE Summary'!$G110<MIN('All Scenarios LCOE Summary'!$H110:$J110),1,0),\"\")","v":1}]
[{"$f":"IF('All Scenarios LCOE Summary'!G39<MIN('All Scenarios LCOE Summary'!H39:J39),1,0)","v":1},{"$f":"IF('All Scenarios LCOE Summary'!$G39<MIN('All Scenarios LCOE Summary'!$H39:$J39),1,0)","v":1},{"$f":"IF('All Scenarios LCOE Summary'!C93=0,IF('All Scenarios LCOE Summary'!$G93<MIN('All Scenarios LCOE Summary'!$H93:$J93),1,0),\"\")","v":1},{"$f":"IF('All Scenarios LCOE Summary'!D111=0,IF('All Scenarios LCOE Summary'!$G111<MIN('All Scenarios LCOE Summary'!$H111:$J111),1,0),\"\")","v":1},{"$f":"IF('All Scenarios LCOE Summary'!$E111=0,IF('All Scenarios LCOE Summary'!$G111<MIN('All Scenarios LCOE Summary'!$H111:$J111),1,0),\"\")","v":1},{"$f":"IF('All Scenarios LCOE Summary'!$F113=0,IF('All Scenarios LCOE Summary'!$G113<MIN('All Scenarios LCOE Summary'!$H113:$J113),1,0),\"\")","v":1}]
[{"$f":"IF('All Scenarios LCOE Summary'!G40<MIN('All Scenarios LCOE Summary'!H40:J40),1,0)","v":1},{"$f":"IF('All Scenarios LCOE Summary'!$G40<MIN('All Scenarios LCOE Summary'!$H40:$J40),1,0)","v":1},{"$f":"IF('All Scenarios LCOE Summary'!C94=0,IF('All Scenarios LCOE Summary'!$G94<MIN('All Scenarios LCOE Summary'!$H94:$J94),1,0),\"\")","v":1},{"$f":"IF('All Scenarios LCOE Summary'!D112=0,IF('All Scenarios LCOE Summary'!$G112<MIN('All Scenarios LCOE Summary'!$H112:$J112),1,0),\"\")","v":1},{"$f":"IF('All Scenarios LCOE Summary'!$E112=0,IF('All Scenarios LCOE Summary'!$G112<MIN('All Scenarios LCOE Summary'!$H112:$J112),1,0),\"\")","v":1},{"$f":"IF('All Scenarios LCOE Summary'!$F116=0,IF('All Scenarios LCOE Summary'!$G116<MIN('All Scenarios LCOE Summary'!$H116:$J116),1,0),\"\")","v":1}]
[{"$f":"IF('All Scenarios LCOE Summary'!G41<MIN('All Scenarios LCOE Summary'!H41:J41),1,0)","v":1},{"$f":"IF('All Scenarios LCOE Summary'!$G41<MIN('All Scenarios LCOE Summary'!$H41:$J41),1,0)","v":1},{"$f":"IF('All Scenarios LCOE Summary'!C95=0,IF('All Scenarios LCOE Summary'!$G95<MIN('All Scenarios LCOE Summary'!$H95:$J95),1,0),\"\")","v":1},{"$f":"IF('All Scenarios LCOE Summary'!D113=0,IF('All Scenarios LCOE Summary'!$G113<MIN('All Scenarios LCOE Summary'!$H113:$J113),1,0),\"\")","v":1},{"$f":"IF('All Scenarios LCOE Summary'!$E119=0,IF('All Scenarios LCOE Summary'!$G119<MIN('All Scenarios LCOE Summary'!$H119:$J119),1,0),\"\")","v":1},{"$f":"IF('All Scenarios LCOE Summary'!$F119=0,IF('All Scenarios LCOE Summary'!$G119<MIN('All Scenarios LCOE Summary'!$H119:$J119),1,0),\"\")","v":1}]
[{"$f":"IF('All Scenarios LCOE Summary'!G42<MIN('All Scenarios LCOE Summary'!H42:J42),1,0)","v":1},{"$f":"IF('All Scenarios LCOE Summary'!$G42<MIN('All Scenarios LCOE Summary'!$H42:$J42),1,0)","v":1},{"$f":"IF('All Scenarios LCOE Summary'!C96=0,IF('All Scenarios LCOE Summary'!$G96<MIN('All Scenarios LCOE Summary'!$H96:$J96),1,0),\"\")","v":1},{"$f":"IF('All Scenarios LCOE Summary'!D114=0,IF('All Scenarios LCOE Summary'!$G114<MIN('All Scenarios LCOE Summary'!$H114:$J114),1,0),\"\")","v":1},{"$f":"IF('All Scenarios LCOE Summary'!$E120=0,IF('All Scenarios LCOE Summary'!$G120<MIN('All Scenarios LCOE Summary'!$H120:$J120),1,0),\"\")","v":1},{"$f":"IF('All Scenarios LCOE Summary'!$F122=0,IF('All Scenarios LCOE Summary'!$G122<MIN('All Scenarios LCOE Summary'!$H122:$J122),1,0),\"\")","v":1}]
[{"$f":"IF('All Scenarios LCOE Summary'!G43<MIN('All Scenarios LCOE Summary'!H43:J43),1,0)","v":1},{"$f":"IF('All Scenarios LCOE Summary'!$G43<MIN('All Scenarios LCOE Summary'!$H43:$J43),1,0)","v":1},{"$f":"IF('All Scenarios LCOE Summary'!C97=0,IF('All Scenarios LCOE Summary'!$G97<MIN('All Scenarios LCOE Summary'!$H97:$J97),1,0),\"\")","v":1},{"$f":"IF('All Scenarios LCOE Summary'!D115=0,IF('All Scenarios LCOE Summary'!$G115<MIN('All Scenarios LCOE Summary'!$H115:$J115),1,0),\"\")","v":1},{"$f":"IF('All Scenarios LCOE Summary'!$E121=0,IF('All Scenarios LCOE Summary'!$G121<MIN('All Scenarios LCOE Summary'!$H121:$J121),1,0),\"\")","v":1},{"$f":"IF('All Scenarios LCOE Summary'!$F125=0,IF('All Scenarios LCOE Summary'!$G125<MIN('All Scenarios LCOE Summary'!$H125:$J125),1,0),\"\")","v":1}]
[{"$f":"IF('All Scenarios LCOE Summary'!G44<MIN('All Scenarios LCOE Summary'!H44:J44),1,0)","v":1},{"$f":"IF('All Scenarios LCOE Summary'!$G44<MIN('All Scenarios LCOE Summary'!$H44:$J44),1,0)","v":1},{"$f":"IF('All Scenarios LCOE Summary'!C98=0,IF('All Scenarios LCOE Summary'!$G98<MIN('All Scenarios LCOE Summary'!$H98:$J98),1,0),\"\")","v":1},{"$f":"IF('All Scenarios LCOE Summary'!D116=0,IF('All Scenarios LCOE Summary'!$G116<MIN('All Scenarios LCOE Summary'!$H116:$J116),1,0),\"\")","v":1},{"$f":"IF('All Scenarios LCOE Summary'!$E128=0,IF('All Scenarios LCOE Summary'!$G128<MIN('All Scenarios LCOE Summary'!$H128:$J128),1,0),\"\")","v":1},{"$f":"IF('All Scenarios LCOE Summary'!$F128=0,IF('All Scenarios LCOE Summary'!$G128<MIN('All Scenarios LCOE Summary'!$H128:$J128),1,0),\"\")","v":1}]
[{"$f":"IF('All Scenarios LCOE Summary'!G45<MIN('All Scenarios LCOE Summary'!H45:J45),1,0)","v":1},{"$f":"IF('All Scenarios LCOE Summary'!$G45<MIN('All Scenarios LCOE Summary'!$H45:$J45),1,0)","v":1},{"$f":"IF('All Scenarios LCOE Summary'!C99=0,IF('All Scenarios LCOE Summary'!$G99<MIN('All Scenarios LCOE Summary'!$H99:$J99),1,0),\"\")","v":1},{"$f":"IF('All Scenarios LCOE Summary'!D117=0,IF('All Scenarios LCOE Summary'!$G117<MIN('All Scenarios LCOE Summary'!$H117:$J117),1,0),\"\")","v":1},{"$f":"IF('All Scenarios LCOE Summary'!$E129=0,IF('All Scenarios LCOE Summary'!$G129<MIN('All Scenarios LCOE Summary'!$H129:$J129),1,0),\"\")","v":1},{"$f":"IF('All Scenarios LCOE Summary'!$F131=0,IF('All Scenarios LCOE Summary'!$G131<MIN('All Scenarios LCOE Summary'!$H131:$J131),1,0),\"\")","v":1}]
[{"$f":"IF('All Scenarios LCOE Summary'!G46<MIN('All Scenarios LCOE Summary'!H46:J46),1,0)","v":1},{"$f":"IF('All Scenarios LCOE Summary'!$G46<MIN('All Scenarios LCOE Summary'!$H46:$J46),1,0)","v":1},{"$f":"IF('All Scenarios LCOE Summary'!C100=0,IF('All Scenarios LCOE Summary'!$G100<MIN('All Scenarios LCOE Summary'!$H100:$J100),1,0),\"\")","v":1},{"$f":"IF('All Scenarios LCOE Summary'!D118=0,IF('All Scenarios LCOE Summary'!$G118<MIN('All Scenarios LCOE Summary'!$H118:$J118),1,0),\"\")","v":1},{"$f":"IF('All Scenarios LCOE Summary'!$E130=0,IF('All Scenarios LCOE Summary'!$G130<MIN('All Scenarios LCOE Summary'!$H130:$J130),1,0),\"\")","v":1},{"$f":"IF('All Scenarios LCOE Summary'!$F134=0,IF('All Scenarios LCOE Summary'!$G134<MIN('All Scenarios LCOE Summary'!$H134:$J134),1,0),\"\")","v":1}]
[{"$f":"IF('All Scenarios LCOE Summary'!G47<MIN('All Scenarios LCOE Summary'!H47:J47),1,0)","v":1},{"$f":"IF('All Scenarios LCOE Summary'!$G47<MIN('All Scenarios LCOE Summary'!$H47:$J47),1,0)","v":1},{"$f":"IF('All Scenarios LCOE Summary'!C101=0,IF('All Scenarios LCOE Summary'!$G101<MIN('All Scenarios LCOE Summary'!$H101:$J101),1,0),\"\")","v":1},{"$f":"IF('All Scenarios LCOE Summary'!D137=0,IF('All Scenarios LCOE Summary'!$G137<MIN('All Scenarios LCOE Summary'!$H137:$J137),1,0),\"\")","v":1},{"$f":"IF('All Scenarios LCOE Summary'!$E137=0,IF('All Scenarios LCOE Summary'!$G137<MIN('All Scenarios LCOE Summary'!$H137:$J137),1,0),\"\")","v":1},{"$f":"IF('All Scenarios LCOE Summary'!$F137=0,IF('All Scenarios LCOE Summary'!$G137<MIN('All Scenarios LCOE Summary'!$H137:$J137),1,0),\"\")","v":1}]
[{"$f":"IF('All Scenarios LCOE Summary'!G48<MIN('All Scenarios LCOE Summary'!H48:J48),1,0)","v":1},{"$f":"IF('All Scenarios LCOE Summary'!$G48<MIN('All Scenarios LCOE Summary'!$H48:$J48),1,0)","v":1},{"$f":"IF('All Scenarios LCOE Summary'!C102=0,IF('All Scenarios LCOE Summary'!$G102<MIN('All Scenarios LCOE Summary'!$H102:$J102),1,0),\"\")","v":1},{"$f":"IF('All Scenarios LCOE Summary'!D138=0,IF('All Scenarios LCOE Summary'!$G138<MIN('All Scenarios LCOE Summary'!$H138:$J138),1,0),\"\")","v":1},{"$f":"IF('All Scenarios LCOE Summary'!$E138=0,IF('All Scenarios LCOE Summary'!$G138<MIN('All Scenarios LCOE Summary'!$H138:$J138),1,0),\"\")","v":1},{"$f":"IF('All Scenarios LCOE Summary'!$F140=0,IF('All Scenarios LCOE Summary'!$G140<MIN('All Scenarios LCOE Summary'!$H140:$J140),1,0),\"\")","v":1}]
[{"$f":"IF('All Scenarios LCOE Summary'!G49<MIN('All Scenarios LCOE Summary'!H49:J49),1,0)","v":1},{"$f":"IF('All Scenarios LCOE Summary'!$G49<MIN('All Scenarios LCOE Summary'!$H49:$J49),1,0)","v":1},{"$f":"IF('All Scenarios LCOE Summary'!C103=0,IF('All Scenarios LCOE Summary'!$G103<MIN('All Scenarios LCOE Summary'!$H103:$J103),1,0),\"\")","v":1},{"$f":"IF('All Scenarios LCOE Summary'!D139=0,IF('All Scenarios LCOE Summary'!$G139<MIN('All Scenarios LCOE Summary'!$H139:$J139),1,0),\"\")","v":1},{"$f":"IF('All Scenarios LCOE Summary'!$E139=0,IF('All Scenarios LCOE Summary'!$G139<MIN('All Scenarios LCOE Summary'!$H139:$J139),1,0),\"\")","v":1},{"$f":"IF('All Scenarios LCOE Summary'!$F143=0,IF('All Scenarios LCOE Summary'!$G143<MIN('All Scenarios LCOE Summary'!$H143:$J143),1,0),\"\")","v":1}]
[{"$f":"IF('All Scenarios LCOE Summary'!G50<MIN('All Scenarios LCOE Summary'!H50:J50),1,0)","v":1},{"$f":"IF('All Scenarios LCOE Summary'!$G50<MIN('All Scenarios LCOE Summary'!$H50:$J50),1,0)","v":1},{"$f":"IF('All Scenarios LCOE Summary'!C104=0,IF('All Scenarios LCOE Summary'!$G104<MIN('All Scenarios LCOE Summary'!$H104:$J104),1,0),\"\")","v":1},{"$f":"IF('All Scenarios LCOE Summary'!D140=0,IF('All Scenarios LCOE Summary'!$G140<MIN('All Scenarios LCOE Summary'!$H140:$J140),1,0),\"\")","v":1},{"$f":"IF('All Scenarios LCOE Summary'!$E146=0,IF('All Scenarios LCOE Summary'!$G146<MIN('All Scenarios LCOE Summary'!$H146:$J146),1,0),\"\")","v":1},{"$f":"IF('All Scenarios LCOE Summary'!$F146=0,IF('All Scenarios LCOE Summary'!$G146<MIN('All Scenarios LCOE Summary'!$H146:$J146),1,0),\"\")","v":1}]
[{"$f":"IF('All Scenarios LCOE Summary'!G51<MIN('All Scenarios LCOE Summary'!H51:J51),1,0)","v":1},{"$f":"IF('All Scenarios LCOE Summary'!$G51<MIN('All Scenarios LCOE Summary'!$H51:$J51),1,0)","v":1},{"$f":"IF('All Scenarios LCOE Summary'!C105=0,IF('All Scenarios LCOE Summary'!$G105<MIN('All Scenarios LCOE Summary'!$H105:$J105),1,0),\"\")","v":1},{"$f":"IF('All Scenarios LCOE Summary'!D141=0,IF('All Scenarios LCOE Summary'!$G141<MIN('All Scenarios LCOE Summary'!$H141:$J141),1,0),\"\")","v":1},{"$f":"IF('All Scenarios LCOE Summary'!$E147=0,IF('All Scenarios LCOE Summary'!$G147<MIN('All Scenarios LCOE Summary'!$H147:$J147),1,0),\"\")","v":1},{"$f":"IF('All Scenarios LCOE Summary'!$F149=0,IF('All Scenarios LCOE Summary'!$G149<MIN('All Scenarios LCOE Summary'!$H149:$J149),1,0),\"\")","v":1}]
[{"$f":"IF('All Scenarios LCOE Summary'!G52<MIN('All Scenarios LCOE Summary'!H52:J52),1,0)","v":1},{"$f":"IF('All Scenarios LCOE Summary'!$G52<MIN('All Scenarios LCOE Summary'!$H52:$J52),1,0)","v":1},{"$f":"IF('All Scenarios LCOE Summary'!C106=0,IF('All Scenarios LCOE Summary'!$G106<MIN('All Scenarios LCOE Summary'!$H106:$J106),1,0),\"\")","v":1},{"$f":"IF('All Scenarios LCOE Summary'!D142=0,IF('All Scenarios LCOE Summary'!$G142<MIN('All Scenarios LCOE Summary'!$H142:$J142),1,0),\"\")","v":1},{"$f":"IF('All Scenarios LCOE Summary'!$E148=0,IF('All Scenarios LCOE Summary'!$G148<MIN('All Scenarios LCOE Summary'!$H148:$J148),1,0),\"\")","v":1},{"$f":"IF('All Scenarios LCOE Summary'!$F152=0,IF('All Scenarios LCOE Summary'!$G152<MIN('All Scenarios LCOE Summary'!$H152:$J152),1,0),\"\")","v":1}]
[{"$f":"IF('All Scenarios LCOE Summary'!G53<MIN('All Scenarios LCOE Summary'!H53:J53),1,0)","v":1},{"$f":"IF('All Scenarios LCOE Summary'!$G53<MIN('All Scenarios LCOE Summary'!$H53:$J53),1,0)","v":1},{"$f":"IF('All Scenarios LCOE Summary'!C107=0,IF('All Scenarios LCOE Summary'!$G107<MIN('All Scenarios LCOE Summary'!$H107:$J107),1,0),\"\")","v":1},{"$f":"IF('All Scenarios LCOE Summary'!D143=0,IF('All Scenarios LCOE Summary'!$G143<MIN('All Scenarios LCOE Summary'!$H143:$J143),1,0),\"\")","v":1},{"$f":"IF('All Scenarios LCOE Summary'!$E155=0,IF('All Scenarios LCOE Summary'!$G155<MIN('All Scenarios LCOE Summary'!$H155:$J155),1,0),\"\")","v":1},{"$f":"IF('All Scenarios LCOE Summary'!$F155=0,IF('All Scenarios LCOE Summary'!$G155<MIN('All Scenarios LCOE Summary'!$H155:$J155),1,0),\"\")","v":1}]
[{"$f":"IF('All Scenarios LCOE Summary'!G54<MIN('All Scenarios LCOE Summary'!H54:J54),1,0)","v":1},{"$f":"IF('All Scenarios LCOE Summary'!$G54<MIN('All Scenarios LCOE Summary'!$H54:$J54),1,0)","v":1},{"$f":"IF('All Scenarios LCOE Summary'!C108=0,IF('All Scenarios LCOE Summary'!$G108<MIN('All Scenarios LCOE Summary'!$H108:$J108),1,0),\"\")","v":1},{"$f":"IF('All Scenarios LCOE Summary'!D144=0,IF('All Scenarios LCOE Summary'!$G144<MIN('All Scenarios LCOE Summary'!$H144:$J144),1,0),\"\")","v":1},{"$f":"IF('All Scenarios LCOE Summary'!$E156=0,IF('All Scenarios LCOE Summary'!$G156<MIN('All Scenarios LCOE Summary'!$H156:$J156),1,0),\"\")","v":1},{"$f":"IF('All Scenarios LCOE Summary'!$F158=0,IF('All Scenarios LCOE Summary'!$G158<MIN('All Scenarios LCOE Summary'!$H158:$J158),1,0),\"\")","v":1}]
[{"$f":"IF('All Scenarios LCOE Summary'!G55<MIN('All Scenarios LCOE Summary'!H55:J55),1,0)","v":1},{"$f":"IF('All Scenarios LCOE Summary'!$G55<MIN('All Scenarios LCOE Summary'!$H55:$J55),1,0)","v":1},{"$f":"IF('All Scenarios LCOE Summary'!C109=0,IF('All Scenarios LCOE Summary'!$G109<MIN('All Scenarios LCOE Summary'!$H109:$J109),1,0),\"\")","v":1},{"$f":"IF('All Scenarios LCOE Summary'!D145=0,IF('All Scenarios LCOE Summary'!$G145<MIN('All Scenarios LCOE Summary'!$H145:$J145),1,0),\"\")","v":1},{"$f":"IF('All Scenarios LCOE Summary'!$E157=0,IF('All Scenarios LCOE Summary'!$G157<MIN('All Scenarios LCOE Summary'!$H157:$J157),1,0),\"\")","v":1},{"$f":"IF('All Scenarios LCOE Summary'!$F161=0,IF('All Scenarios LCOE Summary'!$G161<MIN('All Scenarios LCOE Summary'!$H161:$J161),1,0),\"\")","v":1}]
[{"$f":"IF('All Scenarios LCOE Summary'!G56<MIN('All Scenarios LCOE Summary'!H56:J56),1,0)","v":1},{"$f":"IF('All Scenarios LCOE Summary'!$G56<MIN('All Scenarios LCOE Summary'!$H56:$J56),1,0)","v":1},{"$f":"IF('All Scenarios LCOE Summary'!C29=1,IF('All Scenarios LCOE Summary'!$G29<MIN('All Scenarios LCOE Summary'!$H29:$J29),1,0),\"\")","v":0},{"$f":"IF('All Scenarios LCOE Summary'!D11=1,IF('All Scenarios LCOE Summary'!$G11<MIN('All Scenarios LCOE Summary'!$H11:$J11),1,0),\"\")","v":0},{"$f":"IF('All Scenarios LCOE Summary'!$E5=1,IF('All Scenarios LCOE Summary'!$G5<MIN('All Scenarios LCOE Summary'!$H5:$J5),1,0),\"\")","v":0},{"$f":"IF('All Scenarios LCOE Summary'!$F3=1,IF('All Scenarios LCOE Summary'!$G3<MIN('All Scenarios LCOE Summary'!$H3:$J3),1,0),\"\")","v":0}]
[{"$f":"IF('All Scenarios LCOE Summary'!G57<MIN('All Scenarios LCOE Summary'!H57:J57),1,0)","v":1},{"$f":"IF('All Scenarios LCOE Summary'!$G57<MIN('All Scenarios LCOE Summary'!$H57:$J57),1,0)","v":1},{"$f":"IF('All Scenarios LCOE Summary'!C30=1,IF('All Scenarios LCOE Summary'!$G30<MIN('All Scenarios LCOE Summary'!$H30:$J30),1,0),\"\")","v":0},{"$f":"IF('All Scenarios LCOE Summary'!D12=1,IF('All Scenarios LCOE Summary'!$G12<MIN('All Scenarios LCOE Summary'!$H12:$J12),1,0),\"\")","v":0},{"$f":"IF('All Scenarios LCOE Summary'!$E6=1,IF('All Scenarios LCOE Summary'!$G6<MIN('All Scenarios LCOE Summary'!$H6:$J6),1,0),\"\")","v":0},{"$f":"IF('All Scenarios LCOE Summary'!$F6=1,IF('All Scenarios LCOE Summary'!$G6<MIN('All Scenarios LCOE Summary'!$H6:$J6),1,0),\"\")","v":0}]
[{"$f":"IF('All Scenarios LCOE Summary'!G58<MIN('All Scenarios LCOE Summary'!H58:J58),1,0)","v":1},{"$f":"IF('All Scenarios LCOE Summary'!$G58<MIN('All Scenarios LCOE Summary'!$H58:$J58),1,0)","v":1},{"$f":"IF('All Scenarios LCOE Summary'!C31=1,IF('All Scenarios LCOE Summary'!$G31<MIN('All Scenarios LCOE Summary'!$H31:$J31),1,0),\"\")","v":0},{"$f":"IF('All Scenarios LCOE Summary'!D13=1,IF('All Scenarios LCOE Summary'!$G13<MIN('All Scenarios LCOE Summary'!$H13:$J13),1,0),\"\")","v":0},{"$f":"IF('All Scenarios LCOE Summary'!$E7=1,IF('All Scenarios LCOE Summary'!$G7<MIN('All Scenarios LCOE Summary'!$H7:$J7),1,0),\"\")","v":0},{"$f":"IF('All Scenarios LCOE Summary'!$F9=1,IF('All Scenarios LCOE Summary'!$G9<MIN('All Scenarios LCOE Summary'!$H9:$J9),1,0),\"\")","v":0}]
[{"$f":"IF('All Scenarios LCOE Summary'!G59<MIN('All Scenarios LCOE Summary'!H59:J59),1,0)","v":1},{"$f":"IF('All Scenarios LCOE Summary'!$G59<MIN('All Scenarios LCOE Summary'!$H59:$J59),1,0)","v":1},{"$f":"IF('All Scenarios LCOE Summary'!C32=1,IF('All Scenarios LCOE Summary'!$G32<MIN('All Scenarios LCOE Summary'!$H32:$J32),1,0),\"\")","v":0},{"$f":"IF('All Scenarios LCOE Summary'!D14=1,IF('All Scenarios LCOE Summary'!$G14<MIN('All Scenarios LCOE Summary'!$H14:$J14),1,0),\"\")","v":0},{"$f":"IF('All Scenarios LCOE Summary'!$E14=1,IF('All Scenarios LCOE Summary'!$G14<MIN('All Scenarios LCOE Summary'!$H14:$J14),1,0),\"\")","v":0},{"$f":"IF('All Scenarios LCOE Summary'!$F12=1,IF('All Scenarios LCOE Summary'!$G12<MIN('All Scenarios LCOE Summary'!$H12:$J12),1,0),\"\")","v":0}]
[{"$f":"IF('All Scenarios LCOE Summary'!G60<MIN('All Scenarios LCOE Summary'!H60:J60),1,0)","v":1},{"$f":"IF('All Scenarios LCOE Summary'!$G60<MIN('All Scenarios LCOE Summary'!$H60:$J60),1,0)","v":1},{"$f":"IF('All Scenarios LCOE Summary'!C33=1,IF('All Scenarios LCOE Summary'!$G33<MIN('All Scenarios LCOE Summary'!$H33:$J33),1,0),\"\")","v":0},{"$f":"IF('All Scenarios LCOE Summary'!D15=1,IF('All Scenarios LCOE Summary'!$G15<MIN('All Scenarios LCOE Summary'!$H15:$J15),1,0),\"\")","v":0},{"$f":"IF('All Scenarios LCOE Summary'!$E15=1,IF('All Scenarios LCOE Summary'!$G15<MIN('All Scenarios LCOE Summary'!$H15:$J15),1,0),\"\")","v":0},{"$f":"IF('All Scenarios LCOE Summary'!$F15=1,IF('All Scenarios LCOE Summary'!$G15<MIN('All Scenarios LCOE Summary'!$H15:$J15),1,0),\"\")","v":0}]
[{"$f":"IF('All Scenarios LCOE Summary'!G61<MIN('All Scenarios LCOE Summary'!H61:J61),1,0)","v":1},{"$f":"IF('All Scenarios LCOE Summary'!$G61<MIN('All Scenarios LCOE Summary'!$H61:$J61),1,0)","v":1},{"$f":"IF('All Scenarios LCOE Summary'!C34=1,IF('All Scenarios LCOE Summary'!$G34<MIN('All Scenarios LCOE Summary'!$H34:$J34),1,0),\"\")","v":0},{"$f":"IF('All Scenarios LCOE Summary'!D16=1,IF('All Scenarios LCOE Summary'!$G16<MIN('All Scenarios LCOE Summary'!$H16:$J16),1,0),\"\")","v":0},{"$f":"IF('All Scenarios LCOE Summary'!$E16=1,IF('All Scenarios LCOE Summary'!$G16<MIN('All Scenarios LCOE Summary'!$H16:$J16),1,0),\"\")","v":0},{"$f":"IF('All Scenarios LCOE Summary'!$F18=1,IF('All Scenarios LCOE Summary'!$G18<MIN('All Scenarios LCOE Summary'!$H18:$J18),1,0),\"\")","v":0}]
[{"$f":"IF('All Scenarios LCOE Summary'!G62<MIN('All Scenarios LCOE Summary'!H62:J62),1,0)","v":1},{"$f":"IF('All Scenarios LCOE Summary'!$G62<MIN('All Scenarios LCOE Summary'!$H62:$J62),1,0)","v":1},{"$f":"IF('All Scenarios LCOE Summary'!C35=1,IF('All Scenarios LCOE Summary'!$G35<MIN('All Scenarios LCOE Summary'!$H35:$J35),1,0),\"\")","v":1},{"$f":"IF('All Scenarios LCOE Summary'!D17=1,IF('All Scenarios LCOE Summary'!$G17<MIN('All Scenarios LCOE Summary'!$H17:$J17),1,0),\"\")","v":0},{"$f":"IF('All Scenarios LCOE Summary'!$E23=1,IF('All Scenarios LCOE Summary'!$G23<MIN('All Scenarios LCOE Summary'!$H23:$J23),1,0),\"\")","v":1},{"$f":"IF('All Scenarios LCOE Summary'!$F21=1,IF('All Scenarios LCOE Summary'!$G21<MIN('All Scenarios LCOE Summary'!$H21:$J21),1,0),\"\")","v":0}]
[{"$f":"IF('All Scenarios LCOE Summary'!G63<MIN('All Scenarios LCOE Summary'!H63:J63),1,0)","v":1},{"$f":"IF('All Scenarios LCOE Summary'!$G63<MIN('All Scenarios LCOE Summary'!$H63:$J63),1,0)","v":1},{"$f":"IF('All Scenarios LCOE Summary'!C36=1,IF('All Scenarios LCOE Summary'!$G36<MIN('All Scenarios LCOE Summary'!$H36:$J36),1,0),\"\")","v":1},{"$f":"IF('All Scenarios LCOE Summary'!D18=1,IF('All Scenarios LCOE Summary'!$G18<MIN('All Scenarios LCOE Summary'!$H18:$J18),1,0),\"\")","v":0},{"$f":"IF('All Scenarios LCOE Summary'!$E24=1,IF('All Scenarios LCOE Summary'!$G24<MIN('All Scenarios LCOE Summary'!$H24:$J24),1,0),\"\")","v":1},{"$f":"IF('All Scenarios LCOE Summary'!$F24=1,IF('All Scenarios LCOE Summary'!$G24<MIN('All Scenarios LCOE Summary'!$H24:$J24),1,0),\"\")","v":1}]
[{"$f":"IF('All Scenarios LCOE Summary'!G64<MIN('All Scenarios LCOE Summary'!H64:J64),1,0)","v":1},{"$f":"IF('All Scenarios LCOE Summary'!$G64<MIN('All Scenarios LCOE Summary'!$H64:$J64),1,0)","v":1},{"$f":"IF('All Scenarios LCOE Summary'!C37=1,IF('All Scenarios LCOE Summary'!$G37<MIN('All Scenarios LCOE Summary'!$H37:$J37),1,0),\"\")","v":1},{"$f":"IF('All Scenarios LCOE Summary'!D19=1,IF('All Scenarios LCOE Summary'!$G19<MIN('All Scenarios LCOE Summary'!$H19:$J19),1,0),\"\")","v":0},{"$f":"IF('All Scenarios LCOE Summary'!$E25=1,IF('All Scenarios LCOE Summary'!$G25<MIN('All Scenarios LCOE Summary'!$H25:$J25),1,0),\"\")","v":1},{"$f":"IF('All Scenarios LCOE Summary'!$F27=1,IF('All Scenarios LCOE Summary'!$G27<MIN('All Scenarios LCOE Summary'!$H27:$J27),1,0),\"\")","v":1}]
[{"$f":"IF('All Scenarios LCOE Summary'!G65<MIN('All Scenarios LCOE Summary'!H65:J65),1,0)","v":1},{"$f":"IF('All Scenarios LCOE Summary'!$G65<MIN('All Scenarios LCOE Summary'!$H65:$J65),1,0)","v":1},{"$f":"IF('All Scenarios LCOE Summary'!C38=1,IF('All Scenarios LCOE Summary'!$G38<MIN('All Scenarios LCOE Summary'!$H38:$J38),1,0),\"\")","v":1},{"$f":"IF('All Scenarios LCOE Summary'!D38=1,IF('All Scenarios LCOE Summary'!$G38<MIN('All Scenarios LCOE Summary'!$H38:$J38),1,0),\"\")","v":1},{"$f":"IF('All Scenarios LCOE Summary'!$E32=1,IF('All Scenarios LCOE Summary'!$G32<MIN('All Scenarios LCOE Summary'!$H32:$J32),1,0),\"\")","v":0},{"$f":"IF('All Scenarios LCOE Summary'!$F30=1,IF('All Scenarios LCOE Summary'!$G30<MIN('All Scenarios LCOE Summary'!$H30:$J30),1,0),\"\")","v":0}]
[{"$f":"IF('All Scenarios LCOE Summary'!G66<MIN('All Scenarios LCOE Summary'!H66:J66),1,0)","v":1},{"$f":"IF('All Scenarios LCOE Summary'!$G66<MIN('All Scenarios LCOE Summary'!$H66:$J66),1,0)","v":1},{"$f":"IF('All Scenarios LCOE Summary'!C39=1,IF('All Scenarios LCOE Summary'!$G39<MIN('All Scenarios LCOE Summary'!$H39:$J39),1,0),\"\")","v":1},{"$f":"IF('All Scenarios LCOE Summary'!D39=1,IF('All Scenarios LCOE Summary'!$G39<MIN('All Scenarios LCOE Summary'!$H39:$J39),1,0),\"\")","v":1},{"$f":"IF('All Scenarios LCOE Summary'!$E33=1,IF('All Scenarios LCOE Summary'!$G33<MIN('All Scenarios LCOE Summary'!$H33:$J33),1,0),\"\")","v":0},{"$f":"IF('All Scenarios LCOE Summary'!$F33=1,IF('All Scenarios LCOE Summary'!$G33<MIN('All Scenarios LCOE Summary'!$H33:$J33),1,0),\"\")","v":0}]
[{"$f":"IF('All Scenarios LCOE Summary'!G67<MIN('All Scenarios LCOE Summary'!H67:J67),1,0)","v":1},{"$f":"IF('All Scenarios LCOE Summary'!$G67<MIN('All Scenarios LCOE Summary'!$H67:$J67),1,0)","v":1},{"$f":"IF('All Scenarios LCOE Summary'!C40=1,IF('All Scenarios LCOE Summary'!$G40<MIN('All Scenarios LCOE Summary'!$H40:$J40),1,0),\"\")","v":1},{"$f":"IF('All Scenarios LCOE Summary'!D40=1,IF('All Scenarios LCOE Summary'!$G40<MIN('All Scenarios LCOE Summary'!$H40:$J40),1,0),\"\")","v":1},{"$f":"IF('All Scenarios LCOE Summary'!$E34=1,IF('All Scenarios LCOE Summary'!$G34<MIN('All Scenarios LCOE Summary'!$H34:$J34),1,0),\"\")","v":0},{"$f":"IF('All Scenarios LCOE Summary'!$F36=1,IF('All Scenarios LCOE Summary'!$G36<MIN('All Scenarios LCOE Summary'!$H36:$J36),1,0),\"\")","v":1}]
[{"$f":"IF('All Scenarios LCOE Summary'!G68<MIN('All Scenarios LCOE Summary'!H68:J68),1,0)","v":1},{"$f":"IF('All Scenarios LCOE Summary'!$G68<MIN('All Scenarios LCOE Summary'!$H68:$J68),1,0)","v":1},{"$f":"IF('All Scenarios LCOE Summary'!C41=1,IF('All Scenarios LCOE Summary'!$G41<MIN('All Scenarios LCOE Summary'!$H41:$J41),1,0),\"\")","v":1},{"$f":"IF('All Scenarios LCOE Summary'!D41=1,IF('All Scenarios LCOE Summary'!$G41<MIN('All Scenarios LCOE Summary'!$H41:$J41),1,0),\"\")","v":1},{"$f":"IF('All Scenarios LCOE Summary'!$E41=1,IF('All Scenarios LCOE Summary'!$G41<MIN('All Scenarios LCOE Summary'!$H41:$J41),1,0),\"\")","v":1},{"$f":"IF('All Scenarios LCOE Summary'!$F39=1,IF('All Scenarios LCOE Summary'!$G39<MIN('All Scenarios LCOE Summary'!$H39:$J39),1,0),\"\")","v":1}]
[{"$f":"IF('All Scenarios LCOE Summary'!G69<MIN('All Scenarios LCOE Summary'!H69:J69),1,0)","v":1},{"$f":"IF('All Scenarios LCOE Summary'!$G69<MIN('All Scenarios LCOE Summary'!$H69:$J69),1,0)","v":1},{"$f":"IF('All Scenarios LCOE Summary'!C42=1,IF('All Scenarios LCOE Summary'!$G42<MIN('All Scenarios LCOE Summary'!$H42:$J42),1,0),\"\")","v":1},{"$f":"IF('All Scenarios LCOE Summary'!D42=1,IF('All Scenarios LCOE Summary'!$G42<MIN('All Scenarios LCOE Summary'!$H42:$J42),1,0),\"\")","v":1},{"$f":"IF('All Scenarios LCOE Summary'!$E42=1,IF('All Scenarios LCOE Summary'!$G42<MIN('All Scenarios LCOE Summary'!$H42:$J42),1,0),\"\")","v":1},{"$f":"IF('All Scenarios LCOE Summary'!$F42=1,IF('All Scenarios LCOE Summary'!$G42<MIN('All Scenarios LCOE Summary'!$H42:$J42),1,0),\"\")","v":1}]
[{"$f":"IF('All Scenarios LCOE Summary'!G70<MIN('All Scenarios LCOE Summary'!H70:J70),1,0)","v":1},{"$f":"IF('All Scenarios LCOE Summary'!$G70<MIN('All Scenarios LCOE Summary'!$H70:$J70),1,0)","v":1},{"$f":"IF('All Scenarios LCOE Summary'!C43=1,IF('All Scenarios LCOE Summary'!$G43<MIN('All Scenarios LCOE Summary'!$H43:$J43),1,0),\"\")","v":1},{"$f":"IF('All Scenarios LCOE Summary'!D43=1,IF('All Scenarios LCOE Summary'!$G43<MIN('All Scenarios LCOE Summary'!$H43:$J43),1,0),\"\")","v":1},{"$f":"IF('All Scenarios LCOE Summary'!$E43=1,IF('All Scenarios LCOE Summary'!$G43<MIN('All Scenarios LCOE Summary'!$H43:$J43),1,0),\"\")","v":1},{"$f":"IF('All Scenarios LCOE Summary'!$F45=1,IF('All Scenarios LCOE Summary'!$G45<MIN('All Scenarios LCOE Summary'!$H45:$J45),1,0),\"\")","v":1}]
[{"$f":"IF('All Scenarios LCOE Summary'!G71<MIN('All Scenarios LCOE Summary'!H71:J71),1,0)","v":1},{"$f":"IF('All Scenarios LCOE Summary'!$G71<MIN('All Scenarios LCOE Summary'!$H71:$J71),1,0)","v":1},{"$f":"IF('All Scenarios LCOE Summary'!C44=1,IF('All Scenarios LCOE Summary'!$G44<MIN('All Scenarios LCOE Summary'!$H44:$J44),1,0),\"\")","v":1},{"$f":"IF('All Scenarios LCOE Summary'!D44=1,IF('All Scenarios LCOE Summary'!$G44<MIN('All Scenarios LCOE Summary'!$H44:$J44),1,0),\"\")","v":1},{"$f":"IF('All Scenarios LCOE Summary'!$E50=1,IF('All Scenarios LCOE Summary'!$G50<MIN('All Scenarios LCOE Summary'!$H50:$J50),1,0),\"\")","v":1},{"$f":"IF('All Scenarios LCOE Summary'!$F48=1,IF('All Scenarios LCOE Summary'!$G48<MIN('All Scenarios LCOE Summary'!$H48:$J48),1,0),\"\")","v":1}]
[{"$f":"IF('All Scenarios LCOE Summary'!G72<MIN('All Scenarios LCOE Summary'!H72:J72),1,0)","v":1},{"$f":"IF('All Scenarios LCOE Summary'!$G72<MIN('All Scenarios LCOE Summary'!$H72:$J72),1,0)","v":1},{"$f":"IF('All Scenarios LCOE Summary'!C45=1,IF('All Scenarios LCOE Summary'!$G45<MIN('All Scenarios LCOE Summary'!$H45:$J45),1,0),\"\")","v":1},{"$f":"IF('All Scenarios LCOE Summary'!D45=1,IF('All Scenarios LCOE Summary'!$G45<MIN('All Scenarios LCOE Summary'!$H45:$J45),1,0),\"\")","v":1},{"$f":"IF('All Scenarios LCOE Summary'!$E51=1,IF('All Scenarios LCOE Summary'!$G51<MIN('All Scenarios LCOE Summary'!$H51:$J51),1,0),\"\")","v":1},{"$f":"IF('All Scenarios LCOE Summary'!$F51=1,IF('All Scenarios LCOE Summary'!$G51<MIN('All Scenarios LCOE Summary'!$H51:$J51),1,0),\"\")","v":1}]
[{"$f":"IF('All Scenarios LCOE Summary'!G73<MIN('All Scenarios LCOE Summary'!H73:J73),1,0)","v":1},{"$f":"IF('All Scenarios LCOE Summary'!$G73<MIN('All Scenarios LCOE Summary'!$H73:$J73),1,0)","v":1},{"$f":"IF('All Scenarios LCOE Summary'!C46=1,IF('All Scenarios LCOE Summary'!$G46<MIN('All Scenarios LCOE Summary'!$H46:$J46),1,0),\"\")","v":1},{"$f":"IF('All Scenarios LCOE Summary'!D46=1,IF('All Scenarios LCOE Summary'!$G46<MIN('All Scenarios LCOE Summary'!$H46:$J46),1,0),\"\")","v":1},{"$f":"IF('All Scenarios LCOE Summary'!$E52=1,IF('All Scenarios LCOE Summary'!$G52<MIN('All Scenarios LCOE Summary'!$H52:$J52),1,0),\"\")","v":1},{"$f":"IF('All Scenarios LCOE Summary'!$F54=1,IF('All Scenarios LCOE Summary'!$G54<MIN('All Scenarios LCOE Summary'!$H54:$J54),1,0),\"\")","v":1}]
[{"$f":"IF('All Scenarios LCOE Summary'!G74<MIN('All Scenarios LCOE Summary'!H74:J74),1,0)","v":1},{"$f":"IF('All Scenarios LCOE Summary'!$G74<MIN('All Scenarios LCOE Summary'!$H74:$J74),1,0)","v":1},{"$f":"IF('All Scenarios LCOE Summary'!C47=1,IF('All Scenarios LCOE Summary'!$G47<MIN('All Scenarios LCOE Summary'!$H47:$J47),1,0),\"\")","v":1},{"$f":"IF('All Scenarios LCOE Summary'!D65=1,IF('All Scenarios LCOE Summary'!$G65<MIN('All Scenarios LCOE Summary'!$H65:$J65),1,0),\"\")","v":1},{"$f":"IF('All Scenarios LCOE Summary'!$E59=1,IF('All Scenarios LCOE Summary'!$G59<MIN('All Scenarios LCOE Summary'!$H59:$J59),1,0),\"\")","v":1},{"$f":"IF('All Scenarios LCOE Summary'!$F57=1,IF('All Scenarios LCOE Summary'!$G57<MIN('All Scenarios LCOE Summary'!$H57:$J57),1,0),\"\")","v":1}]
[{"$f":"IF('All Scenarios LCOE Summary'!G75<MIN('All Scenarios LCOE Summary'!H75:J75),1,0)","v":1},{"$f":"IF('All Scenarios LCOE Summary'!$G75<MIN('All Scenarios LCOE Summary'!$H75:$J75),1,0)","v":1},{"$f":"IF('All Scenarios LCOE Summary'!C48=1,IF('All Scenarios LCOE Summary'!$G48<MIN('All Scenarios LCOE Summary'!$H48:$J48),1,0),\"\")","v":1},{"$f":"IF('All Scenarios LCOE Summary'!D66=1,IF('All Scenarios LCOE Summary'!$G66<MIN('All Scenarios LCOE Summary'!$H66:$J66),1,0),\"\")","v":1},{"$f":"IF('All Scenarios LCOE Summary'!$E60=1,IF('All Scenarios LCOE Summary'!$G60<MIN('All Scenarios LCOE Summary'!$H60:$J60),1,0),\"\")","v":1},{"$f":"IF('All Scenarios LCOE Summary'!$F60=1,IF('All Scenarios LCOE Summary'!$G60<MIN('All Scenarios LCOE Summary'!$H60:$J60),1,0),\"\")","v":1}]
[{"$f":"IF('All Scenarios LCOE Summary'!G76<MIN('All Scenarios LCOE Summary'!H76:J76),1,0)","v":1},{"$f":"IF('All Scenarios LCOE Summary'!$G76<MIN('All Scenarios LCOE Summary'!$H76:$J76),1,0)","v":1},{"$f":"IF('All Scenarios LCOE Summary'!C49=1,IF('All Scenarios LCOE Summary'!$G49<MIN('All Scenarios LCOE Summary'!$H49:$J49),1,0),\"\")","v":1},{"$f":"IF('All Scenarios LCOE Summary'!D67=1,IF('All Scenarios LCOE Summary'!$G67<MIN('All Scenarios LCOE Summary'!$H67:$J67),1,0),\"\")","v":1},{"$f":"IF('All Scenarios LCOE Summary'!$E61=1,IF('All Scenarios LCOE Summary'!$G61<MIN('All Scenarios LCOE Summary'!$H61:$J61),1,0),\"\")","v":1},{"$f":"IF('All Scenarios LCOE Summary'!$F63=1,IF('All Scenarios LCOE Summary'!$G63<MIN('All Scenarios LCOE Summary'!$H63:$J63),1,0),\"\")","v":1}]
[{"$f":"IF('All Scenarios LCOE Summary'!G77<MIN('All Scenarios LCOE Summary'!H77:J77),1,0)","v":1},{"$f":"IF('All Scenarios LCOE Summary'!$G77<MIN('All Scenarios LCOE Summary'!$H77:$J77),1,0)","v":1},{"$f":"IF('All Scenarios LCOE Summary'!C50=1,IF('All Scenarios LCOE Summary'!$G50<MIN('All Scenarios LCOE Summary'!$H50:$J50),1,0),\"\")","v":1},{"$f":"IF('All Scenarios LCOE Summary'!D68=1,IF('All Scenarios LCOE Summary'!$G68<MIN('All Scenarios LCOE Summary'!$H68:$J68),1,0),\"\")","v":1},{"$f":"IF('All Scenarios LCOE Summary'!$E68=1,IF('All Scenarios LCOE Summary'!$G68<MIN('All Scenarios LCOE Summary'!$H68:$J68),1,0),\"\")","v":1},{"$f":"IF('All Scenarios LCOE Summary'!$F66=1,IF('All Scenarios LCOE Summary'!$G66<MIN('All Scenarios LCOE Summary'!$H66:$J66),1,0),\"\")","v":1}]
[{"$f":"IF('All Scenarios LCOE Summary'!G78<MIN('All Scenarios LCOE Summary'!H78:J78),1,0)","v":1},{"$f":"IF('All Scenarios LCOE Summary'!$G78<MIN('All Scenarios LCOE Summary'!$H78:$J78),1,0)","v":1},{"$f":"IF('All Scenarios LCOE Summary'!C51=1,IF('All Scenarios LCOE Summary'!$G51<MIN('All Scenarios LCOE Summary'!$H51:$J51),1,0),\"\")","v":1},{"$f":"IF('All Scenarios LCOE Summary'!D69=1,IF('All Scenarios LCOE Summary'!$G69<MIN('All Scenarios LCOE Summary'!$H69:$J69),1,0),\"\")","v":1},{"$f":"IF('All Scenarios LCOE Summary'!$E69=1,IF('All Scenarios LCOE Summary'!$G69<MIN('All Scenarios LCOE Summary'!$H69:$J69),1,0),\"\")","v":1},{"$f":"IF('All Scenarios LCOE Summary'!$F69=1,IF('All Scenarios LCOE Summary'!$G69<MIN('All Scenarios LCOE Summary'!$H69:$J69),1,0),\"\")","v":1}]
[{"$f":"IF('All Scenarios LCOE Summary'!G79<MIN('All Scenarios LCOE Summary'!H79:J79),1,0)","v":1},{"$f":"IF('All Scenarios LCOE Summary'!$G79<MIN('All Scenarios LCOE Summary'!$H79:$J79),1,0)","v":1},{"$f":"IF('All Scenarios LCOE Summary'!C52=1,IF('All Scenarios LCOE Summary'!$G52<MIN('All Scenarios LCOE Summary'!$H52:$J52),1,0),\"\")","v":1},{"$f":"IF('All Scenarios LCOE Summary'!D70=1,IF('All Scenarios LCOE Summary'!$G70<MIN('All Scenarios LCOE Summary'!$H70:$J70),1,0),\"\")","v":1},{"$f":"IF('All Scenarios LCOE Summary'!$E70=1,IF('All Scenarios LCOE Summary'!$G70<MIN('All Scenarios LCOE Summary'!$H70:$J70),1,0),\"\")","v":1},{"$f":"IF('All Scenarios LCOE Summary'!$F72=1,IF('All Scenarios LCOE Summary'!$G72<MIN('All Scenarios LCOE Summary'!$H72:$J72),1,0),\"\")","v":1}]
[{"$f":"IF('All Scenarios LCOE Summary'!G80<MIN('All Scenarios LCOE Summary'!H80:J80),1,0)","v":1},{"$f":"IF('All Scenarios LCOE Summary'!$G80<MIN('All Scenarios LCOE Summary'!$H80:$J80),1,0)","v":1},{"$f":"IF('All Scenarios LCOE Summary'!C53=1,IF('All Scenarios LCOE Summary'!$G53<MIN('All Scenarios LCOE Summary'!$H53:$J53),1,0),\"\")","v":1},{"$f":"IF('All Scenarios LCOE Summary'!D71=1,IF('All Scenarios LCOE Summary'!$G71<MIN('All Scenarios LCOE Summary'!$H71:$J71),1,0),\"\")","v":1},{"$f":"IF('All Scenarios LCOE Summary'!$E77=1,IF('All Scenarios LCOE Summary'!$G77<MIN('All Scenarios LCOE Summary'!$H77:$J77),1,0),\"\")","v":1},{"$f":"IF('All Scenarios LCOE Summary'!$F75=1,IF('All Scenarios LCOE Summary'!$G75<MIN('All Scenarios LCOE Summary'!$H75:$J75),1,0),\"\")","v":1}]
[{"$f":"IF('All Scenarios LCOE Summary'!G81<MIN('All Scenarios LCOE Summary'!H81:J81),1,0)","v":1},{"$f":"IF('All Scenarios LCOE Summary'!$G81<MIN('All Scenarios LCOE Summary'!$H81:$J81),1,0)","v":1},{"$f":"IF('All Scenarios LCOE Summary'!C54=1,IF('All Scenarios LCOE Summary'!$G54<MIN('All Scenarios LCOE Summary'!$H54:$J54),1,0),\"\")","v":1},{"$f":"IF('All Scenarios LCOE Summary'!D72=1,IF('All Scenarios LCOE Summary'!$G72<MIN('All Scenarios LCOE Summary'!$H72:$J72),1,0),\"\")","v":1},{"$f":"IF('All Scenarios LCOE Summary'!$E78=1,IF('All Scenarios LCOE Summary'!$G78<MIN('All Scenarios LCOE Summary'!$H78:$J78),1,0),\"\")","v":1},{"$f":"IF('All Scenarios LCOE Summary'!$F78=1,IF('All Scenarios LCOE Summary'!$G78<MIN('All Scenarios LCOE Summary'!$H78:$J78),1,0),\"\")","v":1}]
[{"$f":"IF('All Scenarios LCOE Summary'!G82<MIN('All Scenarios LCOE Summary'!H82:J82),1,0)","v":1},{"$f":"IF('All Scenarios LCOE Summary'!$G82<MIN('All Scenarios LCOE Summary'!$H82:$J82),1,0)","v":1},{"$f":"IF('All Scenarios LCOE Summary'!C55=1,IF('All Scenarios LCOE Summary'!$G55<MIN('All Scenarios LCOE Summary'!$H55:$J55),1,0),\"\")","v":1},{"$f":"IF('All Scenarios LCOE Summary'!D73=1,IF('All Scenarios LCOE Summary'!$G73<MIN('All Scenarios LCOE Summary'!$H73:$J73),1,0),\"\")","v":1},{"$f":"IF('All Scenarios LCOE Summary'!$E79=1,IF('All Scenarios LCOE Summary'!$G79<MIN('All Scenarios LCOE Summary'!$H79:$J79),1,0),\"\")","v":1},{"$f":"IF('All Scenarios LCOE Summary'!$F81=1,IF('All Scenarios LCOE Summary'!$G81<MIN('All Scenarios LCOE Summary'!$H81:$J81),1,0),\"\")","v":1}]
[{"$f":"IF('All Scenarios LCOE Summary'!G83<MIN('All Scenarios LCOE Summary'!H83:J83),1,0)","v":1},{"$f":"IF('All Scenarios LCOE Summary'!$G83<MIN('All Scenarios LCOE Summary'!$H83:$J83),1,0)","v":1},{"$f":"IF('All Scenarios LCOE Summary'!C110=1,IF('All Scenarios LCOE Summary'!$G110<MIN('All Scenarios LCOE Summary'!$H110:$J110),1,0),\"\")","v":1},{"$f":"IF('All Scenarios LCOE Summary'!D92=1,IF('All Scenarios LCOE Summary'!$G92<MIN('All Scenarios LCOE Summary'!$H92:$J92),1,0),\"\")","v":1},{"$f":"IF('All Scenarios LCOE Summary'!$E86=1,IF('All Scenarios LCOE Summary'!$G86<MIN('All Scenarios LCOE Summary'!$H86:$J86),1,0),\"\")","v":1},{"$f":"IF('All Scenarios LCOE Summary'!$F84=1,IF('All Scenarios LCOE Summary'!$G84<MIN('All Scenarios LCOE Summary'!$H84:$J84),1,0),\"\")","v":1}]
[{"$f":"IF('All Scenarios LCOE Summary'!G84<MIN('All Scenarios LCOE Summary'!H84:J84),1,0)","v":1},{"$f":"IF('All Scenarios LCOE Summary'!$G84<MIN('All Scenarios LCOE Summary'!$H84:$J84),1,0)","v":1},{"$f":"IF('All Scenarios LCOE Summary'!C111=1,IF('All Scenarios LCOE Summary'!$G111<MIN('All Scenarios LCOE Summary'!$H111:$J111),1,0),\"\")","v":1},{"$f":"IF('All Scenarios LCOE Summary'!D93=1,IF('All Scenarios LCOE Summary'!$G93<MIN('All Scenarios LCOE Summary'!$H93:$J93),1,0),\"\")","v":1},{"$f":"IF('All Scenarios LCOE Summary'!$E87=1,IF('All Scenarios LCOE Summary'!$G87<MIN('All Scenarios LCOE Summary'!$H87:$J87),1,0),\"\")","v":1},{"$f":"IF('All Scenarios LCOE Summary'!$F87=1,IF('All Scenarios LCOE Summary'!$G87<MIN('All Scenarios LCOE Summary'!$H87:$J87),1,0),\"\")","v":1}]
[{"$f":"IF('All Scenarios LCOE Summary'!G85<MIN('All Scenarios LCOE Summary'!H85:J85),1,0)","v":1},{"$f":"IF('All Scenarios LCOE Summary'!$G85<MIN('All Scenarios LCOE Summary'!$H85:$J85),1,0)","v":1},{"$f":"IF('All Scenarios LCOE Summary'!C112=1,IF('All Scenarios LCOE Summary'!$G112<MIN('All Scenarios LCOE Summary'!$H112:$J112),1,0),\"\")","v":1},{"$f":"IF('All Scenarios LCOE Summary'!D94=1,IF('All Scenarios LCOE Summary'!$G94<MIN('All Scenarios LCOE Summary'!$H94:$J94),1,0),\"\")","v":1},{"$f":"IF('All Scenarios LCOE Summary'!$E88=1,IF('All Scenarios LCOE Summary'!$G88<MIN('All Scenarios LCOE Summary'!$H88:$J88),1,0),\"\")","v":1},{"$f":"IF('All Scenarios LCOE Summary'!$F90=1,IF('All Scenarios LCOE Summary'!$G90<MIN('All Scenarios LCOE Summary'!$H90:$J90),1,0),\"\")","v":1}]
[{"$f":"IF('All Scenarios LCOE Summary'!G86<MIN('All Scenarios LCOE Summary'!H86:J86),1,0)","v":1},{"$f":"IF('All Scenarios LCOE Summary'!$G86<MIN('All Scenarios LCOE Summary'!$H86:$J86),1,0)","v":1},{"$f":"IF('All Scenarios LCOE Summary'!C113=1,IF('All Scenarios LCOE Summary'!$G113<MIN('All Scenarios LCOE Summary'!$H113:$J113),1,0),\"\")","v":1},{"$f":"IF('All Scenarios LCOE Summary'!D95=1,IF('All Scenarios LCOE Summary'!$G95<MIN('All Scenarios LCOE Summary'!$H95:$J95),1,0),\"\")","v":1},{"$f":"IF('All Scenarios LCOE Summary'!$E95=1,IF('All Scenarios LCOE Summary'!$G95<MIN('All Scenarios LCOE Summary'!$H95:$J95),1,0),\"\")","v":1},{"$f":"IF('All Scenarios LCOE Summary'!$F93=1,IF('All Scenarios LCOE Summary'!$G93<MIN('All Scenarios LCOE Summary'!$H93:$J93),1,0),\"\")","v":1}]
[{"$f":"IF('All Scenarios LCOE Summary'!G87<MIN('All Scenarios LCOE Summary'!H87:J87),1,0)","v":1},{"$f":"IF('All Scenarios LCOE Summary'!$G87<MIN('All Scenarios LCOE Summary'!$H87:$J87),1,0)","v":1},{"$f":"IF('All Scenarios LCOE Summary'!C114=1,IF('All Scenarios LCOE Summary'!$G114<MIN('All Scenarios LCOE Summary'!$H114:$J114),1,0),\"\")","v":1},{"$f":"IF('All Scenarios LCOE Summary'!D96=1,IF('All Scenarios LCOE Summary'!$G96<MIN('All Scenarios LCOE Summary'!$H96:$J96),1,0),\"\")","v":1},{"$f":"IF('All Scenarios LCOE Summary'!$E96=1,IF('All Scenarios LCOE Summary'!$G96<MIN('All Scenarios LCOE Summary'!$H96:$J96),1,0),\"\")","v":1},{"$f":"IF('All Scenarios LCOE Summary'!$F96=1,IF('All Scenarios LCOE Summary'!$G96<MIN('All Scenarios LCOE Summary'!$H96:$J96),1,0),\"\")","v":1}]
[{"$f":"IF('All Scenarios LCOE Summary'!G88<MIN('All Scenarios LCOE Summary'!H88:J88),1,0)","v":1},{"$f":"IF('All Scenarios LCOE Summary'!$G88<MIN('All Scenarios LCOE Summary'!$H88:$J88),1,0)","v":1},{"$f":"IF('All Scenarios LCOE Summary'!C115=1,IF('All Scenarios LCOE Summary'!$G115<MIN('All Scenarios LCOE Summary'!$H115:$J115),1,0),\"\")","v":1},{"$f":"IF('All Scenarios LCOE Summary'!D97=1,IF('All Scenarios LCOE Summary'!$G97<MIN('All Scenarios LCOE Summary'!$H97:$J97),1,0),\"\")","v":1},{"$f":"IF('All Scenarios LCOE Summary'!$E97=1,IF('All Scenarios LCOE Summary'!$G97<MIN('All Scenarios LCOE Summary'!$H97:$J97),1,0),\"\")","v":1},{"$f":"IF('All Scenarios LCOE Summary'!$F99=1,IF('All Scenarios LCOE Summary'!$G99<MIN('All Scenarios LCOE Summary'!$H99:$J99),1,0),\"\")","v":1}]
[{"$f":"IF('All Scenarios LCOE Summary'!G89<MIN('All Scenarios LCOE Summary'!H89:J89),1,0)","v":1},{"$f":"IF('All Scenarios LCOE Summary'!$G89<MIN('All Scenarios LCOE Summary'!$H89:$J89),1,0)","v":1},{"$f":"IF('All Scenarios LCOE Summary'!C116=1,IF('All Scenarios LCOE Summary'!$G116<MIN('All Scenarios LCOE Summary'!$H116:$J116),1,0),\"\")","v":1},{"$f":"IF('All Scenarios LCOE Summary'!D98=1,IF('All Scenarios LCOE Summary'!$G98<MIN('All Scenarios LCOE Summary'!$H98:$J98),1,0),\"\")","v":1},{"$f":"IF('All Scenarios LCOE Summary'!$E104=1,IF('All Scenarios LCOE Summary'!$G104<MIN('All Scenarios LCOE Summary'!$H104:$J104),1,0),\"\")","v":1},{"$f":"IF('All Scenarios LCOE Summary'!$F102=1,IF('All Scenarios LCOE Summary'!$G102<MIN('All Scenarios LCOE Summary'!$H102:$J102),1,0),\"\")","v":1}]
[{"$f":"IF('All Scenarios LCOE Summary'!G90<MIN('All Scenarios LCOE Summary'!H90:J90),1,0)","v":1},{"$f":"IF('All Scenarios LCOE Summary'!$G90<MIN('All Scenarios LCOE Summary'!$H90:$J90),1,0)","v":1},{"$f":"IF('All Scenarios LCOE Summary'!C117=1,IF('All Scenarios LCOE Summary'!$G117<MIN('All Scenarios LCOE Summary'!$H117:$J117),1,0),\"\")","v":1},{"$f":"IF('All Scenarios LCOE Summary'!D99=1,IF('All Scenarios LCOE Summary'!$G99<MIN('All Scenarios LCOE Summary'!$H99:$J99),1,0),\"\")","v":1},{"$f":"IF('All Scenarios LCOE Summary'!$E105=1,IF('All Scenarios LCOE Summary'!$G105<MIN('All Scenarios LCOE Summary'!$H105:$J105),1,0),\"\")","v":1},{"$f":"IF('All Scenarios LCOE Summary'!$F105=1,IF('All Scenarios LCOE Summary'!$G105<MIN('All Scenarios LCOE Summary'!$H105:$J105),1,0),\"\")","v":1}]
[{"$f":"IF('All Scenarios LCOE Summary'!G91<MIN('All Scenarios LCOE Summary'!H91:J91),1,0)","v":1},{"$f":"IF('All Scenarios LCOE Summary'!$G91<MIN('All Scenarios LCOE Summary'!$H91:$J91),1,0)","v":1},{"$f":"IF('All Scenarios LCOE Summary'!C118=1,IF('All Scenarios LCOE Summary'!$G118<MIN('All Scenarios LCOE Summary'!$H118:$J118),1,0),\"\")","v":1},{"$f":"IF('All Scenarios LCOE Summary'!D100=1,IF('All Scenarios LCOE Summary'!$G100<MIN('All Scenarios LCOE Summary'!$H100:$J100),1,0),\"\")","v":1},{"$f":"IF('All Scenarios LCOE Summary'!$E106=1,IF('All Scenarios LCOE Summary'!$G106<MIN('All Scenarios LCOE Summary'!$H106:$J106),1,0),\"\")","v":1},{"$f":"IF('All Scenarios LCOE Summary'!$F108=1,IF('All Scenarios LCOE Summary'!$G108<MIN('All Scenarios LCOE Summary'!$H108:$J108),1,0),\"\")","v":1}]
[{"$f":"IF('All Scenarios LCOE Summary'!G92<MIN('All Scenarios LCOE Summary'!H92:J92),1,0)","v":1},{"$f":"IF('All Scenarios LCOE Summary'!$G92<MIN('All Scenarios LCOE Summary'!$H92:$J92),1,0)","v":1},{"$f":"IF('All Scenarios LCOE Summary'!C119=1,IF('All Scenarios LCOE Summary'!$G119<MIN('All Scenarios LCOE Summary'!$H119:$J119),1,0),\"\")","v":1},{"$f":"IF('All Scenarios LCOE Summary'!D119=1,IF('All Scenarios LCOE Summary'!$G119<MIN('All Scenarios LCOE Summary'!$H119:$J119),1,0),\"\")","v":1},{"$f":"IF('All Scenarios LCOE Summary'!$E113=1,IF('All Scenarios LCOE Summary'!$G113<MIN('All Scenarios LCOE Summary'!$H113:$J113),1,0),\"\")","v":1},{"$f":"IF('All Scenarios LCOE Summary'!$F111=1,IF('All Scenarios LCOE Summary'!$G111<MIN('All Scenarios LCOE Summary'!$H111:$J111),1,0),\"\")","v":1}]
[{"$f":"IF('All Scenarios LCOE Summary'!G93<MIN('All Scenarios LCOE Summary'!H93:J93),1,0)","v":1},{"$f":"IF('All Scenarios LCOE Summary'!$G93<MIN('All Scenarios LCOE Summary'!$H93:$J93),1,0)","v":1},{"$f":"IF('All Scenarios LCOE Summary'!C120=1,IF('All Scenarios LCOE Summary'!$G120<MIN('All Scenarios LCOE Summary'!$H120:$J120),1,0),\"\")","v":1},{"$f":"IF('All Scenarios LCOE Summary'!D120=1,IF('All Scenarios LCOE Summary'!$G120<MIN('All Scenarios LCOE Summary'!$H120:$J120),1,0),\"\")","v":1},{"$f":"IF('All Scenarios LCOE Summary'!$E114=1,IF('All Scenarios LCOE Summary'!$G114<MIN('All Scenarios LCOE Summary'!$H114:$J114),1,0),\"\")","v":1},{"$f":"IF('All Scenarios LCOE Summary'!$F114=1,IF('All Scenarios LCOE Summary'!$G114<MIN('All Scenarios LCOE Summary'!$H114:$J114),1,0),\"\")","v":1}]
[{"$f":"IF('All Scenarios LCOE Summary'!G94<MIN('All Scenarios LCOE Summary'!H94:J94),1,0)","v":1},{"$f":"IF('All Scenarios LCOE Summary'!$G94<MIN('All Scenarios LCOE Summary'!$H94:$J94),1,0)","v":1},{"$f":"IF('All Scenarios LCOE Summary'!C121=1,IF('All Scenarios LCOE Summary'!$G121<MIN('All Scenarios LCOE Summary'!$H121:$J121),1,0),\"\")","v":1},{"$f":"IF('All Scenarios LCOE Summary'!D121=1,IF('All Scenarios LCOE Summary'!$G121<MIN('All Scenarios LCOE Summary'!$H121:$J121),1,0),\"\")","v":1},{"$f":"IF('All Scenarios LCOE Summary'!$E115=1,IF('All Scenarios LCOE Summary'!$G115<MIN('All Scenarios LCOE Summary'!$H115:$J115),1,0),\"\")","v":1},{"$f":"IF('All Scenarios LCOE Summary'!$F117=1,IF('All Scenarios LCOE Summary'!$G117<MIN('All Scenarios LCOE Summary'!$H117:$J117),1,0),\"\")","v":1}]
[{"$f":"IF('All Scenarios LCOE Summary'!G95<MIN('All Scenarios LCOE Summary'!H95:J95),1,0)","v":1},{"$f":"IF('All Scenarios LCOE Summary'!$G95<MIN('All Scenarios LCOE Summary'!$H95:$J95),1,0)","v":1},{"$f":"IF('All Scenarios LCOE Summary'!C122=1,IF('All Scenarios LCOE Summary'!$G122<MIN('All Scenarios LCOE Summary'!$H122:$J122),1,0),\"\")","v":1},{"$f":"IF('All Scenarios LCOE Summary'!D122=1,IF('All Scenarios LCOE Summary'!$G122<MIN('All Scenarios LCOE Summary'!$H122:$J122),1,0),\"\")","v":1},{"$f":"IF('All Scenarios LCOE Summary'!$E122=1,IF('All Scenarios LCOE Summary'!$G122<MIN('All Scenarios LCOE Summary'!$H122:$J122),1,0),\"\")","v":1},{"$f":"IF('All Scenarios LCOE Summary'!$F120=1,IF('All Scenarios LCOE Summary'!$G120<MIN('All Scenarios LCOE Summary'!$H120:$J120),1,0),\"\")","v":1}]
[{"$f":"IF('All Scenarios LCOE Summary'!G96<MIN('All Scenarios LCOE Summary'!H96:J96),1,0)","v":1},{"$f":"IF('All Scenarios LCOE Summary'!$G96<MIN('All Scenarios LCOE Summary'!$H96:$J96),1,0)","v":1},{"$f":"IF('All Scenarios LCOE Summary'!C123=1,IF('All Scenarios LCOE Summary'!$G123<MIN('All Scenarios LCOE Summary'!$H123:$J123),1,0),\"\")","v":1},{"$f":"IF('All Scenarios LCOE Summary'!D123=1,IF('All Scenarios LCOE Summary'!$G123<MIN('All Scenarios LCOE Summary'!$H123:$J123),1,0),\"\")","v":1},{"$f":"IF('All Scenarios LCOE Summary'!$E123=1,IF('All Scenarios LCOE Summary'!$G123<MIN('All Scenarios LCOE Summary'!$H123:$J123),1,0),\"\")","v":1},{"$f":"IF('All Scenarios LCOE Summary'!$F123=1,IF('All Scenarios LCOE Summary'!$G123<MIN('All Scenarios LCOE Summary'!$H123:$J123),1,0),\"\")","v":1}]
[{"$f":"IF('All Scenarios LCOE Summary'!G97<MIN('All Scenarios LCOE Summary'!H97:J97),1,0)","v":1},{"$f":"IF('All Scenarios LCOE Summary'!$G97<MIN('All Scenarios LCOE Summary'!$H97:$J97),1,0)","v":1},{"$f":"IF('All Scenarios LCOE Summary'!C124=1,IF('All Scenarios LCOE Summary'!$G124<MIN('All Scenarios LCOE Summary'!$H124:$J124),1,0),\"\")","v":1},{"$f":"IF('All Scenarios LCOE Summary'!D124=1,IF('All Scenarios LCOE Summary'!$G124<MIN('All Scenarios LCOE Summary'!$H124:$J124),1,0),\"\")","v":1},{"$f":"IF('All Scenarios LCOE Summary'!$E124=1,IF('All Scenarios LCOE Summary'!$G124<MIN('All Scenarios LCOE Summary'!$H124:$J124),1,0),\"\")","v":1},{"$f":"IF('All Scenarios LCOE Summary'!$F126=1,IF('All Scenarios LCOE Summary'!$G126<MIN('All Scenarios LCOE Summary'!$H126:$J126),1,0),\"\")","v":1}]
[{"$f":"IF('All Scenarios LCOE Summary'!G98<MIN('All Scenarios LCOE Summary'!H98:J98),1,0)","v":1},{"$f":"IF('All Scenarios LCOE Summary'!$G98<MIN('All Scenarios LCOE Summary'!$H98:$J98),1,0)","v":1},{"$f":"IF('All Scenarios LCOE Summary'!C125=1,IF('All Scenarios LCOE Summary'!$G125<MIN('All Scenarios LCOE Summary'!$H125:$J125),1,0),\"\")","v":1},{"$f":"IF('All Scenarios LCOE Summary'!D125=1,IF('All Scenarios LCOE Summary'!$G125<MIN('All Scenarios LCOE Summary'!$H125:$J125),1,0),\"\")","v":1},{"$f":"IF('All Scenarios LCOE Summary'!$E131=1,IF('All Scenarios LCOE Summary'!$G131<MIN('All Scenarios LCOE Summary'!$H131:$J131),1,0),\"\")","v":1},{"$f":"IF('All Scenarios LCOE Summary'!$F129=1,IF('All Scenarios LCOE Summary'!$G129<MIN('All Scenarios LCOE Summary'!$H129:$J129),1,0),\"\")","v":1}]
[{"$f":"IF('All Scenarios LCOE Summary'!G99<MIN('All Scenarios LCOE Summary'!H99:J99),1,0)","v":1},{"$f":"IF('All Scenarios LCOE Summary'!$G99<MIN('All Scenarios LCOE Summary'!$H99:$J99),1,0)","v":1},{"$f":"IF('All Scenarios LCOE Summary'!C126=1,IF('All Scenarios LCOE Summary'!$G126<MIN('All Scenarios LCOE Summary'!$H126:$J126),1,0),\"\")","v":1},{"$f":"IF('All Scenarios LCOE Summary'!D126=1,IF('All Scenarios LCOE Summary'!$G126<MIN('All Scenarios LCOE Summary'!$H126:$J126),1,0),\"\")","v":1},{"$f":"IF('All Scenarios LCOE Summary'!$E132=1,IF('All Scenarios LCOE Summary'!$G132<MIN('All Scenarios LCOE Summary'!$H132:$J132),1,0),\"\")","v":1},{"$f":"IF('All Scenarios LCOE Summary'!$F132=1,IF('All Scenarios LCOE Summary'!$G132<MIN('All Scenarios LCOE Summary'!$H132:$J132),1,0),\"\")","v":1}]
[{"$f":"IF('All Scenarios LCOE Summary'!G100<MIN('All Scenarios LCOE Summary'!H100:J100),1,0)","v":1},{"$f":"IF('All Scenarios LCOE Summary'!$G100<MIN('All Scenarios LCOE Summary'!$H100:$J100),1,0)","v":1},{"$f":"IF('All Scenarios LCOE Summary'!C127=1,IF('All Scenarios LCOE Summary'!$G127<MIN('All Scenarios LCOE Summary'!$H127:$J127),1,0),\"\")","v":1},{"$f":"IF('All Scenarios LCOE Summary'!D127=1,IF('All Scenarios LCOE Summary'!$G127<MIN('All Scenarios LCOE Summary'!$H127:$J127),1,0),\"\")","v":1},{"$f":"IF('All Scenarios LCOE Summary'!$E133=1,IF('All Scenarios LCOE Summary'!$G133<MIN('All Scenarios LCOE Summary'!$H133:$J133),1,0),\"\")","v":1},{"$f":"IF('All Scenarios LCOE Summary'!$F135=1,IF('All Scenarios LCOE Summary'!$G135<MIN('All Scenarios LCOE Summary'!$H135:$J135),1,0),\"\")","v":1}]
[{"$f":"IF('All Scenarios LCOE Summary'!G101<MIN('All Scenarios LCOE Summary'!H101:J101),1,0)","v":1},{"$f":"IF('All Scenarios LCOE Summary'!$G101<MIN('All Scenarios LCOE Summary'!$H101:$J101),1,0)","v":1},{"$f":"IF('All Scenarios LCOE Summary'!C128=1,IF('All Scenarios LCOE Summary'!$G128<MIN('All Scenarios LCOE Summary'!$H128:$J128),1,0),\"\")","v":1},{"$f":"IF('All Scenarios LCOE Summary'!D146=1,IF('All Scenarios LCOE Summary'!$G146<MIN('All Scenarios LCOE Summary'!$H146:$J146),1,0),\"\")","v":1},{"$f":"IF('All Scenarios LCOE Summary'!$E140=1,IF('All Scenarios LCOE Summary'!$G140<MIN('All Scenarios LCOE Summary'!$H140:$J140),1,0),\"\")","v":1},{"$f":"IF('All Scenarios LCOE Summary'!$F138=1,IF('All Scenarios LCOE Summary'!$G138<MIN('All Scenarios LCOE Summary'!$H138:$J138),1,0),\"\")","v":1}]
[{"$f":"IF('All Scenarios LCOE Summary'!G102<MIN('All Scenarios LCOE Summary'!H102:J102),1,0)","v":1},{"$f":"IF('All Scenarios LCOE Summary'!$G102<MIN('All Scenarios LCOE Summary'!$H102:$J102),1,0)","v":1},{"$f":"IF('All Scenarios LCOE Summary'!C129=1,IF('All Scenarios LCOE Summary'!$G129<MIN('All Scenarios LCOE Summary'!$H129:$J129),1,0),\"\")","v":1},{"$f":"IF('All Scenarios LCOE Summary'!D147=1,IF('All Scenarios LCOE Summary'!$G147<MIN('All Scenarios LCOE Summary'!$H147:$J147),1,0),\"\")","v":1},{"$f":"IF('All Scenarios LCOE Summary'!$E141=1,IF('All Scenarios LCOE Summary'!$G141<MIN('All Scenarios LCOE Summary'!$H141:$J141),1,0),\"\")","v":1},{"$f":"IF('All Scenarios LCOE Summary'!$F141=1,IF('All Scenarios LCOE Summary'!$G141<MIN('All Scenarios LCOE Summary'!$H141:$J141),1,0),\"\")","v":1}]
[{"$f":"IF('All Scenarios LCOE Summary'!G103<MIN('All Scenarios LCOE Summary'!H103:J103),1,0)","v":1},{"$f":"IF('All Scenarios LCOE Summary'!$G103<MIN('All Scenarios LCOE Summary'!$H103:$J103),1,0)","v":1},{"$f":"IF('All Scenarios LCOE Summary'!C130=1,IF('All Scenarios LCOE Summary'!$G130<MIN('All Scenarios LCOE Summary'!$H130:$J130),1,0),\"\")","v":1},{"$f":"IF('All Scenarios LCOE Summary'!D148=1,IF('All Scenarios LCOE Summary'!$G148<MIN('All Scenarios LCOE Summary'!$H148:$J148),1,0),\"\")","v":1},{"$f":"IF('All Scenarios LCOE Summary'!$E142=1,IF('All Scenarios LCOE Summary'!$G142<MIN('All Scenarios LCOE Summary'!$H142:$J142),1,0),\"\")","v":1},{"$f":"IF('All Scenarios LCOE Summary'!$F144=1,IF('All Scenarios LCOE Summary'!$G144<MIN('All Scenarios LCOE Summary'!$H144:$J144),1,0),\"\")","v":1}]
[{"$f":"IF('All Scenarios LCOE Summary'!G104<MIN('All Scenarios LCOE Summary'!H104:J104),1,0)","v":1},{"$f":"IF('All Scenarios LCOE Summary'!$G104<MIN('All Scenarios LCOE Summary'!$H104:$J104),1,0)","v":1},{"$f":"IF('All Scenarios LCOE Summary'!C131=1,IF('All Scenarios LCOE Summary'!$G131<MIN('All Scenarios LCOE Summary'!$H131:$J131),1,0),\"\")","v":1},{"$f":"IF('All Scenarios LCOE Summary'!D149=1,IF('All Scenarios LCOE Summary'!$G149<MIN('All Scenarios LCOE Summary'!$H149:$J149),1,0),\"\")","v":1},{"$f":"IF('All Scenarios LCOE Summary'!$E149=1,IF('All Scenarios LCOE Summary'!$G149<MIN('All Scenarios LCOE Summary'!$H149:$J149),1,0),\"\")","v":1},{"$f":"IF('All Scenarios LCOE Summary'!$F147=1,IF('All Scenarios LCOE Summary'!$G147<MIN('All Scenarios LCOE Summary'!$H147:$J147),1,0),\"\")","v":1}]
[{"$f":"IF('All Scenarios LCOE Summary'!G105<MIN('All Scenarios LCOE Summary'!H105:J105),1,0)","v":1},{"$f":"IF('All Scenarios LCOE Summary'!$G105<MIN('All Scenarios LCOE Summary'!$H105:$J105),1,0)","v":1},{"$f":"IF('All Scenarios LCOE Summary'!C132=1,IF('All Scenarios LCOE Summary'!$G132<MIN('All Scenarios LCOE Summary'!$H132:$J132),1,0),\"\")","v":1},{"$f":"IF('All Scenarios LCOE Summary'!D150=1,IF('All Scenarios LCOE Summary'!$G150<MIN('All Scenarios LCOE Summary'!$H150:$J150),1,0),\"\")","v":1},{"$f":"IF('All Scenarios LCOE Summary'!$E150=1,IF('All Scenarios LCOE Summary'!$G150<MIN('All Scenarios LCOE Summary'!$H150:$J150),1,0),\"\")","v":1},{"$f":"IF('All Scenarios LCOE Summary'!$F150=1,IF('All Scenarios LCOE Summary'!$G150<MIN('All Scenarios LCOE Summary'!$H150:$J150),1,0),\"\")","v":1}]
[{"$f":"IF('All Scenarios LCOE Summary'!G106<MIN('All Scenarios LCOE Summary'!H106:J106),1,0)","v":1},{"$f":"IF('All Scenarios LCOE Summary'!$G106<MIN('All Scenarios LCOE Summary'!$H106:$J106),1,0)","v":1},{"$f":"IF('All Scenarios LCOE Summary'!C133=1,IF('All Scenarios LCOE Summary'!$G133<MIN('All Scenarios LCOE Summary'!$H133:$J133),1,0),\"\")","v":1},{"$f":"IF('All Scenarios LCOE Summary'!D151=1,IF('All Scenarios LCOE Summary'!$G151<MIN('All Scenarios LCOE Summary'!$H151:$J151),1,0),\"\")","v":1},{"$f":"IF('All Scenarios LCOE Summary'!$E151=1,IF('All Scenarios LCOE Summary'!$G151<MIN('All Scenarios LCOE Summary'!$H151:$J151),1,0),\"\")","v":1},{"$f":"IF('All Scenarios LCOE Summary'!$F153=1,IF('All Scenarios LCOE Summary'!$G153<MIN('All Scenarios LCOE Summary'!$H153:$J153),1,0),\"\")","v":1}]
[{"$f":"IF('All Scenarios LCOE Summary'!G107<MIN('All Scenarios LCOE Summary'!H107:J107),1,0)","v":1},{"$f":"IF('All Scenarios LCOE Summary'!$G107<MIN('All Scenarios LCOE Summary'!$H107:$J107),1,0)","v":1},{"$f":"IF('All Scenarios LCOE Summary'!C134=1,IF('All Scenarios LCOE Summary'!$G134<MIN('All Scenarios LCOE Summary'!$H134:$J134),1,0),\"\")","v":1},{"$f":"IF('All Scenarios LCOE Summary'!D152=1,IF('All Scenarios LCOE Summary'!$G152<MIN('All Scenarios LCOE Summary'!$H152:$J152),1,0),\"\")","v":1},{"$f":"IF('All Scenarios LCOE Summary'!$E158=1,IF('All Scenarios LCOE Summary'!$G158<MIN('All Scenarios LCOE Summary'!$H158:$J158),1,0),\"\")","v":1},{"$f":"IF('All Scenarios LCOE Summary'!$F156=1,IF('All Scenarios LCOE Summary'!$G156<MIN('All Scenarios LCOE Summary'!$H156:$J156),1,0),\"\")","v":1}]
[{"$f":"IF('All Scenarios LCOE Summary'!G108<MIN('All Scenarios LCOE Summary'!H108:J108),1,0)","v":1},{"$f":"IF('All Scenarios LCOE Summary'!$G108<MIN('All Scenarios LCOE Summary'!$H108:$J108),1,0)","v":1},{"$f":"IF('All Scenarios LCOE Summary'!C135=1,IF('All Scenarios LCOE Summary'!$G135<MIN('All Scenarios LCOE Summary'!$H135:$J135),1,0),\"\")","v":1},{"$f":"IF('All Scenarios LCOE Summary'!D153=1,IF('All Scenarios LCOE Summary'!$G153<MIN('All Scenarios LCOE Summary'!$H153:$J153),1,0),\"\")","v":1},{"$f":"IF('All Scenarios LCOE Summary'!$E159=1,IF('All Scenarios LCOE Summary'!$G159<MIN('All Scenarios LCOE Summary'!$H159:$J159),1,0),\"\")","v":1},{"$f":"IF('All Scenarios LCOE Summary'!$F159=1,IF('All Scenarios LCOE Summary'!$G159<MIN('All Scenarios LCOE Summary'!$H159:$J159),1,0),\"\")","v":1}]
[{"$f":"IF('All Scenarios LCOE Summary'!G109<MIN('All Scenarios LCOE Summary'!H109:J109),1,0)","v":1},{"$f":"IF('All Scenarios LCOE Summary'!$G109<MIN('All Scenarios LCOE Summary'!$H109:$J109),1,0)","v":1},{"$f":"IF('All Scenarios LCOE Summary'!C136=1,IF('All Scenarios LCOE Summary'!$G136<MIN('All Scenarios LCOE Summary'!$H136:$J136),1,0),\"\")","v":1},{"$f":"IF('All Scenarios LCOE Summary'!D154=1,IF('All Scenarios LCOE Summary'!$G154<MIN('All Scenarios LCOE Summary'!$H154:$J154),1,0),\"\")","v":1},{"$f":"IF('All Scenarios LCOE Summary'!$E160=1,IF('All Scenarios LCOE Summary'!$G160<MIN('All Scenarios LCOE Summary'!$H160:$J160),1,0),\"\")","v":1},{"$f":"IF('All Scenarios LCOE Summary'!$F162=1,IF('All Scenarios LCOE Summary'!$G162<MIN('All Scenarios LCOE Summary'!$H162:$J162),1,0),\"\")","v":1}]
[{"$f":"IF('All Scenarios LCOE Summary'!G110<MIN('All Scenarios LCOE Summary'!H110:J110),1,0)","v":1},{"$f":"IF('All Scenarios LCOE Summary'!$G110<MIN('All Scenarios LCOE Summary'!$H110:$J110),1,0)","v":1},{"$f":"IF('All Scenarios LCOE Summary'!C56=2,IF('All Scenarios LCOE Summary'!$G56<MIN('All Scenarios LCOE Summary'!$H56:$J56),1,0),\"\")","v":1},{"$f":"IF('All Scenarios LCOE Summary'!$D20=2,IF('All Scenarios LCOE Summary'!$G20<MIN('All Scenarios LCOE Summary'!$H20:$J20),1,0),\"\")","v":0},{"$f":"IF('All Scenarios LCOE Summary'!$E8=2,IF('All Scenarios LCOE Summary'!$G8<MIN('All Scenarios LCOE Summary'!$H8:$J8),1,0),\"\")","v":0},{"$f":"IF('All Scenarios LCOE Summary'!$F4=2,IF('All Scenarios LCOE Summary'!$G4<MIN('All Scenarios LCOE Summary'!$H4:$J4),1,0),\"\")","v":0}]
[{"$f":"IF('All Scenarios LCOE Summary'!G111<MIN('All Scenarios LCOE Summary'!H111:J111),1,0)","v":1},{"$f":"IF('All Scenarios LCOE Summary'!$G111<MIN('All Scenarios LCOE Summary'!$H111:$J111),1,0)","v":1},{"$f":"IF('All Scenarios LCOE Summary'!C57=2,IF('All Scenarios LCOE Summary'!$G57<MIN('All Scenarios LCOE Summary'!$H57:$J57),1,0),\"\")","v":1},{"$f":"IF('All Scenarios LCOE Summary'!$D21=2,IF('All Scenarios LCOE Summary'!$G21<MIN('All Scenarios LCOE Summary'!$H21:$J21),1,0),\"\")","v":0},{"$f":"IF('All Scenarios LCOE Summary'!$E9=2,IF('All Scenarios LCOE Summary'!$G9<MIN('All Scenarios LCOE Summary'!$H9:$J9),1,0),\"\")","v":0},{"$f":"IF('All Scenarios LCOE Summary'!$F7=2,IF('All Scenarios LCOE Summary'!$G7<MIN('All Scenarios LCOE Summary'!$H7:$J7),1,0),\"\")","v":0}]
[{"$f":"IF('All Scenarios LCOE Summary'!G112<MIN('All Scenarios LCOE Summary'!H112:J112),1,0)","v":1},{"$f":"IF('All Scenarios LCOE Summary'!$G112<MIN('All Scenarios LCOE Summary'!$H112:$J112),1,0)","v":1},{"$f":"IF('All Scenarios LCOE Summary'!C58=2,IF('All Scenarios LCOE Summary'!$G58<MIN('All Scenarios LCOE Summary'!$H58:$J58),1,0),\"\")","v":1},{"$f":"IF('All Scenarios LCOE Summary'!$D22=2,IF('All Scenarios LCOE Summary'!$G22<MIN('All Scenarios LCOE Summary'!$H22:$J22),1,0),\"\")","v":0},{"$f":"IF('All Scenarios LCOE Summary'!$E10=2,IF('All Scenarios LCOE Summary'!$G10<MIN('All Scenarios LCOE Summary'!$H10:$J10),1,0),\"\")","v":0},{"$f":"IF('All Scenarios LCOE Summary'!$F10=2,IF('All Scenarios LCOE Summary'!$G10<MIN('All Scenarios LCOE Summary'!$H10:$J10),1,0),\"\")","v":0}]
[{"$f":"IF('All Scenarios LCOE Summary'!G113<MIN('All Scenarios LCOE Summary'!H113:J113),1,0)","v":1},{"$f":"IF('All Scenarios LCOE Summary'!$G113<MIN('All Scenarios LCOE Summary'!$H113:$J113),1,0)","v":1},{"$f":"IF('All Scenarios LCOE Summary'!C59=2,IF('All Scenarios LCOE Summary'!$G59<MIN('All Scenarios LCOE Summary'!$H59:$J59),1,0),\"\")","v":1},{"$f":"IF('All Scenarios LCOE Summary'!$D23=2,IF('All Scenarios LCOE Summary'!$G23<MIN('All Scenarios LCOE Summary'!$H23:$J23),1,0),\"\")","v":1},{"$f":"IF('All Scenarios LCOE Summary'!$E17=2,IF('All Scenarios LCOE Summary'!$G17<MIN('All Scenarios LCOE Summary'!$H17:$J17),1,0),\"\")","v":0},{"$f":"IF('All Scenarios LCOE Summary'!$F13=2,IF('All Scenarios LCOE Summary'!$G13<MIN('All Scenarios LCOE Summary'!$H13:$J13),1,0),\"\")","v":0}]
[{"$f":"IF('All Scenarios LCOE Summary'!G114<MIN('All Scenarios LCOE Summary'!H114:J114),1,0)","v":1},{"$f":"IF('All Scenarios LCOE Summary'!$G114<MIN('All Scenarios LCOE Summary'!$H114:$J114),1,0)","v":1},{"$f":"IF('All Scenarios LCOE Summary'!C60=2,IF('All Scenarios LCOE Summary'!$G60<MIN('All Scenarios LCOE Summary'!$H60:$J60),1,0),\"\")","v":1},{"$f":"IF('All Scenarios LCOE Summary'!$D24=2,IF('All Scenarios LCOE Summary'!$G24<MIN('All Scenarios LCOE Summary'!$H24:$J24),1,0),\"\")","v":1},{"$f":"IF('All Scenarios LCOE Summary'!$E18=2,IF('All Scenarios LCOE Summary'!$G18<MIN('All Scenarios LCOE Summary'!$H18:$J18),1,0),\"\")","v":0},{"$f":"IF('All Scenarios LCOE Summary'!$F16=2,IF('All Scenarios LCOE Summary'!$G16<MIN('All Scenarios LCOE Summary'!$H16:$J16),1,0),\"\")","v":0}]
[{"$f":"IF('All Scenarios LCOE Summary'!G115<MIN('All Scenarios LCOE Summary'!H115:J115),1,0)","v":1},{"$f":"IF('All Scenarios LCOE Summary'!$G115<MIN('All Scenarios LCOE Summary'!$H115:$J115),1,0)","v":1},{"$f":"IF('All Scenarios LCOE Summary'!C61=2,IF('All Scenarios LCOE Summary'!$G61<MIN('All Scenarios LCOE Summary'!$H61:$J61),1,0),\"\")","v":1},{"$f":"IF('All Scenarios LCOE Summary'!$D25=2,IF('All Scenarios LCOE Summary'!$G25<MIN('All Scenarios LCOE Summary'!$H25:$J25),1,0),\"\")","v":1},{"$f":"IF('All Scenarios LCOE Summary'!$E19=2,IF('All Scenarios LCOE Summary'!$G19<MIN('All Scenarios LCOE Summary'!$H19:$J19),1,0),\"\")","v":0},{"$f":"IF('All Scenarios LCOE Summary'!$F19=2,IF('All Scenarios LCOE Summary'!$G19<MIN('All Scenarios LCOE Summary'!$H19:$J19),1,0),\"\")","v":0}]
[{"$f":"IF('All Scenarios LCOE Summary'!G116<MIN('All Scenarios LCOE Summary'!H116:J116),1,0)","v":1},{"$f":"IF('All Scenarios LCOE Summary'!$G116<MIN('All Scenarios LCOE Summary'!$H116:$J116),1,0)","v":1},{"$f":"IF('All Scenarios LCOE Summary'!C62=2,IF('All Scenarios LCOE Summary'!$G62<MIN('All Scenarios LCOE Summary'!$H62:$J62),1,0),\"\")","v":1},{"$f":"IF('All Scenarios LCOE Summary'!$D26=2,IF('All Scenarios LCOE Summary'!$G26<MIN('All Scenarios LCOE Summary'!$H26:$J26),1,0),\"\")","v":1},{"$f":"IF('All Scenarios LCOE Summary'!$E26=2,IF('All Scenarios LCOE Summary'!$G26<MIN('All Scenarios LCOE Summary'!$H26:$J26),1,0),\"\")","v":1},{"$f":"IF('All Scenarios LCOE Summary'!$F22=2,IF('All Scenarios LCOE Summary'!$G22<MIN('All Scenarios LCOE Summary'!$H22:$J22),1,0),\"\")","v":0}]
[{"$f":"IF('All Scenarios LCOE Summary'!G117<MIN('All Scenarios LCOE Summary'!H117:J117),1,0)","v":1},{"$f":"IF('All Scenarios LCOE Summary'!$G117<MIN('All Scenarios LCOE Summary'!$H117:$J117),1,0)","v":1},{"$f":"IF('All Scenarios LCOE Summary'!C63=2,IF('All Scenarios LCOE Summary'!$G63<MIN('All Scenarios LCOE Summary'!$H63:$J63),1,0),\"\")","v":1},{"$f":"IF('All Scenarios LCOE Summary'!$D27=2,IF('All Scenarios LCOE Summary'!$G27<MIN('All Scenarios LCOE Summary'!$H27:$J27),1,0),\"\")","v":1},{"$f":"IF('All Scenarios LCOE Summary'!$E27=2,IF('All Scenarios LCOE Summary'!$G27<MIN('All Scenarios LCOE Summary'!$H27:$J27),1,0),\"\")","v":1},{"$f":"IF('All Scenarios LCOE Summary'!$F25=2,IF('All Scenarios LCOE Summary'!$G25<MIN('All Scenarios LCOE Summary'!$H25:$J25),1,0),\"\")","v":1}]
[{"$f":"IF('All Scenarios LCOE Summary'!G118<MIN('All Scenarios LCOE Summary'!H118:J118),1,0)","v":1},{"$f":"IF('All Scenarios LCOE Summary'!$G118<MIN('All Scenarios LCOE Summary'!$H118:$J118),1,0)","v":1},{"$f":"IF('All Scenarios LCOE Summary'!C64=2,IF('All Scenarios LCOE Summary'!$G64<MIN('All Scenarios LCOE Summary'!$H64:$J64),1,0),\"\")","v":1},{"$f":"IF('All Scenarios LCOE Summary'!$D28=2,IF('All Scenarios LCOE Summary'!$G28<MIN('All Scenarios LCOE Summary'!$H28:$J28),1,0),\"\")","v":1},{"$f":"IF('All Scenarios LCOE Summary'!$E28=2,IF('All Scenarios LCOE Summary'!$G28<MIN('All Scenarios LCOE Summary'!$H28:$J28),1,0),\"\")","v":1},{"$f":"IF('All Scenarios LCOE Summary'!$F28=2,IF('All Scenarios LCOE Summary'!$G28<MIN('All Scenarios LCOE Summary'!$H28:$J28),1,0),\"\")","v":1}]
[{"$f":"IF('All Scenarios LCOE Summary'!G119<MIN('All Scenarios LCOE Summary'!H119:J119),1,0)","v":1},{"$f":"IF('All Scenarios LCOE Summary'!$G119<MIN('All Scenarios LCOE Summary'!$H119:$J119),1,0)","v":1},{"$f":"IF('All Scenarios LCOE Summary'!C65=2,IF('All Scenarios LCOE Summary'!$G65<MIN('All Scenarios LCOE Summary'!$H65:$J65),1,0),\"\")","v":1},{"$f":"IF('All Scenarios LCOE Summary'!$D47=2,IF('All Scenarios LCOE Summary'!$G47<MIN('All Scenarios LCOE Summary'!$H47:$J47),1,0),\"\")","v":1},{"$f":"IF('All Scenarios LCOE Summary'!$E35=2,IF('All Scenarios LCOE Summary'!$G35<MIN('All Scenarios LCOE Summary'!$H35:$J35),1,0),\"\")","v":1},{"$f":"IF('All Scenarios LCOE Summary'!$F31=2,IF('All Scenarios LCOE Summary'!$G31<MIN('All Scenarios LCOE Summary'!$H31:$J31),1,0),\"\")","v":0}]
[{"$f":"IF('All Scenarios LCOE Summary'!G120<MIN('All Scenarios LCOE Summary'!H120:J120),1,0)","v":1},{"$f":"IF('All Scenarios LCOE Summary'!$G120<MIN('All Scenarios LCOE Summary'!$H120:$J120),1,0)","v":1},{"$f":"IF('All Scenarios LCOE Summary'!C66=2,IF('All Scenarios LCOE Summary'!$G66<MIN('All Scenarios LCOE Summary'!$H66:$J66),1,0),\"\")","v":1},{"$f":"IF('All Scenarios LCOE Summary'!$D48=2,IF('All Scenarios LCOE Summary'!$G48<MIN('All Scenarios LCOE Summary'!$H48:$J48),1,0),\"\")","v":1},{"$f":"IF('All Scenarios LCOE Summary'!$E36=2,IF('All Scenarios LCOE Summary'!$G36<MIN('All Scenarios LCOE Summary'!$H36:$J36),1,0),\"\")","v":1},{"$f":"IF('All Scenarios LCOE Summary'!$F34=2,IF('All Scenarios LCOE Summary'!$G34<MIN('All Scenarios LCOE Summary'!$H34:$J34),1,0),\"\")","v":0}]
[{"$f":"IF('All Scenarios LCOE Summary'!G121<MIN('All Scenarios LCOE Summary'!H121:J121),1,0)","v":1},{"$f":"IF('All Scenarios LCOE Summary'!$G121<MIN('All Scenarios LCOE Summary'!$H121:$J121),1,0)","v":1},{"$f":"IF('All Scenarios LCOE Summary'!C67=2,IF('All Scenarios LCOE Summary'!$G67<MIN('All Scenarios LCOE Summary'!$H67:$J67),1,0),\"\")","v":1},{"$f":"IF('All Scenarios LCOE Summary'!$D49=2,IF('All Scenarios LCOE Summary'!$G49<MIN('All Scenarios LCOE Summary'!$H49:$J49),1,0),\"\")","v":1},{"$f":"IF('All Scenarios LCOE Summary'!$E37=2,IF('All Scenarios LCOE Summary'!$G37<MIN('All Scenarios LCOE Summary'!$H37:$J37),1,0),\"\")","v":1},{"$f":"IF('All Scenarios LCOE Summary'!$F37=2,IF('All Scenarios LCOE Summary'!$G37<MIN('All Scenarios LCOE Summary'!$H37:$J37),1,0),\"\")","v":1}]
[{"$f":"IF('All Scenarios LCOE Summary'!G122<MIN('All Scenarios LCOE Summary'!H122:J122),1,0)","v":1},{"$f":"IF('All Scenarios LCOE Summary'!$G122<MIN('All Scenarios LCOE Summary'!$H122:$J122),1,0)","v":1},{"$f":"IF('All Scenarios LCOE Summary'!C68=2,IF('All Scenarios LCOE Summary'!$G68<MIN('All Scenarios LCOE Summary'!$H68:$J68),1,0),\"\")","v":1},{"$f":"IF('All Scenarios LCOE Summary'!$D50=2,IF('All Scenarios LCOE Summary'!$G50<MIN('All Scenarios LCOE Summary'!$H50:$J50),1,0),\"\")","v":1},{"$f":"IF('All Scenarios LCOE Summary'!$E44=2,IF('All Scenarios LCOE Summary'!$G44<MIN('All Scenarios LCOE Summary'!$H44:$J44),1,0),\"\")","v":1},{"$f":"IF('All Scenarios LCOE Summary'!$F40=2,IF('All Scenarios LCOE Summary'!$G40<MIN('All Scenarios LCOE Summary'!$H40:$J40),1,0),\"\")","v":1}]
[{"$f":"IF('All Scenarios LCOE Summary'!G123<MIN('All Scenarios LCOE Summary'!H123:J123),1,0)","v":1},{"$f":"IF('All Scenarios LCOE Summary'!$G123<MIN('All Scenarios LCOE Summary'!$H123:$J123),1,0)","v":1},{"$f":"IF('All Scenarios LCOE Summary'!C69=2,IF('All Scenarios LCOE Summary'!$G69<MIN('All Scenarios LCOE Summary'!$H69:$J69),1,0),\"\")","v":1},{"$f":"IF('All Scenarios LCOE Summary'!$D51=2,IF('All Scenarios LCOE Summary'!$G51<MIN('All Scenarios LCOE Summary'!$H51:$J51),1,0),\"\")","v":1},{"$f":"IF('All Scenarios LCOE Summary'!$E45=2,IF('All Scenarios LCOE Summary'!$G45<MIN('All Scenarios LCOE Summary'!$H45:$J45),1,0),\"\")","v":1},{"$f":"IF('All Scenarios LCOE Summary'!$F43=2,IF('All Scenarios LCOE Summary'!$G43<MIN('All Scenarios LCOE Summary'!$H43:$J43),1,0),\"\")","v":1}]
[{"$f":"IF('All Scenarios LCOE Summary'!G124<MIN('All Scenarios LCOE Summary'!H124:J124),1,0)","v":1},{"$f":"IF('All Scenarios LCOE Summary'!$G124<MIN('All Scenarios LCOE Summary'!$H124:$J124),1,0)","v":1},{"$f":"IF('All Scenarios LCOE Summary'!C70=2,IF('All Scenarios LCOE Summary'!$G70<MIN('All Scenarios LCOE Summary'!$H70:$J70),1,0),\"\")","v":1},{"$f":"IF('All Scenarios LCOE Summary'!$D52=2,IF('All Scenarios LCOE Summary'!$G52<MIN('All Scenarios LCOE Summary'!$H52:$J52),1,0),\"\")","v":1},{"$f":"IF('All Scenarios LCOE Summary'!$E46=2,IF('All Scenarios LCOE Summary'!$G46<MIN('All Scenarios LCOE Summary'!$H46:$J46),1,0),\"\")","v":1},{"$f":"IF('All Scenarios LCOE Summary'!$F46=2,IF('All Scenarios LCOE Summary'!$G46<MIN('All Scenarios LCOE Summary'!$H46:$J46),1,0),\"\")","v":1}]
[{"$f":"IF('All Scenarios LCOE Summary'!G125<MIN('All Scenarios LCOE Summary'!H125:J125),1,0)","v":1},{"$f":"IF('All Scenarios LCOE Summary'!$G125<MIN('All Scenarios LCOE Summary'!$H125:$J125),1,0)","v":1},{"$f":"IF('All Scenarios LCOE Summary'!C71=2,IF('All Scenarios LCOE Summary'!$G71<MIN('All Scenarios LCOE Summary'!$H71:$J71),1,0),\"\")","v":1},{"$f":"IF('All Scenarios LCOE Summary'!$D53=2,IF('All Scenarios LCOE Summary'!$G53<MIN('All Scenarios LCOE Summary'!$H53:$J53),1,0),\"\")","v":1},{"$f":"IF('All Scenarios LCOE Summary'!$E53=2,IF('All Scenarios LCOE Summary'!$G53<MIN('All Scenarios LCOE Summary'!$H53:$J53),1,0),\"\")","v":1},{"$f":"IF('All Scenarios LCOE Summary'!$F49=2,IF('All Scenarios LCOE Summary'!$G49<MIN('All Scenarios LCOE Summary'!$H49:$J49),1,0),\"\")","v":1}]
[{"$f":"IF('All Scenarios LCOE Summary'!G126<MIN('All Scenarios LCOE Summary'!H126:J126),1,0)","v":1},{"$f":"IF('All Scenarios LCOE Summary'!$G126<MIN('All Scenarios LCOE Summary'!$H126:$J126),1,0)","v":1},{"$f":"IF('All Scenarios LCOE Summary'!C72=2,IF('All Scenarios LCOE Summary'!$G72<MIN('All Scenarios LCOE Summary'!$H72:$J72),1,0),\"\")","v":1},{"$f":"IF('All Scenarios LCOE Summary'!$D54=2,IF('All Scenarios LCOE Summary'!$G54<MIN('All Scenarios LCOE Summary'!$H54:$J54),1,0),\"\")","v":1},{"$f":"IF('All Scenarios LCOE Summary'!$E54=2,IF('All Scenarios LCOE Summary'!$G54<MIN('All Scenarios LCOE Summary'!$H54:$J54),1,0),\"\")","v":1},{"$f":"IF('All Scenarios LCOE Summary'!$F52=2,IF('All Scenarios LCOE Summary'!$G52<MIN('All Scenarios LCOE Summary'!$H52:$J52),1,0),\"\")","v":1}]
[{"$f":"IF('All Scenarios LCOE Summary'!G127<MIN('All Scenarios LCOE Summary'!H127:J127),1,0)","v":1},{"$f":"IF('All Scenarios LCOE Summary'!$G127<MIN('All Scenarios LCOE Summary'!$H127:$J127),1,0)","v":1},{"$f":"IF('All Scenarios LCOE Summary'!C73=2,IF('All Scenarios LCOE Summary'!$G73<MIN('All Scenarios LCOE Summary'!$H73:$J73),1,0),\"\")","v":1},{"$f":"IF('All Scenarios LCOE Summary'!$D55=2,IF('All Scenarios LCOE Summary'!$G55<MIN('All Scenarios LCOE Summary'!$H55:$J55),1,0),\"\")","v":1},{"$f":"IF('All Scenarios LCOE Summary'!$E55=2,IF('All Scenarios LCOE Summary'!$G55<MIN('All Scenarios LCOE Summary'!$H55:$J55),1,0),\"\")","v":1},{"$f":"IF('All Scenarios LCOE Summary'!$F55=2,IF('All Scenarios LCOE Summary'!$G55<MIN('All Scenarios LCOE Summary'!$H55:$J55),1,0),\"\")","v":1}]
[{"$f":"IF('All Scenarios LCOE Summary'!G128<MIN('All Scenarios LCOE Summary'!H128:J128),1,0)","v":1},{"$f":"IF('All Scenarios LCOE Summary'!$G128<MIN('All Scenarios LCOE Summary'!$H128:$J128),1,0)","v":1},{"$f":"IF('All Scenarios LCOE Summary'!C74=2,IF('All Scenarios LCOE Summary'!$G74<MIN('All Scenarios LCOE Summary'!$H74:$J74),1,0),\"\")","v":1},{"$f":"IF('All Scenarios LCOE Summary'!$D74=2,IF('All Scenarios LCOE Summary'!$G74<MIN('All Scenarios LCOE Summary'!$H74:$J74),1,0),\"\")","v":1},{"$f":"IF('All Scenarios LCOE Summary'!$E62=2,IF('All Scenarios LCOE Summary'!$G62<MIN('All Scenarios LCOE Summary'!$H62:$J62),1,0),\"\")","v":1},{"$f":"IF('All Scenarios LCOE Summary'!$F58=2,IF('All Scenarios LCOE Summary'!$G58<MIN('All Scenarios LCOE Summary'!$H58:$J58),1,0),\"\")","v":1}]
[{"$f":"IF('All Scenarios LCOE Summary'!G129<MIN('All Scenarios LCOE Summary'!H129:J129),1,0)","v":1},{"$f":"IF('All Scenarios LCOE Summary'!$G129<MIN('All Scenarios LCOE Summary'!$H129:$J129),1,0)","v":1},{"$f":"IF('All Scenarios LCOE Summary'!C75=2,IF('All Scenarios LCOE Summary'!$G75<MIN('All Scenarios LCOE Summary'!$H75:$J75),1,0),\"\")","v":1},{"$f":"IF('All Scenarios LCOE Summary'!$D75=2,IF('All Scenarios LCOE Summary'!$G75<MIN('All Scenarios LCOE Summary'!$H75:$J75),1,0),\"\")","v":1},{"$f":"IF('All Scenarios LCOE Summary'!$E63=2,IF('All Scenarios LCOE Summary'!$G63<MIN('All Scenarios LCOE Summary'!$H63:$J63),1,0),\"\")","v":1},{"$f":"IF('All Scenarios LCOE Summary'!$F61=2,IF('All Scenarios LCOE Summary'!$G61<MIN('All Scenarios LCOE Summary'!$H61:$J61),1,0),\"\")","v":1}]
[{"$f":"IF('All Scenarios LCOE Summary'!G130<MIN('All Scenarios LCOE Summary'!H130:J130),1,0)","v":1},{"$f":"IF('All Scenarios LCOE Summary'!$G130<MIN('All Scenarios LCOE Summary'!$H130:$J130),1,0)","v":1},{"$f":"IF('All Scenarios LCOE Summary'!C76=2,IF('All Scenarios LCOE Summary'!$G76<MIN('All Scenarios LCOE Summary'!$H76:$J76),1,0),\"\")","v":1},{"$f":"IF('All Scenarios LCOE Summary'!$D76=2,IF('All Scenarios LCOE Summary'!$G76<MIN('All Scenarios LCOE Summary'!$H76:$J76),1,0),\"\")","v":1},{"$f":"IF('All Scenarios LCOE Summary'!$E64=2,IF('All Scenarios LCOE Summary'!$G64<MIN('All Scenarios LCOE Summary'!$H64:$J64),1,0),\"\")","v":1},{"$f":"IF('All Scenarios LCOE Summary'!$F64=2,IF('All Scenarios LCOE Summary'!$G64<MIN('All Scenarios LCOE Summary'!$H64:$J64),1,0),\"\")","v":1}]
[{"$f":"IF('All Scenarios LCOE Summary'!G131<MIN('All Scenarios LCOE Summary'!H131:J131),1,0)","v":1},{"$f":"IF('All Scenarios LCOE Summary'!$G131<MIN('All Scenarios LCOE Summary'!$H131:$J131),1,0)","v":1},{"$f":"IF('All Scenarios LCOE Summary'!C77=2,IF('All Scenarios LCOE Summary'!$G77<MIN('All Scenarios LCOE Summary'!$H77:$J77),1,0),\"\")","v":1},{"$f":"IF('All Scenarios LCOE Summary'!$D77=2,IF('All Scenarios LCOE Summary'!$G77<MIN('All Scenarios LCOE Summary'!$H77:$J77),1,0),\"\")","v":1},{"$f":"IF('All Scenarios LCOE Summary'!$E71=2,IF('All Scenarios LCOE Summary'!$G71<MIN('All Scenarios LCOE Summary'!$H71:$J71),1,0),\"\")","v":1},{"$f":"IF('All Scenarios LCOE Summary'!$F67=2,IF('All Scenarios LCOE Summary'!$G67<MIN('All Scenarios LCOE Summary'!$H67:$J67),1,0),\"\")","v":1}]
[{"$f":"IF('All Scenarios LCOE Summary'!G132<MIN('All Scenarios LCOE Summary'!H132:J132),1,0)","v":1},{"$f":"IF('All Scenarios LCOE Summary'!$G132<MIN('All Scenarios LCOE Summary'!$H132:$J132),1,0)","v":1},{"$f":"IF('All Scenarios LCOE Summary'!C78=2,IF('All Scenarios LCOE Summary'!$G78<MIN('All Scenarios LCOE Summary'!$H78:$J78),1,0),\"\")","v":1},{"$f":"IF('All Scenarios LCOE Summary'!$D78=2,IF('All Scenarios LCOE Summary'!$G78<MIN('All Scenarios LCOE Summary'!$H78:$J78),1,0),\"\")","v":1},{"$f":"IF('All Scenarios LCOE Summary'!$E72=2,IF('All Scenarios LCOE Summary'!$G72<MIN('All Scenarios LCOE Summary'!$H72:$J72),1,0),\"\")","v":1},{"$f":"IF('All Scenarios LCOE Summary'!$F70=2,IF('All Scenarios LCOE Summary'!$G70<MIN('All Scenarios LCOE Summary'!$H70:$J70),1,0),\"\")","v":1}]
[{"$f":"IF('All Scenarios LCOE Summary'!G133<MIN('All Scenarios LCOE Summary'!H133:J133),1,0)","v":1},{"$f":"IF('All Scenarios LCOE Summary'!$G133<MIN('All Scenarios LCOE Summary'!$H133:$J133),1,0)","v":1},{"$f":"IF('All Scenarios LCOE Summary'!C79=2,IF('All Scenarios LCOE Summary'!$G79<MIN('All Scenarios LCOE Summary'!$H79:$J79),1,0),\"\")","v":1},{"$f":"IF('All Scenarios LCOE Summary'!$D79=2,IF('All Scenarios LCOE Summary'!$G79<MIN('All Scenarios LCOE Summary'!$H79:$J79),1,0),\"\")","v":1},{"$f":"IF('All Scenarios LCOE Summary'!$E73=2,IF('All Scenarios LCOE Summary'!$G73<MIN('All Scenarios LCOE Summary'!$H73:$J73),1,0),\"\")","v":1},{"$f":"IF('All Scenarios LCOE Summary'!$F73=2,IF('All Scenarios LCOE Summary'!$G73<MIN('All Scenarios LCOE Summary'!$H73:$J73),1,0),\"\")","v":1}]
[{"$f":"IF('All Scenarios LCOE Summary'!G134<MIN('All Scenarios LCOE Summary'!H134:J134),1,0)","v":1},{"$f":"IF('All Scenarios LCOE Summary'!$G134<MIN('All Scenarios LCOE Summary'!$H134:$J134),1,0)","v":1},{"$f":"IF('All Scenarios LCOE Summary'!C80=2,IF('All Scenarios LCOE Summary'!$G80<MIN('All Scenarios LCOE Summary'!$H80:$J80),1,0),\"\")","v":1},{"$f":"IF('All Scenarios LCOE Summary'!$D80=2,IF('All Scenarios LCOE Summary'!$G80<MIN('All Scenarios LCOE Summary'!$H80:$J80),1,0),\"\")","v":1},{"$f":"IF('All Scenarios LCOE Summary'!$E80=2,IF('All Scenarios LCOE Summary'!$G80<MIN('All Scenarios LCOE Summary'!$H80:$J80),1,0),\"\")","v":1},{"$f":"IF('All Scenarios LCOE Summary'!$F76=2,IF('All Scenarios LCOE Summary'!$G76<MIN('All Scenarios LCOE Summary'!$H76:$J76),1,0),\"\")","v":1}]
[{"$f":"IF('All Scenarios LCOE Summary'!G135<MIN('All Scenarios LCOE Summary'!H135:J135),1,0)","v":1},{"$f":"IF('All Scenarios LCOE Summary'!$G135<MIN('All Scenarios LCOE Summary'!$H135:$J135),1,0)","v":1},{"$f":"IF('All Scenarios LCOE Summary'!C81=2,IF('All Scenarios LCOE Summary'!$G81<MIN('All Scenarios LCOE Summary'!$H81:$J81),1,0),\"\")","v":1},{"$f":"IF('All Scenarios LCOE Summary'!$D81=2,IF('All Scenarios LCOE Summary'!$G81<MIN('All Scenarios LCOE Summary'!$H81:$J81),1,0),\"\")","v":1},{"$f":"IF('All Scenarios LCOE Summary'!$E81=2,IF('All Scenarios LCOE Summary'!$G81<MIN('All Scenarios LCOE Summary'!$H81:$J81),1,0),\"\")","v":1},{"$f":"IF('All Scenarios LCOE Summary'!$F79=2,IF('All Scenarios LCOE Summary'!$G79<MIN('All Scenarios LCOE Summary'!$H79:$J79),1,0),\"\")","v":1}]
[{"$f":"IF('All Scenarios LCOE Summary'!G136<MIN('All Scenarios LCOE Summary'!H136:J136),1,0)","v":1},{"$f":"IF('All Scenarios LCOE Summary'!$G136<MIN('All Scenarios LCOE Summary'!$H136:$J136),1,0)","v":1},{"$f":"IF('All Scenarios LCOE Summary'!C82=2,IF('All Scenarios LCOE Summary'!$G82<MIN('All Scenarios LCOE Summary'!$H82:$J82),1,0),\"\")","v":1},{"$f":"IF('All Scenarios LCOE Summary'!$D82=2,IF('All Scenarios LCOE Summary'!$G82<MIN('All Scenarios LCOE Summary'!$H82:$J82),1,0),\"\")","v":1},{"$f":"IF('All Scenarios LCOE Summary'!$E82=2,IF('All Scenarios LCOE Summary'!$G82<MIN('All Scenarios LCOE Summary'!$H82:$J82),1,0),\"\")","v":1},{"$f":"IF('All Scenarios LCOE Summary'!$F82=2,IF('All Scenarios LCOE Summary'!$G82<MIN('All Scenarios LCOE Summary'!$H82:$J82),1,0),\"\")","v":1}]
[{"$f":"IF('All Scenarios LCOE Summary'!G137<MIN('All Scenarios LCOE Summary'!H137:J137),1,0)","v":1},{"$f":"IF('All Scenarios LCOE Summary'!$G137<MIN('All Scenarios LCOE Summary'!$H137:$J137),1,0)","v":1},{"$f":"IF('All Scenarios LCOE Summary'!C137=2,IF('All Scenarios LCOE Summary'!$G137<MIN('All Scenarios LCOE Summary'!$H137:$J137),1,0),\"\")","v":1},{"$f":"IF('All Scenarios LCOE Summary'!$D101=2,IF('All Scenarios LCOE Summary'!$G101<MIN('All Scenarios LCOE Summary'!$H101:$J101),1,0),\"\")","v":1},{"$f":"IF('All Scenarios LCOE Summary'!$E89=2,IF('All Scenarios LCOE Summary'!$G89<MIN('All Scenarios LCOE Summary'!$H89:$J89),1,0),\"\")","v":1},{"$f":"IF('All Scenarios LCOE Summary'!$F85=2,IF('All Scenarios LCOE Summary'!$G85<MIN('All Scenarios LCOE Summary'!$H85:$J85),1,0),\"\")","v":1}]
[{"$f":"IF('All Scenarios LCOE Summary'!G138<MIN('All Scenarios LCOE Summary'!H138:J138),1,0)","v":1},{"$f":"IF('All Scenarios LCOE Summary'!$G138<MIN('All Scenarios LCOE Summary'!$H138:$J138),1,0)","v":1},{"$f":"IF('All Scenarios LCOE Summary'!C138=2,IF('All Scenarios LCOE Summary'!$G138<MIN('All Scenarios LCOE Summary'!$H138:$J138),1,0),\"\")","v":1},{"$f":"IF('All Scenarios LCOE Summary'!$D102=2,IF('All Scenarios LCOE Summary'!$G102<MIN('All Scenarios LCOE Summary'!$H102:$J102),1,0),\"\")","v":1},{"$f":"IF('All Scenarios LCOE Summary'!$E90=2,IF('All Scenarios LCOE Summary'!$G90<MIN('All Scenarios LCOE Summary'!$H90:$J90),1,0),\"\")","v":1},{"$f":"IF('All Scenarios LCOE Summary'!$F88=2,IF('All Scenarios LCOE Summary'!$G88<MIN('All Scenarios LCOE Summary'!$H88:$J88),1,0),\"\")","v":1}]
[{"$f":"IF('All Scenarios LCOE Summary'!G139<MIN('All Scenarios LCOE Summary'!H139:J139),1,0)","v":1},{"$f":"IF('All Scenarios LCOE Summary'!$G139<MIN('All Scenarios LCOE Summary'!$H139:$J139),1,0)","v":1},{"$f":"IF('All Scenarios LCOE Summary'!C139=2,IF('All Scenarios LCOE Summary'!$G139<MIN('All Scenarios LCOE Summary'!$H139:$J139),1,0),\"\")","v":1},{"$f":"IF('All Scenarios LCOE Summary'!$D103=2,IF('All Scenarios LCOE Summary'!$G103<MIN('All Scenarios LCOE Summary'!$H103:$J103),1,0),\"\")","v":1},{"$f":"IF('All Scenarios LCOE Summary'!$E91=2,IF('All Scenarios LCOE Summary'!$G91<MIN('All Scenarios LCOE Summary'!$H91:$J91),1,0),\"\")","v":1},{"$f":"IF('All Scenarios LCOE Summary'!$F91=2,IF('All Scenarios LCOE Summary'!$G91<MIN('All Scenarios LCOE Summary'!$H91:$J91),1,0),\"\")","v":1}]
[{"$f":"IF('All Scenarios LCOE Summary'!G140<MIN('All Scenarios LCOE Summary'!H140:J140),1,0)","v":1},{"$f":"IF('All Scenarios LCOE Summary'!$G140<MIN('All Scenarios LCOE Summary'!$H140:$J140),1,0)","v":1},{"$f":"IF('All Scenarios LCOE Summary'!C140=2,IF('All Scenarios LCOE Summary'!$G140<MIN('All Scenarios LCOE Summary'!$H140:$J140),1,0),\"\")","v":1},{"$f":"IF('All Scenarios LCOE Summary'!$D104=2,IF('All Scenarios LCOE Summary'!$G104<MIN('All Scenarios LCOE Summary'!$H104:$J104),1,0),\"\")","v":1},{"$f":"IF('All Scenarios LCOE Summary'!$E98=2,IF('All Scenarios LCOE Summary'!$G98<MIN('All Scenarios LCOE Summary'!$H98:$J98),1,0),\"\")","v":1},{"$f":"IF('All Scenarios LCOE Summary'!$F94=2,IF('All Scenarios LCOE Summary'!$G94<MIN('All Scenarios LCOE Summary'!$H94:$J94),1,0),\"\")","v":1}]
[{"$f":"IF('All Scenarios LCOE Summary'!G141<MIN('All Scenarios LCOE Summary'!H141:J141),1,0)","v":1},{"$f":"IF('All Scenarios LCOE Summary'!$G141<MIN('All Scenarios LCOE Summary'!$H141:$J141),1,0)","v":1},{"$f":"IF('All Scenarios LCOE Summary'!C141=2,IF('All Scenarios LCOE Summary'!$G141<MIN('All Scenarios LCOE Summary'!$H141:$J141),1,0),\"\")","v":1},{"$f":"IF('All Scenarios LCOE Summary'!$D105=2,IF('All Scenarios LCOE Summary'!$G105<MIN('All Scenarios LCOE Summary'!$H105:$J105),1,0),\"\")","v":1},{"$f":"IF('All Scenarios LCOE Summary'!$E99=2,IF('All Scenarios LCOE Summary'!$G99<MIN('All Scenarios LCOE Summary'!$H99:$J99),1,0),\"\")","v":1},{"$f":"IF('All Scenarios LCOE Summary'!$F97=2,IF('All Scenarios LCOE Summary'!$G97<MIN('All Scenarios LCOE Summary'!$H97:$J97),1,0),\"\")","v":1}]
[{"$f":"IF('All Scenarios LCOE Summary'!G142<MIN('All Scenarios LCOE Summary'!H142:J142),1,0)","v":1},{"$f":"IF('All Scenarios LCOE Summary'!$G142<MIN('All Scenarios LCOE Summary'!$H142:$J142),1,0)","v":1},{"$f":"IF('All Scenarios LCOE Summary'!C142=2,IF('All Scenarios LCOE Summary'!$G142<MIN('All Scenarios LCOE Summary'!$H142:$J142),1,0),\"\")","v":1},{"$f":"IF('All Scenarios LCOE Summary'!$D106=2,IF('All Scenarios LCOE Summary'!$G106<MIN('All Scenarios LCOE Summary'!$H106:$J106),1,0),\"\")","v":1},{"$f":"IF('All Scenarios LCOE Summary'!$E100=2,IF('All Scenarios LCOE Summary'!$G100<MIN('All Scenarios LCOE Summary'!$H100:$J100),1,0),\"\")","v":1},{"$f":"IF('All Scenarios LCOE Summary'!$F100=2,IF('All Scenarios LCOE Summary'!$G100<MIN('All Scenarios LCOE Summary'!$H100:$J100),1,0),\"\")","v":1}]
[{"$f":"IF('All Scenarios LCOE Summary'!G143<MIN('All Scenarios LCOE Summary'!H143:J143),1,0)","v":1},{"$f":"IF('All Scenarios LCOE Summary'!$G143<MIN('All Scenarios LCOE Summary'!$H143:$J143),1,0)","v":1},{"$f":"IF('All Scenarios LCOE Summary'!C143=2,IF('All Scenarios LCOE Summary'!$G143<MIN('All Scenarios LCOE Summary'!$H143:$J143),1,0),\"\")","v":1},{"$f":"IF('All Scenarios LCOE Summary'!$D107=2,IF('All Scenarios LCOE Summary'!$G107<MIN('All Scenarios LCOE Summary'!$H107:$J107),1,0),\"\")","v":1},{"$f":"IF('All Scenarios LCOE Summary'!$E107=2,IF('All Scenarios LCOE Summary'!$G107<MIN('All Scenarios LCOE Summary'!$H107:$J107),1,0),\"\")","v":1},{"$f":"IF('All Scenarios LCOE Summary'!$F103=2,IF('All Scenarios LCOE Summary'!$G103<MIN('All Scenarios LCOE Summary'!$H103:$J103),1,0),\"\")","v":1}]
[{"$f":"IF('All Scenarios LCOE Summary'!G144<MIN('All Scenarios LCOE Summary'!H144:J144),1,0)","v":1},{"$f":"IF('All Scenarios LCOE Summary'!$G144<MIN('All Scenarios LCOE Summary'!$H144:$J144),1,0)","v":1},{"$f":"IF('All Scenarios LCOE Summary'!C144=2,IF('All Scenarios LCOE Summary'!$G144<MIN('All Scenarios LCOE Summary'!$H144:$J144),1,0),\"\")","v":1},{"$f":"IF('All Scenarios LCOE Summary'!$D108=2,IF('All Scenarios LCOE Summary'!$G108<MIN('All Scenarios LCOE Summary'!$H108:$J108),1,0),\"\")","v":1},{"$f":"IF('All Scenarios LCOE Summary'!$E108=2,IF('All Scenarios LCOE Summary'!$G108<MIN('All Scenarios LCOE Summary'!$H108:$J108),1,0),\"\")","v":1},{"$f":"IF('All Scenarios LCOE Summary'!$F106=2,IF('All Scenarios LCOE Summary'!$G106<MIN('All Scenarios LCOE Summary'!$H106:$J106),1,0),\"\")","v":1}]
[{"$f":"IF('All Scenarios LCOE Summary'!G145<MIN('All Scenarios LCOE Summary'!H145:J145),1,0)","v":1},{"$f":"IF('All Scenarios LCOE Summary'!$G145<MIN('All Scenarios LCOE Summary'!$H145:$J145),1,0)","v":1},{"$f":"IF('All Scenarios LCOE Summary'!C145=2,IF('All Scenarios LCOE Summary'!$G145<MIN('All Scenarios LCOE Summary'!$H145:$J145),1,0),\"\")","v":1},{"$f":"IF('All Scenarios LCOE Summary'!$D109=2,IF('All Scenarios LCOE Summary'!$G109<MIN('All Scenarios LCOE Summary'!$H109:$J109),1,0),\"\")","v":1},{"$f":"IF('All Scenarios LCOE Summary'!$E109=2,IF('All Scenarios LCOE Summary'!$G109<MIN('All Scenarios LCOE Summary'!$H109:$J109),1,0),\"\")","v":1},{"$f":"IF('All Scenarios LCOE Summary'!$F109=2,IF('All Scenarios LCOE Summary'!$G109<MIN('All Scenarios LCOE Summary'!$H109:$J109),1,0),\"\")","v":1}]
[{"$f":"IF('All Scenarios LCOE Summary'!G146<MIN('All Scenarios LCOE Summary'!H146:J146),1,0)","v":1},{"$f":"IF('All Scenarios LCOE Summary'!$G146<MIN('All Scenarios LCOE Summary'!$H146:$J146),1,0)","v":1},{"$f":"IF('All Scenarios LCOE Summary'!C146=2,IF('All Scenarios LCOE Summary'!$G146<MIN('All Scenarios LCOE Summary'!$H146:$J146),1,0),\"\")","v":1},{"$f":"IF('All Scenarios LCOE Summary'!$D128=2,IF('All Scenarios LCOE Summary'!$G128<MIN('All Scenarios LCOE Summary'!$H128:$J128),1,0),\"\")","v":1},{"$f":"IF('All Scenarios LCOE Summary'!$E116=2,IF('All Scenarios LCOE Summary'!$G116<MIN('All Scenarios LCOE Summary'!$H116:$J116),1,0),\"\")","v":1},{"$f":"IF('All Scenarios LCOE Summary'!$F112=2,IF('All Scenarios LCOE Summary'!$G112<MIN('All Scenarios LCOE Summary'!$H112:$J112),1,0),\"\")","v":1}]
[{"$f":"IF('All Scenarios LCOE Summary'!G147<MIN('All Scenarios LCOE Summary'!H147:J147),1,0)","v":1},{"$f":"IF('All Scenarios LCOE Summary'!$G147<MIN('All Scenarios LCOE Summary'!$H147:$J147),1,0)","v":1},{"$f":"IF('All Scenarios LCOE Summary'!C147=2,IF('All Scenarios LCOE Summary'!$G147<MIN('All Scenarios LCOE Summary'!$H147:$J147),1,0),\"\")","v":1},{"$f":"IF('All Scenarios LCOE Summary'!$D129=2,IF('All Scenarios LCOE Summary'!$G129<MIN('All Scenarios LCOE Summary'!$H129:$J129),1,0),\"\")","v":1},{"$f":"IF('All Scenarios LCOE Summary'!$E117=2,IF('All Scenarios LCOE Summary'!$G117<MIN('All Scenarios LCOE Summary'!$H117:$J117),1,0),\"\")","v":1},{"$f":"IF('All Scenarios LCOE Summary'!$F115=2,IF('All Scenarios LCOE Summary'!$G115<MIN('All Scenarios LCOE Summary'!$H115:$J115),1,0),\"\")","v":1}]
[{"$f":"IF('All Scenarios LCOE Summary'!G148<MIN('All Scenarios LCOE Summary'!H148:J148),1,0)","v":1},{"$f":"IF('All Scenarios LCOE Summary'!$G148<MIN('All Scenarios LCOE Summary'!$H148:$J148),1,0)","v":1},{"$f":"IF('All Scenarios LCOE Summary'!C148=2,IF('All Scenarios LCOE Summary'!$G148<MIN('All Scenarios LCOE Summary'!$H148:$J148),1,0),\"\")","v":1},{"$f":"IF('All Scenarios LCOE Summary'!$D130=2,IF('All Scenarios LCOE Summary'!$G130<MIN('All Scenarios LCOE Summary'!$H130:$J130),1,0),\"\")","v":1},{"$f":"IF('All Scenarios LCOE Summary'!$E118=2,IF('All Scenarios LCOE Summary'!$G118<MIN('All Scenarios LCOE Summary'!$H118:$J118),1,0),\"\")","v":1},{"$f":"IF('All Scenarios LCOE Summary'!$F118=2,IF('All Scenarios LCOE Summary'!$G118<MIN('All Scenarios LCOE Summary'!$H118:$J118),1,0),\"\")","v":1}]
[{"$f":"IF('All Scenarios LCOE Summary'!G149<MIN('All Scenarios LCOE Summary'!H149:J149),1,0)","v":1},{"$f":"IF('All Scenarios LCOE Summary'!$G149<MIN('All Scenarios LCOE Summary'!$H149:$J149),1,0)","v":1},{"$f":"IF('All Scenarios LCOE Summary'!C149=2,IF('All Scenarios LCOE Summary'!$G149<MIN('All Scenarios LCOE Summary'!$H149:$J149),1,0),\"\")","v":1},{"$f":"IF('All Scenarios LCOE Summary'!$D131=2,IF('All Scenarios LCOE Summary'!$G131<MIN('All Scenarios LCOE Summary'!$H131:$J131),1,0),\"\")","v":1},{"$f":"IF('All Scenarios LCOE Summary'!$E125=2,IF('All Scenarios LCOE Summary'!$G125<MIN('All Scenarios LCOE Summary'!$H125:$J125),1,0),\"\")","v":1},{"$f":"IF('All Scenarios LCOE Summary'!$F121=2,IF('All Scenarios LCOE Summary'!$G121<MIN('All Scenarios LCOE Summary'!$H121:$J121),1,0),\"\")","v":1}]
[{"$f":"IF('All Scenarios LCOE Summary'!G150<MIN('All Scenarios LCOE Summary'!H150:J150),1,0)","v":1},{"$f":"IF('All Scenarios LCOE Summary'!$G150<MIN('All Scenarios LCOE Summary'!$H150:$J150),1,0)","v":1},{"$f":"IF('All Scenarios LCOE Summary'!C150=2,IF('All Scenarios LCOE Summary'!$G150<MIN('All Scenarios LCOE Summary'!$H150:$J150),1,0),\"\")","v":1},{"$f":"IF('All Scenarios LCOE Summary'!$D132=2,IF('All Scenarios LCOE Summary'!$G132<MIN('All Scenarios LCOE Summary'!$H132:$J132),1,0),\"\")","v":1},{"$f":"IF('All Scenarios LCOE Summary'!$E126=2,IF('All Scenarios LCOE Summary'!$G126<MIN('All Scenarios LCOE Summary'!$H126:$J126),1,0),\"\")","v":1},{"$f":"IF('All Scenarios LCOE Summary'!$F124=2,IF('All Scenarios LCOE Summary'!$G124<MIN('All Scenarios LCOE Summary'!$H124:$J124),1,0),\"\")","v":1}]
[{"$f":"IF('All Scenarios LCOE Summary'!G151<MIN('All Scenarios LCOE Summary'!H151:J151),1,0)","v":1},{"$f":"IF('All Scenarios LCOE Summary'!$G151<MIN('All Scenarios LCOE Summary'!$H151:$J151),1,0)","v":1},{"$f":"IF('All Scenarios LCOE Summary'!C151=2,IF('All Scenarios LCOE Summary'!$G151<MIN('All Scenarios LCOE Summary'!$H151:$J151),1,0),\"\")","v":1},{"$f":"IF('All Scenarios LCOE Summary'!$D133=2,IF('All Scenarios LCOE Summary'!$G133<MIN('All Scenarios LCOE Summary'!$H133:$J133),1,0),\"\")","v":1},{"$f":"IF('All Scenarios LCOE Summary'!$E127=2,IF('All Scenarios LCOE Summary'!$G127<MIN('All Scenarios LCOE Summary'!$H127:$J127),1,0),\"\")","v":1},{"$f":"IF('All Scenarios LCOE Summary'!$F127=2,IF('All Scenarios LCOE Summary'!$G127<MIN('All Scenarios LCOE Summary'!$H127:$J127),1,0),\"\")","v":1}]
[{"$f":"IF('All Scenarios LCOE Summary'!G152<MIN('All Scenarios LCOE Summary'!H152:J152),1,0)","v":1},{"$f":"IF('All Scenarios LCOE Summary'!$G152<MIN('All Scenarios LCOE Summary'!$H152:$J152),1,0)","v":1},{"$f":"IF('All Scenarios LCOE Summary'!C152=2,IF('All Scenarios LCOE Summary'!$G152<MIN('All Scenarios LCOE Summary'!$H152:$J152),1,0),\"\")","v":1},{"$f":"IF('All Scenarios LCOE Summary'!$D134=2,IF('All Scenarios LCOE Summary'!$G134<MIN('All Scenarios LCOE Summary'!$H134:$J134),1,0),\"\")","v":1},{"$f":"IF('All Scenarios LCOE Summary'!$E134=2,IF('All Scenarios LCOE Summary'!$G134<MIN('All Scenarios LCOE Summary'!$H134:$J134),1,0),\"\")","v":1},{"$f":"IF('All Scenarios LCOE Summary'!$F130=2,IF('All Scenarios LCOE Summary'!$G130<MIN('All Scenarios LCOE Summary'!$H130:$J130),1,0),\"\")","v":1}]
[{"$f":"IF('All Scenarios LCOE Summary'!G153<MIN('All Scenarios LCOE Summary'!H153:J153),1,0)","v":1},{"$f":"IF('All Scenarios LCOE Summary'!$G153<MIN('All Scenarios LCOE Summary'!$H153:$J153),1,0)","v":1},{"$f":"IF('All Scenarios LCOE Summary'!C153=2,IF('All Scenarios LCOE Summary'!$G153<MIN('All Scenarios LCOE Summary'!$H153:$J153),1,0),\"\")","v":1},{"$f":"IF('All Scenarios LCOE Summary'!$D135=2,IF('All Scenarios LCOE Summary'!$G135<MIN('All Scenarios LCOE Summary'!$H135:$J135),1,0),\"\")","v":1},{"$f":"IF('All Scenarios LCOE Summary'!$E135=2,IF('All Scenarios LCOE Summary'!$G135<MIN('All Scenarios LCOE Summary'!$H135:$J135),1,0),\"\")","v":1},{"$f":"IF('All Scenarios LCOE Summary'!$F133=2,IF('All Scenarios LCOE Summary'!$G133<MIN('All Scenarios LCOE Summary'!$H133:$J133),1,0),\"\")","v":1}]
[{"$f":"IF('All Scenarios LCOE Summary'!G154<MIN('All Scenarios LCOE Summary'!H154:J154),1,0)","v":1},{"$f":"IF('All Scenarios LCOE Summary'!$G154<MIN('All Scenarios LCOE Summary'!$H154:$J154),1,0)","v":1},{"$f":"IF('All Scenarios LCOE Summary'!C154=2,IF('All Scenarios LCOE Summary'!$G154<MIN('All Scenarios LCOE Summary'!$H154:$J154),1,0),\"\")","v":1},{"$f":"IF('All Scenarios LCOE Summary'!$D136=2,IF('All Scenarios LCOE Summary'!$G136<MIN('All Scenarios LCOE Summary'!$H136:$J136),1,0),\"\")","v":1},{"$f":"IF('All Scenarios LCOE Summary'!$E136=2,IF('All Scenarios LCOE Summary'!$G136<MIN('All Scenarios LCOE Summary'!$H136:$J136),1,0),\"\")","v":1},{"$f":"IF('All Scenarios LCOE Summary'!$F136=2,IF('All Scenarios LCOE Summary'!$G136<MIN('All Scenarios LCOE Summary'!$H136:$J136),1,0),\"\")","v":1}]
[{"$f":"IF('All Scenarios LCOE Summary'!G155<MIN('All Scenarios LCOE Summary'!H155:J155),1,0)","v":1},{"$f":"IF('All Scenarios LCOE Summary'!$G155<MIN('All Scenarios LCOE Summary'!$H155:$J155),1,0)","v":1},{"$f":"IF('All Scenarios LCOE Summary'!C155=2,IF('All Scenarios LCOE Summary'!$G155<MIN('All Scenarios LCOE Summary'!$H155:$J155),1,0),\"\")","v":1},{"$f":"IF('All Scenarios LCOE Summary'!$D155=2,IF('All Scenarios LCOE Summary'!$G155<MIN('All Scenarios LCOE Summary'!$H155:$J155),1,0),\"\")","v":1},{"$f":"IF('All Scenarios LCOE Summary'!$E143=2,IF('All Scenarios LCOE Summary'!$G143<MIN('All Scenarios LCOE Summary'!$H143:$J143),1,0),\"\")","v":1},{"$f":"IF('All Scenarios LCOE Summary'!$F139=2,IF('All Scenarios LCOE Summary'!$G139<MIN('All Scenarios LCOE Summary'!$H139:$J139),1,0),\"\")","v":1}]
[{"$f":"IF('All Scenarios LCOE Summary'!G156<MIN('All Scenarios LCOE Summary'!H156:J156),1,0)","v":1},{"$f":"IF('All Scenarios LCOE Summary'!$G156<MIN('All Scenarios LCOE Summary'!$H156:$J156),1,0)","v":1},{"$f":"IF('All Scenarios LCOE Summary'!C156=2,IF('All Scenarios LCOE Summary'!$G156<MIN('All Scenarios LCOE Summary'!$H156:$J156),1,0),\"\")","v":1},{"$f":"IF('All Scenarios LCOE Summary'!$D156=2,IF('All Scenarios LCOE Summary'!$G156<MIN('All Scenarios LCOE Summary'!$H156:$J156),1,0),\"\")","v":1},{"$f":"IF('All Scenarios LCOE Summary'!$E144=2,IF('All Scenarios LCOE Summary'!$G144<MIN('All Scenarios LCOE Summary'!$H144:$J144),1,0),\"\")","v":1},{"$f":"IF('All Scenarios LCOE Summary'!$F142=2,IF('All Scenarios LCOE Summary'!$G142<MIN('All Scenarios LCOE Summary'!$H142:$J142),1,0),\"\")","v":1}]
[{"$f":"IF('All Scenarios LCOE Summary'!G157<MIN('All Scenarios LCOE Summary'!H157:J157),1,0)","v":1},{"$f":"IF('All Scenarios LCOE Summary'!$G157<MIN('All Scenarios LCOE Summary'!$H157:$J157),1,0)","v":1},{"$f":"IF('All Scenarios LCOE Summary'!C157=2,IF('All Scenarios LCOE Summary'!$G157<MIN('All Scenarios LCOE Summary'!$H157:$J157),1,0),\"\")","v":1},{"$f":"IF('All Scenarios LCOE Summary'!$D157=2,IF('All Scenarios LCOE Summary'!$G157<MIN('All Scenarios LCOE Summary'!$H157:$J157),1,0),\"\")","v":1},{"$f":"IF('All Scenarios LCOE Summary'!$E145=2,IF('All Scenarios LCOE Summary'!$G145<MIN('All Scenarios LCOE Summary'!$H145:$J145),1,0),\"\")","v":1},{"$f":"IF('All Scenarios LCOE Summary'!$F145=2,IF('All Scenarios LCOE Summary'!$G145<MIN('All Scenarios LCOE Summary'!$H145:$J145),1,0),\"\")","v":1}]
[{"$f":"IF('All Scenarios LCOE Summary'!G158<MIN('All Scenarios LCOE Summary'!H158:J158),1,0)","v":1},{"$f":"IF('All Scenarios LCOE Summary'!$G158<MIN('All Scenarios LCOE Summary'!$H158:$J158),1,0)","v":1},{"$f":"IF('All Scenarios LCOE Summary'!C158=2,IF('All Scenarios LCOE Summary'!$G158<MIN('All Scenarios LCOE Summary'!$H158:$J158),1,0),\"\")","v":1},{"$f":"IF('All Scenarios LCOE Summary'!$D158=2,IF('All Scenarios LCOE Summary'!$G158<MIN('All Scenarios LCOE Summary'!$H158:$J158),1,0),\"\")","v":1},{"$f":"IF('All Scenarios LCOE Summary'!$E152=2,IF('All Scenarios LCOE Summary'!$G152<MIN('All Scenarios LCOE Summary'!$H152:$J152),1,0),\"\")","v":1},{"$f":"IF('All Scenarios LCOE Summary'!$F148=2,IF('All Scenarios LCOE Summary'!$G148<MIN('All Scenarios LCOE Summary'!$H148:$J148),1,0),\"\")","v":1}]
[{"$f":"IF('All Scenarios LCOE Summary'!G159<MIN('All Scenarios LCOE Summary'!H159:J159),1,0)","v":1},{"$f":"IF('All Scenarios LCOE Summary'!$G159<MIN('All Scenarios LCOE Summary'!$H159:$J159),1,0)","v":1},{"$f":"IF('All Scenarios LCOE Summary'!C159=2,IF('All Scenarios LCOE Summary'!$G159<MIN('All Scenarios LCOE Summary'!$H159:$J159),1,0),\"\")","v":1},{"$f":"IF('All Scenarios LCOE Summary'!$D159=2,IF('All Scenarios LCOE Summary'!$G159<MIN('All Scenarios LCOE Summary'!$H159:$J159),1,0),\"\")","v":1},{"$f":"IF('All Scenarios LCOE Summary'!$E153=2,IF('All Scenarios LCOE Summary'!$G153<MIN('All Scenarios LCOE Summary'!$H153:$J153),1,0),\"\")","v":1},{"$f":"IF('All Scenarios LCOE Summary'!$F151=2,IF('All Scenarios LCOE Summary'!$G151<MIN('All Scenarios LCOE Summary'!$H151:$J151),1,0),\"\")","v":1}]
[{"$f":"IF('All Scenarios LCOE Summary'!G160<MIN('All Scenarios LCOE Summary'!H160:J160),1,0)","v":1},{"$f":"IF('All Scenarios LCOE Summary'!$G160<MIN('All Scenarios LCOE Summary'!$H160:$J160),1,0)","v":1},{"$f":"IF('All Scenarios LCOE Summary'!C160=2,IF('All Scenarios LCOE Summary'!$G160<MIN('All Scenarios LCOE Summary'!$H160:$J160),1,0),\"\")","v":1},{"$f":"IF('All Scenarios LCOE Summary'!$D160=2,IF('All Scenarios LCOE Summary'!$G160<MIN('All Scenarios LCOE Summary'!$H160:$J160),1,0),\"\")","v":1},{"$f":"IF('All Scenarios LCOE Summary'!$E154=2,IF('All Scenarios LCOE Summary'!$G154<MIN('All Scenarios LCOE Summary'!$H154:$J154),1,0),\"\")","v":1},{"$f":"IF('All Scenarios LCOE Summary'!$F154=2,IF('All Scenarios LCOE Summary'!$G154<MIN('All Scenarios LCOE Summary'!$H154:$J154),1,0),\"\")","v":1}]
[{"$f":"IF('All Scenarios LCOE Summary'!G161<MIN('All Scenarios LCOE Summary'!H161:J161),1,0)","v":1},{"$f":"IF('All Scenarios LCOE Summary'!$G161<MIN('All Scenarios LCOE Summary'!$H161:$J161),1,0)","v":1},{"$f":"IF('All Scenarios LCOE Summary'!C161=2,IF('All Scenarios LCOE Summary'!$G161<MIN('All Scenarios LCOE Summary'!$H161:$J161),1,0),\"\")","v":1},{"$f":"IF('All Scenarios LCOE Summary'!$D161=2,IF('All Scenarios LCOE Summary'!$G161<MIN('All Scenarios LCOE Summary'!$H161:$J161),1,0),\"\")","v":1},{"$f":"IF('All Scenarios LCOE Summary'!$E161=2,IF('All Scenarios LCOE Summary'!$G161<MIN('All Scenarios LCOE Summary'!$H161:$J161),1,0),\"\")","v":1},{"$f":"IF('All Scenarios LCOE Summary'!$F157=2,IF('All Scenarios LCOE Summary'!$G157<MIN('All Scenarios LCOE Summary'!$H157:$J157),1,0),\"\")","v":1}]
[{"$f":"IF('All Scenarios LCOE Summary'!G162<MIN('All Scenarios LCOE Summary'!H162:J162),1,0)","v":1},{"$f":"IF('All Scenarios LCOE Summary'!$G162<MIN('All Scenarios LCOE Summary'!$H162:$J162),1,0)","v":1},{"$f":"IF('All Scenarios LCOE Summary'!C162=2,IF('All Scenarios LCOE Summary'!$G162<MIN('All Scenarios LCOE Summary'!$H162:$J162),1,0),\"\")","v":1},{"$f":"IF('All Scenarios LCOE Summary'!$D162=2,IF('All Scenarios LCOE Summary'!$G162<MIN('All Scenarios LCOE Summary'!$H162:$J162),1,0),\"\")","v":1},{"$f":"IF('All Scenarios LCOE Summary'!$E162=2,IF('All Scenarios LCOE Summary'!$G162<MIN('All Scenarios LCOE Summary'!$H162:$J162),1,0),\"\")","v":1},{"$f":"IF('All Scenarios LCOE Summary'!$F160=2,IF('All Scenarios LCOE Summary'!$G160<MIN('All Scenarios LCOE Summary'!$H160:$J160),1,0),\"\")","v":1}]
[{"$f":"IF('All Scenarios LCOE Summary'!G163<MIN('All Scenarios LCOE Summary'!H163:J163),1,0)","v":1},{"$f":"IF('All Scenarios LCOE Summary'!$G163<MIN('All Scenarios LCOE Summary'!$H163:$J163),1,0)","v":1},{"$f":"IF('All Scenarios LCOE Summary'!C163=2,IF('All Scenarios LCOE Summary'!$G163<MIN('All Scenarios LCOE Summary'!$H163:$J163),1,0),\"\")","v":1},{"$f":"IF('All Scenarios LCOE Summary'!$D163=2,IF('All Scenarios LCOE Summary'!$G163<MIN('All Scenarios LCOE Summary'!$H163:$J163),1,0),\"\")","v":1},{"$f":"IF('All Scenarios LCOE Summary'!$E163=2,IF('All Scenarios LCOE Summary'!$G163<MIN('All Scenarios LCOE Summary'!$H163:$J163),1,0),\"\")","v":1},{"$f":"IF('All Scenarios LCOE Summary'!$F163=2,IF('All Scenarios LCOE Summary'!$G163<MIN('All Scenarios LCOE Summary'!$H163:$J163),1,0),\"\")","v":1}]
["x","x","x","x","x","x"]

{"sheet":"Combined Cycle Gas","index":5,"n_rows":269,"n_cols":30,"rows_kept":269,"cut":false,"hidden":false,"merged":[]}
["Combined Cycle Gas Plant"]
["Name",null,null,"Combined Cycle Gas"]
[]
["Combined Cycle Gas Turbine",null,null,null,"Source"]
["Energy Target (MWh/a)",null,null,{"$f":"'Oklahoma Wind + P&E'!E12","v":2427524.5500000003}]
["Capacity Factor (Utilization Rate)",null,null,0.87,"EIA: http://www.eia.gov/forecasts/aeo/er/electricity_generation.cfm"]
[]
["Size (MW)",null,null,{"$f":"+D5/(8766*D6)","v":318.30459770114948}]
["Capital cost ($mm/MW)",null,null,{"$f":"1006/1000","v":1.006},"http://www.eia.gov/forecasts/aeo/assumptions/pdf/electricity.pdf.  Table 8.2."]
["Regional Cost Adjustments",null,null,0.93,"http://www.eia.gov/forecasts/capitalcost/pdf/updated_capcost.pdf Table 4"]
["Inflation Factor",null,null,{"$f":"(1+'Inputs and Summary'!$B$4)^(A43-'Inputs and Summary'!$B$14)","v":1.1886857536682125}]
["Capital Cost ($mm)",null,null,{"$f":"+D8*D9*D10*D11","v":353.98992267606536}]
[]
["Fixed O&M ($/kW)",null,null,{"$f":"15.1*D11","v":17.949154880390008},{"$f":"+E9","v":"http://www.eia.gov/forecasts/aeo/assumptions/pdf/electricity.pdf.  Table 8.2."}]
["Variable O&M ($/MWh)",null,null,{"$f":"3.21*D11","v":3.815681269274962},{"$f":"+E9","v":"http://www.eia.gov/forecasts/aeo/assumptions/pdf/electricity.pdf.  Table 8.2."}]
["Heat rate (Btu/kWh)",null,null,6333,{"$f":"E9","v":"http://www.eia.gov/forecasts/aeo/assumptions/pdf/electricity.pdf.  Table 8.2."}]
["Carbon Intensity (tons/mmBtu)",null,null,5.2999999999999999E-2,"https://www.theice.com/publicdocs/ccx/CCX_GHG_Factors.pdf"]
[]
["Property Tax",null,null,"below"]
["Tax depreciation",null,null,"15-year MACRS"]
[]
["Useful Life (Years)",null,null,30]
["Capacity Credit (%)",null,null,{"$f":"1-VLOOKUP(D8,C25:D31,2)","v":0.92810000000000004},"Using (1 - EFOR)"]
["Equivalent Forced Outage Rate (GAS)",null,"MW","EFOR","GADS"]
[null,null,0,0.2379]
[null,null,101,0.12520000000000001]
[null,null,201,8.5599999999999996E-2]
[null,null,301,7.1900000000000006E-2]
[null,null,401,0.1173]
[null,null,601,0.17100000000000001]
[null,null,801,3.7600000000000001E-2]
["TOD Adjustment",null,null,{"$f":"'TOD Calc'!$B$21","v":1.1215526089358776},"Assuming steady output throughout the day"]
[]
["EIA Natural Gas Price (nominal $/Mcf)",null,null,null,"EIA 2014 Outlook (assumes 5% growth 2041 onward)"]
["Carbon Price Synapse forcast (2012 $/ton)",null,null,null,"http://www.synapse-energy.com/Downloads/SynapseReport.2013-11.0.2013-Carbon-Forecast.13-098.pdf"]
[]
["Assessment Percentage on Commercial Property in TN",null,null,0.4,"https://www.comptroller.tn.gov/pa/paavt.asp"]
["Property Tax Rate",null,null,3.1960000000000002E-2,"https://www.comptroller.tn.gov/pa/LR.asp?W=13",null,null,null,"(average of all counties)"]
["Residual Value (% of Capital Cost)",null,null,0.2]
[]
[null,null,null,null,null,null,null,null,null,null,null,null,null,null,null,null,null,null,null,null,null,null,null,null,null,null,null,null,"IRR",{"$f":"IRR(AD43:AD95)","v":7.7874999999944183E-2}]
["Year","In-Service","Generation (MWh/a)","Revenue ($mm)","TOD-Adjusted Revenue ($mm)","Capacity Credit (MW)","Capacity Price ($k/MW-yr)","Capacity Revenue ($mm)","Natural Gas Use (mmBtu)","EIA Natural Gas Price ($/Mcf)","Natural Gas Price x Factor ($/mmBtu)","Carbon Price Low Projection ($/ton)","Carbon Price Mid Projection ($/ton)","Carbon Price High Projection ($/ton)","Carbon Emissions (tons)","Carbon Cost ($mm)","Fuel Expenses ($mm)","Variable O&M","Fixed O&M","Total Asset Value ($mm)","Property Tax","Total Expenses","EBITDA","Tax Depreciation (%)","Tax Depreciation","Taxable Income","Tax Rate","Cash Taxes","Capital Costs","After-tax Cash Flow"]
[2018,0,null,{"$f":"B43*$B$111/$D$32","v":0},{"$f":"+D43*$D$32","v":0},{"$f":"+B43*$D$8*$D$23","v":0},{"$f":"'Inputs and Summary'!$B$15*$D$11","v":113.70849051014754},{"$f":"+F43*G43/10^3","v":0},null,5.6793509999999996,{"$f":"J43*'Inputs and Summary'!$B$22/100*B43/1.023","v":0},0,0,0,null,{"$f":"-CHOOSE('Inputs and Summary'!$B$21,L43:L95,M43:M94,N43:N94)*O43/10^6","v":0},{"$f":"-I43*K43/10^6","v":0},{"$f":"-C43*$D$15/10^6*B43","v":0},{"$f":"-$D$14*$D$8/1000*B43","v":0},{"$f":"$D$12","v":353.98992267606536},{"$f":"-$D$38*$D$37*$D$12*B43","v":0},{"$f":"P43+Q43+R43+S43+U43","v":0},{"$f":"+E43+H43+V43","v":0},null,{"$f":"-X43*$D$12","v":0},{"$f":"+W43+Y43","v":0},{"$f":"+'Inputs and Summary'!$B$5","v":0.35},{"$f":"-Z43*AA43","v":0},{"$f":"-D12","v":-353.98992267606536},{"$f":"+W43+AB43+AC43","v":-353.98992267606536}]
[{"$f":"+A43+1","v":2019},1,{"$f":"+D6*8766*D8","v":2427524.5500000003},173.77952102476695,194.90287518495458,295.41849712643682,{"$f":"+G43*(1+'Inputs and Summary'!$B$4)","v":116.55120277290122},{"$f":"+F44*G44/10^3","v":34.431381161449075},{"$f":"C44*$D$16/10^3","v":15373512.975150002},5.9011709999999997,{"$f":"J44*'Inputs and Summary'!$B$22/100*B44/1.023","v":5.7684956011730204},0,0,0,{"$f":"+I44*$D$17","v":814796.18768295005},{"$f":"-CHOOSE('Inputs and Summary'!$B$21,L44:L96,M44:M96,N44:N96)*O44/10^6","v":0},{"$f":"-I44*K44/10^6","v":-88.682041971729149},-9.2626599561401335,{"$f":"-$D$14*$D$8/1000","v":-5.7132985232781657},{"$f":"$D$12*((1-$D$39)*(($D$22-(A44-$A$43))/$D$22)+$D$39)*B44","v":344.55019140470364},{"$f":"-$D$38*$D$37*T44*B44","v":-4.4047296469177324},-108.06273009806519,{"$f":"+E44+H44+V44","v":121.27152624833847},1.2500000000000001E-2,-4.4248740334508172,116.84665221488765,{"$f":"+'Inputs and Summary'!$B$5","v":0.35},-40.896328275210678,null,80.375197973127797]
[{"$f":"+A44+1","v":2020},{"$f":"1*(SUM($B$41:B44)<$D$22)","v":1},{"$f":"+C44*B45","v":2427524.5500000003},173.77952102476695,194.90287518495458,295.41849712643682,{"$f":"+G44*(1+'Inputs and Summary'!$B$4)","v":119.46498284222373},35.292165690485291,15373512.975150002,5.873793,{"$f":"J45*'Inputs and Summary'!$B$22/100*B45/1.023","v":5.7417331378299137},0,{"$f":"15*(1+'Inputs and Summary'!$B$4)^(A45-('Inputs and Summary'!$B$14+1))","v":18.276043462648765},{"$f":"25*(1+'Inputs and Summary'!$B$4)^(A45-('Inputs and Summary'!$B$14+1))","v":30.460072437747943},814796.18768295005,{"$f":"-CHOOSE('Inputs and Summary'!$B$21,L45:L97,M45:M97,N45:N97)*O45/10^6","v":-14.891250539294116},{"$f":"-I45*K45/10^6","v":-88.270608894276918},{"$f":"+R44*(1+'Inputs and Summary'!$B$4)*B45","v":-9.4942264550436359},{"$f":"+S44*(1+'Inputs and Summary'!$B$4)*B45","v":-5.8561309863601192},{"$f":"$D$12*((1-$D$39)*(($D$22-(A45-$A$43))/$D$22)+$D$39)*B45","v":335.11046013334192},-4.2840521223446437,-122.79626899731943,107.39877187812044,9.8750000000000004E-2,-34.956504864261454,72.442267013858981,{"$f":"+'Inputs and Summary'!$B$5","v":0.35},-25.354793454850643,null,82.043978423269806]
[2021,{"$f":"1*(SUM($B$41:B45)<$D$22)","v":1},2427524.5500000003,173.77952102476695,194.90287518495458,295.41849712643682,{"$f":"+G45*(1+'Inputs and Summary'!$B$4)","v":122.45160741327932},36.174469832747427,15373512.975150002,6.167694,{"$f":"J46*'Inputs and Summary'!$B$22/100*B46/1.023","v":6.0290263929618773},0,{"$f":"M45*(1+'Inputs and Summary'!$B$4)+2.25*(1+'Inputs and Summary'!$B$4)^(A46-('Inputs and Summary'!$B$14+1))","v":21.54288623159723},{"$f":"N45*(1+'Inputs and Summary'!$B$4)+3.25*(1+'Inputs and Summary'!$B$4)^(A46-('Inputs and Summary'!$B$14+1))","v":35.28037890102155},814796.18768295005,{"$f":"-CHOOSE('Inputs and Summary'!$B$21,L46:L98,M45:M98,N45:N98)*O46/10^6","v":-17.553061573192934},-92.687315479721235,{"$f":"+R45*(1+'Inputs and Summary'!$B$4)*B46","v":-9.7315821164197267},{"$f":"+S45*(1+'Inputs and Summary'!$B$4)*B46","v":-6.0025342610191217},325.67072886198019,-4.1633745977715551,-130.13786802812459,100.93947698957743,8.887500000000001E-2,-31.460854377835311,69.478622611742111,{"$f":"+'Inputs and Summary'!$B$5","v":0.35},-24.317517914109736,null,76.621959075467686]
[2022,{"$f":"1*(SUM($B$41:B46)<$D$22)","v":1},2427524.5500000003,173.77952102476695,194.90287518495458,295.41849712643682,{"$f":"+G46*(1+'Inputs and Summary'!$B$4)","v":125.51289759861129},37.07883157856611,15373512.975150002,6.3330909999999996,{"$f":"J47*'Inputs and Summary'!$B$22/100*B47/1.023","v":6.1907047898338226},0,{"$f":"M46*(1+'Inputs and Summary'!$B$4)+2.25*(1+'Inputs and Summary'!$B$4)^(A47-('Inputs and Summary'!$B$14+1))","v":24.961648611828963},{"$f":"N46*(1+'Inputs and Summary'!$B$4)+3.25*(1+'Inputs and Summary'!$B$4)^(A47-('Inputs and Summary'!$B$14+1))","v":40.322663142185249},814796.18768295005,{"$f":"-CHOOSE('Inputs and Summary'!$B$21,L47:L99,M46:M99,N46:N99)*O47/10^6","v":-20.338656127199641},-95.172880411833546,{"$f":"+R46*(1+'Inputs and Summary'!$B$4)*B47","v":-9.9748716693302182},{"$f":"+S46*(1+'Inputs and Summary'!$B$4)*B47","v":-6.1525976175445996},316.23099759061836,-4.0426970731984655,-135.68170289910645,96.300003864414236,7.9987499999999989E-2,-28.314768940051774,67.985234924362459,{"$f":"+'Inputs and Summary'!$B$5","v":0.35},-23.794832223526861,null,72.505171640887369]
[2023,{"$f":"1*(SUM($B$41:B47)<$D$22)","v":1},2427524.5500000003,173.77952102476695,194.90287518495458,295.41849712643682,{"$f":"+G47*(1+'Inputs and Summary'!$B$4)","v":128.65072003857657},38.00580236803026,15373512.975150002,6.5940130000000003,{"$f":"J48*'Inputs and Summary'!$B$22/100*B48/1.023","v":6.4457605083088962},0,{"$f":"M47*(1+'Inputs and Summary'!$B$4)+2.25*(1+'Inputs and Summary'!$B$4)^(A48-('Inputs and Summary'!$B$14+1))","v":28.537884807177534},{"$f":"N47*(1+'Inputs and Summary'!$B$4)+3.25*(1+'Inputs and Summary'!$B$4)^(A48-('Inputs and Summary'!$B$14+1))","v":45.595011358593993},814796.18768295005,{"$f":"-CHOOSE('Inputs and Summary'!$B$21,L48:L100,M47:M100,N47:N100)*O48/10^6","v":-23.252559745423437},-99.093982809196291,{"$f":"+R47*(1+'Inputs and Summary'!$B$4)*B48","v":-10.224243461063473},{"$f":"+S47*(1+'Inputs and Summary'!$B$4)*B48","v":-6.3064125579832142},306.79126631925664,-3.9220195486253773,-142.79921812229179,90.10945943069305,7.1988750000000004E-2,-25.483292046046603,64.62616738464645,{"$f":"+'Inputs and Summary'!$B$5","v":0.35},-22.619158584626256,null,67.490300846066788]
[2024,{"$f":"1*(SUM($B$41:B48)<$D$22)","v":1},2427524.5500000003,173.77952102476695,194.90287518495458,295.41849712643682,{"$f":"+G48*(1+'Inputs and Summary'!$B$4)","v":131.86698803954096},38.95594742723101,15373512.975150002,6.958062,{"$f":"J49*'Inputs and Summary'!$B$22/100*B49/1.023","v":6.8016246334310857},0,{"$f":"M48*(1+'Inputs and Summary'!$B$4)+2.25*(1+'Inputs and Summary'!$B$4)^(A49-('Inputs and Summary'!$B$14+1))","v":32.277331781911137},{"$f":"N48*(1+'Inputs and Summary'!$B$4)+3.25*(1+'Inputs and Summary'!$B$4)^(A49-('Inputs and Summary'!$B$14+1))","v":51.10577532135931},814796.18768295005,{"$f":"-CHOOSE('Inputs and Summary'!$B$21,L49:L101,M48:M101,N48:N101)*O49/10^6","v":-26.299446884478915},-104.56486455415266,{"$f":"+R48*(1+'Inputs and Summary'!$B$4)*B49","v":-10.479849547590058},{"$f":"+S48*(1+'Inputs and Summary'!$B$4)*B49","v":-6.4640728719327942},297.35153504789491,-3.801342024052289,-151.60957588220668,82.249246729978893,6.4789874999999997E-2,-22.934962841441941,59.314283888536949,{"$f":"+'Inputs and Summary'!$B$5","v":0.35},-20.75999936098793,null,61.489247368990959]
[2025,{"$f":"1*(SUM($B$41:B49)<$D$22)","v":1},2427524.5500000003,173.77952102476695,194.90287518495458,295.41849712643682,{"$f":"+G49*(1+'Inputs and Summary'!$B$4)","v":135.16366274052947},39.929846112911775,15373512.975150002,7.2481580000000001,{"$f":"J50*'Inputs and Summary'!$B$22/100*B50/1.023","v":7.0851984359726305},0,{"$f":"M49*(1+'Inputs and Summary'!$B$4)+2.25*(1+'Inputs and Summary'!$B$4)^(A50-('Inputs and Summary'!$B$14+1))","v":36.185914927376935},{"$f":"N49*(1+'Inputs and Summary'!$B$4)+3.25*(1+'Inputs and Summary'!$B$4)^(A50-('Inputs and Summary'!$B$14+1))","v":56.863580600163772},814796.18768295005,{"$f":"-CHOOSE('Inputs and Summary'!$B$21,L50:L102,M49:M102,N49:N102)*O50/10^6","v":-29.484145530646281},-108.92439008693773,{"$f":"+R49*(1+'Inputs and Summary'!$B$4)*B50","v":-10.741845786279809},{"$f":"+S49*(1+'Inputs and Summary'!$B$4)*B50","v":-6.6256746937311135},287.91180377653319,-3.6806644994792008,-159.45672059707417,75.37600070079219,5.9048999999999997E-2,-20.902750944098983,54.473249756693207,{"$f":"+'Inputs and Summary'!$B$5","v":0.35},-19.06563741484262,null,56.31036328594957]
[2026,{"$f":"1*(SUM($B$41:B50)<$D$22)","v":1},2427524.5500000003,173.77952102476695,194.90287518495458,295.41849712643682,{"$f":"+G50*(1+'Inputs and Summary'!$B$4)","v":138.54275430904269},40.92809226573457,15373512.975150002,7.4456930000000003,{"$f":"J51*'Inputs and Summary'!$B$22/100*B51/1.023","v":7.2782922776148595},0,{"$f":"M50*(1+'Inputs and Summary'!$B$4)+2.25*(1+'Inputs and Summary'!$B$4)^(A51-('Inputs and Summary'!$B$14+1))","v":40.269753897752331},{"$f":"N50*(1+'Inputs and Summary'!$B$4)+3.25*(1+'Inputs and Summary'!$B$4)^(A51-('Inputs and Summary'!$B$14+1))","v":62.877335033332599},814796.18768295005,{"$f":"-CHOOSE('Inputs and Summary'!$B$21,L51:L103,M50:M103,N50:N103)*O51/10^6","v":-32.811641954819216},-111.8929207668461,{"$f":"+R50*(1+'Inputs and Summary'!$B$4)*B51","v":-11.010391930936803},{"$f":"+S50*(1+'Inputs and Summary'!$B$4)*B51","v":-6.7913165610743906},278.47207250517141,-3.5599869749061117,-166.06625818858262,69.764709262106521,5.9048999999999997E-2,-20.902750944098983,48.861958318007538,{"$f":"+'Inputs and Summary'!$B$5","v":0.35},-17.101685411302636,null,52.663023850803881]
[2027,{"$f":"1*(SUM($B$41:B51)<$D$22)","v":1},2427524.5500000003,173.77952102476695,194.90287518495458,295.41849712643682,{"$f":"+G51*(1+'Inputs and Summary'!$B$4)","v":142.00632316676874},41.951294572377925,15373512.975150002,7.694941,{"$f":"J52*'Inputs and Summary'!$B$22/100*B52/1.023","v":7.5219364613880746},0,{"$f":"M51*(1+'Inputs and Summary'!$B$4)+2.25*(1+'Inputs and Summary'!$B$4)^(A52-('Inputs and Summary'!$B$14+1))","v":44.535168619816886},{"$f":"N51*(1+'Inputs and Summary'!$B$4)+3.25*(1+'Inputs and Summary'!$B$4)^(A52-('Inputs and Summary'!$B$14+1))","v":69.156237450284763},814796.18768295005,{"$f":"-CHOOSE('Inputs and Summary'!$B$21,L52:L104,M51:M104,N51:N104)*O52/10^6","v":-36.287085609244144},-115.63858778740347,{"$f":"+R51*(1+'Inputs and Summary'!$B$4)*B52","v":-11.285651729210223},{"$f":"+S51*(1+'Inputs and Summary'!$B$4)*B52","v":-6.9610994751012498},269.03234123380969,-3.4393094503330235,-173.61173405129207,63.242435706040425,5.904899999999999E-2,-20.90275094409898,42.339684761941442,{"$f":"+'Inputs and Summary'!$B$5","v":0.35},-14.818889666679503,null,48.423546039360922]
[2028,{"$f":"1*(SUM($B$41:B52)<$D$22)","v":1},2427524.5500000003,173.77952102476695,194.90287518495458,295.41849712643682,{"$f":"+G52*(1+'Inputs and Summary'!$B$4)","v":145.55648124593793},43.000076936687371,15373512.975150002,7.9938979999999997,{"$f":"J53*'Inputs and Summary'!$B$22/100*B53/1.023","v":7.8141720430107524},0,{"$f":"M52*(1+'Inputs and Summary'!$B$4)+2.25*(1+'Inputs and Summary'!$B$4)^(A53-('Inputs and Summary'!$B$14+1))","v":48.988685481798576},{"$f":"N52*(1+'Inputs and Summary'!$B$4)+3.25*(1+'Inputs and Summary'!$B$4)^(A53-('Inputs and Summary'!$B$14+1))","v":75.709786653688695},814796.18768295005,{"$f":"-CHOOSE('Inputs and Summary'!$B$21,L53:L105,M52:M105,N52:N105)*O53/10^6","v":-39.915794170168567},-120.1312752932802,{"$f":"+R52*(1+'Inputs and Summary'!$B$4)*B53","v":-11.567793022440478},{"$f":"+S52*(1+'Inputs and Summary'!$B$4)*B53","v":-7.1351269619787807},259.59260996244797,-3.3186319257599353,-182.06862137362796,55.834330748013997,5.904899999999999E-2,-20.90275094409898,34.931579803915014,{"$f":"+'Inputs and Summary'!$B$5","v":0.35},-12.226052931370255,null,43.608277816643742]
[2029,{"$f":"1*(SUM($B$41:B53)<$D$22)","v":1},2427524.5500000003,173.77952102476695,194.90287518495458,295.41849712643682,{"$f":"+G53*(1+'Inputs and Summary'!$B$4)","v":149.19539327708637},44.075078860104547,15373512.975150002,8.4318559999999998,{"$f":"J54*'Inputs and Summary'!$B$22/100*B54/1.023","v":8.2422834799608999},0,{"$f":"M53*(1+'Inputs and Summary'!$B$4)+2.25*(1+'Inputs and Summary'!$B$4)^(A54-('Inputs and Summary'!$B$14+1))","v":53.637043706491959},{"$f":"N53*(1+'Inputs and Summary'!$B$4)+3.25*(1+'Inputs and Summary'!$B$4)^(A54-('Inputs and Summary'!$B$14+1))","v":82.547790668856408},814796.18768295005,{"$f":"-CHOOSE('Inputs and Summary'!$B$21,L54:L106,M53:M106,N53:N106)*O54/10^6","v":-43.703258730633415},-126.71285202404341,{"$f":"+R53*(1+'Inputs and Summary'!$B$4)*B54","v":-11.85698784800149},{"$f":"+S53*(1+'Inputs and Summary'!$B$4)*B54","v":-7.3135051360282493},250.15287869108622,-3.1979544011868466,-192.78455813989342,46.193395905165715,5.9048999999999983E-2,-20.902750944098976,25.290644961066739,{"$f":"+'Inputs and Summary'!$B$5","v":0.35},-8.8517257363733588,null,37.341670168792355]
[2030,{"$f":"1*(SUM($B$41:B54)<$D$22)","v":1},2427524.5500000003,173.77952102476695,194.90287518495458,295.41849712643682,{"$f":"+G54*(1+'Inputs and Summary'!$B$4)","v":152.9252781090135},45.17695583160716,15373512.975150002,8.9336210000000005,{"$f":"J55*'Inputs and Summary'!$B$22/100*B55/1.023","v":8.7327673509286416},0,{"$f":"M54*(1+'Inputs and Summary'!$B$4)+2.25*(1+'Inputs and Summary'!$B$4)^(A55-('Inputs and Summary'!$B$14+1))","v":58.487201913993886},{"$f":"N54*(1+'Inputs and Summary'!$B$4)+3.25*(1+'Inputs and Summary'!$B$4)^(A55-('Inputs and Summary'!$B$14+1))","v":89.68037626812395},814796.18768295005,{"$f":"-CHOOSE('Inputs and Summary'!$B$21,L55:L107,M54:M107,N54:N107)*O55/10^6","v":-47.655149147765158},-134.25331217846778,{"$f":"+R54*(1+'Inputs and Summary'!$B$4)*B55","v":-12.153412544201526},{"$f":"+S54*(1+'Inputs and Summary'!$B$4)*B55","v":-7.4963427644289551},240.71314741972444,-3.0772768766137575,-204.63549351147719,35.444337505084548,5.9048999999999983E-2,-20.902750944098976,14.541586560985571,{"$f":"+'Inputs and Summary'!$B$5","v":0.35},-5.0895552963449493,null,30.3547822087396]
[2031,{"$f":"1*(SUM($B$41:B55)<$D$22)","v":1},2427524.5500000003,173.77952102476695,194.90287518495458,295.41849712643682,{"$f":"+G55*(1+'Inputs and Summary'!$B$4)","v":156.74841006173884},46.306379727397335,15373512.975150002,9.2840880000000006,{"$f":"J56*'Inputs and Summary'!$B$22/100*B56/1.023","v":9.0753548387096785},0,{"$f":"M55*(1+'Inputs and Summary'!$B$4)+2.25*(1+'Inputs and Summary'!$B$4)^(A56-('Inputs and Summary'!$B$14+1))","v":63.546344879554354},{"$f":"N55*(1+'Inputs and Summary'!$B$4)+3.25*(1+'Inputs and Summary'!$B$4)^(A56-('Inputs and Summary'!$B$14+1))","v":97.117998778186831},814796.18768295005,{"$f":"-CHOOSE('Inputs and Summary'!$B$21,L56:L108,M55:M108,N55:N108)*O56/10^6","v":-51.777319549046844},-139.52008536699361,{"$f":"+R55*(1+'Inputs and Summary'!$B$4)*B56","v":-12.457247857806562},{"$f":"+S55*(1+'Inputs and Summary'!$B$4)*B56","v":-7.6837513335396785},231.27341614836268,-2.9565993520406688,-214.39500345942733,26.814251452924594,5.9048999999999983E-2,-20.902750944098976,5.9115005088256183,{"$f":"+'Inputs and Summary'!$B$5","v":0.35},-2.0690251780889661,null,24.745226274835627]
[2032,{"$f":"1*(SUM($B$41:B56)<$D$22)","v":1},2427524.5500000003,173.77952102476695,194.90287518495458,295.41849712643682,{"$f":"+G56*(1+'Inputs and Summary'!$B$4)","v":160.66712031328228},47.464039220582258,15373512.975150002,9.6272149999999996,{"$f":"J57*'Inputs and Summary'!$B$22/100*B57/1.023","v":9.4107673509286425},0,{"$f":"M56*(1+'Inputs and Summary'!$B$4)+2.25*(1+'Inputs and Summary'!$B$4)^(A57-('Inputs and Summary'!$B$14+1))","v":68.821890492196601},{"$f":"N56*(1+'Inputs and Summary'!$B$4)+3.25*(1+'Inputs and Summary'!$B$4)^(A57-('Inputs and Summary'!$B$14+1))","v":104.87145217858527},814796.18768295005,{"$f":"-CHOOSE('Inputs and Summary'!$B$21,L57:L109,M56:M109,N56:N109)*O57/10^6","v":-56.075814002175257},-144.6765539756195,{"$f":"+R56*(1+'Inputs and Summary'!$B$4)*B57","v":-12.768679054251725},{"$f":"+S56*(1+'Inputs and Summary'!$B$4)*B57","v":-7.8758451168781702},221.83368487700096,-2.8359218274675806,-224.23281397639224,18.13410042914461,5.9048999999999983E-2,-20.902750944098976,-2.7686505149543663,{"$f":"+'Inputs and Summary'!$B$5","v":0.35},0.96902768023402819,null,19.103128109378638]
[2033,{"$f":"1*(SUM($B$41:B57)<$D$22)","v":1},2427524.5500000003,173.77952102476695,194.90287518495458,295.41849712643682,{"$f":"+G57*(1+'Inputs and Summary'!$B$4)","v":164.68379832111432},48.650640201096813,15373512.975150002,10.122721,{"$f":"J58*'Inputs and Summary'!$B$22/100*B58/1.023","v":9.8951329423264927},0,{"$f":"M57*(1+'Inputs and Summary'!$B$4)+2.25*(1+'Inputs and Summary'!$B$4)^(A58-('Inputs and Summary'!$B$14+1))","v":74.321496919921231},{"$f":"N57*(1+'Inputs and Summary'!$B$4)+3.25*(1+'Inputs and Summary'!$B$4)^(A58-('Inputs and Summary'!$B$14+1))","v":112.95187949976727},814796.18768295005,{"$f":"-CHOOSE('Inputs and Summary'!$B$21,L58:L110,M57:M110,N57:N110)*O58/10^6","v":-60.556872353241936},-152.12295467969054,{"$f":"+R57*(1+'Inputs and Summary'!$B$4)*B58","v":-13.087896030608018},{"$f":"+S57*(1+'Inputs and Summary'!$B$4)*B58","v":-8.0727412448001239},212.39395360563924,-2.7152443028944924,-236.5557086112351,6.9978067748162971,5.9048999999999983E-2,-20.902750944098976,-13.904944169282679,{"$f":"+'Inputs and Summary'!$B$5","v":0.35},4.8667304592489371,null,11.864537234065235]
[2034,{"$f":"1*(SUM($B$41:B58)<$D$22)","v":1},2427524.5500000003,173.77952102476695,194.90287518495458,295.41849712643682,{"$f":"+G58*(1+'Inputs and Summary'!$B$4)","v":168.80089327914217},49.866906206124227,15373512.975150002,10.572509999999999,{"$f":"J59*'Inputs and Summary'!$B$22/100*B59/1.023","v":10.334809384164224},0,{"$f":"M58*(1+'Inputs and Summary'!$B$4)+2.25*(1+'Inputs and Summary'!$B$4)^(A59-('Inputs and Summary'!$B$14+1))","v":80.053069987474473},{"$f":"N58*(1+'Inputs and Summary'!$B$4)+3.25*(1+'Inputs and Summary'!$B$4)^(A59-('Inputs and Summary'!$B$14+1))","v":121.37078352939676},814796.18768295005,{"$f":"-CHOOSE('Inputs and Summary'!$B$21,L59:L111,M58:M111,N58:N111)*O59/10^6","v":-65.226936238110582},-158.88232616315071,{"$f":"+R58*(1+'Inputs and Summary'!$B$4)*B59","v":-13.415093431373217},{"$f":"+S58*(1+'Inputs and Summary'!$B$4)*B59","v":-8.2745597759201264},202.95422233427749,-2.5945667783214037,-248.393482386876,-3.6237009957971793,5.1667874999999981E-2,-18.289907076086603,-21.913608071883782,{"$f":"+'Inputs and Summary'!$B$5","v":0.35},7.6697628251593235,null,4.0460618293621442]
[2035,{"$f":"1*(SUM($B$41:B59)<$D$22)","v":1},2427524.5500000003,173.77952102476695,194.90287518495458,295.41849712643682,{"$f":"+G59*(1+'Inputs and Summary'!$B$4)","v":173.0209156111207},51.113578861277325,15373512.975150002,11.091785,{"$f":"J60*'Inputs and Summary'!$B$22/100*B60/1.023","v":10.842409579667645},0,{"$f":"M59*(1+'Inputs and Summary'!$B$4)+2.25*(1+'Inputs and Summary'!$B$4)^(A60-('Inputs and Summary'!$B$14+1))","v":86.024770772830422},{"$f":"N59*(1+'Inputs and Summary'!$B$4)+3.25*(1+'Inputs and Summary'!$B$4)^(A60-('Inputs and Summary'!$B$14+1))","v":130.14003783582035},814796.18768295005,{"$f":"-CHOOSE('Inputs and Summary'!$B$21,L60:L112,M59:M112,N59:N112)*O60/10^6","v":-70.092655272001892},-166.68592435491124,{"$f":"+R59*(1+'Inputs and Summary'!$B$4)*B60","v":-13.750470767157546},{"$f":"+S59*(1+'Inputs and Summary'!$B$4)*B60","v":-8.4814237703181288},193.51449106291571,-2.473889253748315,-261.48436341813715,-15.46790937190525,null,0,-15.46790937190525,{"$f":"+'Inputs and Summary'!$B$5","v":0.35},5.4137682801668374,null,-10.054141091738412]
[2036,{"$f":"1*(SUM($B$41:B60)<$D$22)","v":1},2427524.5500000003,173.77952102476695,194.90287518495458,295.41849712643682,{"$f":"+G60*(1+'Inputs and Summary'!$B$4)","v":177.34643850139869},52.391418332809252,15373512.975150002,11.771357999999999,{"$f":"J61*'Inputs and Summary'!$B$22/100*B61/1.023","v":11.506703812316715},0,{"$f":"M60*(1+'Inputs and Summary'!$B$4)+2.25*(1+'Inputs and Summary'!$B$4)^(A61-('Inputs and Summary'!$B$14+1))","v":92.245023428712003},{"$f":"N60*(1+'Inputs and Summary'!$B$4)+3.25*(1+'Inputs and Summary'!$B$4)^(A61-('Inputs and Summary'!$B$14+1))","v":139.27189811785925},814796.18768295005,{"$f":"-CHOOSE('Inputs and Summary'!$B$21,L61:L113,M60:M113,N60:N113)*O61/10^6","v":-75.160893422438946},-176.89846035985903,{"$f":"+R60*(1+'Inputs and Summary'!$B$4)*B61","v":-14.094232536336484},{"$f":"+S60*(1+'Inputs and Summary'!$B$4)*B61","v":-8.693459364576082},184.07475979155399,-2.3532117291752264,-277.20025741238578,-29.905963894621948,null,0,-29.905963894621948,{"$f":"+'Inputs and Summary'!$B$5","v":0.35},10.467087363117681,null,-19.438876531504267]
[2037,{"$f":"1*(SUM($B$41:B61)<$D$22)","v":1},2427524.5500000003,173.77952102476695,194.90287518495458,295.41849712643682,{"$f":"+G61*(1+'Inputs and Summary'!$B$4)","v":181.78009946393365},53.70120379112948,15373512.975150002,12.119440000000001,{"$f":"J62*'Inputs and Summary'!$B$22/100*B62/1.023","v":11.846959921798636},0,{"$f":"M61*(1+'Inputs and Summary'!$B$4)+2.25*(1+'Inputs and Summary'!$B$4)^(A62-('Inputs and Summary'!$B$14+1))","v":98.722523235654648},{"$f":"N61*(1+'Inputs and Summary'!$B$4)+3.25*(1+'Inputs and Summary'!$B$4)^(A62-('Inputs and Summary'!$B$14+1))","v":148.77901389035273},814796.18768295005,{"$f":"-CHOOSE('Inputs and Summary'!$B$21,L62:L114,M61:M114,N61:N114)*O62/10^6","v":-80.438735570852856},-182.12939207385338,{"$f":"+R61*(1+'Inputs and Summary'!$B$4)*B62","v":-14.446588349744895},{"$f":"+S61*(1+'Inputs and Summary'!$B$4)*B62","v":-8.9107958486904835},174.63502852019224,-2.2325342046021377,-288.15804604774377,-39.553967071659713,null,0,-39.553967071659713,{"$f":"+'Inputs and Summary'!$B$5","v":0.35},13.843888475080899,null,-25.710078596578814]
[2038,{"$f":"1*(SUM($B$41:B62)<$D$22)","v":1},2427524.5500000003,173.77952102476695,194.90287518495458,295.41849712643682,{"$f":"+G62*(1+'Inputs and Summary'!$B$4)","v":186.32460195053199},55.04373388590772,15373512.975150002,12.457962999999999,{"$f":"J63*'Inputs and Summary'!$B$22/100*B63/1.023","v":12.177871945259042},0,{"$f":"M62*(1+'Inputs and Summary'!$B$4)+2.25*(1+'Inputs and Summary'!$B$4)^(A63-('Inputs and Summary'!$B$14+1))","v":105.46624489330146},{"$f":"N62*(1+'Inputs and Summary'!$B$4)+3.25*(1+'Inputs and Summary'!$B$4)^(A63-('Inputs and Summary'!$B$14+1))","v":158.67444051514718},814796.18768295005,{"$f":"-CHOOSE('Inputs and Summary'!$B$21,L63:L116,M62:M116,N62:N116)*O63/10^6","v":-85.933494268298432},-187.21667236015509,{"$f":"+R62*(1+'Inputs and Summary'!$B$4)*B63","v":-14.807753058488515},{"$f":"+S62*(1+'Inputs and Summary'!$B$4)*B63","v":-9.1335657449077452},165.19529724883051,-2.1118566800290495,-299.20334211187884,-49.256733041016531,null,0,-49.256733041016531,{"$f":"+'Inputs and Summary'!$B$5","v":0.35},17.239856564355783,null,-32.016876476660748]
[2039,{"$f":"1*(SUM($B$41:B63)<$D$22)","v":1},2427524.5500000003,173.77952102476695,194.90287518495458,295.41849712643682,{"$f":"+G63*(1+'Inputs and Summary'!$B$4)","v":190.98271699929526},56.4198272330554,15373512.975150002,13.093679,{"$f":"J64*'Inputs and Summary'!$B$22/100*B64/1.023","v":12.799295210166179},0,{"$f":"M63*(1+'Inputs and Summary'!$B$4)+2.25*(1+'Inputs and Summary'!$B$4)^(A64-('Inputs and Summary'!$B$14+1))","v":112.48545105680834},{"$f":"N63*(1+'Inputs and Summary'!$B$4)+3.25*(1+'Inputs and Summary'!$B$4)^(A64-('Inputs and Summary'!$B$14+1))","v":168.97165158749991},814796.18768295005,{"$f":"-CHOOSE('Inputs and Summary'!$B$21,L64:L117,M63:M117,N63:N117)*O64/10^6","v":-91.652716690884503},-196.77013098626503,{"$f":"+R63*(1+'Inputs and Summary'!$B$4)*B64","v":-15.177946884950726},{"$f":"+S63*(1+'Inputs and Summary'!$B$4)*B64","v":-9.3619048885304377},155.75556597746876,-1.991179155455961,-314.95387860608662,-63.631176188076637,null,0,-63.631176188076637,{"$f":"+'Inputs and Summary'!$B$5","v":0.35},22.270911665826823,null,-41.360264522249814]
[2040,{"$f":"1*(SUM($B$41:B64)<$D$22)","v":1},2427524.5500000003,173.77952102476695,194.90287518495458,295.41849712643682,{"$f":"+G64*(1+'Inputs and Summary'!$B$4)","v":195.75728492427763},57.830322913881787,15373512.975150002,13.824722,{"$f":"J65*'Inputs and Summary'!$B$22/100*B65/1.023","v":13.513902248289346},0,{"$f":"M64*(1+'Inputs and Summary'!$B$4)+2.25*(1+'Inputs and Summary'!$B$4)^(A65-('Inputs and Summary'!$B$14+1))","v":119.78970112543226},{"$f":"N64*(1+'Inputs and Summary'!$B$4)+3.25*(1+'Inputs and Summary'!$B$4)^(A65-('Inputs and Summary'!$B$14+1))","v":179.6845516881483},814796.18768295005,{"$f":"-CHOOSE('Inputs and Summary'!$B$21,L65:L117,M64:M117,N64:N117)*O65/10^6","v":-97.604191800682202},-207.75615155898507,{"$f":"+R64*(1+'Inputs and Summary'!$B$4)*B65","v":-15.557395557074493},{"$f":"+S64*(1+'Inputs and Summary'!$B$4)*B65","v":-9.5959525107436985},146.31583470610701,-1.8705016308828724,-332.38419305836828,-79.650994959531914,null,0,-79.650994959531914,{"$f":"+'Inputs and Summary'!$B$5","v":0.35},27.877848235836169,null,-51.773146723695746]
[2041,{"$f":"1*(SUM($B$41:B65)<$D$22)","v":1},2427524.5500000003,173.77952102476695,194.90287518495458,295.41849712643682,{"$f":"+G65*(1+'Inputs and Summary'!$B$4)","v":200.65121704738456},59.276080986728829,15373512.975150002,{"$f":"J65*1.05","v":14.515958100000001},{"$f":"J66*'Inputs and Summary'!$B$22/100*B66/1.023","v":14.189597360703814},0,{"$f":"M65*(1+'Inputs and Summary'!$B$4)+2.25*(1+'Inputs and Summary'!$B$4)^(A66-('Inputs and Summary'!$B$14+1))","v":127.38886029057687},{"$f":"N65*(1+'Inputs and Summary'!$B$4)+3.25*(1+'Inputs and Summary'!$B$4)^(A66-('Inputs and Summary'!$B$14+1))","v":190.82748951158695},814796.18768295005,{"$f":"-CHOOSE('Inputs and Summary'!$B$21,L66:L117,M65:M117,N65:N117)*O66/10^6","v":-103.79595771803798},-218.14395913693431,{"$f":"+R65*(1+'Inputs and Summary'!$B$4)*B66","v":-15.946330446001355},{"$f":"+S65*(1+'Inputs and Summary'!$B$4)*B66","v":-9.8358513235122906},136.87610343474529,-1.7498241063097841,-349.47192273079577,-95.292966559112358,null,0,-95.292966559112358,{"$f":"+'Inputs and Summary'!$B$5","v":0.35},33.352538295689321,null,-61.940428263423037]
[2042,{"$f":"1*(SUM($B$41:B66)<$D$22)","v":1},2427524.5500000003,173.77952102476695,194.90287518495458,295.41849712643682,{"$f":"+G66*(1+'Inputs and Summary'!$B$4)","v":205.66749747356917},60.757983011397044,15373512.975150002,{"$f":"J66*1.05","v":15.241756005000001},{"$f":"J67*'Inputs and Summary'!$B$22/100*B67/1.023","v":14.899077228739007},0,{"$f":"M66*(1+'Inputs and Summary'!$B$4)+2.25*(1+'Inputs and Summary'!$B$4)^(A67-('Inputs and Summary'!$B$14+1))","v":135.2931088507753},{"$f":"N66*(1+'Inputs and Summary'!$B$4)+3.25*(1+'Inputs and Summary'!$B$4)^(A67-('Inputs and Summary'!$B$14+1))","v":202.41527138139242},814796.18768295005,{"$f":"-CHOOSE('Inputs and Summary'!$B$21,L67:L122,M66:M122,N66:N122)*O67/10^6","v":-110.23630931138609},-229.05115709378106,{"$f":"+R66*(1+'Inputs and Summary'!$B$4)*B67","v":-16.344988707151387},{"$f":"+S66*(1+'Inputs and Summary'!$B$4)*B67","v":-10.081747606600096},127.43637216338354,-1.6291465817366955,-367.34334930065535,-111.68249110430372,null,0,-111.68249110430372,{"$f":"+'Inputs and Summary'!$B$5","v":0.35},39.088871886506297,null,-72.593619217797425]
[2043,{"$f":"1*(SUM($B$41:B67)<$D$22)","v":1},2427524.5500000003,173.77952102476695,194.90287518495458,295.41849712643682,{"$f":"+G67*(1+'Inputs and Summary'!$B$4)","v":210.80918491040839},62.276932586681973,15373512.975150002,16.003843805250003,{"$f":"J68*'Inputs and Summary'!$B$22/100*B68/1.023","v":15.644031090175957},0,{"$f":"M67*(1+'Inputs and Summary'!$B$4)+2.25*(1+'Inputs and Summary'!$B$4)^(A68-('Inputs and Summary'!$B$14+1))","v":143.51295180130205},{"$f":"N67*(1+'Inputs and Summary'!$B$4)+3.25*(1+'Inputs and Summary'!$B$4)^(A68-('Inputs and Summary'!$B$14+1))","v":214.46317516374341},814796.18768295005,{"$f":"-CHOOSE('Inputs and Summary'!$B$21,L68:L122,M67:M122,N67:N122)*O68/10^6","v":-116.93380601082787},-240.5037149484701,{"$f":"+R67*(1+'Inputs and Summary'!$B$4)*B68","v":-16.753613424830171},{"$f":"+S67*(1+'Inputs and Summary'!$B$4)*B68","v":-10.333791296765098},117.9966408920218,-1.508469057163607,-386.03339473805681,-128.85358696642027,null,0,-128.85358696642027,{"$f":"+'Inputs and Summary'!$B$5","v":0.35},45.098755438247089,null,-83.754831528173185]
[2044,{"$f":"1*(SUM($B$41:B68)<$D$22)","v":1},2427524.5500000003,173.77952102476695,194.90287518495458,295.41849712643682,{"$f":"+G68*(1+'Inputs and Summary'!$B$4)","v":216.07941453316857},63.833855901349011,15373512.975150002,16.804035995512503,{"$f":"J69*'Inputs and Summary'!$B$22/100*B69/1.023","v":16.426232644684756},0,{"$f":"M68*(1+'Inputs and Summary'!$B$4)+2.25*(1+'Inputs and Summary'!$B$4)^(A69-('Inputs and Summary'!$B$14+1))","v":152.05922870632338},{"$f":"N68*(1+'Inputs and Summary'!$B$4)+3.25*(1+'Inputs and Summary'!$B$4)^(A69-('Inputs and Summary'!$B$14+1))","v":226.9869645905986},814796.18768295005,{"$f":"-CHOOSE('Inputs and Summary'!$B$21,L69:L122,M68:M122,N68:N122)*O69/10^6","v":-123.89727985192209},-252.52890069589364,{"$f":"+R68*(1+'Inputs and Summary'!$B$4)*B69","v":-17.172453760450924},{"$f":"+S68*(1+'Inputs and Summary'!$B$4)*B69","v":-10.592136079184224},108.55690962066005,-1.3877915325905184,-405.57856192004147,-146.84183083373784,null,0,-146.84183083373784,{"$f":"+'Inputs and Summary'!$B$5","v":0.35},51.394640791808243,null,-95.447190041929602]
[2045,{"$f":"1*(SUM($B$41:B69)<$D$22)","v":1},2427524.5500000003,173.77952102476695,194.90287518495458,295.41849712643682,{"$f":"+G69*(1+'Inputs and Summary'!$B$4)","v":221.48139989649778},65.429702298882731,15373512.975150002,17.644237795288131,{"$f":"J70*'Inputs and Summary'!$B$22/100*B70/1.023","v":17.247544276918994},0,{"$f":"M69*(1+'Inputs and Summary'!$B$4)+2.25*(1+'Inputs and Summary'!$B$4)^(A70-('Inputs and Summary'!$B$14+1))","v":160.94312386171998},{"$f":"N69*(1+'Inputs and Summary'!$B$4)+3.25*(1+'Inputs and Summary'!$B$4)^(A70-('Inputs and Summary'!$B$14+1))","v":240.00290400431919},814796.18768295005,{"$f":"-CHOOSE('Inputs and Summary'!$B$21,L70:L122,M69:M122,N69:N122)*O70/10^6","v":-131.13584375631427},-265.15534573068828,{"$f":"+R69*(1+'Inputs and Summary'!$B$4)*B70","v":-17.601765104462196},{"$f":"+S69*(1+'Inputs and Summary'!$B$4)*B70","v":-10.856939481163828},99.117178349298314,-1.2671140080174299,-426.01700808064595,-165.68443059680862,null,0,-165.68443059680862,{"$f":"+'Inputs and Summary'!$B$5","v":0.35},57.989550708883016,null,-107.69487988792561]
[2046,{"$f":"1*(SUM($B$41:B70)<$D$22)","v":1},2427524.5500000003,173.77952102476695,194.90287518495458,295.41849712643682,{"$f":"+G70*(1+'Inputs and Summary'!$B$4)","v":227.01843489391021},67.065444856354787,15373512.975150002,18.526449685052537,{"$f":"J71*'Inputs and Summary'!$B$22/100*B71/1.023","v":18.109921490764943},0,{"$f":"M70*(1+'Inputs and Summary'!$B$4)+2.25*(1+'Inputs and Summary'!$B$4)^(A71-('Inputs and Summary'!$B$14+1))","v":170.17617675694495},{"$f":"N70*(1+'Inputs and Summary'!$B$4)+3.25*(1+'Inputs and Summary'!$B$4)^(A71-('Inputs and Summary'!$B$14+1))","v":253.52777353585668},814796.18768295005,{"$f":"-CHOOSE('Inputs and Summary'!$B$21,L71:L122,M70:M122,N70:N122)*O71/10^6","v":-138.65890005601858},-278.41311301722271,{"$f":"+R70*(1+'Inputs and Summary'!$B$4)*B71","v":-18.041809232073749},{"$f":"+S70*(1+'Inputs and Summary'!$B$4)*B71","v":-11.128362968192922},89.677447077936563,-1.1464364834443412,-447.38862175695232,-185.42030171564295,null,0,-185.42030171564295,{"$f":"+'Inputs and Summary'!$B$5","v":0.35},64.89710560047503,null,-120.52319611516792]
[2047,{"$f":"1*(SUM($B$41:B71)<$D$22)","v":1},2427524.5500000003,173.77952102476695,194.90287518495458,295.41849712643682,{"$f":"+G71*(1+'Inputs and Summary'!$B$4)","v":232.69389576625795},68.742080977763663,15373512.975150002,19.452772169305163,{"$f":"J72*'Inputs and Summary'!$B$22/100*B72/1.023","v":19.015417565303192},0,{"$f":"M71*(1+'Inputs and Summary'!$B$4)+2.25*(1+'Inputs and Summary'!$B$4)^(A72-('Inputs and Summary'!$B$14+1))","v":179.7702928445176},{"$f":"N71*(1+'Inputs and Summary'!$B$4)+3.25*(1+'Inputs and Summary'!$B$4)^(A72-('Inputs and Summary'!$B$14+1))","v":267.57888472896838},814796.18768295005,{"$f":"-CHOOSE('Inputs and Summary'!$B$21,L72:L123,M71:M123,N71:N123)*O72/10^6","v":-146.47614926836047},-292.33376866808391,{"$f":"+R71*(1+'Inputs and Summary'!$B$4)*B72","v":-18.492854462875592},{"$f":"+S71*(1+'Inputs and Summary'!$B$4)*B72","v":-11.406572042397745},80.237715806574826,-1.0257589588712528,-469.73510340058897,-206.09014723787072,null,0,-206.09014723787072,{"$f":"+'Inputs and Summary'!$B$5","v":0.35},72.131551533254751,null,-133.95859570461596]
[2048,{"$f":"1*(SUM($B$41:B72)<$D$22)","v":1},2427524.5500000003,173.77952102476695,194.90287518495458,295.41849712643682,{"$f":"+G72*(1+'Inputs and Summary'!$B$4)","v":238.51124316041438},70.460633002207743,15373512.975150002,20.425410777770423,{"$f":"J73*'Inputs and Summary'!$B$22/100*B73/1.023","v":19.966188443568353},0,{"$f":"M72*(1+'Inputs and Summary'!$B$4)+2.25*(1+'Inputs and Summary'!$B$4)^(A73-('Inputs and Summary'!$B$14+1))","v":189.73775462599576},{"$f":"N72*(1+'Inputs and Summary'!$B$4)+3.25*(1+'Inputs and Summary'!$B$4)^(A73-('Inputs and Summary'!$B$14+1))","v":282.17409662327572},814796.18768295005,{"$f":"-CHOOSE('Inputs and Summary'!$B$21,L73:L123,M72:M123,N72:N123)*O73/10^6","v":-154.59759912878437},-306.9504571014881,{"$f":"+R72*(1+'Inputs and Summary'!$B$4)*B73","v":-18.95517582444748},{"$f":"+S72*(1+'Inputs and Summary'!$B$4)*B73","v":-11.691736343457688},70.797984535213075,-0.90508143429816412,-493.10004983247575,-227.73654164531342,null,0,-227.73654164531342,{"$f":"+'Inputs and Summary'!$B$5","v":0.35},79.707789575859692,null,-148.02875206945373]
[2049,{"$f":"1*(SUM($B$41:B73)<$D$22)","v":0},0,0,0,0,{"$f":"+G73*(1+'Inputs and Summary'!$B$4)","v":244.47402423942472},0,0,21.446681316658946,{"$f":"J74*'Inputs and Summary'!$B$22/100*B74/1.023","v":0},0,{"$f":"M73*(1+'Inputs and Summary'!$B$4)+2.25*(1+'Inputs and Summary'!$B$4)^(A74-('Inputs and Summary'!$B$14+1))","v":200.09123306352004},{"$f":"N73*(1+'Inputs and Summary'!$B$4)+3.25*(1+'Inputs and Summary'!$B$4)^(A74-('Inputs and Summary'!$B$14+1))","v":297.33183230934287},0,{"$f":"-CHOOSE('Inputs and Summary'!$B$21,L74:L123,M73:M123,N73:N123)*O74/10^6","v":0},0,{"$f":"+R73*(1+'Inputs and Summary'!$B$4)*B74","v":0},{"$f":"+S73*(1+'Inputs and Summary'!$B$4)*B74","v":0},0,0,0,0,null,0,0,{"$f":"+'Inputs and Summary'!$B$5","v":0.35},0,null,0]
[2050,{"$f":"1*(SUM($B$41:B74)<$D$22)","v":0},0,{"$f":"B75*$B$111/$D$32","v":0},{"$f":"+D75*$D$32","v":0},{"$f":"+B75*$D$8*$D$23","v":0},{"$f":"+G74*(1+'Inputs and Summary'!$B$4)","v":250.58587484541033},0,0,22.519015382491894,{"$f":"J75*'Inputs and Summary'!$B$22/100*B75/1.023","v":0},0,{"$f":"M74*(1+'Inputs and Summary'!$B$4)+2.25*(1+'Inputs and Summary'!$B$4)^(A75-('Inputs and Summary'!$B$14+1))","v":210.84379932627928},{"$f":"N74*(1+'Inputs and Summary'!$B$4)+3.25*(1+'Inputs and Summary'!$B$4)^(A75-('Inputs and Summary'!$B$14+1))","v":313.07109596932378},0,{"$f":"-CHOOSE('Inputs and Summary'!$B$21,L75:L123,M74:M123,N74:N123)*O75/10^6","v":0},0,{"$f":"+R74*(1+'Inputs and Summary'!$B$4)*B75","v":0},{"$f":"+S74*(1+'Inputs and Summary'!$B$4)*B75","v":0},0,0,{"$f":"P75+Q75+R75+S75+U75","v":0},{"$f":"+E75+H75+V75","v":0},null,{"$f":"-X75*$D$12","v":0},{"$f":"+W75+Y75","v":0},{"$f":"+'Inputs and Summary'!$B$5","v":0.35},{"$f":"-Z75*AA75","v":0},null,{"$f":"+W75+AB75+AC75","v":0}]
[2051,{"$f":"1*(SUM($B$41:B75)<$D$22)","v":0},0,0,0,0,{"$f":"+G75*(1+'Inputs and Summary'!$B$4)","v":256.85052171654559},0,{"$f":"C76*$D$16/10^3","v":0},23.64496615161649,{"$f":"J76*'Inputs and Summary'!$B$22/100*B76/1.023","v":0},0,{"$f":"M75*(1+'Inputs and Summary'!$B$4)+2.25*(1+'Inputs and Summary'!$B$4)^(A76-('Inputs and Summary'!$B$14+1))","v":222.00893688151177},{"$f":"N75*(1+'Inputs and Summary'!$B$4)+3.25*(1+'Inputs and Summary'!$B$4)^(A76-('Inputs and Summary'!$B$14+1))","v":329.41149041711043},{"$f":"+I76*$D$17","v":0},{"$f":"-CHOOSE('Inputs and Summary'!$B$21,L76:L123,M75:M123,N75:N123)*O76/10^6","v":0},0,{"$f":"+R75*(1+'Inputs and Summary'!$B$4)*B76","v":0},{"$f":"+S75*(1+'Inputs and Summary'!$B$4)*B76","v":0},{"$f":"$D$12*((1-$D$39)*(($D$22-(A76-$A$43))/$D$22)+$D$39)*B76","v":0},{"$f":"-$D$38*$D$37*T76*B76","v":0},0,0,null,0,0,{"$f":"+'Inputs and Summary'!$B$5","v":0.35},0,null,0]
[2052,{"$f":"1*(SUM($B$41:B76)<$D$22)","v":0},0,0,0,0,{"$f":"+G76*(1+'Inputs and Summary'!$B$4)","v":263.27178475945919},0,0,24.827214459197315,{"$f":"J77*'Inputs and Summary'!$B$22/100*B77/1.023","v":0},0,{"$f":"M76*(1+'Inputs and Summary'!$B$4)+2.25*(1+'Inputs and Summary'!$B$4)^(A77-('Inputs and Summary'!$B$14+1))","v":233.60055393992698},{"$f":"N76*(1+'Inputs and Summary'!$B$4)+3.25*(1+'Inputs and Summary'!$B$4)^(A77-('Inputs and Summary'!$B$14+1))","v":346.3732351523056},0,{"$f":"-CHOOSE('Inputs and Summary'!$B$21,L77:L123,M76:M123,N76:N123)*O77/10^6","v":0},0,{"$f":"+R76*(1+'Inputs and Summary'!$B$4)*B77","v":0},{"$f":"+S76*(1+'Inputs and Summary'!$B$4)*B77","v":0},0,0,0,0,null,0,0,{"$f":"+'Inputs and Summary'!$B$5","v":0.35},0,null,0]
[2053,{"$f":"1*(SUM($B$41:B77)<$D$22)","v":0},0,0,0,0,{"$f":"+G77*(1+'Inputs and Summary'!$B$4)","v":269.85357937844566},0,0,26.068575182157183,{"$f":"J78*'Inputs and Summary'!$B$22/100*B78/1.023","v":0},0,{"$f":"M77*(1+'Inputs and Summary'!$B$4)+2.25*(1+'Inputs and Summary'!$B$4)^(A78-('Inputs and Summary'!$B$14+1))","v":245.63299626571199},{"$f":"N77*(1+'Inputs and Summary'!$B$4)+3.25*(1+'Inputs and Summary'!$B$4)^(A78-('Inputs and Summary'!$B$14+1))","v":363.97718494274977},0,{"$f":"-CHOOSE('Inputs and Summary'!$B$21,L78:L123,M77:M123,N77:N123)*O78/10^6","v":0},0,{"$f":"+R77*(1+'Inputs and Summary'!$B$4)*B78","v":0},{"$f":"+S77*(1+'Inputs and Summary'!$B$4)*B78","v":0},0,0,0,0,null,0,0,{"$f":"+'Inputs and Summary'!$B$5","v":0.35},0,null,0]
[2054,{"$f":"1*(SUM($B$41:B78)<$D$22)","v":0},0,0,0,0,{"$f":"+G78*(1+'Inputs and Summary'!$B$4)","v":276.5999188629068},0,0,27.372003941265042,{"$f":"J79*'Inputs and Summary'!$B$22/100*B79/1.023","v":0},0,{"$f":"M78*(1+'Inputs and Summary'!$B$4)+2.25*(1+'Inputs and Summary'!$B$4)^(A79-('Inputs and Summary'!$B$14+1))","v":258.12106036157383},{"$f":"N78*(1+'Inputs and Summary'!$B$4)+3.25*(1+'Inputs and Summary'!$B$4)^(A79-('Inputs and Summary'!$B$14+1))","v":382.24484895074596},0,{"$f":"-CHOOSE('Inputs and Summary'!$B$21,L79:L123,M78:M123,N78:N123)*O79/10^6","v":0},0,{"$f":"+R78*(1+'Inputs and Summary'!$B$4)*B79","v":0},{"$f":"+S78*(1+'Inputs and Summary'!$B$4)*B79","v":0},0,0,0,0,null,0,0,{"$f":"+'Inputs and Summary'!$B$5","v":0.35},0,null,0]
[2055,{"$f":"1*(SUM($B$41:B79)<$D$22)","v":0},0,0,0,0,{"$f":"+G79*(1+'Inputs and Summary'!$B$4)","v":283.51491683447944},0,0,28.740604138328294,{"$f":"J80*'Inputs and Summary'!$B$22/100*B80/1.023","v":0},0,{"$f":"M79*(1+'Inputs and Summary'!$B$4)+2.25*(1+'Inputs and Summary'!$B$4)^(A80-('Inputs and Summary'!$B$14+1))","v":271.08000703956264},{"$f":"N79*(1+'Inputs and Summary'!$B$4)+3.25*(1+'Inputs and Summary'!$B$4)^(A80-('Inputs and Summary'!$B$14+1))","v":401.19841041855278},0,{"$f":"-CHOOSE('Inputs and Summary'!$B$21,L80:L123,M79:M123,N79:N123)*O80/10^6","v":0},0,{"$f":"+R79*(1+'Inputs and Summary'!$B$4)*B80","v":0},{"$f":"+S79*(1+'Inputs and Summary'!$B$4)*B80","v":0},0,0,0,0,null,0,0,{"$f":"+'Inputs and Summary'!$B$5","v":0.35},0,null,0]
[2056,{"$f":"1*(SUM($B$41:B80)<$D$22)","v":0},0,0,0,0,{"$f":"+G80*(1+'Inputs and Summary'!$B$4)","v":290.6027897553414},0,0,30.177634345244709,{"$f":"J81*'Inputs and Summary'!$B$22/100*B81/1.023","v":0},0,{"$f":"M80*(1+'Inputs and Summary'!$B$4)+2.25*(1+'Inputs and Summary'!$B$4)^(A81-('Inputs and Summary'!$B$14+1))","v":284.52557538872492},{"$f":"N80*(1+'Inputs and Summary'!$B$4)+3.25*(1+'Inputs and Summary'!$B$4)^(A81-('Inputs and Summary'!$B$14+1))","v":420.86074692915571},0,{"$f":"-CHOOSE('Inputs and Summary'!$B$21,L81:L123,M80:M123,N80:N123)*O81/10^6","v":0},0,{"$f":"+R80*(1+'Inputs and Summary'!$B$4)*B81","v":0},{"$f":"+S80*(1+'Inputs and Summary'!$B$4)*B81","v":0},0,0,0,0,null,0,0,{"$f":"+'Inputs and Summary'!$B$5","v":0.35},0,null,0]
[2057,{"$f":"1*(SUM($B$41:B81)<$D$22)","v":0},0,0,0,0,{"$f":"+G81*(1+'Inputs and Summary'!$B$4)","v":297.86785949922489},0,0,31.686516062506946,{"$f":"J82*'Inputs and Summary'!$B$22/100*B82/1.023","v":0},0,{"$f":"M81*(1+'Inputs and Summary'!$B$4)+2.25*(1+'Inputs and Summary'!$B$4)^(A82-('Inputs and Summary'!$B$14+1))","v":298.47399715094559},{"$f":"N81*(1+'Inputs and Summary'!$B$4)+3.25*(1+'Inputs and Summary'!$B$4)^(A82-('Inputs and Summary'!$B$14+1))","v":441.25545125877716},0,{"$f":"-CHOOSE('Inputs and Summary'!$B$21,L82:L123,M81:M123,N81:N123)*O82/10^6","v":0},0,{"$f":"+R81*(1+'Inputs and Summary'!$B$4)*B82","v":0},{"$f":"+S81*(1+'Inputs and Summary'!$B$4)*B82","v":0},0,0,0,0,null,0,0,{"$f":"+'Inputs and Summary'!$B$5","v":0.35},0,null,0]
[2058,{"$f":"1*(SUM($B$41:B82)<$D$22)","v":0},0,0,0,0,{"$f":"+G82*(1+'Inputs and Summary'!$B$4)","v":305.3145559867055},0,0,33.270841865632292,{"$f":"J83*'Inputs and Summary'!$B$22/100*B83/1.023","v":0},0,{"$f":"M82*(1+'Inputs and Summary'!$B$4)+2.25*(1+'Inputs and Summary'!$B$4)^(A83-('Inputs and Summary'!$B$14+1))","v":312.94201151665936},{"$f":"N82*(1+'Inputs and Summary'!$B$4)+3.25*(1+'Inputs and Summary'!$B$4)^(A83-('Inputs and Summary'!$B$14+1))","v":462.40685283804896},0,{"$f":"-CHOOSE('Inputs and Summary'!$B$21,L83:L127,M82:M127,N82:N127)*O83/10^6","v":0},0,{"$f":"+R82*(1+'Inputs and Summary'!$B$4)*B83","v":0},{"$f":"+S82*(1+'Inputs and Summary'!$B$4)*B83","v":0},0,0,0,0,null,0,0,{"$f":"+'Inputs and Summary'!$B$5","v":0.35},0,null,0]
[2059,{"$f":"1*(SUM($B$41:B83)<$D$22)","v":0},0,0,0,0,{"$f":"+G83*(1+'Inputs and Summary'!$B$4)","v":312.9474198863731},0,0,34.934383958913905,{"$f":"J84*'Inputs and Summary'!$B$22/100*B84/1.023","v":0},0,{"$f":"M83*(1+'Inputs and Summary'!$B$4)+2.25*(1+'Inputs and Summary'!$B$4)^(A84-('Inputs and Summary'!$B$14+1))","v":327.94688035243951},{"$f":"N83*(1+'Inputs and Summary'!$B$4)+3.25*(1+'Inputs and Summary'!$B$4)^(A84-('Inputs and Summary'!$B$14+1))","v":484.34003983924759},0,{"$f":"-CHOOSE('Inputs and Summary'!$B$21,L84:L128,M83:M128,N83:N128)*O84/10^6","v":0},0,{"$f":"+R83*(1+'Inputs and Summary'!$B$4)*B84","v":0},{"$f":"+S83*(1+'Inputs and Summary'!$B$4)*B84","v":0},0,0,0,0,null,0,0,{"$f":"+'Inputs and Summary'!$B$5","v":0.35},0,null,0]
[2060,{"$f":"1*(SUM($B$41:B84)<$D$22)","v":0},0,0,0,0,{"$f":"+G84*(1+'Inputs and Summary'!$B$4)","v":320.77110538353242},0,0,36.681103156859599,{"$f":"J85*'Inputs and Summary'!$B$22/100*B85/1.023","v":0},0,{"$f":"M84*(1+'Inputs and Summary'!$B$4)+2.25*(1+'Inputs and Summary'!$B$4)^(A85-('Inputs and Summary'!$B$14+1))","v":343.50640387281067},{"$f":"N84*(1+'Inputs and Summary'!$B$4)+3.25*(1+'Inputs and Summary'!$B$4)^(A85-('Inputs and Summary'!$B$14+1))","v":507.08088190748242},0,{"$f":"-CHOOSE('Inputs and Summary'!$B$21,L85:L129,M84:M129,N84:N129)*O85/10^6","v":0},0,{"$f":"+R84*(1+'Inputs and Summary'!$B$4)*B85","v":0},{"$f":"+S84*(1+'Inputs and Summary'!$B$4)*B85","v":0},0,0,0,0,null,0,0,{"$f":"+'Inputs and Summary'!$B$5","v":0.35},0,null,0]
[2061,{"$f":"1*(SUM($B$41:B85)<$D$22)","v":0},0,0,0,0,{"$f":"+G85*(1+'Inputs and Summary'!$B$4)","v":328.79038301812068},0,0,38.515158314702582,{"$f":"J86*'Inputs and Summary'!$B$22/100*B86/1.023","v":0},0,{"$f":"M85*(1+'Inputs and Summary'!$B$4)+2.25*(1+'Inputs and Summary'!$B$4)^(A86-('Inputs and Summary'!$B$14+1))","v":359.63893676898016},{"$f":"N85*(1+'Inputs and Summary'!$B$4)+3.25*(1+'Inputs and Summary'!$B$4)^(A86-('Inputs and Summary'!$B$14+1))","v":530.65605355422952},0,{"$f":"-CHOOSE('Inputs and Summary'!$B$21,L86:L130,M85:M130,N85:N130)*O86/10^6","v":0},0,{"$f":"+R85*(1+'Inputs and Summary'!$B$4)*B86","v":0},{"$f":"+S85*(1+'Inputs and Summary'!$B$4)*B86","v":0},0,0,0,0,null,0,0,{"$f":"+'Inputs and Summary'!$B$5","v":0.35},0,null,0]
[2062,{"$f":"1*(SUM($B$41:B86)<$D$22)","v":0},0,0,0,0,{"$f":"+G86*(1+'Inputs and Summary'!$B$4)","v":337.01014259357368},0,0,40.440916230437715,{"$f":"J87*'Inputs and Summary'!$B$22/100*B87/1.023","v":0},0,{"$f":"M86*(1+'Inputs and Summary'!$B$4)+2.25*(1+'Inputs and Summary'!$B$4)^(A87-('Inputs and Summary'!$B$14+1))","v":376.36340480753762},{"$f":"N86*(1+'Inputs and Summary'!$B$4)+3.25*(1+'Inputs and Summary'!$B$4)^(A87-('Inputs and Summary'!$B$14+1))","v":555.09305823212162},0,{"$f":"-CHOOSE('Inputs and Summary'!$B$21,L87:L131,M86:M131,N86:N131)*O87/10^6","v":0},0,{"$f":"+R86*(1+'Inputs and Summary'!$B$4)*B87","v":0},{"$f":"+S86*(1+'Inputs and Summary'!$B$4)*B87","v":0},0,0,0,0,null,0,0,{"$f":"+'Inputs and Summary'!$B$5","v":0.35},0,null,0]
[2063,{"$f":"1*(SUM($B$41:B87)<$D$22)","v":0},0,0,0,0,{"$f":"+G87*(1+'Inputs and Summary'!$B$4)","v":345.43539615841297},0,0,42.462962041959599,{"$f":"J88*'Inputs and Summary'!$B$22/100*B88/1.023","v":0},0,{"$f":"M87*(1+'Inputs and Summary'!$B$4)+2.25*(1+'Inputs and Summary'!$B$4)^(A88-('Inputs and Summary'!$B$14+1))","v":393.69932191254236},{"$f":"N87*(1+'Inputs and Summary'!$B$4)+3.25*(1+'Inputs and Summary'!$B$4)^(A88-('Inputs and Summary'!$B$14+1))","v":580.42025311043699},0,{"$f":"-CHOOSE('Inputs and Summary'!$B$21,L88:L132,M87:M132,N87:N132)*O88/10^6","v":0},0,{"$f":"+R87*(1+'Inputs and Summary'!$B$4)*B88","v":0},{"$f":"+S87*(1+'Inputs and Summary'!$B$4)*B88","v":0},0,0,0,0,null,0,0,{"$f":"+'Inputs and Summary'!$B$5","v":0.35},0,null,0]
[2064,{"$f":"1*(SUM($B$41:B88)<$D$22)","v":0},0,0,0,0,{"$f":"+G88*(1+'Inputs and Summary'!$B$4)","v":354.07128106237326},0,0,44.586110144057578,{"$f":"J89*'Inputs and Summary'!$B$22/100*B89/1.023","v":0},0,{"$f":"M88*(1+'Inputs and Summary'!$B$4)+2.25*(1+'Inputs and Summary'!$B$4)^(A89-('Inputs and Summary'!$B$14+1))","v":411.66680774479255},{"$f":"N88*(1+'Inputs and Summary'!$B$4)+3.25*(1+'Inputs and Summary'!$B$4)^(A89-('Inputs and Summary'!$B$14+1))","v":606.66687457127307},0,{"$f":"-CHOOSE('Inputs and Summary'!$B$21,L89:L133,M88:M133,N88:N133)*O89/10^6","v":0},0,{"$f":"+R88*(1+'Inputs and Summary'!$B$4)*B89","v":0},{"$f":"+S88*(1+'Inputs and Summary'!$B$4)*B89","v":0},0,0,0,0,null,0,0,{"$f":"+'Inputs and Summary'!$B$5","v":0.35},0,null,0]
[2065,{"$f":"1*(SUM($B$41:B89)<$D$22)","v":0},0,0,0,0,{"$f":"+G89*(1+'Inputs and Summary'!$B$4)","v":362.92306308893257},0,0,46.815415651260459,{"$f":"J90*'Inputs and Summary'!$B$22/100*B90/1.023","v":0},0,{"$f":"M89*(1+'Inputs and Summary'!$B$4)+2.25*(1+'Inputs and Summary'!$B$4)^(A90-('Inputs and Summary'!$B$14+1))","v":430.28660579245997},{"$f":"N89*(1+'Inputs and Summary'!$B$4)+3.25*(1+'Inputs and Summary'!$B$4)^(A90-('Inputs and Summary'!$B$14+1))","v":633.86306444695697},0,{"$f":"-CHOOSE('Inputs and Summary'!$B$21,L90:L134,M89:M134,N89:N134)*O90/10^6","v":0},0,{"$f":"+R89*(1+'Inputs and Summary'!$B$4)*B90","v":0},{"$f":"+S89*(1+'Inputs and Summary'!$B$4)*B90","v":0},0,0,0,0,null,0,0,{"$f":"+'Inputs and Summary'!$B$5","v":0.35},0,null,0]
[2066,{"$f":"1*(SUM($B$41:B90)<$D$22)","v":0},0,0,0,0,{"$f":"+G90*(1+'Inputs and Summary'!$B$4)","v":371.99613966615584},0,0,49.156186433823486,{"$f":"J91*'Inputs and Summary'!$B$22/100*B91/1.023","v":0},0,{"$f":"M90*(1+'Inputs and Summary'!$B$4)+2.25*(1+'Inputs and Summary'!$B$4)^(A91-('Inputs and Summary'!$B$14+1))","v":449.58010198767022},{"$f":"N90*(1+'Inputs and Summary'!$B$4)+3.25*(1+'Inputs and Summary'!$B$4)^(A91-('Inputs and Summary'!$B$14+1))","v":662.039897019818},0,{"$f":"-CHOOSE('Inputs and Summary'!$B$21,L91:L135,M90:M135,N90:N135)*O91/10^6","v":0},0,{"$f":"+R90*(1+'Inputs and Summary'!$B$4)*B91","v":0},{"$f":"+S90*(1+'Inputs and Summary'!$B$4)*B91","v":0},0,0,0,0,null,0,0,{"$f":"+'Inputs and Summary'!$B$5","v":0.35},0,null,0]
[2067,{"$f":"1*(SUM($B$41:B91)<$D$22)","v":0},0,0,0,0,{"$f":"+G91*(1+'Inputs and Summary'!$B$4)","v":381.29604315780972},0,0,51.613995755514665,{"$f":"J92*'Inputs and Summary'!$B$22/100*B92/1.023","v":0},0,{"$f":"M91*(1+'Inputs and Summary'!$B$4)+2.25*(1+'Inputs and Summary'!$B$4)^(A92-('Inputs and Summary'!$B$14+1))","v":469.56934386402071},{"$f":"N91*(1+'Inputs and Summary'!$B$4)+3.25*(1+'Inputs and Summary'!$B$4)^(A92-('Inputs and Summary'!$B$14+1))","v":691.22940680604279},0,{"$f":"-CHOOSE('Inputs and Summary'!$B$21,L92:L136,M91:M136,N91:N136)*O92/10^6","v":0},0,{"$f":"+R91*(1+'Inputs and Summary'!$B$4)*B92","v":0},{"$f":"+S91*(1+'Inputs and Summary'!$B$4)*B92","v":0},0,0,0,0,null,0,0,{"$f":"+'Inputs and Summary'!$B$5","v":0.35},0,null,0]
[2068,{"$f":"1*(SUM($B$41:B92)<$D$22)","v":0},0,0,0,0,{"$f":"+G92*(1+'Inputs and Summary'!$B$4)","v":390.82844423675493},0,0,54.194695543290401,{"$f":"J93*'Inputs and Summary'!$B$22/100*B93/1.023","v":0},0,{"$f":"M92*(1+'Inputs and Summary'!$B$4)+2.25*(1+'Inputs and Summary'!$B$4)^(A93-('Inputs and Summary'!$B$14+1))","v":490.27706027044644},{"$f":"N92*(1+'Inputs and Summary'!$B$4)+3.25*(1+'Inputs and Summary'!$B$4)^(A93-('Inputs and Summary'!$B$14+1))","v":721.46461714594147},0,{"$f":"-CHOOSE('Inputs and Summary'!$B$21,L93:L137,M92:M137,N92:N137)*O93/10^6","v":0},0,{"$f":"+R92*(1+'Inputs and Summary'!$B$4)*B93","v":0},{"$f":"+S92*(1+'Inputs and Summary'!$B$4)*B93","v":0},0,0,0,0,null,0,0,{"$f":"+'Inputs and Summary'!$B$5","v":0.35},0,null,0]
[2069,{"$f":"1*(SUM($B$41:B93)<$D$22)","v":0},0,0,0,0,{"$f":"+G93*(1+'Inputs and Summary'!$B$4)","v":400.59915534267378},0,0,56.904430320454921,{"$f":"J94*'Inputs and Summary'!$B$22/100*B94/1.023","v":0},0,{"$f":"M93*(1+'Inputs and Summary'!$B$4)+2.25*(1+'Inputs and Summary'!$B$4)^(A94-('Inputs and Summary'!$B$14+1))","v":511.72668165727839},{"$f":"N93*(1+'Inputs and Summary'!$B$4)+3.25*(1+'Inputs and Summary'!$B$4)^(A94-('Inputs and Summary'!$B$14+1))","v":752.77956962358121},0,{"$f":"-CHOOSE('Inputs and Summary'!$B$21,L94:L138,M93:M138,N93:N138)*O94/10^6","v":0},0,{"$f":"+R93*(1+'Inputs and Summary'!$B$4)*B94","v":0},{"$f":"+S93*(1+'Inputs and Summary'!$B$4)*B94","v":0},0,0,0,0,null,0,0,{"$f":"+'Inputs and Summary'!$B$5","v":0.35},0,null,0]
[2070,{"$f":"1*(SUM($B$41:B94)<$D$22)","v":0},0,0,0,0,{"$f":"+G94*(1+'Inputs and Summary'!$B$4)","v":410.61413422624059},0,0,59.749651836477668,{"$f":"J95*'Inputs and Summary'!$B$22/100*B95/1.023","v":0},0,{"$f":"M94*(1+'Inputs and Summary'!$B$4)+2.25*(1+'Inputs and Summary'!$B$4)^(A95-('Inputs and Summary'!$B$14+1))","v":533.94236095078304},{"$f":"N94*(1+'Inputs and Summary'!$B$4)+3.25*(1+'Inputs and Summary'!$B$4)^(A95-('Inputs and Summary'!$B$14+1))","v":785.20935433938678},0,{"$f":"-CHOOSE('Inputs and Summary'!$B$21,L95:L139,M94:M139,N94:N139)*O95/10^6","v":0},0,{"$f":"+R94*(1+'Inputs and Summary'!$B$4)*B95","v":0},{"$f":"+S94*(1+'Inputs and Summary'!$B$4)*B95","v":0},0,0,0,0,null,0,0,{"$f":"+'Inputs and Summary'!$B$5","v":0.35},0,null,0]
["x","x","x","x","x","x","x","x","x","x","x","x","x","x","x","x","x","x","x","x","x","x","x","x","x","x","x","x","x","x"]
[]
[]
[]
["Transmission Tariff Calculation"]
[]
["Expenses","NPV"]
["Capacity Revenue",{"$f":"NPV('Inputs and Summary'!$B$12,'Combined Cycle Gas'!$H$43:$H$95)","v":470.53941328924196}]
["Total Expenses",{"$f":"NPV('Inputs and Summary'!$B$12,'Combined Cycle Gas'!$V$43:$V$95)","v":-2143.3210543379219}]
["Capital Costs",{"$f":"NPV('Inputs and Summary'!$B$12,'Combined Cycle Gas'!$AC$43:$AC$95)","v":-328.41463312171209}]
["Tax Depreciation",{"$f":"-NPV('Inputs and Summary'!$B$12,'Combined Cycle Gas'!$Y$43:$Y$95)*'Inputs and Summary'!$B$5","v":65.574691009581983}]
["Other Income Taxes",{"$f":"-(B103+B104)*'Inputs and Summary'!$B$5","v":585.47357436703794}]
[null,{"$f":"+SUM(B103:B107)","v":-1350.1480087937721}]
["Capitalization Factor",{"$f":"NPV('Inputs and Summary'!$B$12,'Combined Cycle Gas'!$B$43:$B$95)","v":10.657363472901677}]
["Annual RR (After-tax)",{"$f":"-B108/B109","v":126.68686887022047}]
["Annual RR (Pre-tax)",{"$f":"+B110/(1-'Inputs and Summary'!$B$5)","v":194.90287518495455}]
[]
["LCOE($/MWh)",{"$f":"D44*10^6/(C44)","v":71.587132259802246}]
[]
[]
[]
[]
[]
[]
[]
[]
[]
[]
[]
[]
[]
[]
[]
[]
[]
[]
[]
[]
[]
[]
[]
[]
[]
[]
[]
[]
[]
[]
[]
[]
[]
[]
[]
[]
[]
[]
[]
[]
[]
[]
[]
[]
[]
[]
[]
[]
[]
[]
[]
[]
[]
[]
[]
[]
[]
[]
[]
[]
[]
[]
[]
[]
[]
[]
[]
[]
[]
[]
[]
[]
[]
[]
[]
[]
[]
[]
[]
[]
[]
[]
[]
[]
[]
[]
[]
[]
[]
[]
[]
[]
[]
[]
[]
[]
[]
[]
[]
[]
[]
[]
[]
[]
[]
[]
[]
[]
[]
[]
[]
[]
[]
[]
[]
[]
[]
[]
[]
[]
[]
[]
[]
[]
[]
[]
[]
[]
[]
[]
[]
[]
[]
[]
[]
[]
[]
[]
[]
[]
[]
[]
[]
[]
[]
[]
[]
[]
[]
[]
[]
[]
[]
[]
[]
[null,null,null,null,null,null,"x"]

{"sheet":"Nuclear","index":6,"n_rows":110,"n_cols":26,"rows_kept":110,"cut":false,"hidden":false,"merged":[]}
["Nuclear Plant"]
["Name",null,null,"Nuclear",null,"assuming no nuclear uprates, not including fuel cost escalation rate (minus inflation)"]
[null,null,null,"(Advanced Light Water Reactor)"]
["Advanced Nuclear",null,null,null,"Source"]
["Energy Target (MWh/a)",null,null,{"$f":"'Oklahoma Wind + P&E'!E12","v":2427524.5500000003}]
["Capacity Factor (Utilization Rate)",null,null,0.9,"EIA: http://www.eia.gov/forecasts/aeo/er/electricity_generation.cfm"]
[]
["Size (MW)",null,null,{"$f":"+D5/(8766*D6)","v":307.69444444444446}]
["Capital cost ($mm/MW)",null,null,{"$f":"5429/1000","v":5.4290000000000003},"http://www.eia.gov/forecasts/aeo/assumptions/pdf/electricity.pdf.  Table 8.2."]
["Regional Cost Adjustments",null,null,0.97,"http://www.eia.gov/forecasts/capitalcost/pdf/updated_capcost.pdf Table 4"]
["Inflation Factor",null,null,{"$f":"(1+'Inputs and Summary'!$B$4)^(A39-'Inputs and Summary'!$B$14)","v":1.1886857536682125}]
["Capital Cost ($mm)",null,null,{"$f":"+D8*D9*D10*D11","v":1926.0975934201642}]
[]
["Fixed O&M ($/kW)",null,null,{"$f":"91.65*D11","v":108.94304932369168},{"$f":"+E9","v":"http://www.eia.gov/forecasts/aeo/assumptions/pdf/electricity.pdf.  Table 8.2."}]
["Variable O&M ($/MWh)",null,null,{"$f":"2.1*D11","v":2.4962400827032463},{"$f":"+E9","v":"http://www.eia.gov/forecasts/aeo/assumptions/pdf/electricity.pdf.  Table 8.2."}]
["Heat rate (Btu/kWh)",null,null,10452,{"$f":"E9","v":"http://www.eia.gov/forecasts/aeo/assumptions/pdf/electricity.pdf.  Table 8.2."}]
["Carbon Intensity (tons/mmBtu)",null,null,0,"https://www.theice.com/publicdocs/ccx/CCX_GHG_Factors.pdf"]
["Average Fuel Cost (including waste management) (2012 $/MWh)",null,null,7.5,"http://www.nei.org/Knowledge-Center/Nuclear-Statistics/Costs-Fuel,-Operation,-Waste-Disposal-Life-Cycle"]
[null,null,null,null,"(Fuel costs are based off typical 1000 MW reactors that reload every 18-months)"]
[]
["Property Tax",null,null,"below"]
["Tax depreciation",null,null,"15-year MACRS"]
[]
["Useful Life (Years)",null,null,40]
["Nuclear PTC ($/MWh)",null,null,18,"http://www.gpo.gov/fdsys/pkg/PLAW-109publ58/pdf/PLAW-109publ58.pdf. Sec. 45J"]
["PTC Annual Limit ($mm)",null,null,{"$f":"MIN(125*$D$8/1000,125*6)","v":38.461805555555557},"6000MW capacity to 125$mm bears to 1000MW"]
["PTC Base Year",null,null,2014]
["Capacity Credit (%)",null,null,{"$f":"1-D30","v":0.97609999999999997},"Using (1 - EFOR)"]
["Equivalent Forced Outage Rate (PWR)",null,"MW","EFOR","GADS"]
[null,null,"0-800",2.3900000000000001E-2]
["TOD Adjustment",null,null,{"$f":"'TOD Calc'!$B$22","v":1.1215526089355909},"Assuming steady output throughout the day"]
[]
["Assessment Percentage on Commercial Property in TN",null,null,0.4,"https://www.comptroller.tn.gov/pa/paavt.asp"]
["Property Tax Rate",null,null,3.1960000000000002E-2,"https://www.comptroller.tn.gov/pa/LR.asp?W=13",null,null,null,"(average of all counties)"]
["Residual Value (% of Capital Cost)",null,null,0.2]
[]
[null,null,null,null,null,null,null,null,null,null,null,null,null,null,null,null,null,null,null,null,null,null,null,null,"IRR",{"$f":"IRR(Z39:Z91)","v":7.7874999999999917E-2}]
["Year","In-Service","PTC Eligible","Generation (MWh/a)","Revenue ($mm)","TOD-Adjusted Revenue ($mm)","Capacity Credit (MW)","Capacity Price ($k/MW-yr)","Capacity Revenue ($mm)","Reactor Grade Uranium Fuel Price ($/MWh)","Fuel Expenses ($mm)","Variable O&M","Fixed O&M","Total Asset Value ($mm)","Property Tax","Total Expenses","EBITDA","Tax Depreciation (%)","Tax Depreciation","Taxable Income","Tax Rate","Cash Taxes","Production Tax Credit Value ($/MWh)","Production Tax Credits ($mm)","Capital Costs","After-tax Cash Flow"]
[2018,0,null,null,{"$f":"+B39*$B$108/$D$31","v":0},{"$f":"+E39*$D$31","v":0},{"$f":"+B39*$D$8*$D$28","v":0},{"$f":"'Inputs and Summary'!$B$15*$D$11","v":113.70849051014754},{"$f":"+G39*H39/10^3","v":0},{"$f":"$D$18*$D$11/(1+'Inputs and Summary'!$B$4)*B39","v":0},{"$f":"-J39*D39/10^6","v":0},0,0,{"$f":"$D$12","v":1926.0975934201642},{"$f":"-N39*$D$33*$D$34*B39","v":0},{"$f":"K39+L39+M39+O39","v":0},{"$f":"+F39+I39+P39","v":0},null,{"$f":"-R39*$D$12","v":0},{"$f":"+Q39+S39","v":0},{"$f":"+'Inputs and Summary'!$B$5","v":0.35},{"$f":"-T39*U39","v":0},{"$f":"+ROUND($D$25*(1+'Inputs and Summary'!$B$4)^(A39-$D$27),0)*C39","v":0},{"$f":"MIN(+W39*D39/10^6,$D$26)","v":0},{"$f":"-D12","v":-1926.0975934201642},{"$f":"+Q39+V39+Y39+X39","v":-1926.0975934201642}]
[{"$f":"+A39+1","v":2019},1,1,{"$f":"+D6*8766*D8","v":2427524.5500000003},196.43582009784069,220.3131065191356,300.3405472222222,{"$f":"+H39*(1+'Inputs and Summary'!$B$4)","v":116.55120277290122},{"$f":"+G40*H40/10^3","v":35.005052020221335},{"$f":"$D$18*$D$11*B40","v":8.9151431525115932},{"$f":"-J40*D40/10^6","v":-21.641728869486286},{"$f":"-D40*$D$15/10^6*B40","v":-6.0596840834561618},{"$f":"-$D$14*$D$8/1000","v":-33.521171037737027},{"$f":"$D$12*((1-$D$35)*(($D$24-(A40-$A$39))/$D$24)+$D$35)*B40","v":1887.575641551761},-24.130767001597714,{"$f":"K40+L40+M40+O40","v":-85.353350992277186},169.96480754707977,1.2500000000000001E-2,-24.076219917752056,{"$f":"+Q40+S40","v":145.88858762932773},{"$f":"+'Inputs and Summary'!$B$5","v":0.35},{"$f":"-T40*U40","v":-51.061005670264706},{"$f":"+ROUND($D$25*(1+'Inputs and Summary'!$B$4)^(A40-$D$27),0)*C40","v":20},{"$f":"MIN(+W40*D40/10^6,$D$26)","v":38.461805555555557},null,{"$f":"+Q40+V40+Y40+X40","v":157.36560743237061}]
[{"$f":"+A40+1","v":2020},{"$f":"1*(SUM($B$33:B40)<$D$24)","v":1},1,{"$f":"+D40*B41","v":2427524.5500000003},196.43582009784069,220.3131065191356,300.3405472222222,{"$f":"+H40*(1+'Inputs and Summary'!$B$4)","v":119.46498284222373},{"$f":"+G41*H41/10^3","v":35.880178320726863},{"$f":"+J40*(1+'Inputs and Summary'!$B$4)*B41","v":9.1380217313243826},{"$f":"-J41*D41/10^6","v":-22.182772091223445},{"$f":"+L40*(1+'Inputs and Summary'!$B$4)*B41","v":-6.2111761855425653},{"$f":"+M40*(1+'Inputs and Summary'!$B$4)*B41","v":-34.359200313680446},1849.0536896833576,-23.638302368912047,-86.391450959358508,{"$f":"+F41+I41+P41","v":169.80183388050398},9.8750000000000004E-2,-190.20213735024123,{"$f":"+Q41+S41","v":-20.400303469737253},{"$f":"+'Inputs and Summary'!$B$5","v":0.35},7.1401062144080383,{"$f":"+ROUND($D$25*(1+'Inputs and Summary'!$B$4)^(A41-$D$27),0)*C41","v":21},38.461805555555557,null,215.40374565046756]
[2021,{"$f":"1*(SUM($B$33:B41)<$D$24)","v":1},1,2427524.5500000003,196.43582009784069,220.3131065191356,300.3405472222222,{"$f":"+H41*(1+'Inputs and Summary'!$B$4)","v":122.45160741327932},36.777182778745029,{"$f":"+J41*(1+'Inputs and Summary'!$B$4)*B42","v":9.3664722746074904},-22.737341393504028,{"$f":"+L41*(1+'Inputs and Summary'!$B$4)*B42","v":-6.3664555901811291},{"$f":"+M41*(1+'Inputs and Summary'!$B$4)*B42","v":-35.218180321522453},1810.5317378149548,-23.145837736226387,-87.467815041433994,169.62247425644665,8.887500000000001E-2,-171.1819236152171,{"$f":"+Q42+S42","v":-1.5594493587704505},{"$f":"+'Inputs and Summary'!$B$5","v":0.35},0.54580727556965769,{"$f":"+ROUND($D$25*(1+'Inputs and Summary'!$B$4)^(A42-$D$27),0)*C42","v":21},38.461805555555557,null,208.63008708757184]
[2022,{"$f":"1*(SUM($B$33:B42)<$D$24)","v":1},1,2427524.5500000003,196.43582009784069,220.3131065191356,300.3405472222222,{"$f":"+H42*(1+'Inputs and Summary'!$B$4)","v":125.51289759861129},37.696612348213655,{"$f":"+J42*(1+'Inputs and Summary'!$B$4)*B43","v":9.6006340814726769},-23.305774928341627,{"$f":"+L42*(1+'Inputs and Summary'!$B$4)*B43","v":-6.5256169799356565},{"$f":"+M42*(1+'Inputs and Summary'!$B$4)*B43","v":-36.09863482956051},1772.0097859465513,-22.653373103540716,-88.583399841378508,169.42631902597074,7.9987499999999989E-2,-154.06373125369535,{"$f":"+Q43+S43","v":15.36258777227539},{"$f":"+'Inputs and Summary'!$B$5","v":0.35},-5.3769057202963859,{"$f":"+ROUND($D$25*(1+'Inputs and Summary'!$B$4)^(A43-$D$27),0)*C43","v":22},38.461805555555557,null,202.51121886122991]
[2023,{"$f":"1*(SUM($B$33:B43)<$D$24)","v":1},1,2427524.5500000003,196.43582009784069,220.3131065191356,300.3405472222222,{"$f":"+H43*(1+'Inputs and Summary'!$B$4)","v":128.65072003857657},38.639027656918998,{"$f":"+J43*(1+'Inputs and Summary'!$B$4)*B44","v":9.8406499335094928},-23.888419301550165,{"$f":"+L43*(1+'Inputs and Summary'!$B$4)*B44","v":-6.688757404434047},{"$f":"+M43*(1+'Inputs and Summary'!$B$4)*B44","v":-37.001100700299517},1733.4878340781481,-22.160908470855052,-89.73918587713878,169.21294829891582,7.1988750000000004E-2,-138.65735812832585,{"$f":"+Q44+S44","v":30.555590170589966},{"$f":"+'Inputs and Summary'!$B$5","v":0.35},-10.694456559706488,{"$f":"+ROUND($D$25*(1+'Inputs and Summary'!$B$4)^(A44-$D$27),0)*C44","v":22},38.461805555555557,null,196.98029729476491]
[2024,{"$f":"1*(SUM($B$33:B44)<$D$24)","v":1},1,2427524.5500000003,196.43582009784069,220.3131065191356,300.3405472222222,{"$f":"+H44*(1+'Inputs and Summary'!$B$4)","v":131.86698803954096},39.60500334834196,{"$f":"+J44*(1+'Inputs and Summary'!$B$4)*B45","v":10.08666618184723},-24.485629784088918,{"$f":"+L44*(1+'Inputs and Summary'!$B$4)*B45","v":-6.8559763395448972},{"$f":"+M44*(1+'Inputs and Summary'!$B$4)*B45","v":-37.926128217807005},1694.9658822097447,-21.668443838169377,-90.936178179610195,168.98193168786736,6.4789874999999997E-2,-124.79162231549326,44.190309372374102,{"$f":"+'Inputs and Summary'!$B$5","v":0.35},-15.466608280330934,{"$f":"+ROUND($D$25*(1+'Inputs and Summary'!$B$4)^(A45-$D$27),0)*C45","v":23},38.461805555555557,null,191.97712896309196]
[2025,{"$f":"1*(SUM($B$33:B45)<$D$24)","v":1},1,2427524.5500000003,196.43582009784069,220.3131065191356,300.3405472222222,{"$f":"+H45*(1+'Inputs and Summary'!$B$4)","v":135.16366274052947},40.595128432050508,{"$f":"+J45*(1+'Inputs and Summary'!$B$4)*B46","v":10.33883283639341},-25.097770528691139,{"$f":"+L45*(1+'Inputs and Summary'!$B$4)*B46","v":-7.0273757480335188},{"$f":"+M45*(1+'Inputs and Summary'!$B$4)*B46","v":-38.874281423252178},1656.4439303413415,-21.175979205483713,-92.175406905460548,168.73282804572557,5.9048999999999997E-2,-113.73413679386728,54.99869125185829,{"$f":"+'Inputs and Summary'!$B$5","v":0.35},-19.249541938150401,{"$f":"+ROUND($D$25*(1+'Inputs and Summary'!$B$4)^(A46-$D$27),0)*C46","v":24},38.461805555555557,null,187.94509166313071]
[2026,{"$f":"1*(SUM($B$33:B46)<$D$24)","v":1},1,2427524.5500000003,196.43582009784069,220.3131065191356,300.3405472222222,{"$f":"+H46*(1+'Inputs and Summary'!$B$4)","v":138.54275430904269},41.610006642851765,{"$f":"+J46*(1+'Inputs and Summary'!$B$4)*B47","v":10.597303657303245},-25.725214791908417,{"$f":"+L46*(1+'Inputs and Summary'!$B$4)*B47","v":-7.2030601417343565},{"$f":"+M46*(1+'Inputs and Summary'!$B$4)*B47","v":-39.846138458833479},1617.921978472938,-20.683514572798043,-93.457927965274294,168.46518519671309,5.9048999999999997E-2,-113.73413679386728,54.731048402845815,{"$f":"+'Inputs and Summary'!$B$5","v":0.35},-19.155866940996034,{"$f":"+ROUND($D$25*(1+'Inputs and Summary'!$B$4)^(A47-$D$27),0)*C47","v":24},38.461805555555557,null,187.77112381127262]
[2027,{"$f":"1*(SUM($B$33:B47)<$D$24)","v":1},null,2427524.5500000003,196.43582009784069,220.3131065191356,300.3405472222222,{"$f":"+H47*(1+'Inputs and Summary'!$B$4)","v":142.00632316676874},42.650256808923054,{"$f":"+J47*(1+'Inputs and Summary'!$B$4)*B48","v":10.862236248735824},-26.368345161706124,{"$f":"+L47*(1+'Inputs and Summary'!$B$4)*B48","v":-7.3831366452777152},{"$f":"+M47*(1+'Inputs and Summary'!$B$4)*B48","v":-40.842291920304312},1579.4000266045348,-20.191049940112379,-94.784823667400531,168.17853966065815,5.904899999999999E-2,-113.73413679386726,54.444402866790881,{"$f":"+'Inputs and Summary'!$B$5","v":0.35},-19.055541003376806,{"$f":"+ROUND($D$25*(1+'Inputs and Summary'!$B$4)^(A48-$D$27),0)*C48","v":0},0,null,149.12299865728133]
[2028,{"$f":"1*(SUM($B$33:B48)<$D$24)","v":1},null,2427524.5500000003,196.43582009784069,220.3131065191356,300.3405472222222,{"$f":"+H48*(1+'Inputs and Summary'!$B$4)","v":145.55648124593793},43.716513229146116,{"$f":"+J48*(1+'Inputs and Summary'!$B$4)*B49","v":11.133792154954218},-27.027553790748772,{"$f":"+L48*(1+'Inputs and Summary'!$B$4)*B49","v":-7.5677150614096576},{"$f":"+M48*(1+'Inputs and Summary'!$B$4)*B49","v":-41.863349218311917},1540.8780747361316,-19.698585307426708,-96.157203377897062,167.87241637038466,5.904899999999999E-2,-113.73413679386726,54.138279576517391,{"$f":"+'Inputs and Summary'!$B$5","v":0.35},-18.948397851781085,{"$f":"+ROUND($D$25*(1+'Inputs and Summary'!$B$4)^(A49-$D$27),0)*C49","v":0},0,null,148.92401851860356]
[2029,{"$f":"1*(SUM($B$33:B49)<$D$24)","v":1},null,2427524.5500000003,196.43582009784069,220.3131065191356,300.3405472222222,{"$f":"+H49*(1+'Inputs and Summary'!$B$4)","v":149.19539327708637},44.809426059874774,{"$f":"+J49*(1+'Inputs and Summary'!$B$4)*B50","v":11.412136958828073},-27.703242635517491,{"$f":"+L49*(1+'Inputs and Summary'!$B$4)*B50","v":-7.7569079379448986},{"$f":"+M49*(1+'Inputs and Summary'!$B$4)*B50","v":-42.909932948769715},1502.3561228677281,-19.206120674741037,-97.576204196973151,167.54632838203725,5.9048999999999983E-2,-113.73413679386725,53.812191588169995,{"$f":"+'Inputs and Summary'!$B$5","v":0.35},-18.834267055859495,{"$f":"+ROUND($D$25*(1+'Inputs and Summary'!$B$4)^(A50-$D$27),0)*C50","v":0},0,null,148.71206132617775]
[2030,{"$f":"1*(SUM($B$33:B50)<$D$24)","v":1},null,2427524.5500000003,196.43582009784069,220.3131065191356,300.3405472222222,{"$f":"+H50*(1+'Inputs and Summary'!$B$4)","v":152.9252781090135},45.929661711371637,{"$f":"+J50*(1+'Inputs and Summary'!$B$4)*B51","v":11.697440382798774},-28.395823701405426,{"$f":"+L50*(1+'Inputs and Summary'!$B$4)*B51","v":-7.9508306363935208},{"$f":"+M50*(1+'Inputs and Summary'!$B$4)*B51","v":-43.982681272488954},1463.8341709993249,-18.713656042055373,-99.042991652343275,167.19977657816395,5.9048999999999983E-2,-113.73413679386725,53.465639784296698,{"$f":"+'Inputs and Summary'!$B$5","v":0.35},-18.712973924503842,{"$f":"+ROUND($D$25*(1+'Inputs and Summary'!$B$4)^(A51-$D$27),0)*C51","v":0},0,null,148.48680265366011]
[2031,{"$f":"1*(SUM($B$33:B51)<$D$24)","v":1},null,2427524.5500000003,196.43582009784069,220.3131065191356,300.3405472222222,{"$f":"+H51*(1+'Inputs and Summary'!$B$4)","v":156.74841006173884},47.07790325415592,{"$f":"+J51*(1+'Inputs and Summary'!$B$4)*B52","v":11.989876392368743},-29.10571929394056,{"$f":"+L51*(1+'Inputs and Summary'!$B$4)*B52","v":-8.1496014023033574},{"$f":"+M51*(1+'Inputs and Summary'!$B$4)*B52","v":-45.082248304301174},1425.3122191309214,-18.221191409369702,-100.55876040991478,166.83224936337672,5.9048999999999983E-2,-113.73413679386725,53.098112569509468,{"$f":"+'Inputs and Summary'!$B$5","v":0.35},-18.584339399328311,{"$f":"+ROUND($D$25*(1+'Inputs and Summary'!$B$4)^(A52-$D$27),0)*C52","v":0},0,null,148.2479099640484]
[2032,{"$f":"1*(SUM($B$33:B52)<$D$24)","v":1},null,2427524.5500000003,196.43582009784069,220.3131065191356,300.3405472222222,{"$f":"+H52*(1+'Inputs and Summary'!$B$4)","v":160.66712031328228},48.254850835509806,{"$f":"+J52*(1+'Inputs and Summary'!$B$4)*B53","v":12.28962330217796},-29.833362276289069,{"$f":"+L52*(1+'Inputs and Summary'!$B$4)*B53","v":-8.3533414373609407},{"$f":"+M52*(1+'Inputs and Summary'!$B$4)*B53","v":-46.209304511908698},1386.7902672625182,-17.728726776684034,-102.12473500224274,166.44322235240264,5.9048999999999983E-2,-113.73413679386725,52.709085558535392,{"$f":"+'Inputs and Summary'!$B$5","v":0.35},-18.448179945487386,{"$f":"+ROUND($D$25*(1+'Inputs and Summary'!$B$4)^(A53-$D$27),0)*C53","v":0},0,null,147.99504240691525]
[2033,{"$f":"1*(SUM($B$33:B53)<$D$24)","v":1},null,2427524.5500000003,196.43582009784069,220.3131065191356,300.3405472222222,{"$f":"+H53*(1+'Inputs and Summary'!$B$4)","v":164.68379832111432},49.46122210639755,{"$f":"+J53*(1+'Inputs and Summary'!$B$4)*B54","v":12.596863884732407},-30.579196333196293,{"$f":"+L53*(1+'Inputs and Summary'!$B$4)*B54","v":-8.5621749732949635},{"$f":"+M53*(1+'Inputs and Summary'!$B$4)*B54","v":-47.364537124706409},1348.2683153941148,-17.236262143998363,-103.74217057519603,166.0321580503371,5.9048999999999983E-2,-113.73413679386725,52.298021256469852,{"$f":"+'Inputs and Summary'!$B$5","v":0.35},-18.304307439764447,{"$f":"+ROUND($D$25*(1+'Inputs and Summary'!$B$4)^(A54-$D$27),0)*C54","v":0},0,null,147.72785061057266]
[2034,{"$f":"1*(SUM($B$33:B54)<$D$24)","v":1},null,2427524.5500000003,196.43582009784069,220.3131065191356,300.3405472222222,{"$f":"+H54*(1+'Inputs and Summary'!$B$4)","v":168.80089327914217},50.697752659057493,{"$f":"+J54*(1+'Inputs and Summary'!$B$4)*B55","v":12.911785481850716},-31.343676241526193,{"$f":"+L54*(1+'Inputs and Summary'!$B$4)*B55","v":-8.7762293476273374},{"$f":"+M54*(1+'Inputs and Summary'!$B$4)*B55","v":-48.548650552824064},1309.7463635257116,-16.7437975113127,-105.4123536532903,165.59850552490278,5.1667874999999981E-2,-99.517369694633828,66.081135830268948,{"$f":"+'Inputs and Summary'!$B$5","v":0.35},-23.128397540594129,{"$f":"+ROUND($D$25*(1+'Inputs and Summary'!$B$4)^(A55-$D$27),0)*C55","v":0},0,null,142.47010798430864]
[2035,{"$f":"1*(SUM($B$33:B55)<$D$24)","v":1},null,2427524.5500000003,196.43582009784069,220.3131065191356,300.3405472222222,{"$f":"+H55*(1+'Inputs and Summary'!$B$4)","v":173.0209156111207},51.965196475533922,{"$f":"+J55*(1+'Inputs and Summary'!$B$4)*B56","v":13.234580118896982},-32.127268147564351,{"$f":"+L55*(1+'Inputs and Summary'!$B$4)*B56","v":-8.9956350813180208},{"$f":"+M55*(1+'Inputs and Summary'!$B$4)*B56","v":-49.762366816644665},1271.2244116573083,-16.251332878627032,-107.13660292415406,165.14170007051544,null,0,165.14170007051544,{"$f":"+'Inputs and Summary'!$B$5","v":0.35},-57.7995950246804,{"$f":"+ROUND($D$25*(1+'Inputs and Summary'!$B$4)^(A56-$D$27),0)*C56","v":0},0,null,107.34210504583504]
[2036,{"$f":"1*(SUM($B$33:B56)<$D$24)","v":1},null,2427524.5500000003,196.43582009784069,220.3131065191356,300.3405472222222,{"$f":"+H56*(1+'Inputs and Summary'!$B$4)","v":177.34643850139869},53.264326387422258,{"$f":"+J56*(1+'Inputs and Summary'!$B$4)*B57","v":13.565444621869405},-32.930449851253449,{"$f":"+L56*(1+'Inputs and Summary'!$B$4)*B57","v":-9.2205259583509704},{"$f":"+M56*(1+'Inputs and Summary'!$B$4)*B57","v":-51.00642598706078},1232.7024597889053,-15.758868245941368,-108.91627004260657,164.66116286395129,null,0,164.66116286395129,{"$f":"+'Inputs and Summary'!$B$5","v":0.35},-57.63140700238295,{"$f":"+ROUND($D$25*(1+'Inputs and Summary'!$B$4)^(A57-$D$27),0)*C57","v":0},0,null,107.02975586156833]
[2037,{"$f":"1*(SUM($B$33:B57)<$D$24)","v":1},null,2427524.5500000003,196.43582009784069,220.3131065191356,300.3405472222222,{"$f":"+H57*(1+'Inputs and Summary'!$B$4)","v":181.78009946393365},54.595934547107809,{"$f":"+J57*(1+'Inputs and Summary'!$B$4)*B58","v":13.90458073741614},-33.75371109753479,{"$f":"+L57*(1+'Inputs and Summary'!$B$4)*B58","v":-9.4510391073097431},{"$f":"+M57*(1+'Inputs and Summary'!$B$4)*B58","v":-52.281586636737295},1194.1805079205021,-15.266403613255701,-110.75274045483752,164.15630061140587,null,0,164.15630061140587,{"$f":"+'Inputs and Summary'!$B$5","v":0.35},-57.45470521399205,{"$f":"+ROUND($D$25*(1+'Inputs and Summary'!$B$4)^(A58-$D$27),0)*C58","v":0},0,null,106.70159539741383]
[2038,{"$f":"1*(SUM($B$33:B58)<$D$24)","v":1},null,2427524.5500000003,196.43582009784069,220.3131065191356,300.3405472222222,{"$f":"+H58*(1+'Inputs and Summary'!$B$4)","v":186.32460195053199},55.960832910785506,{"$f":"+J58*(1+'Inputs and Summary'!$B$4)*B59","v":14.252195255851543},-34.597553874973158,{"$f":"+L58*(1+'Inputs and Summary'!$B$4)*B59","v":-9.6873150849924858},{"$f":"+M58*(1+'Inputs and Summary'!$B$4)*B59","v":-53.588626302655726},1155.6585560520987,-14.773938980570032,-112.6474342431914,163.62650518672967,null,0,163.62650518672967,{"$f":"+'Inputs and Summary'!$B$5","v":0.35},-57.269276815355383,{"$f":"+ROUND($D$25*(1+'Inputs and Summary'!$B$4)^(A59-$D$27),0)*C59","v":0},0,null,106.35722837137429]
[2039,{"$f":"1*(SUM($B$33:B59)<$D$24)","v":1},null,2427524.5500000003,196.43582009784069,220.3131065191356,300.3405472222222,{"$f":"+H59*(1+'Inputs and Summary'!$B$4)","v":190.98271699929526},57.359853733555134,{"$f":"+J59*(1+'Inputs and Summary'!$B$4)*B60","v":14.60850013724783},-35.462492721847482,{"$f":"+L59*(1+'Inputs and Summary'!$B$4)*B60","v":-9.9294979621172974},{"$f":"+M59*(1+'Inputs and Summary'!$B$4)*B60","v":-54.928341960222113},1117.1366041836955,-14.281474347884366,-114.60180699207126,163.0711532606195,null,0,163.0711532606195,{"$f":"+'Inputs and Summary'!$B$5","v":0.35},-57.074903641216821,{"$f":"+ROUND($D$25*(1+'Inputs and Summary'!$B$4)^(A60-$D$27),0)*C60","v":0},0,null,105.99624961940268]
[2040,{"$f":"1*(SUM($B$33:B60)<$D$24)","v":1},null,2427524.5500000003,196.43582009784069,220.3131065191356,300.3405472222222,{"$f":"+H60*(1+'Inputs and Summary'!$B$4)","v":195.75728492427763},58.793850076894017,{"$f":"+J60*(1+'Inputs and Summary'!$B$4)*B61","v":14.973712640679025},-36.349055039893663,{"$f":"+L60*(1+'Inputs and Summary'!$B$4)*B61","v":-10.177735411170229},{"$f":"+M60*(1+'Inputs and Summary'!$B$4)*B61","v":-56.30155050922766},1078.614652315292,-13.789009715198695,-116.61735067549023,162.48960592053936,null,0,162.48960592053936,{"$f":"+'Inputs and Summary'!$B$5","v":0.35},-56.871362072188774,{"$f":"+ROUND($D$25*(1+'Inputs and Summary'!$B$4)^(A61-$D$27),0)*C61","v":0},0,null,105.61824384835059]
[2041,{"$f":"1*(SUM($B$33:B61)<$D$24)","v":1},null,2427524.5500000003,196.43582009784069,220.3131065191356,300.3405472222222,{"$f":"+H61*(1+'Inputs and Summary'!$B$4)","v":200.65121704738456},60.263696328816359,{"$f":"+J61*(1+'Inputs and Summary'!$B$4)*B62","v":15.348055456695999},-37.25778141589101,{"$f":"+L61*(1+'Inputs and Summary'!$B$4)*B62","v":-10.432178796449483},{"$f":"+M61*(1+'Inputs and Summary'!$B$4)*B62","v":-57.709089271958348},1040.0927004468888,-13.296545082513029,-118.69559456681188,161.88120828114009,null,0,161.88120828114009,{"$f":"+'Inputs and Summary'!$B$5","v":0.35},-56.658422898399024,{"$f":"+ROUND($D$25*(1+'Inputs and Summary'!$B$4)^(A62-$D$27),0)*C62","v":0},0,null,105.22278538274107]
[2042,{"$f":"1*(SUM($B$33:B62)<$D$24)","v":1},null,2427524.5500000003,196.43582009784069,220.3131065191356,300.3405472222222,{"$f":"+H62*(1+'Inputs and Summary'!$B$4)","v":205.66749747356917},61.770288737036765,{"$f":"+J62*(1+'Inputs and Summary'!$B$4)*B63","v":15.731756843113397},-38.189225951288279,{"$f":"+L62*(1+'Inputs and Summary'!$B$4)*B63","v":-10.692983266360718},{"$f":"+M62*(1+'Inputs and Summary'!$B$4)*B63","v":-59.151816503757303},1001.5707485784854,-12.80408044982736,-120.83810617123365,161.24528908493872,null,0,161.24528908493872,{"$f":"+'Inputs and Summary'!$B$5","v":0.35},-56.435851179728544,{"$f":"+ROUND($D$25*(1+'Inputs and Summary'!$B$4)^(A63-$D$27),0)*C63","v":0},0,null,104.80943790521017]
[2043,{"$f":"1*(SUM($B$33:B63)<$D$24)","v":1},null,2427524.5500000003,196.43582009784069,220.3131065191356,300.3405472222222,{"$f":"+H63*(1+'Inputs and Summary'!$B$4)","v":210.80918491040839},63.314545955462677,{"$f":"+J63*(1+'Inputs and Summary'!$B$4)*B64","v":16.125050764191229},-39.143956600070474,{"$f":"+L63*(1+'Inputs and Summary'!$B$4)*B64","v":-10.960307848019735},{"$f":"+M63*(1+'Inputs and Summary'!$B$4)*B64","v":-60.630611916351228},963.04879671008212,-12.311615817141693,-123.04649218158312,160.58116029301516,null,0,160.58116029301516,{"$f":"+'Inputs and Summary'!$B$5","v":0.35},-56.203406102555299,{"$f":"+ROUND($D$25*(1+'Inputs and Summary'!$B$4)^(A64-$D$27),0)*C64","v":0},0,null,104.37775419045985]
[2044,{"$f":"1*(SUM($B$33:B64)<$D$24)","v":1},null,2427524.5500000003,196.43582009784069,220.3131065191356,300.3405472222222,{"$f":"+H64*(1+'Inputs and Summary'!$B$4)","v":216.07941453316857},64.897409604349235,{"$f":"+J64*(1+'Inputs and Summary'!$B$4)*B65","v":16.528177033296007},-40.122555515072229,{"$f":"+L64*(1+'Inputs and Summary'!$B$4)*B65","v":-11.234315544220227},{"$f":"+M64*(1+'Inputs and Summary'!$B$4)*B65","v":-62.146377214260006},924.52684484167878,-11.819151184456024,-125.32239945800848,159.88811666547633,null,0,159.88811666547633,{"$f":"+'Inputs and Summary'!$B$5","v":0.35},-55.960840832916716,{"$f":"+ROUND($D$25*(1+'Inputs and Summary'!$B$4)^(A65-$D$27),0)*C65","v":0},0,null,103.92727583255962]
[2045,{"$f":"1*(SUM($B$33:B65)<$D$24)","v":1},null,2427524.5500000003,196.43582009784069,220.3131065191356,300.3405472222222,{"$f":"+H65*(1+'Inputs and Summary'!$B$4)","v":221.48139989649778},66.519844844457964,{"$f":"+J65*(1+'Inputs and Summary'!$B$4)*B66","v":16.941381459128404},-41.125619402949027,{"$f":"+L65*(1+'Inputs and Summary'!$B$4)*B66","v":-11.515173432825732},{"$f":"+M65*(1+'Inputs and Summary'!$B$4)*B66","v":-63.700036644616503},886.00489297327556,-11.326686551770356,-127.66751603216161,159.16543533143195,null,0,159.16543533143195,{"$f":"+'Inputs and Summary'!$B$5","v":0.35},-55.707902366001179,{"$f":"+ROUND($D$25*(1+'Inputs and Summary'!$B$4)^(A66-$D$27),0)*C66","v":0},0,null,103.45753296543077]
[2046,{"$f":"1*(SUM($B$33:B66)<$D$24)","v":1},null,2427524.5500000003,196.43582009784069,220.3131065191356,300.3405472222222,{"$f":"+H66*(1+'Inputs and Summary'!$B$4)","v":227.01843489391021},68.182840965569412,{"$f":"+J66*(1+'Inputs and Summary'!$B$4)*B67","v":17.364915995606612},-42.153759888022748,{"$f":"+L66*(1+'Inputs and Summary'!$B$4)*B67","v":-11.803052768646374},{"$f":"+M66*(1+'Inputs and Summary'!$B$4)*B67","v":-65.292537560731915},847.48294110487222,-10.834221919084687,-130.08357213648571,158.41237534821931,null,0,158.41237534821931,{"$f":"+'Inputs and Summary'!$B$5","v":0.35},-55.444331371876757,{"$f":"+ROUND($D$25*(1+'Inputs and Summary'!$B$4)^(A67-$D$27),0)*C67","v":0},0,null,102.96804397634256]
[2047,{"$f":"1*(SUM($B$33:B67)<$D$24)","v":1},null,2427524.5500000003,196.43582009784069,220.3131065191356,300.3405472222222,{"$f":"+H67*(1+'Inputs and Summary'!$B$4)","v":232.69389576625795},69.887411989708653,{"$f":"+J67*(1+'Inputs and Summary'!$B$4)*B68","v":17.799038895496775},-43.207603885223307,{"$f":"+L67*(1+'Inputs and Summary'!$B$4)*B68","v":-12.098129087862533},{"$f":"+M67*(1+'Inputs and Summary'!$B$4)*B68","v":-66.924850999750205},808.960989236469,-10.341757286399021,-132.57234125923506,157.62817724960919,null,0,157.62817724960919,{"$f":"+'Inputs and Summary'!$B$5","v":0.35},-55.169862037363217,{"$f":"+ROUND($D$25*(1+'Inputs and Summary'!$B$4)^(A68-$D$27),0)*C68","v":0},0,null,102.45831521224598]
[2048,{"$f":"1*(SUM($B$33:B68)<$D$24)","v":1},null,2427524.5500000003,196.43582009784069,220.3131065191356,300.3405472222222,{"$f":"+H68*(1+'Inputs and Summary'!$B$4)","v":238.51124316041438},71.634597289451349,{"$f":"+J68*(1+'Inputs and Summary'!$B$4)*B69","v":18.244014867884193},-44.28779398235389,{"$f":"+L68*(1+'Inputs and Summary'!$B$4)*B69","v":-12.400582315059095},{"$f":"+M68*(1+'Inputs and Summary'!$B$4)*B69","v":-68.597972274743952},770.43903736806578,-9.8492926537133538,-135.1356412258703,156.81206258271664,null,0,156.81206258271664,{"$f":"+'Inputs and Summary'!$B$5","v":0.35},-54.884221903950817,{"$f":"+ROUND($D$25*(1+'Inputs and Summary'!$B$4)^(A69-$D$27),0)*C69","v":0},0,null,101.92784067876582]
[2049,{"$f":"1*(SUM($B$33:B69)<$D$24)","v":1},null,2427524.5500000003,196.43582009784069,220.3131065191356,300.3405472222222,{"$f":"+H69*(1+'Inputs and Summary'!$B$4)","v":244.47402423942472},73.425462221687624,{"$f":"+J69*(1+'Inputs and Summary'!$B$4)*B70","v":18.700115239581297},-45.394988831912734,{"$f":"+L69*(1+'Inputs and Summary'!$B$4)*B70","v":-12.710596872935572},{"$f":"+M69*(1+'Inputs and Summary'!$B$4)*B70","v":-70.312921581612542},731.91708549966245,-9.3568280210276864,-137.77533530748855,155.96323343333466,null,0,155.96323343333466,{"$f":"+'Inputs and Summary'!$B$5","v":0.35},-54.587131701667133,{"$f":"+ROUND($D$25*(1+'Inputs and Summary'!$B$4)^(A70-$D$27),0)*C70","v":0},0,null,101.37610173166753]
[2050,{"$f":"1*(SUM($B$33:B70)<$D$24)","v":1},null,2427524.5500000003,{"$f":"+B71*$B$108/$D$31","v":196.43582009784069},{"$f":"+E71*$D$31","v":220.3131065191356},{"$f":"+B71*$D$8*$D$28","v":300.3405472222222},{"$f":"+H70*(1+'Inputs and Summary'!$B$4)","v":250.58587484541033},75.261098777229819,{"$f":"+J70*(1+'Inputs and Summary'!$B$4)*B71","v":19.167618120570829},-46.529863552710559,{"$f":"+L70*(1+'Inputs and Summary'!$B$4)*B71","v":-13.028361794758959},{"$f":"+M70*(1+'Inputs and Summary'!$B$4)*B71","v":-72.070744621152855},693.39513363125923,{"$f":"-N71*$D$33*$D$34*B71","v":-8.864363388342019},{"$f":"K71+L71+M71+O71","v":-140.49333335696437},{"$f":"+F71+I71+P71","v":155.08087193940108},null,{"$f":"-R71*$D$12","v":0},155.08087193940108,{"$f":"+'Inputs and Summary'!$B$5","v":0.35},-54.278305178790376,{"$f":"+ROUND($D$25*(1+'Inputs and Summary'!$B$4)^(A71-$D$27),0)*C71","v":0},0,null,100.8025667606107]
[2051,{"$f":"1*(SUM($B$33:B71)<$D$24)","v":1},null,2427524.5500000003,196.43582009784069,220.3131065191356,300.3405472222222,{"$f":"+H71*(1+'Inputs and Summary'!$B$4)","v":256.85052171654559},77.142626246660569,{"$f":"+J71*(1+'Inputs and Summary'!$B$4)*B72","v":19.646808573585098},{"$f":"-J72*D72/10^6","v":-47.693110141528308},{"$f":"+L71*(1+'Inputs and Summary'!$B$4)*B72","v":-13.354070839627932},{"$f":"+M71*(1+'Inputs and Summary'!$B$4)*B72","v":-73.872513236681669},{"$f":"$D$12*((1-$D$35)*(($D$24-(A72-$A$39))/$D$24)+$D$35)*B72","v":654.87318176285578},-8.3718987556563498,-143.29159297349426,154.16413979230188,null,0,154.16413979230188,{"$f":"+'Inputs and Summary'!$B$5","v":0.35},-53.957448927305656,{"$f":"+ROUND($D$25*(1+'Inputs and Summary'!$B$4)^(A72-$D$27),0)*C72","v":0},0,null,100.20669086499623]
[2052,{"$f":"1*(SUM($B$33:B72)<$D$24)","v":1},null,2427524.5500000003,196.43582009784069,220.3131065191356,300.3405472222222,{"$f":"+H72*(1+'Inputs and Summary'!$B$4)","v":263.27178475945919},79.071191902827081,{"$f":"+J72*(1+'Inputs and Summary'!$B$4)*B73","v":20.137978787924723},-48.885437895066516,{"$f":"+L72*(1+'Inputs and Summary'!$B$4)*B73","v":-13.687922610618628},{"$f":"+M72*(1+'Inputs and Summary'!$B$4)*B73","v":-75.719326067598701},616.35122989445256,-7.8794341229706824,-146.17212069625452,153.21217772570816,null,0,153.21217772570816,{"$f":"+'Inputs and Summary'!$B$5","v":0.35},-53.624262203997851,{"$f":"+ROUND($D$25*(1+'Inputs and Summary'!$B$4)^(A73-$D$27),0)*C73","v":0},0,null,99.5879155217103]
[2053,{"$f":"1*(SUM($B$33:B73)<$D$24)","v":1},null,2427524.5500000003,196.43582009784069,220.3131065191356,300.3405472222222,{"$f":"+H73*(1+'Inputs and Summary'!$B$4)","v":269.85357937844566},81.047971700397738,{"$f":"+J73*(1+'Inputs and Summary'!$B$4)*B74","v":20.641428257622838},-50.107573842443166,{"$f":"+L73*(1+'Inputs and Summary'!$B$4)*B74","v":-14.030120675884092},{"$f":"+M73*(1+'Inputs and Summary'!$B$4)*B74","v":-77.612309219288662},577.82927802604934,-7.3869694902850158,-149.13697322790097,152.22410499163237,null,0,152.22410499163237,{"$f":"+'Inputs and Summary'!$B$5","v":0.35},-53.278436747071325,{"$f":"+ROUND($D$25*(1+'Inputs and Summary'!$B$4)^(A74-$D$27),0)*C74","v":0},0,null,98.945668244561048]
[2054,{"$f":"1*(SUM($B$33:B74)<$D$24)","v":1},null,2427524.5500000003,196.43582009784069,220.3131065191356,300.3405472222222,{"$f":"+H74*(1+'Inputs and Summary'!$B$4)","v":276.5999188629068},83.074170992907696,{"$f":"+J74*(1+'Inputs and Summary'!$B$4)*B75","v":21.157463964063407},-51.360263188504241,{"$f":"+L74*(1+'Inputs and Summary'!$B$4)*B75","v":-14.380873692781194},{"$f":"+M74*(1+'Inputs and Summary'!$B$4)*B75","v":-79.552616949770865},539.307326157646,-6.8945048575993475,-152.18825868865562,151.19901882338766,null,0,151.19901882338766,{"$f":"+'Inputs and Summary'!$B$5","v":0.35},-52.919656588185681,{"$f":"+ROUND($D$25*(1+'Inputs and Summary'!$B$4)^(A75-$D$27),0)*C75","v":0},0,null,98.279362235201972]
[2055,{"$f":"1*(SUM($B$33:B75)<$D$24)","v":1},null,2427524.5500000003,196.43582009784069,220.3131065191356,300.3405472222222,{"$f":"+H75*(1+'Inputs and Summary'!$B$4)","v":283.51491683447944},85.151025267730361,{"$f":"+J75*(1+'Inputs and Summary'!$B$4)*B76","v":21.686400563164991},-52.644269768216851,{"$f":"+L75*(1+'Inputs and Summary'!$B$4)*B76","v":-14.740395535100722},{"$f":"+M75*(1+'Inputs and Summary'!$B$4)*B76","v":-81.541432373515136},500.78537428924272,-6.4020402249136801,-155.3281379017464,150.13599388511955,null,0,150.13599388511955,{"$f":"+'Inputs and Summary'!$B$5","v":0.35},-52.547597859791836,{"$f":"+ROUND($D$25*(1+'Inputs and Summary'!$B$4)^(A76-$D$27),0)*C76","v":0},0,null,97.588396025327711]
[2056,{"$f":"1*(SUM($B$33:B76)<$D$24)","v":1},null,2427524.5500000003,196.43582009784069,220.3131065191356,300.3405472222222,{"$f":"+H76*(1+'Inputs and Summary'!$B$4)","v":290.6027897553414},87.279800899423634,{"$f":"+J76*(1+'Inputs and Summary'!$B$4)*B77","v":22.228560577244114},-53.960376512422265,{"$f":"+L76*(1+'Inputs and Summary'!$B$4)*B77","v":-15.108905423478239},{"$f":"+M76*(1+'Inputs and Summary'!$B$4)*B77","v":-83.579968182853008},462.26342242083945,-5.9095755922280118,-158.55882571098152,149.03408170757768,null,0,149.03408170757768,{"$f":"+'Inputs and Summary'!$B$5","v":0.35},-52.161928597652185,{"$f":"+ROUND($D$25*(1+'Inputs and Summary'!$B$4)^(A77-$D$27),0)*C77","v":0},0,null,96.872153109925506]
[2057,{"$f":"1*(SUM($B$33:B77)<$D$24)","v":1},null,2427524.5500000003,196.43582009784069,220.3131065191356,300.3405472222222,{"$f":"+H77*(1+'Inputs and Summary'!$B$4)","v":297.86785949922489},89.4617959219092,{"$f":"+J77*(1+'Inputs and Summary'!$B$4)*B78","v":22.784274591675214},-55.30938592523281,{"$f":"+L77*(1+'Inputs and Summary'!$B$4)*B78","v":-15.486628059065193},{"$f":"+M77*(1+'Inputs and Summary'!$B$4)*B78","v":-85.669467387424319},423.74147055243617,-5.4171109595423443,-161.88259233126468,147.89231010978011,null,0,147.89231010978011,{"$f":"+'Inputs and Summary'!$B$5","v":0.35},-51.762308538423035,{"$f":"+ROUND($D$25*(1+'Inputs and Summary'!$B$4)^(A78-$D$27),0)*C78","v":0},0,null,96.13000157135707]
[2058,{"$f":"1*(SUM($B$33:B78)<$D$24)","v":1},null,2427524.5500000003,196.43582009784069,220.3131065191356,300.3405472222222,{"$f":"+H78*(1+'Inputs and Summary'!$B$4)","v":305.3145559867055},91.698340819956925,{"$f":"+J78*(1+'Inputs and Summary'!$B$4)*B79","v":23.353881456467093},-56.692120573363631,{"$f":"+L78*(1+'Inputs and Summary'!$B$4)*B79","v":-15.873793760541822},{"$f":"+M78*(1+'Inputs and Summary'!$B$4)*B79","v":-87.811204072109916},385.21951868403289,-4.9246463268566769,-165.30176473287204,146.70968260622047,null,0,146.70968260622047,{"$f":"+'Inputs and Summary'!$B$5","v":0.35},-51.348388912177164,{"$f":"+ROUND($D$25*(1+'Inputs and Summary'!$B$4)^(A79-$D$27),0)*C79","v":0},0,null,95.361293694043297]
[2059,{"$f":"1*(SUM($B$33:B79)<$D$24)","v":0},null,0,0,0,0,{"$f":"+H79*(1+'Inputs and Summary'!$B$4)","v":312.9474198863731},0,{"$f":"+J79*(1+'Inputs and Summary'!$B$4)*B80","v":0},0,{"$f":"+L79*(1+'Inputs and Summary'!$B$4)*B80","v":0},{"$f":"+M79*(1+'Inputs and Summary'!$B$4)*B80","v":0},0,0,0,0,null,0,0,{"$f":"+'Inputs and Summary'!$B$5","v":0.35},0,{"$f":"+ROUND($D$25*(1+'Inputs and Summary'!$B$4)^(A80-$D$27),0)*C80","v":0},0,null,0]
[2060,{"$f":"1*(SUM($B$33:B80)<$D$24)","v":0},null,0,0,0,0,{"$f":"+H80*(1+'Inputs and Summary'!$B$4)","v":320.77110538353242},0,{"$f":"+J80*(1+'Inputs and Summary'!$B$4)*B81","v":0},0,{"$f":"+L80*(1+'Inputs and Summary'!$B$4)*B81","v":0},{"$f":"+M80*(1+'Inputs and Summary'!$B$4)*B81","v":0},0,0,0,0,null,0,0,{"$f":"+'Inputs and Summary'!$B$5","v":0.35},0,{"$f":"+ROUND($D$25*(1+'Inputs and Summary'!$B$4)^(A81-$D$27),0)*C81","v":0},0,null,0]
[2061,{"$f":"1*(SUM($B$33:B81)<$D$24)","v":0},null,0,0,0,0,{"$f":"+H81*(1+'Inputs and Summary'!$B$4)","v":328.79038301812068},0,{"$f":"+J81*(1+'Inputs and Summary'!$B$4)*B82","v":0},0,{"$f":"+L81*(1+'Inputs and Summary'!$B$4)*B82","v":0},{"$f":"+M81*(1+'Inputs and Summary'!$B$4)*B82","v":0},0,0,0,0,null,0,0,{"$f":"+'Inputs and Summary'!$B$5","v":0.35},0,{"$f":"+ROUND($D$25*(1+'Inputs and Summary'!$B$4)^(A82-$D$27),0)*C82","v":0},0,null,0]
[2062,{"$f":"1*(SUM($B$33:B82)<$D$24)","v":0},null,0,0,0,0,{"$f":"+H82*(1+'Inputs and Summary'!$B$4)","v":337.01014259357368},0,{"$f":"+J82*(1+'Inputs and Summary'!$B$4)*B83","v":0},0,{"$f":"+L82*(1+'Inputs and Summary'!$B$4)*B83","v":0},{"$f":"+M82*(1+'Inputs and Summary'!$B$4)*B83","v":0},0,0,0,0,null,0,0,{"$f":"+'Inputs and Summary'!$B$5","v":0.35},0,{"$f":"+ROUND($D$25*(1+'Inputs and Summary'!$B$4)^(A83-$D$27),0)*C83","v":0},0,null,0]
[2063,{"$f":"1*(SUM($B$33:B83)<$D$24)","v":0},null,0,0,0,0,{"$f":"+H83*(1+'Inputs and Summary'!$B$4)","v":345.43539615841297},0,{"$f":"+J83*(1+'Inputs and Summary'!$B$4)*B84","v":0},0,{"$f":"+L83*(1+'Inputs and Summary'!$B$4)*B84","v":0},{"$f":"+M83*(1+'Inputs and Summary'!$B$4)*B84","v":0},0,0,0,0,null,0,0,{"$f":"+'Inputs and Summary'!$B$5","v":0.35},0,{"$f":"+ROUND($D$25*(1+'Inputs and Summary'!$B$4)^(A84-$D$27),0)*C84","v":0},0,null,0]
[2064,{"$f":"1*(SUM($B$33:B84)<$D$24)","v":0},null,0,0,0,0,{"$f":"+H84*(1+'Inputs and Summary'!$B$4)","v":354.07128106237326},0,{"$f":"+J84*(1+'Inputs and Summary'!$B$4)*B85","v":0},0,{"$f":"+L84*(1+'Inputs and Summary'!$B$4)*B85","v":0},{"$f":"+M84*(1+'Inputs and Summary'!$B$4)*B85","v":0},0,0,0,0,null,0,0,{"$f":"+'Inputs and Summary'!$B$5","v":0.35},0,{"$f":"+ROUND($D$25*(1+'Inputs and Summary'!$B$4)^(A85-$D$27),0)*C85","v":0},0,null,0]
[2065,{"$f":"1*(SUM($B$33:B85)<$D$24)","v":0},null,0,0,0,0,{"$f":"+H85*(1+'Inputs and Summary'!$B$4)","v":362.92306308893257},0,{"$f":"+J85*(1+'Inputs and Summary'!$B$4)*B86","v":0},0,{"$f":"+L85*(1+'Inputs and Summary'!$B$4)*B86","v":0},{"$f":"+M85*(1+'Inputs and Summary'!$B$4)*B86","v":0},0,0,0,0,null,0,0,{"$f":"+'Inputs and Summary'!$B$5","v":0.35},0,{"$f":"+ROUND($D$25*(1+'Inputs and Summary'!$B$4)^(A86-$D$27),0)*C86","v":0},0,null,0]
[2066,{"$f":"1*(SUM($B$33:B86)<$D$24)","v":0},null,0,0,0,0,{"$f":"+H86*(1+'Inputs and Summary'!$B$4)","v":371.99613966615584},0,{"$f":"+J86*(1+'Inputs and Summary'!$B$4)*B87","v":0},0,{"$f":"+L86*(1+'Inputs and Summary'!$B$4)*B87","v":0},{"$f":"+M86*(1+'Inputs and Summary'!$B$4)*B87","v":0},0,0,0,0,null,0,0,{"$f":"+'Inputs and Summary'!$B$5","v":0.35},0,{"$f":"+ROUND($D$25*(1+'Inputs and Summary'!$B$4)^(A87-$D$27),0)*C87","v":0},0,null,0]
[2067,{"$f":"1*(SUM($B$33:B87)<$D$24)","v":0},null,0,0,0,0,{"$f":"+H87*(1+'Inputs and Summary'!$B$4)","v":381.29604315780972},0,{"$f":"+J87*(1+'Inputs and Summary'!$B$4)*B88","v":0},0,{"$f":"+L87*(1+'Inputs and Summary'!$B$4)*B88","v":0},{"$f":"+M87*(1+'Inputs and Summary'!$B$4)*B88","v":0},0,0,0,0,null,0,0,{"$f":"+'Inputs and Summary'!$B$5","v":0.35},0,{"$f":"+ROUND($D$25*(1+'Inputs and Summary'!$B$4)^(A88-$D$27),0)*C88","v":0},0,null,0]
[2068,{"$f":"1*(SUM($B$33:B88)<$D$24)","v":0},null,0,0,0,0,{"$f":"+H88*(1+'Inputs and Summary'!$B$4)","v":390.82844423675493},0,{"$f":"+J88*(1+'Inputs and Summary'!$B$4)*B89","v":0},0,{"$f":"+L88*(1+'Inputs and Summary'!$B$4)*B89","v":0},{"$f":"+M88*(1+'Inputs and Summary'!$B$4)*B89","v":0},0,0,0,0,null,0,0,{"$f":"+'Inputs and Summary'!$B$5","v":0.35},0,{"$f":"+ROUND($D$25*(1+'Inputs and Summary'!$B$4)^(A89-$D$27),0)*C89","v":0},0,null,0]
[2069,{"$f":"1*(SUM($B$33:B89)<$D$24)","v":0},null,0,0,0,0,{"$f":"+H89*(1+'Inputs and Summary'!$B$4)","v":400.59915534267378},0,{"$f":"+J89*(1+'Inputs and Summary'!$B$4)*B90","v":0},0,{"$f":"+L89*(1+'Inputs and Summary'!$B$4)*B90","v":0},{"$f":"+M89*(1+'Inputs and Summary'!$B$4)*B90","v":0},0,0,0,0,null,0,0,{"$f":"+'Inputs and Summary'!$B$5","v":0.35},0,{"$f":"+ROUND($D$25*(1+'Inputs and Summary'!$B$4)^(A90-$D$27),0)*C90","v":0},0,null,0]
[2070,{"$f":"1*(SUM($B$33:B90)<$D$24)","v":0},null,0,0,0,0,{"$f":"+H90*(1+'Inputs and Summary'!$B$4)","v":410.61413422624059},0,{"$f":"+J90*(1+'Inputs and Summary'!$B$4)*B91","v":0},0,{"$f":"+L90*(1+'Inputs and Summary'!$B$4)*B91","v":0},{"$f":"+M90*(1+'Inputs and Summary'!$B$4)*B91","v":0},0,0,0,0,null,0,0,{"$f":"+'Inputs and Summary'!$B$5","v":0.35},0,{"$f":"+ROUND($D$25*(1+'Inputs and Summary'!$B$4)^(A91-$D$27),0)*C91","v":0},0,null,0]
["x","x",null,"x","x","x","x","x","x","x","x","x","x","x","x","x","x","x","x","x","x","x","x","x","x","x"]
[]
[]
[]
["Transmission Tariff Calculation"]
[]
["Expenses","NPV"]
["Capacity Revenue",{"$f":"NPV('Inputs and Summary'!$B$12,Nuclear!$I$39:$I$91)","v":532.06757841559647}]
["Total Expenses",{"$f":"NPV('Inputs and Summary'!$B$12,Nuclear!$P$39:$P$91)","v":-1143.8301642874958}]
["Capital Costs",{"$f":"NPV('Inputs and Summary'!$B$12,Nuclear!$Y$39:$Y$91)","v":-1786.9396668631932}]
["PTCs",{"$f":"NPV('Inputs and Summary'!$B$12,$X$39:$X$91)","v":206.72129589753524}]
["Tax Depreciation",{"$f":"-NPV('Inputs and Summary'!$B$12,Nuclear!$S$39:$S$91)*'Inputs and Summary'!$B$5","v":356.79901164419942}]
["Other Income Taxes",{"$f":"-(B100+B99)*'Inputs and Summary'!$B$5","v":214.11690505516475}]
[null,{"$f":"+SUM(B99:B104)","v":-1621.0650401381934}]
["Capitalization Factor",{"$f":"NPV('Inputs and Summary'!$B$12,Nuclear!$B$39:$B$91)","v":11.320008396234952}]
["Annual RR (After-tax)",{"$f":"-B105/B106","v":143.20351923743814}]
["Annual RR (Pre-tax)",{"$f":"+B107/(1-'Inputs and Summary'!$B$5)","v":220.3131065191356}]
[]
["LCOE($/MWh)",{"$f":"E40*10^6/(D40)","v":80.920219776084522}]

{"sheet":"Utility-scale Solar","index":7,"n_rows":103,"n_cols":22,"rows_kept":103,"cut":false,"hidden":false,"merged":[]}
["Utility-scale Solar Plant"]
["Name",null,null,"Utility-scale Solar"]
[]
["Utility-scale PV",null,null,null,"Source"]
["Energy Target (MWh/a)",null,null,{"$f":"'Oklahoma Wind + P&E'!E12","v":2427524.5500000003}]
["Capacity Factor (Utilization Rate)",null,null,{"$f":"'TOD Calc'!$P$30","v":0.19402887601598187},"TN PV info obtained from: http://rredc.nrel.gov/solar/calculators/PVWATTS/version1/"]
[]
["Size (MW)",null,null,{"$f":"+D5/(8766*D6)","v":1427.2360160308826}]
["Capital cost ($mm/MW)",null,null,{"$f":"3805/1000","v":3.8050000000000002},"http://www.eia.gov/forecasts/aeo/assumptions/pdf/electricity.pdf.  Table 8.2."]
["Regional Cost Adjustments",null,null,0.89,"http://www.eia.gov/forecasts/capitalcost/pdf/updated_capcost.pdf Table 4"]
["Inflation Factor",null,null,{"$f":"(1+'Inputs and Summary'!$B$4)^(A32-'Inputs and Summary'!$B$14)","v":1.1886857536682125}]
["Capital Cost ($mm)",null,null,{"$f":"+D8*D9*D10*D11","v":5745.2313550179224}]
[]
["Fixed O&M ($/kW)",null,null,{"$f":"21.37*D11","v":25.402214555889703},{"$f":"+E9","v":"http://www.eia.gov/forecasts/aeo/assumptions/pdf/electricity.pdf.  Table 8.2."}]
["Variable O&M ($/MWh)",null,null,0,{"$f":"+E9","v":"http://www.eia.gov/forecasts/aeo/assumptions/pdf/electricity.pdf.  Table 8.2."}]
[]
["Investment Tax Credit",null,null,0.3]
[]
["Property Tax",null,null,"below"]
["Tax depreciation",null,null,"5-year MACRS"]
[]
["Useful Life (Years)",null,null,25]
["Capacity Credit (%)",null,null,0.4,"http://www.nrel.gov/docs/fy06osti/40068.pdf",null,null,null,"assuming 2-axis tracking at 10% penetration levels"]
["TOD Adjustment",null,null,{"$f":"'TOD Calc'!$B$23","v":1.2518867446982418},"TN PV info obtained from: http://rredc.nrel.gov/solar/calculators/PVWATTS/version1/"]
[]
["Assessment Percentage on Solar Property in TN",null,null,0.125,"http://www.dsireusa.org/incentives/incentive.cfm?Incentive_Code=TN72F&re=0&ee=0"]
["Property Tax Rate",null,null,3.1960000000000002E-2,"https://www.comptroller.tn.gov/pa/LR.asp?W=13",null,null,null,"(average of all counties)"]
["Residual Value (% of Capital Cost)",null,null,0.2]
[]
[null,null,null,null,null,null,null,null,null,null,null,null,null,null,null,null,null,null,null,null,"IRR",{"$f":"IRR(V32:V84)","v":7.7875000000329875E-2}]
["Year","In-Service","Generation (MWh/a)","Revenue ($mm)","TOD-Adjusted Revenue ($mm)","Capacity Credit (MW)","Capacity Price ($k/MW-yr)","Capacity Revenue ($mm)","Variable O&M","Fixed O&M","Total Asset Value ($mm)","Property Tax","Total Expenses","EBITDA","Tax Depreciation (%)","Tax Depreciation","Taxable Income","Tax Rate","Cash Taxes","Investment Tax Credits ($mm)","Capital Costs","After-tax Cash Flow"]
[2018,0,null,{"$f":"+B32*$B$101/$D$24","v":0},{"$f":"+D32*$D$24","v":0},{"$f":"+B32*$D$8*$D$23","v":0},{"$f":"'Inputs and Summary'!$B$15*$D$11","v":113.70849051014754},{"$f":"+F32*G32/10^3","v":0},0,0,{"$f":"$D$12","v":5745.2313550179224},{"$f":"-K32*$D$26*$D$27*B32","v":0},{"$f":"+I32+J32+L32","v":0},{"$f":"+E32+H32+M32","v":0},null,{"$f":"-O32*($D$12-$T$32/2)","v":0},{"$f":"+N32+P32","v":0},{"$f":"+'Inputs and Summary'!$B$5","v":0.35},{"$f":"-Q32*R32","v":0},{"$f":"$D$17*$D$12","v":1723.5694065053767},{"$f":"-D12","v":-5745.2313550179224},{"$f":"+N32+S32+U32+T32","v":-4021.6619485125457}]
[{"$f":"+A32+1","v":2019},1,{"$f":"+D6*8766*D8","v":2427524.5500000003},279.79395893675536,350.27034843956818,570.89440641235308,{"$f":"+G32*(1+'Inputs and Summary'!$B$4)","v":116.55120277290122},{"$f":"+F33*G33/10^3","v":66.538429723681247},{"$f":"-C33*$D$15/10^6*B33","v":0},{"$f":"-$D$14*$D$8/1000","v":-36.25495550110972},{"$f":"$D$12*((1-$D$28)*(($D$22-(A33-$A$32))/$D$22)+$D$28)*B33","v":5561.3839516573489},-22.217728886871111,{"$f":"+I33+J33+L33","v":-58.472684387980834},358.33609377526858,0.2,-976.6893303530469,{"$f":"+N33+P33","v":-618.35323657777826},{"$f":"+'Inputs and Summary'!$B$5","v":0.35},{"$f":"-Q33*R33","v":216.42363280222239},0,null,{"$f":"+N33+S33+U33+T33","v":574.75972657749094}]
[{"$f":"+A33+1","v":2020},{"$f":"1*(SUM($B$26:B33)<$D$22)","v":1},{"$f":"+C33*B34","v":2427524.5500000003},279.79395893675536,350.27034843956818,570.89440641235308,{"$f":"+G33*(1+'Inputs and Summary'!$B$4)","v":119.46498284222373},{"$f":"+F34*G34/10^3","v":68.20189046677325},0,{"$f":"+J33*(1+'Inputs and Summary'!$B$4)*B34","v":-37.161329388637462},5377.5365482967763,-21.483258510445623,-58.644587899083085,359.82765100725834,0.32,-1562.702928564875,{"$f":"+N34+P34","v":-1202.8752775576168},{"$f":"+'Inputs and Summary'!$B$5","v":0.35},{"$f":"-Q34*R34","v":421.00634714516582},0,null,{"$f":"+N34+S34+U34+T34","v":780.8339981524241}]
[2021,{"$f":"1*(SUM($B$26:B34)<$D$22)","v":1},2427524.5500000003,279.79395893675536,350.27034843956818,570.89440641235308,{"$f":"+G34*(1+'Inputs and Summary'!$B$4)","v":122.45160741327932},69.906937728442585,0,{"$f":"+J34*(1+'Inputs and Summary'!$B$4)*B35","v":-38.090362623353393},5193.6891449362029,-20.748788134020131,-58.839150757373524,361.33813541063722,0.192,-937.62175713892509,{"$f":"+N35+P35","v":-576.28362172828793},{"$f":"+'Inputs and Summary'!$B$5","v":0.35},201.69926760490077,0,null,{"$f":"+N35+S35+U35+T35","v":563.03740301553796}]
[2022,{"$f":"1*(SUM($B$26:B35)<$D$22)","v":1},2427524.5500000003,279.79395893675536,350.27034843956818,570.89440641235308,{"$f":"+G35*(1+'Inputs and Summary'!$B$4)","v":125.51289759861129},71.654611171653656,0,{"$f":"+J35*(1+'Inputs and Summary'!$B$4)*B36","v":-39.042621688937224},5009.8417415756294,-20.01431775759464,-59.056939446531864,362.86802016468994,0.1152,-562.57305428335496,{"$f":"+N36+P36","v":-199.70503411866503},{"$f":"+'Inputs and Summary'!$B$5","v":0.35},69.896761941532759,0,null,432.7647821062227]
[2023,{"$f":"1*(SUM($B$26:B36)<$D$22)","v":1},2427524.5500000003,279.79395893675536,350.27034843956818,570.89440641235308,{"$f":"+G36*(1+'Inputs and Summary'!$B$4)","v":128.65072003857657},73.445976450944983,0,{"$f":"+J36*(1+'Inputs and Summary'!$B$4)*B37","v":-40.018687231160648},4825.994338215055,-19.279847381169144,-59.298534612329789,364.41779027818342,0.1152,-562.57305428335496,{"$f":"+N37+P37","v":-198.15526400517155},{"$f":"+'Inputs and Summary'!$B$5","v":0.35},69.35434240181003,0,null,433.77213267999343]
[2024,{"$f":"1*(SUM($B$26:B37)<$D$22)","v":1},2427524.5500000003,279.79395893675536,350.27034843956818,570.89440641235308,{"$f":"+G37*(1+'Inputs and Summary'!$B$4)","v":131.86698803954096},75.282125862218606,0,{"$f":"+J37*(1+'Inputs and Summary'!$B$4)*B38","v":-41.01915441193966},4642.1469348544815,-18.545377004743656,-59.564531416683316,365.98794288510345,5.7600000000000096E-2,-281.28652714167799,84.701415743425457,{"$f":"+'Inputs and Summary'!$B$5","v":0.35},-29.645495510198909,0,null,336.34244737490457]
[2025,{"$f":"1*(SUM($B$26:B38)<$D$22)","v":1},2427524.5500000003,279.79395893675536,350.27034843956818,570.89440641235308,{"$f":"+G38*(1+'Inputs and Summary'!$B$4)","v":135.16366274052947},77.164179008774056,0,{"$f":"+J38*(1+'Inputs and Summary'!$B$4)*B39","v":-42.044633272238144},4458.299531493908,-17.810906628318165,-59.855539900556309,367.57898754778591,null,0,367.57898754778591,{"$f":"+'Inputs and Summary'!$B$5","v":0.35},-128.65264564172506,0,null,238.92634190606086]
[2026,{"$f":"1*(SUM($B$26:B39)<$D$22)","v":1},2427524.5500000003,279.79395893675536,350.27034843956818,570.89440641235308,{"$f":"+G39*(1+'Inputs and Summary'!$B$4)","v":138.54275430904269},79.093283483993389,0,{"$f":"+J39*(1+'Inputs and Summary'!$B$4)*B40","v":-43.095749104044096},4274.4521281333346,-17.076436251892673,-60.172185355936769,369.19144656762478,null,0,369.19144656762478,{"$f":"+'Inputs and Summary'!$B$5","v":0.35},-129.21700629866868,0,null,239.9744402689561]
[2027,{"$f":"1*(SUM($B$26:B40)<$D$22)","v":1},2427524.5500000003,279.79395893675536,350.27034843956818,570.89440641235308,{"$f":"+G40*(1+'Inputs and Summary'!$B$4)","v":142.00632316676874},81.070615571093228,0,{"$f":"+J40*(1+'Inputs and Summary'!$B$4)*B41","v":-44.173142831645194},4090.6047247727606,-16.341965875467181,-60.515108707112375,370.82585530354902,null,0,370.82585530354902,{"$f":"+'Inputs and Summary'!$B$5","v":0.35},-129.78904935624215,0,null,241.03680594730687]
[2028,{"$f":"1*(SUM($B$26:B41)<$D$22)","v":1},2427524.5500000003,279.79395893675536,350.27034843956818,570.89440641235308,{"$f":"+G41*(1+'Inputs and Summary'!$B$4)","v":145.55648124593793},83.097380960370543,0,{"$f":"+J41*(1+'Inputs and Summary'!$B$4)*B42","v":-45.277471402436319},3906.7573214121867,-15.607495499041686,-60.884966901478009,372.48276249846072,null,0,372.48276249846072,{"$f":"+'Inputs and Summary'!$B$5","v":0.35},-130.36896687446125,0,null,242.11379562399947]
[2029,{"$f":"1*(SUM($B$26:B42)<$D$22)","v":1},2427524.5500000003,279.79395893675536,350.27034843956818,570.89440641235308,{"$f":"+G42*(1+'Inputs and Summary'!$B$4)","v":149.19539327708637},85.174815484379792,0,{"$f":"+J42*(1+'Inputs and Summary'!$B$4)*B43","v":-46.40940818749722},3722.9099180516146,-14.873025122616202,-61.282433310113419,374.16273061383458,null,0,374.16273061383458,{"$f":"+'Inputs and Summary'!$B$5","v":0.35},-130.95695571484211,0,null,243.20577489899247]
[2030,{"$f":"1*(SUM($B$26:B43)<$D$22)","v":1},2427524.5500000003,279.79395893675536,350.27034843956818,570.89440641235308,{"$f":"+G43*(1+'Inputs and Summary'!$B$4)","v":152.9252781090135},87.304185871489267,0,{"$f":"+J43*(1+'Inputs and Summary'!$B$4)*B44","v":-47.569643392184645},3539.0625146910406,-14.138554746190708,-61.708198138375352,375.86633617268211,null,0,375.86633617268211,{"$f":"+'Inputs and Summary'!$B$5","v":0.35},-131.55321766043872,0,null,244.31311851224339]
[2031,{"$f":"1*(SUM($B$26:B44)<$D$22)","v":1},2427524.5500000003,279.79395893675536,350.27034843956818,570.89440641235308,{"$f":"+G44*(1+'Inputs and Summary'!$B$4)","v":156.74841006173884},89.486790518276507,0,{"$f":"+J44*(1+'Inputs and Summary'!$B$4)*B45","v":-48.758884476989259},3355.2151113304672,-13.404084369765217,-62.162968846754474,377.59417011109019,null,0,377.59417011109019,{"$f":"+'Inputs and Summary'!$B$5","v":0.35},-132.15795953888156,0,null,245.43621057220864]
[2032,{"$f":"1*(SUM($B$26:B45)<$D$22)","v":1},2427524.5500000003,279.79395893675536,350.27034843956818,570.89440641235308,{"$f":"+G45*(1+'Inputs and Summary'!$B$4)","v":160.66712031328228},91.723960281233403,0,{"$f":"+J45*(1+'Inputs and Summary'!$B$4)*B46","v":-49.977856588913987},3171.3677079698932,-12.669613993339725,-62.64747058225371,379.34683813854787,null,0,379.34683813854787,{"$f":"+'Inputs and Summary'!$B$5","v":0.35},-132.77139334849176,0,null,246.57544479005611]
[2033,{"$f":"1*(SUM($B$26:B46)<$D$22)","v":1},2427524.5500000003,279.79395893675536,350.27034843956818,570.89440641235308,{"$f":"+G46*(1+'Inputs and Summary'!$B$4)","v":164.68379832111432},94.017059288264221,0,{"$f":"+J46*(1+'Inputs and Summary'!$B$4)*B47","v":-51.227303003636834},2987.5203046093197,-11.935143616914234,-63.162446620551066,381.12496110728131,null,0,381.12496110728131,{"$f":"+'Inputs and Summary'!$B$5","v":0.35},-133.39373638754844,0,null,247.73122471973286]
[2034,{"$f":"1*(SUM($B$26:B47)<$D$22)","v":1},2427524.5500000003,279.79395893675536,350.27034843956818,570.89440641235308,{"$f":"+G47*(1+'Inputs and Summary'!$B$4)","v":168.80089327914217},96.367485770470822,0,{"$f":"+J47*(1+'Inputs and Summary'!$B$4)*B48","v":-52.507985578727748},2803.6729012487463,-11.200673240488742,-63.708658819216488,382.92917539082248,null,0,382.92917539082248,{"$f":"+'Inputs and Summary'!$B$5","v":0.35},-134.02521138678787,0,null,248.90396400403461]
[2035,{"$f":"1*(SUM($B$26:B48)<$D$22)","v":1},2427524.5500000003,279.79395893675536,350.27034843956818,570.89440641235308,{"$f":"+G48*(1+'Inputs and Summary'!$B$4)","v":173.0209156111207},98.776672914732586,0,{"$f":"+J48*(1+'Inputs and Summary'!$B$4)*B49","v":-53.820685218195941},2619.8254978881728,-10.46620286406325,-64.286888082259196,384.76013327204157,null,0,384.76013327204157,{"$f":"+'Inputs and Summary'!$B$5","v":0.35},-134.66604664521455,0,null,250.09408662682702]
[2036,{"$f":"1*(SUM($B$26:B49)<$D$22)","v":1},2427524.5500000003,279.79395893675536,350.27034843956818,570.89440641235308,{"$f":"+G49*(1+'Inputs and Summary'!$B$4)","v":177.34643850139869},101.2460897376009,0,{"$f":"+J49*(1+'Inputs and Summary'!$B$4)*B50","v":-55.166202348650835},2435.9780945275993,-9.7317324876377604,-64.897934836288599,386.61850334088052,null,0,386.61850334088052,{"$f":"+'Inputs and Summary'!$B$5","v":0.35},-135.31647616930817,0,null,251.30202717157235]
[2037,{"$f":"1*(SUM($B$26:B50)<$D$22)","v":1},2427524.5500000003,279.79395893675536,350.27034843956818,570.89440641235308,{"$f":"+G50*(1+'Inputs and Summary'!$B$4)","v":181.78009946393365},103.7772419810409,0,{"$f":"+J50*(1+'Inputs and Summary'!$B$4)*B51","v":-56.545357407367099},2252.1306911670258,-8.9972621112122688,-65.542619518579372,388.5049709020297,null,0,388.5049709020297,{"$f":"+'Inputs and Summary'!$B$5","v":0.35},-135.97673981571037,0,null,252.52823108631932]
[2038,{"$f":"1*(SUM($B$26:B51)<$D$22)","v":1},2427524.5500000003,279.79395893675536,350.27034843956818,570.89440641235308,{"$f":"+G51*(1+'Inputs and Summary'!$B$4)","v":186.32460195053199},106.37167303056692,0,{"$f":"+J51*(1+'Inputs and Summary'!$B$4)*B52","v":-57.958991342551272},2068.2832878064523,-8.2627917347867772,-66.221783077338046,390.42023839279705,null,0,390.42023839279705,{"$f":"+'Inputs and Summary'!$B$5","v":0.35},-136.64708343747895,0,null,253.77315495531809]
[2039,{"$f":"1*(SUM($B$26:B52)<$D$22)","v":1},2427524.5500000003,279.79395893675536,350.27034843956818,570.89440641235308,{"$f":"+G52*(1+'Inputs and Summary'!$B$4)","v":190.98271699929526},109.03096485633108,0,{"$f":"+J52*(1+'Inputs and Summary'!$B$4)*B53","v":-59.407966126115049},1884.4358844458786,-7.5283213583612856,-66.936287484476338,392.36502581142292,null,0,392.36502581142292,{"$f":"+'Inputs and Summary'!$B$5","v":0.35},-137.32775903399801,0,null,255.03726677742492]
[2040,{"$f":"1*(SUM($B$26:B53)<$D$22)","v":1},2427524.5500000003,279.79395893675536,350.27034843956818,570.89440641235308,{"$f":"+G53*(1+'Inputs and Summary'!$B$4)","v":195.75728492427763},111.75673897773936,0,{"$f":"+J53*(1+'Inputs and Summary'!$B$4)*B54","v":-60.893165279267919},1700.5884810853054,-6.7938509819357957,-67.687016261203709,394.34007115610382,null,0,394.34007115610382,{"$f":"+'Inputs and Summary'!$B$5","v":0.35},-138.01902490463632,0,null,256.32104625146746]
[2041,{"$f":"1*(SUM($B$26:B54)<$D$22)","v":1},2427524.5500000003,279.79395893675536,350.27034843956818,570.89440641235308,{"$f":"+G54*(1+'Inputs and Summary'!$B$4)","v":200.65121704738456},114.55065745218283,0,{"$f":"+J54*(1+'Inputs and Summary'!$B$4)*B55","v":-62.415494411249611},1516.7410777247317,-6.0593806055103032,-68.47487501675991,396.3461308749911,null,0,396.3461308749911,{"$f":"+'Inputs and Summary'!$B$5","v":0.35},-138.72114580624688,0,null,257.62498506874419]
[2042,{"$f":"1*(SUM($B$26:B55)<$D$22)","v":1},2427524.5500000003,279.79395893675536,350.27034843956818,570.89440641235308,{"$f":"+G55*(1+'Inputs and Summary'!$B$4)","v":205.66749747356917},117.41442388848739,0,{"$f":"+J55*(1+'Inputs and Summary'!$B$4)*B56","v":-63.975881771530844},1332.893674364158,-5.3249102290848116,-69.300792000615658,398.38398032743993,null,0,398.38398032743993,{"$f":"+'Inputs and Summary'!$B$5","v":0.35},-139.43439311460398,0,null,258.94958721283592]
[2043,{"$f":"1*(SUM($B$26:B56)<$D$22)","v":1},2427524.5500000003,279.79395893675536,350.27034843956818,570.89440641235308,{"$f":"+G56*(1+'Inputs and Summary'!$B$4)","v":210.80918491040839},120.34978448569959,0,{"$f":"+J56*(1+'Inputs and Summary'!$B$4)*B57","v":-65.575278815819104},1149.0462710035845,-4.59043985265932,-70.165718668478419,400.45441425678933,null,0,400.45441425678933,{"$f":"+'Inputs and Summary'!$B$5","v":0.35},-140.15904498987626,0,null,260.2953692669131]
[2044,{"$f":"1*(SUM($B$26:B57)<$D$22)","v":0},0,0,0,0,{"$f":"+G57*(1+'Inputs and Summary'!$B$4)","v":216.07941453316857},0,0,{"$f":"+J57*(1+'Inputs and Summary'!$B$4)*B58","v":0},0,0,0,0,null,0,0,{"$f":"+'Inputs and Summary'!$B$5","v":0.35},0,0,null,0]
[2045,{"$f":"1*(SUM($B$26:B58)<$D$22)","v":0},0,0,0,0,{"$f":"+G58*(1+'Inputs and Summary'!$B$4)","v":221.48139989649778},0,0,{"$f":"+J58*(1+'Inputs and Summary'!$B$4)*B59","v":0},0,0,0,0,null,0,0,{"$f":"+'Inputs and Summary'!$B$5","v":0.35},0,0,null,0]
[2046,{"$f":"1*(SUM($B$26:B59)<$D$22)","v":0},0,0,0,0,{"$f":"+G59*(1+'Inputs and Summary'!$B$4)","v":227.01843489391021},0,0,{"$f":"+J59*(1+'Inputs and Summary'!$B$4)*B60","v":0},0,0,0,0,null,0,0,{"$f":"+'Inputs and Summary'!$B$5","v":0.35},0,0,null,0]
[2047,{"$f":"1*(SUM($B$26:B60)<$D$22)","v":0},0,0,0,0,{"$f":"+G60*(1+'Inputs and Summary'!$B$4)","v":232.69389576625795},0,0,{"$f":"+J60*(1+'Inputs and Summary'!$B$4)*B61","v":0},0,0,0,0,null,0,0,{"$f":"+'Inputs and Summary'!$B$5","v":0.35},0,0,null,0]
[2048,{"$f":"1*(SUM($B$26:B61)<$D$22)","v":0},0,0,0,0,{"$f":"+G61*(1+'Inputs and Summary'!$B$4)","v":238.51124316041438},0,0,{"$f":"+J61*(1+'Inputs and Summary'!$B$4)*B62","v":0},0,0,0,0,null,0,0,{"$f":"+'Inputs and Summary'!$B$5","v":0.35},0,0,null,0]
[2049,{"$f":"1*(SUM($B$26:B62)<$D$22)","v":0},0,0,0,0,{"$f":"+G62*(1+'Inputs and Summary'!$B$4)","v":244.47402423942472},0,0,{"$f":"+J62*(1+'Inputs and Summary'!$B$4)*B63","v":0},0,0,0,0,null,0,0,{"$f":"+'Inputs and Summary'!$B$5","v":0.35},0,0,null,0]
[2050,{"$f":"1*(SUM($B$26:B63)<$D$22)","v":0},0,{"$f":"+B64*$B$101/$D$24","v":0},{"$f":"+D64*$D$24","v":0},{"$f":"+B64*$D$8*$D$23","v":0},{"$f":"+G63*(1+'Inputs and Summary'!$B$4)","v":250.58587484541033},0,0,{"$f":"+J63*(1+'Inputs and Summary'!$B$4)*B64","v":0},0,{"$f":"-K64*$D$26*$D$27*B64","v":0},0,{"$f":"+E64+H64+M64","v":0},null,{"$f":"-O64*($D$12-$T$32/2)","v":0},0,{"$f":"+'Inputs and Summary'!$B$5","v":0.35},0,0,null,0]
[2051,{"$f":"1*(SUM($B$26:B64)<$D$22)","v":0},0,0,0,0,{"$f":"+G64*(1+'Inputs and Summary'!$B$4)","v":256.85052171654559},0,{"$f":"-C65*$D$15/10^6*B65","v":0},{"$f":"+J64*(1+'Inputs and Summary'!$B$4)*B65","v":0},{"$f":"$D$12*((1-$D$28)*(($D$22-(A65-$A$32))/$D$22)+$D$28)*B65","v":0},0,0,0,null,0,0,{"$f":"+'Inputs and Summary'!$B$5","v":0.35},0,0,null,0]
[2052,{"$f":"1*(SUM($B$26:B65)<$D$22)","v":0},0,0,0,0,{"$f":"+G65*(1+'Inputs and Summary'!$B$4)","v":263.27178475945919},0,0,{"$f":"+J65*(1+'Inputs and Summary'!$B$4)*B66","v":0},0,0,0,0,null,0,0,{"$f":"+'Inputs and Summary'!$B$5","v":0.35},0,0,null,0]
[2053,{"$f":"1*(SUM($B$26:B66)<$D$22)","v":0},0,0,0,0,{"$f":"+G66*(1+'Inputs and Summary'!$B$4)","v":269.85357937844566},0,0,{"$f":"+J66*(1+'Inputs and Summary'!$B$4)*B67","v":0},0,0,0,0,null,0,0,{"$f":"+'Inputs and Summary'!$B$5","v":0.35},0,0,null,0]
[2054,{"$f":"1*(SUM($B$26:B67)<$D$22)","v":0},0,0,0,0,{"$f":"+G67*(1+'Inputs and Summary'!$B$4)","v":276.5999188629068},0,0,{"$f":"+J67*(1+'Inputs and Summary'!$B$4)*B68","v":0},0,0,0,0,null,0,0,{"$f":"+'Inputs and Summary'!$B$5","v":0.35},0,0,null,0]
[2055,{"$f":"1*(SUM($B$26:B68)<$D$22)","v":0},0,0,0,0,{"$f":"+G68*(1+'Inputs and Summary'!$B$4)","v":283.51491683447944},0,0,{"$f":"+J68*(1+'Inputs and Summary'!$B$4)*B69","v":0},0,0,0,0,null,0,0,{"$f":"+'Inputs and Summary'!$B$5","v":0.35},0,0,null,0]
[2056,{"$f":"1*(SUM($B$26:B69)<$D$22)","v":0},0,0,0,0,{"$f":"+G69*(1+'Inputs and Summary'!$B$4)","v":290.6027897553414},0,0,{"$f":"+J69*(1+'Inputs and Summary'!$B$4)*B70","v":0},0,0,0,0,null,0,0,{"$f":"+'Inputs and Summary'!$B$5","v":0.35},0,0,null,0]
[2057,{"$f":"1*(SUM($B$26:B70)<$D$22)","v":0},0,0,0,0,{"$f":"+G70*(1+'Inputs and Summary'!$B$4)","v":297.86785949922489},0,0,{"$f":"+J70*(1+'Inputs and Summary'!$B$4)*B71","v":0},0,0,0,0,null,0,0,{"$f":"+'Inputs and Summary'!$B$5","v":0.35},0,0,null,0]
[2058,{"$f":"1*(SUM($B$26:B71)<$D$22)","v":0},0,0,0,0,{"$f":"+G71*(1+'Inputs and Summary'!$B$4)","v":305.3145559867055},0,0,{"$f":"+J71*(1+'Inputs and Summary'!$B$4)*B72","v":0},0,0,0,0,null,0,0,{"$f":"+'Inputs and Summary'!$B$5","v":0.35},0,0,null,0]
[2059,{"$f":"1*(SUM($B$26:B72)<$D$22)","v":0},0,0,0,0,{"$f":"+G72*(1+'Inputs and Summary'!$B$4)","v":312.9474198863731},0,0,{"$f":"+J72*(1+'Inputs and Summary'!$B$4)*B73","v":0},0,0,0,0,null,0,0,{"$f":"+'Inputs and Summary'!$B$5","v":0.35},0,0,null,0]
[2060,{"$f":"1*(SUM($B$26:B73)<$D$22)","v":0},0,0,0,0,{"$f":"+G73*(1+'Inputs and Summary'!$B$4)","v":320.77110538353242},0,0,{"$f":"+J73*(1+'Inputs and Summary'!$B$4)*B74","v":0},0,0,0,0,null,0,0,{"$f":"+'Inputs and Summary'!$B$5","v":0.35},0,0,null,0]
[2061,{"$f":"1*(SUM($B$26:B74)<$D$22)","v":0},0,0,0,0,{"$f":"+G74*(1+'Inputs and Summary'!$B$4)","v":328.79038301812068},0,0,{"$f":"+J74*(1+'Inputs and Summary'!$B$4)*B75","v":0},0,0,0,0,null,0,0,{"$f":"+'Inputs and Summary'!$B$5","v":0.35},0,0,null,0]
[2062,{"$f":"1*(SUM($B$26:B75)<$D$22)","v":0},0,0,0,0,{"$f":"+G75*(1+'Inputs and Summary'!$B$4)","v":337.01014259357368},0,0,{"$f":"+J75*(1+'Inputs and Summary'!$B$4)*B76","v":0},0,0,0,0,null,0,0,{"$f":"+'Inputs and Summary'!$B$5","v":0.35},0,0,null,0]
[2063,{"$f":"1*(SUM($B$26:B76)<$D$22)","v":0},0,0,0,0,{"$f":"+G76*(1+'Inputs and Summary'!$B$4)","v":345.43539615841297},0,0,{"$f":"+J76*(1+'Inputs and Summary'!$B$4)*B77","v":0},0,0,0,0,null,0,0,{"$f":"+'Inputs and Summary'!$B$5","v":0.35},0,0,null,0]
[2064,{"$f":"1*(SUM($B$26:B77)<$D$22)","v":0},0,0,0,0,{"$f":"+G77*(1+'Inputs and Summary'!$B$4)","v":354.07128106237326},0,0,{"$f":"+J77*(1+'Inputs and Summary'!$B$4)*B78","v":0},0,0,0,0,null,0,0,{"$f":"+'Inputs and Summary'!$B$5","v":0.35},0,0,null,0]
[2065,{"$f":"1*(SUM($B$26:B78)<$D$22)","v":0},0,0,0,0,{"$f":"+G78*(1+'Inputs and Summary'!$B$4)","v":362.92306308893257},0,0,{"$f":"+J78*(1+'Inputs and Summary'!$B$4)*B79","v":0},0,0,0,0,null,0,0,{"$f":"+'Inputs and Summary'!$B$5","v":0.35},0,0,null,0]
[2066,{"$f":"1*(SUM($B$26:B79)<$D$22)","v":0},0,0,0,0,{"$f":"+G79*(1+'Inputs and Summary'!$B$4)","v":371.99613966615584},0,0,{"$f":"+J79*(1+'Inputs and Summary'!$B$4)*B80","v":0},0,0,0,0,null,0,0,{"$f":"+'Inputs and Summary'!$B$5","v":0.35},0,0,null,0]
[2067,{"$f":"1*(SUM($B$26:B80)<$D$22)","v":0},0,0,0,0,{"$f":"+G80*(1+'Inputs and Summary'!$B$4)","v":381.29604315780972},0,0,{"$f":"+J80*(1+'Inputs and Summary'!$B$4)*B81","v":0},0,0,0,0,null,0,0,{"$f":"+'Inputs and Summary'!$B$5","v":0.35},0,0,null,0]
[2068,{"$f":"1*(SUM($B$26:B81)<$D$22)","v":0},0,0,0,0,{"$f":"+G81*(1+'Inputs and Summary'!$B$4)","v":390.82844423675493},0,0,{"$f":"+J81*(1+'Inputs and Summary'!$B$4)*B82","v":0},0,0,0,0,null,0,0,{"$f":"+'Inputs and Summary'!$B$5","v":0.35},0,0,null,0]
[2069,{"$f":"1*(SUM($B$26:B82)<$D$22)","v":0},0,0,0,0,{"$f":"+G82*(1+'Inputs and Summary'!$B$4)","v":400.59915534267378},0,0,{"$f":"+J82*(1+'Inputs and Summary'!$B$4)*B83","v":0},0,0,0,0,null,0,0,{"$f":"+'Inputs and Summary'!$B$5","v":0.35},0,0,null,0]
[2070,{"$f":"1*(SUM($B$26:B83)<$D$22)","v":0},0,0,0,0,{"$f":"+G83*(1+'Inputs and Summary'!$B$4)","v":410.61413422624059},0,0,{"$f":"+J83*(1+'Inputs and Summary'!$B$4)*B84","v":0},0,0,0,0,null,0,0,{"$f":"+'Inputs and Summary'!$B$5","v":0.35},0,0,null,0]
["x","x","x","x","x","x","x","x","x","x","x","x","x","x","x","x","x","x","x","x","x","x"]
[]
[]
[]
["Transmission Tariff Calculation"]
[]
["Expenses","NPV"]
["Capacity Revenue",{"$f":"NPV('Inputs and Summary'!$B$12,'Utility-scale Solar'!$H$32:$H$84)","v":835.48981944164257}]
["Total Expenses",{"$f":"NPV('Inputs and Summary'!$B$12,'Utility-scale Solar'!$M$32:$M$84)","v":-617.75154096435324}]
["Capital Costs",{"$f":"NPV('Inputs and Summary'!$B$12,'Utility-scale Solar'!$U$32:$U$84)","v":-5330.1462182701362}]
["ITC",{"$f":"NPV('Inputs and Summary'!$B$12,'Utility-scale Solar'!$T$32:$T$84)","v":1599.0438654810407}]
["Tax Depreciation",{"$f":"-NPV('Inputs and Summary'!$B$12,'Utility-scale Solar'!$P$32:$P$84)*'Inputs and Summary'!$B$5","v":1293.2390907850231}]
["Other Income Taxes",{"$f":"-(B93+B92)*'Inputs and Summary'!$B$5","v":-76.208397467051256}]
[null,{"$f":"+SUM(B92:B97)","v":-2296.3333809938349}]
["Capitalization Factor",{"$f":"NPV('Inputs and Summary'!$B$12,'Utility-scale Solar'!$B$32:$B$84)","v":10.085982447223548}]
["Annual RR (After-tax)",{"$f":"-B98/B99","v":227.67572648571934}]
["Annual RR (Pre-tax)",{"$f":"+B100/(1-'Inputs and Summary'!$B$5)","v":350.27034843956818}]
[]
["LCOE($/MWh)",{"$f":"D33*10^6/(C33)","v":115.25896161863959}]

{"sheet":"Tennessee Wind","index":8,"n_rows":99,"n_cols":24,"rows_kept":99,"cut":false,"hidden":false,"merged":[]}
["Tennessee Wind"]
["Name",null,null,"Tennessee Wind"]
[]
["Tennessee Wind",null,null,null,"Source"]
["Energy Target (MWh/a)",null,null,{"$f":"'Oklahoma Wind + P&E'!E12","v":2427524.5500000003}]
[]
["Size (MW)",null,null,{"$f":"+D5/(8766*'Inputs and Summary'!B24/100)","v":923.08333333333337}]
["Capital cost (2012 $mm/MW)",null,null,2.2000000000000002,"LBL: 2012 Wind Technologies Market Report",null,null,null,"includes regional cost adjustments"]
["Capital Cost (2011 $mm)",null,null,{"$f":"+D7*D8/(1+'Inputs and Summary'!$B$4)","v":1981.2520325203257}]
[]
["O&M (2012 $/MWh)",null,null,{"$f":"7.5*(1+'Inputs and Summary'!$B$4)^(A27-'Inputs and Summary'!$B$14)/(1+'Inputs and Summary'!$B$4)","v":8.6977006365966769},{"$f":"E8","v":"LBL: 2012 Wind Technologies Market Report"}]
["O&M Escalation (on top of inflation)",null,null,0.01]
["Property Tax",null,null,"below"]
["Tax depreciation",null,null,"5-year MACRS"]
[]
["Useful Life (Years)",null,null,25]
["PTC Base Year",null,null,2014]
["TOD Adjustment",null,null,{"$f":"'TOD Calc'!$B$20","v":1.0628077149709632}]
["Capacity Credit (%)",null,null,{"$f":"'Oklahoma Wind'!$D$16*'Inputs and Summary'!$B$24/'Inputs and Summary'!$B$23","v":0.1934819897084048},"Scaling with OK wind capacity factor"]
[]
["Assessment Percentage on Wind Property in TN",null,null,0.33,"http://www.dsireusa.org/incentives/incentive.cfm?Incentive_Code=TN72F&re=0&ee=0"]
["Property Tax Rate",null,null,3.1960000000000002E-2,"https://www.comptroller.tn.gov/pa/LR.asp?W=13",null,null,null,"(average of all counties)"]
["Residual Value (% of Capital Cost)",null,null,0.2]
[]
[null,null,null,null,null,null,null,null,null,null,null,null,null,null,null,null,null,null,null,null,null,null,"IRR",{"$f":"IRR(X27:X79)","v":7.7875000000068972E-2}]
["Year","In-Service","PTC Eligible","Generation (MWh/a)","PTC Eligible Generation (MWh/a)","Revenue ($mm)","TOD-Adjusted Revenue ($mm)","Capacity Credit (MW)","Capacity Price ($k/MW-yr)","Capacity Revenue ($mm)","Expenses ($mm)","Total Asset Value ($mm)","Property Tax","Total Expenses","EBITDA","Tax Depreciation (%)","Tax Depreciation","Taxable Income","Tax Rate","Cash Taxes","Production Tax Credit Value ($/MWh)","Production Tax Credits ($mm)","Capital Costs","After-tax Cash Flow"]
[2018,0,null,null,null,{"$f":"+B27*$B$97/$D$18","v":0},{"$f":"F27*$D$18","v":0},{"$f":"B27*$D$7*$D$19","v":0},{"$f":"'Inputs and Summary'!$B$15*(1+'Inputs and Summary'!$B$4)^(A27-'Inputs and Summary'!$B$14)","v":113.70849051014754},{"$f":"+H27*I27/10^3","v":0},{"$f":"-$D$11*D27*B27/10^6","v":0},{"$f":"D9","v":1981.2520325203257},{"$f":"-L27*$D$21*$D$22*B27","v":0},{"$f":"+K27+M27","v":0},{"$f":"+G27+J27+N27","v":0},null,{"$f":"-P27*$D$9","v":0},{"$f":"+O27+Q27","v":0},{"$f":"+'Inputs and Summary'!$B$5","v":0.35},{"$f":"-R27*S27","v":0},{"$f":"+ROUND('Inputs and Summary'!$B$20*(1+'Inputs and Summary'!$B$4)^(A27-$D$17),0)*C27","v":0},{"$f":"+U27*E27/10^6","v":0},{"$f":"-D9","v":-1981.2520325203257},{"$f":"+O27+T27+V27+W27","v":-1981.2520325203257}]
[{"$f":"+A27+1","v":2019},1,1,{"$f":"+'Inputs and Summary'!B24/100*8766*D7","v":2427524.5499999998},{"$f":"+D28*C28","v":2427524.5499999998},142.30350853191325,151.24126673515369,178.6,{"$f":"+I27*(1+'Inputs and Summary'!$B$4)","v":116.55120277290122},{"$f":"+H28*I28/10^3","v":20.816044815240158},{"$f":"-$D$11*D28*B28/10^6","v":-21.113881823889063},{"$f":"$D$9*((1-$D$23)*(($D$16-(A28-$A$27))/$D$16)+$D$23)*B28","v":1917.8519674796751},{"$f":"-L28*$D$21*$D$22*B28","v":-20.227201130614638},{"$f":"+K28+M28","v":-41.341082954503705},{"$f":"+G28+J28+N28","v":130.71622859589013},0.2,-396.25040650406515,{"$f":"+O28+Q28","v":-265.53417790817502},{"$f":"+'Inputs and Summary'!$B$5","v":0.35},{"$f":"-R28*S28","v":92.936962267861247},{"$f":"+ROUND('Inputs and Summary'!$B$20*(1+'Inputs and Summary'!$B$4)^(A28-$D$17),0)*C28","v":26},63.115638300000001,null,286.76882916375138]
[{"$f":"+A28+1","v":2020},{"$f":"1*(SUM($B$25:B28)<$D$16)","v":1},1,{"$f":"+D28*B29","v":2427524.5499999998},{"$f":"+D29*C29","v":2427524.5499999998},142.30350853191325,151.24126673515369,178.6,{"$f":"+I28*(1+'Inputs and Summary'!$B$4)","v":119.46498284222373},{"$f":"+H29*I29/10^3","v":21.33644593562116},{"$f":"K28*(1+'Inputs and Summary'!$B$4+$D$12)*B29","v":-21.85286768772518},1854.4519024390252,-19.558533324643914,{"$f":"+K29+M29","v":-41.411401012369097},{"$f":"+G29+J29+N29","v":131.16631165840573},0.32,-634.00065040650418,{"$f":"+O29+Q29","v":-502.83433874809845},{"$f":"+'Inputs and Summary'!$B$5","v":0.35},{"$f":"-R29*S29","v":175.99201856183444},{"$f":"+ROUND('Inputs and Summary'!$B$20*(1+'Inputs and Summary'!$B$4)^(A29-$D$17),0)*C29","v":27},65.543162849999987,null,372.70149307024013]
[2021,{"$f":"1*(SUM($B$25:B29)<$D$16)","v":1},1,2427524.5499999998,2427524.5499999998,142.30350853191325,151.24126673515369,178.6,{"$f":"+I29*(1+'Inputs and Summary'!$B$4)","v":122.45160741327932},21.869857084011684,{"$f":"K29*(1+'Inputs and Summary'!$B$4+$D$12)*B30","v":-22.61771805679556},1791.0518373983746,-18.889865518673179,{"$f":"+K30+M30","v":-41.507583575468743},{"$f":"+G30+J30+N30","v":131.60354024369661},0.192,-380.40039024390251,{"$f":"+O30+Q30","v":-248.79685000020589},{"$f":"+'Inputs and Summary'!$B$5","v":0.35},87.07889750007206,{"$f":"+ROUND('Inputs and Summary'!$B$20*(1+'Inputs and Summary'!$B$4)^(A30-$D$17),0)*C30","v":27},65.543162849999987,null,284.22560059376866]
[2022,{"$f":"1*(SUM($B$25:B30)<$D$16)","v":1},1,2427524.5499999998,2427524.5499999998,142.30350853191325,151.24126673515369,178.6,{"$f":"+I30*(1+'Inputs and Summary'!$B$4)","v":125.51289759861129},22.416603511111976,{"$f":"K30*(1+'Inputs and Summary'!$B$4+$D$12)*B31","v":-23.409338188783401},1727.6517723577242,-18.221197712702448,{"$f":"+K31+M31","v":-41.63053590148585},132.02733434477983,0.1152,-228.24023414634152,{"$f":"+O31+Q31","v":-96.21289980156169},{"$f":"+'Inputs and Summary'!$B$5","v":0.35},33.674514930546586,{"$f":"+ROUND('Inputs and Summary'!$B$20*(1+'Inputs and Summary'!$B$4)^(A31-$D$17),0)*C31","v":28},67.970687399999989,null,233.6725366753264]
[2023,{"$f":"1*(SUM($B$25:B31)<$D$16)","v":1},1,2427524.5499999998,2427524.5499999998,142.30350853191325,151.24126673515369,178.6,{"$f":"+I31*(1+'Inputs and Summary'!$B$4)","v":128.65072003857657},22.977018598889774,{"$f":"K31*(1+'Inputs and Summary'!$B$4+$D$12)*B32","v":-24.228665025390818},1664.2517073170736,-17.552529906731717,-41.781194932122531,132.43709040192093,0.1152,-228.24023414634152,{"$f":"+O32+Q32","v":-95.803143744420595},{"$f":"+'Inputs and Summary'!$B$5","v":0.35},33.53110031054721,{"$f":"+ROUND('Inputs and Summary'!$B$20*(1+'Inputs and Summary'!$B$4)^(A32-$D$17),0)*C32","v":29},70.39821194999999,null,236.36640266246812]
[2024,{"$f":"1*(SUM($B$25:B32)<$D$16)","v":1},1,2427524.5499999998,2427524.5499999998,142.30350853191325,151.24126673515369,178.6,{"$f":"+I32*(1+'Inputs and Summary'!$B$4)","v":131.86698803954096},23.551444063862014,{"$f":"K32*(1+'Inputs and Summary'!$B$4+$D$12)*B33","v":-25.076668301279494},1600.8516422764233,-16.883862100760982,-41.960530402040476,132.83218039697522,5.7600000000000096E-2,-114.12011707317095,18.712063323804273,{"$f":"+'Inputs and Summary'!$B$5","v":0.35},-6.5492221633314953,{"$f":"+ROUND('Inputs and Summary'!$B$20*(1+'Inputs and Summary'!$B$4)^(A33-$D$17),0)*C33","v":29},70.39821194999999,null,196.6811701836437]
[2025,{"$f":"1*(SUM($B$25:B33)<$D$16)","v":1},1,2427524.5499999998,2427524.5499999998,142.30350853191325,151.24126673515369,178.6,{"$f":"+I33*(1+'Inputs and Summary'!$B$4)","v":135.16366274052947},24.140230165458565,{"$f":"K33*(1+'Inputs and Summary'!$B$4+$D$12)*B34","v":-25.954351691824275},1537.4515772357727,-16.215194294790251,-42.169545986614523,133.21195091399773,null,0,133.21195091399773,{"$f":"+'Inputs and Summary'!$B$5","v":0.35},-46.624182819899204,{"$f":"+ROUND('Inputs and Summary'!$B$20*(1+'Inputs and Summary'!$B$4)^(A34-$D$17),0)*C34","v":30},72.825736500000005,null,159.41350459409853]
[2026,{"$f":"1*(SUM($B$25:B34)<$D$16)","v":1},1,2427524.5499999998,2427524.5499999998,142.30350853191325,151.24126673515369,178.6,{"$f":"+I34*(1+'Inputs and Summary'!$B$4)","v":138.54275430904269},24.743735919595021,{"$f":"K34*(1+'Inputs and Summary'!$B$4+$D$12)*B35","v":-26.862754001038123},1474.0515121951223,-15.546526488819518,-42.409280489857643,133.57572216489106,null,0,133.57572216489106,{"$f":"+'Inputs and Summary'!$B$5","v":0.35},-46.751502757711869,{"$f":"+ROUND('Inputs and Summary'!$B$20*(1+'Inputs and Summary'!$B$4)^(A35-$D$17),0)*C35","v":31},75.253261049999992,null,162.07748045717918]
[2027,{"$f":"1*(SUM($B$25:B35)<$D$16)","v":1},1,2427524.5499999998,2427524.5499999998,142.30350853191325,151.24126673515369,178.6,{"$f":"+I35*(1+'Inputs and Summary'!$B$4)","v":142.00632316676874},25.362329317584894,{"$f":"K35*(1+'Inputs and Summary'!$B$4+$D$12)*B36","v":-27.802950391074454},1410.6514471544717,-14.877858682848784,-42.680809073923236,133.92278697881534,null,0,133.92278697881534,{"$f":"+'Inputs and Summary'!$B$5","v":0.35},-46.872975442585364,{"$f":"+ROUND('Inputs and Summary'!$B$20*(1+'Inputs and Summary'!$B$4)^(A36-$D$17),0)*C36","v":32},77.680785599999993,null,164.73059713622996]
[2028,{"$f":"1*(SUM($B$25:B36)<$D$16)","v":1},1,2427524.5499999998,2427524.5499999998,142.30350853191325,151.24126673515369,178.6,{"$f":"+I36*(1+'Inputs and Summary'!$B$4)","v":145.55648124593793},25.996387550524513,{"$f":"K36*(1+'Inputs and Summary'!$B$4+$D$12)*B37","v":-28.776053654762059},1347.2513821138214,-14.209190876878052,-42.985244531640113,134.25240975403807,null,0,134.25240975403807,{"$f":"+'Inputs and Summary'!$B$5","v":0.35},-46.98834341391332,{"$f":"+ROUND('Inputs and Summary'!$B$20*(1+'Inputs and Summary'!$B$4)^(A37-$D$17),0)*C37","v":32},77.680785599999993,null,164.94485194012475]
[2029,{"$f":"1*(SUM($B$25:B37)<$D$16)","v":1},null,2427524.5499999998,0,142.30350853191325,151.24126673515369,178.6,{"$f":"+I37*(1+'Inputs and Summary'!$B$4)","v":149.19539327708637},26.646297239287627,{"$f":"K37*(1+'Inputs and Summary'!$B$4+$D$12)*B38","v":-29.783215532678728},1283.8513170731712,-13.540523070907325,-43.323738603586051,134.56382537085528,null,0,134.56382537085528,{"$f":"+'Inputs and Summary'!$B$5","v":0.35},-47.097338879799345,{"$f":"+ROUND('Inputs and Summary'!$B$20*(1+'Inputs and Summary'!$B$4)^(A38-$D$17),0)*C38","v":0},0,null,87.466486491055946]
[2030,{"$f":"1*(SUM($B$25:B38)<$D$16)","v":1},null,2427524.5499999998,0,142.30350853191325,151.24126673515369,178.6,{"$f":"+I38*(1+'Inputs and Summary'!$B$4)","v":152.9252781090135},27.312454670269808,{"$f":"K38*(1+'Inputs and Summary'!$B$4+$D$12)*B39","v":-30.825628076322481},1220.4512520325209,-12.871855264936592,-43.697483341259073,134.85623806416442,null,0,134.85623806416442,{"$f":"+'Inputs and Summary'!$B$5","v":0.35},-47.199683322457545,{"$f":"+ROUND('Inputs and Summary'!$B$20*(1+'Inputs and Summary'!$B$4)^(A39-$D$17),0)*C39","v":0},0,null,87.65655474170687]
[2031,{"$f":"1*(SUM($B$25:B39)<$D$16)","v":1},null,2427524.5499999998,0,142.30350853191325,151.24126673515369,178.6,{"$f":"+I39*(1+'Inputs and Summary'!$B$4)","v":156.74841006173884},27.995266037026553,{"$f":"K39*(1+'Inputs and Summary'!$B$4+$D$12)*B40","v":-31.904525058993766},1157.0511869918703,-12.203187458965859,-44.107712517959627,135.12882025422061,null,0,135.12882025422061,{"$f":"+'Inputs and Summary'!$B$5","v":0.35},-47.295087088977212,{"$f":"+ROUND('Inputs and Summary'!$B$20*(1+'Inputs and Summary'!$B$4)^(A40-$D$17),0)*C40","v":0},0,null,87.833733165243402]
[2032,{"$f":"1*(SUM($B$25:B40)<$D$16)","v":1},null,2427524.5499999998,0,142.30350853191325,151.24126673515369,178.6,{"$f":"+I40*(1+'Inputs and Summary'!$B$4)","v":160.66712031328228},28.695147687952215,{"$f":"K40*(1+'Inputs and Summary'!$B$4+$D$12)*B41","v":-33.021183436058543},1093.6511219512199,-11.534519652995126,-44.555703089053665,135.38071133405225,null,0,135.38071133405225,{"$f":"+'Inputs and Summary'!$B$5","v":0.35},-47.383248966918288,{"$f":"+ROUND('Inputs and Summary'!$B$20*(1+'Inputs and Summary'!$B$4)^(A41-$D$17),0)*C41","v":0},0,null,87.997462367133963]
[2033,{"$f":"1*(SUM($B$25:B41)<$D$16)","v":1},null,2427524.5499999998,0,142.30350853191325,151.24126673515369,178.6,{"$f":"+I41*(1+'Inputs and Summary'!$B$4)","v":164.68379832111432},29.412526380151018,{"$f":"K41*(1+'Inputs and Summary'!$B$4+$D$12)*B42","v":-34.176924856320589},1030.2510569105693,-10.865851847024393,-45.042776703344984,135.61101641195972,null,0,135.61101641195972,{"$f":"+'Inputs and Summary'!$B$5","v":0.35},-47.463855744185899,{"$f":"+ROUND('Inputs and Summary'!$B$20*(1+'Inputs and Summary'!$B$4)^(A42-$D$17),0)*C42","v":0},0,null,88.147160667773818]
[2034,{"$f":"1*(SUM($B$25:B42)<$D$16)","v":1},null,2427524.5499999998,0,142.30350853191325,151.24126673515369,178.6,{"$f":"+I42*(1+'Inputs and Summary'!$B$4)","v":168.80089327914217},30.14783953965479,{"$f":"K42*(1+'Inputs and Summary'!$B$4+$D$12)*B43","v":-35.373117226291804},966.85099186991886,-10.197184041053662,-45.570301267345464,135.81880500746303,null,0,135.81880500746303,{"$f":"+'Inputs and Summary'!$B$5","v":0.35},-47.536581752612058,{"$f":"+ROUND('Inputs and Summary'!$B$20*(1+'Inputs and Summary'!$B$4)^(A43-$D$17),0)*C43","v":0},0,null,88.282223254850976]
[2035,{"$f":"1*(SUM($B$25:B43)<$D$16)","v":1},null,2427524.5499999998,0,142.30350853191325,151.24126673515369,178.6,{"$f":"+I43*(1+'Inputs and Summary'!$B$4)","v":173.0209156111207},30.901535528146155,{"$f":"K43*(1+'Inputs and Summary'!$B$4+$D$12)*B44","v":-36.611176329212014},903.4509268292685,-9.5285162350829289,-46.139692564294947,136.00310969900488,null,0,136.00310969900488,{"$f":"+'Inputs and Summary'!$B$5","v":0.35},-47.601088394651704,{"$f":"+ROUND('Inputs and Summary'!$B$20*(1+'Inputs and Summary'!$B$4)^(A44-$D$17),0)*C44","v":0},0,null,88.402021304353184]
[2036,{"$f":"1*(SUM($B$25:B44)<$D$16)","v":1},null,2427524.5499999998,0,142.30350853191325,151.24126673515369,178.6,{"$f":"+I44*(1+'Inputs and Summary'!$B$4)","v":177.34643850139869},31.674073916349808,{"$f":"K44*(1+'Inputs and Summary'!$B$4+$D$12)*B45","v":-37.89256750073443},840.05086178861814,-8.8598484291121995,-46.752415929846627,136.16292472165688,null,0,136.16292472165688,{"$f":"+'Inputs and Summary'!$B$5","v":0.35},-47.657023652579902,{"$f":"+ROUND('Inputs and Summary'!$B$20*(1+'Inputs and Summary'!$B$4)^(A45-$D$17),0)*C45","v":0},0,null,88.50590106907697]
[2037,{"$f":"1*(SUM($B$25:B45)<$D$16)","v":1},null,2427524.5499999998,0,142.30350853191325,151.24126673515369,178.6,{"$f":"+I45*(1+'Inputs and Summary'!$B$4)","v":181.78009946393365},32.46592576425855,{"$f":"K45*(1+'Inputs and Summary'!$B$4+$D$12)*B46","v":-39.218807363260133},776.65079674796766,-8.1911806231414666,-47.409987986401603,136.29720451301063,null,0,136.29720451301063,{"$f":"+'Inputs and Summary'!$B$5","v":0.35},-47.704021579553718,{"$f":"+ROUND('Inputs and Summary'!$B$20*(1+'Inputs and Summary'!$B$4)^(A46-$D$17),0)*C46","v":0},0,null,88.593182933456916]
[2038,{"$f":"1*(SUM($B$25:B46)<$D$16)","v":1},null,2427524.5499999998,0,142.30350853191325,151.24126673515369,178.6,{"$f":"+I46*(1+'Inputs and Summary'!$B$4)","v":186.32460195053199},33.277573908365014,{"$f":"K46*(1+'Inputs and Summary'!$B$4+$D$12)*B47","v":-40.591465620974233},713.2507317073173,-7.5225128171707345,-48.113978438144969,136.40486220537372,null,0,136.40486220537372,{"$f":"+'Inputs and Summary'!$B$5","v":0.35},-47.741701771880798,{"$f":"+ROUND('Inputs and Summary'!$B$20*(1+'Inputs and Summary'!$B$4)^(A47-$D$17),0)*C47","v":0},0,null,88.663160433492919]
[2039,{"$f":"1*(SUM($B$25:B47)<$D$16)","v":1},null,2427524.5499999998,0,142.30350853191325,151.24126673515369,178.6,{"$f":"+I47*(1+'Inputs and Summary'!$B$4)","v":190.98271699929526},34.109513256074131,{"$f":"K47*(1+'Inputs and Summary'!$B$4+$D$12)*B48","v":-42.012166917708328},649.85066666666683,-6.8538450112000033,-48.866011928908328,136.48476806231949,null,0,136.48476806231949,{"$f":"+'Inputs and Summary'!$B$5","v":0.35},-47.76966882181182,{"$f":"+ROUND('Inputs and Summary'!$B$20*(1+'Inputs and Summary'!$B$4)^(A48-$D$17),0)*C48","v":0},0,null,88.715099240507669]
[2040,{"$f":"1*(SUM($B$25:B48)<$D$16)","v":1},null,2427524.5499999998,0,142.30350853191325,151.24126673515369,178.6,{"$f":"+I48*(1+'Inputs and Summary'!$B$4)","v":195.75728492427763},34.962251087475984,{"$f":"K48*(1+'Inputs and Summary'!$B$4+$D$12)*B49","v":-43.482592759828115},586.45060162601646,-6.1851772052292713,-49.667769965057389,136.53574785757229,null,0,136.53574785757229,{"$f":"+'Inputs and Summary'!$B$5","v":0.35},-47.787511750150301,{"$f":"+ROUND('Inputs and Summary'!$B$20*(1+'Inputs and Summary'!$B$4)^(A49-$D$17),0)*C49","v":0},0,null,88.748236107421988]
[2041,{"$f":"1*(SUM($B$25:B49)<$D$16)","v":1},null,2427524.5499999998,0,142.30350853191325,151.24126673515369,178.6,{"$f":"+I49*(1+'Inputs and Summary'!$B$4)","v":200.65121704738456},35.836307364662886,{"$f":"K49*(1+'Inputs and Summary'!$B$4+$D$12)*B50","v":-45.004483506422098},523.05053658536599,-5.5165093992585383,-50.520992905680636,136.55658119413593,null,0,136.55658119413593,{"$f":"+'Inputs and Summary'!$B$5","v":0.35},-47.79480341794757,{"$f":"+ROUND('Inputs and Summary'!$B$20*(1+'Inputs and Summary'!$B$4)^(A50-$D$17),0)*C50","v":0},0,null,88.761777776188353]
[2042,{"$f":"1*(SUM($B$25:B50)<$D$16)","v":1},null,2427524.5499999998,0,142.30350853191325,151.24126673515369,178.6,{"$f":"+I50*(1+'Inputs and Summary'!$B$4)","v":205.66749747356917},36.732215048779452,{"$f":"K50*(1+'Inputs and Summary'!$B$4+$D$12)*B51","v":-46.57964042914687},459.65047154471557,-4.8478415932878063,-51.427482022434674,136.54599976149848,null,0,136.54599976149848,{"$f":"+'Inputs and Summary'!$B$5","v":0.35},-47.791099916524466,{"$f":"+ROUND('Inputs and Summary'!$B$20*(1+'Inputs and Summary'!$B$4)^(A51-$D$17),0)*C51","v":0},0,null,88.754899844974005]
[2043,{"$f":"1*(SUM($B$25:B51)<$D$16)","v":1},null,2427524.5499999998,0,142.30350853191325,151.24126673515369,178.6,{"$f":"+I51*(1+'Inputs and Summary'!$B$4)","v":210.80918491040839},37.650520424998938,{"$f":"K51*(1+'Inputs and Summary'!$B$4+$D$12)*B52","v":-48.209927844167005},396.25040650406515,-4.1791737873170742,-52.389101631484081,136.50268552866856,null,0,136.50268552866856,{"$f":"+'Inputs and Summary'!$B$5","v":0.35},-47.775939935033996,{"$f":"+ROUND('Inputs and Summary'!$B$20*(1+'Inputs and Summary'!$B$4)^(A52-$D$17),0)*C52","v":0},0,null,88.726745593634575]
[2044,{"$f":"1*(SUM($B$25:B52)<$D$16)","v":0},null,0,0,0,0,0,{"$f":"+I52*(1+'Inputs and Summary'!$B$4)","v":216.07941453316857},0,{"$f":"K52*(1+'Inputs and Summary'!$B$4+$D$12)*B53","v":0},0,0,0,0,null,0,0,{"$f":"+'Inputs and Summary'!$B$5","v":0.35},0,{"$f":"+ROUND('Inputs and Summary'!$B$20*(1+'Inputs and Summary'!$B$4)^(A53-$D$17),0)*C53","v":0},0,null,0]
[2045,{"$f":"1*(SUM($B$25:B53)<$D$16)","v":0},null,0,0,0,0,0,{"$f":"+I53*(1+'Inputs and Summary'!$B$4)","v":221.48139989649778},0,{"$f":"K53*(1+'Inputs and Summary'!$B$4+$D$12)*B54","v":0},0,0,0,0,null,0,0,{"$f":"+'Inputs and Summary'!$B$5","v":0.35},0,{"$f":"+ROUND('Inputs and Summary'!$B$20*(1+'Inputs and Summary'!$B$4)^(A54-$D$17),0)*C54","v":0},0,null,0]
[2046,{"$f":"1*(SUM($B$25:B54)<$D$16)","v":0},null,0,0,0,0,0,{"$f":"+I54*(1+'Inputs and Summary'!$B$4)","v":227.01843489391021},0,{"$f":"K54*(1+'Inputs and Summary'!$B$4+$D$12)*B55","v":0},0,0,0,0,null,0,0,{"$f":"+'Inputs and Summary'!$B$5","v":0.35},0,{"$f":"+ROUND('Inputs and Summary'!$B$20*(1+'Inputs and Summary'!$B$4)^(A55-$D$17),0)*C55","v":0},0,null,0]
[2047,{"$f":"1*(SUM($B$25:B55)<$D$16)","v":0},null,0,0,0,0,0,{"$f":"+I55*(1+'Inputs and Summary'!$B$4)","v":232.69389576625795},0,{"$f":"K55*(1+'Inputs and Summary'!$B$4+$D$12)*B56","v":0},0,0,0,0,null,0,0,{"$f":"+'Inputs and Summary'!$B$5","v":0.35},0,{"$f":"+ROUND('Inputs and Summary'!$B$20*(1+'Inputs and Summary'!$B$4)^(A56-$D$17),0)*C56","v":0},0,null,0]
[2048,{"$f":"1*(SUM($B$25:B56)<$D$16)","v":0},null,0,0,0,0,0,{"$f":"+I56*(1+'Inputs and Summary'!$B$4)","v":238.51124316041438},0,{"$f":"K56*(1+'Inputs and Summary'!$B$4+$D$12)*B57","v":0},0,0,0,0,null,0,0,{"$f":"+'Inputs and Summary'!$B$5","v":0.35},0,{"$f":"+ROUND('Inputs and Summary'!$B$20*(1+'Inputs and Summary'!$B$4)^(A57-$D$17),0)*C57","v":0},0,null,0]
[2049,{"$f":"1*(SUM($B$25:B57)<$D$16)","v":0},null,0,0,0,0,0,{"$f":"+I57*(1+'Inputs and Summary'!$B$4)","v":244.47402423942472},0,{"$f":"K57*(1+'Inputs and Summary'!$B$4+$D$12)*B58","v":0},0,0,0,0,null,0,0,{"$f":"+'Inputs and Summary'!$B$5","v":0.35},0,{"$f":"+ROUND('Inputs and Summary'!$B$20*(1+'Inputs and Summary'!$B$4)^(A58-$D$17),0)*C58","v":0},0,null,0]
[2050,{"$f":"1*(SUM($B$25:B58)<$D$16)","v":0},null,0,0,{"$f":"+B59*$B$97/$D$18","v":0},{"$f":"F59*$D$18","v":0},{"$f":"B59*$D$7*$D$19","v":0},{"$f":"+I58*(1+'Inputs and Summary'!$B$4)","v":250.58587484541033},0,{"$f":"K58*(1+'Inputs and Summary'!$B$4+$D$12)*B59","v":0},0,{"$f":"-L59*$D$21*$D$22*B59","v":0},0,0,null,{"$f":"-P59*$D$9","v":0},0,{"$f":"+'Inputs and Summary'!$B$5","v":0.35},0,{"$f":"+ROUND('Inputs and Summary'!$B$20*(1+'Inputs and Summary'!$B$4)^(A59-$D$17),0)*C59","v":0},{"$f":"+U59*E59/10^6","v":0},null,{"$f":"+O59+T59+V59+W59","v":0}]
[2051,{"$f":"1*(SUM($B$25:B59)<$D$16)","v":0},null,0,0,0,0,0,{"$f":"+I59*(1+'Inputs and Summary'!$B$4)","v":256.85052171654559},0,{"$f":"K59*(1+'Inputs and Summary'!$B$4+$D$12)*B60","v":0},{"$f":"$D$9*((1-$D$23)*(($D$16-(A60-$A$27))/$D$16)+$D$23)*B60","v":0},0,0,0,null,0,0,{"$f":"+'Inputs and Summary'!$B$5","v":0.35},0,{"$f":"+ROUND('Inputs and Summary'!$B$20*(1+'Inputs and Summary'!$B$4)^(A60-$D$17),0)*C60","v":0},0,null,0]
[2052,{"$f":"1*(SUM($B$25:B60)<$D$16)","v":0},null,{"$f":"+D60*B61","v":0},0,0,0,0,{"$f":"+I60*(1+'Inputs and Summary'!$B$4)","v":263.27178475945919},0,{"$f":"K60*(1+'Inputs and Summary'!$B$4+$D$12)*B61","v":0},0,0,0,0,null,0,0,{"$f":"+'Inputs and Summary'!$B$5","v":0.35},0,{"$f":"+ROUND('Inputs and Summary'!$B$20*(1+'Inputs and Summary'!$B$4)^(A61-$D$17),0)*C61","v":0},0,null,0]
[2053,{"$f":"1*(SUM($B$25:B61)<$D$16)","v":0},null,0,0,0,0,0,{"$f":"+I61*(1+'Inputs and Summary'!$B$4)","v":269.85357937844566},0,{"$f":"K61*(1+'Inputs and Summary'!$B$4+$D$12)*B62","v":0},0,0,0,0,null,0,0,{"$f":"+'Inputs and Summary'!$B$5","v":0.35},0,{"$f":"+ROUND('Inputs and Summary'!$B$20*(1+'Inputs and Summary'!$B$4)^(A62-$D$17),0)*C62","v":0},0,null,0]
[2054,{"$f":"1*(SUM($B$25:B62)<$D$16)","v":0},null,0,0,0,0,0,{"$f":"+I62*(1+'Inputs and Summary'!$B$4)","v":276.5999188629068},0,{"$f":"K62*(1+'Inputs and Summary'!$B$4+$D$12)*B63","v":0},0,0,0,0,null,0,0,{"$f":"+'Inputs and Summary'!$B$5","v":0.35},0,{"$f":"+ROUND('Inputs and Summary'!$B$20*(1+'Inputs and Summary'!$B$4)^(A63-$D$17),0)*C63","v":0},0,null,0]
[2055,{"$f":"1*(SUM($B$25:B63)<$D$16)","v":0},null,0,0,0,0,0,{"$f":"+I63*(1+'Inputs and Summary'!$B$4)","v":283.51491683447944},0,{"$f":"K63*(1+'Inputs and Summary'!$B$4+$D$12)*B64","v":0},0,0,0,0,null,0,0,{"$f":"+'Inputs and Summary'!$B$5","v":0.35},0,{"$f":"+ROUND('Inputs and Summary'!$B$20*(1+'Inputs and Summary'!$B$4)^(A64-$D$17),0)*C64","v":0},0,null,0]
[2056,{"$f":"1*(SUM($B$25:B64)<$D$16)","v":0},null,0,0,0,0,0,{"$f":"+I64*(1+'Inputs and Summary'!$B$4)","v":290.6027897553414},0,{"$f":"K64*(1+'Inputs and Summary'!$B$4+$D$12)*B65","v":0},0,0,0,0,null,0,0,{"$f":"+'Inputs and Summary'!$B$5","v":0.35},0,{"$f":"+ROUND('Inputs and Summary'!$B$20*(1+'Inputs and Summary'!$B$4)^(A65-$D$17),0)*C65","v":0},0,null,0]
[2057,{"$f":"1*(SUM($B$25:B65)<$D$16)","v":0},null,0,0,0,0,0,{"$f":"+I65*(1+'Inputs and Summary'!$B$4)","v":297.86785949922489},0,{"$f":"K65*(1+'Inputs and Summary'!$B$4+$D$12)*B66","v":0},0,0,0,0,null,0,0,{"$f":"+'Inputs and Summary'!$B$5","v":0.35},0,{"$f":"+ROUND('Inputs and Summary'!$B$20*(1+'Inputs and Summary'!$B$4)^(A66-$D$17),0)*C66","v":0},0,null,0]
[2058,{"$f":"1*(SUM($B$25:B66)<$D$16)","v":0},null,0,0,0,0,0,{"$f":"+I66*(1+'Inputs and Summary'!$B$4)","v":305.3145559867055},0,{"$f":"K66*(1+'Inputs and Summary'!$B$4+$D$12)*B67","v":0},0,0,0,0,null,0,0,{"$f":"+'Inputs and Summary'!$B$5","v":0.35},0,{"$f":"+ROUND('Inputs and Summary'!$B$20*(1+'Inputs and Summary'!$B$4)^(A67-$D$17),0)*C67","v":0},0,null,0]
[2059,{"$f":"1*(SUM($B$25:B67)<$D$16)","v":0},null,0,0,0,0,0,{"$f":"+I67*(1+'Inputs and Summary'!$B$4)","v":312.9474198863731},0,{"$f":"K67*(1+'Inputs and Summary'!$B$4+$D$12)*B68","v":0},0,0,0,0,null,0,0,{"$f":"+'Inputs and Summary'!$B$5","v":0.35},0,{"$f":"+ROUND('Inputs and Summary'!$B$20*(1+'Inputs and Summary'!$B$4)^(A68-$D$17),0)*C68","v":0},0,null,0]
[2060,{"$f":"1*(SUM($B$25:B68)<$D$16)","v":0},null,0,0,0,0,0,{"$f":"+I68*(1+'Inputs and Summary'!$B$4)","v":320.77110538353242},0,{"$f":"K68*(1+'Inputs and Summary'!$B$4+$D$12)*B69","v":0},0,0,0,0,null,0,0,{"$f":"+'Inputs and Summary'!$B$5","v":0.35},0,{"$f":"+ROUND('Inputs and Summary'!$B$20*(1+'Inputs and Summary'!$B$4)^(A69-$D$17),0)*C69","v":0},0,null,0]
[2061,{"$f":"1*(SUM($B$25:B69)<$D$16)","v":0},null,0,0,0,0,0,{"$f":"+I69*(1+'Inputs and Summary'!$B$4)","v":328.79038301812068},0,{"$f":"K69*(1+'Inputs and Summary'!$B$4+$D$12)*B70","v":0},0,0,0,0,null,0,0,{"$f":"+'Inputs and Summary'!$B$5","v":0.35},0,{"$f":"+ROUND('Inputs and Summary'!$B$20*(1+'Inputs and Summary'!$B$4)^(A70-$D$17),0)*C70","v":0},0,null,0]
[2062,{"$f":"1*(SUM($B$25:B70)<$D$16)","v":0},null,0,0,0,0,0,{"$f":"+I70*(1+'Inputs and Summary'!$B$4)","v":337.01014259357368},0,{"$f":"K70*(1+'Inputs and Summary'!$B$4+$D$12)*B71","v":0},0,0,0,0,null,0,0,{"$f":"+'Inputs and Summary'!$B$5","v":0.35},0,{"$f":"+ROUND('Inputs and Summary'!$B$20*(1+'Inputs and Summary'!$B$4)^(A71-$D$17),0)*C71","v":0},0,null,0]
[2063,{"$f":"1*(SUM($B$25:B71)<$D$16)","v":0},null,0,0,0,0,0,{"$f":"+I71*(1+'Inputs and Summary'!$B$4)","v":345.43539615841297},0,{"$f":"K71*(1+'Inputs and Summary'!$B$4+$D$12)*B72","v":0},0,0,0,0,null,0,0,{"$f":"+'Inputs and Summary'!$B$5","v":0.35},0,{"$f":"+ROUND('Inputs and Summary'!$B$20*(1+'Inputs and Summary'!$B$4)^(A72-$D$17),0)*C72","v":0},0,null,0]
[2064,{"$f":"1*(SUM($B$25:B72)<$D$16)","v":0},null,0,0,0,0,0,{"$f":"+I72*(1+'Inputs and Summary'!$B$4)","v":354.07128106237326},0,{"$f":"K72*(1+'Inputs and Summary'!$B$4+$D$12)*B73","v":0},0,0,0,0,null,0,0,{"$f":"+'Inputs and Summary'!$B$5","v":0.35},0,{"$f":"+ROUND('Inputs and Summary'!$B$20*(1+'Inputs and Summary'!$B$4)^(A73-$D$17),0)*C73","v":0},0,null,0]
[2065,{"$f":"1*(SUM($B$25:B73)<$D$16)","v":0},null,0,0,0,0,0,{"$f":"+I73*(1+'Inputs and Summary'!$B$4)","v":362.92306308893257},0,{"$f":"K73*(1+'Inputs and Summary'!$B$4+$D$12)*B74","v":0},0,0,0,0,null,0,0,{"$f":"+'Inputs and Summary'!$B$5","v":0.35},0,{"$f":"+ROUND('Inputs and Summary'!$B$20*(1+'Inputs and Summary'!$B$4)^(A74-$D$17),0)*C74","v":0},0,null,0]
[2066,{"$f":"1*(SUM($B$25:B74)<$D$16)","v":0},null,0,0,0,0,0,{"$f":"+I74*(1+'Inputs and Summary'!$B$4)","v":371.99613966615584},0,{"$f":"K74*(1+'Inputs and Summary'!$B$4+$D$12)*B75","v":0},0,0,0,0,null,0,0,{"$f":"+'Inputs and Summary'!$B$5","v":0.35},0,{"$f":"+ROUND('Inputs and Summary'!$B$20*(1+'Inputs and Summary'!$B$4)^(A75-$D$17),0)*C75","v":0},0,null,0]
[2067,{"$f":"1*(SUM($B$25:B75)<$D$16)","v":0},null,0,0,0,0,0,{"$f":"+I75*(1+'Inputs and Summary'!$B$4)","v":381.29604315780972},0,{"$f":"K75*(1+'Inputs and Summary'!$B$4+$D$12)*B76","v":0},0,0,0,0,null,0,0,{"$f":"+'Inputs and Summary'!$B$5","v":0.35},0,{"$f":"+ROUND('Inputs and Summary'!$B$20*(1+'Inputs and Summary'!$B$4)^(A76-$D$17),0)*C76","v":0},0,null,0]
[2068,{"$f":"1*(SUM($B$25:B76)<$D$16)","v":0},null,0,0,0,0,0,{"$f":"+I76*(1+'Inputs and Summary'!$B$4)","v":390.82844423675493},0,{"$f":"K76*(1+'Inputs and Summary'!$B$4+$D$12)*B77","v":0},0,0,0,0,null,0,0,{"$f":"+'Inputs and Summary'!$B$5","v":0.35},0,{"$f":"+ROUND('Inputs and Summary'!$B$20*(1+'Inputs and Summary'!$B$4)^(A77-$D$17),0)*C77","v":0},0,null,0]
[2069,{"$f":"1*(SUM($B$25:B77)<$D$16)","v":0},null,0,0,0,0,0,{"$f":"+I77*(1+'Inputs and Summary'!$B$4)","v":400.59915534267378},0,{"$f":"K77*(1+'Inputs and Summary'!$B$4+$D$12)*B78","v":0},0,0,0,0,null,0,0,{"$f":"+'Inputs and Summary'!$B$5","v":0.35},0,{"$f":"+ROUND('Inputs and Summary'!$B$20*(1+'Inputs and Summary'!$B$4)^(A78-$D$17),0)*C78","v":0},0,null,0]
[2070,{"$f":"1*(SUM($B$25:B78)<$D$16)","v":0},null,0,0,0,0,0,{"$f":"+I78*(1+'Inputs and Summary'!$B$4)","v":410.61413422624059},0,{"$f":"K78*(1+'Inputs and Summary'!$B$4+$D$12)*B79","v":0},0,0,0,0,null,0,0,{"$f":"+'Inputs and Summary'!$B$5","v":0.35},0,{"$f":"+ROUND('Inputs and Summary'!$B$20*(1+'Inputs and Summary'!$B$4)^(A79-$D$17),0)*C79","v":0},0,null,0]
["x","x","x","x","x",null,"x","x","x","x","x","x","x","x","x","x","x","x","x","x","x","x","x","x"]
[]
[]
[]
["Transmission Tariff Calculation"]
[]
["Expenses","NPV"]
["Capacity Revenue",{"$f":"NPV('Inputs and Summary'!$B$12,'Tennessee Wind'!$J$27:$J$79)","v":261.37667504925241}]
[{"$f":"K26","v":"Expenses ($mm)"},{"$f":"NPV('Inputs and Summary'!$B$12,'Tennessee Wind'!$K$27:$K$79)","v":-291.2601035520093}]
["Property Tax",{"$f":"NPV('Inputs and Summary'!$B$12,'Tennessee Wind'!$M$27:$M$79)","v":-147.95605033717774}]
["Capital Costs",{"$f":"NPV('Inputs and Summary'!$B$12,'Tennessee Wind'!$W$27:$W$79)","v":-1838.1092728937269}]
["PTCs",{"$f":"NPV('Inputs and Summary'!$B$12,'Tennessee Wind'!$V$27:$V$79)","v":437.50694936759947}]
["Tax Depreciation",{"$f":"-NPV('Inputs and Summary'!$B$12,'Tennessee Wind'!$Q$27:$Q$79)*'Inputs and Summary'!$B$5","v":524.67708974078516}]
["Other Income Taxes",{"$f":"-(B87+B88+B89)*'Inputs and Summary'!$B$5","v":62.243817593977113}]
[null,{"$f":"+SUM(B87:B93)","v":-991.52089503129969}]
["Capitalization Factor",{"$f":"NPV('Inputs and Summary'!$B$12,'Tennessee Wind'!$B$27:$B$79)","v":10.085982447223548}]
["Annual RR (After-tax)",{"$f":"-B94/B95","v":98.306823377849895}]
["Annual RR (Pre-tax)",{"$f":"+B96/(1-'Inputs and Summary'!$B$5)","v":151.24126673515369}]
[]
["LCOE($/MWh)",{"$f":"F28*10^6/(D28)","v":58.620831880737626}]

{"sheet":"Oklahoma Wind + P&E","index":9,"n_rows":82,"n_cols":18,"rows_kept":82,"cut":false,"hidden":false,"merged":[]}
["Oklahoma Wind Delivered to Tennessee"]
[]
[]
["OK Wind + P&E",null,null,"Source"]
[]
["Delivery Capacity (MW)",null,500]
["Electric losses (%)",null,0.05]
["Transmission Charge ($/kW-mo)",null,8]
[null,null,null,null,null,null,null,null,null,null,null,null,null,null,null,null,"IRR",{"$f":"IRR(R11:R63)","v":7.7875000000001027E-2}]
["Year","In-Service","Generation (MWh/a)","Losses (MWh)","Delivered Energy (MWh)","Energy Revenue ($mm)","Capacity Revenue ($mm)","Expenses","Transmission Service","Total Expenses","EBITDA","Tax Depreciation","Taxable Income","Tax Rate","Cash Taxes","Production Tax Credits ($mm)","Capital Costs","After-tax Cash Flow"]
[2018,{"$f":"'Oklahoma Wind'!B28","v":0},{"$f":"'Oklahoma Wind'!D28","v":0},{"$f":"-$C$7*C11","v":0},{"$f":"+C11+D11","v":0},{"$f":"+E11*$B$82/10^6","v":0},{"$f":"'Oklahoma Wind'!I28","v":0},{"$f":"'Oklahoma Wind'!R28","v":0},null,{"$f":"+H11+I11","v":0},{"$f":"+F11+G11+J11","v":0},{"$f":"'Oklahoma Wind'!U28","v":0},{"$f":"+K11+L11","v":0},{"$f":"+'Inputs and Summary'!$B$5","v":0.35},{"$f":"-M11*N11","v":0},{"$f":"'Oklahoma Wind'!Z28","v":0},{"$f":"'Oklahoma Wind'!AA28","v":-939.02439024390253},{"$f":"+K11+O11+P11+Q11","v":-939.02439024390253}]
[{"$f":"+A11+1","v":2019},{"$f":"'Oklahoma Wind'!B29","v":1},{"$f":"'Oklahoma Wind'!D29","v":2555289.0000000005},{"$f":"-$C$7*C12","v":-127764.45000000003},{"$f":"+C12+D12","v":2427524.5500000003},82.773556325302948,{"$f":"'Oklahoma Wind'!I29","v":21.911626121305428},{"$f":"'Oklahoma Wind'!R29","v":-22.225138761988489},{"$f":"-$C$8*12*'Oklahoma Wind'!$D$5/1000*B12","v":-52.8},-75.025138761988487,29.660043684619893,{"$f":"'Oklahoma Wind'!U29","v":-187.80487804878052},{"$f":"+K12+L12","v":-158.14483436416063},{"$f":"+'Inputs and Summary'!$B$5","v":0.35},{"$f":"-M12*N12","v":55.350692027456219},{"$f":"'Oklahoma Wind'!Z29","v":66.437514000000021},null,151.44824971207612]
[{"$f":"+A12+1","v":2020},{"$f":"'Oklahoma Wind'!B30","v":1},{"$f":"'Oklahoma Wind'!D30","v":2555289.0000000005},-127764.45000000003,2427524.5500000003,82.773556325302948,{"$f":"'Oklahoma Wind'!I30","v":22.459416774338059},{"$f":"'Oklahoma Wind'!R30","v":-23.003018618658086},{"$f":"-$C$8*12*'Oklahoma Wind'!$D$5/1000*B13","v":-52.8},-75.803018618658086,29.429954480982929,{"$f":"'Oklahoma Wind'!U30","v":-300.48780487804879},-271.05785039706586,{"$f":"+'Inputs and Summary'!$B$5","v":0.35},94.870247638973041,{"$f":"'Oklahoma Wind'!Z30","v":68.992803000000009},null,193.29300511995598]
[2021,{"$f":"'Oklahoma Wind'!B31","v":1},{"$f":"'Oklahoma Wind'!D31","v":2555289.0000000005},-127764.45000000003,2427524.5500000003,82.773556325302948,{"$f":"'Oklahoma Wind'!I31","v":23.020902193696511},{"$f":"'Oklahoma Wind'!R31","v":-23.808124270311115},{"$f":"-$C$8*12*'Oklahoma Wind'!$D$5/1000*B14","v":-52.8},-76.608124270311109,29.186334248688354,{"$f":"'Oklahoma Wind'!U31","v":-180.29268292682929},-151.10634867814093,{"$f":"+'Inputs and Summary'!$B$5","v":0.35},52.887222037349325,{"$f":"'Oklahoma Wind'!Z31","v":68.992803000000009},null,151.06635928603768]
[2022,{"$f":"'Oklahoma Wind'!B32","v":1},{"$f":"'Oklahoma Wind'!D32","v":2555289.0000000005},-127764.45000000003,2427524.5500000003,82.773556325302948,{"$f":"'Oklahoma Wind'!I32","v":23.596424748538922},{"$f":"'Oklahoma Wind'!R32","v":-24.641408619772001},{"$f":"-$C$8*12*'Oklahoma Wind'!$D$5/1000*B15","v":-52.8},-77.441408619772005,28.928572454069865,{"$f":"'Oklahoma Wind'!U32","v":-108.17560975609757},-79.247037302027707,{"$f":"+'Inputs and Summary'!$B$5","v":0.35},27.736463055709695,{"$f":"'Oklahoma Wind'!Z32","v":71.548092000000011},null,128.21312750977955]
[2023,{"$f":"'Oklahoma Wind'!B33","v":1},{"$f":"'Oklahoma Wind'!D33","v":2555289.0000000005},-127764.45000000003,2427524.5500000003,82.773556325302948,{"$f":"'Oklahoma Wind'!I33","v":24.186335367252397},{"$f":"'Oklahoma Wind'!R33","v":-25.503857921464018},{"$f":"-$C$8*12*'Oklahoma Wind'!$D$5/1000*B16","v":-52.8},-78.303857921464015,28.65603377109133,{"$f":"'Oklahoma Wind'!U33","v":-108.17560975609757},-79.519575985006242,{"$f":"+'Inputs and Summary'!$B$5","v":0.35},27.831851594752184,{"$f":"'Oklahoma Wind'!Z33","v":74.103381000000013},null,130.59126636584352]
[2024,{"$f":"'Oklahoma Wind'!B34","v":1},{"$f":"'Oklahoma Wind'!D34","v":2555289.0000000005},-127764.45000000003,2427524.5500000003,82.773556325302948,{"$f":"'Oklahoma Wind'!I34","v":24.7909937514337},{"$f":"'Oklahoma Wind'!R34","v":-31.776614036520137},{"$f":"-$C$8*12*'Oklahoma Wind'!$D$5/1000*B17","v":-52.8},-84.576614036520141,22.98793604021651,{"$f":"'Oklahoma Wind'!U34","v":-54.087804878048878},-31.099868837832368,{"$f":"+'Inputs and Summary'!$B$5","v":0.35},10.884954093241328,{"$f":"'Oklahoma Wind'!Z34","v":74.103381000000013},null,107.97627113345786]
[2025,{"$f":"'Oklahoma Wind'!B35","v":1},{"$f":"'Oklahoma Wind'!D35","v":2555289.0000000005},-127764.45000000003,2427524.5500000003,82.773556325302948,{"$f":"'Oklahoma Wind'!I35","v":25.410768595219544},{"$f":"'Oklahoma Wind'!R35","v":-32.299493131188584},{"$f":"-$C$8*12*'Oklahoma Wind'!$D$5/1000*B18","v":-52.8},-85.099493131188581,23.084831789333919,{"$f":"'Oklahoma Wind'!U35","v":0},23.084831789333919,{"$f":"+'Inputs and Summary'!$B$5","v":0.35},-8.0796911262668711,{"$f":"'Oklahoma Wind'!Z35","v":76.658670000000015},null,91.663810663067068]
[2026,{"$f":"'Oklahoma Wind'!B36","v":1},{"$f":"'Oklahoma Wind'!D36","v":2555289.0000000005},-127764.45000000003,2427524.5500000003,82.773556325302948,{"$f":"'Oklahoma Wind'!I36","v":26.046037810100028},{"$f":"'Oklahoma Wind'!R36","v":-32.88993580532896},{"$f":"-$C$8*12*'Oklahoma Wind'!$D$5/1000*B19","v":-52.8},-85.689935805328957,23.129658330074022,{"$f":"'Oklahoma Wind'!U36","v":0},23.129658330074022,{"$f":"+'Inputs and Summary'!$B$5","v":0.35},-8.0953804155259075,{"$f":"'Oklahoma Wind'!Z36","v":79.213959000000017},null,94.24823691454813]
[2027,{"$f":"'Oklahoma Wind'!B37","v":1},{"$f":"'Oklahoma Wind'!D37","v":2555289.0000000005},-127764.45000000003,2427524.5500000003,82.773556325302948,{"$f":"'Oklahoma Wind'!I37","v":26.697188755352524},{"$f":"'Oklahoma Wind'!R37","v":-33.513845932966689},{"$f":"-$C$8*12*'Oklahoma Wind'!$D$5/1000*B20","v":-52.8},-86.313845932966686,23.15689914768879,{"$f":"'Oklahoma Wind'!U37","v":0},23.15689914768879,{"$f":"+'Inputs and Summary'!$B$5","v":0.35},-8.1049147016910759,{"$f":"'Oklahoma Wind'!Z37","v":81.769248000000019},null,96.821232445997737]
[2028,{"$f":"'Oklahoma Wind'!B38","v":1},{"$f":"'Oklahoma Wind'!D38","v":2555289.0000000005},-127764.45000000003,2427524.5500000003,82.773556325302948,{"$f":"'Oklahoma Wind'!I38","v":27.36461847423633},{"$f":"'Oklahoma Wind'!R38","v":-34.132669823754668},{"$f":"-$C$8*12*'Oklahoma Wind'!$D$5/1000*B21","v":-52.8},-86.932669823754665,23.205504975784621,{"$f":"'Oklahoma Wind'!U38","v":0},23.205504975784621,{"$f":"+'Inputs and Summary'!$B$5","v":0.35},-8.1219267415246161,{"$f":"'Oklahoma Wind'!Z38","v":81.769248000000019},null,96.852826234260021]
[2029,{"$f":"'Oklahoma Wind'!B39","v":1},{"$f":"'Oklahoma Wind'!D39","v":2555289.0000000005},-127764.45000000003,2427524.5500000003,82.773556325302948,{"$f":"'Oklahoma Wind'!I39","v":28.048733936092237},{"$f":"'Oklahoma Wind'!R39","v":-34.862297814244613},{"$f":"-$C$8*12*'Oklahoma Wind'!$D$5/1000*B22","v":-52.8},-87.66229781424461,23.159992447150572,{"$f":"'Oklahoma Wind'!U39","v":0},23.159992447150572,{"$f":"+'Inputs and Summary'!$B$5","v":0.35},-8.1059973565026997,{"$f":"'Oklahoma Wind'!Z39","v":0},null,15.053995090647872]
[2030,{"$f":"'Oklahoma Wind'!B40","v":1},{"$f":"'Oklahoma Wind'!D40","v":2555289.0000000005},-127764.45000000003,2427524.5500000003,82.773556325302948,{"$f":"'Oklahoma Wind'!I40","v":28.74995228449454},{"$f":"'Oklahoma Wind'!R40","v":-35.765446095487079},{"$f":"-$C$8*12*'Oklahoma Wind'!$D$5/1000*B23","v":-52.8},-88.565446095487076,22.958062514310413,{"$f":"'Oklahoma Wind'!U40","v":0},22.958062514310413,{"$f":"+'Inputs and Summary'!$B$5","v":0.35},-8.0353218800086434,{"$f":"'Oklahoma Wind'!Z40","v":0},null,14.922740634301769]
[2031,{"$f":"'Oklahoma Wind'!B41","v":1},{"$f":"'Oklahoma Wind'!D41","v":2555289.0000000005},-127764.45000000003,2427524.5500000003,82.773556325302948,{"$f":"'Oklahoma Wind'!I41","v":29.468701091606903},{"$f":"'Oklahoma Wind'!R41","v":-36.671771173780343},{"$f":"-$C$8*12*'Oklahoma Wind'!$D$5/1000*B24","v":-52.8},-89.47177117378034,22.770486243129511,{"$f":"'Oklahoma Wind'!U41","v":0},22.770486243129511,{"$f":"+'Inputs and Summary'!$B$5","v":0.35},-7.9696701850953282,{"$f":"'Oklahoma Wind'!Z41","v":0},null,14.800816058034183]
[2032,{"$f":"'Oklahoma Wind'!B42","v":1},{"$f":"'Oklahoma Wind'!D42","v":2555289.0000000005},-127764.45000000003,2427524.5500000003,82.773556325302948,{"$f":"'Oklahoma Wind'!I42","v":30.20541861889707},{"$f":"'Oklahoma Wind'!R42","v":-37.688300839496804},{"$f":"-$C$8*12*'Oklahoma Wind'!$D$5/1000*B25","v":-52.8},-90.488300839496802,22.490674104703217,{"$f":"'Oklahoma Wind'!U42","v":0},22.490674104703217,{"$f":"+'Inputs and Summary'!$B$5","v":0.35},-7.8717359366461253,{"$f":"'Oklahoma Wind'!Z42","v":0},null,14.618938168057092]
[2033,{"$f":"'Oklahoma Wind'!B43","v":1},{"$f":"'Oklahoma Wind'!D43","v":2555289.0000000005},-127764.45000000003,2427524.5500000003,82.773556325302948,{"$f":"'Oklahoma Wind'!I43","v":30.960554084369495},{"$f":"'Oklahoma Wind'!R43","v":-38.745970550684063},{"$f":"-$C$8*12*'Oklahoma Wind'!$D$5/1000*B26","v":-52.8},-91.545970550684061,22.188139858988379,{"$f":"'Oklahoma Wind'!U43","v":0},22.188139858988379,{"$f":"+'Inputs and Summary'!$B$5","v":0.35},-7.7658489506459318,{"$f":"'Oklahoma Wind'!Z43","v":0},null,14.422290908342447]
[2034,{"$f":"'Oklahoma Wind'!B44","v":1},{"$f":"'Oklahoma Wind'!D44","v":2555289.0000000005},-127764.45000000003,2427524.5500000003,82.773556325302948,{"$f":"'Oklahoma Wind'!I44","v":31.734567936478729},{"$f":"'Oklahoma Wind'!R44","v":-39.846220208933609},{"$f":"-$C$8*12*'Oklahoma Wind'!$D$5/1000*B27","v":-52.8},-92.646220208933613,21.861904052848061,{"$f":"'Oklahoma Wind'!U44","v":0},21.861904052848061,{"$f":"+'Inputs and Summary'!$B$5","v":0.35},-7.6516664184968208,{"$f":"'Oklahoma Wind'!Z44","v":0},null,14.210237634351241]
[2035,{"$f":"'Oklahoma Wind'!B45","v":1},{"$f":"'Oklahoma Wind'!D45","v":2555289.0000000005},-127764.45000000003,2427524.5500000003,82.773556325302948,{"$f":"'Oklahoma Wind'!I45","v":32.52793213489069},{"$f":"'Oklahoma Wind'!R45","v":-40.99054011239263},{"$f":"-$C$8*12*'Oklahoma Wind'!$D$5/1000*B28","v":-52.8},-93.79054011239262,21.510948347801019,{"$f":"'Oklahoma Wind'!U45","v":0},21.510948347801019,{"$f":"+'Inputs and Summary'!$B$5","v":0.35},-7.5288319217303563,{"$f":"'Oklahoma Wind'!Z45","v":0},null,13.982116426070663]
[2036,{"$f":"'Oklahoma Wind'!B46","v":1},{"$f":"'Oklahoma Wind'!D46","v":2555289.0000000005},-127764.45000000003,2427524.5500000003,82.773556325302948,{"$f":"'Oklahoma Wind'!I46","v":33.341130438262951},{"$f":"'Oklahoma Wind'!R46","v":-42.140747668423927},{"$f":"-$C$8*12*'Oklahoma Wind'!$D$5/1000*B29","v":-52.8},-94.940747668423924,21.173939095141975,{"$f":"'Oklahoma Wind'!U46","v":0},21.173939095141975,{"$f":"+'Inputs and Summary'!$B$5","v":0.35},-7.4108786832996909,{"$f":"'Oklahoma Wind'!Z46","v":0},null,13.763060411842284]
[2037,{"$f":"'Oklahoma Wind'!B47","v":1},{"$f":"'Oklahoma Wind'!D47","v":2555289.0000000005},-127764.45000000003,2427524.5500000003,82.773556325302948,{"$f":"'Oklahoma Wind'!I47","v":34.174658699219528},{"$f":"'Oklahoma Wind'!R47","v":-43.338164372879739},{"$f":"-$C$8*12*'Oklahoma Wind'!$D$5/1000*B30","v":-52.8},-96.138164372879743,20.81005065164274,{"$f":"'Oklahoma Wind'!U47","v":0},20.81005065164274,{"$f":"+'Inputs and Summary'!$B$5","v":0.35},-7.2835177280749583,{"$f":"'Oklahoma Wind'!Z47","v":0},null,13.526532923567782]
[2038,{"$f":"'Oklahoma Wind'!B48","v":1},{"$f":"'Oklahoma Wind'!D48","v":2555289.0000000005},-127764.45000000003,2427524.5500000003,82.773556325302948,{"$f":"'Oklahoma Wind'!I48","v":35.029025166700009},{"$f":"'Oklahoma Wind'!R48","v":-44.624167597174427},{"$f":"-$C$8*12*'Oklahoma Wind'!$D$5/1000*B31","v":-52.8},-97.424167597174431,20.378413894828526,{"$f":"'Oklahoma Wind'!U48","v":0},20.378413894828526,{"$f":"+'Inputs and Summary'!$B$5","v":0.35},-7.1324448631899839,{"$f":"'Oklahoma Wind'!Z48","v":0},null,13.245969031638541]
[2039,{"$f":"'Oklahoma Wind'!B49","v":1},{"$f":"'Oklahoma Wind'!D49","v":2555289.0000000005},-127764.45000000003,2427524.5500000003,82.773556325302948,{"$f":"'Oklahoma Wind'!I49","v":35.904750795867514},{"$f":"'Oklahoma Wind'!R49","v":-46.040192543929187},{"$f":"-$C$8*12*'Oklahoma Wind'!$D$5/1000*B32","v":-52.8},-98.840192543929192,19.838114577241271,{"$f":"'Oklahoma Wind'!U49","v":0},19.838114577241271,{"$f":"+'Inputs and Summary'!$B$5","v":0.35},-6.9433401020344441,{"$f":"'Oklahoma Wind'!Z49","v":0},null,12.894774475206827]
[2040,{"$f":"'Oklahoma Wind'!B50","v":1},{"$f":"'Oklahoma Wind'!D50","v":2555289.0000000005},-127764.45000000003,2427524.5500000003,82.773556325302948,{"$f":"'Oklahoma Wind'!I50","v":36.802369565764195},{"$f":"'Oklahoma Wind'!R50","v":-47.508559117405731},{"$f":"-$C$8*12*'Oklahoma Wind'!$D$5/1000*B33","v":-52.8},-100.30855911740574,19.267366773661408,{"$f":"'Oklahoma Wind'!U50","v":0},19.267366773661408,{"$f":"+'Inputs and Summary'!$B$5","v":0.35},-6.743578370781492,{"$f":"'Oklahoma Wind'!Z50","v":0},null,12.523788402879916]
[2041,{"$f":"'Oklahoma Wind'!B51","v":1},{"$f":"'Oklahoma Wind'!D51","v":2555289.0000000005},-127764.45000000003,2427524.5500000003,82.773556325302948,{"$f":"'Oklahoma Wind'!I51","v":37.722428804908297},{"$f":"'Oklahoma Wind'!R51","v":-49.031099274539322},{"$f":"-$C$8*12*'Oklahoma Wind'!$D$5/1000*B34","v":-52.8},-101.83109927453933,18.664885855671912,{"$f":"'Oklahoma Wind'!U51","v":0},18.664885855671912,{"$f":"+'Inputs and Summary'!$B$5","v":0.35},-6.5327100494851686,{"$f":"'Oklahoma Wind'!Z51","v":0},null,12.132175806186744]
[2042,{"$f":"'Oklahoma Wind'!B52","v":1},{"$f":"'Oklahoma Wind'!D52","v":2555289.0000000005},-127764.45000000003,2427524.5500000003,82.773556325302948,{"$f":"'Oklahoma Wind'!I52","v":38.665489525031006},{"$f":"'Oklahoma Wind'!R52","v":-50.649434141977466},{"$f":"-$C$8*12*'Oklahoma Wind'!$D$5/1000*B35","v":-52.8},-103.44943414197746,17.989611708356492,{"$f":"'Oklahoma Wind'!U52","v":0},17.989611708356492,{"$f":"+'Inputs and Summary'!$B$5","v":0.35},-6.2963640979247719,{"$f":"'Oklahoma Wind'!Z52","v":0},null,11.693247610431719]
[2043,{"$f":"'Oklahoma Wind'!B53","v":1},{"$f":"'Oklahoma Wind'!D53","v":2555289.0000000005},-127764.45000000003,2427524.5500000003,82.773556325302948,{"$f":"'Oklahoma Wind'!I53","v":39.632126763156776},{"$f":"'Oklahoma Wind'!R53","v":-52.325801106568626},{"$f":"-$C$8*12*'Oklahoma Wind'!$D$5/1000*B36","v":-52.8},-105.12580110656862,17.279881981891108,{"$f":"'Oklahoma Wind'!U53","v":0},17.279881981891108,{"$f":"+'Inputs and Summary'!$B$5","v":0.35},-6.0479586936618874,{"$f":"'Oklahoma Wind'!Z53","v":0},null,11.231923288229222]
[2044,{"$f":"'Oklahoma Wind'!B54","v":0},{"$f":"'Oklahoma Wind'!D54","v":0},0,0,0,{"$f":"'Oklahoma Wind'!I54","v":0},{"$f":"'Oklahoma Wind'!R54","v":0},{"$f":"-$C$8*12*'Oklahoma Wind'!$D$5/1000*B37","v":0},0,0,{"$f":"'Oklahoma Wind'!U54","v":0},0,{"$f":"+'Inputs and Summary'!$B$5","v":0.35},0,{"$f":"'Oklahoma Wind'!Z54","v":0},null,0]
[2045,{"$f":"'Oklahoma Wind'!B55","v":0},{"$f":"'Oklahoma Wind'!D55","v":0},0,0,0,{"$f":"'Oklahoma Wind'!I55","v":0},{"$f":"'Oklahoma Wind'!R55","v":0},{"$f":"-$C$8*12*'Oklahoma Wind'!$D$5/1000*B38","v":0},0,0,{"$f":"'Oklahoma Wind'!U55","v":0},0,{"$f":"+'Inputs and Summary'!$B$5","v":0.35},0,{"$f":"'Oklahoma Wind'!Z55","v":0},null,0]
[2046,{"$f":"'Oklahoma Wind'!B56","v":0},{"$f":"'Oklahoma Wind'!D56","v":0},0,0,0,{"$f":"'Oklahoma Wind'!I56","v":0},{"$f":"'Oklahoma Wind'!R56","v":0},{"$f":"-$C$8*12*'Oklahoma Wind'!$D$5/1000*B39","v":0},0,0,{"$f":"'Oklahoma Wind'!U56","v":0},0,{"$f":"+'Inputs and Summary'!$B$5","v":0.35},0,{"$f":"'Oklahoma Wind'!Z56","v":0},null,0]
[2047,{"$f":"'Oklahoma Wind'!B57","v":0},{"$f":"'Oklahoma Wind'!D57","v":0},0,0,0,{"$f":"'Oklahoma Wind'!I57","v":0},{"$f":"'Oklahoma Wind'!R57","v":0},{"$f":"-$C$8*12*'Oklahoma Wind'!$D$5/1000*B40","v":0},0,0,{"$f":"'Oklahoma Wind'!U57","v":0},0,{"$f":"+'Inputs and Summary'!$B$5","v":0.35},0,{"$f":"'Oklahoma Wind'!Z57","v":0},null,0]
[2048,{"$f":"'Oklahoma Wind'!B58","v":0},{"$f":"'Oklahoma Wind'!D58","v":0},0,0,0,{"$f":"'Oklahoma Wind'!I58","v":0},{"$f":"'Oklahoma Wind'!R58","v":0},{"$f":"-$C$8*12*'Oklahoma Wind'!$D$5/1000*B41","v":0},0,0,{"$f":"'Oklahoma Wind'!U58","v":0},0,{"$f":"+'Inputs and Summary'!$B$5","v":0.35},0,{"$f":"'Oklahoma Wind'!Z58","v":0},null,0]
[2049,{"$f":"'Oklahoma Wind'!B59","v":0},{"$f":"'Oklahoma Wind'!D59","v":0},0,0,0,{"$f":"'Oklahoma Wind'!I59","v":0},{"$f":"'Oklahoma Wind'!R59","v":0},{"$f":"-$C$8*12*'Oklahoma Wind'!$D$5/1000*B42","v":0},0,0,{"$f":"'Oklahoma Wind'!U59","v":0},0,{"$f":"+'Inputs and Summary'!$B$5","v":0.35},0,{"$f":"'Oklahoma Wind'!Z59","v":0},null,0]
[2050,{"$f":"'Oklahoma Wind'!B60","v":0},{"$f":"'Oklahoma Wind'!D60","v":0},0,0,{"$f":"+E43*$B$82/10^6","v":0},{"$f":"'Oklahoma Wind'!I60","v":0},{"$f":"'Oklahoma Wind'!R60","v":0},{"$f":"-$C$8*12*'Oklahoma Wind'!$D$5/1000*B43","v":0},{"$f":"+H43+I43","v":0},{"$f":"+F43+G43+J43","v":0},{"$f":"'Oklahoma Wind'!U60","v":0},0,{"$f":"+'Inputs and Summary'!$B$5","v":0.35},0,{"$f":"'Oklahoma Wind'!Z60","v":0},null,{"$f":"+K43+O43+P43+Q43","v":0}]
[2051,{"$f":"'Oklahoma Wind'!B61","v":0},{"$f":"'Oklahoma Wind'!D61","v":0},0,0,0,{"$f":"'Oklahoma Wind'!I61","v":0},{"$f":"'Oklahoma Wind'!R61","v":0},{"$f":"-$C$8*12*'Oklahoma Wind'!$D$5/1000*B44","v":0},0,0,{"$f":"'Oklahoma Wind'!U61","v":0},0,{"$f":"+'Inputs and Summary'!$B$5","v":0.35},0,{"$f":"'Oklahoma Wind'!Z61","v":0},null,0]
[2052,{"$f":"'Oklahoma Wind'!B62","v":0},{"$f":"'Oklahoma Wind'!D62","v":0},0,0,0,{"$f":"'Oklahoma Wind'!I62","v":0},{"$f":"'Oklahoma Wind'!R62","v":0},{"$f":"-$C$8*12*'Oklahoma Wind'!$D$5/1000*B45","v":0},0,0,{"$f":"'Oklahoma Wind'!U62","v":0},0,{"$f":"+'Inputs and Summary'!$B$5","v":0.35},0,{"$f":"'Oklahoma Wind'!Z62","v":0},null,0]
[2053,{"$f":"'Oklahoma Wind'!B63","v":0},{"$f":"'Oklahoma Wind'!D63","v":0},0,0,0,{"$f":"'Oklahoma Wind'!I63","v":0},{"$f":"'Oklahoma Wind'!R63","v":0},{"$f":"-$C$8*12*'Oklahoma Wind'!$D$5/1000*B46","v":0},0,0,{"$f":"'Oklahoma Wind'!U63","v":0},0,{"$f":"+'Inputs and Summary'!$B$5","v":0.35},0,{"$f":"'Oklahoma Wind'!Z63","v":0},null,0]
[2054,{"$f":"'Oklahoma Wind'!B64","v":0},{"$f":"'Oklahoma Wind'!D64","v":0},0,0,0,{"$f":"'Oklahoma Wind'!I64","v":0},{"$f":"'Oklahoma Wind'!R64","v":0},{"$f":"-$C$8*12*'Oklahoma Wind'!$D$5/1000*B47","v":0},0,0,{"$f":"'Oklahoma Wind'!U64","v":0},0,{"$f":"+'Inputs and Summary'!$B$5","v":0.35},0,{"$f":"'Oklahoma Wind'!Z64","v":0},null,0]
[2055,{"$f":"'Oklahoma Wind'!B65","v":0},{"$f":"'Oklahoma Wind'!D65","v":0},0,0,0,{"$f":"'Oklahoma Wind'!I65","v":0},{"$f":"'Oklahoma Wind'!R65","v":0},{"$f":"-$C$8*12*'Oklahoma Wind'!$D$5/1000*B48","v":0},0,0,{"$f":"'Oklahoma Wind'!U65","v":0},0,{"$f":"+'Inputs and Summary'!$B$5","v":0.35},0,{"$f":"'Oklahoma Wind'!Z65","v":0},null,0]
[2056,{"$f":"'Oklahoma Wind'!B66","v":0},{"$f":"'Oklahoma Wind'!D66","v":0},0,0,0,{"$f":"'Oklahoma Wind'!I66","v":0},{"$f":"'Oklahoma Wind'!R66","v":0},{"$f":"-$C$8*12*'Oklahoma Wind'!$D$5/1000*B49","v":0},0,0,{"$f":"'Oklahoma Wind'!U66","v":0},0,{"$f":"+'Inputs and Summary'!$B$5","v":0.35},0,{"$f":"'Oklahoma Wind'!Z66","v":0},null,0]
[2057,{"$f":"'Oklahoma Wind'!B67","v":0},{"$f":"'Oklahoma Wind'!D67","v":0},0,0,0,{"$f":"'Oklahoma Wind'!I67","v":0},{"$f":"'Oklahoma Wind'!R67","v":0},{"$f":"-$C$8*12*'Oklahoma Wind'!$D$5/1000*B50","v":0},0,0,{"$f":"'Oklahoma Wind'!U67","v":0},0,{"$f":"+'Inputs and Summary'!$B$5","v":0.35},0,{"$f":"'Oklahoma Wind'!Z67","v":0},null,0]
[2058,{"$f":"'Oklahoma Wind'!B68","v":0},{"$f":"'Oklahoma Wind'!D68","v":0},0,0,0,{"$f":"'Oklahoma Wind'!I68","v":0},{"$f":"'Oklahoma Wind'!R68","v":0},{"$f":"-$C$8*12*'Oklahoma Wind'!$D$5/1000*B51","v":0},0,0,{"$f":"'Oklahoma Wind'!U68","v":0},0,{"$f":"+'Inputs and Summary'!$B$5","v":0.35},0,{"$f":"'Oklahoma Wind'!Z68","v":0},null,0]
[2059,{"$f":"'Oklahoma Wind'!B69","v":0},{"$f":"'Oklahoma Wind'!D69","v":0},0,0,0,{"$f":"'Oklahoma Wind'!I69","v":0},{"$f":"'Oklahoma Wind'!R69","v":0},{"$f":"-$C$8*12*'Oklahoma Wind'!$D$5/1000*B52","v":0},0,0,{"$f":"'Oklahoma Wind'!U69","v":0},0,{"$f":"+'Inputs and Summary'!$B$5","v":0.35},0,{"$f":"'Oklahoma Wind'!Z69","v":0},null,0]
[2060,{"$f":"'Oklahoma Wind'!B70","v":0},{"$f":"'Oklahoma Wind'!D70","v":0},0,0,0,{"$f":"'Oklahoma Wind'!I70","v":0},{"$f":"'Oklahoma Wind'!R70","v":0},{"$f":"-$C$8*12*'Oklahoma Wind'!$D$5/1000*B53","v":0},0,0,{"$f":"'Oklahoma Wind'!U70","v":0},0,{"$f":"+'Inputs and Summary'!$B$5","v":0.35},0,{"$f":"'Oklahoma Wind'!Z70","v":0},null,0]
[2061,{"$f":"'Oklahoma Wind'!B71","v":0},{"$f":"'Oklahoma Wind'!D71","v":0},0,0,0,{"$f":"'Oklahoma Wind'!I71","v":0},{"$f":"'Oklahoma Wind'!R71","v":0},{"$f":"-$C$8*12*'Oklahoma Wind'!$D$5/1000*B54","v":0},0,0,{"$f":"'Oklahoma Wind'!U71","v":0},0,{"$f":"+'Inputs and Summary'!$B$5","v":0.35},0,{"$f":"'Oklahoma Wind'!Z71","v":0},null,0]
[2062,{"$f":"'Oklahoma Wind'!B72","v":0},{"$f":"'Oklahoma Wind'!D72","v":0},0,0,0,{"$f":"'Oklahoma Wind'!I72","v":0},{"$f":"'Oklahoma Wind'!R72","v":0},{"$f":"-$C$8*12*'Oklahoma Wind'!$D$5/1000*B55","v":0},0,0,{"$f":"'Oklahoma Wind'!U72","v":0},0,{"$f":"+'Inputs and Summary'!$B$5","v":0.35},0,{"$f":"'Oklahoma Wind'!Z72","v":0},null,0]
[2063,{"$f":"'Oklahoma Wind'!B73","v":0},{"$f":"'Oklahoma Wind'!D73","v":0},0,0,0,{"$f":"'Oklahoma Wind'!I73","v":0},{"$f":"'Oklahoma Wind'!R73","v":0},{"$f":"-$C$8*12*'Oklahoma Wind'!$D$5/1000*B56","v":0},0,0,{"$f":"'Oklahoma Wind'!U73","v":0},0,{"$f":"+'Inputs and Summary'!$B$5","v":0.35},0,{"$f":"'Oklahoma Wind'!Z73","v":0},null,0]
[2064,{"$f":"'Oklahoma Wind'!B74","v":0},{"$f":"'Oklahoma Wind'!D74","v":0},0,0,0,{"$f":"'Oklahoma Wind'!I74","v":0},{"$f":"'Oklahoma Wind'!R74","v":0},{"$f":"-$C$8*12*'Oklahoma Wind'!$D$5/1000*B57","v":0},0,0,{"$f":"'Oklahoma Wind'!U74","v":0},0,{"$f":"+'Inputs and Summary'!$B$5","v":0.35},0,{"$f":"'Oklahoma Wind'!Z74","v":0},null,0]
[2065,{"$f":"'Oklahoma Wind'!B75","v":0},{"$f":"'Oklahoma Wind'!D75","v":0},0,0,0,{"$f":"'Oklahoma Wind'!I75","v":0},{"$f":"'Oklahoma Wind'!R75","v":0},{"$f":"-$C$8*12*'Oklahoma Wind'!$D$5/1000*B58","v":0},0,0,{"$f":"'Oklahoma Wind'!U75","v":0},0,{"$f":"+'Inputs and Summary'!$B$5","v":0.35},0,{"$f":"'Oklahoma Wind'!Z75","v":0},null,0]
[2066,{"$f":"'Oklahoma Wind'!B76","v":0},{"$f":"'Oklahoma Wind'!D76","v":0},0,0,0,{"$f":"'Oklahoma Wind'!I76","v":0},{"$f":"'Oklahoma Wind'!R76","v":0},{"$f":"-$C$8*12*'Oklahoma Wind'!$D$5/1000*B59","v":0},0,0,{"$f":"'Oklahoma Wind'!U76","v":0},0,{"$f":"+'Inputs and Summary'!$B$5","v":0.35},0,{"$f":"'Oklahoma Wind'!Z76","v":0},null,0]
[2067,{"$f":"'Oklahoma Wind'!B77","v":0},{"$f":"'Oklahoma Wind'!D77","v":0},0,0,0,{"$f":"'Oklahoma Wind'!I77","v":0},{"$f":"'Oklahoma Wind'!R77","v":0},{"$f":"-$C$8*12*'Oklahoma Wind'!$D$5/1000*B60","v":0},0,0,{"$f":"'Oklahoma Wind'!U77","v":0},0,{"$f":"+'Inputs and Summary'!$B$5","v":0.35},0,{"$f":"'Oklahoma Wind'!Z77","v":0},null,0]
[2068,{"$f":"'Oklahoma Wind'!B78","v":0},{"$f":"'Oklahoma Wind'!D78","v":0},0,0,0,{"$f":"'Oklahoma Wind'!I78","v":0},{"$f":"'Oklahoma Wind'!R78","v":0},{"$f":"-$C$8*12*'Oklahoma Wind'!$D$5/1000*B61","v":0},0,0,{"$f":"'Oklahoma Wind'!U78","v":0},0,{"$f":"+'Inputs and Summary'!$B$5","v":0.35},0,{"$f":"'Oklahoma Wind'!Z78","v":0},null,0]
[2069,{"$f":"'Oklahoma Wind'!B79","v":0},{"$f":"'Oklahoma Wind'!D79","v":0},0,0,0,{"$f":"'Oklahoma Wind'!I79","v":0},{"$f":"'Oklahoma Wind'!R79","v":0},{"$f":"-$C$8*12*'Oklahoma Wind'!$D$5/1000*B62","v":0},0,0,{"$f":"'Oklahoma Wind'!U79","v":0},0,{"$f":"+'Inputs and Summary'!$B$5","v":0.35},0,{"$f":"'Oklahoma Wind'!Z79","v":0},null,0]
[2070,{"$f":"'Oklahoma Wind'!B80","v":0},{"$f":"'Oklahoma Wind'!D80","v":0},0,0,0,{"$f":"'Oklahoma Wind'!I80","v":0},{"$f":"'Oklahoma Wind'!R80","v":0},{"$f":"-$C$8*12*'Oklahoma Wind'!$D$5/1000*B63","v":0},0,0,{"$f":"'Oklahoma Wind'!U80","v":0},0,{"$f":"+'Inputs and Summary'!$B$5","v":0.35},0,{"$f":"'Oklahoma Wind'!Z80","v":0},null,0]
["x","x","x","x","x","x","x","x","x","x","x","x","x","x","x","x","x","x"]
[]
[]
[]
["Transmission Tariff Calculation"]
[]
["Expenses","NPV"]
["Capacity Revenue",{"$f":"NPV('Inputs and Summary'!$B$12,'Oklahoma Wind + P&E'!$G$11:$G$63)","v":275.13334215710768}]
[{"$f":"H10","v":"Expenses"},{"$f":"NPV('Inputs and Summary'!$B$12,'Oklahoma Wind + P&E'!$J$11:$J$63)","v":-860.79494051854374}]
["Capital Costs",{"$f":"NPV('Inputs and Summary'!$B$12,'Oklahoma Wind + P&E'!$Q$11:$Q$63)","v":-871.18115759610589}]
["PTCs",{"$f":"NPV('Inputs and Summary'!$B$12,'Oklahoma Wind + P&E'!$P$11:$P$63)","v":460.5336309132627}]
["Tax Depreciation",{"$f":"-NPV('Inputs and Summary'!$B$12,'Oklahoma Wind + P&E'!$L$11:$L$63)*'Inputs and Summary'!$B$5","v":248.67335209344782}]
["Other Income Taxes",{"$f":"-(B71+B72)*'Inputs and Summary'!$B$5","v":204.9815594265026}]
[null,{"$f":"+SUM(B71:B76)","v":-542.65421352432895}]
["Capitalization Factor",{"$f":"NPV('Inputs and Summary'!$B$12,'Oklahoma Wind + P&E'!$B$11:$B$63)","v":10.085982447223548}]
["Annual RR (After-tax)",{"$f":"-B77/B78","v":53.80281161144692}]
["Annual RR (Pre-tax)",{"$f":"+B79/(1-'Inputs and Summary'!$B$5)","v":82.773556325302948}]
[]
["LCOE($/MWh)",{"$f":"B80*10^6/(E12)","v":34.09792758853991}]

{"sheet":"Oklahoma Wind","index":10,"n_rows":100,"n_cols":28,"rows_kept":100,"cut":false,"hidden":false,"merged":[]}
["Oklahoma Wind Energy"]
["Name",null,null,"Oklahoma Wind"]
[]
["Oklahoma Wind Energy",null,null,null,"Source"]
["Size (MW)",null,null,550]
["Capital cost (2012 $mm/MW)",null,null,1.75,"LBL: 2012 Wind Technologies Market Report",null,null,null,"includes regional cost adjustments"]
["Capital Cost (2011 $mm)",null,null,{"$f":"+D5*D6/(1+'Inputs and Summary'!$B$4)","v":939.02439024390253}]
[]
["O&M (2011 $/MWh)",null,null,{"$f":"7.5*(1+'Inputs and Summary'!$B$4)^(A28-'Inputs and Summary'!$B$14)/(1+'Inputs and Summary'!$B$4)","v":8.6977006365966769},{"$f":"E6","v":"LBL: 2012 Wind Technologies Market Report"}]
["O&M Escalation (on top of inflation)",null,null,0.01]
["Property Tax",null,null,"below"]
["Tax depreciation",null,null,"5-year MACRS"]
[]
["Useful Life (Years)",null,null,25,12,"<= For Nacelle"]
["PTC Base Year",null,null,2014]
["Capacity Credit (%)",null,null,{"$f":"37.6%*'Oklahoma Wind + P&E'!$C$6/'Oklahoma Wind'!$D$5","v":0.3418181818181818},"Net Capacity Credit (after losses)"]
[]
["OK assumes different economic life for different parts",null,null,null,"12 years for nacelle, 25 for everything else"]
["Depreciation table",null,null,null,"http://www.tax.ok.gov/advform/2014BusinessPersonalProperty-Final.pdf. Pg.152"]
["% of overnight capital costs - nacelle",null,null,0.47,"http://www.nrel.gov/docs/fy13osti/56266.pdf",null,null,null,"(defining rotor and drivetrain/nacelle as moving parts)"]
["Residual Value (% of Capital Cost)",null,null,0.2]
["Assessment Percentage on Commercial Property in OK",null,null,0.13,"http://www.tax.ok.gov/advform/2012StatBook.pdf",null,null,null,null,"(using Beaver, Cimarron, Texas county info)"]
["Property Tax Rate",null,null,6.1400000000000003E-2,"http://www.tax.ok.gov/advform/2012StatBook.pdf",null,null,null,null,"(using Beaver, Cimarron, Texas county info)"]
["Property Tax Exemption for Wind Generators",null,null,null,"http://www.dsireusa.org/incentives/incentive.cfm?Incentive_Code=OK38F&re=0&ee=0",null,null,null,null,"(Section 2902-C-8)"]
[]
[null,null,null,null,null,null,null,null,null,null,null,null,null,null,null,null,null,null,null,null,null,null,null,null,null,null,"IRR",{"$f":"IRR(AB28:AB80)","v":7.7875000000000583E-2}]
["Year","In-Service","PTC Eligible","Generation (MWh/a)","PTC Eligible Generation (MWh/a)","Energy Revenue ($mm)","Capacity Credit (MW)","Capacity Price ($k/MW-yr)","Capacity Revenue ($mm)","Expenses ($mm)","Nacelle Depreciation Table (%)","Rest of Turbine Depreciation Table (%)","Nacelle Asset Value ($mm)","Rest of Turbine Asset Value ($mm)","Total Asset Value ($mm)","Property Tax Exemption","Property Tax","Total Expenses","EBITDA","Tax Depreciation (%)","Tax Depreciation","Taxable Income","Tax Rate","Cash Taxes","Production Tax Credit Value ($/MWh)","Production Tax Credits ($mm)","Capital Costs","After-tax Cash Flow"]
[2018,0,null,null,null,{"$f":"+B28*$B$98","v":0},{"$f":"B28*$D$16*$D$5","v":0},{"$f":"'Inputs and Summary'!$B$15*(1+'Inputs and Summary'!$B$4)^(A28-'Inputs and Summary'!$B$14)","v":113.70849051014754},{"$f":"+G28*H28/10^3","v":0},{"$f":"-$D$9*D28/10^6","v":0},100,100,{"$f":"$D$20*$D$7","v":441.34146341463418},{"$f":"(1-$D$20)*$D$7","v":497.68292682926835},{"$f":"M28+N28","v":939.02439024390253},null,{"$f":"-O28*$D$23*$D$22*B28*(1-P28)","v":0},{"$f":"+J28+Q28","v":0},{"$f":"+F28+I28+R28","v":0},null,{"$f":"-T28*$D$7","v":0},{"$f":"+S28+U28","v":0},{"$f":"+'Inputs and Summary'!$B$5","v":0.35},{"$f":"-V28*W28","v":0},{"$f":"+ROUND('Inputs and Summary'!$B$20*(1+'Inputs and Summary'!$B$4)^(A28-$D$15),0)*C28","v":0},{"$f":"+Y28*E28/10^6","v":0},{"$f":"-D7","v":-939.02439024390253},{"$f":"+S28+X28+Z28+AA28","v":-939.02439024390253}]
[{"$f":"+A28+1","v":2019},1,{"$f":"+B29","v":1},{"$f":"+'Inputs and Summary'!$B$23/100*8766*D5","v":2555289.0000000005},{"$f":"+D29*C29","v":2555289.0000000005},29.973556325302948,188,{"$f":"+H28*(1+'Inputs and Summary'!$B$4)","v":116.55120277290122},{"$f":"+G29*H29/10^3","v":21.911626121305428},{"$f":"-$D$9*D29/10^6","v":-22.225138761988489},94,98,{"$f":"$M$28*K29/100","v":414.86097560975611},{"$f":"$N$28*L29/100","v":487.72926829268295},{"$f":"M29+N29","v":902.59024390243906},1,{"$f":"-O29*$D$23*$D$22*B29*(1-P29)","v":0},{"$f":"+J29+Q29","v":-22.225138761988489},29.660043684619886,0.2,-187.80487804878052,{"$f":"+S29+U29","v":-158.14483436416063},{"$f":"+'Inputs and Summary'!$B$5","v":0.35},{"$f":"-V29*W29","v":55.350692027456219},{"$f":"+ROUND('Inputs and Summary'!$B$20*(1+'Inputs and Summary'!$B$4)^(A29-$D$15),0)*C29","v":26},66.437514000000021,null,{"$f":"+S29+X29+Z29+AA29","v":151.44824971207612}]
[{"$f":"+A29+1","v":2020},{"$f":"1*(SUM($B$26:B29)<$D$14)","v":1},{"$f":"+B30","v":1},{"$f":"+D29*B30","v":2555289.0000000005},{"$f":"+D30*C30","v":2555289.0000000005},29.973556325302948,188,{"$f":"+H29*(1+'Inputs and Summary'!$B$4)","v":119.46498284222373},{"$f":"+G30*H30/10^3","v":22.459416774338059},{"$f":"J29*(1+'Inputs and Summary'!$B$4+$D$10)*B30","v":-23.003018618658086},87,95,383.96707317073174,472.79878048780489,856.76585365853657,1,0,-23.003018618658086,29.429954480982918,0.32,-300.48780487804879,{"$f":"+S30+U30","v":-271.05785039706586},{"$f":"+'Inputs and Summary'!$B$5","v":0.35},{"$f":"-V30*W30","v":94.870247638973041},{"$f":"+ROUND('Inputs and Summary'!$B$20*(1+'Inputs and Summary'!$B$4)^(A30-$D$15),0)*C30","v":27},68.992803000000009,null,{"$f":"+S30+X30+Z30+AA30","v":193.29300511995598}]
[2021,{"$f":"1*(SUM($B$26:B30)<$D$14)","v":1},1,2555289.0000000005,2555289.0000000005,29.973556325302948,188,{"$f":"+H30*(1+'Inputs and Summary'!$B$4)","v":122.45160741327932},23.020902193696511,{"$f":"J30*(1+'Inputs and Summary'!$B$4+$D$10)*B31","v":-23.808124270311115},80,93,353.07317073170736,462.84512195121954,815.9182926829269,1,0,-23.808124270311115,29.186334248688343,0.192,-180.29268292682929,{"$f":"+S31+U31","v":-151.10634867814093},{"$f":"+'Inputs and Summary'!$B$5","v":0.35},52.887222037349325,{"$f":"+ROUND('Inputs and Summary'!$B$20*(1+'Inputs and Summary'!$B$4)^(A31-$D$15),0)*C31","v":27},68.992803000000009,null,151.06635928603768]
[2022,{"$f":"1*(SUM($B$26:B31)<$D$14)","v":1},1,2555289.0000000005,2555289.0000000005,29.973556325302948,188,{"$f":"+H31*(1+'Inputs and Summary'!$B$4)","v":125.51289759861129},23.596424748538922,{"$f":"J31*(1+'Inputs and Summary'!$B$4+$D$10)*B32","v":-24.641408619772001},73,90,322.17926829268293,447.91463414634148,770.09390243902442,1,0,-24.641408619772001,28.928572454069872,0.1152,-108.17560975609757,{"$f":"+S32+U32","v":-79.247037302027707},{"$f":"+'Inputs and Summary'!$B$5","v":0.35},27.736463055709695,{"$f":"+ROUND('Inputs and Summary'!$B$20*(1+'Inputs and Summary'!$B$4)^(A32-$D$15),0)*C32","v":28},71.548092000000011,null,128.21312750977958]
[2023,{"$f":"1*(SUM($B$26:B32)<$D$14)","v":1},1,2555289.0000000005,2555289.0000000005,29.973556325302948,188,{"$f":"+H32*(1+'Inputs and Summary'!$B$4)","v":128.65072003857657},24.186335367252397,{"$f":"J32*(1+'Inputs and Summary'!$B$4+$D$10)*B33","v":-25.503857921464018},66,87,291.28536585365856,432.98414634146349,724.26951219512205,1,0,-25.503857921464018,28.65603377109133,0.1152,-108.17560975609757,{"$f":"+S33+U33","v":-79.519575985006242},{"$f":"+'Inputs and Summary'!$B$5","v":0.35},27.831851594752184,{"$f":"+ROUND('Inputs and Summary'!$B$20*(1+'Inputs and Summary'!$B$4)^(A33-$D$15),0)*C33","v":29},74.103381000000013,null,130.59126636584352]
[2024,{"$f":"1*(SUM($B$26:B33)<$D$14)","v":1},1,2555289.0000000005,2555289.0000000005,29.973556325302948,188,{"$f":"+H33*(1+'Inputs and Summary'!$B$4)","v":131.86698803954096},24.7909937514337,{"$f":"J33*(1+'Inputs and Summary'!$B$4+$D$10)*B34","v":-26.396492948715256},58,84,255.9780487804878,418.05365853658543,674.03170731707326,null,-5.3801210878048789,-31.776614036520137,22.98793604021651,5.7600000000000096E-2,-54.087804878048878,-31.099868837832368,{"$f":"+'Inputs and Summary'!$B$5","v":0.35},10.884954093241328,{"$f":"+ROUND('Inputs and Summary'!$B$20*(1+'Inputs and Summary'!$B$4)^(A34-$D$15),0)*C34","v":29},74.103381000000013,null,107.97627113345786]
[2025,{"$f":"1*(SUM($B$26:B34)<$D$14)","v":1},1,2555289.0000000005,2555289.0000000005,29.973556325302948,188,{"$f":"+H34*(1+'Inputs and Summary'!$B$4)","v":135.16366274052947},25.410768595219544,{"$f":"J34*(1+'Inputs and Summary'!$B$4+$D$10)*B35","v":-27.320370201920287},50,81,220.67073170731709,403.12317073170738,623.79390243902446,null,-4.9791229292682937,-32.299493131188584,23.084831789333904,null,0,23.084831789333904,{"$f":"+'Inputs and Summary'!$B$5","v":0.35},-8.0796911262668658,{"$f":"+ROUND('Inputs and Summary'!$B$20*(1+'Inputs and Summary'!$B$4)^(A35-$D$15),0)*C35","v":30},76.658670000000015,null,91.663810663067053]
[2026,{"$f":"1*(SUM($B$26:B35)<$D$14)","v":1},1,2555289.0000000005,2555289.0000000005,29.973556325302948,188,{"$f":"+H35*(1+'Inputs and Summary'!$B$4)","v":138.54275430904269},26.046037810100028,{"$f":"J35*(1+'Inputs and Summary'!$B$4+$D$10)*B36","v":-28.276583158987496},43,78,189.77682926829272,388.19268292682932,577.96951219512198,null,-4.6133526463414638,-32.88993580532896,23.129658330074015,null,0,23.129658330074015,{"$f":"+'Inputs and Summary'!$B$5","v":0.35},-8.0953804155259057,{"$f":"+ROUND('Inputs and Summary'!$B$20*(1+'Inputs and Summary'!$B$4)^(A36-$D$15),0)*C36","v":31},79.213959000000017,null,94.24823691454813]
[2027,{"$f":"1*(SUM($B$26:B36)<$D$14)","v":1},1,2555289.0000000005,2555289.0000000005,29.973556325302948,188,{"$f":"+H36*(1+'Inputs and Summary'!$B$4)","v":142.00632316676874},26.697188755352524,{"$f":"J36*(1+'Inputs and Summary'!$B$4+$D$10)*B37","v":-29.266263569552056},36,75,158.88292682926831,373.26219512195132,532.14512195121961,null,-4.2475823634146348,-33.513845932966689,23.156899147688783,null,0,23.156899147688783,{"$f":"+'Inputs and Summary'!$B$5","v":0.35},-8.1049147016910741,{"$f":"+ROUND('Inputs and Summary'!$B$20*(1+'Inputs and Summary'!$B$4)^(A37-$D$15),0)*C37","v":32},81.769248000000019,null,96.821232445997722]
[2028,{"$f":"1*(SUM($B$26:B37)<$D$14)","v":1},1,2555289.0000000005,2555289.0000000005,29.973556325302948,188,{"$f":"+H37*(1+'Inputs and Summary'!$B$4)","v":145.55648124593793},27.36461847423633,{"$f":"J37*(1+'Inputs and Summary'!$B$4+$D$10)*B38","v":-30.290582794486376},29,71,127.9890243902439,353.35487804878051,481.34390243902442,null,-3.8420870292682934,-34.132669823754668,23.205504975784606,null,0,23.205504975784606,{"$f":"+'Inputs and Summary'!$B$5","v":0.35},-8.1219267415246126,{"$f":"+ROUND('Inputs and Summary'!$B$20*(1+'Inputs and Summary'!$B$4)^(A38-$D$15),0)*C38","v":32},81.769248000000019,null,96.852826234260007]
[2029,{"$f":"1*(SUM($B$26:B38)<$D$14)","v":1},null,2555289.0000000005,0,29.973556325302948,188,{"$f":"+H38*(1+'Inputs and Summary'!$B$4)","v":149.19539327708637},28.048733936092237,{"$f":"J38*(1+'Inputs and Summary'!$B$4+$D$10)*B39","v":-31.350753192293396},23,68,101.50853658536586,338.42439024390245,439.9329268292683,null,-3.5115446219512196,-34.862297814244613,23.159992447150572,null,0,23.159992447150572,{"$f":"+'Inputs and Summary'!$B$5","v":0.35},-8.1059973565026997,{"$f":"+ROUND('Inputs and Summary'!$B$20*(1+'Inputs and Summary'!$B$4)^(A39-$D$15),0)*C39","v":0},0,null,15.053995090647872]
[2030,{"$f":"1*(SUM($B$26:B39)<$D$14)","v":1},null,2555289.0000000005,0,29.973556325302948,188,{"$f":"+H39*(1+'Inputs and Summary'!$B$4)","v":152.9252781090135},28.74995228449454,{"$f":"J39*(1+'Inputs and Summary'!$B$4+$D$10)*B40","v":-32.448029554023663},22,64,97.095121951219511,318.51707317073175,415.61219512195123,null,-3.3174165414634151,-35.765446095487079,22.958062514310413,null,0,22.958062514310413,{"$f":"+'Inputs and Summary'!$B$5","v":0.35},-8.0353218800086434,{"$f":"+ROUND('Inputs and Summary'!$B$20*(1+'Inputs and Summary'!$B$4)^(A40-$D$15),0)*C40","v":0},0,null,14.922740634301769]
[2031,{"$f":"1*(SUM($B$26:B40)<$D$14)","v":1},null,2555289.0000000005,0,29.973556325302948,188,{"$f":"+H40*(1+'Inputs and Summary'!$B$4)","v":156.74841006173884},29.468701091606903,{"$f":"J40*(1+'Inputs and Summary'!$B$4+$D$10)*B41","v":-33.58371058841449},20,60,88.268292682926841,298.60975609756099,386.8780487804878,null,-3.0880605853658536,-36.671771173780343,22.770486243129511,null,0,22.770486243129511,{"$f":"+'Inputs and Summary'!$B$5","v":0.35},-7.9696701850953282,{"$f":"+ROUND('Inputs and Summary'!$B$20*(1+'Inputs and Summary'!$B$4)^(A41-$D$15),0)*C41","v":0},0,null,14.800816058034183]
[2032,{"$f":"1*(SUM($B$26:B41)<$D$14)","v":1},null,2555289.0000000005,0,29.973556325302948,188,{"$f":"+H41*(1+'Inputs and Summary'!$B$4)","v":160.66712031328228},30.20541861889707,{"$f":"J41*(1+'Inputs and Summary'!$B$4+$D$10)*B42","v":-34.759140459008997},20,56,88.268292682926841,278.70243902439029,366.9707317073171,null,-2.9291603804878052,-37.688300839496804,22.490674104703217,null,0,22.490674104703217,{"$f":"+'Inputs and Summary'!$B$5","v":0.35},-7.8717359366461253,{"$f":"+ROUND('Inputs and Summary'!$B$20*(1+'Inputs and Summary'!$B$4)^(A42-$D$15),0)*C42","v":0},0,null,14.618938168057092]
[2033,{"$f":"1*(SUM($B$26:B42)<$D$14)","v":1},null,2555289.0000000005,0,29.973556325302948,188,{"$f":"+H42*(1+'Inputs and Summary'!$B$4)","v":164.68379832111432},30.960554084369495,{"$f":"J42*(1+'Inputs and Summary'!$B$4+$D$10)*B43","v":-35.975710375074307},20,52,88.268292682926841,258.79512195121953,347.0634146341464,null,-2.7702601756097565,-38.745970550684063,22.188139858988379,null,0,22.188139858988379,{"$f":"+'Inputs and Summary'!$B$5","v":0.35},-7.7658489506459318,{"$f":"+ROUND('Inputs and Summary'!$B$20*(1+'Inputs and Summary'!$B$4)^(A43-$D$15),0)*C43","v":0},0,null,14.422290908342447]
[2034,{"$f":"1*(SUM($B$26:B43)<$D$14)","v":1},null,2555289.0000000005,0,29.973556325302948,188,{"$f":"+H43*(1+'Inputs and Summary'!$B$4)","v":168.80089327914217},31.734567936478729,{"$f":"J43*(1+'Inputs and Summary'!$B$4+$D$10)*B44","v":-37.234860238201904},20,48,88.268292682926841,238.8878048780488,327.15609756097564,null,-2.6113599707317077,-39.846220208933609,21.861904052848068,null,0,21.861904052848068,{"$f":"+'Inputs and Summary'!$B$5","v":0.35},-7.6516664184968235,{"$f":"+ROUND('Inputs and Summary'!$B$20*(1+'Inputs and Summary'!$B$4)^(A44-$D$15),0)*C44","v":0},0,null,14.210237634351245]
[2035,{"$f":"1*(SUM($B$26:B44)<$D$14)","v":1},null,2555289.0000000005,0,29.973556325302948,188,{"$f":"+H44*(1+'Inputs and Summary'!$B$4)","v":173.0209156111207},32.52793213489069,{"$f":"J44*(1+'Inputs and Summary'!$B$4+$D$10)*B45","v":-38.538080346538969},20,44,88.268292682926841,218.98048780487807,307.24878048780488,null,-2.4524597658536589,-40.99054011239263,21.510948347801012,null,0,21.510948347801012,{"$f":"+'Inputs and Summary'!$B$5","v":0.35},-7.5288319217303536,{"$f":"+ROUND('Inputs and Summary'!$B$20*(1+'Inputs and Summary'!$B$4)^(A45-$D$15),0)*C45","v":0},0,null,13.982116426070657]
[2036,{"$f":"1*(SUM($B$26:B45)<$D$14)","v":1},null,2555289.0000000005,0,29.973556325302948,188,{"$f":"+H45*(1+'Inputs and Summary'!$B$4)","v":177.34643850139869},33.341130438262951,{"$f":"J45*(1+'Inputs and Summary'!$B$4+$D$10)*B46","v":-39.886913158667831},20,39,88.268292682926841,194.09634146341466,282.36463414634147,null,-2.2538345097560977,-42.140747668423927,21.173939095141975,null,0,21.173939095141975,{"$f":"+'Inputs and Summary'!$B$5","v":0.35},-7.4108786832996909,{"$f":"+ROUND('Inputs and Summary'!$B$20*(1+'Inputs and Summary'!$B$4)^(A46-$D$15),0)*C46","v":0},0,null,13.763060411842284]
[2037,{"$f":"1*(SUM($B$26:B46)<$D$14)","v":1},null,2555289.0000000005,0,29.973556325302948,188,{"$f":"+H46*(1+'Inputs and Summary'!$B$4)","v":181.78009946393365},34.174658699219528,{"$f":"J46*(1+'Inputs and Summary'!$B$4+$D$10)*B47","v":-41.282955119221199},20,34,88.268292682926841,169.21219512195123,257.48048780487807,null,-2.0552092536585369,-43.338164372879739,20.810050651642733,null,0,20.810050651642733,{"$f":"+'Inputs and Summary'!$B$5","v":0.35},-7.2835177280749557,{"$f":"+ROUND('Inputs and Summary'!$B$20*(1+'Inputs and Summary'!$B$4)^(A47-$D$15),0)*C47","v":0},0,null,13.526532923567778]
[2038,{"$f":"1*(SUM($B$26:B47)<$D$14)","v":1},null,2555289.0000000005,0,29.973556325302948,188,{"$f":"+H47*(1+'Inputs and Summary'!$B$4)","v":186.32460195053199},35.029025166700009,{"$f":"J47*(1+'Inputs and Summary'!$B$4+$D$10)*B48","v":-42.727858548393939},20,30,88.268292682926841,149.30487804878049,237.57317073170734,null,-1.8963090487804881,-44.624167597174427,20.378413894828533,null,0,20.378413894828533,{"$f":"+'Inputs and Summary'!$B$5","v":0.35},-7.1324448631899857,{"$f":"+ROUND('Inputs and Summary'!$B$20*(1+'Inputs and Summary'!$B$4)^(A48-$D$15),0)*C48","v":0},0,null,13.245969031638548]
[2039,{"$f":"1*(SUM($B$26:B48)<$D$14)","v":1},null,2555289.0000000005,0,29.973556325302948,188,{"$f":"+H48*(1+'Inputs and Summary'!$B$4)","v":190.98271699929526},35.904750795867514,{"$f":"J48*(1+'Inputs and Summary'!$B$4+$D$10)*B49","v":-44.223333597587725},20,28,88.268292682926841,139.35121951219514,227.61951219512198,null,-1.8168589463414637,-46.040192543929187,19.838114577241278,null,0,19.838114577241278,{"$f":"+'Inputs and Summary'!$B$5","v":0.35},-6.9433401020344467,{"$f":"+ROUND('Inputs and Summary'!$B$20*(1+'Inputs and Summary'!$B$4)^(A49-$D$15),0)*C49","v":0},0,null,12.89477447520683]
[2040,{"$f":"1*(SUM($B$26:B49)<$D$14)","v":1},null,2555289.0000000005,0,29.973556325302948,188,{"$f":"+H49*(1+'Inputs and Summary'!$B$4)","v":195.75728492427763},36.802369565764195,{"$f":"J49*(1+'Inputs and Summary'!$B$4+$D$10)*B50","v":-45.771150273503295},20,26,88.268292682926841,129.39756097560976,217.66585365853661,null,-1.7374088439024393,-47.508559117405731,19.267366773661415,null,0,19.267366773661415,{"$f":"+'Inputs and Summary'!$B$5","v":0.35},-6.7435783707814947,{"$f":"+ROUND('Inputs and Summary'!$B$20*(1+'Inputs and Summary'!$B$4)^(A50-$D$15),0)*C50","v":0},0,null,12.523788402879919]
[2041,{"$f":"1*(SUM($B$26:B50)<$D$14)","v":1},null,2555289.0000000005,0,29.973556325302948,188,{"$f":"+H50*(1+'Inputs and Summary'!$B$4)","v":200.65121704738456},37.722428804908297,{"$f":"J50*(1+'Inputs and Summary'!$B$4+$D$10)*B51","v":-47.373140533075905},20,24,88.268292682926841,119.4439024390244,207.71219512195125,null,-1.6579587414634149,-49.031099274539322,18.664885855671919,null,0,18.664885855671919,{"$f":"+'Inputs and Summary'!$B$5","v":0.35},-6.5327100494851713,{"$f":"+ROUND('Inputs and Summary'!$B$20*(1+'Inputs and Summary'!$B$4)^(A51-$D$15),0)*C51","v":0},0,null,12.132175806186748]
[2042,{"$f":"1*(SUM($B$26:B51)<$D$14)","v":1},null,2555289.0000000005,0,29.973556325302948,188,{"$f":"+H51*(1+'Inputs and Summary'!$B$4)","v":205.66749747356917},38.665489525031006,{"$f":"J51*(1+'Inputs and Summary'!$B$4+$D$10)*B52","v":-49.031200451733561},20,23,88.268292682926841,114.46707317073172,202.73536585365855,null,-1.6182336902439027,-50.649434141977466,17.989611708356492,null,0,17.989611708356492,{"$f":"+'Inputs and Summary'!$B$5","v":0.35},-6.2963640979247719,{"$f":"+ROUND('Inputs and Summary'!$B$20*(1+'Inputs and Summary'!$B$4)^(A52-$D$15),0)*C52","v":0},0,null,11.693247610431719]
[2043,{"$f":"1*(SUM($B$26:B52)<$D$14)","v":1},null,2555289.0000000005,0,29.973556325302948,188,{"$f":"+H52*(1+'Inputs and Summary'!$B$4)","v":210.80918491040839},39.632126763156776,{"$f":"J52*(1+'Inputs and Summary'!$B$4+$D$10)*B53","v":-50.747292467544234},20,22,88.268292682926841,109.49024390243903,197.75853658536587,null,-1.5785086390243905,-52.325801106568626,17.279881981891101,null,0,17.279881981891101,{"$f":"+'Inputs and Summary'!$B$5","v":0.35},-6.0479586936618848,{"$f":"+ROUND('Inputs and Summary'!$B$20*(1+'Inputs and Summary'!$B$4)^(A53-$D$15),0)*C53","v":0},0,null,11.231923288229217]
[2044,{"$f":"1*(SUM($B$26:B53)<$D$14)","v":0},null,0,0,0,0,{"$f":"+H53*(1+'Inputs and Summary'!$B$4)","v":216.07941453316857},0,{"$f":"J53*(1+'Inputs and Summary'!$B$4+$D$10)*B54","v":0},null,null,0,0,0,null,0,0,0,null,0,0,{"$f":"+'Inputs and Summary'!$B$5","v":0.35},0,{"$f":"+ROUND('Inputs and Summary'!$B$20*(1+'Inputs and Summary'!$B$4)^(A54-$D$15),0)*C54","v":0},0,null,0]
[2045,{"$f":"1*(SUM($B$26:B54)<$D$14)","v":0},null,0,0,0,0,{"$f":"+H54*(1+'Inputs and Summary'!$B$4)","v":221.48139989649778},0,{"$f":"J54*(1+'Inputs and Summary'!$B$4+$D$10)*B55","v":0},null,null,0,0,0,null,0,0,0,null,0,0,{"$f":"+'Inputs and Summary'!$B$5","v":0.35},0,{"$f":"+ROUND('Inputs and Summary'!$B$20*(1+'Inputs and Summary'!$B$4)^(A55-$D$15),0)*C55","v":0},0,null,0]
[2046,{"$f":"1*(SUM($B$26:B55)<$D$14)","v":0},null,0,0,0,0,{"$f":"+H55*(1+'Inputs and Summary'!$B$4)","v":227.01843489391021},0,{"$f":"J55*(1+'Inputs and Summary'!$B$4+$D$10)*B56","v":0},null,null,0,0,0,null,0,0,0,null,0,0,{"$f":"+'Inputs and Summary'!$B$5","v":0.35},0,{"$f":"+ROUND('Inputs and Summary'!$B$20*(1+'Inputs and Summary'!$B$4)^(A56-$D$15),0)*C56","v":0},0,null,0]
[2047,{"$f":"1*(SUM($B$26:B56)<$D$14)","v":0},null,0,0,0,0,{"$f":"+H56*(1+'Inputs and Summary'!$B$4)","v":232.69389576625795},0,{"$f":"J56*(1+'Inputs and Summary'!$B$4+$D$10)*B57","v":0},null,null,0,0,0,null,0,0,0,null,0,0,{"$f":"+'Inputs and Summary'!$B$5","v":0.35},0,{"$f":"+ROUND('Inputs and Summary'!$B$20*(1+'Inputs and Summary'!$B$4)^(A57-$D$15),0)*C57","v":0},0,null,0]
[2048,{"$f":"1*(SUM($B$26:B57)<$D$14)","v":0},null,0,0,0,0,{"$f":"+H57*(1+'Inputs and Summary'!$B$4)","v":238.51124316041438},0,{"$f":"J57*(1+'Inputs and Summary'!$B$4+$D$10)*B58","v":0},null,null,0,0,0,null,0,0,0,null,0,0,{"$f":"+'Inputs and Summary'!$B$5","v":0.35},0,{"$f":"+ROUND('Inputs and Summary'!$B$20*(1+'Inputs and Summary'!$B$4)^(A58-$D$15),0)*C58","v":0},0,null,0]
[2049,{"$f":"1*(SUM($B$26:B58)<$D$14)","v":0},null,0,0,0,0,{"$f":"+H58*(1+'Inputs and Summary'!$B$4)","v":244.47402423942472},0,{"$f":"J58*(1+'Inputs and Summary'!$B$4+$D$10)*B59","v":0},null,null,0,0,0,null,0,0,0,null,0,0,{"$f":"+'Inputs and Summary'!$B$5","v":0.35},0,{"$f":"+ROUND('Inputs and Summary'!$B$20*(1+'Inputs and Summary'!$B$4)^(A59-$D$15),0)*C59","v":0},0,null,0]
[2050,{"$f":"1*(SUM($B$26:B59)<$D$14)","v":0},null,0,0,{"$f":"+B60*$B$98","v":0},{"$f":"B60*$D$16*$D$5","v":0},{"$f":"+H59*(1+'Inputs and Summary'!$B$4)","v":250.58587484541033},0,{"$f":"J59*(1+'Inputs and Summary'!$B$4+$D$10)*B60","v":0},null,null,0,0,0,null,0,{"$f":"+J60+Q60","v":0},{"$f":"+F60+I60+R60","v":0},null,{"$f":"-T60*$D$7","v":0},0,{"$f":"+'Inputs and Summary'!$B$5","v":0.35},0,{"$f":"+ROUND('Inputs and Summary'!$B$20*(1+'Inputs and Summary'!$B$4)^(A60-$D$15),0)*C60","v":0},{"$f":"+Y60*E60/10^6","v":0},null,0]
[2051,{"$f":"1*(SUM($B$26:B60)<$D$14)","v":0},null,0,0,0,0,{"$f":"+H60*(1+'Inputs and Summary'!$B$4)","v":256.85052171654559},0,{"$f":"J60*(1+'Inputs and Summary'!$B$4+$D$10)*B61","v":0},null,null,{"$f":"$M$28*K61/100","v":0},{"$f":"$N$28*L61/100","v":0},0,null,0,0,0,null,0,0,{"$f":"+'Inputs and Summary'!$B$5","v":0.35},0,{"$f":"+ROUND('Inputs and Summary'!$B$20*(1+'Inputs and Summary'!$B$4)^(A61-$D$15),0)*C61","v":0},0,null,0]
[2052,{"$f":"1*(SUM($B$26:B61)<$D$14)","v":0},null,{"$f":"+D61*B62","v":0},0,0,0,{"$f":"+H61*(1+'Inputs and Summary'!$B$4)","v":263.27178475945919},0,{"$f":"J61*(1+'Inputs and Summary'!$B$4+$D$10)*B62","v":0},null,null,0,0,0,null,0,0,0,null,0,0,{"$f":"+'Inputs and Summary'!$B$5","v":0.35},0,{"$f":"+ROUND('Inputs and Summary'!$B$20*(1+'Inputs and Summary'!$B$4)^(A62-$D$15),0)*C62","v":0},0,null,0]
[2053,{"$f":"1*(SUM($B$26:B62)<$D$14)","v":0},null,0,0,0,0,{"$f":"+H62*(1+'Inputs and Summary'!$B$4)","v":269.85357937844566},0,{"$f":"J62*(1+'Inputs and Summary'!$B$4+$D$10)*B63","v":0},null,null,0,0,0,null,0,0,0,null,0,0,{"$f":"+'Inputs and Summary'!$B$5","v":0.35},0,{"$f":"+ROUND('Inputs and Summary'!$B$20*(1+'Inputs and Summary'!$B$4)^(A63-$D$15),0)*C63","v":0},0,null,0]
[2054,{"$f":"1*(SUM($B$26:B63)<$D$14)","v":0},null,0,0,0,0,{"$f":"+H63*(1+'Inputs and Summary'!$B$4)","v":276.5999188629068},0,{"$f":"J63*(1+'Inputs and Summary'!$B$4+$D$10)*B64","v":0},null,null,0,0,0,null,0,0,0,null,0,0,{"$f":"+'Inputs and Summary'!$B$5","v":0.35},0,{"$f":"+ROUND('Inputs and Summary'!$B$20*(1+'Inputs and Summary'!$B$4)^(A64-$D$15),0)*C64","v":0},0,null,0]
[2055,{"$f":"1*(SUM($B$26:B64)<$D$14)","v":0},null,0,0,0,0,{"$f":"+H64*(1+'Inputs and Summary'!$B$4)","v":283.51491683447944},0,{"$f":"J64*(1+'Inputs and Summary'!$B$4+$D$10)*B65","v":0},null,null,0,0,0,null,0,0,0,null,0,0,{"$f":"+'Inputs and Summary'!$B$5","v":0.35},0,{"$f":"+ROUND('Inputs and Summary'!$B$20*(1+'Inputs and Summary'!$B$4)^(A65-$D$15),0)*C65","v":0},0,null,0]
[2056,{"$f":"1*(SUM($B$26:B65)<$D$14)","v":0},null,0,0,0,0,{"$f":"+H65*(1+'Inputs and Summary'!$B$4)","v":290.6027897553414},0,{"$f":"J65*(1+'Inputs and Summary'!$B$4+$D$10)*B66","v":0},null,null,0,0,0,null,0,0,0,null,0,0,{"$f":"+'Inputs and Summary'!$B$5","v":0.35},0,{"$f":"+ROUND('Inputs and Summary'!$B$20*(1+'Inputs and Summary'!$B$4)^(A66-$D$15),0)*C66","v":0},0,null,0]
[2057,{"$f":"1*(SUM($B$26:B66)<$D$14)","v":0},null,0,0,0,0,{"$f":"+H66*(1+'Inputs and Summary'!$B$4)","v":297.86785949922489},0,{"$f":"J66*(1+'Inputs and Summary'!$B$4+$D$10)*B67","v":0},null,null,0,0,0,null,0,0,0,null,0,0,{"$f":"+'Inputs and Summary'!$B$5","v":0.35},0,{"$f":"+ROUND('Inputs and Summary'!$B$20*(1+'Inputs and Summary'!$B$4)^(A67-$D$15),0)*C67","v":0},0,null,0]
[2058,{"$f":"1*(SUM($B$26:B67)<$D$14)","v":0},null,0,0,0,0,{"$f":"+H67*(1+'Inputs and Summary'!$B$4)","v":305.3145559867055},0,{"$f":"J67*(1+'Inputs and Summary'!$B$4+$D$10)*B68","v":0},null,null,0,0,0,null,0,0,0,null,0,0,{"$f":"+'Inputs and Summary'!$B$5","v":0.35},0,{"$f":"+ROUND('Inputs and Summary'!$B$20*(1+'Inputs and Summary'!$B$4)^(A68-$D$15),0)*C68","v":0},0,null,0]
[2059,{"$f":"1*(SUM($B$26:B68)<$D$14)","v":0},null,0,0,0,0,{"$f":"+H68*(1+'Inputs and Summary'!$B$4)","v":312.9474198863731},0,{"$f":"J68*(1+'Inputs and Summary'!$B$4+$D$10)*B69","v":0},null,null,0,0,0,null,0,0,0,null,0,0,{"$f":"+'Inputs and Summary'!$B$5","v":0.35},0,{"$f":"+ROUND('Inputs and Summary'!$B$20*(1+'Inputs and Summary'!$B$4)^(A69-$D$15),0)*C69","v":0},0,null,0]
[2060,{"$f":"1*(SUM($B$26:B69)<$D$14)","v":0},null,0,0,0,0,{"$f":"+H69*(1+'Inputs and Summary'!$B$4)","v":320.77110538353242},0,{"$f":"J69*(1+'Inputs and Summary'!$B$4+$D$10)*B70","v":0},null,null,0,0,0,null,0,0,0,null,0,0,{"$f":"+'Inputs and Summary'!$B$5","v":0.35},0,{"$f":"+ROUND('Inputs and Summary'!$B$20*(1+'Inputs and Summary'!$B$4)^(A70-$D$15),0)*C70","v":0},0,null,0]
[2061,{"$f":"1*(SUM($B$26:B70)<$D$14)","v":0},null,0,0,0,0,{"$f":"+H70*(1+'Inputs and Summary'!$B$4)","v":328.79038301812068},0,{"$f":"J70*(1+'Inputs and Summary'!$B$4+$D$10)*B71","v":0},null,null,0,0,0,null,0,0,0,null,0,0,{"$f":"+'Inputs and Summary'!$B$5","v":0.35},0,{"$f":"+ROUND('Inputs and Summary'!$B$20*(1+'Inputs and Summary'!$B$4)^(A71-$D$15),0)*C71","v":0},0,null,0]
[2062,{"$f":"1*(SUM($B$26:B71)<$D$14)","v":0},null,0,0,0,0,{"$f":"+H71*(1+'Inputs and Summary'!$B$4)","v":337.01014259357368},0,{"$f":"J71*(1+'Inputs and Summary'!$B$4+$D$10)*B72","v":0},null,null,0,0,0,null,0,0,0,null,0,0,{"$f":"+'Inputs and Summary'!$B$5","v":0.35},0,{"$f":"+ROUND('Inputs and Summary'!$B$20*(1+'Inputs and Summary'!$B$4)^(A72-$D$15),0)*C72","v":0},0,null,0]
[2063,{"$f":"1*(SUM($B$26:B72)<$D$14)","v":0},null,0,0,0,0,{"$f":"+H72*(1+'Inputs and Summary'!$B$4)","v":345.43539615841297},0,{"$f":"J72*(1+'Inputs and Summary'!$B$4+$D$10)*B73","v":0},null,null,0,0,0,null,0,0,0,null,0,0,{"$f":"+'Inputs and Summary'!$B$5","v":0.35},0,{"$f":"+ROUND('Inputs and Summary'!$B$20*(1+'Inputs and Summary'!$B$4)^(A73-$D$15),0)*C73","v":0},0,null,0]
[2064,{"$f":"1*(SUM($B$26:B73)<$D$14)","v":0},null,0,0,0,0,{"$f":"+H73*(1+'Inputs and Summary'!$B$4)","v":354.07128106237326},0,{"$f":"J73*(1+'Inputs and Summary'!$B$4+$D$10)*B74","v":0},null,null,0,0,0,null,0,0,0,null,0,0,{"$f":"+'Inputs and Summary'!$B$5","v":0.35},0,{"$f":"+ROUND('Inputs and Summary'!$B$20*(1+'Inputs and Summary'!$B$4)^(A74-$D$15),0)*C74","v":0},0,null,0]
[2065,{"$f":"1*(SUM($B$26:B74)<$D$14)","v":0},null,0,0,0,0,{"$f":"+H74*(1+'Inputs and Summary'!$B$4)","v":362.92306308893257},0,{"$f":"J74*(1+'Inputs and Summary'!$B$4+$D$10)*B75","v":0},null,null,0,0,0,null,0,0,0,null,0,0,{"$f":"+'Inputs and Summary'!$B$5","v":0.35},0,{"$f":"+ROUND('Inputs and Summary'!$B$20*(1+'Inputs and Summary'!$B$4)^(A75-$D$15),0)*C75","v":0},0,null,0]
[2066,{"$f":"1*(SUM($B$26:B75)<$D$14)","v":0},null,0,0,0,0,{"$f":"+H75*(1+'Inputs and Summary'!$B$4)","v":371.99613966615584},0,{"$f":"J75*(1+'Inputs and Summary'!$B$4+$D$10)*B76","v":0},null,null,0,0,0,null,0,0,0,null,0,0,{"$f":"+'Inputs and Summary'!$B$5","v":0.35},0,{"$f":"+ROUND('Inputs and Summary'!$B$20*(1+'Inputs and Summary'!$B$4)^(A76-$D$15),0)*C76","v":0},0,null,0]
[2067,{"$f":"1*(SUM($B$26:B76)<$D$14)","v":0},null,0,0,0,0,{"$f":"+H76*(1+'Inputs and Summary'!$B$4)","v":381.29604315780972},0,{"$f":"J76*(1+'Inputs and Summary'!$B$4+$D$10)*B77","v":0},null,null,0,0,0,null,0,0,0,null,0,0,{"$f":"+'Inputs and Summary'!$B$5","v":0.35},0,{"$f":"+ROUND('Inputs and Summary'!$B$20*(1+'Inputs and Summary'!$B$4)^(A77-$D$15),0)*C77","v":0},0,null,0]
[2068,{"$f":"1*(SUM($B$26:B77)<$D$14)","v":0},null,0,0,0,0,{"$f":"+H77*(1+'Inputs and Summary'!$B$4)","v":390.82844423675493},0,{"$f":"J77*(1+'Inputs and Summary'!$B$4+$D$10)*B78","v":0},null,null,0,0,0,null,0,0,0,null,0,0,{"$f":"+'Inputs and Summary'!$B$5","v":0.35},0,{"$f":"+ROUND('Inputs and Summary'!$B$20*(1+'Inputs and Summary'!$B$4)^(A78-$D$15),0)*C78","v":0},0,null,0]
[2069,{"$f":"1*(SUM($B$26:B78)<$D$14)","v":0},null,0,0,0,0,{"$f":"+H78*(1+'Inputs and Summary'!$B$4)","v":400.59915534267378},0,{"$f":"J78*(1+'Inputs and Summary'!$B$4+$D$10)*B79","v":0},null,null,0,0,0,null,0,0,0,null,0,0,{"$f":"+'Inputs and Summary'!$B$5","v":0.35},0,{"$f":"+ROUND('Inputs and Summary'!$B$20*(1+'Inputs and Summary'!$B$4)^(A79-$D$15),0)*C79","v":0},0,null,0]
[2070,{"$f":"1*(SUM($B$26:B79)<$D$14)","v":0},null,0,0,0,0,{"$f":"+H79*(1+'Inputs and Summary'!$B$4)","v":410.61413422624059},0,{"$f":"J79*(1+'Inputs and Summary'!$B$4+$D$10)*B80","v":0},null,null,0,0,0,null,0,0,0,null,0,0,{"$f":"+'Inputs and Summary'!$B$5","v":0.35},0,{"$f":"+ROUND('Inputs and Summary'!$B$20*(1+'Inputs and Summary'!$B$4)^(A80-$D$15),0)*C80","v":0},0,null,0]
["x","x","x","x","x","x","x","x","x","x","x","x","x","x","x","x","x","x","x","x","x","x","x","x","x","x","x","x"]
[]
[]
[]
["Transmission Tariff Calculation"]
[]
["Expenses","NPV"]
["Capacity Revenue",{"$f":"NPV('Inputs and Summary'!$B$12,'Oklahoma Wind'!$I$28:$I$80)","v":275.13334215710768}]
[{"$f":"J27","v":"Expenses ($mm)"},{"$f":"NPV('Inputs and Summary'!$B$12,'Oklahoma Wind'!$J$28:$J$80)","v":-306.5895826863258}]
["Property Tax",{"$f":"NPV('Inputs and Summary'!$B$12,'Oklahoma Wind'!$Q$28:$Q$80)","v":-21.665484618814737}]
["Capital Costs",{"$f":"NPV('Inputs and Summary'!$B$12,'Oklahoma Wind'!$AA$28:$AA$80)","v":-871.18115759610589}]
["PTCs",{"$f":"NPV('Inputs and Summary'!$B$12,'Oklahoma Wind'!$Z$28:$Z$80)","v":460.5336309132627}]
["Tax Depreciation",{"$f":"-NPV('Inputs and Summary'!$B$12,'Oklahoma Wind'!$U$28:$U$80)*'Inputs and Summary'!$B$5","v":248.67335209344782}]
["Other Income Taxes",{"$f":"-(B88+B89+B90)*'Inputs and Summary'!$B$5","v":18.592603801811499}]
[null,{"$f":"+SUM(B88:B94)","v":-196.50329593561673}]
["Capitalization Factor",{"$f":"NPV('Inputs and Summary'!$B$12,'Oklahoma Wind'!$B$28:$B$80)","v":10.085982447223548}]
["Annual RR (After-tax)",{"$f":"-B95/B96","v":19.482811611446916}]
["Annual RR (Pre-tax)",{"$f":"+B97/(1-'Inputs and Summary'!$B$5)","v":29.973556325302948}]
[]
["LCOE($/MWh)",{"$f":"F29*10^6/(D29)","v":11.730006400568758}]

{"sheet":"TOD Calc","index":11,"n_rows":8802,"n_cols":16,"rows_kept":4500,"cut":true,"hidden":false,"merged":[],"bounds":{"rows_first":2000,"rows_last":500,"rows_between":2000,"halvings":0}}
["TOD calculations by hour"]
["Using DNV GL PROMOD LMP and EWITS site data"]
[]
[null,null,"LMP Weighted "]
["Generation Type",null,"Average Price ($/MWh)"]
["Oklahoma Wind",null,{"$f":"SUMPRODUCT($C$34:$C$8793,D34:D8793)/SUM($D$34:$D$8793)","v":29.578435666051206}]
[]
["Tennessee Wind","Site 6271",{"$f":"SUMPRODUCT($C$34:$C$8793,F34:F8793)/SUM($F$34:$F$8793)","v":31.415758454407612}]
[null,"Site 6315",{"$f":"SUMPRODUCT($C$34:$C$8793,G34:G8793)/SUM($G$34:$G$8793)","v":31.447874307697646}]
[null,"Site 6423",{"$f":"SUMPRODUCT($C$34:$C$8793,H34:H8793)/SUM($H$34:$H$8793)","v":31.444936105849315}]
[]
["Combined Cycle Gas",null,{"$f":"SUMPRODUCT($C$34:$C$8793,J34:J8793)/SUM($J$34:$J$8793)","v":33.173771689501741}]
["Nuclear",null,{"$f":"SUMPRODUCT($C$34:$C$8793,K34:K8793)/SUM($K$34:$K$8793)","v":33.173771689493265}]
["Utility-scale Solar",null,{"$f":"SUMPRODUCT($C$34:$C$8793,L34:L8793)/SUM($L$34:$L$8793)","v":37.028851539239213}]
[]
[]
["TOD adjustment "]
["vs. Oklahoma Wind + Plains & Eastern"]
[]
["TN Wind",{"$f":"AVERAGE(C8:C10)/$C$6","v":1.0628077149709632}]
["Combined Gas",{"$f":"C12/$C$6","v":1.1215526089358776}]
["Nuclear",{"$f":"C13/$C$6","v":1.1215526089355909}]
["Utility-scale Solar",{"$f":"C14/$C$6","v":1.2518867446982418}]
[]
[]
[]
[]
[]
[null,null,null,null,null,null,null,null,null,null,null,null,null,null,null,"Capacity Factor (Rated 10MW)"]
["Worksheet ==>",null,null,null,null,null,null,null,null,null,null,null,null,null,null,{"$f":"AVERAGE(L34:L8793)/10","v":0.19402887601598187}]
[]
[null,null,"LMP ($/MWh)","Oklahoma Output (MW)",null,"Tennessee Site Output (MW) (2006 CST)",null,null,null,"Combined Gas ","Nuclear","Utility-scale Solar","Raw Tennessee Site Output (MW) (2006 GMT)",null,null,"Utility-scale Solar (10MW rated DC)"]
["Date","HourOfDay","P&E @ TVA","at TVA injection",null,6271,6315,6423,null,"Hourly Output (MW)"," Hourly Output (MW)","Hourly Output (MW)",6271,6315,6423,"Hourly Output (AC Power W)"]
["2018-01-01",1,24.78,3013,null,{"$f":"M40","v":17.903333333333332},{"$f":"N40","v":13.571666666666667},{"$f":"O40","v":29.091666666666665},null,{"$f":"'Combined Cycle Gas'!$D$8","v":318.30459770114948},{"$f":"Nuclear!$D$8","v":307.69444444444446},{"$f":"P34/10^6","v":0},5.03,5.2283333333333326,48.089999999999996,0]
["2018-01-01",2,24.91,3013,null,{"$f":"M41","v":16.223333333333333},5.4533333333333331,5.8516666666666666,null,{"$f":"'Combined Cycle Gas'!$D$8","v":318.30459770114948},{"$f":"Nuclear!$D$8","v":307.69444444444446},{"$f":"P35/10^6","v":0},4.88,32.396666666666668,42.756666666666668,0]
["2018-01-01",3,24.91,3013,null,{"$f":"M42","v":41.911666666666669},4.7583333333333337,4.8833333333333329,null,{"$f":"'Combined Cycle Gas'!$D$8","v":318.30459770114948},{"$f":"Nuclear!$D$8","v":307.69444444444446},0,4.8833333333333337,36.190000000000005,32.235000000000007,0]
["2018-01-01",4,23.72,3312,null,{"$f":"M43","v":89.946666666666658},32.216666666666669,8.0183333333333326,null,{"$f":"'Combined Cycle Gas'!$D$8","v":318.30459770114948},{"$f":"Nuclear!$D$8","v":307.69444444444446},0,4.3566666666666682,31.428333333333331,49.798333333333339,0]
["2018-01-01",5,27.09,3029,null,{"$f":"M44","v":112.16333333333334},81.31,13.843333333333334,null,{"$f":"'Combined Cycle Gas'!$D$8","v":318.30459770114948},{"$f":"Nuclear!$D$8","v":307.69444444444446},0,3.9683333333333337,27.678333333333331,57.341666666666669,0]
["2018-01-01",6,31.75,2755,null,{"$f":"M45","v":116.04333333333335},103.375,27.62,null,{"$f":"'Combined Cycle Gas'!$D$8","v":318.30459770114948},{"$f":"Nuclear!$D$8","v":307.69444444444446},0,14.888333333333335,18.314999999999998,56.24,0]
["2018-01-01",7,29.8,1968,null,{"$f":"M46","v":123.56166666666665},106.745,43.598333333333336,null,{"$f":"'Combined Cycle Gas'!$D$8","v":318.30459770114948},{"$f":"Nuclear!$D$8","v":307.69444444444446},0,17.903333333333332,13.571666666666667,29.091666666666665,0]
["2018-01-01",8,30.29,1706,null,{"$f":"M47","v":143.62333333333333},108.69,64.113333333333344,null,{"$f":"'Combined Cycle Gas'!$D$8","v":318.30459770114948},{"$f":"Nuclear!$D$8","v":307.69444444444446},1.3630000000000001E-3,16.223333333333333,5.4533333333333331,5.8516666666666666,1363]
["2018-01-01",9,27.95,1810,null,{"$f":"M48","v":148.54500000000002},111.40166666666669,87.893333333333331,null,{"$f":"'Combined Cycle Gas'!$D$8","v":318.30459770114948},{"$f":"Nuclear!$D$8","v":307.69444444444446},0.32119399999999998,41.911666666666669,4.7583333333333337,4.8833333333333329,321194]
["2018-01-01",10,29.41,1610,null,{"$f":"M49","v":147.99166666666667},112.01833333333333,100.56166666666667,null,{"$f":"'Combined Cycle Gas'!$D$8","v":318.30459770114948},{"$f":"Nuclear!$D$8","v":307.69444444444446},1.381365,89.946666666666658,32.216666666666669,8.0183333333333326,1381365]
["2018-01-01",11,37.159999999999997,1215,null,{"$f":"M50","v":142.02333333333334},112.02999999999999,101.96666666666665,null,{"$f":"'Combined Cycle Gas'!$D$8","v":318.30459770114948},{"$f":"Nuclear!$D$8","v":307.69444444444446},1.9656640000000001,112.16333333333334,81.31,13.843333333333334,1965664]
["2018-01-01",12,42.5,630,null,{"$f":"M51","v":135.64833333333334},105.96666666666668,79.991666666666674,null,{"$f":"'Combined Cycle Gas'!$D$8","v":318.30459770114948},{"$f":"Nuclear!$D$8","v":307.69444444444446},1.9198580000000001,116.04333333333335,103.375,27.62,1919858]
["2018-01-01",13,41.4,386,null,{"$f":"M52","v":118.51666666666665},97.09333333333332,83.39,null,{"$f":"'Combined Cycle Gas'!$D$8","v":318.30459770114948},{"$f":"Nuclear!$D$8","v":307.69444444444446},4.1378969999999997,123.56166666666665,106.745,43.598333333333336,4137897]
["2018-01-01",14,40.840000000000003,156,null,{"$f":"M53","v":125.56500000000001},102.84166666666665,75.666666666666671,null,{"$f":"'Combined Cycle Gas'!$D$8","v":318.30459770114948},{"$f":"Nuclear!$D$8","v":307.69444444444446},5.4620540000000002,143.62333333333333,108.69,64.113333333333344,5462054]
["2018-01-01",15,30.29,156,null,{"$f":"M54","v":138.16499999999999},106.455,89.891666666666666,null,{"$f":"'Combined Cycle Gas'!$D$8","v":318.30459770114948},{"$f":"Nuclear!$D$8","v":307.69444444444446},3.072254,148.54500000000002,111.40166666666669,87.893333333333331,3072254]
["2018-01-01",16,31.06,156,null,{"$f":"M55","v":144.65},110.22166666666665,100.61666666666667,null,{"$f":"'Combined Cycle Gas'!$D$8","v":318.30459770114948},{"$f":"Nuclear!$D$8","v":307.69444444444446},3.9894440000000002,147.99166666666667,112.01833333333333,100.56166666666667,3989444]
["2018-01-01",17,40.770000000000003,478,null,{"$f":"M56","v":144.92000000000002},108.79166666666667,109.11500000000001,null,{"$f":"'Combined Cycle Gas'!$D$8","v":318.30459770114948},{"$f":"Nuclear!$D$8","v":307.69444444444446},1.8149599999999999,142.02333333333334,112.02999999999999,101.96666666666665,1814960]
["2018-01-01",18,42.64,662,null,{"$f":"M57","v":142.39166666666665},110.30999999999999,110.19000000000001,null,{"$f":"'Combined Cycle Gas'!$D$8","v":318.30459770114948},{"$f":"Nuclear!$D$8","v":307.69444444444446},0,135.64833333333334,105.96666666666668,79.991666666666674,0]
["2018-01-01",19,49.56,658,null,{"$f":"M58","v":145.42166666666668},107.455,105.09000000000002,null,{"$f":"'Combined Cycle Gas'!$D$8","v":318.30459770114948},{"$f":"Nuclear!$D$8","v":307.69444444444446},0,118.51666666666665,97.09333333333332,83.39,0]
["2018-01-01",20,26.44,1746,null,{"$f":"M59","v":145.17833333333334},108.35333333333334,104.79333333333334,null,{"$f":"'Combined Cycle Gas'!$D$8","v":318.30459770114948},{"$f":"Nuclear!$D$8","v":307.69444444444446},0,125.56500000000001,102.84166666666665,75.666666666666671,0]
["2018-01-01",21,25.52,1908,null,{"$f":"M60","v":143.89666666666668},108.85833333333335,106.46999999999998,null,{"$f":"'Combined Cycle Gas'!$D$8","v":318.30459770114948},{"$f":"Nuclear!$D$8","v":307.69444444444446},0,138.16499999999999,106.455,89.891666666666666,0]
["2018-01-01",22,27.96,1912,null,{"$f":"M61","v":143.83166666666668},108.41666666666667,107.41833333333334,null,{"$f":"'Combined Cycle Gas'!$D$8","v":318.30459770114948},{"$f":"Nuclear!$D$8","v":307.69444444444446},0,144.65,110.22166666666665,100.61666666666667,0]
["2018-01-01",23,27.28,2076,null,{"$f":"M62","v":143.755},108.26666666666667,109.22666666666669,null,{"$f":"'Combined Cycle Gas'!$D$8","v":318.30459770114948},{"$f":"Nuclear!$D$8","v":307.69444444444446},0,144.92000000000002,108.79166666666667,109.11500000000001,0]
["2018-01-01",24,26.07,2075,null,{"$f":"M63","v":141.29},110.75333333333333,110.19000000000001,null,{"$f":"'Combined Cycle Gas'!$D$8","v":318.30459770114948},{"$f":"Nuclear!$D$8","v":307.69444444444446},0,142.39166666666665,110.30999999999999,110.19000000000001,0]
["2018-01-02",1,24.91,2136,null,{"$f":"M64","v":146.96666666666667},109.005,110.17999999999999,null,{"$f":"'Combined Cycle Gas'!$D$8","v":318.30459770114948},{"$f":"Nuclear!$D$8","v":307.69444444444446},0,145.42166666666668,107.455,105.09000000000002,0]
["2018-01-02",2,24.68,2352,null,{"$f":"M65","v":146.94666666666666},111.75666666666666,109.75999999999999,null,{"$f":"'Combined Cycle Gas'!$D$8","v":318.30459770114948},{"$f":"Nuclear!$D$8","v":307.69444444444446},0,145.17833333333334,108.35333333333334,104.79333333333334,0]
["2018-01-02",3,24.49,2493,null,{"$f":"M66","v":146.46833333333336},112.52,110.19000000000001,null,{"$f":"'Combined Cycle Gas'!$D$8","v":318.30459770114948},{"$f":"Nuclear!$D$8","v":307.69444444444446},0,143.89666666666668,108.85833333333335,106.46999999999998,0]
["2018-01-02",4,24.49,2584,null,{"$f":"M67","v":143.15166666666667},111.97166666666665,109.825,null,{"$f":"'Combined Cycle Gas'!$D$8","v":318.30459770114948},{"$f":"Nuclear!$D$8","v":307.69444444444446},0,143.83166666666668,108.41666666666667,107.41833333333334,0]
["2018-01-02",5,26.08,2808,null,{"$f":"M68","v":134.94833333333335},108.84166666666668,105.13499999999999,null,{"$f":"'Combined Cycle Gas'!$D$8","v":318.30459770114948},{"$f":"Nuclear!$D$8","v":307.69444444444446},0,143.755,108.26666666666667,109.22666666666669,0]
["2018-01-02",6,27.43,2837,null,{"$f":"M69","v":129.64833333333334},105.66166666666668,94.035000000000011,null,{"$f":"'Combined Cycle Gas'!$D$8","v":318.30459770114948},{"$f":"Nuclear!$D$8","v":307.69444444444446},0,141.29,110.75333333333333,110.19000000000001,0]
["2018-01-02",7,29.54,2387,null,{"$f":"M70","v":119.51},105.11833333333333,96.286666666666676,null,{"$f":"'Combined Cycle Gas'!$D$8","v":318.30459770114948},{"$f":"Nuclear!$D$8","v":307.69444444444446},0,146.96666666666667,109.005,110.17999999999999,0]
["2018-01-02",8,31.96,2071,null,{"$f":"M71","v":107.76166666666666},103.92333333333335,102.12,null,{"$f":"'Combined Cycle Gas'!$D$8","v":318.30459770114948},{"$f":"Nuclear!$D$8","v":307.69444444444446},0.232373,146.94666666666666,111.75666666666666,109.75999999999999,232373]
["2018-01-02",9,22.67,2725,null,{"$f":"M72","v":118.15500000000002},106.89666666666666,100.21,null,{"$f":"'Combined Cycle Gas'!$D$8","v":318.30459770114948},{"$f":"Nuclear!$D$8","v":307.69444444444446},4.6261190000000001,146.46833333333336,112.52,110.19000000000001,4626119]
["2018-01-02",10,25.32,3012,null,{"$f":"M73","v":122.52333333333333},100.35166666666667,99.90333333333335,null,{"$f":"'Combined Cycle Gas'!$D$8","v":318.30459770114948},{"$f":"Nuclear!$D$8","v":307.69444444444446},5.976318,143.15166666666667,111.97166666666665,109.825,5976318]
["2018-01-02",11,26.11,3012,null,{"$f":"M74","v":132.89500000000001},84.644999999999996,91.658333333333346,null,{"$f":"'Combined Cycle Gas'!$D$8","v":318.30459770114948},{"$f":"Nuclear!$D$8","v":307.69444444444446},6.5988369999999996,134.94833333333335,108.84166666666668,105.13499999999999,6598837]
["2018-01-02",12,26.07,3012,null,{"$f":"M75","v":126.97500000000001},90.978333333333339,91.793333333333337,null,{"$f":"'Combined Cycle Gas'!$D$8","v":318.30459770114948},{"$f":"Nuclear!$D$8","v":307.69444444444446},6.9860059999999997,129.64833333333334,105.66166666666668,94.035000000000011,6986006]
["2018-01-02",13,26.66,3012,null,{"$f":"M76","v":123.46833333333335},91.633333333333326,94.001666666666665,null,{"$f":"'Combined Cycle Gas'!$D$8","v":318.30459770114948},{"$f":"Nuclear!$D$8","v":307.69444444444446},7.0599590000000001,119.51,105.11833333333333,96.286666666666676,7059959]
["2018-01-02",14,26.75,2934,null,{"$f":"M77","v":115.91166666666668},94.383333333333326,88.278333333333322,null,{"$f":"'Combined Cycle Gas'!$D$8","v":318.30459770114948},{"$f":"Nuclear!$D$8","v":307.69444444444446},6.8768640000000003,107.76166666666666,103.92333333333335,102.12,6876864]
["2018-01-02",15,26.8,2716,null,{"$f":"M78","v":127.68166666666666},98.683333333333337,95.543333333333337,null,{"$f":"'Combined Cycle Gas'!$D$8","v":318.30459770114948},{"$f":"Nuclear!$D$8","v":307.69444444444446},6.3744610000000002,118.15500000000002,106.89666666666666,100.21,6374461]
["2018-01-02",16,25.68,3012,null,{"$f":"M79","v":134.93666666666667},101.93666666666667,87.253333333333345,null,{"$f":"'Combined Cycle Gas'!$D$8","v":318.30459770114948},{"$f":"Nuclear!$D$8","v":307.69444444444446},5.2151860000000001,122.52333333333333,100.35166666666667,99.90333333333335,5215186]
["2018-01-02",17,26.77,3012,null,{"$f":"M80","v":135.36500000000004},104.43333333333335,81.965000000000003,null,{"$f":"'Combined Cycle Gas'!$D$8","v":318.30459770114948},{"$f":"Nuclear!$D$8","v":307.69444444444446},2.2176680000000002,132.89500000000001,84.644999999999996,91.658333333333346,2217668]
["2018-01-02",18,25.04,3013,null,{"$f":"M81","v":134.80000000000001},106.64833333333333,100.31833333333333,null,{"$f":"'Combined Cycle Gas'!$D$8","v":318.30459770114948},{"$f":"Nuclear!$D$8","v":307.69444444444446},0,126.97500000000001,90.978333333333339,91.793333333333337,0]
["2018-01-02",19,28.1,3013,null,{"$f":"M82","v":128.40333333333334},101.45166666666667,100.65833333333332,null,{"$f":"'Combined Cycle Gas'!$D$8","v":318.30459770114948},{"$f":"Nuclear!$D$8","v":307.69444444444446},0,123.46833333333335,91.633333333333326,94.001666666666665,0]
["2018-01-02",20,28.74,2690,null,{"$f":"M83","v":126.32833333333332},94.800000000000011,95.603333333333339,null,{"$f":"'Combined Cycle Gas'!$D$8","v":318.30459770114948},{"$f":"Nuclear!$D$8","v":307.69444444444446},0,115.91166666666668,94.383333333333326,88.278333333333322,0]
["2018-01-02",21,21.13,2881,null,{"$f":"M84","v":133.22333333333333},102.12166666666667,100.43166666666666,null,{"$f":"'Combined Cycle Gas'!$D$8","v":318.30459770114948},{"$f":"Nuclear!$D$8","v":307.69444444444446},0,127.68166666666666,98.683333333333337,95.543333333333337,0]
["2018-01-02",22,24.77,3013,null,{"$f":"M85","v":129.40333333333334},101.02333333333333,100.65833333333335,null,{"$f":"'Combined Cycle Gas'!$D$8","v":318.30459770114948},{"$f":"Nuclear!$D$8","v":307.69444444444446},0,134.93666666666667,101.93666666666667,87.253333333333345,0]
["2018-01-02",23,25.48,3013,null,{"$f":"M86","v":117.06833333333333},84.083333333333329,103.41833333333335,null,{"$f":"'Combined Cycle Gas'!$D$8","v":318.30459770114948},{"$f":"Nuclear!$D$8","v":307.69444444444446},0,135.36500000000004,104.43333333333335,81.965000000000003,0]
["2018-01-02",24,24.23,3197,null,{"$f":"M87","v":92.364999999999995},61.081666666666671,94.734999999999999,null,{"$f":"'Combined Cycle Gas'!$D$8","v":318.30459770114948},{"$f":"Nuclear!$D$8","v":307.69444444444446},0,134.80000000000001,106.64833333333333,100.31833333333333,0]
["2018-01-03",1,24.92,3195,null,{"$f":"M88","v":77.276666666666657},49.064999999999998,80.553333333333342,null,{"$f":"'Combined Cycle Gas'!$D$8","v":318.30459770114948},{"$f":"Nuclear!$D$8","v":307.69444444444446},0,128.40333333333334,101.45166666666667,100.65833333333332,0]
["2018-01-03",2,24.93,3195,null,{"$f":"M89","v":52.948333333333323},21.818333333333332,46.391666666666673,null,{"$f":"'Combined Cycle Gas'!$D$8","v":318.30459770114948},{"$f":"Nuclear!$D$8","v":307.69444444444446},0,126.32833333333332,94.800000000000011,95.603333333333339,0]
["2018-01-03",3,24.93,3195,null,{"$f":"M90","v":13.676666666666668},5.916666666666667,24.408333333333335,null,{"$f":"'Combined Cycle Gas'!$D$8","v":318.30459770114948},{"$f":"Nuclear!$D$8","v":307.69444444444446},0,133.22333333333333,102.12166666666667,100.43166666666666,0]
["2018-01-03",4,24.93,3195,null,{"$f":"M91","v":0.215},3.7166666666666668,27.935000000000002,null,{"$f":"'Combined Cycle Gas'!$D$8","v":318.30459770114948},{"$f":"Nuclear!$D$8","v":307.69444444444446},0,129.40333333333334,101.02333333333333,100.65833333333335,0]
["2018-01-03",5,29.2,3029,null,{"$f":"M92","v":1.02},3.8349999999999995,22.995000000000001,null,{"$f":"'Combined Cycle Gas'!$D$8","v":318.30459770114948},{"$f":"Nuclear!$D$8","v":307.69444444444446},0,117.06833333333333,84.083333333333329,103.41833333333335,0]
["2018-01-03",6,30.59,2323,null,{"$f":"M93","v":0.99333333333333329},3.0149999999999992,16.403333333333332,null,{"$f":"'Combined Cycle Gas'!$D$8","v":318.30459770114948},{"$f":"Nuclear!$D$8","v":307.69444444444446},0,92.364999999999995,61.081666666666671,94.734999999999999,0]
["2018-01-03",7,41.71,1968,null,{"$f":"M94","v":0.41},3.2533333333333334,5.9766666666666666,null,{"$f":"'Combined Cycle Gas'!$D$8","v":318.30459770114948},{"$f":"Nuclear!$D$8","v":307.69444444444446},0,77.276666666666657,49.064999999999998,80.553333333333342,0]
["2018-01-03",8,41.58,1706,null,{"$f":"M95","v":6.953333333333334},5.2666666666666666,3.1150000000000002,null,{"$f":"'Combined Cycle Gas'!$D$8","v":318.30459770114948},{"$f":"Nuclear!$D$8","v":307.69444444444446},1.1013059999999999,52.948333333333323,21.818333333333332,46.391666666666673,1101306]
["2018-01-03",9,28.45,1810,null,{"$f":"M96","v":13.046666666666667},6.2033333333333331,9.2949999999999999,null,{"$f":"'Combined Cycle Gas'!$D$8","v":318.30459770114948},{"$f":"Nuclear!$D$8","v":307.69444444444446},1.7984599999999999,13.676666666666668,5.916666666666667,24.408333333333335,1798460]
["2018-01-03",10,27.89,1610,null,{"$f":"M97","v":4.1700000000000008},5.8683333333333332,4.2833333333333332,null,{"$f":"'Combined Cycle Gas'!$D$8","v":318.30459770114948},{"$f":"Nuclear!$D$8","v":307.69444444444446},0.98222500000000001,0.215,3.7166666666666668,27.935000000000002,982225]
["2018-01-03",11,41.1,1256,null,{"$f":"M98","v":0.65166666666666673},4.6533333333333333,5.0383333333333331,null,{"$f":"'Combined Cycle Gas'!$D$8","v":318.30459770114948},{"$f":"Nuclear!$D$8","v":307.69444444444446},1.783792,1.02,3.8349999999999995,22.995000000000001,1783792]
["2018-01-03",12,41.66,630,null,{"$f":"M99","v":0.28666666666666668},5.0049999999999999,5.293333333333333,null,{"$f":"'Combined Cycle Gas'!$D$8","v":318.30459770114948},{"$f":"Nuclear!$D$8","v":307.69444444444446},1.80128,0.99333333333333329,3.0149999999999992,16.403333333333332,1801280]
["2018-01-03",13,45.83,386,null,{"$f":"M100","v":0.3066666666666667},2.9166666666666665,1.6316666666666668,null,{"$f":"'Combined Cycle Gas'!$D$8","v":318.30459770114948},{"$f":"Nuclear!$D$8","v":307.69444444444446},1.785034,0.41,3.2533333333333334,5.9766666666666666,1785034]
["2018-01-03",14,43.96,156,null,{"$f":"M101","v":0.12333333333333334},2.5883333333333334,1.3216666666666665,null,{"$f":"'Combined Cycle Gas'!$D$8","v":318.30459770114948},{"$f":"Nuclear!$D$8","v":307.69444444444446},2.0873970000000002,6.953333333333334,5.2666666666666666,3.1150000000000002,2087397]
["2018-01-03",15,42.63,213,null,{"$f":"M102","v":0},2.4483333333333333,3.3866666666666667,null,{"$f":"'Combined Cycle Gas'!$D$8","v":318.30459770114948},{"$f":"Nuclear!$D$8","v":307.69444444444446},1.660541,13.046666666666667,6.2033333333333331,9.2949999999999999,1660541]
["2018-01-03",16,40.450000000000003,318,null,{"$f":"M103","v":0},2.3783333333333334,9.2799999999999994,null,{"$f":"'Combined Cycle Gas'!$D$8","v":318.30459770114948},{"$f":"Nuclear!$D$8","v":307.69444444444446},3.2443,4.1700000000000008,5.8683333333333332,4.2833333333333332,3244300]
["2018-01-03",17,43.31,478,null,{"$f":"M104","v":0},2.2850000000000001,11.188333333333334,null,{"$f":"'Combined Cycle Gas'!$D$8","v":318.30459770114948},{"$f":"Nuclear!$D$8","v":307.69444444444446},2.183335,0.65166666666666673,4.6533333333333333,5.0383333333333331,2183335]
["2018-01-03",18,46.22,662,null,{"$f":"M105","v":0.17166666666666666},2.14,15.568333333333333,null,{"$f":"'Combined Cycle Gas'!$D$8","v":318.30459770114948},{"$f":"Nuclear!$D$8","v":307.69444444444446},{"$f":"P99/10^6","v":0},0.28666666666666668,5.0049999999999999,5.293333333333333,0]
["2018-01-03",19,43.01,838,null,{"$f":"M106","v":3.5616666666666661},3.1199999999999997,6.5433333333333339,null,{"$f":"'Combined Cycle Gas'!$D$8","v":318.30459770114948},{"$f":"Nuclear!$D$8","v":307.69444444444446},0,0.3066666666666667,2.9166666666666665,1.6316666666666668,0]
["2018-01-03",20,30.03,1494,null,{"$f":"M107","v":9.2533333333333339},7.8816666666666677,1.0133333333333334,null,{"$f":"'Combined Cycle Gas'!$D$8","v":318.30459770114948},{"$f":"Nuclear!$D$8","v":307.69444444444446},0,0.12333333333333334,2.5883333333333334,1.3216666666666665,0]
["2018-01-03",21,25.39,2069,null,{"$f":"M108","v":5.2966666666666669},10.635,0.60833333333333339,null,{"$f":"'Combined Cycle Gas'!$D$8","v":318.30459770114948},{"$f":"Nuclear!$D$8","v":307.69444444444446},0,0,2.4483333333333333,3.3866666666666667,0]
["2018-01-03",22,26.09,2383,null,{"$f":"M109","v":2.7566666666666664},20.406666666666666,0.60166666666666668,null,{"$f":"'Combined Cycle Gas'!$D$8","v":318.30459770114948},{"$f":"Nuclear!$D$8","v":307.69444444444446},0,0,2.3783333333333334,9.2799999999999994,0]
["2018-01-03",23,24.8,2565,null,{"$f":"M110","v":5.7249999999999988},27.953333333333337,0.82666666666666666,null,{"$f":"'Combined Cycle Gas'!$D$8","v":318.30459770114948},{"$f":"Nuclear!$D$8","v":307.69444444444446},0,0,2.2850000000000001,11.188333333333334,0]
["2018-01-03",24,24.71,2655,null,{"$f":"M111","v":29.951666666666668},42.805000000000007,6.7750000000000012,null,{"$f":"'Combined Cycle Gas'!$D$8","v":318.30459770114948},{"$f":"Nuclear!$D$8","v":307.69444444444446},0,0.17166666666666666,2.14,15.568333333333333,0]
["2018-01-04",1,21.73,2953,null,{"$f":"M112","v":29.211666666666673},59.576666666666661,21.418333333333333,null,{"$f":"'Combined Cycle Gas'!$D$8","v":318.30459770114948},{"$f":"Nuclear!$D$8","v":307.69444444444446},0,3.5616666666666661,3.1199999999999997,6.5433333333333339,0]
["2018-01-04",2,24.92,2953,null,{"$f":"M113","v":69.040000000000006},91.95,47.37833333333333,null,{"$f":"'Combined Cycle Gas'!$D$8","v":318.30459770114948},{"$f":"Nuclear!$D$8","v":307.69444444444446},0,9.2533333333333339,7.8816666666666677,1.0133333333333334,0]
["2018-01-04",3,24.92,2953,null,{"$f":"M114","v":116.78666666666668},108.48333333333333,89.884999999999991,null,{"$f":"'Combined Cycle Gas'!$D$8","v":318.30459770114948},{"$f":"Nuclear!$D$8","v":307.69444444444446},0,5.2966666666666669,10.635,0.60833333333333339,0]
["2018-01-04",4,24.93,2952,null,{"$f":"M115","v":137.58333333333331},112.52,105.84999999999998,null,{"$f":"'Combined Cycle Gas'!$D$8","v":318.30459770114948},{"$f":"Nuclear!$D$8","v":307.69444444444446},0,2.7566666666666664,20.406666666666666,0.60166666666666668,0]
["2018-01-04",5,27.12,2977,null,{"$f":"M116","v":146.39333333333335},112.52,109.435,null,{"$f":"'Combined Cycle Gas'!$D$8","v":318.30459770114948},{"$f":"Nuclear!$D$8","v":307.69444444444446},0,5.7249999999999988,27.953333333333337,0.82666666666666666,0]
["2018-01-04",6,29.87,2493,null,{"$f":"M117","v":144.87666666666667},110.68666666666665,103.93333333333334,null,{"$f":"'Combined Cycle Gas'!$D$8","v":318.30459770114948},{"$f":"Nuclear!$D$8","v":307.69444444444446},0,29.951666666666668,42.805000000000007,6.7750000000000012,0]
["2018-01-04",7,41.49,2055,null,{"$f":"M118","v":137.99},105.45833333333333,100.27,null,{"$f":"'Combined Cycle Gas'!$D$8","v":318.30459770114948},{"$f":"Nuclear!$D$8","v":307.69444444444446},0,29.211666666666673,59.576666666666661,21.418333333333333,0]
["2018-01-04",8,41.42,1668,null,{"$f":"M119","v":144.86499999999998},106.94166666666666,103.13166666666666,null,{"$f":"'Combined Cycle Gas'!$D$8","v":318.30459770114948},{"$f":"Nuclear!$D$8","v":307.69444444444446},1.2906299999999999,69.040000000000006,91.95,47.37833333333333,1290630]
["2018-01-04",9,27.53,1770,null,{"$f":"M120","v":140.79833333333335},111.735,108.22000000000001,null,{"$f":"'Combined Cycle Gas'!$D$8","v":318.30459770114948},{"$f":"Nuclear!$D$8","v":307.69444444444446},3.9511820000000002,116.78666666666668,108.48333333333333,89.884999999999991,3951182]
["2018-01-04",10,29.45,1574,null,{"$f":"M121","v":124.62333333333333},111.58166666666666,108.49666666666667,null,{"$f":"'Combined Cycle Gas'!$D$8","v":318.30459770114948},{"$f":"Nuclear!$D$8","v":307.69444444444446},5.4794219999999996,137.58333333333331,112.52,105.84999999999998,5479422]
["2018-01-04",11,38.44,1034,null,{"$f":"M122","v":113.87833333333333},111.60833333333333,93.658333333333346,null,{"$f":"'Combined Cycle Gas'!$D$8","v":318.30459770114948},{"$f":"Nuclear!$D$8","v":307.69444444444446},6.7143940000000004,146.39333333333335,112.52,109.435,6714394]
["2018-01-04",12,43.11,619,null,{"$f":"M123","v":97.378333333333345},110.59166666666668,85.228333333333339,null,{"$f":"'Combined Cycle Gas'!$D$8","v":318.30459770114948},{"$f":"Nuclear!$D$8","v":307.69444444444446},7.4388120000000004,144.87666666666667,110.68666666666665,103.93333333333334,7438812]
["2018-01-04",13,45.29,380,null,{"$f":"M124","v":77.108333333333334},106.85833333333335,69.77,null,{"$f":"'Combined Cycle Gas'!$D$8","v":318.30459770114948},{"$f":"Nuclear!$D$8","v":307.69444444444446},7.443994,137.99,105.45833333333333,100.27,7443994]
["2018-01-04",14,43.6,154,null,{"$f":"M125","v":59.91},82.62833333333333,52,null,{"$f":"'Combined Cycle Gas'!$D$8","v":318.30459770114948},{"$f":"Nuclear!$D$8","v":307.69444444444446},7.2588860000000004,144.86499999999998,106.94166666666666,103.13166666666666,7258886]
["2018-01-04",15,41.63,210,null,{"$f":"M126","v":55.033333333333339},51.354999999999997,36.088333333333331,null,{"$f":"'Combined Cycle Gas'!$D$8","v":318.30459770114948},{"$f":"Nuclear!$D$8","v":307.69444444444446},6.8280459999999996,140.79833333333335,111.735,108.22000000000001,6828046]
["2018-01-04",16,41.38,312,null,{"$f":"M127","v":58.756666666666668},35.92166666666666,31.818333333333339,null,{"$f":"'Combined Cycle Gas'!$D$8","v":318.30459770114948},{"$f":"Nuclear!$D$8","v":307.69444444444446},5.8547599999999997,124.62333333333333,111.58166666666666,108.49666666666667,5854760]
["2018-01-04",17,43.06,470,null,{"$f":"M128","v":66.2},32.258333333333333,74.704999999999998,null,{"$f":"'Combined Cycle Gas'!$D$8","v":318.30459770114948},{"$f":"Nuclear!$D$8","v":307.69444444444446},3.0262479999999998,113.87833333333333,111.60833333333333,93.658333333333346,3026248]
["2018-01-04",18,38.51,589,null,{"$f":"M129","v":84.91},38.831666666666671,94.144999999999996,null,{"$f":"'Combined Cycle Gas'!$D$8","v":318.30459770114948},{"$f":"Nuclear!$D$8","v":307.69444444444446},0,97.378333333333345,110.59166666666668,85.228333333333339,0]
["2018-01-04",19,30.17,815,null,{"$f":"M130","v":79.23},33.773333333333333,87.59999999999998,null,{"$f":"'Combined Cycle Gas'!$D$8","v":318.30459770114948},{"$f":"Nuclear!$D$8","v":307.69444444444446},0,77.108333333333334,106.85833333333335,69.77,0]
["2018-01-04",20,29.36,1460,null,{"$f":"M131","v":55.811666666666667},25.004999999999999,65.543333333333337,null,{"$f":"'Combined Cycle Gas'!$D$8","v":318.30459770114948},{"$f":"Nuclear!$D$8","v":307.69444444444446},0,59.91,82.62833333333333,52,0]
["2018-01-04",21,26.95,2025,null,{"$f":"M132","v":64.943333333333328},37.476666666666667,69.591666666666669,null,{"$f":"'Combined Cycle Gas'!$D$8","v":318.30459770114948},{"$f":"Nuclear!$D$8","v":307.69444444444446},0,55.033333333333339,51.354999999999997,36.088333333333331,0]
["2018-01-04",22,27.11,2334,null,{"$f":"M133","v":92.248333333333335},42.663333333333327,60.714999999999996,null,{"$f":"'Combined Cycle Gas'!$D$8","v":318.30459770114948},{"$f":"Nuclear!$D$8","v":307.69444444444446},0,58.756666666666668,35.92166666666666,31.818333333333339,0]
["2018-01-04",23,27.13,2513,null,{"$f":"M134","v":90.131666666666661},36.546666666666667,67.01166666666667,null,{"$f":"'Combined Cycle Gas'!$D$8","v":318.30459770114948},{"$f":"Nuclear!$D$8","v":307.69444444444446},0,66.2,32.258333333333333,74.704999999999998,0]
["2018-01-04",24,24.08,2953,null,{"$f":"M135","v":109.005},45.353333333333332,66.778333333333336,null,{"$f":"'Combined Cycle Gas'!$D$8","v":318.30459770114948},{"$f":"Nuclear!$D$8","v":307.69444444444446},0,84.91,38.831666666666671,94.144999999999996,0]
["2018-01-05",1,24.93,2910,null,{"$f":"M136","v":108.79666666666667},49.433333333333337,63.166666666666664,null,{"$f":"'Combined Cycle Gas'!$D$8","v":318.30459770114948},{"$f":"Nuclear!$D$8","v":307.69444444444446},0,79.23,33.773333333333333,87.59999999999998,0]
["2018-01-05",2,26.07,2778,null,{"$f":"M137","v":95.526666666666657},43.846666666666664,44.884999999999998,null,{"$f":"'Combined Cycle Gas'!$D$8","v":318.30459770114948},{"$f":"Nuclear!$D$8","v":307.69444444444446},0,55.811666666666667,25.004999999999999,65.543333333333337,0]
["2018-01-05",3,26.05,2844,null,{"$f":"M138","v":84.155000000000001},38.186666666666667,23.075000000000003,null,{"$f":"'Combined Cycle Gas'!$D$8","v":318.30459770114948},{"$f":"Nuclear!$D$8","v":307.69444444444446},0,64.943333333333328,37.476666666666667,69.591666666666669,0]
["2018-01-05",4,25.89,3030,null,{"$f":"M139","v":78.265000000000001},33.866666666666667,18.690000000000001,null,{"$f":"'Combined Cycle Gas'!$D$8","v":318.30459770114948},{"$f":"Nuclear!$D$8","v":307.69444444444446},0,92.248333333333335,42.663333333333327,60.714999999999996,0]
["2018-01-05",5,26.15,3299,null,{"$f":"M140","v":86.401666666666685},34.81,31.683333333333334,null,{"$f":"'Combined Cycle Gas'!$D$8","v":318.30459770114948},{"$f":"Nuclear!$D$8","v":307.69444444444446},0,90.131666666666661,36.546666666666667,67.01166666666667,0]
["2018-01-05",6,28.46,2990,null,{"$f":"M141","v":93.973333333333343},33.511666666666663,39.931666666666665,null,{"$f":"'Combined Cycle Gas'!$D$8","v":318.30459770114948},{"$f":"Nuclear!$D$8","v":307.69444444444446},0,109.005,45.353333333333332,66.778333333333336,0]
["2018-01-05",7,29.15,2915,null,{"$f":"M142","v":63.973333333333336},25.198333333333334,31.796666666666663,null,{"$f":"'Combined Cycle Gas'!$D$8","v":318.30459770114948},{"$f":"Nuclear!$D$8","v":307.69444444444446},0,108.79666666666667,49.433333333333337,63.166666666666664,0]
["2018-01-05",8,29.32,2882,null,{"$f":"M143","v":50.745000000000005},22.258333333333336,26.768333333333331,null,{"$f":"'Combined Cycle Gas'!$D$8","v":318.30459770114948},{"$f":"Nuclear!$D$8","v":307.69444444444446},2.123777,95.526666666666657,43.846666666666664,44.884999999999998,2123777]
["2018-01-05",9,27.05,2953,null,{"$f":"M144","v":49.784999999999997},17.613333333333333,26.891666666666669,null,{"$f":"'Combined Cycle Gas'!$D$8","v":318.30459770114948},{"$f":"Nuclear!$D$8","v":307.69444444444446},5.3410200000000003,84.155000000000001,38.186666666666667,23.075000000000003,5341020]
["2018-01-05",10,26.99,2787,null,{"$f":"M145","v":45.314999999999998},17.418333333333333,19.275000000000002,null,{"$f":"'Combined Cycle Gas'!$D$8","v":318.30459770114948},{"$f":"Nuclear!$D$8","v":307.69444444444446},6.6045879999999997,78.265000000000001,33.866666666666667,18.690000000000001,6604588]
["2018-01-05",11,28.08,2620,null,{"$f":"M146","v":45.313333333333333},20.47,16.543333333333333,null,{"$f":"'Combined Cycle Gas'!$D$8","v":318.30459770114948},{"$f":"Nuclear!$D$8","v":307.69444444444446},6.9892909999999997,86.401666666666685,34.81,31.683333333333334,6989291]
["2018-01-05",12,29.02,2232,null,{"$f":"M147","v":51.205000000000005},22.091666666666669,16.446666666666669,null,{"$f":"'Combined Cycle Gas'!$D$8","v":318.30459770114948},{"$f":"Nuclear!$D$8","v":307.69444444444446},7.1973279999999997,93.973333333333343,33.511666666666663,39.931666666666665,7197328]
["2018-01-05",13,27.03,2400,null,{"$f":"M148","v":59.136666666666663},30.021666666666665,19.125,null,{"$f":"'Combined Cycle Gas'!$D$8","v":318.30459770114948},{"$f":"Nuclear!$D$8","v":307.69444444444446},6.975238,63.973333333333336,25.198333333333334,31.796666666666663,6975238]
["2018-01-05",14,26.79,2869,null,{"$f":"M149","v":70.913333333333341},34.964999999999996,26.333333333333339,null,{"$f":"'Combined Cycle Gas'!$D$8","v":318.30459770114948},{"$f":"Nuclear!$D$8","v":307.69444444444446},6.5805939999999996,50.745000000000005,22.258333333333336,26.768333333333331,6580594]
["2018-01-05",15,27.03,2953,null,{"$f":"M150","v":68.586666666666673},41.609999999999992,26.716666666666669,null,{"$f":"'Combined Cycle Gas'!$D$8","v":318.30459770114948},{"$f":"Nuclear!$D$8","v":307.69444444444446},5.7357399999999998,49.784999999999997,17.613333333333333,26.891666666666669,5735740]
["2018-01-05",16,27.08,2953,null,{"$f":"M151","v":62.411666666666662},43.599999999999994,27.560000000000002,null,{"$f":"'Combined Cycle Gas'!$D$8","v":318.30459770114948},{"$f":"Nuclear!$D$8","v":307.69444444444446},4.6351420000000001,45.314999999999998,17.418333333333333,19.275000000000002,4635142]
["2018-01-05",17,27.13,2953,null,{"$f":"M152","v":77.028333333333322},51.65,34.659999999999997,null,{"$f":"'Combined Cycle Gas'!$D$8","v":318.30459770114948},{"$f":"Nuclear!$D$8","v":307.69444444444446},1.8433980000000001,45.313333333333333,20.47,16.543333333333333,1843398]
["2018-01-05",18,26.7,2953,null,{"$f":"M153","v":94.990000000000009},71.319999999999993,43.651666666666664,null,{"$f":"'Combined Cycle Gas'!$D$8","v":318.30459770114948},{"$f":"Nuclear!$D$8","v":307.69444444444446},0,51.205000000000005,22.091666666666669,16.446666666666669,0]
["2018-01-05",19,34.81,2950,null,{"$f":"M154","v":113.87333333333333},73.223333333333329,51.501666666666665,null,{"$f":"'Combined Cycle Gas'!$D$8","v":318.30459770114948},{"$f":"Nuclear!$D$8","v":307.69444444444446},0,59.136666666666663,30.021666666666665,19.125,0]
["2018-01-05",20,34.380000000000003,2953,null,{"$f":"M155","v":121.81333333333333},69.938333333333333,50.28,null,{"$f":"'Combined Cycle Gas'!$D$8","v":318.30459770114948},{"$f":"Nuclear!$D$8","v":307.69444444444446},0,70.913333333333341,34.964999999999996,26.333333333333339,0]
["2018-01-05",21,23.02,2862,null,{"$f":"M156","v":109.98166666666664},70.221666666666678,66.918333333333322,null,{"$f":"'Combined Cycle Gas'!$D$8","v":318.30459770114948},{"$f":"Nuclear!$D$8","v":307.69444444444446},0,68.586666666666673,41.609999999999992,26.716666666666669,0]
["2018-01-05",22,29.53,2433,null,{"$f":"M157","v":104.52333333333333},67.426666666666677,75.528333333333322,null,{"$f":"'Combined Cycle Gas'!$D$8","v":318.30459770114948},{"$f":"Nuclear!$D$8","v":307.69444444444446},0,62.411666666666662,43.599999999999994,27.560000000000002,0]
["2018-01-05",23,27.4,2432,null,{"$f":"M158","v":107.20166666666667},64.615000000000009,78.473333333333329,null,{"$f":"'Combined Cycle Gas'!$D$8","v":318.30459770114948},{"$f":"Nuclear!$D$8","v":307.69444444444446},0,77.028333333333322,51.65,34.659999999999997,0]
["2018-01-05",24,24.91,2502,null,{"$f":"M159","v":100.53333333333335},56.254999999999995,71.806666666666658,null,{"$f":"'Combined Cycle Gas'!$D$8","v":318.30459770114948},{"$f":"Nuclear!$D$8","v":307.69444444444446},0,94.990000000000009,71.319999999999993,43.651666666666664,0]
["2018-01-06",1,25.61,2788,null,{"$f":"M160","v":96.19},62.911666666666669,76.673333333333346,null,{"$f":"'Combined Cycle Gas'!$D$8","v":318.30459770114948},{"$f":"Nuclear!$D$8","v":307.69444444444446},0,113.87333333333333,73.223333333333329,51.501666666666665,0]
["2018-01-06",2,27.22,2356,null,{"$f":"M161","v":99.061666666666667},50.234999999999992,79.048333333333332,null,{"$f":"'Combined Cycle Gas'!$D$8","v":318.30459770114948},{"$f":"Nuclear!$D$8","v":307.69444444444446},0,121.81333333333333,69.938333333333333,50.28,0]
["2018-01-06",3,30.73,1773,null,{"$f":"M162","v":92.648333333333326},33.783333333333339,69.323333333333338,null,{"$f":"'Combined Cycle Gas'!$D$8","v":318.30459770114948},{"$f":"Nuclear!$D$8","v":307.69444444444446},0,109.98166666666664,70.221666666666678,66.918333333333322,0]
["2018-01-06",4,31.41,2185,null,{"$f":"M163","v":63.086666666666666},48.5,41.02,null,{"$f":"'Combined Cycle Gas'!$D$8","v":318.30459770114948},{"$f":"Nuclear!$D$8","v":307.69444444444446},0,104.52333333333333,67.426666666666677,75.528333333333322,0]
["2018-01-06",5,31.25,2207,null,{"$f":"M164","v":37.808333333333337},37.038333333333334,25.975000000000005,null,{"$f":"'Combined Cycle Gas'!$D$8","v":318.30459770114948},{"$f":"Nuclear!$D$8","v":307.69444444444446},0,107.20166666666667,64.615000000000009,78.473333333333329,0]
["2018-01-06",6,33.49,1839,null,{"$f":"M165","v":21.84833333333334},15.613333333333332,13.190000000000003,null,{"$f":"'Combined Cycle Gas'!$D$8","v":318.30459770114948},{"$f":"Nuclear!$D$8","v":307.69444444444446},0,100.53333333333335,56.254999999999995,71.806666666666658,0]
["2018-01-06",7,33.020000000000003,2208,null,{"$f":"M166","v":16.866666666666664},5.6550000000000002,16.438333333333336,null,{"$f":"'Combined Cycle Gas'!$D$8","v":318.30459770114948},{"$f":"Nuclear!$D$8","v":307.69444444444446},0,96.19,62.911666666666669,76.673333333333346,0]
["2018-01-06",8,37.22,1890,null,{"$f":"M167","v":18.163333333333334},8.2766666666666655,18.88,null,{"$f":"'Combined Cycle Gas'!$D$8","v":318.30459770114948},{"$f":"Nuclear!$D$8","v":307.69444444444446},2.8761999999999999E-2,99.061666666666667,50.234999999999992,79.048333333333332,28762]
["2018-01-06",9,40.21,1022,null,{"$f":"M168","v":27.236666666666665},14.01,20.776666666666667,null,{"$f":"'Combined Cycle Gas'!$D$8","v":318.30459770114948},{"$f":"Nuclear!$D$8","v":307.69444444444446},0.19259299999999999,92.648333333333326,33.783333333333339,69.323333333333338,192593]
["2018-01-06",10,45.82,344,null,{"$f":"M169","v":21.796666666666667},12.583333333333334,17.739999999999998,null,{"$f":"'Combined Cycle Gas'!$D$8","v":318.30459770114948},{"$f":"Nuclear!$D$8","v":307.69444444444446},{"$f":"P163/10^6","v":0.90794799999999998},63.086666666666666,48.5,41.02,907948]
["2018-01-06",11,47.28,12,null,{"$f":"M170","v":26.029999999999998},18.328333333333333,17.544999999999998,null,{"$f":"'Combined Cycle Gas'!$D$8","v":318.30459770114948},{"$f":"Nuclear!$D$8","v":307.69444444444446},1.3635219999999999,37.808333333333337,37.038333333333334,25.975000000000005,1363522]
["2018-01-06",12,40.229999999999997,0,null,{"$f":"M171","v":31.176666666666666},18.434999999999999,25.655000000000001,null,{"$f":"'Combined Cycle Gas'!$D$8","v":318.30459770114948},{"$f":"Nuclear!$D$8","v":307.69444444444446},1.484224,21.84833333333334,15.613333333333332,13.190000000000003,1484224]
["2018-01-06",13,37.590000000000003,0,null,{"$f":"M172","v":26.878333333333334},9.9350000000000005,21.418333333333333,null,{"$f":"'Combined Cycle Gas'!$D$8","v":318.30459770114948},{"$f":"Nuclear!$D$8","v":307.69444444444446},1.8342780000000001,16.866666666666664,5.6550000000000002,16.438333333333336,1834278]
["2018-01-06",14,35.01,1,null,{"$f":"M173","v":19.541666666666668},9.8166666666666682,22.946666666666669,null,{"$f":"'Combined Cycle Gas'!$D$8","v":318.30459770114948},{"$f":"Nuclear!$D$8","v":307.69444444444446},1.4343779999999999,18.163333333333334,8.2766666666666655,18.88,1434378]
["2018-01-06",15,34.5,14,null,{"$f":"M174","v":17.296666666666667},8.1716666666666651,20.509999999999998,null,{"$f":"'Combined Cycle Gas'!$D$8","v":318.30459770114948},{"$f":"Nuclear!$D$8","v":307.69444444444446},1.112951,27.236666666666665,14.01,20.776666666666667,1112951]
["2018-01-06",16,28.42,49,null,{"$f":"M175","v":17.566666666666666},4.1983333333333333,14.753333333333332,null,{"$f":"'Combined Cycle Gas'!$D$8","v":318.30459770114948},{"$f":"Nuclear!$D$8","v":307.69444444444446},0.62923399999999996,21.796666666666667,12.583333333333334,17.739999999999998,629234]
["2018-01-06",17,32.42,79,null,{"$f":"M176","v":35.881666666666668},15.233333333333334,10.99,null,{"$f":"'Combined Cycle Gas'!$D$8","v":318.30459770114948},{"$f":"Nuclear!$D$8","v":307.69444444444446},5.3959999999999998E-3,26.029999999999998,18.328333333333333,17.544999999999998,5396]
["2018-01-06",18,46.15,62,null,{"$f":"M177","v":46.786666666666669},24.765000000000001,21.301666666666666,null,{"$f":"'Combined Cycle Gas'!$D$8","v":318.30459770114948},{"$f":"Nuclear!$D$8","v":307.69444444444446},0,31.176666666666666,18.434999999999999,25.655000000000001,0]
["2018-01-06",19,43.26,0,null,{"$f":"M178","v":53.736666666666672},26.853333333333335,30.938333333333333,null,{"$f":"'Combined Cycle Gas'!$D$8","v":318.30459770114948},{"$f":"Nuclear!$D$8","v":307.69444444444446},0,26.878333333333334,9.9350000000000005,21.418333333333333,0]
["2018-01-06",20,42.32,128,null,{"$f":"M179","v":43.898333333333333},23.188333333333333,33.155000000000001,null,{"$f":"'Combined Cycle Gas'!$D$8","v":318.30459770114948},{"$f":"Nuclear!$D$8","v":307.69444444444446},0,19.541666666666668,9.8166666666666682,22.946666666666669,0]
["2018-01-06",21,42.47,73,null,{"$f":"M180","v":30.405000000000001},6.5366666666666662,11.876666666666667,null,{"$f":"'Combined Cycle Gas'!$D$8","v":318.30459770114948},{"$f":"Nuclear!$D$8","v":307.69444444444446},0,17.296666666666667,8.1716666666666651,20.509999999999998,0]
["2018-01-06",22,36.89,354,null,{"$f":"M181","v":40.335000000000001},6.9066666666666663,3.2649999999999992,null,{"$f":"'Combined Cycle Gas'!$D$8","v":318.30459770114948},{"$f":"Nuclear!$D$8","v":307.69444444444446},0,17.566666666666666,4.1983333333333333,14.753333333333332,0]
["2018-01-06",23,27.61,661,null,{"$f":"M182","v":33.875},12.38,11.671666666666667,null,{"$f":"'Combined Cycle Gas'!$D$8","v":318.30459770114948},{"$f":"Nuclear!$D$8","v":307.69444444444446},0,35.881666666666668,15.233333333333334,10.99,0]
["2018-01-06",24,27.62,1002,null,{"$f":"M183","v":15.506666666666668},8.3916666666666657,16.98,null,{"$f":"'Combined Cycle Gas'!$D$8","v":318.30459770114948},{"$f":"Nuclear!$D$8","v":307.69444444444446},0,46.786666666666669,24.765000000000001,21.301666666666666,0]
["2018-01-07",1,24.93,1969,null,{"$f":"M184","v":1.9299999999999997},1.1766666666666667,7.6316666666666677,null,{"$f":"'Combined Cycle Gas'!$D$8","v":318.30459770114948},{"$f":"Nuclear!$D$8","v":307.69444444444446},0,53.736666666666672,26.853333333333335,30.938333333333333,0]
["2018-01-07",2,24.92,2529,null,{"$f":"M185","v":5.1350000000000007},6.4799999999999995,4.8216666666666663,null,{"$f":"'Combined Cycle Gas'!$D$8","v":318.30459770114948},{"$f":"Nuclear!$D$8","v":307.69444444444446},0,43.898333333333333,23.188333333333333,33.155000000000001,0]
["2018-01-07",3,24.93,2674,null,{"$f":"M186","v":11.685},16.263333333333335,6.0549999999999997,null,{"$f":"'Combined Cycle Gas'!$D$8","v":318.30459770114948},{"$f":"Nuclear!$D$8","v":307.69444444444446},0,30.405000000000001,6.5366666666666662,11.876666666666667,0]
["2018-01-07",4,24.93,2850,null,{"$f":"M187","v":17.473333333333333},34.809999999999995,10.368333333333334,null,{"$f":"'Combined Cycle Gas'!$D$8","v":318.30459770114948},{"$f":"Nuclear!$D$8","v":307.69444444444446},0,40.335000000000001,6.9066666666666663,3.2649999999999992,0]
["2018-01-07",5,24.93,2848,null,{"$f":"M188","v":28.431666666666668},50.839999999999996,26.856666666666666,null,{"$f":"'Combined Cycle Gas'!$D$8","v":318.30459770114948},{"$f":"Nuclear!$D$8","v":307.69444444444446},0,33.875,12.38,11.671666666666667,0]
["2018-01-07",6,25.7,2971,null,{"$f":"M189","v":51.011666666666663},68.295000000000002,55.428333333333342,null,{"$f":"'Combined Cycle Gas'!$D$8","v":318.30459770114948},{"$f":"Nuclear!$D$8","v":307.69444444444446},0,15.506666666666668,8.3916666666666657,16.98,0]
["2018-01-07",7,27.51,2737,null,{"$f":"M190","v":55.636666666666677},68.301666666666677,66.06,null,{"$f":"'Combined Cycle Gas'!$D$8","v":318.30459770114948},{"$f":"Nuclear!$D$8","v":307.69444444444446},0,1.9299999999999997,1.1766666666666667,7.6316666666666677,0]
["2018-01-07",8,28.99,2383,null,{"$f":"M191","v":64.284999999999997},82.868333333333325,73.209999999999994,null,{"$f":"'Combined Cycle Gas'!$D$8","v":318.30459770114948},{"$f":"Nuclear!$D$8","v":307.69444444444446},2.3061180000000001,5.1350000000000007,6.4799999999999995,4.8216666666666663,2306118]
["2018-01-07",9,25.96,2648,null,{"$f":"M192","v":72.59333333333332},97.368333333333325,83.526666666666657,null,{"$f":"'Combined Cycle Gas'!$D$8","v":318.30459770114948},{"$f":"Nuclear!$D$8","v":307.69444444444446},5.2419659999999997,11.685,16.263333333333335,6.0549999999999997,5241966]
["2018-01-07",10,29.35,1955,null,{"$f":"M193","v":59.633333333333333},96.365000000000009,83.24499999999999,null,{"$f":"'Combined Cycle Gas'!$D$8","v":318.30459770114948},{"$f":"Nuclear!$D$8","v":307.69444444444446},6.3666729999999996,17.473333333333333,34.809999999999995,10.368333333333334,6366673]
["2018-01-07",11,29.13,1503,null,{"$f":"M194","v":58.57},99.954999999999998,64.646666666666661,null,{"$f":"'Combined Cycle Gas'!$D$8","v":318.30459770114948},{"$f":"Nuclear!$D$8","v":307.69444444444446},7.3289819999999999,28.431666666666668,50.839999999999996,26.856666666666666,7328982]
["2018-01-07",12,27.42,1724,null,{"$f":"M195","v":49.923333333333339},93.33,49.546666666666674,null,{"$f":"'Combined Cycle Gas'!$D$8","v":318.30459770114948},{"$f":"Nuclear!$D$8","v":307.69444444444446},7.4959660000000001,51.011666666666663,68.295000000000002,55.428333333333342,7495966]
["2018-01-07",13,26.08,2387,null,{"$f":"M196","v":46.166666666666664},97.396666666666661,30.189999999999998,null,{"$f":"'Combined Cycle Gas'!$D$8","v":318.30459770114948},{"$f":"Nuclear!$D$8","v":307.69444444444446},6.9080500000000002,55.636666666666677,68.301666666666677,66.06,6908050]
["2018-01-07",14,27.09,2662,null,{"$f":"M197","v":59.44166666666667},96.984999999999999,31.060000000000002,null,{"$f":"'Combined Cycle Gas'!$D$8","v":318.30459770114948},{"$f":"Nuclear!$D$8","v":307.69444444444446},5.8520479999999999,64.284999999999997,82.868333333333325,73.209999999999994,5852048]
["2018-01-07",15,27.48,2651,null,{"$f":"M198","v":70.90666666666668},96.649999999999991,44.348333333333329,null,{"$f":"'Combined Cycle Gas'!$D$8","v":318.30459770114948},{"$f":"Nuclear!$D$8","v":307.69444444444446},4.6012240000000002,72.59333333333332,97.368333333333325,83.526666666666657,4601224]
["2018-01-07",16,28.28,2528,null,{"$f":"M199","v":72.071666666666673},96.813333333333333,59.330000000000005,null,{"$f":"'Combined Cycle Gas'!$D$8","v":318.30459770114948},{"$f":"Nuclear!$D$8","v":307.69444444444446},2.3251590000000002,59.633333333333333,96.365000000000009,83.24499999999999,2325159]
["2018-01-07",17,30.1,2415,null,{"$f":"M200","v":63.086666666666673},99.943333333333328,65.26166666666667,null,{"$f":"'Combined Cycle Gas'!$D$8","v":318.30459770114948},{"$f":"Nuclear!$D$8","v":307.69444444444446},0.97873900000000003,58.57,99.954999999999998,64.646666666666661,978739]
["2018-01-07",18,29.99,2041,null,{"$f":"M201","v":51.298333333333339},105.00166666666665,76.336666666666659,null,{"$f":"'Combined Cycle Gas'!$D$8","v":318.30459770114948},{"$f":"Nuclear!$D$8","v":307.69444444444446},0,49.923333333333339,93.33,49.546666666666674,0]
["2018-01-07",19,42.84,1791,null,{"$f":"M202","v":107.96833333333335},108.31166666666668,80.824999999999989,null,{"$f":"'Combined Cycle Gas'!$D$8","v":318.30459770114948},{"$f":"Nuclear!$D$8","v":307.69444444444446},0,46.166666666666664,97.396666666666661,30.189999999999998,0]
["2018-01-07",20,33.479999999999997,1945,null,{"$f":"M203","v":130.29},107.67833333333334,88.893333333333317,null,{"$f":"'Combined Cycle Gas'!$D$8","v":318.30459770114948},{"$f":"Nuclear!$D$8","v":307.69444444444446},0,59.44166666666667,96.984999999999999,31.060000000000002,0]
["2018-01-07",21,42.24,1599,null,{"$f":"M204","v":130.84333333333333},105.88166666666667,93.149999999999991,null,{"$f":"'Combined Cycle Gas'!$D$8","v":318.30459770114948},{"$f":"Nuclear!$D$8","v":307.69444444444446},0,70.90666666666668,96.649999999999991,44.348333333333329,0]
["2018-01-07",22,46.87,1403,null,{"$f":"M205","v":135.11666666666667},110.765,96.864999999999995,null,{"$f":"'Combined Cycle Gas'!$D$8","v":318.30459770114948},{"$f":"Nuclear!$D$8","v":307.69444444444446},0,72.071666666666673,96.813333333333333,59.330000000000005,0]
["2018-01-07",23,43.12,1276,null,{"$f":"M206","v":137.83833333333334},110.92666666666666,98.683333333333337,null,{"$f":"'Combined Cycle Gas'!$D$8","v":318.30459770114948},{"$f":"Nuclear!$D$8","v":307.69444444444446},0,63.086666666666673,99.943333333333328,65.26166666666667,0]
["2018-01-07",24,35.24,1042,null,{"$f":"M207","v":136.97499999999999},108.35666666666667,100.48666666666668,null,{"$f":"'Combined Cycle Gas'!$D$8","v":318.30459770114948},{"$f":"Nuclear!$D$8","v":307.69444444444446},0,51.298333333333339,105.00166666666665,76.336666666666659,0]
["2018-01-08",1,28.72,874,null,{"$f":"M208","v":136.74166666666667},107.71333333333332,99.52,null,{"$f":"'Combined Cycle Gas'!$D$8","v":318.30459770114948},{"$f":"Nuclear!$D$8","v":307.69444444444446},0,107.96833333333335,108.31166666666668,80.824999999999989,0]
["2018-01-08",2,30.76,690,null,{"$f":"M209","v":140.29166666666666},107.99833333333333,105.55999999999999,null,{"$f":"'Combined Cycle Gas'!$D$8","v":318.30459770114948},{"$f":"Nuclear!$D$8","v":307.69444444444446},0,130.29,107.67833333333334,88.893333333333317,0]
["2018-01-08",3,30.59,499,null,{"$f":"M210","v":138.375},108.39666666666665,106.16666666666667,null,{"$f":"'Combined Cycle Gas'!$D$8","v":318.30459770114948},{"$f":"Nuclear!$D$8","v":307.69444444444446},0,130.84333333333333,105.88166666666667,93.149999999999991,0]
["2018-01-08",4,29.94,410,null,{"$f":"M211","v":138.56833333333333},108.49166666666667,106.21666666666665,null,{"$f":"'Combined Cycle Gas'!$D$8","v":318.30459770114948},{"$f":"Nuclear!$D$8","v":307.69444444444446},0,135.11666666666667,110.765,96.864999999999995,0]
["2018-01-08",5,34.630000000000003,425,null,{"$f":"M212","v":139.60999999999999},110.03166666666668,103.73,null,{"$f":"'Combined Cycle Gas'!$D$8","v":318.30459770114948},{"$f":"Nuclear!$D$8","v":307.69444444444446},0,137.83833333333334,110.92666666666666,98.683333333333337,0]
["2018-01-08",6,41.53,216,null,{"$f":"M213","v":139.27000000000001},106.87833333333334,104.47166666666668,null,{"$f":"'Combined Cycle Gas'!$D$8","v":318.30459770114948},{"$f":"Nuclear!$D$8","v":307.69444444444446},0,136.97499999999999,108.35666666666667,100.48666666666668,0]
["2018-01-08",7,40.4,261,null,{"$f":"M214","v":138.35833333333332},106.14333333333333,105.065,null,{"$f":"'Combined Cycle Gas'!$D$8","v":318.30459770114948},{"$f":"Nuclear!$D$8","v":307.69444444444446},0,136.74166666666667,107.71333333333332,99.52,0]
["2018-01-08",8,41.97,20,null,{"$f":"M215","v":140.62166666666667},108.01666666666667,103.16500000000001,null,{"$f":"'Combined Cycle Gas'!$D$8","v":318.30459770114948},{"$f":"Nuclear!$D$8","v":307.69444444444446},2.4023400000000001,140.29166666666666,107.99833333333333,105.55999999999999,2402340]
["2018-01-08",9,41.32,515,null,{"$f":"M216","v":141.42999999999998},108.13500000000001,102.28166666666668,null,{"$f":"'Combined Cycle Gas'!$D$8","v":318.30459770114948},{"$f":"Nuclear!$D$8","v":307.69444444444446},5.9435710000000004,138.375,108.39666666666665,106.16666666666667,5943571]
["2018-01-08",10,33.57,1542,null,{"$f":"M217","v":140.25333333333333},107.86833333333334,102.425,null,{"$f":"'Combined Cycle Gas'!$D$8","v":318.30459770114948},{"$f":"Nuclear!$D$8","v":307.69444444444446},7.1085200000000004,138.56833333333333,108.49166666666667,106.21666666666665,7108520]
["2018-01-08",11,29.25,2047,null,{"$f":"M218","v":140.12833333333333},108.14999999999999,102.49833333333333,null,{"$f":"'Combined Cycle Gas'!$D$8","v":318.30459770114948},{"$f":"Nuclear!$D$8","v":307.69444444444446},7.4918009999999997,139.60999999999999,110.03166666666668,103.73,7491801]
["2018-01-08",12,34.590000000000003,1212,null,{"$f":"M219","v":140.82333333333335},109.13,103.23833333333333,null,{"$f":"'Combined Cycle Gas'!$D$8","v":318.30459770114948},{"$f":"Nuclear!$D$8","v":307.69444444444446},7.7168340000000004,139.27000000000001,106.87833333333334,104.47166666666668,7716834]
["2018-01-08",13,34.700000000000003,501,null,{"$f":"M220","v":144.35499999999999},109.68166666666667,101.91166666666668,null,{"$f":"'Combined Cycle Gas'!$D$8","v":318.30459770114948},{"$f":"Nuclear!$D$8","v":307.69444444444446},7.6247299999999996,138.35833333333332,106.14333333333333,105.065,7624730]
["2018-01-08",14,34.71,33,null,{"$f":"M221","v":143.79333333333332},104.88499999999999,101.76666666666665,null,{"$f":"'Combined Cycle Gas'!$D$8","v":318.30459770114948},{"$f":"Nuclear!$D$8","v":307.69444444444446},6.875146,140.62166666666667,108.01666666666667,103.16500000000001,6875146]
["2018-01-08",15,34.43,1,null,{"$f":"M222","v":136.69666666666666},110.43333333333332,104.16666666666667,null,{"$f":"'Combined Cycle Gas'!$D$8","v":318.30459770114948},{"$f":"Nuclear!$D$8","v":307.69444444444446},6.1050500000000003,141.42999999999998,108.13500000000001,102.28166666666668,6105050]
["2018-01-08",16,33.21,113,null,{"$f":"M223","v":141.08500000000001},107.82,103.31166666666665,null,{"$f":"'Combined Cycle Gas'!$D$8","v":318.30459770114948},{"$f":"Nuclear!$D$8","v":307.69444444444446},5.2528439999999996,140.25333333333333,107.86833333333334,102.425,5252844]
["2018-01-08",17,39.729999999999997,476,null,{"$f":"M224","v":140.42833333333334},108.05333333333334,103.97333333333331,null,{"$f":"'Combined Cycle Gas'!$D$8","v":318.30459770114948},{"$f":"Nuclear!$D$8","v":307.69444444444446},2.6722999999999999,140.12833333333333,108.14999999999999,102.49833333333333,2672300]
["2018-01-08",18,40.92,120,null,{"$f":"M225","v":138.29666666666668},110.23666666666666,103.745,null,{"$f":"'Combined Cycle Gas'!$D$8","v":318.30459770114948},{"$f":"Nuclear!$D$8","v":307.69444444444446},0,140.82333333333335,109.13,103.23833333333333,0]
["2018-01-08",19,42.05,116,null,{"$f":"M226","v":142.36833333333334},111.05333333333334,103.98666666666668,null,{"$f":"'Combined Cycle Gas'!$D$8","v":318.30459770114948},{"$f":"Nuclear!$D$8","v":307.69444444444446},0,144.35499999999999,109.68166666666667,101.91166666666668,0]
["2018-01-08",20,42.04,4,null,{"$f":"M227","v":141.99499999999998},110.73666666666666,105.09666666666668,null,{"$f":"'Combined Cycle Gas'!$D$8","v":318.30459770114948},{"$f":"Nuclear!$D$8","v":307.69444444444446},0,143.79333333333332,104.88499999999999,101.76666666666665,0]
["2018-01-08",21,41.89,0,null,{"$f":"M228","v":142.50833333333333},106.07666666666667,102.645,null,{"$f":"'Combined Cycle Gas'!$D$8","v":318.30459770114948},{"$f":"Nuclear!$D$8","v":307.69444444444446},0,136.69666666666666,110.43333333333332,104.16666666666667,0]
["2018-01-08",22,41.5,0,null,{"$f":"M229","v":141.6},108.83833333333332,102.67166666666667,null,{"$f":"'Combined Cycle Gas'!$D$8","v":318.30459770114948},{"$f":"Nuclear!$D$8","v":307.69444444444446},0,141.08500000000001,107.82,103.31166666666665,0]
["2018-01-08",23,36.61,743,null,{"$f":"M230","v":146.06333333333333},108.94,102.40166666666669,null,{"$f":"'Combined Cycle Gas'!$D$8","v":318.30459770114948},{"$f":"Nuclear!$D$8","v":307.69444444444446},0,140.42833333333334,108.05333333333334,103.97333333333331,0]
["2018-01-08",24,26.08,1207,null,{"$f":"M231","v":142.40833333333333},109.46666666666665,103.75666666666666,null,{"$f":"'Combined Cycle Gas'!$D$8","v":318.30459770114948},{"$f":"Nuclear!$D$8","v":307.69444444444446},0,138.29666666666668,110.23666666666666,103.745,0]
["2018-01-09",1,25.15,1880,null,{"$f":"M232","v":134.88166666666669},110.72833333333334,104.56666666666668,null,{"$f":"'Combined Cycle Gas'!$D$8","v":318.30459770114948},{"$f":"Nuclear!$D$8","v":307.69444444444446},0,142.36833333333334,111.05333333333334,103.98666666666668,0]
["2018-01-09",2,26.09,2112,null,{"$f":"M233","v":139.69999999999999},111.89833333333333,103.19500000000001,null,{"$f":"'Combined Cycle Gas'!$D$8","v":318.30459770114948},{"$f":"Nuclear!$D$8","v":307.69444444444446},{"$f":"P227/10^6","v":0},141.99499999999998,110.73666666666666,105.09666666666668,0]
["2018-01-09",3,29.2,2929,null,{"$f":"M234","v":134.11166666666668},106.50999999999999,102.87166666666667,null,{"$f":"'Combined Cycle Gas'!$D$8","v":318.30459770114948},{"$f":"Nuclear!$D$8","v":307.69444444444446},0,142.50833333333333,106.07666666666667,102.645,0]
["2018-01-09",4,27.88,3216,null,{"$f":"M235","v":119.32166666666666},104.15499999999999,98.846666666666678,null,{"$f":"'Combined Cycle Gas'!$D$8","v":318.30459770114948},{"$f":"Nuclear!$D$8","v":307.69444444444446},0,141.6,108.83833333333332,102.67166666666667,0]
["2018-01-09",5,30.1,3430,null,{"$f":"M236","v":91.46},88.903333333333322,86.148333333333326,null,{"$f":"'Combined Cycle Gas'!$D$8","v":318.30459770114948},{"$f":"Nuclear!$D$8","v":307.69444444444446},0,146.06333333333333,108.94,102.40166666666669,0]
["2018-01-09",6,34.67,3440,null,{"$f":"M237","v":63.73},56.610000000000007,66.739999999999995,null,{"$f":"'Combined Cycle Gas'!$D$8","v":318.30459770114948},{"$f":"Nuclear!$D$8","v":307.69444444444446},0,142.40833333333333,109.46666666666665,103.75666666666666,0]
["2018-01-09",7,41.11,2877,null,{"$f":"M238","v":53.110000000000007},42.723333333333336,58.816666666666663,null,{"$f":"'Combined Cycle Gas'!$D$8","v":318.30459770114948},{"$f":"Nuclear!$D$8","v":307.69444444444446},0,134.88166666666669,110.72833333333334,104.56666666666668,0]
["2018-01-09",8,42.66,2633,null,{"$f":"M239","v":39.121666666666663},33.534999999999997,53.903333333333329,null,{"$f":"'Combined Cycle Gas'!$D$8","v":318.30459770114948},{"$f":"Nuclear!$D$8","v":307.69444444444446},1.056036,139.69999999999999,111.89833333333333,103.19500000000001,1056036]
["2018-01-09",9,40.85,2486,null,{"$f":"M240","v":39.796666666666667},28.35166666666667,52.513333333333343,null,{"$f":"'Combined Cycle Gas'!$D$8","v":318.30459770114948},{"$f":"Nuclear!$D$8","v":307.69444444444446},3.982856,134.11166666666668,106.50999999999999,102.87166666666667,3982856]
["2018-01-09",10,39.71,2517,null,{"$f":"M241","v":33.763333333333335},26.493333333333336,33.741666666666667,null,{"$f":"'Combined Cycle Gas'!$D$8","v":318.30459770114948},{"$f":"Nuclear!$D$8","v":307.69444444444446},5.3601380000000001,119.32166666666666,104.15499999999999,98.846666666666678,5360138]
["2018-01-09",11,40.4,1886,null,{"$f":"M242","v":11.583333333333334},24.100000000000005,21.968333333333334,null,{"$f":"'Combined Cycle Gas'!$D$8","v":318.30459770114948},{"$f":"Nuclear!$D$8","v":307.69444444444446},6.1430939999999996,91.46,88.903333333333322,86.148333333333326,6143094]
["2018-01-09",12,40.92,979,null,{"$f":"M243","v":12.531666666666666},19.27,17.226666666666667,null,{"$f":"'Combined Cycle Gas'!$D$8","v":318.30459770114948},{"$f":"Nuclear!$D$8","v":307.69444444444446},6.6607839999999996,63.73,56.610000000000007,66.739999999999995,6660784]
["2018-01-09",13,40.94,541,null,{"$f":"M244","v":6.0149999999999997},18.7,15.293333333333337,null,{"$f":"'Combined Cycle Gas'!$D$8","v":318.30459770114948},{"$f":"Nuclear!$D$8","v":307.69444444444446},4.1985159999999997,53.110000000000007,42.723333333333336,58.816666666666663,4198516]
["2018-01-09",14,40.909999999999997,367,null,{"$f":"M245","v":5.46},16.25,13.168333333333335,null,{"$f":"'Combined Cycle Gas'!$D$8","v":318.30459770114948},{"$f":"Nuclear!$D$8","v":307.69444444444446},3.9995050000000001,39.121666666666663,33.534999999999997,53.903333333333329,3999505]
["2018-01-09",15,39.57,916,null,{"$f":"M246","v":6.5049999999999999},15.011666666666665,9.3483333333333327,null,{"$f":"'Combined Cycle Gas'!$D$8","v":318.30459770114948},{"$f":"Nuclear!$D$8","v":307.69444444444446},2.7525010000000001,39.796666666666667,28.35166666666667,52.513333333333343,2752501]
["2018-01-09",16,33.200000000000003,1554,null,{"$f":"M247","v":6.7466666666666661},6.9183333333333321,9.1383333333333336,null,{"$f":"'Combined Cycle Gas'!$D$8","v":318.30459770114948},{"$f":"Nuclear!$D$8","v":307.69444444444446},0.99239999999999995,33.763333333333335,26.493333333333336,33.741666666666667,992400]
["2018-01-09",17,34.020000000000003,2052,null,{"$f":"M248","v":6.3216666666666663},4,9.0616666666666656,null,{"$f":"'Combined Cycle Gas'!$D$8","v":318.30459770114948},{"$f":"Nuclear!$D$8","v":307.69444444444446},1.4246999999999999E-2,11.583333333333334,24.100000000000005,21.968333333333334,14247]
["2018-01-09",18,31.95,2230,null,{"$f":"M249","v":14.348333333333334},3.9883333333333333,7.91,null,{"$f":"'Combined Cycle Gas'!$D$8","v":318.30459770114948},{"$f":"Nuclear!$D$8","v":307.69444444444446},0,12.531666666666666,19.27,17.226666666666667,0]
["2018-01-09",19,32.700000000000003,2730,null,{"$f":"M250","v":48.54666666666666},4.2333333333333334,8.3466666666666658,null,{"$f":"'Combined Cycle Gas'!$D$8","v":318.30459770114948},{"$f":"Nuclear!$D$8","v":307.69444444444446},0,6.0149999999999997,18.7,15.293333333333337,0]
["2018-01-09",20,29.8,2953,null,{"$f":"M251","v":43.113333333333337},12.035000000000002,9.7216666666666658,null,{"$f":"'Combined Cycle Gas'!$D$8","v":318.30459770114948},{"$f":"Nuclear!$D$8","v":307.69444444444446},0,5.46,16.25,13.168333333333335,0]
["2018-01-09",21,30.36,2953,null,{"$f":"M252","v":32.981666666666669},21.228333333333335,12.729999999999999,null,{"$f":"'Combined Cycle Gas'!$D$8","v":318.30459770114948},{"$f":"Nuclear!$D$8","v":307.69444444444446},0,6.5049999999999999,15.011666666666665,9.3483333333333327,0]
["2018-01-09",22,28.5,2953,null,{"$f":"M253","v":4.6316666666666668},10.229999999999999,9.3199999999999985,null,{"$f":"'Combined Cycle Gas'!$D$8","v":318.30459770114948},{"$f":"Nuclear!$D$8","v":307.69444444444446},0,6.7466666666666661,6.9183333333333321,9.1383333333333336,0]
["2018-01-09",23,29.07,2953,null,{"$f":"M254","v":7.1833333333333327},9.26,7.6616666666666662,null,{"$f":"'Combined Cycle Gas'!$D$8","v":318.30459770114948},{"$f":"Nuclear!$D$8","v":307.69444444444446},0,6.3216666666666663,4,9.0616666666666656,0]
["2018-01-09",24,27.28,3440,null,{"$f":"M255","v":4.84},26.939999999999998,7.87,null,{"$f":"'Combined Cycle Gas'!$D$8","v":318.30459770114948},{"$f":"Nuclear!$D$8","v":307.69444444444446},0,14.348333333333334,3.9883333333333333,7.91,0]
["2018-01-10",1,27.55,3440,null,{"$f":"M256","v":9.8933333333333326},14.799999999999999,10.446666666666667,null,{"$f":"'Combined Cycle Gas'!$D$8","v":318.30459770114948},{"$f":"Nuclear!$D$8","v":307.69444444444446},0,48.54666666666666,4.2333333333333334,8.3466666666666658,0]
["2018-01-10",2,27.89,3440,null,{"$f":"M257","v":37.088333333333331},8.5850000000000009,20.358333333333334,null,{"$f":"'Combined Cycle Gas'!$D$8","v":318.30459770114948},{"$f":"Nuclear!$D$8","v":307.69444444444446},0,43.113333333333337,12.035000000000002,9.7216666666666658,0]
["2018-01-10",3,27.89,3278,null,{"$f":"M258","v":65.728333333333339},35.971666666666671,36.921666666666667,null,{"$f":"'Combined Cycle Gas'!$D$8","v":318.30459770114948},{"$f":"Nuclear!$D$8","v":307.69444444444446},0,32.981666666666669,21.228333333333335,12.729999999999999,0]
["2018-01-10",4,29.64,2852,null,{"$f":"M259","v":88.771666666666661},58.664999999999999,38.278333333333336,null,{"$f":"'Combined Cycle Gas'!$D$8","v":318.30459770114948},{"$f":"Nuclear!$D$8","v":307.69444444444446},0,4.6316666666666668,10.229999999999999,9.3199999999999985,0]
["2018-01-10",5,32.83,2345,null,{"$f":"M260","v":84.511666666666656},58.366666666666667,28.243333333333336,null,{"$f":"'Combined Cycle Gas'!$D$8","v":318.30459770114948},{"$f":"Nuclear!$D$8","v":307.69444444444446},0,7.1833333333333327,9.26,7.6616666666666662,0]
["2018-01-10",6,33.729999999999997,2350,null,{"$f":"M261","v":77.38333333333334},64.711666666666659,37.154999999999994,null,{"$f":"'Combined Cycle Gas'!$D$8","v":318.30459770114948},{"$f":"Nuclear!$D$8","v":307.69444444444446},0,4.84,26.939999999999998,7.87,0]
["2018-01-10",7,42.55,2348,null,{"$f":"M262","v":96.488333333333344},68.941666666666663,48.265000000000008,null,{"$f":"'Combined Cycle Gas'!$D$8","v":318.30459770114948},{"$f":"Nuclear!$D$8","v":307.69444444444446},0,9.8933333333333326,14.799999999999999,10.446666666666667,0]
["2018-01-10",8,43.5,1929,null,{"$f":"M263","v":120.48833333333333},54.743333333333339,62.285000000000004,null,{"$f":"'Combined Cycle Gas'!$D$8","v":318.30459770114948},{"$f":"Nuclear!$D$8","v":307.69444444444446},2.745E-3,37.088333333333331,8.5850000000000009,20.358333333333334,2745]
["2018-01-10",9,42.14,2062,null,{"$f":"M264","v":119.98666666666666},79.741666666666674,65.101666666666659,null,{"$f":"'Combined Cycle Gas'!$D$8","v":318.30459770114948},{"$f":"Nuclear!$D$8","v":307.69444444444446},1.6754789999999999,65.728333333333339,35.971666666666671,36.921666666666667,1675479]
["2018-01-10",10,41.1,1621,null,{"$f":"M265","v":95.910000000000011},87.61,72.658333333333346,null,{"$f":"'Combined Cycle Gas'!$D$8","v":318.30459770114948},{"$f":"Nuclear!$D$8","v":307.69444444444446},3.5621139999999998,88.771666666666661,58.664999999999999,38.278333333333336,3562114]
["2018-01-10",11,41.11,1193,null,{"$f":"M266","v":95.334999999999994},77.36,90.074999999999989,null,{"$f":"'Combined Cycle Gas'!$D$8","v":318.30459770114948},{"$f":"Nuclear!$D$8","v":307.69444444444446},4.6054170000000001,84.511666666666656,58.366666666666667,28.243333333333336,4605417]
["2018-01-10",12,40.81,1045,null,{"$f":"M267","v":95.528333333333322},59.841666666666669,84.135000000000005,null,{"$f":"'Combined Cycle Gas'!$D$8","v":318.30459770114948},{"$f":"Nuclear!$D$8","v":307.69444444444446},5.0198020000000003,77.38333333333334,64.711666666666659,37.154999999999994,5019802]
["2018-01-10",13,40.76,1044,null,{"$f":"M268","v":85.234999999999999},79.171666666666681,82.765000000000001,null,{"$f":"'Combined Cycle Gas'!$D$8","v":318.30459770114948},{"$f":"Nuclear!$D$8","v":307.69444444444446},5.2657850000000002,96.488333333333344,68.941666666666663,48.265000000000008,5265785]
["2018-01-10",14,40.82,969,null,{"$f":"M269","v":94.98},72.589999999999989,83.108333333333334,null,{"$f":"'Combined Cycle Gas'!$D$8","v":318.30459770114948},{"$f":"Nuclear!$D$8","v":307.69444444444446},3.6778559999999998,120.48833333333333,54.743333333333339,62.285000000000004,3677856]
["2018-01-10",15,40.85,532,null,{"$f":"M270","v":116.075},85.428333333333327,69.298333333333332,null,{"$f":"'Combined Cycle Gas'!$D$8","v":318.30459770114948},{"$f":"Nuclear!$D$8","v":307.69444444444446},5.9796379999999996,119.98666666666666,79.741666666666674,65.101666666666659,5979638]
["2018-01-10",16,41.9,277,null,{"$f":"M271","v":138.99666666666667},96.431666666666672,64.706666666666663,null,{"$f":"'Combined Cycle Gas'!$D$8","v":318.30459770114948},{"$f":"Nuclear!$D$8","v":307.69444444444446},3.9608089999999998,95.910000000000011,87.61,72.658333333333346,3960809]
["2018-01-10",17,41.84,102,null,{"$f":"M272","v":143.88},95.37833333333333,72.896666666666661,null,{"$f":"'Combined Cycle Gas'!$D$8","v":318.30459770114948},{"$f":"Nuclear!$D$8","v":307.69444444444446},1.223976,95.334999999999994,77.36,90.074999999999989,1223976]
["2018-01-10",18,41.12,0,null,{"$f":"M273","v":149.64666666666668},104.16666666666667,98.27833333333335,null,{"$f":"'Combined Cycle Gas'!$D$8","v":318.30459770114948},{"$f":"Nuclear!$D$8","v":307.69444444444446},0,95.528333333333322,59.841666666666669,84.135000000000005,0]
["2018-01-10",19,51.78,0,null,{"$f":"M274","v":150.34166666666667},111.71666666666665,110.19000000000001,null,{"$f":"'Combined Cycle Gas'!$D$8","v":318.30459770114948},{"$f":"Nuclear!$D$8","v":307.69444444444446},0,85.234999999999999,79.171666666666681,82.765000000000001,0]
["2018-01-10",20,52.71,0,null,{"$f":"M275","v":149.69500000000002},112.52,110.19000000000001,null,{"$f":"'Combined Cycle Gas'!$D$8","v":318.30459770114948},{"$f":"Nuclear!$D$8","v":307.69444444444446},0,94.98,72.589999999999989,83.108333333333334,0]
["2018-01-10",21,41.68,704,null,{"$f":"M276","v":149.655},111.05499999999999,110.19000000000001,null,{"$f":"'Combined Cycle Gas'!$D$8","v":318.30459770114948},{"$f":"Nuclear!$D$8","v":307.69444444444446},0,116.075,85.428333333333327,69.298333333333332,0]
["2018-01-10",22,41.02,1590,null,{"$f":"M277","v":150.35166666666666},110.35499999999998,110.19000000000001,null,{"$f":"'Combined Cycle Gas'!$D$8","v":318.30459770114948},{"$f":"Nuclear!$D$8","v":307.69444444444446},0,138.99666666666667,96.431666666666672,64.706666666666663,0]
["2018-01-10",23,39.6,1919,null,{"$f":"M278","v":147.035},109.36166666666666,110.19000000000001,null,{"$f":"'Combined Cycle Gas'!$D$8","v":318.30459770114948},{"$f":"Nuclear!$D$8","v":307.69444444444446},0,143.88,95.37833333333333,72.896666666666661,0]
["2018-01-10",24,34.26,2092,null,{"$f":"M279","v":143.35666666666665},111.39166666666665,110.19000000000001,null,{"$f":"'Combined Cycle Gas'!$D$8","v":318.30459770114948},{"$f":"Nuclear!$D$8","v":307.69444444444446},0,149.64666666666668,104.16666666666667,98.27833333333335,0]
["2018-01-11",1,32.090000000000003,1973,null,{"$f":"M280","v":133.50333333333333},112.09166666666665,110.19000000000001,null,{"$f":"'Combined Cycle Gas'!$D$8","v":318.30459770114948},{"$f":"Nuclear!$D$8","v":307.69444444444446},0,150.34166666666667,111.71666666666665,110.19000000000001,0]
["2018-01-11",2,32.340000000000003,2417,null,{"$f":"M281","v":102.68666666666665},103.54333333333334,110.04333333333334,null,{"$f":"'Combined Cycle Gas'!$D$8","v":318.30459770114948},{"$f":"Nuclear!$D$8","v":307.69444444444446},0,149.69500000000002,112.52,110.19000000000001,0]
["2018-01-11",3,32.21,2680,null,{"$f":"M282","v":61.518333333333324},92.788333333333341,109.03166666666668,null,{"$f":"'Combined Cycle Gas'!$D$8","v":318.30459770114948},{"$f":"Nuclear!$D$8","v":307.69444444444446},0,149.655,111.05499999999999,110.19000000000001,0]
["2018-01-11",4,32.14,2500,null,{"$f":"M283","v":72.428333333333327},85.893333333333331,108.50500000000001,null,{"$f":"'Combined Cycle Gas'!$D$8","v":318.30459770114948},{"$f":"Nuclear!$D$8","v":307.69444444444446},0,150.35166666666666,110.35499999999998,110.19000000000001,0]
["2018-01-11",5,32.979999999999997,2459,null,{"$f":"M284","v":27.756666666666661},32.125,102.51833333333333,null,{"$f":"'Combined Cycle Gas'!$D$8","v":318.30459770114948},{"$f":"Nuclear!$D$8","v":307.69444444444446},0,147.035,109.36166666666666,110.19000000000001,0]
["2018-01-11",6,39.700000000000003,2077,null,{"$f":"M285","v":19.215},42.02,103.46,null,{"$f":"'Combined Cycle Gas'!$D$8","v":318.30459770114948},{"$f":"Nuclear!$D$8","v":307.69444444444446},0,143.35666666666665,111.39166666666665,110.19000000000001,0]
["2018-01-11",7,43.9,1466,null,{"$f":"M286","v":22.87166666666667},36.589999999999996,98.174999999999997,null,{"$f":"'Combined Cycle Gas'!$D$8","v":318.30459770114948},{"$f":"Nuclear!$D$8","v":307.69444444444446},0,133.50333333333333,112.09166666666665,110.19000000000001,0]
["2018-01-11",8,56.34,881,null,{"$f":"M287","v":27.011666666666667},38.906666666666666,95.05,null,{"$f":"'Combined Cycle Gas'!$D$8","v":318.30459770114948},{"$f":"Nuclear!$D$8","v":307.69444444444446},2.43038,102.68666666666665,103.54333333333334,110.04333333333334,2430380]
["2018-01-11",9,47.51,57,null,{"$f":"M288","v":17.096666666666668},32.410000000000004,81.24166666666666,null,{"$f":"'Combined Cycle Gas'!$D$8","v":318.30459770114948},{"$f":"Nuclear!$D$8","v":307.69444444444446},6.0352930000000002,61.518333333333324,92.788333333333341,109.03166666666668,6035293]
["2018-01-11",10,42.65,0,null,{"$f":"M289","v":7.9033333333333333},18.668333333333333,81.765000000000001,null,{"$f":"'Combined Cycle Gas'!$D$8","v":318.30459770114948},{"$f":"Nuclear!$D$8","v":307.69444444444446},7.0539180000000004,72.428333333333327,85.893333333333331,108.50500000000001,7053918]
["2018-01-11",11,42.42,58,null,{"$f":"M290","v":9.8149999999999995},13.269999999999998,74.713333333333338,null,{"$f":"'Combined Cycle Gas'!$D$8","v":318.30459770114948},{"$f":"Nuclear!$D$8","v":307.69444444444446},7.4497,27.756666666666661,32.125,102.51833333333333,7449700]
["2018-01-11",12,40.82,303,null,{"$f":"M291","v":8.5783333333333349},5.5683333333333342,57.181666666666672,null,{"$f":"'Combined Cycle Gas'!$D$8","v":318.30459770114948},{"$f":"Nuclear!$D$8","v":307.69444444444446},7.635027,19.215,42.02,103.46,7635027]
["2018-01-11",13,40.020000000000003,460,null,{"$f":"M292","v":9.5599999999999987},6.0916666666666659,36.693333333333335,null,{"$f":"'Combined Cycle Gas'!$D$8","v":318.30459770114948},{"$f":"Nuclear!$D$8","v":307.69444444444446},7.5476580000000002,22.87166666666667,36.589999999999996,98.174999999999997,7547658]
["2018-01-11",14,39.479999999999997,537,null,{"$f":"M293","v":7.6183333333333332},6.6983333333333341,26.863333333333333,null,{"$f":"'Combined Cycle Gas'!$D$8","v":318.30459770114948},{"$f":"Nuclear!$D$8","v":307.69444444444446},7.3545559999999996,27.011666666666667,38.906666666666666,95.05,7354556]
["2018-01-11",15,34.479999999999997,512,null,{"$f":"M294","v":6.8483333333333327},9.2266666666666683,14.473333333333334,null,{"$f":"'Combined Cycle Gas'!$D$8","v":318.30459770114948},{"$f":"Nuclear!$D$8","v":307.69444444444446},6.9279469999999996,17.096666666666668,32.410000000000004,81.24166666666666,6927947]
["2018-01-11",16,34.57,511,null,{"$f":"M295","v":7.0383333333333331},11.69,12.174999999999999,null,{"$f":"'Combined Cycle Gas'!$D$8","v":318.30459770114948},{"$f":"Nuclear!$D$8","v":307.69444444444446},6.1686699999999997,7.9033333333333333,18.668333333333333,81.765000000000001,6168670]
["2018-01-11",17,38.78,444,null,{"$f":"M296","v":6.9783333333333344},15.556666666666665,13.49,null,{"$f":"'Combined Cycle Gas'!$D$8","v":318.30459770114948},{"$f":"Nuclear!$D$8","v":307.69444444444446},3.8464680000000002,9.8149999999999995,13.269999999999998,74.713333333333338,3846468]
["2018-01-11",18,39.799999999999997,42,null,{"$f":"M297","v":6.9383333333333335},23.701666666666668,24.506666666666664,null,{"$f":"'Combined Cycle Gas'!$D$8","v":318.30459770114948},{"$f":"Nuclear!$D$8","v":307.69444444444446},{"$f":"P291/10^6","v":0},8.5783333333333349,5.5683333333333342,57.181666666666672,0]
["2018-01-11",19,41.57,118,null,{"$f":"M298","v":7.6966666666666654},36.994999999999997,29.286666666666665,null,{"$f":"'Combined Cycle Gas'!$D$8","v":318.30459770114948},{"$f":"Nuclear!$D$8","v":307.69444444444446},0,9.5599999999999987,6.0916666666666659,36.693333333333335,0]
["2018-01-11",20,40.94,118,null,{"$f":"M299","v":18.86},38.698333333333331,21.781666666666666,null,{"$f":"'Combined Cycle Gas'!$D$8","v":318.30459770114948},{"$f":"Nuclear!$D$8","v":307.69444444444446},0,7.6183333333333332,6.6983333333333341,26.863333333333333,0]
["2018-01-11",21,40.81,0,null,{"$f":"M300","v":41.961666666666666},39.494999999999997,17.459999999999997,null,{"$f":"'Combined Cycle Gas'!$D$8","v":318.30459770114948},{"$f":"Nuclear!$D$8","v":307.69444444444446},0,6.8483333333333327,9.2266666666666683,14.473333333333334,0]
["2018-01-11",22,40.799999999999997,0,null,{"$f":"M301","v":45.524999999999999},50.843333333333334,61.519999999999989,null,{"$f":"'Combined Cycle Gas'!$D$8","v":318.30459770114948},{"$f":"Nuclear!$D$8","v":307.69444444444446},0,7.0383333333333331,11.69,12.174999999999999,0]
["2018-01-11",23,40.79,15,null,{"$f":"M302","v":66.281666666666666},68.97,92.09666666666665,null,{"$f":"'Combined Cycle Gas'!$D$8","v":318.30459770114948},{"$f":"Nuclear!$D$8","v":307.69444444444446},0,6.9783333333333344,15.556666666666665,13.49,0]
["2018-01-11",24,30.46,66,null,{"$f":"M303","v":97.838333333333324},82.034999999999997,93.490000000000009,null,{"$f":"'Combined Cycle Gas'!$D$8","v":318.30459770114948},{"$f":"Nuclear!$D$8","v":307.69444444444446},0,6.9383333333333335,23.701666666666668,24.506666666666664,0]
["2018-01-12",1,27.18,481,null,{"$f":"M304","v":97.62833333333333},87.606666666666669,75.588333333333324,null,{"$f":"'Combined Cycle Gas'!$D$8","v":318.30459770114948},{"$f":"Nuclear!$D$8","v":307.69444444444446},0,7.6966666666666654,36.994999999999997,29.286666666666665,0]
["2018-01-12",2,27.28,911,null,{"$f":"M305","v":84.286666666666676},80.69,62.553333333333335,null,{"$f":"'Combined Cycle Gas'!$D$8","v":318.30459770114948},{"$f":"Nuclear!$D$8","v":307.69444444444446},0,18.86,38.698333333333331,21.781666666666666,0]
["2018-01-12",3,27.18,1226,null,{"$f":"M306","v":74.708333333333329},81.486666666666665,60.081666666666671,null,{"$f":"'Combined Cycle Gas'!$D$8","v":318.30459770114948},{"$f":"Nuclear!$D$8","v":307.69444444444446},0,41.961666666666666,39.494999999999997,17.459999999999997,0]
["2018-01-12",4,27.5,1300,null,{"$f":"M307","v":55.513333333333328},82.88833333333335,63.395000000000003,null,{"$f":"'Combined Cycle Gas'!$D$8","v":318.30459770114948},{"$f":"Nuclear!$D$8","v":307.69444444444446},0,45.524999999999999,50.843333333333334,61.519999999999989,0]
["2018-01-12",5,33.619999999999997,1124,null,{"$f":"M308","v":59.696666666666665},86.736666666666665,69.353333333333325,null,{"$f":"'Combined Cycle Gas'!$D$8","v":318.30459770114948},{"$f":"Nuclear!$D$8","v":307.69444444444446},0,66.281666666666666,68.97,92.09666666666665,0]
["2018-01-12",6,34.29,1282,null,{"$f":"M309","v":69.279999999999987},88.408333333333317,69.325000000000003,null,{"$f":"'Combined Cycle Gas'!$D$8","v":318.30459770114948},{"$f":"Nuclear!$D$8","v":307.69444444444446},0,97.838333333333324,82.034999999999997,93.490000000000009,0]
["2018-01-12",7,41.78,540,null,{"$f":"M310","v":89.648333333333326},88.858333333333348,83.661666666666662,null,{"$f":"'Combined Cycle Gas'!$D$8","v":318.30459770114948},{"$f":"Nuclear!$D$8","v":307.69444444444446},0,97.62833333333333,87.606666666666669,75.588333333333324,0]
["2018-01-12",8,42.83,108,null,{"$f":"M311","v":112.71499999999999},95.576666666666668,90.3,null,{"$f":"'Combined Cycle Gas'!$D$8","v":318.30459770114948},{"$f":"Nuclear!$D$8","v":307.69444444444446},1.5110699999999999,84.286666666666676,80.69,62.553333333333335,1511070]
["2018-01-12",9,40.96,324,null,{"$f":"M312","v":107.93166666666667},94.638333333333335,88.093333333333348,null,{"$f":"'Combined Cycle Gas'!$D$8","v":318.30459770114948},{"$f":"Nuclear!$D$8","v":307.69444444444446},4.989706,74.708333333333329,81.486666666666665,60.081666666666671,4989706]
["2018-01-12",10,40.799999999999997,989,null,{"$f":"M313","v":108.69833333333332},88.484999999999999,63.365000000000002,null,{"$f":"'Combined Cycle Gas'!$D$8","v":318.30459770114948},{"$f":"Nuclear!$D$8","v":307.69444444444446},6.4069820000000002,55.513333333333328,82.88833333333335,63.395000000000003,6406982]
["2018-01-12",11,40.86,268,null,{"$f":"M314","v":77.798333333333332},80.183333333333337,40.958333333333336,null,{"$f":"'Combined Cycle Gas'!$D$8","v":318.30459770114948},{"$f":"Nuclear!$D$8","v":307.69444444444446},6.9303299999999997,59.696666666666665,86.736666666666665,69.353333333333325,6930330]
["2018-01-12",12,40.81,144,null,{"$f":"M315","v":52.57},63.425000000000004,33.685000000000002,null,{"$f":"'Combined Cycle Gas'!$D$8","v":318.30459770114948},{"$f":"Nuclear!$D$8","v":307.69444444444446},7.1308259999999999,69.279999999999987,88.408333333333317,69.325000000000003,7130826]
["2018-01-12",13,40.83,50,null,{"$f":"M316","v":41.949999999999996},55.431666666666665,25.361666666666668,null,{"$f":"'Combined Cycle Gas'!$D$8","v":318.30459770114948},{"$f":"Nuclear!$D$8","v":307.69444444444446},7.1383989999999997,89.648333333333326,88.858333333333348,83.661666666666662,7138399]
["2018-01-12",14,40.83,17,null,{"$f":"M317","v":40.106666666666662},54.946666666666665,28.346666666666668,null,{"$f":"'Combined Cycle Gas'!$D$8","v":318.30459770114948},{"$f":"Nuclear!$D$8","v":307.69444444444446},6.9303840000000001,112.71499999999999,95.576666666666668,90.3,6930384]
["2018-01-12",15,40.79,58,null,{"$f":"M318","v":51.29999999999999},66.25,35.729999999999997,null,{"$f":"'Combined Cycle Gas'!$D$8","v":318.30459770114948},{"$f":"Nuclear!$D$8","v":307.69444444444446},6.4448189999999999,107.93166666666667,94.638333333333335,88.093333333333348,6444819]
["2018-01-12",16,40.799999999999997,87,null,{"$f":"M319","v":90.043333333333337},81.13666666666667,54.068333333333328,null,{"$f":"'Combined Cycle Gas'!$D$8","v":318.30459770114948},{"$f":"Nuclear!$D$8","v":307.69444444444446},5.3041559999999999,108.69833333333332,88.484999999999999,63.365000000000002,5304156]
["2018-01-12",17,40.840000000000003,64,null,{"$f":"M320","v":128.35999999999999},101.00666666666666,75.036666666666676,null,{"$f":"'Combined Cycle Gas'!$D$8","v":318.30459770114948},{"$f":"Nuclear!$D$8","v":307.69444444444446},2.1974260000000001,77.798333333333332,80.183333333333337,40.958333333333336,2197426]
["2018-01-12",18,40.25,0,null,{"$f":"M321","v":135.215},102.52166666666666,97.766666666666666,null,{"$f":"'Combined Cycle Gas'!$D$8","v":318.30459770114948},{"$f":"Nuclear!$D$8","v":307.69444444444446},0,52.57,63.425000000000004,33.685000000000002,0]
["2018-01-12",19,40.020000000000003,86,null,{"$f":"M322","v":137.005},98.524999999999991,98.899999999999991,null,{"$f":"'Combined Cycle Gas'!$D$8","v":318.30459770114948},{"$f":"Nuclear!$D$8","v":307.69444444444446},0,41.949999999999996,55.431666666666665,25.361666666666668,0]
["2018-01-12",20,39.71,1350,null,{"$f":"M323","v":133.87666666666667},102.69500000000001,99.694999999999993,null,{"$f":"'Combined Cycle Gas'!$D$8","v":318.30459770114948},{"$f":"Nuclear!$D$8","v":307.69444444444446},0,40.106666666666662,54.946666666666665,28.346666666666668,0]
["2018-01-12",21,32.42,1978,null,{"$f":"M324","v":135.79500000000002},102.61,99.723333333333343,null,{"$f":"'Combined Cycle Gas'!$D$8","v":318.30459770114948},{"$f":"Nuclear!$D$8","v":307.69444444444446},0,51.29999999999999,66.25,35.729999999999997,0]
["2018-01-12",22,31.8,2498,null,{"$f":"M325","v":140.79833333333332},102.30499999999999,99.506666666666661,null,{"$f":"'Combined Cycle Gas'!$D$8","v":318.30459770114948},{"$f":"Nuclear!$D$8","v":307.69444444444446},0,90.043333333333337,81.13666666666667,54.068333333333328,0]
["2018-01-12",23,21.16,2749,null,{"$f":"M326","v":139.84000000000003},102.31833333333334,98.38333333333334,null,{"$f":"'Combined Cycle Gas'!$D$8","v":318.30459770114948},{"$f":"Nuclear!$D$8","v":307.69444444444446},0,128.35999999999999,101.00666666666666,75.036666666666676,0]
["2018-01-12",24,21.73,2839,null,{"$f":"M327","v":138.07500000000002},100.68166666666666,102.17666666666666,null,{"$f":"'Combined Cycle Gas'!$D$8","v":318.30459770114948},{"$f":"Nuclear!$D$8","v":307.69444444444446},0,135.215,102.52166666666666,97.766666666666666,0]
["2018-01-13",1,24.8,3022,null,{"$f":"M328","v":136.39999999999998},100.86833333333334,98.731666666666669,null,{"$f":"'Combined Cycle Gas'!$D$8","v":318.30459770114948},{"$f":"Nuclear!$D$8","v":307.69444444444446},0,137.005,98.524999999999991,98.899999999999991,0]
["2018-01-13",2,24.12,3083,null,{"$f":"M329","v":138.67833333333331},100.26666666666667,98.50333333333333,null,{"$f":"'Combined Cycle Gas'!$D$8","v":318.30459770114948},{"$f":"Nuclear!$D$8","v":307.69444444444446},0,133.87666666666667,102.69500000000001,99.694999999999993,0]
["2018-01-13",3,24.55,2945,null,{"$f":"M330","v":137.95666666666668},102.68,96.953333333333333,null,{"$f":"'Combined Cycle Gas'!$D$8","v":318.30459770114948},{"$f":"Nuclear!$D$8","v":307.69444444444446},0,135.79500000000002,102.61,99.723333333333343,0]
["2018-01-13",4,24.66,2810,null,{"$f":"M331","v":138.54},104.55499999999999,98.913333333333341,null,{"$f":"'Combined Cycle Gas'!$D$8","v":318.30459770114948},{"$f":"Nuclear!$D$8","v":307.69444444444446},0,140.79833333333332,102.30499999999999,99.506666666666661,0]
["2018-01-13",5,24.97,2726,null,{"$f":"M332","v":139.09166666666667},100.55999999999999,98.545000000000002,null,{"$f":"'Combined Cycle Gas'!$D$8","v":318.30459770114948},{"$f":"Nuclear!$D$8","v":307.69444444444446},0,139.84000000000003,102.31833333333334,98.38333333333334,0]
["2018-01-13",6,26.89,2650,null,{"$f":"M333","v":140.73500000000001},103.51499999999999,97.756666666666661,null,{"$f":"'Combined Cycle Gas'!$D$8","v":318.30459770114948},{"$f":"Nuclear!$D$8","v":307.69444444444446},0,138.07500000000002,100.68166666666666,102.17666666666666,0]
["2018-01-13",7,28.17,2619,null,{"$f":"M334","v":139.57333333333332},103.20333333333333,98.048333333333332,null,{"$f":"'Combined Cycle Gas'!$D$8","v":318.30459770114948},{"$f":"Nuclear!$D$8","v":307.69444444444446},0,136.39999999999998,100.86833333333334,98.731666666666669,0]
["2018-01-13",8,32.74,2474,null,{"$f":"M335","v":140.815},101.31166666666667,98.774999999999991,null,{"$f":"'Combined Cycle Gas'!$D$8","v":318.30459770114948},{"$f":"Nuclear!$D$8","v":307.69444444444446},0,138.67833333333331,100.26666666666667,98.50333333333333,0]
["2018-01-13",9,36.1,2015,null,{"$f":"M336","v":138.72000000000003},99.945000000000007,92.814999999999998,null,{"$f":"'Combined Cycle Gas'!$D$8","v":318.30459770114948},{"$f":"Nuclear!$D$8","v":307.69444444444446},0.25658900000000001,137.95666666666668,102.68,96.953333333333333,256589]
["2018-01-13",10,44.2,1691,null,{"$f":"M337","v":126.5},101.45166666666665,99.258333333333326,null,{"$f":"'Combined Cycle Gas'!$D$8","v":318.30459770114948},{"$f":"Nuclear!$D$8","v":307.69444444444446},1.1358470000000001,138.54,104.55499999999999,98.913333333333341,1135847]
["2018-01-13",11,38.83,1217,null,{"$f":"M338","v":126.34833333333331},102.65499999999999,96.858333333333348,null,{"$f":"'Combined Cycle Gas'!$D$8","v":318.30459770114948},{"$f":"Nuclear!$D$8","v":307.69444444444446},1.698,139.09166666666667,100.55999999999999,98.545000000000002,1698000]
["2018-01-13",12,35.26,767,null,{"$f":"M339","v":124.44166666666668},101.25333333333333,89.048333333333332,null,{"$f":"'Combined Cycle Gas'!$D$8","v":318.30459770114948},{"$f":"Nuclear!$D$8","v":307.69444444444446},1.083653,140.73500000000001,103.51499999999999,97.756666666666661,1083653]
["2018-01-13",13,31.34,311,null,{"$f":"M340","v":139.77000000000001},96.514999999999986,85.47166666666665,null,{"$f":"'Combined Cycle Gas'!$D$8","v":318.30459770114948},{"$f":"Nuclear!$D$8","v":307.69444444444446},1.896755,139.57333333333332,103.20333333333333,98.048333333333332,1896755]
["2018-01-13",14,29.85,96,null,{"$f":"M341","v":140.90666666666667},101.35666666666668,82.071666666666658,null,{"$f":"'Combined Cycle Gas'!$D$8","v":318.30459770114948},{"$f":"Nuclear!$D$8","v":307.69444444444446},1.8371679999999999,140.815,101.31166666666667,98.774999999999991,1837168]
["2018-01-13",15,29.64,32,null,{"$f":"M342","v":141.21333333333331},102.14333333333336,89.11,null,{"$f":"'Combined Cycle Gas'!$D$8","v":318.30459770114948},{"$f":"Nuclear!$D$8","v":307.69444444444446},0.387992,138.72000000000003,99.945000000000007,92.814999999999998,387992]
["2018-01-13",16,29.64,32,null,{"$f":"M343","v":140.05333333333331},99.341666666666654,97.196666666666658,null,{"$f":"'Combined Cycle Gas'!$D$8","v":318.30459770114948},{"$f":"Nuclear!$D$8","v":307.69444444444446},0.87031999999999998,126.5,101.45166666666665,99.258333333333326,870320]
["2018-01-13",17,34.68,72,null,{"$f":"M344","v":140.29166666666666},103.00999999999999,97.795000000000002,null,{"$f":"'Combined Cycle Gas'!$D$8","v":318.30459770114948},{"$f":"Nuclear!$D$8","v":307.69444444444446},2.7306E-2,126.34833333333331,102.65499999999999,96.858333333333348,27306]
["2018-01-13",18,42.32,255,null,{"$f":"M345","v":139.24833333333331},102.22333333333334,97.605000000000004,null,{"$f":"'Combined Cycle Gas'!$D$8","v":318.30459770114948},{"$f":"Nuclear!$D$8","v":307.69444444444446},0,124.44166666666668,101.25333333333333,89.048333333333332,0]
["2018-01-13",19,41.44,707,null,{"$f":"M346","v":138.33666666666667},102.68666666666667,99.533333333333346,null,{"$f":"'Combined Cycle Gas'!$D$8","v":318.30459770114948},{"$f":"Nuclear!$D$8","v":307.69444444444446},0,139.77000000000001,96.514999999999986,85.47166666666665,0]
["2018-01-13",20,40.82,953,null,{"$f":"M347","v":139.965},102.105,98.534999999999982,null,{"$f":"'Combined Cycle Gas'!$D$8","v":318.30459770114948},{"$f":"Nuclear!$D$8","v":307.69444444444446},0,140.90666666666667,101.35666666666668,82.071666666666658,0]
["2018-01-13",21,35.18,1437,null,{"$f":"M348","v":139.75833333333335},102.27500000000002,101.36166666666668,null,{"$f":"'Combined Cycle Gas'!$D$8","v":318.30459770114948},{"$f":"Nuclear!$D$8","v":307.69444444444446},0,141.21333333333331,102.14333333333336,89.11,0]
["2018-01-13",22,32.659999999999997,1705,null,{"$f":"M349","v":139.12},94.320000000000007,99.11999999999999,null,{"$f":"'Combined Cycle Gas'!$D$8","v":318.30459770114948},{"$f":"Nuclear!$D$8","v":307.69444444444446},0,140.05333333333331,99.341666666666654,97.196666666666658,0]
["2018-01-13",23,27.55,2123,null,{"$f":"M350","v":127.35333333333331},82.87166666666667,92.131666666666661,null,{"$f":"'Combined Cycle Gas'!$D$8","v":318.30459770114948},{"$f":"Nuclear!$D$8","v":307.69444444444446},0,140.29166666666666,103.00999999999999,97.795000000000002,0]
["2018-01-13",24,24.05,2576,null,{"$f":"M351","v":136.71833333333333},81.791666666666671,98.831666666666663,null,{"$f":"'Combined Cycle Gas'!$D$8","v":318.30459770114948},{"$f":"Nuclear!$D$8","v":307.69444444444446},0,139.24833333333331,102.22333333333334,97.605000000000004,0]
["2018-01-14",1,31.83,2602,null,{"$f":"M352","v":132.66},76.015000000000001,97.221666666666678,null,{"$f":"'Combined Cycle Gas'!$D$8","v":318.30459770114948},{"$f":"Nuclear!$D$8","v":307.69444444444446},0,138.33666666666667,102.68666666666667,99.533333333333346,0]
["2018-01-14",2,30.77,2559,null,{"$f":"M353","v":135.745},83.398333333333326,98.136666666666656,null,{"$f":"'Combined Cycle Gas'!$D$8","v":318.30459770114948},{"$f":"Nuclear!$D$8","v":307.69444444444446},0,139.965,102.105,98.534999999999982,0]
["2018-01-14",3,29.68,2951,null,{"$f":"M354","v":144.19499999999999},87.00333333333333,98.09333333333332,null,{"$f":"'Combined Cycle Gas'!$D$8","v":318.30459770114948},{"$f":"Nuclear!$D$8","v":307.69444444444446},0,139.75833333333335,102.27500000000002,101.36166666666668,0]
["2018-01-14",4,29.58,3056,null,{"$f":"M355","v":141.29999999999998},88.391666666666666,96.75,null,{"$f":"'Combined Cycle Gas'!$D$8","v":318.30459770114948},{"$f":"Nuclear!$D$8","v":307.69444444444446},0,139.12,94.320000000000007,99.11999999999999,0]
["2018-01-14",5,30.36,3087,null,{"$f":"M356","v":119.98833333333334},84.313333333333333,94.759999999999991,null,{"$f":"'Combined Cycle Gas'!$D$8","v":318.30459770114948},{"$f":"Nuclear!$D$8","v":307.69444444444446},0,127.35333333333331,82.87166666666667,92.131666666666661,0]
["2018-01-14",6,33.19,3215,null,{"$f":"M357","v":90.825000000000003},78.196666666666673,92.938333333333333,null,{"$f":"'Combined Cycle Gas'!$D$8","v":318.30459770114948},{"$f":"Nuclear!$D$8","v":307.69444444444446},0,136.71833333333333,81.791666666666671,98.831666666666663,0]
["2018-01-14",7,24.91,3213,null,{"$f":"M358","v":85.996666666666655},53.683333333333337,91.745000000000005,null,{"$f":"'Combined Cycle Gas'!$D$8","v":318.30459770114948},{"$f":"Nuclear!$D$8","v":307.69444444444446},0,132.66,76.015000000000001,97.221666666666678,0]
["2018-01-14",8,29.73,3440,null,{"$f":"M359","v":100.55833333333334},49.414999999999999,93.741666666666674,null,{"$f":"'Combined Cycle Gas'!$D$8","v":318.30459770114948},{"$f":"Nuclear!$D$8","v":307.69444444444446},1.112722,135.745,83.398333333333326,98.136666666666656,1112722]
["2018-01-14",9,34.29,3440,null,{"$f":"M360","v":115.55500000000001},64.059999999999988,96.783333333333346,null,{"$f":"'Combined Cycle Gas'!$D$8","v":318.30459770114948},{"$f":"Nuclear!$D$8","v":307.69444444444446},2.4891510000000001,144.19499999999999,87.00333333333333,98.09333333333332,2489151]
["2018-01-14",10,30.34,3245,null,{"$f":"M361","v":126.02500000000002},80.973333333333343,93.649999999999977,null,{"$f":"'Combined Cycle Gas'!$D$8","v":318.30459770114948},{"$f":"Nuclear!$D$8","v":307.69444444444446},{"$f":"P355/10^6","v":4.9785360000000001},141.29999999999998,88.391666666666666,96.75,4978536]
["2018-01-14",11,29.87,2681,null,{"$f":"M362","v":129.82499999999999},88.14,89.598333333333315,null,{"$f":"'Combined Cycle Gas'!$D$8","v":318.30459770114948},{"$f":"Nuclear!$D$8","v":307.69444444444446},4.5442270000000002,119.98833333333334,84.313333333333333,94.759999999999991,4544227]
["2018-01-14",12,28.39,2409,null,{"$f":"M363","v":132.22833333333332},90.674999999999997,85.856666666666669,null,{"$f":"'Combined Cycle Gas'!$D$8","v":318.30459770114948},{"$f":"Nuclear!$D$8","v":307.69444444444446},3.230728,90.825000000000003,78.196666666666673,92.938333333333333,3230728]
["2018-01-14",13,27.56,2692,null,{"$f":"M364","v":135.72},92.65666666666668,92.186666666666667,null,{"$f":"'Combined Cycle Gas'!$D$8","v":318.30459770114948},{"$f":"Nuclear!$D$8","v":307.69444444444446},4.5486040000000001,85.996666666666655,53.683333333333337,91.745000000000005,4548604]
["2018-01-14",14,27.19,2964,null,{"$f":"M365","v":132.80333333333334},91.798333333333332,90.908333333333346,null,{"$f":"'Combined Cycle Gas'!$D$8","v":318.30459770114948},{"$f":"Nuclear!$D$8","v":307.69444444444446},6.2470619999999997,100.55833333333334,49.414999999999999,93.741666666666674,6247062]
["2018-01-14",15,27.08,2953,null,{"$f":"M366","v":118.98166666666668},85.711666666666659,92.839999999999989,null,{"$f":"'Combined Cycle Gas'!$D$8","v":318.30459770114948},{"$f":"Nuclear!$D$8","v":307.69444444444446},6.2699439999999997,115.55500000000001,64.059999999999988,96.783333333333346,6269944]
["2018-01-14",16,27.08,2953,null,{"$f":"M367","v":97.358333333333348},69.564999999999998,96.641666666666666,null,{"$f":"'Combined Cycle Gas'!$D$8","v":318.30459770114948},{"$f":"Nuclear!$D$8","v":307.69444444444446},5.4613399999999999,126.02500000000002,80.973333333333343,93.649999999999977,5461340]
["2018-01-14",17,27.89,2953,null,{"$f":"M368","v":98.568333333333328},74.721666666666678,97.52500000000002,null,{"$f":"'Combined Cycle Gas'!$D$8","v":318.30459770114948},{"$f":"Nuclear!$D$8","v":307.69444444444446},3.3920880000000002,129.82499999999999,88.14,89.598333333333315,3392088]
["2018-01-14",18,37.049999999999997,3092,null,{"$f":"M369","v":106.66166666666668},79.143333333333331,100.84500000000001,null,{"$f":"'Combined Cycle Gas'!$D$8","v":318.30459770114948},{"$f":"Nuclear!$D$8","v":307.69444444444446},0,132.22833333333332,90.674999999999997,85.856666666666669,0]
["2018-01-14",19,33.99,2653,null,{"$f":"M370","v":102.205},61.911666666666669,98.051666666666677,null,{"$f":"'Combined Cycle Gas'!$D$8","v":318.30459770114948},{"$f":"Nuclear!$D$8","v":307.69444444444446},0,135.72,92.65666666666668,92.186666666666667,0]
["2018-01-14",20,33.83,1938,null,{"$f":"M371","v":93.316666666666663},43.773333333333333,84.226666666666674,null,{"$f":"'Combined Cycle Gas'!$D$8","v":318.30459770114948},{"$f":"Nuclear!$D$8","v":307.69444444444446},0,132.80333333333334,91.798333333333332,90.908333333333346,0]
["2018-01-14",21,39.85,1562,null,{"$f":"M372","v":80.401666666666671},42.043333333333329,60.81166666666666,null,{"$f":"'Combined Cycle Gas'!$D$8","v":318.30459770114948},{"$f":"Nuclear!$D$8","v":307.69444444444446},0,118.98166666666668,85.711666666666659,92.839999999999989,0]
["2018-01-14",22,48.23,984,null,{"$f":"M373","v":59.856666666666662},34.258333333333333,60.351666666666667,null,{"$f":"'Combined Cycle Gas'!$D$8","v":318.30459770114948},{"$f":"Nuclear!$D$8","v":307.69444444444446},0,97.358333333333348,69.564999999999998,96.641666666666666,0]
["2018-01-14",23,42.17,1240,null,{"$f":"M374","v":61.314999999999998},26.935000000000002,60.926666666666669,null,{"$f":"'Combined Cycle Gas'!$D$8","v":318.30459770114948},{"$f":"Nuclear!$D$8","v":307.69444444444446},0,98.568333333333328,74.721666666666678,97.52500000000002,0]
["2018-01-14",24,38.56,1704,null,{"$f":"M375","v":56.258333333333333},26.381666666666671,57.405000000000001,null,{"$f":"'Combined Cycle Gas'!$D$8","v":318.30459770114948},{"$f":"Nuclear!$D$8","v":307.69444444444446},0,106.66166666666668,79.143333333333331,100.84500000000001,0]
["2018-01-15",1,29.25,1977,null,{"$f":"M376","v":47.984999999999992},25.896666666666665,58.629999999999995,null,{"$f":"'Combined Cycle Gas'!$D$8","v":318.30459770114948},{"$f":"Nuclear!$D$8","v":307.69444444444446},0,102.205,61.911666666666669,98.051666666666677,0]
["2018-01-15",2,29.74,2337,null,{"$f":"M377","v":20.508333333333329},16.685000000000002,25.496666666666666,null,{"$f":"'Combined Cycle Gas'!$D$8","v":318.30459770114948},{"$f":"Nuclear!$D$8","v":307.69444444444446},0,93.316666666666663,43.773333333333333,84.226666666666674,0]
["2018-01-15",3,26.94,2650,null,{"$f":"M378","v":12.011666666666665},7.4416666666666673,13.813333333333333,null,{"$f":"'Combined Cycle Gas'!$D$8","v":318.30459770114948},{"$f":"Nuclear!$D$8","v":307.69444444444446},0,80.401666666666671,42.043333333333329,60.81166666666666,0]
["2018-01-15",4,29.16,2911,null,{"$f":"M379","v":21.573333333333334},7.4866666666666672,15.234999999999999,null,{"$f":"'Combined Cycle Gas'!$D$8","v":318.30459770114948},{"$f":"Nuclear!$D$8","v":307.69444444444446},0,59.856666666666662,34.258333333333333,60.351666666666667,0]
["2018-01-15",5,33.869999999999997,2970,null,{"$f":"M380","v":23.069999999999997},7.4883333333333342,16.428333333333331,null,{"$f":"'Combined Cycle Gas'!$D$8","v":318.30459770114948},{"$f":"Nuclear!$D$8","v":307.69444444444446},0,61.314999999999998,26.935000000000002,60.926666666666669,0]
["2018-01-15",6,39.33,2885,null,{"$f":"M381","v":13.723333333333334},7.5150000000000006,18.313333333333336,null,{"$f":"'Combined Cycle Gas'!$D$8","v":318.30459770114948},{"$f":"Nuclear!$D$8","v":307.69444444444446},0,56.258333333333333,26.381666666666671,57.405000000000001,0]
["2018-01-15",7,39.83,2320,null,{"$f":"M382","v":11.396666666666668},8.0716666666666672,25.953333333333333,null,{"$f":"'Combined Cycle Gas'!$D$8","v":318.30459770114948},{"$f":"Nuclear!$D$8","v":307.69444444444446},0,47.984999999999992,25.896666666666665,58.629999999999995,0]
["2018-01-15",8,45.55,2458,null,{"$f":"M383","v":11.141666666666666},7.7933333333333339,26.083333333333332,null,{"$f":"'Combined Cycle Gas'!$D$8","v":318.30459770114948},{"$f":"Nuclear!$D$8","v":307.69444444444446},1.454013,20.508333333333329,16.685000000000002,25.496666666666666,1454013]
["2018-01-15",9,33.58,2599,null,{"$f":"M384","v":12.323333333333332},8.0433333333333348,13.033333333333333,null,{"$f":"'Combined Cycle Gas'!$D$8","v":318.30459770114948},{"$f":"Nuclear!$D$8","v":307.69444444444446},5.1906879999999997,12.011666666666665,7.4416666666666673,13.813333333333333,5190688]
["2018-01-15",10,38.81,1816,null,{"$f":"M385","v":14.12},8.1133333333333333,16.43,null,{"$f":"'Combined Cycle Gas'!$D$8","v":318.30459770114948},{"$f":"Nuclear!$D$8","v":307.69444444444446},6.5761039999999999,21.573333333333334,7.4866666666666672,15.234999999999999,6576104]
["2018-01-15",11,43.59,1053,null,{"$f":"M386","v":11.61},8.951666666666668,12.180000000000001,null,{"$f":"'Combined Cycle Gas'!$D$8","v":318.30459770114948},{"$f":"Nuclear!$D$8","v":307.69444444444446},7.1887299999999996,23.069999999999997,7.4883333333333342,16.428333333333331,7188730]
["2018-01-15",12,40.86,920,null,{"$f":"M387","v":12.008333333333335},9.9633333333333329,12.32,null,{"$f":"'Combined Cycle Gas'!$D$8","v":318.30459770114948},{"$f":"Nuclear!$D$8","v":307.69444444444446},7.4022199999999998,13.723333333333334,7.5150000000000006,18.313333333333336,7402220]
["2018-01-15",13,40.86,809,null,{"$f":"M388","v":12.403333333333334},10.458333333333332,12.233333333333334,null,{"$f":"'Combined Cycle Gas'!$D$8","v":318.30459770114948},{"$f":"Nuclear!$D$8","v":307.69444444444446},5.1777930000000003,11.396666666666668,8.0716666666666672,25.953333333333333,5177793]
["2018-01-15",14,40.98,565,null,{"$f":"M389","v":12.463333333333333},11.681666666666667,12.285000000000002,null,{"$f":"'Combined Cycle Gas'!$D$8","v":318.30459770114948},{"$f":"Nuclear!$D$8","v":307.69444444444446},3.834066,11.141666666666666,7.7933333333333339,26.083333333333332,3834066]
["2018-01-15",15,43.13,372,null,{"$f":"M390","v":24.341666666666669},13.455,14.121666666666664,null,{"$f":"'Combined Cycle Gas'!$D$8","v":318.30459770114948},{"$f":"Nuclear!$D$8","v":307.69444444444446},2.0569660000000001,12.323333333333332,8.0433333333333348,13.033333333333333,2056966]
["2018-01-15",16,40.97,206,null,{"$f":"M391","v":56.201666666666661},25.95,25.514999999999997,null,{"$f":"'Combined Cycle Gas'!$D$8","v":318.30459770114948},{"$f":"Nuclear!$D$8","v":307.69444444444446},3.1623920000000001,14.12,8.1133333333333333,16.43,3162392]
["2018-01-15",17,40.98,102,null,{"$f":"M392","v":115.26833333333333},74.815000000000012,53.708333333333336,null,{"$f":"'Combined Cycle Gas'!$D$8","v":318.30459770114948},{"$f":"Nuclear!$D$8","v":307.69444444444446},0.17355699999999999,11.61,8.951666666666668,12.180000000000001,173557]
["2018-01-15",18,40.79,0,null,{"$f":"M393","v":134.67333333333335},101.52333333333333,82.271666666666661,null,{"$f":"'Combined Cycle Gas'!$D$8","v":318.30459770114948},{"$f":"Nuclear!$D$8","v":307.69444444444446},0,12.008333333333335,9.9633333333333329,12.32,0]
["2018-01-15",19,40.840000000000003,0,null,{"$f":"M394","v":137.95499999999998},105.61500000000001,90.978333333333339,null,{"$f":"'Combined Cycle Gas'!$D$8","v":318.30459770114948},{"$f":"Nuclear!$D$8","v":307.69444444444446},0,12.403333333333334,10.458333333333332,12.233333333333334,0]
["2018-01-15",20,41.43,112,null,{"$f":"M395","v":139.90333333333334},107.14833333333333,102.19166666666666,null,{"$f":"'Combined Cycle Gas'!$D$8","v":318.30459770114948},{"$f":"Nuclear!$D$8","v":307.69444444444446},0,12.463333333333333,11.681666666666667,12.285000000000002,0]
["2018-01-15",21,39.6,716,null,{"$f":"M396","v":139.81666666666666},103.59833333333331,103.37666666666667,null,{"$f":"'Combined Cycle Gas'!$D$8","v":318.30459770114948},{"$f":"Nuclear!$D$8","v":307.69444444444446},0,24.341666666666669,13.455,14.121666666666664,0]
["2018-01-15",22,40.770000000000003,1216,null,{"$f":"M397","v":140.10500000000002},104.78666666666668,101.52166666666666,null,{"$f":"'Combined Cycle Gas'!$D$8","v":318.30459770114948},{"$f":"Nuclear!$D$8","v":307.69444444444446},0,56.201666666666661,25.95,25.514999999999997,0]
["2018-01-15",23,33.15,2245,null,{"$f":"M398","v":140.12333333333333},105.57,105.28000000000002,null,{"$f":"'Combined Cycle Gas'!$D$8","v":318.30459770114948},{"$f":"Nuclear!$D$8","v":307.69444444444446},0,115.26833333333333,74.815000000000012,53.708333333333336,0]
["2018-01-15",24,26.39,2696,null,{"$f":"M399","v":140.09},104.84666666666668,104.38499999999999,null,{"$f":"'Combined Cycle Gas'!$D$8","v":318.30459770114948},{"$f":"Nuclear!$D$8","v":307.69444444444446},0,134.67333333333335,101.52333333333333,82.271666666666661,0]
["2018-01-16",1,25.85,3355,null,{"$f":"M400","v":139.30333333333337},107.18500000000002,103.51666666666667,null,{"$f":"'Combined Cycle Gas'!$D$8","v":318.30459770114948},{"$f":"Nuclear!$D$8","v":307.69444444444446},0,137.95499999999998,105.61500000000001,90.978333333333339,0]
["2018-01-16",2,27.18,3317,null,{"$f":"M401","v":143.33166666666668},109.88499999999999,105.955,null,{"$f":"'Combined Cycle Gas'!$D$8","v":318.30459770114948},{"$f":"Nuclear!$D$8","v":307.69444444444446},0,139.90333333333334,107.14833333333333,102.19166666666666,0]
["2018-01-16",3,27.28,3230,null,{"$f":"M402","v":141.43666666666664},107.45666666666666,107.65000000000002,null,{"$f":"'Combined Cycle Gas'!$D$8","v":318.30459770114948},{"$f":"Nuclear!$D$8","v":307.69444444444446},0,139.81666666666666,103.59833333333331,103.37666666666667,0]
["2018-01-16",4,29.86,2923,null,{"$f":"M403","v":138.99333333333331},105.93333333333332,106.22166666666668,null,{"$f":"'Combined Cycle Gas'!$D$8","v":318.30459770114948},{"$f":"Nuclear!$D$8","v":307.69444444444446},0,140.10500000000002,104.78666666666668,101.52166666666666,0]
["2018-01-16",5,34.15,2693,null,{"$f":"M404","v":131.21666666666667},105.48,103.12333333333333,null,{"$f":"'Combined Cycle Gas'!$D$8","v":318.30459770114948},{"$f":"Nuclear!$D$8","v":307.69444444444446},0,140.12333333333333,105.57,105.28000000000002,0]
["2018-01-16",6,33.700000000000003,2506,null,{"$f":"M405","v":128.70500000000001},104.42333333333333,103.51833333333333,null,{"$f":"'Combined Cycle Gas'!$D$8","v":318.30459770114948},{"$f":"Nuclear!$D$8","v":307.69444444444446},0,140.09,104.84666666666668,104.38499999999999,0]
["2018-01-16",7,39.79,2521,null,{"$f":"M406","v":119.36166666666666},96.638333333333335,101.55666666666667,null,{"$f":"'Combined Cycle Gas'!$D$8","v":318.30459770114948},{"$f":"Nuclear!$D$8","v":307.69444444444446},0,139.30333333333337,107.18500000000002,103.51666666666667,0]
["2018-01-16",8,36.520000000000003,2804,null,{"$f":"M407","v":120.23},96.806666666666672,104.13666666666667,null,{"$f":"'Combined Cycle Gas'!$D$8","v":318.30459770114948},{"$f":"Nuclear!$D$8","v":307.69444444444446},1.929119,143.33166666666668,109.88499999999999,105.955,1929119]
["2018-01-16",9,33.76,2953,null,{"$f":"M408","v":114.12166666666666},103.87666666666665,105.59999999999998,null,{"$f":"'Combined Cycle Gas'!$D$8","v":318.30459770114948},{"$f":"Nuclear!$D$8","v":307.69444444444446},5.4455840000000002,141.43666666666664,107.45666666666666,107.65000000000002,5445584]
["2018-01-16",10,31.99,2953,null,{"$f":"M409","v":105.34166666666668},104.73166666666667,103.05833333333334,null,{"$f":"'Combined Cycle Gas'!$D$8","v":318.30459770114948},{"$f":"Nuclear!$D$8","v":307.69444444444446},6.7719019999999999,138.99333333333331,105.93333333333332,106.22166666666668,6771902]
["2018-01-16",11,31,2925,null,{"$f":"M410","v":98.118333333333339},103.08499999999999,91.321666666666658,null,{"$f":"'Combined Cycle Gas'!$D$8","v":318.30459770114948},{"$f":"Nuclear!$D$8","v":307.69444444444446},7.3457059999999998,131.21666666666667,105.48,103.12333333333333,7345706]
["2018-01-16",12,34.1,2570,null,{"$f":"M411","v":83.728333333333339},101.26333333333334,76.61999999999999,null,{"$f":"'Combined Cycle Gas'!$D$8","v":318.30459770114948},{"$f":"Nuclear!$D$8","v":307.69444444444446},7.5795459999999997,128.70500000000001,104.42333333333333,103.51833333333333,7579546]
["2018-01-16",13,33.630000000000003,2484,null,{"$f":"M412","v":55.736666666666657},94.361666666666665,70.245000000000005,null,{"$f":"'Combined Cycle Gas'!$D$8","v":318.30459770114948},{"$f":"Nuclear!$D$8","v":307.69444444444446},7.5738479999999999,119.36166666666666,96.638333333333335,101.55666666666667,7573848]
["2018-01-16",14,34.200000000000003,2280,null,{"$f":"M413","v":48.098333333333329},79.823333333333338,79.285000000000011,null,{"$f":"'Combined Cycle Gas'!$D$8","v":318.30459770114948},{"$f":"Nuclear!$D$8","v":307.69444444444446},7.4070470000000004,120.23,96.806666666666672,104.13666666666667,7407047]
["2018-01-16",15,33.76,2438,null,{"$f":"M414","v":65.58},86.688333333333333,94.68,null,{"$f":"'Combined Cycle Gas'!$D$8","v":318.30459770114948},{"$f":"Nuclear!$D$8","v":307.69444444444446},6.9117930000000003,114.12166666666666,103.87666666666665,105.59999999999998,6911793]
["2018-01-16",16,30.44,2768,null,{"$f":"M415","v":106.71333333333335},95.913333333333341,102.08333333333333,null,{"$f":"'Combined Cycle Gas'!$D$8","v":318.30459770114948},{"$f":"Nuclear!$D$8","v":307.69444444444446},5.8701439999999998,105.34166666666668,104.73166666666667,103.05833333333334,5870144]
["2018-01-16",17,30.43,2916,null,{"$f":"M416","v":138.04666666666665},100.34166666666668,103.16166666666668,null,{"$f":"'Combined Cycle Gas'!$D$8","v":318.30459770114948},{"$f":"Nuclear!$D$8","v":307.69444444444446},3.1891980000000002,98.118333333333339,103.08499999999999,91.321666666666658,3189198]
["2018-01-16",18,27.85,2500,null,{"$f":"M417","v":142.87666666666667},103.53333333333335,103.79666666666667,null,{"$f":"'Combined Cycle Gas'!$D$8","v":318.30459770114948},{"$f":"Nuclear!$D$8","v":307.69444444444446},0,83.728333333333339,101.26333333333334,76.61999999999999,0]
["2018-01-16",19,34.35,2802,null,{"$f":"M418","v":143.07666666666665},105.59666666666665,107.48833333333333,null,{"$f":"'Combined Cycle Gas'!$D$8","v":318.30459770114948},{"$f":"Nuclear!$D$8","v":307.69444444444446},0,55.736666666666657,94.361666666666665,70.245000000000005,0]
["2018-01-16",20,26.69,2953,null,{"$f":"M419","v":136.44333333333333},104.145,102.78666666666668,null,{"$f":"'Combined Cycle Gas'!$D$8","v":318.30459770114948},{"$f":"Nuclear!$D$8","v":307.69444444444446},0,48.098333333333329,79.823333333333338,79.285000000000011,0]
["2018-01-16",21,27.81,2953,null,{"$f":"M420","v":131.32000000000002},106.76,106.19500000000001,null,{"$f":"'Combined Cycle Gas'!$D$8","v":318.30459770114948},{"$f":"Nuclear!$D$8","v":307.69444444444446},0,65.58,86.688333333333333,94.68,0]
["2018-01-16",22,33.74,2953,null,{"$f":"M421","v":132.23166666666665},98.249999999999986,104.64666666666669,null,{"$f":"'Combined Cycle Gas'!$D$8","v":318.30459770114948},{"$f":"Nuclear!$D$8","v":307.69444444444446},0,106.71333333333335,95.913333333333341,102.08333333333333,0]
["2018-01-16",23,30.61,2953,null,{"$f":"M422","v":137.14833333333334},101.65999999999998,92.801666666666662,null,{"$f":"'Combined Cycle Gas'!$D$8","v":318.30459770114948},{"$f":"Nuclear!$D$8","v":307.69444444444446},0,138.04666666666665,100.34166666666668,103.16166666666668,0]
["2018-01-16",24,27.91,3117,null,{"$f":"M423","v":134.35833333333335},100.98333333333333,89.968333333333348,null,{"$f":"'Combined Cycle Gas'!$D$8","v":318.30459770114948},{"$f":"Nuclear!$D$8","v":307.69444444444446},0,142.87666666666667,103.53333333333335,103.79666666666667,0]
["2018-01-17",1,27.28,3440,null,{"$f":"M424","v":137.95166666666668},101.84166666666668,95.826666666666668,null,{"$f":"'Combined Cycle Gas'!$D$8","v":318.30459770114948},{"$f":"Nuclear!$D$8","v":307.69444444444446},0,143.07666666666665,105.59666666666665,107.48833333333333,0]
["2018-01-17",2,27.5,3440,null,{"$f":"M425","v":132.94499999999999},101.18833333333333,92.578333333333333,null,{"$f":"'Combined Cycle Gas'!$D$8","v":318.30459770114948},{"$f":"Nuclear!$D$8","v":307.69444444444446},{"$f":"P419/10^6","v":0},136.44333333333333,104.145,102.78666666666668,0]
["2018-01-17",3,27.5,3440,null,{"$f":"M426","v":132.995},103.38500000000001,94.58,null,{"$f":"'Combined Cycle Gas'!$D$8","v":318.30459770114948},{"$f":"Nuclear!$D$8","v":307.69444444444446},0,131.32000000000002,106.76,106.19500000000001,0]
["2018-01-17",4,28.24,3440,null,{"$f":"M427","v":144.00166666666667},110.58166666666666,99.266666666666652,null,{"$f":"'Combined Cycle Gas'!$D$8","v":318.30459770114948},{"$f":"Nuclear!$D$8","v":307.69444444444446},0,132.23166666666665,98.249999999999986,104.64666666666669,0]
["2018-01-17",5,30.1,3440,null,{"$f":"M428","v":149},105.16666666666667,103.88,null,{"$f":"'Combined Cycle Gas'!$D$8","v":318.30459770114948},{"$f":"Nuclear!$D$8","v":307.69444444444446},0,137.14833333333334,101.65999999999998,92.801666666666662,0]
["2018-01-17",6,33.6,2953,null,{"$f":"M429","v":145.82833333333332},106.39166666666667,104.59499999999998,null,{"$f":"'Combined Cycle Gas'!$D$8","v":318.30459770114948},{"$f":"Nuclear!$D$8","v":307.69444444444446},0,134.35833333333335,100.98333333333333,89.968333333333348,0]
["2018-01-17",7,38.54,2953,null,{"$f":"M430","v":144.90666666666667},104.94333333333331,104.20333333333333,null,{"$f":"'Combined Cycle Gas'!$D$8","v":318.30459770114948},{"$f":"Nuclear!$D$8","v":307.69444444444446},0,137.95166666666668,101.84166666666668,95.826666666666668,0]
["2018-01-17",8,37.31,2953,null,{"$f":"M431","v":144.49166666666665},109.33833333333335,104.72833333333334,null,{"$f":"'Combined Cycle Gas'!$D$8","v":318.30459770114948},{"$f":"Nuclear!$D$8","v":307.69444444444446},3.8340000000000002E-3,132.94499999999999,101.18833333333333,92.578333333333333,3834]
["2018-01-17",9,35.869999999999997,2953,null,{"$f":"M432","v":143.69166666666669},109.37833333333333,104.84166666666665,null,{"$f":"'Combined Cycle Gas'!$D$8","v":318.30459770114948},{"$f":"Nuclear!$D$8","v":307.69444444444446},0.16418099999999999,132.995,103.38500000000001,94.58,164181]
["2018-01-17",10,32.17,2861,null,{"$f":"M433","v":143.66666666666666},111.11,106.38666666666666,null,{"$f":"'Combined Cycle Gas'!$D$8","v":318.30459770114948},{"$f":"Nuclear!$D$8","v":307.69444444444446},1.4781820000000001,144.00166666666667,110.58166666666666,99.266666666666652,1478182]
["2018-01-17",11,33.49,2699,null,{"$f":"M434","v":141.73499999999999},109.07833333333333,105.03166666666665,null,{"$f":"'Combined Cycle Gas'!$D$8","v":318.30459770114948},{"$f":"Nuclear!$D$8","v":307.69444444444446},1.677935,149,105.16666666666667,103.88,1677935]
["2018-01-17",12,30.66,2890,null,{"$f":"M435","v":146.54333333333332},110.59666666666665,104.27833333333335,null,{"$f":"'Combined Cycle Gas'!$D$8","v":318.30459770114948},{"$f":"Nuclear!$D$8","v":307.69444444444446},2.201076,145.82833333333332,106.39166666666667,104.59499999999998,2201076]
["2018-01-17",13,30.18,2953,null,{"$f":"M436","v":135.245},105.22000000000001,104.60000000000001,null,{"$f":"'Combined Cycle Gas'!$D$8","v":318.30459770114948},{"$f":"Nuclear!$D$8","v":307.69444444444446},1.8510120000000001,144.90666666666667,104.94333333333331,104.20333333333333,1851012]
["2018-01-17",14,30.38,2953,null,{"$f":"M437","v":66.711666666666659},31.153333333333325,108.56500000000001,null,{"$f":"'Combined Cycle Gas'!$D$8","v":318.30459770114948},{"$f":"Nuclear!$D$8","v":307.69444444444446},2.3249460000000002,144.49166666666665,109.33833333333335,104.72833333333334,2324946]
["2018-01-17",15,30.15,2936,null,{"$f":"M438","v":76.041666666666657},39.85,109.15166666666669,null,{"$f":"'Combined Cycle Gas'!$D$8","v":318.30459770114948},{"$f":"Nuclear!$D$8","v":307.69444444444446},1.4217919999999999,143.69166666666669,109.37833333333333,104.84166666666665,1421792]
["2018-01-17",16,30.29,2846,null,{"$f":"M439","v":70.788333333333341},34.9,96.469999999999985,null,{"$f":"'Combined Cycle Gas'!$D$8","v":318.30459770114948},{"$f":"Nuclear!$D$8","v":307.69444444444446},1.0663530000000001,143.66666666666666,111.11,106.38666666666666,1066353]
["2018-01-17",17,31.01,2699,null,{"$f":"M440","v":84.11666666666666},38.313333333333333,68.978333333333339,null,{"$f":"'Combined Cycle Gas'!$D$8","v":318.30459770114948},{"$f":"Nuclear!$D$8","v":307.69444444444446},4.7683000000000003E-2,141.73499999999999,109.07833333333333,105.03166666666665,47683]
["2018-01-17",18,27.29,2737,null,{"$f":"M441","v":100.47999999999998},46.465000000000003,86.498333333333335,null,{"$f":"'Combined Cycle Gas'!$D$8","v":318.30459770114948},{"$f":"Nuclear!$D$8","v":307.69444444444446},0,146.54333333333332,110.59666666666665,104.27833333333335,0]
["2018-01-17",19,27.18,2912,null,{"$f":"M442","v":108.74833333333333},36.85,77.478333333333339,null,{"$f":"'Combined Cycle Gas'!$D$8","v":318.30459770114948},{"$f":"Nuclear!$D$8","v":307.69444444444446},0,135.245,105.22000000000001,104.60000000000001,0]
["2018-01-17",20,35.56,2953,null,{"$f":"M443","v":80.198333333333338},24.24666666666667,78.956666666666663,null,{"$f":"'Combined Cycle Gas'!$D$8","v":318.30459770114948},{"$f":"Nuclear!$D$8","v":307.69444444444446},0,66.711666666666659,31.153333333333325,108.56500000000001,0]
["2018-01-17",21,38.64,2953,null,{"$f":"M444","v":110.02333333333333},51.938333333333333,55.360000000000007,null,{"$f":"'Combined Cycle Gas'!$D$8","v":318.30459770114948},{"$f":"Nuclear!$D$8","v":307.69444444444446},0,76.041666666666657,39.85,109.15166666666669,0]
["2018-01-17",22,36.14,2953,null,{"$f":"M445","v":115.14666666666665},68.401666666666657,31.888333333333332,null,{"$f":"'Combined Cycle Gas'!$D$8","v":318.30459770114948},{"$f":"Nuclear!$D$8","v":307.69444444444446},0,70.788333333333341,34.9,96.469999999999985,0]
["2018-01-17",23,37.799999999999997,2953,null,{"$f":"M446","v":115.96833333333332},87.405000000000015,51.085000000000001,null,{"$f":"'Combined Cycle Gas'!$D$8","v":318.30459770114948},{"$f":"Nuclear!$D$8","v":307.69444444444446},0,84.11666666666666,38.313333333333333,68.978333333333339,0]
["2018-01-17",24,33.33,3335,null,{"$f":"M447","v":115.685},74.453333333333319,53.636666666666663,null,{"$f":"'Combined Cycle Gas'!$D$8","v":318.30459770114948},{"$f":"Nuclear!$D$8","v":307.69444444444446},0,100.47999999999998,46.465000000000003,86.498333333333335,0]
["2018-01-18",1,31.29,2422,null,{"$f":"M448","v":98.671666666666667},47.091666666666661,71.415000000000006,null,{"$f":"'Combined Cycle Gas'!$D$8","v":318.30459770114948},{"$f":"Nuclear!$D$8","v":307.69444444444446},0,108.74833333333333,36.85,77.478333333333339,0]
["2018-01-18",2,32.479999999999997,1510,null,{"$f":"M449","v":118.38833333333332},54.93333333333333,96.308333333333323,null,{"$f":"'Combined Cycle Gas'!$D$8","v":318.30459770114948},{"$f":"Nuclear!$D$8","v":307.69444444444446},0,80.198333333333338,24.24666666666667,78.956666666666663,0]
["2018-01-18",3,32.770000000000003,1478,null,{"$f":"M450","v":109.69333333333334},55.839999999999996,84.801666666666662,null,{"$f":"'Combined Cycle Gas'!$D$8","v":318.30459770114948},{"$f":"Nuclear!$D$8","v":307.69444444444446},0,110.02333333333333,51.938333333333333,55.360000000000007,0]
["2018-01-18",4,32.65,1770,null,{"$f":"M451","v":100.30833333333332},62.986666666666672,67.165000000000006,null,{"$f":"'Combined Cycle Gas'!$D$8","v":318.30459770114948},{"$f":"Nuclear!$D$8","v":307.69444444444446},0,115.14666666666665,68.401666666666657,31.888333333333332,0]
["2018-01-18",5,34.25,2473,null,{"$f":"M452","v":101.94},56.24,82.664999999999978,null,{"$f":"'Combined Cycle Gas'!$D$8","v":318.30459770114948},{"$f":"Nuclear!$D$8","v":307.69444444444446},0,115.96833333333332,87.405000000000015,51.085000000000001,0]
["2018-01-18",6,40.74,2482,null,{"$f":"M453","v":81.045000000000002},48.664999999999999,66.993333333333339,null,{"$f":"'Combined Cycle Gas'!$D$8","v":318.30459770114948},{"$f":"Nuclear!$D$8","v":307.69444444444446},0,115.685,74.453333333333319,53.636666666666663,0]
["2018-01-18",7,40.44,1951,null,{"$f":"M454","v":83.88333333333334},65.581666666666663,74.741666666666674,null,{"$f":"'Combined Cycle Gas'!$D$8","v":318.30459770114948},{"$f":"Nuclear!$D$8","v":307.69444444444446},0,98.671666666666667,47.091666666666661,71.415000000000006,0]
["2018-01-18",8,40.090000000000003,1891,null,{"$f":"M455","v":111.53499999999998},77.786666666666676,87.94,null,{"$f":"'Combined Cycle Gas'!$D$8","v":318.30459770114948},{"$f":"Nuclear!$D$8","v":307.69444444444446},1.428958,118.38833333333332,54.93333333333333,96.308333333333323,1428958]
["2018-01-18",9,40.07,2153,null,{"$f":"M456","v":118.34499999999998},95.883333333333326,104.33499999999999,null,{"$f":"'Combined Cycle Gas'!$D$8","v":318.30459770114948},{"$f":"Nuclear!$D$8","v":307.69444444444446},5.8936669999999998,109.69333333333334,55.839999999999996,84.801666666666662,5893667]
["2018-01-18",10,40.74,2157,null,{"$f":"M457","v":102.10166666666669},78.48,106.01666666666667,null,{"$f":"'Combined Cycle Gas'!$D$8","v":318.30459770114948},{"$f":"Nuclear!$D$8","v":307.69444444444446},5.6148340000000001,100.30833333333332,62.986666666666672,67.165000000000006,5614834]
["2018-01-18",11,38.799999999999997,2953,null,{"$f":"M458","v":94.473333333333315},61.235000000000007,104.61166666666668,null,{"$f":"'Combined Cycle Gas'!$D$8","v":318.30459770114948},{"$f":"Nuclear!$D$8","v":307.69444444444446},6.5148580000000003,101.94,56.24,82.664999999999978,6514858]
["2018-01-18",12,37.479999999999997,2953,null,{"$f":"M459","v":86.551666666666677},44.821666666666665,106.96499999999999,null,{"$f":"'Combined Cycle Gas'!$D$8","v":318.30459770114948},{"$f":"Nuclear!$D$8","v":307.69444444444446},3.1186609999999999,81.045000000000002,48.664999999999999,66.993333333333339,3118661]
["2018-01-18",13,38.11,2953,null,{"$f":"M460","v":76.281666666666666},42.080000000000005,100.375,null,{"$f":"'Combined Cycle Gas'!$D$8","v":318.30459770114948},{"$f":"Nuclear!$D$8","v":307.69444444444446},3.1152039999999999,83.88333333333334,65.581666666666663,74.741666666666674,3115204]
["2018-01-18",14,34.08,2953,null,{"$f":"M461","v":69.163333333333341},47.87,89.834999999999994,null,{"$f":"'Combined Cycle Gas'!$D$8","v":318.30459770114948},{"$f":"Nuclear!$D$8","v":307.69444444444446},3.0134620000000001,111.53499999999998,77.786666666666676,87.94,3013462]
["2018-01-18",15,34.07,2953,null,{"$f":"M462","v":70.733333333333334},44.523333333333333,82.506666666666675,null,{"$f":"'Combined Cycle Gas'!$D$8","v":318.30459770114948},{"$f":"Nuclear!$D$8","v":307.69444444444446},2.4235419999999999,118.34499999999998,95.883333333333326,104.33499999999999,2423542]
["2018-01-18",16,34.07,2956,null,{"$f":"M463","v":49.995000000000005},50.166666666666657,73.373333333333335,null,{"$f":"'Combined Cycle Gas'!$D$8","v":318.30459770114948},{"$f":"Nuclear!$D$8","v":307.69444444444446},0.93596599999999996,102.10166666666669,78.48,106.01666666666667,935966]
["2018-01-18",17,34.19,2793,null,{"$f":"M464","v":42.866666666666667},76.523333333333326,66.098333333333343,null,{"$f":"'Combined Cycle Gas'!$D$8","v":318.30459770114948},{"$f":"Nuclear!$D$8","v":307.69444444444446},6.7060000000000002E-3,94.473333333333315,61.235000000000007,104.61166666666668,6706]
["2018-01-18",18,29.12,2839,null,{"$f":"M465","v":88.056666666666672},96.713333333333352,80.521666666666661,null,{"$f":"'Combined Cycle Gas'!$D$8","v":318.30459770114948},{"$f":"Nuclear!$D$8","v":307.69444444444446},0,86.551666666666677,44.821666666666665,106.96499999999999,0]
["2018-01-18",19,35.33,2671,null,{"$f":"M466","v":99.781666666666652},74.064999999999998,57.155000000000001,null,{"$f":"'Combined Cycle Gas'!$D$8","v":318.30459770114948},{"$f":"Nuclear!$D$8","v":307.69444444444446},0,76.281666666666666,42.080000000000005,100.375,0]
["2018-01-18",20,40.82,1862,null,{"$f":"M467","v":111.92833333333333},88.051666666666662,58.036666666666662,null,{"$f":"'Combined Cycle Gas'!$D$8","v":318.30459770114948},{"$f":"Nuclear!$D$8","v":307.69444444444446},0,69.163333333333341,47.87,89.834999999999994,0]
["2018-01-18",21,40.79,1253,null,{"$f":"M468","v":125.23833333333334},101.59166666666668,89.861666666666679,null,{"$f":"'Combined Cycle Gas'!$D$8","v":318.30459770114948},{"$f":"Nuclear!$D$8","v":307.69444444444446},0,70.733333333333334,44.523333333333333,82.506666666666675,0]
["2018-01-18",22,40.82,1522,null,{"$f":"M469","v":133.01666666666668},100.53833333333334,95.891666666666652,null,{"$f":"'Combined Cycle Gas'!$D$8","v":318.30459770114948},{"$f":"Nuclear!$D$8","v":307.69444444444446},0,49.995000000000005,50.166666666666657,73.373333333333335,0]
["2018-01-18",23,37.39,2414,null,{"$f":"M470","v":133.80833333333331},102.70833333333333,98.836666666666659,null,{"$f":"'Combined Cycle Gas'!$D$8","v":318.30459770114948},{"$f":"Nuclear!$D$8","v":307.69444444444446},0,42.866666666666667,76.523333333333326,66.098333333333343,0]
["2018-01-18",24,27.62,2907,null,{"$f":"M471","v":137.23500000000001},103.03166666666665,99.839999999999989,null,{"$f":"'Combined Cycle Gas'!$D$8","v":318.30459770114948},{"$f":"Nuclear!$D$8","v":307.69444444444446},0,88.056666666666672,96.713333333333352,80.521666666666661,0]
["2018-01-19",1,27.62,2906,null,{"$f":"M472","v":136.64833333333334},103.27333333333331,97.958333333333329,null,{"$f":"'Combined Cycle Gas'!$D$8","v":318.30459770114948},{"$f":"Nuclear!$D$8","v":307.69444444444446},0,99.781666666666652,74.064999999999998,57.155000000000001,0]
["2018-01-19",2,27.55,2930,null,{"$f":"M473","v":134.845},103.205,97.061666666666667,null,{"$f":"'Combined Cycle Gas'!$D$8","v":318.30459770114948},{"$f":"Nuclear!$D$8","v":307.69444444444446},0,111.92833333333333,88.051666666666662,58.036666666666662,0]
["2018-01-19",3,27.55,3094,null,{"$f":"M474","v":137.63},105.34666666666665,96.958333333333329,null,{"$f":"'Combined Cycle Gas'!$D$8","v":318.30459770114948},{"$f":"Nuclear!$D$8","v":307.69444444444446},0,125.23833333333334,101.59166666666668,89.861666666666679,0]
["2018-01-19",4,29.86,2894,null,{"$f":"M475","v":136.38999999999999},107.90333333333332,99.214999999999989,null,{"$f":"'Combined Cycle Gas'!$D$8","v":318.30459770114948},{"$f":"Nuclear!$D$8","v":307.69444444444446},0,133.01666666666668,100.53833333333334,95.891666666666652,0]
["2018-01-19",5,32.369999999999997,2598,null,{"$f":"M476","v":132.30999999999997},107.29333333333334,99.834999999999994,null,{"$f":"'Combined Cycle Gas'!$D$8","v":318.30459770114948},{"$f":"Nuclear!$D$8","v":307.69444444444446},0,133.80833333333331,102.70833333333333,98.836666666666659,0]
["2018-01-19",6,35.06,2664,null,{"$f":"M477","v":129.50166666666667},103.935,99.543333333333337,null,{"$f":"'Combined Cycle Gas'!$D$8","v":318.30459770114948},{"$f":"Nuclear!$D$8","v":307.69444444444446},0,137.23500000000001,103.03166666666665,99.839999999999989,0]
["2018-01-19",7,42.48,1929,null,{"$f":"M478","v":130.68166666666667},103.19500000000001,102.16166666666665,null,{"$f":"'Combined Cycle Gas'!$D$8","v":318.30459770114948},{"$f":"Nuclear!$D$8","v":307.69444444444446},0,136.64833333333334,103.27333333333331,97.958333333333329,0]
["2018-01-19",8,46.22,1640,null,{"$f":"M479","v":135.27666666666667},100.12833333333333,99.878333333333345,null,{"$f":"'Combined Cycle Gas'!$D$8","v":318.30459770114948},{"$f":"Nuclear!$D$8","v":307.69444444444446},6.0389999999999999E-2,134.845,103.205,97.061666666666667,60390]
["2018-01-19",9,42.26,1327,null,{"$f":"M480","v":137.57333333333335},102.72666666666669,99.365000000000009,null,{"$f":"'Combined Cycle Gas'!$D$8","v":318.30459770114948},{"$f":"Nuclear!$D$8","v":307.69444444444446},3.481563,137.63,105.34666666666665,96.958333333333329,3481563]
["2018-01-19",10,45.09,1334,null,{"$f":"M481","v":133.48833333333334},102.58999999999999,99.48,null,{"$f":"'Combined Cycle Gas'!$D$8","v":318.30459770114948},{"$f":"Nuclear!$D$8","v":307.69444444444446},6.7262820000000003,136.38999999999999,107.90333333333332,99.214999999999989,6726282]
["2018-01-19",11,45.18,726,null,{"$f":"M482","v":125.77499999999999},103.38333333333333,97.71,null,{"$f":"'Combined Cycle Gas'!$D$8","v":318.30459770114948},{"$f":"Nuclear!$D$8","v":307.69444444444446},7.0035259999999999,132.30999999999997,107.29333333333334,99.834999999999994,7003526]
["2018-01-19",12,43.1,538,null,{"$f":"M483","v":117.17500000000001},98.918333333333337,98.788333333333341,null,{"$f":"'Combined Cycle Gas'!$D$8","v":318.30459770114948},{"$f":"Nuclear!$D$8","v":307.69444444444446},7.5398930000000002,129.50166666666667,103.935,99.543333333333337,7539893]
["2018-01-19",13,42.99,425,null,{"$f":"M484","v":116.35833333333335},94.661666666666676,96.530000000000015,null,{"$f":"'Combined Cycle Gas'!$D$8","v":318.30459770114948},{"$f":"Nuclear!$D$8","v":307.69444444444446},7.4689709999999998,130.68166666666667,103.19500000000001,102.16166666666665,7468971]
["2018-01-19",14,41.64,582,null,{"$f":"M485","v":106.30500000000001},97.12,96.39,null,{"$f":"'Combined Cycle Gas'!$D$8","v":318.30459770114948},{"$f":"Nuclear!$D$8","v":307.69444444444446},7.1756820000000001,135.27666666666667,100.12833333333333,99.878333333333345,7175682]
["2018-01-19",15,40.78,995,null,{"$f":"M486","v":109.09499999999998},98.223333333333343,96.558333333333337,null,{"$f":"'Combined Cycle Gas'!$D$8","v":318.30459770114948},{"$f":"Nuclear!$D$8","v":307.69444444444446},6.7810199999999998,137.57333333333335,102.72666666666669,99.365000000000009,6781020]
["2018-01-19",16,38.97,1718,null,{"$f":"M487","v":115.93166666666667},98.115000000000009,98.279999999999987,null,{"$f":"'Combined Cycle Gas'!$D$8","v":318.30459770114948},{"$f":"Nuclear!$D$8","v":307.69444444444446},6.1301839999999999,133.48833333333334,102.58999999999999,99.48,6130184]
["2018-01-19",17,39.11,1698,null,{"$f":"M488","v":127.50833333333334},101.01166666666667,97.625,null,{"$f":"'Combined Cycle Gas'!$D$8","v":318.30459770114948},{"$f":"Nuclear!$D$8","v":307.69444444444446},4.1018759999999999,125.77499999999999,103.38333333333333,97.71,4101876]
["2018-01-19",18,40.72,560,null,{"$f":"M489","v":135.19166666666666},101.89666666666666,100.38000000000001,null,{"$f":"'Combined Cycle Gas'!$D$8","v":318.30459770114948},{"$f":"Nuclear!$D$8","v":307.69444444444446},{"$f":"P483/10^6","v":2.4610000000000001E-3},117.17500000000001,98.918333333333337,98.788333333333341,2461]
["2018-01-19",19,43.83,180,null,{"$f":"M490","v":139.31500000000003},103.005,95.646666666666661,null,{"$f":"'Combined Cycle Gas'!$D$8","v":318.30459770114948},{"$f":"Nuclear!$D$8","v":307.69444444444446},0,116.35833333333335,94.661666666666676,96.530000000000015,0]
["2018-01-19",20,47.87,445,null,{"$f":"M491","v":139.03833333333336},103.48833333333333,99.388333333333321,null,{"$f":"'Combined Cycle Gas'!$D$8","v":318.30459770114948},{"$f":"Nuclear!$D$8","v":307.69444444444446},0,106.30500000000001,97.12,96.39,0]
["2018-01-19",21,40.72,267,null,{"$f":"M492","v":135.36333333333334},99.334999999999994,99.13,null,{"$f":"'Combined Cycle Gas'!$D$8","v":318.30459770114948},{"$f":"Nuclear!$D$8","v":307.69444444444446},0,109.09499999999998,98.223333333333343,96.558333333333337,0]
["2018-01-19",22,40.85,439,null,{"$f":"M493","v":135.07},99.165000000000006,101.205,null,{"$f":"'Combined Cycle Gas'!$D$8","v":318.30459770114948},{"$f":"Nuclear!$D$8","v":307.69444444444446},0,115.93166666666667,98.115000000000009,98.279999999999987,0]
["2018-01-19",23,29.58,1081,null,{"$f":"M494","v":135.28333333333333},100.23,96.49,null,{"$f":"'Combined Cycle Gas'!$D$8","v":318.30459770114948},{"$f":"Nuclear!$D$8","v":307.69444444444446},0,127.50833333333334,101.01166666666667,97.625,0]
["2018-01-19",24,16.260000000000002,1750,null,{"$f":"M495","v":132.93833333333333},100.53500000000001,96.256666666666661,null,{"$f":"'Combined Cycle Gas'!$D$8","v":318.30459770114948},{"$f":"Nuclear!$D$8","v":307.69444444444446},0,135.19166666666666,101.89666666666666,100.38000000000001,0]
["2018-01-20",1,27.98,2981,null,{"$f":"M496","v":134.08500000000001},100.40499999999999,95.668333333333337,null,{"$f":"'Combined Cycle Gas'!$D$8","v":318.30459770114948},{"$f":"Nuclear!$D$8","v":307.69444444444446},0,139.31500000000003,103.005,95.646666666666661,0]
["2018-01-20",2,24.92,3344,null,{"$f":"M497","v":139.69666666666669},99.470000000000013,95.87,null,{"$f":"'Combined Cycle Gas'!$D$8","v":318.30459770114948},{"$f":"Nuclear!$D$8","v":307.69444444444446},0,139.03833333333336,103.48833333333333,99.388333333333321,0]
["2018-01-20",3,26.42,3334,null,{"$f":"M498","v":135.10166666666666},98.661666666666676,96.041666666666671,null,{"$f":"'Combined Cycle Gas'!$D$8","v":318.30459770114948},{"$f":"Nuclear!$D$8","v":307.69444444444446},0,135.36333333333334,99.334999999999994,99.13,0]
["2018-01-20",4,27.26,3153,null,{"$f":"M499","v":136.52666666666664},98.576666666666668,98.318333333333328,null,{"$f":"'Combined Cycle Gas'!$D$8","v":318.30459770114948},{"$f":"Nuclear!$D$8","v":307.69444444444446},0,135.07,99.165000000000006,101.205,0]
["2018-01-20",5,27.22,2765,null,{"$f":"M500","v":126.11333333333333},98.026666666666685,97.358333333333334,null,{"$f":"'Combined Cycle Gas'!$D$8","v":318.30459770114948},{"$f":"Nuclear!$D$8","v":307.69444444444446},0,135.28333333333333,100.23,96.49,0]
["2018-01-20",6,29.09,2500,null,{"$f":"M501","v":122.26333333333334},97.38000000000001,95.39,null,{"$f":"'Combined Cycle Gas'!$D$8","v":318.30459770114948},{"$f":"Nuclear!$D$8","v":307.69444444444446},0,132.93833333333333,100.53500000000001,96.256666666666661,0]
["2018-01-20",7,26.32,2266,null,{"$f":"M502","v":123.71999999999998},97.50833333333334,91.935000000000002,null,{"$f":"'Combined Cycle Gas'!$D$8","v":318.30459770114948},{"$f":"Nuclear!$D$8","v":307.69444444444446},0,134.08500000000001,100.40499999999999,95.668333333333337,0]
["2018-01-20",8,32.44,1956,null,{"$f":"M503","v":118.38333333333333},99.043333333333337,88.318333333333342,null,{"$f":"'Combined Cycle Gas'!$D$8","v":318.30459770114948},{"$f":"Nuclear!$D$8","v":307.69444444444446},1.8425720000000001,139.69666666666669,99.470000000000013,95.87,1842572]
["2018-01-20",9,35.520000000000003,1893,null,{"$f":"M504","v":116.54333333333334},99.48833333333333,91.858333333333334,null,{"$f":"'Combined Cycle Gas'!$D$8","v":318.30459770114948},{"$f":"Nuclear!$D$8","v":307.69444444444446},5.201333,135.10166666666666,98.661666666666676,96.041666666666671,5201333]
["2018-01-20",10,35.96,1189,null,{"$f":"M505","v":111.20833333333333},98.723333333333343,84.009999999999991,null,{"$f":"'Combined Cycle Gas'!$D$8","v":318.30459770114948},{"$f":"Nuclear!$D$8","v":307.69444444444446},6.5590820000000001,136.52666666666664,98.576666666666668,98.318333333333328,6559082]
["2018-01-20",11,36.270000000000003,400,null,{"$f":"M506","v":88.768333333333331},70.643333333333331,74.435000000000002,null,{"$f":"'Combined Cycle Gas'!$D$8","v":318.30459770114948},{"$f":"Nuclear!$D$8","v":307.69444444444446},7.1396709999999999,126.11333333333333,98.026666666666685,97.358333333333334,7139671]
["2018-01-20",12,30.3,0,null,{"$f":"M507","v":66.24166666666666},38.981666666666669,62.898333333333333,null,{"$f":"'Combined Cycle Gas'!$D$8","v":318.30459770114948},{"$f":"Nuclear!$D$8","v":307.69444444444446},7.3760599999999998,122.26333333333334,97.38000000000001,95.39,7376060]
["2018-01-20",13,27.52,0,null,{"$f":"M508","v":45.991666666666667},27.796666666666667,50.343333333333334,null,{"$f":"'Combined Cycle Gas'!$D$8","v":318.30459770114948},{"$f":"Nuclear!$D$8","v":307.69444444444446},7.4097080000000002,123.71999999999998,97.50833333333334,91.935000000000002,7409708]
["2018-01-20",14,27.55,0,null,{"$f":"M509","v":61.711666666666666},26.67,48.20333333333334,null,{"$f":"'Combined Cycle Gas'!$D$8","v":318.30459770114948},{"$f":"Nuclear!$D$8","v":307.69444444444446},7.2211059999999998,118.38333333333333,99.043333333333337,88.318333333333342,7221106]
["2018-01-20",15,27.55,0,null,{"$f":"M510","v":82.811666666666667},50.126666666666665,47.536666666666669,null,{"$f":"'Combined Cycle Gas'!$D$8","v":318.30459770114948},{"$f":"Nuclear!$D$8","v":307.69444444444446},6.7353259999999997,116.54333333333334,99.48833333333333,91.858333333333334,6735326]
["2018-01-20",16,27.55,0,null,{"$f":"M511","v":103.70833333333333},73.526666666666657,66.071666666666673,null,{"$f":"'Combined Cycle Gas'!$D$8","v":318.30459770114948},{"$f":"Nuclear!$D$8","v":307.69444444444446},5.7634590000000001,111.20833333333333,98.723333333333343,84.009999999999991,5763459]
["2018-01-20",17,29.77,0,null,{"$f":"M512","v":126.28333333333335},93.631666666666661,76.238333333333344,null,{"$f":"'Combined Cycle Gas'!$D$8","v":318.30459770114948},{"$f":"Nuclear!$D$8","v":307.69444444444446},3.1517710000000001,88.768333333333331,70.643333333333331,74.435000000000002,3151771]
["2018-01-20",18,36.97,225,null,{"$f":"M513","v":131.25666666666669},98.603333333333339,89.636666666666656,null,{"$f":"'Combined Cycle Gas'!$D$8","v":318.30459770114948},{"$f":"Nuclear!$D$8","v":307.69444444444446},0,66.24166666666666,38.981666666666669,62.898333333333333,0]
["2018-01-20",19,35.24,622,null,{"$f":"M514","v":123.47333333333334},100.78000000000002,92.050000000000011,null,{"$f":"'Combined Cycle Gas'!$D$8","v":318.30459770114948},{"$f":"Nuclear!$D$8","v":307.69444444444446},0,45.991666666666667,27.796666666666667,50.343333333333334,0]
["2018-01-20",20,21.81,2269,null,{"$f":"M515","v":120.44833333333334},101.10000000000001,96.143333333333331,null,{"$f":"'Combined Cycle Gas'!$D$8","v":318.30459770114948},{"$f":"Nuclear!$D$8","v":307.69444444444446},0,61.711666666666666,26.67,48.20333333333334,0]
["2018-01-20",21,23.89,2793,null,{"$f":"M516","v":116.80833333333332},99.5,98.718333333333348,null,{"$f":"'Combined Cycle Gas'!$D$8","v":318.30459770114948},{"$f":"Nuclear!$D$8","v":307.69444444444446},0,82.811666666666667,50.126666666666665,47.536666666666669,0]
["2018-01-20",22,22.52,2953,null,{"$f":"M517","v":120.24166666666667},96.966666666666683,95.845000000000013,null,{"$f":"'Combined Cycle Gas'!$D$8","v":318.30459770114948},{"$f":"Nuclear!$D$8","v":307.69444444444446},0,103.70833333333333,73.526666666666657,66.071666666666673,0]
["2018-01-20",23,21.73,2953,null,{"$f":"M518","v":118.58},93.545000000000002,93.475000000000009,null,{"$f":"'Combined Cycle Gas'!$D$8","v":318.30459770114948},{"$f":"Nuclear!$D$8","v":307.69444444444446},0,126.28333333333335,93.631666666666661,76.238333333333344,0]
["2018-01-20",24,21.73,2953,null,{"$f":"M519","v":88.951666666666668},91.141666666666652,92.301666666666677,null,{"$f":"'Combined Cycle Gas'!$D$8","v":318.30459770114948},{"$f":"Nuclear!$D$8","v":307.69444444444446},0,131.25666666666669,98.603333333333339,89.636666666666656,0]
["2018-01-21",1,33.57,3440,null,{"$f":"M520","v":123.72499999999998},96.631666666666661,92.308333333333323,null,{"$f":"'Combined Cycle Gas'!$D$8","v":318.30459770114948},{"$f":"Nuclear!$D$8","v":307.69444444444446},0,123.47333333333334,100.78000000000002,92.050000000000011,0]
["2018-01-21",2,27.42,3440,null,{"$f":"M521","v":124.79666666666667},97.066666666666677,91.969999999999985,null,{"$f":"'Combined Cycle Gas'!$D$8","v":318.30459770114948},{"$f":"Nuclear!$D$8","v":307.69444444444446},0,120.44833333333334,101.10000000000001,96.143333333333331,0]
["2018-01-21",3,27.29,3440,null,{"$f":"M522","v":119.39666666666669},97.403333333333322,88.800000000000011,null,{"$f":"'Combined Cycle Gas'!$D$8","v":318.30459770114948},{"$f":"Nuclear!$D$8","v":307.69444444444446},0,116.80833333333332,99.5,98.718333333333348,0]
["2018-01-21",4,27.55,3440,null,{"$f":"M523","v":103.73833333333334},96.098333333333343,92.084999999999994,null,{"$f":"'Combined Cycle Gas'!$D$8","v":318.30459770114948},{"$f":"Nuclear!$D$8","v":307.69444444444446},0,120.24166666666667,96.966666666666683,95.845000000000013,0]
["2018-01-21",5,27.83,3424,null,{"$f":"M524","v":83.52833333333335},92.298333333333346,92.600000000000009,null,{"$f":"'Combined Cycle Gas'!$D$8","v":318.30459770114948},{"$f":"Nuclear!$D$8","v":307.69444444444446},0,118.58,93.545000000000002,93.475000000000009,0]
["2018-01-21",6,30.01,3089,null,{"$f":"M525","v":59.013333333333343},77.209999999999994,87.763333333333321,null,{"$f":"'Combined Cycle Gas'!$D$8","v":318.30459770114948},{"$f":"Nuclear!$D$8","v":307.69444444444446},0,88.951666666666668,91.141666666666652,92.301666666666677,0]
["2018-01-21",7,29.58,3220,null,{"$f":"M526","v":83.466666666666654},70.273333333333326,86.75,null,{"$f":"'Combined Cycle Gas'!$D$8","v":318.30459770114948},{"$f":"Nuclear!$D$8","v":307.69444444444446},0,123.72499999999998,96.631666666666661,92.308333333333323,0]
["2018-01-21",8,33.619999999999997,3319,null,{"$f":"M527","v":92.348333333333343},64.598333333333329,82.288333333333341,null,{"$f":"'Combined Cycle Gas'!$D$8","v":318.30459770114948},{"$f":"Nuclear!$D$8","v":307.69444444444446},0,124.79666666666667,97.066666666666677,91.969999999999985,0]
["2018-01-21",9,36.909999999999997,3105,null,{"$f":"M528","v":67.141666666666666},31.161666666666672,72.321666666666658,null,{"$f":"'Combined Cycle Gas'!$D$8","v":318.30459770114948},{"$f":"Nuclear!$D$8","v":307.69444444444446},2.3772999999999999E-2,119.39666666666669,97.403333333333322,88.800000000000011,23773]
["2018-01-21",10,34.17,2656,null,{"$f":"M529","v":37.72},15.903333333333336,62.669999999999995,null,{"$f":"'Combined Cycle Gas'!$D$8","v":318.30459770114948},{"$f":"Nuclear!$D$8","v":307.69444444444446},1.2884580000000001,103.73833333333334,96.098333333333343,92.084999999999994,1288458]
["2018-01-21",11,36.770000000000003,1553,null,{"$f":"M530","v":13.386666666666665},8.0183333333333326,48.216666666666669,null,{"$f":"'Combined Cycle Gas'!$D$8","v":318.30459770114948},{"$f":"Nuclear!$D$8","v":307.69444444444446},1.268124,83.52833333333335,92.298333333333346,92.600000000000009,1268124]
["2018-01-21",12,36.14,696,null,{"$f":"M531","v":17.739999999999998},10.876666666666665,34.211666666666666,null,{"$f":"'Combined Cycle Gas'!$D$8","v":318.30459770114948},{"$f":"Nuclear!$D$8","v":307.69444444444446},1.793418,59.013333333333343,77.209999999999994,87.763333333333321,1793418]
["2018-01-21",13,36.159999999999997,333,null,{"$f":"M532","v":19.578333333333333},14.935,27.450000000000003,null,{"$f":"'Combined Cycle Gas'!$D$8","v":318.30459770114948},{"$f":"Nuclear!$D$8","v":307.69444444444446},1.63167,83.466666666666654,70.273333333333326,86.75,1631670]
["2018-01-21",14,34.75,251,null,{"$f":"M533","v":16.855},22.599999999999998,11.674999999999999,null,{"$f":"'Combined Cycle Gas'!$D$8","v":318.30459770114948},{"$f":"Nuclear!$D$8","v":307.69444444444446},1.7442139999999999,92.348333333333343,64.598333333333329,82.288333333333341,1744214]
["2018-01-21",15,34.380000000000003,281,null,{"$f":"M534","v":15.988333333333335},15.193333333333333,9.1066666666666674,null,{"$f":"'Combined Cycle Gas'!$D$8","v":318.30459770114948},{"$f":"Nuclear!$D$8","v":307.69444444444446},1.3241940000000001,67.141666666666666,31.161666666666672,72.321666666666658,1324194]
["2018-01-21",16,34.39,618,null,{"$f":"M535","v":25.765000000000001},12.651666666666666,9.7766666666666673,null,{"$f":"'Combined Cycle Gas'!$D$8","v":318.30459770114948},{"$f":"Nuclear!$D$8","v":307.69444444444446},0.831291,37.72,15.903333333333336,62.669999999999995,831291]
["2018-01-21",17,38.35,1099,null,{"$f":"M536","v":39.563333333333333},19.273333333333333,17.643333333333331,null,{"$f":"'Combined Cycle Gas'!$D$8","v":318.30459770114948},{"$f":"Nuclear!$D$8","v":307.69444444444446},4.0335999999999997E-2,13.386666666666665,8.0183333333333326,48.216666666666669,40336]
["2018-01-21",18,38.25,1396,null,{"$f":"M537","v":76.318333333333342},23.458333333333332,35.183333333333337,null,{"$f":"'Combined Cycle Gas'!$D$8","v":318.30459770114948},{"$f":"Nuclear!$D$8","v":307.69444444444446},0,17.739999999999998,10.876666666666665,34.211666666666666,0]
["2018-01-21",19,41.2,1782,null,{"$f":"M538","v":71.956666666666663},19.438333333333336,45.713333333333331,null,{"$f":"'Combined Cycle Gas'!$D$8","v":318.30459770114948},{"$f":"Nuclear!$D$8","v":307.69444444444446},0,19.578333333333333,14.935,27.450000000000003,0]
["2018-01-21",20,41.11,1885,null,{"$f":"M539","v":49.879999999999995},14.595000000000001,40.428333333333342,null,{"$f":"'Combined Cycle Gas'!$D$8","v":318.30459770114948},{"$f":"Nuclear!$D$8","v":307.69444444444446},0,16.855,22.599999999999998,11.674999999999999,0]
["2018-01-21",21,38.96,1922,null,{"$f":"M540","v":58.79666666666666},18.566666666666666,30.99666666666667,null,{"$f":"'Combined Cycle Gas'!$D$8","v":318.30459770114948},{"$f":"Nuclear!$D$8","v":307.69444444444446},0,15.988333333333335,15.193333333333333,9.1066666666666674,0]
["2018-01-21",22,40.68,2736,null,{"$f":"M541","v":53.526666666666664},20.885000000000002,25.334999999999997,null,{"$f":"'Combined Cycle Gas'!$D$8","v":318.30459770114948},{"$f":"Nuclear!$D$8","v":307.69444444444446},0,25.765000000000001,12.651666666666666,9.7766666666666673,0]
["2018-01-21",23,41.24,2543,null,{"$f":"M542","v":46.048333333333339},24.294999999999998,22.478333333333335,null,{"$f":"'Combined Cycle Gas'!$D$8","v":318.30459770114948},{"$f":"Nuclear!$D$8","v":307.69444444444446},0,39.563333333333333,19.273333333333333,17.643333333333331,0]
["2018-01-21",24,38.78,2542,null,{"$f":"M543","v":55.996666666666663},23.491666666666671,16.613333333333333,null,{"$f":"'Combined Cycle Gas'!$D$8","v":318.30459770114948},{"$f":"Nuclear!$D$8","v":307.69444444444446},0,76.318333333333342,23.458333333333332,35.183333333333337,0]
["2018-01-22",1,32.46,2509,null,{"$f":"M544","v":83.771666666666661},33.833333333333336,20.66,null,{"$f":"'Combined Cycle Gas'!$D$8","v":318.30459770114948},{"$f":"Nuclear!$D$8","v":307.69444444444446},0,71.956666666666663,19.438333333333336,45.713333333333331,0]
["2018-01-22",2,34.28,2281,null,{"$f":"M545","v":108.39166666666667},36.538333333333334,37.31666666666667,null,{"$f":"'Combined Cycle Gas'!$D$8","v":318.30459770114948},{"$f":"Nuclear!$D$8","v":307.69444444444446},0,49.879999999999995,14.595000000000001,40.428333333333342,0]
["2018-01-22",3,33.83,1852,null,{"$f":"M546","v":126.56333333333333},42.693333333333328,47.18333333333333,null,{"$f":"'Combined Cycle Gas'!$D$8","v":318.30459770114948},{"$f":"Nuclear!$D$8","v":307.69444444444446},0,58.79666666666666,18.566666666666666,30.99666666666667,0]
["2018-01-22",4,33.840000000000003,1554,null,{"$f":"M547","v":139.44166666666666},41.936666666666667,38.65,null,{"$f":"'Combined Cycle Gas'!$D$8","v":318.30459770114948},{"$f":"Nuclear!$D$8","v":307.69444444444446},0,53.526666666666664,20.885000000000002,25.334999999999997,0]
["2018-01-22",5,36.22,1267,null,{"$f":"M548","v":150.33166666666668},47.763333333333328,39.931666666666665,null,{"$f":"'Combined Cycle Gas'!$D$8","v":318.30459770114948},{"$f":"Nuclear!$D$8","v":307.69444444444446},0,46.048333333333339,24.294999999999998,22.478333333333335,0]
["2018-01-22",6,41.51,735,null,{"$f":"M549","v":151.3133333333333},68.029999999999987,44.591666666666661,null,{"$f":"'Combined Cycle Gas'!$D$8","v":318.30459770114948},{"$f":"Nuclear!$D$8","v":307.69444444444446},0,55.996666666666663,23.491666666666671,16.613333333333333,0]
["2018-01-22",7,43.45,875,null,{"$f":"M550","v":151.31999999999996},95.899999999999991,50.548333333333339,null,{"$f":"'Combined Cycle Gas'!$D$8","v":318.30459770114948},{"$f":"Nuclear!$D$8","v":307.69444444444446},0,83.771666666666661,33.833333333333336,20.66,0]
["2018-01-22",8,54.78,883,null,{"$f":"M551","v":151.31999999999996},93.628333333333345,63.366666666666667,null,{"$f":"'Combined Cycle Gas'!$D$8","v":318.30459770114948},{"$f":"Nuclear!$D$8","v":307.69444444444446},1.7799999999999999E-3,108.39166666666667,36.538333333333334,37.31666666666667,1780]
["2018-01-22",9,41.14,453,null,{"$f":"M552","v":137.12333333333333},112.22166666666665,76.08,null,{"$f":"'Combined Cycle Gas'!$D$8","v":318.30459770114948},{"$f":"Nuclear!$D$8","v":307.69444444444446},0.95169000000000004,126.56333333333333,42.693333333333328,47.18333333333333,951690]
["2018-01-22",10,42.25,926,null,{"$f":"M553","v":73.72},112.52,67.243333333333339,null,{"$f":"'Combined Cycle Gas'!$D$8","v":318.30459770114948},{"$f":"Nuclear!$D$8","v":307.69444444444446},{"$f":"P547/10^6","v":1.3254360000000001},139.44166666666666,41.936666666666667,38.65,1325436]
["2018-01-22",11,41.72,960,null,{"$f":"M554","v":97.964999999999989},38.300000000000004,64.135000000000005,null,{"$f":"'Combined Cycle Gas'!$D$8","v":318.30459770114948},{"$f":"Nuclear!$D$8","v":307.69444444444446},2.0280809999999998,150.33166666666668,47.763333333333328,39.931666666666665,2028081]
["2018-01-22",12,41.71,959,null,{"$f":"M555","v":26.169999999999998},22.01,92.229999999999976,null,{"$f":"'Combined Cycle Gas'!$D$8","v":318.30459770114948},{"$f":"Nuclear!$D$8","v":307.69444444444446},2.197638,151.3133333333333,68.029999999999987,44.591666666666661,2197638]
["2018-01-22",13,40.81,1077,null,{"$f":"M556","v":39.028333333333329},31.53833333333333,90.398333333333355,null,{"$f":"'Combined Cycle Gas'!$D$8","v":318.30459770114948},{"$f":"Nuclear!$D$8","v":307.69444444444446},2.2701630000000002,151.31999999999996,95.899999999999991,50.548333333333339,2270163]
["2018-01-22",14,40.1,1561,null,{"$f":"M557","v":84.543333333333337},60.17833333333332,60.843333333333341,null,{"$f":"'Combined Cycle Gas'!$D$8","v":318.30459770114948},{"$f":"Nuclear!$D$8","v":307.69444444444446},2.0783049999999998,151.31999999999996,93.628333333333345,63.366666666666667,2078305]
["2018-01-22",15,39.44,1441,null,{"$f":"M558","v":118.92833333333334},86.536666666666676,52.836666666666666,null,{"$f":"'Combined Cycle Gas'!$D$8","v":318.30459770114948},{"$f":"Nuclear!$D$8","v":307.69444444444446},1.5542279999999999,137.12333333333333,112.22166666666665,76.08,1554228]
["2018-01-22",16,39.75,1210,null,{"$f":"M559","v":136.99833333333333},102.43333333333334,66.424999999999997,null,{"$f":"'Combined Cycle Gas'!$D$8","v":318.30459770114948},{"$f":"Nuclear!$D$8","v":307.69444444444446},2.01105,73.72,112.52,67.243333333333339,2011050]
["2018-01-22",17,40.9,981,null,{"$f":"M560","v":148.92166666666665},110.49333333333333,80.174999999999997,null,{"$f":"'Combined Cycle Gas'!$D$8","v":318.30459770114948},{"$f":"Nuclear!$D$8","v":307.69444444444446},6.6987000000000005E-2,97.964999999999989,38.300000000000004,64.135000000000005,66987]
["2018-01-22",18,41.35,499,null,{"$f":"M561","v":151.31999999999996},107.78833333333334,96.681666666666672,null,{"$f":"'Combined Cycle Gas'!$D$8","v":318.30459770114948},{"$f":"Nuclear!$D$8","v":307.69444444444446},0,26.169999999999998,22.01,92.229999999999976,0]
["2018-01-22",19,41.9,0,null,{"$f":"M562","v":151.31999999999996},107.86833333333333,108.625,null,{"$f":"'Combined Cycle Gas'!$D$8","v":318.30459770114948},{"$f":"Nuclear!$D$8","v":307.69444444444446},0,39.028333333333329,31.53833333333333,90.398333333333355,0]
["2018-01-22",20,41.43,0,null,{"$f":"M563","v":150.07666666666665},107.47000000000001,110.19000000000001,null,{"$f":"'Combined Cycle Gas'!$D$8","v":318.30459770114948},{"$f":"Nuclear!$D$8","v":307.69444444444446},0,84.543333333333337,60.17833333333332,60.843333333333341,0]
["2018-01-22",21,40.83,0,null,{"$f":"M564","v":150.05666666666664},107.10666666666667,110.19000000000001,null,{"$f":"'Combined Cycle Gas'!$D$8","v":318.30459770114948},{"$f":"Nuclear!$D$8","v":307.69444444444446},0,118.92833333333334,86.536666666666676,52.836666666666666,0]
["2018-01-22",22,39.619999999999997,0,null,{"$f":"M565","v":150.82333333333332},111.61666666666666,110.19000000000001,null,{"$f":"'Combined Cycle Gas'!$D$8","v":318.30459770114948},{"$f":"Nuclear!$D$8","v":307.69444444444446},0,136.99833333333333,102.43333333333334,66.424999999999997,0]
["2018-01-22",23,40.72,75,null,{"$f":"M566","v":148.72166666666666},111.66666666666667,110.19000000000001,null,{"$f":"'Combined Cycle Gas'!$D$8","v":318.30459770114948},{"$f":"Nuclear!$D$8","v":307.69444444444446},0,148.92166666666665,110.49333333333333,80.174999999999997,0]
["2018-01-22",24,27.56,410,null,{"$f":"M567","v":150.82333333333335},112.26333333333332,110.19000000000001,null,{"$f":"'Combined Cycle Gas'!$D$8","v":318.30459770114948},{"$f":"Nuclear!$D$8","v":307.69444444444446},0,151.31999999999996,107.78833333333334,96.681666666666672,0]
["2018-01-23",1,26.08,926,null,{"$f":"M568","v":150.59833333333333},112.52,110.19000000000001,null,{"$f":"'Combined Cycle Gas'!$D$8","v":318.30459770114948},{"$f":"Nuclear!$D$8","v":307.69444444444446},0,151.31999999999996,107.86833333333333,108.625,0]
["2018-01-23",2,25.11,1105,null,{"$f":"M569","v":149.73333333333332},110.51166666666666,110.19000000000001,null,{"$f":"'Combined Cycle Gas'!$D$8","v":318.30459770114948},{"$f":"Nuclear!$D$8","v":307.69444444444446},0,150.07666666666665,107.47000000000001,110.19000000000001,0]
["2018-01-23",3,24.94,1369,null,{"$f":"M570","v":134.26166666666666},53.161666666666669,92.886666666666656,null,{"$f":"'Combined Cycle Gas'!$D$8","v":318.30459770114948},{"$f":"Nuclear!$D$8","v":307.69444444444446},0,150.05666666666664,107.10666666666667,110.19000000000001,0]
["2018-01-23",4,25.17,1458,null,{"$f":"M571","v":114.7},11.231666666666667,23.77,null,{"$f":"'Combined Cycle Gas'!$D$8","v":318.30459770114948},{"$f":"Nuclear!$D$8","v":307.69444444444446},0,150.82333333333332,111.61666666666666,110.19000000000001,0]
["2018-01-23",5,30.11,1373,null,{"$f":"M572","v":11.911666666666667},7.21,11.178333333333333,null,{"$f":"'Combined Cycle Gas'!$D$8","v":318.30459770114948},{"$f":"Nuclear!$D$8","v":307.69444444444446},0,148.72166666666666,111.66666666666667,110.19000000000001,0]
["2018-01-23",6,34.46,1593,null,{"$f":"M573","v":10.941666666666668},7.9733333333333336,39.923333333333325,null,{"$f":"'Combined Cycle Gas'!$D$8","v":318.30459770114948},{"$f":"Nuclear!$D$8","v":307.69444444444446},0,150.82333333333335,112.26333333333332,110.19000000000001,0]
["2018-01-23",7,41.59,915,null,{"$f":"M574","v":24.645},12.088333333333333,47.788333333333334,null,{"$f":"'Combined Cycle Gas'!$D$8","v":318.30459770114948},{"$f":"Nuclear!$D$8","v":307.69444444444446},0,150.59833333333333,112.52,110.19000000000001,0]
["2018-01-23",8,41.23,1235,null,{"$f":"M575","v":14.516666666666667},8.4849999999999994,37.411666666666669,null,{"$f":"'Combined Cycle Gas'!$D$8","v":318.30459770114948},{"$f":"Nuclear!$D$8","v":307.69444444444446},1.126E-3,149.73333333333332,110.51166666666666,110.19000000000001,1126]
["2018-01-23",9,39.06,2337,null,{"$f":"M576","v":10.43},8.2000000000000011,28.673333333333332,null,{"$f":"'Combined Cycle Gas'!$D$8","v":318.30459770114948},{"$f":"Nuclear!$D$8","v":307.69444444444446},0.10445400000000001,134.26166666666666,53.161666666666669,92.886666666666656,104454]
["2018-01-23",10,28.85,2893,null,{"$f":"M577","v":11.166666666666666},7.544999999999999,8.6483333333333334,null,{"$f":"'Combined Cycle Gas'!$D$8","v":318.30459770114948},{"$f":"Nuclear!$D$8","v":307.69444444444446},1.230064,114.7,11.231666666666667,23.77,1230064]
["2018-01-23",11,29.62,2804,null,{"$f":"M578","v":11.288333333333334},7.3850000000000007,8.2233333333333345,null,{"$f":"'Combined Cycle Gas'!$D$8","v":318.30459770114948},{"$f":"Nuclear!$D$8","v":307.69444444444446},2.0550999999999999,11.911666666666667,7.21,11.178333333333333,2055100]
["2018-01-23",12,29.11,2609,null,{"$f":"M579","v":12.443333333333333},7.1483333333333334,8.1,null,{"$f":"'Combined Cycle Gas'!$D$8","v":318.30459770114948},{"$f":"Nuclear!$D$8","v":307.69444444444446},1.6449689999999999,10.941666666666668,7.9733333333333336,39.923333333333325,1644969]
["2018-01-23",13,28.36,2692,null,{"$f":"M580","v":14.089999999999998},7.2750000000000012,9.1233333333333331,null,{"$f":"'Combined Cycle Gas'!$D$8","v":318.30459770114948},{"$f":"Nuclear!$D$8","v":307.69444444444446},1.7462839999999999,24.645,12.088333333333333,47.788333333333334,1746284]
["2018-01-23",14,27.9,2668,null,{"$f":"M581","v":17.14},8.5566666666666666,9.9216666666666669,null,{"$f":"'Combined Cycle Gas'!$D$8","v":318.30459770114948},{"$f":"Nuclear!$D$8","v":307.69444444444446},3.2008299999999998,14.516666666666667,8.4849999999999994,37.411666666666669,3200830]
["2018-01-23",15,26.97,2570,null,{"$f":"M582","v":18.349999999999998},9.6049999999999986,9.3983333333333334,null,{"$f":"'Combined Cycle Gas'!$D$8","v":318.30459770114948},{"$f":"Nuclear!$D$8","v":307.69444444444446},2.3504339999999999,10.43,8.2000000000000011,28.673333333333332,2350434]
["2018-01-23",16,29.26,2381,null,{"$f":"M583","v":21.608333333333334},10.354999999999999,7.4116666666666662,null,{"$f":"'Combined Cycle Gas'!$D$8","v":318.30459770114948},{"$f":"Nuclear!$D$8","v":307.69444444444446},2.1046320000000001,11.166666666666666,7.544999999999999,8.6483333333333334,2104632]
["2018-01-23",17,34.57,1902,null,{"$f":"M584","v":21.825000000000003},11.493333333333334,7.3933333333333344,null,{"$f":"'Combined Cycle Gas'!$D$8","v":318.30459770114948},{"$f":"Nuclear!$D$8","v":307.69444444444446},1.22984,11.288333333333334,7.3850000000000007,8.2233333333333345,1229840]
["2018-01-23",18,29.79,1489,null,{"$f":"M585","v":21.863333333333333},13.075000000000001,8.2183333333333337,null,{"$f":"'Combined Cycle Gas'!$D$8","v":318.30459770114948},{"$f":"Nuclear!$D$8","v":307.69444444444446},0,12.443333333333333,7.1483333333333334,8.1,0]
["2018-01-23",19,29.83,1828,null,{"$f":"M586","v":20.265000000000001},12.281666666666666,10.228333333333333,null,{"$f":"'Combined Cycle Gas'!$D$8","v":318.30459770114948},{"$f":"Nuclear!$D$8","v":307.69444444444446},0,14.089999999999998,7.2750000000000012,9.1233333333333331,0]
["2018-01-23",20,28.69,2516,null,{"$f":"M587","v":23.756666666666671},9.4166666666666661,11.706666666666669,null,{"$f":"'Combined Cycle Gas'!$D$8","v":318.30459770114948},{"$f":"Nuclear!$D$8","v":307.69444444444446},0,17.14,8.5566666666666666,9.9216666666666669,0]
["2018-01-23",21,24.49,2673,null,{"$f":"M588","v":25.593333333333334},10.111666666666666,10.408333333333333,null,{"$f":"'Combined Cycle Gas'!$D$8","v":318.30459770114948},{"$f":"Nuclear!$D$8","v":307.69444444444446},0,18.349999999999998,9.6049999999999986,9.3983333333333334,0]
["2018-01-23",22,28.76,2638,null,{"$f":"M589","v":23.58},11.826666666666666,11.168333333333331,null,{"$f":"'Combined Cycle Gas'!$D$8","v":318.30459770114948},{"$f":"Nuclear!$D$8","v":307.69444444444446},0,21.608333333333334,10.354999999999999,7.4116666666666662,0]
["2018-01-23",23,29.23,2687,null,{"$f":"M590","v":25.183333333333334},11.493333333333332,17.528333333333332,null,{"$f":"'Combined Cycle Gas'!$D$8","v":318.30459770114948},{"$f":"Nuclear!$D$8","v":307.69444444444446},0,21.825000000000003,11.493333333333334,7.3933333333333344,0]
["2018-01-23",24,27.55,2951,null,{"$f":"M591","v":32.913333333333334},13.163333333333332,24.483333333333331,null,{"$f":"'Combined Cycle Gas'!$D$8","v":318.30459770114948},{"$f":"Nuclear!$D$8","v":307.69444444444446},0,21.863333333333333,13.075000000000001,8.2183333333333337,0]
["2018-01-24",1,27.47,2642,null,{"$f":"M592","v":30.636666666666667},10.441666666666668,16.353333333333335,null,{"$f":"'Combined Cycle Gas'!$D$8","v":318.30459770114948},{"$f":"Nuclear!$D$8","v":307.69444444444446},0,20.265000000000001,12.281666666666666,10.228333333333333,0]
["2018-01-24",2,28.91,2204,null,{"$f":"M593","v":16.73},5.2416666666666671,6.286666666666668,null,{"$f":"'Combined Cycle Gas'!$D$8","v":318.30459770114948},{"$f":"Nuclear!$D$8","v":307.69444444444446},0,23.756666666666671,9.4166666666666661,11.706666666666669,0]
["2018-01-24",3,29.21,1835,null,{"$f":"M594","v":7.6333333333333329},4.168333333333333,5.0566666666666658,null,{"$f":"'Combined Cycle Gas'!$D$8","v":318.30459770114948},{"$f":"Nuclear!$D$8","v":307.69444444444446},0,25.593333333333334,10.111666666666666,10.408333333333333,0]
["2018-01-24",4,32.79,1151,null,{"$f":"M595","v":9.0399999999999991},4.541666666666667,5.3650000000000011,null,{"$f":"'Combined Cycle Gas'!$D$8","v":318.30459770114948},{"$f":"Nuclear!$D$8","v":307.69444444444446},0,23.58,11.826666666666666,11.168333333333331,0]
["2018-01-24",5,34.380000000000003,773,null,{"$f":"M596","v":11.264999999999999},5.335,6.1816666666666675,null,{"$f":"'Combined Cycle Gas'!$D$8","v":318.30459770114948},{"$f":"Nuclear!$D$8","v":307.69444444444446},0,25.183333333333334,11.493333333333332,17.528333333333332,0]
["2018-01-24",6,39.74,468,null,{"$f":"M597","v":12.086666666666666},6.4450000000000003,7.4233333333333329,null,{"$f":"'Combined Cycle Gas'!$D$8","v":318.30459770114948},{"$f":"Nuclear!$D$8","v":307.69444444444446},0,32.913333333333334,13.163333333333332,24.483333333333331,0]
["2018-01-24",7,41.57,467,null,{"$f":"M598","v":14.57},7.086666666666666,14.15,null,{"$f":"'Combined Cycle Gas'!$D$8","v":318.30459770114948},{"$f":"Nuclear!$D$8","v":307.69444444444446},0,30.636666666666667,10.441666666666668,16.353333333333335,0]
["2018-01-24",8,42.35,482,null,{"$f":"M599","v":11.911666666666667},6.793333333333333,28.138333333333332,null,{"$f":"'Combined Cycle Gas'!$D$8","v":318.30459770114948},{"$f":"Nuclear!$D$8","v":307.69444444444446},1.7437000000000001E-2,16.73,5.2416666666666671,6.286666666666668,17437]
["2018-01-24",9,39.700000000000003,845,null,{"$f":"M600","v":17.798333333333336},11.781666666666666,38.72,null,{"$f":"'Combined Cycle Gas'!$D$8","v":318.30459770114948},{"$f":"Nuclear!$D$8","v":307.69444444444446},1.2333229999999999,7.6333333333333329,4.168333333333333,5.0566666666666658,1233323]
["2018-01-24",10,33.590000000000003,897,null,{"$f":"M601","v":32.330000000000005},28.516666666666666,57.37833333333333,null,{"$f":"'Combined Cycle Gas'!$D$8","v":318.30459770114948},{"$f":"Nuclear!$D$8","v":307.69444444444446},3.0709819999999999,9.0399999999999991,4.541666666666667,5.3650000000000011,3070982]
["2018-01-24",11,39.619999999999997,158,null,{"$f":"M602","v":35.331666666666671},33.876666666666665,75.263333333333335,null,{"$f":"'Combined Cycle Gas'!$D$8","v":318.30459770114948},{"$f":"Nuclear!$D$8","v":307.69444444444446},4.0400809999999998,11.264999999999999,5.335,6.1816666666666675,4040081]
["2018-01-24",12,39.520000000000003,45,null,{"$f":"M603","v":37.536666666666662},33.323333333333331,77.61,null,{"$f":"'Combined Cycle Gas'!$D$8","v":318.30459770114948},{"$f":"Nuclear!$D$8","v":307.69444444444446},5.1393519999999997,12.086666666666666,6.4450000000000003,7.4233333333333329,5139352]
["2018-01-24",13,39.71,44,null,{"$f":"M604","v":50.18},40.993333333333332,86.291666666666671,null,{"$f":"'Combined Cycle Gas'!$D$8","v":318.30459770114948},{"$f":"Nuclear!$D$8","v":307.69444444444446},2.97241,14.57,7.086666666666666,14.15,2972410]
["2018-01-24",14,37.31,197,null,{"$f":"M605","v":69.326666666666668},59.02,89.09666666666665,null,{"$f":"'Combined Cycle Gas'!$D$8","v":318.30459770114948},{"$f":"Nuclear!$D$8","v":307.69444444444446},4.6779380000000002,11.911666666666667,6.793333333333333,28.138333333333332,4677938]
["2018-01-24",15,35.729999999999997,197,null,{"$f":"M606","v":71.938333333333333},67.981666666666669,95.441666666666663,null,{"$f":"'Combined Cycle Gas'!$D$8","v":318.30459770114948},{"$f":"Nuclear!$D$8","v":307.69444444444446},3.136263,17.798333333333336,11.781666666666666,38.72,3136263]
["2018-01-24",16,35.61,197,null,{"$f":"M607","v":70.476666666666659},69.180000000000007,98.793333333333337,null,{"$f":"'Combined Cycle Gas'!$D$8","v":318.30459770114948},{"$f":"Nuclear!$D$8","v":307.69444444444446},2.9865200000000001,32.330000000000005,28.516666666666666,57.37833333333333,2986520]
["2018-01-24",17,39.72,145,null,{"$f":"M608","v":95.963333333333324},73.966666666666669,100.455,null,{"$f":"'Combined Cycle Gas'!$D$8","v":318.30459770114948},{"$f":"Nuclear!$D$8","v":307.69444444444446},0.98743000000000003,35.331666666666671,33.876666666666665,75.263333333333335,987430]
["2018-01-24",18,39.82,0,null,{"$f":"M609","v":102.86000000000001},89.26,97.345000000000013,null,{"$f":"'Combined Cycle Gas'!$D$8","v":318.30459770114948},{"$f":"Nuclear!$D$8","v":307.69444444444446},0,37.536666666666662,33.323333333333331,77.61,0]
["2018-01-24",19,40.78,0,null,{"$f":"M610","v":111.04166666666667},82.988333333333344,93.576666666666668,null,{"$f":"'Combined Cycle Gas'!$D$8","v":318.30459770114948},{"$f":"Nuclear!$D$8","v":307.69444444444446},0,50.18,40.993333333333332,86.291666666666671,0]
["2018-01-24",20,40.71,0,null,{"$f":"M611","v":116.79166666666667},73.403333333333322,93.135000000000005,null,{"$f":"'Combined Cycle Gas'!$D$8","v":318.30459770114948},{"$f":"Nuclear!$D$8","v":307.69444444444446},0,69.326666666666668,59.02,89.09666666666665,0]
["2018-01-24",21,39.57,0,null,{"$f":"M612","v":123.755},79.891666666666666,100.33,null,{"$f":"'Combined Cycle Gas'!$D$8","v":318.30459770114948},{"$f":"Nuclear!$D$8","v":307.69444444444446},0,71.938333333333333,67.981666666666669,95.441666666666663,0]
["2018-01-24",22,40.83,0,null,{"$f":"M613","v":130.52333333333331},87.133333333333326,99.631666666666661,null,{"$f":"'Combined Cycle Gas'!$D$8","v":318.30459770114948},{"$f":"Nuclear!$D$8","v":307.69444444444446},0,70.476666666666659,69.180000000000007,98.793333333333337,0]
["2018-01-24",23,39.43,31,null,{"$f":"M614","v":124.09666666666668},84.26166666666667,101.54333333333334,null,{"$f":"'Combined Cycle Gas'!$D$8","v":318.30459770114948},{"$f":"Nuclear!$D$8","v":307.69444444444446},0,95.963333333333324,73.966666666666669,100.455,0]
["2018-01-24",24,33.31,45,null,{"$f":"M615","v":124.44500000000001},80.461666666666673,98.098333333333315,null,{"$f":"'Combined Cycle Gas'!$D$8","v":318.30459770114948},{"$f":"Nuclear!$D$8","v":307.69444444444446},0,102.86000000000001,89.26,97.345000000000013,0]
["2018-01-25",1,28.93,74,null,{"$f":"M616","v":123.33333333333331},78.424999999999997,96.126666666666665,null,{"$f":"'Combined Cycle Gas'!$D$8","v":318.30459770114948},{"$f":"Nuclear!$D$8","v":307.69444444444446},0,111.04166666666667,82.988333333333344,93.576666666666668,0]
["2018-01-25",2,29.2,94,null,{"$f":"M617","v":124.67666666666666},75.303333333333327,96.951666666666668,null,{"$f":"'Combined Cycle Gas'!$D$8","v":318.30459770114948},{"$f":"Nuclear!$D$8","v":307.69444444444446},{"$f":"P611/10^6","v":0},116.79166666666667,73.403333333333322,93.135000000000005,0]
["2018-01-25",3,24.93,94,null,{"$f":"M618","v":128.15666666666667},86.861666666666679,97.21833333333332,null,{"$f":"'Combined Cycle Gas'!$D$8","v":318.30459770114948},{"$f":"Nuclear!$D$8","v":307.69444444444446},0,123.755,79.891666666666666,100.33,0]
["2018-01-25",4,27.55,27,null,{"$f":"M619","v":122.74833333333333},92.051666666666677,93.37833333333333,null,{"$f":"'Combined Cycle Gas'!$D$8","v":318.30459770114948},{"$f":"Nuclear!$D$8","v":307.69444444444446},0,130.52333333333331,87.133333333333326,99.631666666666661,0]
["2018-01-25",5,32.840000000000003,3,null,{"$f":"M620","v":126.58166666666666},87.663333333333341,83.375,null,{"$f":"'Combined Cycle Gas'!$D$8","v":318.30459770114948},{"$f":"Nuclear!$D$8","v":307.69444444444446},0,124.09666666666668,84.26166666666667,101.54333333333334,0]
["2018-01-25",6,29.85,0,null,{"$f":"M621","v":101.51},73.808333333333323,66.74166666666666,null,{"$f":"'Combined Cycle Gas'!$D$8","v":318.30459770114948},{"$f":"Nuclear!$D$8","v":307.69444444444446},0,124.44500000000001,80.461666666666673,98.098333333333315,0]
["2018-01-25",7,39.369999999999997,0,null,{"$f":"M622","v":78.709999999999994},54.77,64.665000000000006,null,{"$f":"'Combined Cycle Gas'!$D$8","v":318.30459770114948},{"$f":"Nuclear!$D$8","v":307.69444444444446},0,123.33333333333331,78.424999999999997,96.126666666666665,0]
["2018-01-25",8,39.659999999999997,0,null,{"$f":"M623","v":67.49499999999999},41.205000000000005,60.798333333333339,null,{"$f":"'Combined Cycle Gas'!$D$8","v":318.30459770114948},{"$f":"Nuclear!$D$8","v":307.69444444444446},0,124.67666666666666,75.303333333333327,96.951666666666668,0]
["2018-01-25",9,39.49,0,null,{"$f":"M624","v":48.388333333333343},31.040000000000003,49.199999999999996,null,{"$f":"'Combined Cycle Gas'!$D$8","v":318.30459770114948},{"$f":"Nuclear!$D$8","v":307.69444444444446},1.6513E-2,128.15666666666667,86.861666666666679,97.21833333333332,16513]
["2018-01-25",10,29.67,71,null,{"$f":"M625","v":29.203333333333333},23.324999999999999,57.448333333333323,null,{"$f":"'Combined Cycle Gas'!$D$8","v":318.30459770114948},{"$f":"Nuclear!$D$8","v":307.69444444444446},1.084314,122.74833333333333,92.051666666666677,93.37833333333333,1084314]
["2018-01-25",11,29.99,408,null,{"$f":"M626","v":28.803333333333331},21.715,41.908333333333331,null,{"$f":"'Combined Cycle Gas'!$D$8","v":318.30459770114948},{"$f":"Nuclear!$D$8","v":307.69444444444446},1.487193,126.58166666666666,87.663333333333341,83.375,1487193]
["2018-01-25",12,33.14,241,null,{"$f":"M627","v":34.046666666666667},24.793333333333333,36.5,null,{"$f":"'Combined Cycle Gas'!$D$8","v":318.30459770114948},{"$f":"Nuclear!$D$8","v":307.69444444444446},1.9553469999999999,101.51,73.808333333333323,66.74166666666666,1955347]
["2018-01-25",13,29.11,573,null,{"$f":"M628","v":47.528333333333329},35.398333333333333,37.78,null,{"$f":"'Combined Cycle Gas'!$D$8","v":318.30459770114948},{"$f":"Nuclear!$D$8","v":307.69444444444446},1.652515,78.709999999999994,54.77,64.665000000000006,1652515]
["2018-01-25",14,28.63,897,null,{"$f":"M629","v":46.756666666666668},29.106666666666666,35.555,null,{"$f":"'Combined Cycle Gas'!$D$8","v":318.30459770114948},{"$f":"Nuclear!$D$8","v":307.69444444444446},2.0627399999999998,67.49499999999999,41.205000000000005,60.798333333333339,2062740]
["2018-01-25",15,29.3,708,null,{"$f":"M630","v":46.774999999999999},33.655000000000001,41.428333333333335,null,{"$f":"'Combined Cycle Gas'!$D$8","v":318.30459770114948},{"$f":"Nuclear!$D$8","v":307.69444444444446},1.4020140000000001,48.388333333333343,31.040000000000003,49.199999999999996,1402014]
["2018-01-25",16,34.64,399,null,{"$f":"M631","v":40.830000000000005},35.993333333333339,47.551666666666655,null,{"$f":"'Combined Cycle Gas'!$D$8","v":318.30459770114948},{"$f":"Nuclear!$D$8","v":307.69444444444446},3.0775399999999999,29.203333333333333,23.324999999999999,57.448333333333323,3077540]
["2018-01-25",17,34.11,202,null,{"$f":"M632","v":53.468333333333334},35.781666666666666,60.389999999999993,null,{"$f":"'Combined Cycle Gas'!$D$8","v":318.30459770114948},{"$f":"Nuclear!$D$8","v":307.69444444444446},1.5010969999999999,28.803333333333331,21.715,41.908333333333331,1501097]
["2018-01-25",18,28.64,92,null,{"$f":"M633","v":69.651666666666671},49.154999999999994,59.108333333333327,null,{"$f":"'Combined Cycle Gas'!$D$8","v":318.30459770114948},{"$f":"Nuclear!$D$8","v":307.69444444444446},2.0000000000000002E-5,34.046666666666667,24.793333333333333,36.5,20]
["2018-01-25",19,30.81,336,null,{"$f":"M634","v":88.74666666666667},61.343333333333334,66.368333333333339,null,{"$f":"'Combined Cycle Gas'!$D$8","v":318.30459770114948},{"$f":"Nuclear!$D$8","v":307.69444444444446},0,47.528333333333329,35.398333333333333,37.78,0]
["2018-01-25",20,29.98,215,null,{"$f":"M635","v":89.118333333333339},60.191666666666663,55.42166666666666,null,{"$f":"'Combined Cycle Gas'!$D$8","v":318.30459770114948},{"$f":"Nuclear!$D$8","v":307.69444444444446},0,46.756666666666668,29.106666666666666,35.555,0]
["2018-01-25",21,34.82,0,null,{"$f":"M636","v":85.82},52.62833333333333,32.795000000000002,null,{"$f":"'Combined Cycle Gas'!$D$8","v":318.30459770114948},{"$f":"Nuclear!$D$8","v":307.69444444444446},0,46.774999999999999,33.655000000000001,41.428333333333335,0]
["2018-01-25",22,39.72,0,null,{"$f":"M637","v":90.768333333333331},44.321666666666665,33.520000000000003,null,{"$f":"'Combined Cycle Gas'!$D$8","v":318.30459770114948},{"$f":"Nuclear!$D$8","v":307.69444444444446},0,40.830000000000005,35.993333333333339,47.551666666666655,0]
["2018-01-25",23,34.31,0,null,{"$f":"M638","v":79.38666666666667},45.085000000000001,27.375,null,{"$f":"'Combined Cycle Gas'!$D$8","v":318.30459770114948},{"$f":"Nuclear!$D$8","v":307.69444444444446},0,53.468333333333334,35.781666666666666,60.389999999999993,0]
["2018-01-25",24,25.89,239,null,{"$f":"M639","v":81.779999999999987},57.71,44.228333333333332,null,{"$f":"'Combined Cycle Gas'!$D$8","v":318.30459770114948},{"$f":"Nuclear!$D$8","v":307.69444444444446},0,69.651666666666671,49.154999999999994,59.108333333333327,0]
["2018-01-26",1,27.18,525,null,{"$f":"M640","v":74.806666666666658},50.208333333333336,61.74666666666667,null,{"$f":"'Combined Cycle Gas'!$D$8","v":318.30459770114948},{"$f":"Nuclear!$D$8","v":307.69444444444446},0,88.74666666666667,61.343333333333334,66.368333333333339,0]
["2018-01-26",2,24.9,982,null,{"$f":"M641","v":89.910000000000011},56.668333333333344,56.77,null,{"$f":"'Combined Cycle Gas'!$D$8","v":318.30459770114948},{"$f":"Nuclear!$D$8","v":307.69444444444446},0,89.118333333333339,60.191666666666663,55.42166666666666,0]
["2018-01-26",3,25,1421,null,{"$f":"M642","v":82.466666666666669},47.533333333333331,34.774999999999999,null,{"$f":"'Combined Cycle Gas'!$D$8","v":318.30459770114948},{"$f":"Nuclear!$D$8","v":307.69444444444446},0,85.82,52.62833333333333,32.795000000000002,0]
["2018-01-26",4,24.45,1674,null,{"$f":"M643","v":40.736666666666665},25.666666666666668,21.796666666666663,null,{"$f":"'Combined Cycle Gas'!$D$8","v":318.30459770114948},{"$f":"Nuclear!$D$8","v":307.69444444444446},0,90.768333333333331,44.321666666666665,33.520000000000003,0]
["2018-01-26",5,25.02,2093,null,{"$f":"M644","v":10.205},5.2700000000000005,19.051666666666666,null,{"$f":"'Combined Cycle Gas'!$D$8","v":318.30459770114948},{"$f":"Nuclear!$D$8","v":307.69444444444446},0,79.38666666666667,45.085000000000001,27.375,0]
["2018-01-26",6,34.369999999999997,2107,null,{"$f":"M645","v":4.1083333333333334},0.96,14.246666666666668,null,{"$f":"'Combined Cycle Gas'!$D$8","v":318.30459770114948},{"$f":"Nuclear!$D$8","v":307.69444444444446},0,81.779999999999987,57.71,44.228333333333332,0]
["2018-01-26",7,39.4,1324,null,{"$f":"M646","v":6.1116666666666672},0.96166666666666656,1.7666666666666664,null,{"$f":"'Combined Cycle Gas'!$D$8","v":318.30459770114948},{"$f":"Nuclear!$D$8","v":307.69444444444446},0,74.806666666666658,50.208333333333336,61.74666666666667,0]
["2018-01-26",8,35.24,1166,null,{"$f":"M647","v":10.963333333333333},1.1933333333333336,1.3466666666666667,null,{"$f":"'Combined Cycle Gas'!$D$8","v":318.30459770114948},{"$f":"Nuclear!$D$8","v":307.69444444444446},0,89.910000000000011,56.668333333333344,56.77,0]
["2018-01-26",9,27,1818,null,{"$f":"M648","v":17.875},1.4433333333333334,1.7066666666666663,null,{"$f":"'Combined Cycle Gas'!$D$8","v":318.30459770114948},{"$f":"Nuclear!$D$8","v":307.69444444444446},0.34138600000000002,82.466666666666669,47.533333333333331,34.774999999999999,341386]
["2018-01-26",10,32.58,1254,null,{"$f":"M649","v":19.21166666666667},1.4900000000000002,0.77,null,{"$f":"'Combined Cycle Gas'!$D$8","v":318.30459770114948},{"$f":"Nuclear!$D$8","v":307.69444444444446},0.95794800000000002,40.736666666666665,25.666666666666668,21.796666666666663,957948]
["2018-01-26",11,39.42,517,null,{"$f":"M650","v":15.481666666666664},1.46,0.77666666666666673,null,{"$f":"'Combined Cycle Gas'!$D$8","v":318.30459770114948},{"$f":"Nuclear!$D$8","v":307.69444444444446},1.556408,10.205,5.2700000000000005,19.051666666666666,1556408]
["2018-01-26",12,37.81,363,null,{"$f":"M651","v":13.826666666666668},3.9866666666666664,1.0516666666666665,null,{"$f":"'Combined Cycle Gas'!$D$8","v":318.30459770114948},{"$f":"Nuclear!$D$8","v":307.69444444444446},1.291566,4.1083333333333334,0.96,14.246666666666668,1291566]
["2018-01-26",13,35.840000000000003,75,null,{"$f":"M652","v":14.711666666666668},9.7899999999999991,0.98,null,{"$f":"'Combined Cycle Gas'!$D$8","v":318.30459770114948},{"$f":"Nuclear!$D$8","v":307.69444444444446},1.7627630000000001,6.1116666666666672,0.96166666666666656,1.7666666666666664,1762763]
["2018-01-26",14,30.73,0,null,{"$f":"M653","v":12.698333333333332},9.4883333333333333,2.0550000000000002,null,{"$f":"'Combined Cycle Gas'!$D$8","v":318.30459770114948},{"$f":"Nuclear!$D$8","v":307.69444444444446},2.0853519999999999,10.963333333333333,1.1933333333333336,1.3466666666666667,2085352]
["2018-01-26",15,30.27,0,null,{"$f":"M654","v":10.48},11.991666666666665,2.3166666666666669,null,{"$f":"'Combined Cycle Gas'!$D$8","v":318.30459770114948},{"$f":"Nuclear!$D$8","v":307.69444444444446},0.478439,17.875,1.4433333333333334,1.7066666666666663,478439]
["2018-01-26",16,30.42,0,null,{"$f":"M655","v":7.9316666666666658},10.071666666666667,2.0133333333333336,null,{"$f":"'Combined Cycle Gas'!$D$8","v":318.30459770114948},{"$f":"Nuclear!$D$8","v":307.69444444444446},1.0853919999999999,19.21166666666667,1.4900000000000002,0.77,1085392]
["2018-01-26",17,41.16,5,null,{"$f":"M656","v":5.2450000000000001},7.0116666666666667,2.5516666666666663,null,{"$f":"'Combined Cycle Gas'!$D$8","v":318.30459770114948},{"$f":"Nuclear!$D$8","v":307.69444444444446},0.116756,15.481666666666664,1.46,0.77666666666666673,116756]
["2018-01-26",18,39.54,4,null,{"$f":"M657","v":10.961666666666666},5.3516666666666666,3.6233333333333331,null,{"$f":"'Combined Cycle Gas'!$D$8","v":318.30459770114948},{"$f":"Nuclear!$D$8","v":307.69444444444446},0,13.826666666666668,3.9866666666666664,1.0516666666666665,0]
["2018-01-26",19,39.229999999999997,0,null,{"$f":"M658","v":13.461666666666668},7.5166666666666657,6.4783333333333326,null,{"$f":"'Combined Cycle Gas'!$D$8","v":318.30459770114948},{"$f":"Nuclear!$D$8","v":307.69444444444446},0,14.711666666666668,9.7899999999999991,0.98,0]
["2018-01-26",20,39.19,0,null,{"$f":"M659","v":6.9216666666666669},9.5916666666666668,7.9466666666666681,null,{"$f":"'Combined Cycle Gas'!$D$8","v":318.30459770114948},{"$f":"Nuclear!$D$8","v":307.69444444444446},0,12.698333333333332,9.4883333333333333,2.0550000000000002,0]
["2018-01-26",21,39.19,0,null,{"$f":"M660","v":16.713333333333331},8.9083333333333314,5.4316666666666675,null,{"$f":"'Combined Cycle Gas'!$D$8","v":318.30459770114948},{"$f":"Nuclear!$D$8","v":307.69444444444446},0,10.48,11.991666666666665,2.3166666666666669,0]
["2018-01-26",22,39.14,0,null,{"$f":"M661","v":37.419999999999995},7.413333333333334,5.5233333333333334,null,{"$f":"'Combined Cycle Gas'!$D$8","v":318.30459770114948},{"$f":"Nuclear!$D$8","v":307.69444444444446},0,7.9316666666666658,10.071666666666667,2.0133333333333336,0]
["2018-01-26",23,32.869999999999997,78,null,{"$f":"M662","v":39.951666666666661},12.778333333333334,20.54,null,{"$f":"'Combined Cycle Gas'!$D$8","v":318.30459770114948},{"$f":"Nuclear!$D$8","v":307.69444444444446},0,5.2450000000000001,7.0116666666666667,2.5516666666666663,0]
["2018-01-26",24,27.18,154,null,{"$f":"M663","v":58.52},18.45,36.39,null,{"$f":"'Combined Cycle Gas'!$D$8","v":318.30459770114948},{"$f":"Nuclear!$D$8","v":307.69444444444446},0,10.961666666666666,5.3516666666666666,3.6233333333333331,0]
["2018-01-27",1,32.83,226,null,{"$f":"M664","v":81.661666666666676},43.396666666666668,29.671666666666667,null,{"$f":"'Combined Cycle Gas'!$D$8","v":318.30459770114948},{"$f":"Nuclear!$D$8","v":307.69444444444446},0,13.461666666666668,7.5166666666666657,6.4783333333333326,0]
["2018-01-27",2,31.76,126,null,{"$f":"M665","v":131.06333333333333},80.918333333333337,25.021666666666665,null,{"$f":"'Combined Cycle Gas'!$D$8","v":318.30459770114948},{"$f":"Nuclear!$D$8","v":307.69444444444446},0,6.9216666666666669,9.5916666666666668,7.9466666666666681,0]
["2018-01-27",3,31.49,119,null,{"$f":"M666","v":142.88500000000002},96.733333333333334,34.851666666666667,null,{"$f":"'Combined Cycle Gas'!$D$8","v":318.30459770114948},{"$f":"Nuclear!$D$8","v":307.69444444444446},0,16.713333333333331,8.9083333333333314,5.4316666666666675,0]
["2018-01-27",4,31.15,156,null,{"$f":"M667","v":151.31166666666664},109.005,54.808333333333337,null,{"$f":"'Combined Cycle Gas'!$D$8","v":318.30459770114948},{"$f":"Nuclear!$D$8","v":307.69444444444446},0,37.419999999999995,7.413333333333334,5.5233333333333334,0]
["2018-01-27",5,32.51,210,null,{"$f":"M668","v":151.31999999999996},110.72166666666665,79.623333333333335,null,{"$f":"'Combined Cycle Gas'!$D$8","v":318.30459770114948},{"$f":"Nuclear!$D$8","v":307.69444444444446},0,39.951666666666661,12.778333333333334,20.54,0]
["2018-01-27",6,33.549999999999997,546,null,{"$f":"M669","v":151.31999999999996},112.38833333333332,73.896666666666661,null,{"$f":"'Combined Cycle Gas'!$D$8","v":318.30459770114948},{"$f":"Nuclear!$D$8","v":307.69444444444446},0,58.52,18.45,36.39,0]
["2018-01-27",7,32.89,720,null,{"$f":"M670","v":151.31999999999996},110.16166666666665,73.711666666666673,null,{"$f":"'Combined Cycle Gas'!$D$8","v":318.30459770114948},{"$f":"Nuclear!$D$8","v":307.69444444444446},0,81.661666666666676,43.396666666666668,29.671666666666667,0]
["2018-01-27",8,39.71,878,null,{"$f":"M671","v":151.31999999999996},107.77499999999999,79.99166666666666,null,{"$f":"'Combined Cycle Gas'!$D$8","v":318.30459770114948},{"$f":"Nuclear!$D$8","v":307.69444444444446},1.6260000000000001E-3,131.06333333333333,80.918333333333337,25.021666666666665,1626]
["2018-01-27",9,32.229999999999997,1035,null,{"$f":"M672","v":150.63},111.32,91.838333333333324,null,{"$f":"'Combined Cycle Gas'!$D$8","v":318.30459770114948},{"$f":"Nuclear!$D$8","v":307.69444444444446},0.75011499999999998,142.88500000000002,96.733333333333334,34.851666666666667,750115]
["2018-01-27",10,30.08,1468,null,{"$f":"M673","v":151.31999999999996},112.52,88.836666666666659,null,{"$f":"'Combined Cycle Gas'!$D$8","v":318.30459770114948},{"$f":"Nuclear!$D$8","v":307.69444444444446},0.49674600000000002,151.31166666666664,109.005,54.808333333333337,496746]
["2018-01-27",11,32.270000000000003,1341,null,{"$f":"M674","v":150.05666666666667},106.51,86.791666666666671,null,{"$f":"'Combined Cycle Gas'!$D$8","v":318.30459770114948},{"$f":"Nuclear!$D$8","v":307.69444444444446},2.8949569999999998,151.31999999999996,110.72166666666665,79.623333333333335,2894957]
["2018-01-27",12,29.3,1097,null,{"$f":"M675","v":114.28333333333332},88.728333333333339,75.888333333333321,null,{"$f":"'Combined Cycle Gas'!$D$8","v":318.30459770114948},{"$f":"Nuclear!$D$8","v":307.69444444444446},4.9505600000000003,151.31999999999996,112.38833333333332,73.896666666666661,4950560]
["2018-01-27",13,27.14,1097,null,{"$f":"M676","v":72.131666666666661},69.058333333333337,67.233333333333334,null,{"$f":"'Combined Cycle Gas'!$D$8","v":318.30459770114948},{"$f":"Nuclear!$D$8","v":307.69444444444446},3.910129,151.31999999999996,110.16166666666665,73.711666666666673,3910129]
["2018-01-27",14,24.92,1373,null,{"$f":"M677","v":50.930000000000007},45.489999999999988,71.149999999999991,null,{"$f":"'Combined Cycle Gas'!$D$8","v":318.30459770114948},{"$f":"Nuclear!$D$8","v":307.69444444444446},6.4936499999999997,151.31999999999996,107.77499999999999,79.99166666666666,6493650]
["2018-01-27",15,24.95,1373,null,{"$f":"M678","v":57.998333333333328},38.893333333333338,62.725000000000001,null,{"$f":"'Combined Cycle Gas'!$D$8","v":318.30459770114948},{"$f":"Nuclear!$D$8","v":307.69444444444446},4.8984560000000004,150.63,111.32,91.838333333333324,4898456]
["2018-01-27",16,25.76,1439,null,{"$f":"M679","v":73.381666666666661},43.449999999999996,70.295000000000002,null,{"$f":"'Combined Cycle Gas'!$D$8","v":318.30459770114948},{"$f":"Nuclear!$D$8","v":307.69444444444446},5.0563140000000004,151.31999999999996,112.52,88.836666666666659,5056314]
["2018-01-27",17,29.11,1438,null,{"$f":"M680","v":92.894999999999982},60.698333333333323,91.033333333333346,null,{"$f":"'Combined Cycle Gas'!$D$8","v":318.30459770114948},{"$f":"Nuclear!$D$8","v":307.69444444444446},2.7940649999999998,150.05666666666667,106.51,86.791666666666671,2794065]
["2018-01-27",18,42.65,1670,null,{"$f":"M681","v":105.80500000000001},75.13333333333334,100.34499999999998,null,{"$f":"'Combined Cycle Gas'!$D$8","v":318.30459770114948},{"$f":"Nuclear!$D$8","v":307.69444444444446},{"$f":"P675/10^6","v":0},114.28333333333332,88.728333333333339,75.888333333333321,0]
["2018-01-27",19,29.01,1871,null,{"$f":"M682","v":120.93},74.931666666666672,92.431666666666672,null,{"$f":"'Combined Cycle Gas'!$D$8","v":318.30459770114948},{"$f":"Nuclear!$D$8","v":307.69444444444446},0,72.131666666666661,69.058333333333337,67.233333333333334,0]
["2018-01-27",20,25.49,2608,null,{"$f":"M683","v":136.47333333333333},95.984999999999999,88.426666666666677,null,{"$f":"'Combined Cycle Gas'!$D$8","v":318.30459770114948},{"$f":"Nuclear!$D$8","v":307.69444444444446},0,50.930000000000007,45.489999999999988,71.149999999999991,0]
["2018-01-27",21,24.36,2798,null,{"$f":"M684","v":143.64500000000001},108.98666666666666,108.34666666666665,null,{"$f":"'Combined Cycle Gas'!$D$8","v":318.30459770114948},{"$f":"Nuclear!$D$8","v":307.69444444444446},0,57.998333333333328,38.893333333333338,62.725000000000001,0]
["2018-01-27",22,21.69,2809,null,{"$f":"M685","v":146.64833333333334},110.42833333333333,110.15833333333335,null,{"$f":"'Combined Cycle Gas'!$D$8","v":318.30459770114948},{"$f":"Nuclear!$D$8","v":307.69444444444446},0,73.381666666666661,43.449999999999996,70.295000000000002,0]
["2018-01-27",23,15.64,2831,null,{"$f":"M686","v":149.12666666666667},110.63,109.96666666666665,null,{"$f":"'Combined Cycle Gas'!$D$8","v":318.30459770114948},{"$f":"Nuclear!$D$8","v":307.69444444444446},0,92.894999999999982,60.698333333333323,91.033333333333346,0]
["2018-01-27",24,21.27,2696,null,{"$f":"M687","v":147.42000000000002},108.65333333333335,110.13,null,{"$f":"'Combined Cycle Gas'!$D$8","v":318.30459770114948},{"$f":"Nuclear!$D$8","v":307.69444444444446},0,105.80500000000001,75.13333333333334,100.34499999999998,0]
["2018-01-28",1,29.75,3103,null,{"$f":"M688","v":145.11333333333334},107.97166666666668,110.19000000000001,null,{"$f":"'Combined Cycle Gas'!$D$8","v":318.30459770114948},{"$f":"Nuclear!$D$8","v":307.69444444444446},0,120.93,74.931666666666672,92.431666666666672,0]
["2018-01-28",2,25,3103,null,{"$f":"M689","v":145.3116666666667},108.26333333333332,109.54166666666667,null,{"$f":"'Combined Cycle Gas'!$D$8","v":318.30459770114948},{"$f":"Nuclear!$D$8","v":307.69444444444446},0,136.47333333333333,95.984999999999999,88.426666666666677,0]
["2018-01-28",3,24.97,3103,null,{"$f":"M690","v":147.32333333333335},108.70333333333333,110.09666666666665,null,{"$f":"'Combined Cycle Gas'!$D$8","v":318.30459770114948},{"$f":"Nuclear!$D$8","v":307.69444444444446},0,143.64500000000001,108.98666666666666,108.34666666666665,0]
["2018-01-28",4,24.98,3102,null,{"$f":"M691","v":151.31999999999996},109.675,109.79833333333333,null,{"$f":"'Combined Cycle Gas'!$D$8","v":318.30459770114948},{"$f":"Nuclear!$D$8","v":307.69444444444446},0,146.64833333333334,110.42833333333333,110.15833333333335,0]
["2018-01-28",5,24.99,3102,null,{"$f":"M692","v":151.31999999999996},109.94666666666666,105.09166666666665,null,{"$f":"'Combined Cycle Gas'!$D$8","v":318.30459770114948},{"$f":"Nuclear!$D$8","v":307.69444444444446},0,149.12666666666667,110.63,109.96666666666665,0]
["2018-01-28",6,25.95,3103,null,{"$f":"M693","v":144.87333333333333},109.13333333333333,104.49166666666667,null,{"$f":"'Combined Cycle Gas'!$D$8","v":318.30459770114948},{"$f":"Nuclear!$D$8","v":307.69444444444446},0,147.42000000000002,108.65333333333335,110.13,0]
["2018-01-28",7,16.239999999999998,2795,null,{"$f":"M694","v":134.83166666666668},108.01666666666667,102.42166666666667,null,{"$f":"'Combined Cycle Gas'!$D$8","v":318.30459770114948},{"$f":"Nuclear!$D$8","v":307.69444444444446},0,145.11333333333334,107.97166666666668,110.19000000000001,0]
["2018-01-28",8,26.05,2878,null,{"$f":"M695","v":134.47},107.99333333333334,107.24166666666667,null,{"$f":"'Combined Cycle Gas'!$D$8","v":318.30459770114948},{"$f":"Nuclear!$D$8","v":307.69444444444446},1.2680260000000001,145.3116666666667,108.26333333333332,109.54166666666667,1268026]
["2018-01-28",9,29,2809,null,{"$f":"M696","v":139.375},108.22333333333336,103.18666666666665,null,{"$f":"'Combined Cycle Gas'!$D$8","v":318.30459770114948},{"$f":"Nuclear!$D$8","v":307.69444444444446},4.6218360000000001,147.32333333333335,108.70333333333333,110.09666666666665,4621836]
["2018-01-28",10,27.12,2597,null,{"$f":"M697","v":136.26333333333335},105.27500000000002,92.566666666666663,null,{"$f":"'Combined Cycle Gas'!$D$8","v":318.30459770114948},{"$f":"Nuclear!$D$8","v":307.69444444444446},6.1640269999999999,151.31999999999996,109.675,109.79833333333333,6164027]
["2018-01-28",11,4.74,2953,null,{"$f":"M698","v":132.97166666666666},95.915000000000006,61.348333333333336,null,{"$f":"'Combined Cycle Gas'!$D$8","v":318.30459770114948},{"$f":"Nuclear!$D$8","v":307.69444444444446},6.8261810000000001,151.31999999999996,109.94666666666666,105.09166666666665,6826181]
["2018-01-28",12,20.3,2953,null,{"$f":"M699","v":121.04500000000002},88.791666666666671,51.544999999999995,null,{"$f":"'Combined Cycle Gas'!$D$8","v":318.30459770114948},{"$f":"Nuclear!$D$8","v":307.69444444444446},7.1136499999999998,144.87333333333333,109.13333333333333,104.49166666666667,7113650]
["2018-01-28",13,24.15,2953,null,{"$f":"M700","v":109.11166666666666},75.61333333333333,42.54,null,{"$f":"'Combined Cycle Gas'!$D$8","v":318.30459770114948},{"$f":"Nuclear!$D$8","v":307.69444444444446},6.4533870000000002,134.83166666666668,108.01666666666667,102.42166666666667,6453387]
["2018-01-28",14,21.71,2953,null,{"$f":"M701","v":108.13499999999999},78.063333333333333,38.918333333333337,null,{"$f":"'Combined Cycle Gas'!$D$8","v":318.30459770114948},{"$f":"Nuclear!$D$8","v":307.69444444444446},5.9664869999999999,134.47,107.99333333333334,107.24166666666667,5966487]
["2018-01-28",15,21.18,2953,null,{"$f":"M702","v":130.97666666666666},98.295000000000002,50.293333333333344,null,{"$f":"'Combined Cycle Gas'!$D$8","v":318.30459770114948},{"$f":"Nuclear!$D$8","v":307.69444444444446},4.3100240000000003,139.375,108.22333333333336,103.18666666666665,4310024]
["2018-01-28",16,21.71,2953,null,{"$f":"M703","v":138.05333333333331},99.62166666666667,59.563333333333333,null,{"$f":"'Combined Cycle Gas'!$D$8","v":318.30459770114948},{"$f":"Nuclear!$D$8","v":307.69444444444446},3.0686469999999999,136.26333333333335,105.27500000000002,92.566666666666663,3068647]
["2018-01-28",17,24.89,2953,null,{"$f":"M704","v":140.595},105.66333333333334,70.031666666666666,null,{"$f":"'Combined Cycle Gas'!$D$8","v":318.30459770114948},{"$f":"Nuclear!$D$8","v":307.69444444444446},0.12230100000000001,132.97166666666666,95.915000000000006,61.348333333333336,122301]
["2018-01-28",18,34.44,2806,null,{"$f":"M705","v":145.60833333333332},111.67833333333334,97.234999999999999,null,{"$f":"'Combined Cycle Gas'!$D$8","v":318.30459770114948},{"$f":"Nuclear!$D$8","v":307.69444444444446},0,121.04500000000002,88.791666666666671,51.544999999999995,0]
["2018-01-28",19,28.56,2825,null,{"$f":"M706","v":142.25166666666667},107.42166666666667,100.88,null,{"$f":"'Combined Cycle Gas'!$D$8","v":318.30459770114948},{"$f":"Nuclear!$D$8","v":307.69444444444446},0,109.11166666666666,75.61333333333333,42.54,0]
["2018-01-28",20,26.15,2963,null,{"$f":"M707","v":140.78666666666666},109.20666666666666,104.79166666666667,null,{"$f":"'Combined Cycle Gas'!$D$8","v":318.30459770114948},{"$f":"Nuclear!$D$8","v":307.69444444444446},0,108.13499999999999,78.063333333333333,38.918333333333337,0]
["2018-01-28",21,25.18,2953,null,{"$f":"M708","v":139.20833333333334},109.32833333333333,105.51666666666665,null,{"$f":"'Combined Cycle Gas'!$D$8","v":318.30459770114948},{"$f":"Nuclear!$D$8","v":307.69444444444446},0,130.97666666666666,98.295000000000002,50.293333333333344,0]
["2018-01-28",22,25.41,2953,null,{"$f":"M709","v":138.92333333333332},109.11333333333334,102.54833333333333,null,{"$f":"'Combined Cycle Gas'!$D$8","v":318.30459770114948},{"$f":"Nuclear!$D$8","v":307.69444444444446},0,138.05333333333331,99.62166666666667,59.563333333333333,0]
["2018-01-28",23,21.67,2953,null,{"$f":"M710","v":146.405},108.96166666666666,107.495,null,{"$f":"'Combined Cycle Gas'!$D$8","v":318.30459770114948},{"$f":"Nuclear!$D$8","v":307.69444444444446},0,140.595,105.66333333333334,70.031666666666666,0]
["2018-01-28",24,24.59,2696,null,{"$f":"M711","v":144.19833333333335},107.96333333333332,108.44500000000001,null,{"$f":"'Combined Cycle Gas'!$D$8","v":318.30459770114948},{"$f":"Nuclear!$D$8","v":307.69444444444446},0,145.60833333333332,111.67833333333334,97.234999999999999,0]
["2018-01-29",1,24.73,2444,null,{"$f":"M712","v":135.55000000000001},110.80333333333333,108.05333333333333,null,{"$f":"'Combined Cycle Gas'!$D$8","v":318.30459770114948},{"$f":"Nuclear!$D$8","v":307.69444444444446},0,142.25166666666667,107.42166666666667,100.88,0]
["2018-01-29",2,24.73,2246,null,{"$f":"M713","v":129.42499999999998},108.245,105.38666666666667,null,{"$f":"'Combined Cycle Gas'!$D$8","v":318.30459770114948},{"$f":"Nuclear!$D$8","v":307.69444444444446},0,140.78666666666666,109.20666666666666,104.79166666666667,0]
["2018-01-29",3,24.99,2334,null,{"$f":"M714","v":131.80000000000001},105.62833333333333,103.46833333333335,null,{"$f":"'Combined Cycle Gas'!$D$8","v":318.30459770114948},{"$f":"Nuclear!$D$8","v":307.69444444444446},0,139.20833333333334,109.32833333333333,105.51666666666665,0]
["2018-01-29",4,24.99,2364,null,{"$f":"M715","v":135.80499999999998},104.80333333333333,106.33500000000002,null,{"$f":"'Combined Cycle Gas'!$D$8","v":318.30459770114948},{"$f":"Nuclear!$D$8","v":307.69444444444446},0,138.92333333333332,109.11333333333334,102.54833333333333,0]
["2018-01-29",5,27.97,2385,null,{"$f":"M716","v":129.4383333333333},103.63666666666666,100.80500000000001,null,{"$f":"'Combined Cycle Gas'!$D$8","v":318.30459770114948},{"$f":"Nuclear!$D$8","v":307.69444444444446},0,146.405,108.96166666666666,107.495,0]
["2018-01-29",6,44.81,2595,null,{"$f":"M717","v":124.13833333333332},102.66333333333334,100.29166666666667,null,{"$f":"'Combined Cycle Gas'!$D$8","v":318.30459770114948},{"$f":"Nuclear!$D$8","v":307.69444444444446},0,144.19833333333335,107.96333333333332,108.44500000000001,0]
["2018-01-29",7,49.63,1801,null,{"$f":"M718","v":122.995},102.09000000000002,99.399999999999991,null,{"$f":"'Combined Cycle Gas'!$D$8","v":318.30459770114948},{"$f":"Nuclear!$D$8","v":307.69444444444446},0,135.55000000000001,110.80333333333333,108.05333333333333,0]
["2018-01-29",8,48.91,1298,null,{"$f":"M719","v":127.01333333333334},101.57166666666666,100.97833333333334,null,{"$f":"'Combined Cycle Gas'!$D$8","v":318.30459770114948},{"$f":"Nuclear!$D$8","v":307.69444444444446},1.130814,129.42499999999998,108.245,105.38666666666667,1130814]
["2018-01-29",9,41.73,1183,null,{"$f":"M720","v":134.50666666666669},100.23833333333333,100.50999999999999,null,{"$f":"'Combined Cycle Gas'!$D$8","v":318.30459770114948},{"$f":"Nuclear!$D$8","v":307.69444444444446},3.5290520000000001,131.80000000000001,105.62833333333333,103.46833333333335,3529052]
["2018-01-29",10,40.630000000000003,859,null,{"$f":"M721","v":130.59166666666667},99.708333333333329,100.35833333333335,null,{"$f":"'Combined Cycle Gas'!$D$8","v":318.30459770114948},{"$f":"Nuclear!$D$8","v":307.69444444444446},4.3171619999999997,135.80499999999998,104.80333333333333,106.33500000000002,4317162]
["2018-01-29",11,48.11,679,null,{"$f":"M722","v":121.935},99.926666666666677,102.23833333333333,null,{"$f":"'Combined Cycle Gas'!$D$8","v":318.30459770114948},{"$f":"Nuclear!$D$8","v":307.69444444444446},5.9997860000000003,129.4383333333333,103.63666666666666,100.80500000000001,5999786]
["2018-01-29",12,39.090000000000003,671,null,{"$f":"M723","v":117.15499999999999},97.803333333333327,102.30166666666668,null,{"$f":"'Combined Cycle Gas'!$D$8","v":318.30459770114948},{"$f":"Nuclear!$D$8","v":307.69444444444446},5.4368759999999998,124.13833333333332,102.66333333333334,100.29166666666667,5436876]
["2018-01-29",13,34.42,216,null,{"$f":"M724","v":104.80500000000001},85.316666666666663,102.29333333333334,null,{"$f":"'Combined Cycle Gas'!$D$8","v":318.30459770114948},{"$f":"Nuclear!$D$8","v":307.69444444444446},4.8451040000000001,122.995,102.09000000000002,99.399999999999991,4845104]
["2018-01-29",14,34.42,105,null,{"$f":"M725","v":95.780000000000015},79.301666666666677,97.52,null,{"$f":"'Combined Cycle Gas'!$D$8","v":318.30459770114948},{"$f":"Nuclear!$D$8","v":307.69444444444446},3.9106779999999999,127.01333333333334,101.57166666666666,100.97833333333334,3910678]
["2018-01-29",15,30.62,0,null,{"$f":"M726","v":91.291666666666671},73.709999999999994,89.513333333333335,null,{"$f":"'Combined Cycle Gas'!$D$8","v":318.30459770114948},{"$f":"Nuclear!$D$8","v":307.69444444444446},3.2703760000000002,134.50666666666669,100.23833333333333,100.50999999999999,3270376]
["2018-01-29",16,30.59,68,null,{"$f":"M727","v":83.703333333333319},75.739999999999995,86.898333333333326,null,{"$f":"'Combined Cycle Gas'!$D$8","v":318.30459770114948},{"$f":"Nuclear!$D$8","v":307.69444444444446},1.8367230000000001,130.59166666666667,99.708333333333329,100.35833333333335,1836723]
["2018-01-29",17,34.86,638,null,{"$f":"M728","v":72.314999999999998},79.680000000000007,76.910000000000011,null,{"$f":"'Combined Cycle Gas'!$D$8","v":318.30459770114948},{"$f":"Nuclear!$D$8","v":307.69444444444446},1.1532020000000001,121.935,99.926666666666677,102.23833333333333,1153202]
["2018-01-29",18,34.61,1111,null,{"$f":"M729","v":75.384999999999991},91.341666666666654,76.516666666666666,null,{"$f":"'Combined Cycle Gas'!$D$8","v":318.30459770114948},{"$f":"Nuclear!$D$8","v":307.69444444444446},0,117.15499999999999,97.803333333333327,102.30166666666668,0]
["2018-01-29",19,29.42,2152,null,{"$f":"M730","v":82.661666666666676},95.523333333333326,74.440000000000012,null,{"$f":"'Combined Cycle Gas'!$D$8","v":318.30459770114948},{"$f":"Nuclear!$D$8","v":307.69444444444446},0,104.80500000000001,85.316666666666663,102.29333333333334,0]
["2018-01-29",20,29.37,2701,null,{"$f":"M731","v":81.178333333333342},90.526666666666657,74.293333333333337,null,{"$f":"'Combined Cycle Gas'!$D$8","v":318.30459770114948},{"$f":"Nuclear!$D$8","v":307.69444444444446},0,95.780000000000015,79.301666666666677,97.52,0]
["2018-01-29",21,28.34,2668,null,{"$f":"M732","v":92.433333333333337},83.74666666666667,73.458333333333329,null,{"$f":"'Combined Cycle Gas'!$D$8","v":318.30459770114948},{"$f":"Nuclear!$D$8","v":307.69444444444446},0,91.291666666666671,73.709999999999994,89.513333333333335,0]
["2018-01-29",22,27.8,2953,null,{"$f":"M733","v":90.501666666666665},90.626666666666665,72.368333333333325,null,{"$f":"'Combined Cycle Gas'!$D$8","v":318.30459770114948},{"$f":"Nuclear!$D$8","v":307.69444444444446},0,83.703333333333319,75.739999999999995,86.898333333333326,0]
["2018-01-29",23,25.43,2953,null,{"$f":"M734","v":68.053333333333327},89.089999999999989,77.204999999999998,null,{"$f":"'Combined Cycle Gas'!$D$8","v":318.30459770114948},{"$f":"Nuclear!$D$8","v":307.69444444444446},0,72.314999999999998,79.680000000000007,76.910000000000011,0]
["2018-01-29",24,21.73,2947,null,{"$f":"M735","v":47.49666666666667},85.656666666666652,88.896666666666661,null,{"$f":"'Combined Cycle Gas'!$D$8","v":318.30459770114948},{"$f":"Nuclear!$D$8","v":307.69444444444446},0,75.384999999999991,91.341666666666654,76.516666666666666,0]
["2018-01-30",1,24.16,2947,null,{"$f":"M736","v":45.663333333333334},73.190000000000012,83.910000000000011,null,{"$f":"'Combined Cycle Gas'!$D$8","v":318.30459770114948},{"$f":"Nuclear!$D$8","v":307.69444444444446},0,82.661666666666676,95.523333333333326,74.440000000000012,0]
["2018-01-30",2,24.8,2948,null,{"$f":"M737","v":31.943333333333332},54.4,54.041666666666664,null,{"$f":"'Combined Cycle Gas'!$D$8","v":318.30459770114948},{"$f":"Nuclear!$D$8","v":307.69444444444446},0,81.178333333333342,90.526666666666657,74.293333333333337,0]
["2018-01-30",3,24.84,2948,null,{"$f":"M738","v":4.9033333333333333},29.180000000000003,24.976666666666663,null,{"$f":"'Combined Cycle Gas'!$D$8","v":318.30459770114948},{"$f":"Nuclear!$D$8","v":307.69444444444446},0,92.433333333333337,83.74666666666667,73.458333333333329,0]
["2018-01-30",4,24.85,2948,null,{"$f":"M739","v":0},7.03,3.8483333333333332,null,{"$f":"'Combined Cycle Gas'!$D$8","v":318.30459770114948},{"$f":"Nuclear!$D$8","v":307.69444444444446},0,90.501666666666665,90.626666666666665,72.368333333333325,0]
["2018-01-30",5,25.05,3104,null,{"$f":"M740","v":0},0,0,null,{"$f":"'Combined Cycle Gas'!$D$8","v":318.30459770114948},{"$f":"Nuclear!$D$8","v":307.69444444444446},0,68.053333333333327,89.089999999999989,77.204999999999998,0]
["2018-01-30",6,31.39,3102,null,{"$f":"M741","v":0.38500000000000001},0,0,null,{"$f":"'Combined Cycle Gas'!$D$8","v":318.30459770114948},{"$f":"Nuclear!$D$8","v":307.69444444444446},0,47.49666666666667,85.656666666666652,88.896666666666661,0]
["2018-01-30",7,42.03,2030,null,{"$f":"M742","v":15.326666666666668},0.44833333333333342,0.45999999999999996,null,{"$f":"'Combined Cycle Gas'!$D$8","v":318.30459770114948},{"$f":"Nuclear!$D$8","v":307.69444444444446},0,45.663333333333334,73.190000000000012,83.910000000000011,0]
["2018-01-30",8,36.619999999999997,1655,null,{"$f":"M743","v":60.056666666666672},1.7666666666666666,0.17666666666666667,null,{"$f":"'Combined Cycle Gas'!$D$8","v":318.30459770114948},{"$f":"Nuclear!$D$8","v":307.69444444444446},2.8675039999999998,31.943333333333332,54.4,54.041666666666664,2867504]
["2018-01-30",9,28.65,1978,null,{"$f":"M744","v":115.93166666666666},43.214999999999996,0.53666666666666674,null,{"$f":"'Combined Cycle Gas'!$D$8","v":318.30459770114948},{"$f":"Nuclear!$D$8","v":307.69444444444446},5.701613,4.9033333333333333,29.180000000000003,24.976666666666663,5701613]
["2018-01-30",10,29.08,2095,null,{"$f":"M745","v":99.97499999999998},85.618333333333339,9.9283333333333346,null,{"$f":"'Combined Cycle Gas'!$D$8","v":318.30459770114948},{"$f":"Nuclear!$D$8","v":307.69444444444446},{"$f":"P739/10^6","v":6.7511739999999998},0,7.03,3.8483333333333332,6751174]
["2018-01-30",11,27.5,2585,null,{"$f":"M746","v":78.978333333333339},74.021666666666661,25.733333333333331,null,{"$f":"'Combined Cycle Gas'!$D$8","v":318.30459770114948},{"$f":"Nuclear!$D$8","v":307.69444444444446},7.0145439999999999,0,0,0,7014544]
["2018-01-30",12,27.54,2891,null,{"$f":"M747","v":58.134999999999991},61.508333333333333,52.93833333333334,null,{"$f":"'Combined Cycle Gas'!$D$8","v":318.30459770114948},{"$f":"Nuclear!$D$8","v":307.69444444444446},7.051666,0.38500000000000001,0,0,7051666]
["2018-01-30",13,27.49,2921,null,{"$f":"M748","v":58.083333333333336},34.273333333333333,19.085000000000001,null,{"$f":"'Combined Cycle Gas'!$D$8","v":318.30459770114948},{"$f":"Nuclear!$D$8","v":307.69444444444446},7.0660740000000004,15.326666666666668,0.44833333333333342,0.45999999999999996,7066074]
["2018-01-30",14,24.93,2944,null,{"$f":"M749","v":37.135000000000005},12.603333333333333,23.324999999999999,null,{"$f":"'Combined Cycle Gas'!$D$8","v":318.30459770114948},{"$f":"Nuclear!$D$8","v":307.69444444444446},6.7006600000000001,60.056666666666672,1.7666666666666666,0.17666666666666667,6700660]
["2018-01-30",15,24.24,2953,null,{"$f":"M750","v":25.443333333333332},15.375000000000002,2.6149999999999998,null,{"$f":"'Combined Cycle Gas'!$D$8","v":318.30459770114948},{"$f":"Nuclear!$D$8","v":307.69444444444446},6.2854239999999999,115.93166666666666,43.214999999999996,0.53666666666666674,6285424]
["2018-01-30",16,24.06,2929,null,{"$f":"M751","v":24.771666666666665},2.4816666666666669,1.0333333333333334,null,{"$f":"'Combined Cycle Gas'!$D$8","v":318.30459770114948},{"$f":"Nuclear!$D$8","v":307.69444444444446},5.3619659999999998,99.97499999999998,85.618333333333339,9.9283333333333346,5361966]
["2018-01-30",17,28.49,2753,null,{"$f":"M752","v":30.088333333333335},4.5316666666666663,6.8083333333333336,null,{"$f":"'Combined Cycle Gas'!$D$8","v":318.30459770114948},{"$f":"Nuclear!$D$8","v":307.69444444444446},4.2379119999999997,78.978333333333339,74.021666666666661,25.733333333333331,4237912]
["2018-01-30",18,27.37,2217,null,{"$f":"M753","v":106.89},31.310000000000002,4.7383333333333333,null,{"$f":"'Combined Cycle Gas'!$D$8","v":318.30459770114948},{"$f":"Nuclear!$D$8","v":307.69444444444446},7.6062000000000005E-2,58.134999999999991,61.508333333333333,52.93833333333334,76062]
["2018-01-30",19,27.91,2129,null,{"$f":"M754","v":112.64666666666665},29.551666666666666,7.3150000000000004,null,{"$f":"'Combined Cycle Gas'!$D$8","v":318.30459770114948},{"$f":"Nuclear!$D$8","v":307.69444444444446},0,58.083333333333336,34.273333333333333,19.085000000000001,0]
["2018-01-30",20,33.76,2223,null,{"$f":"M755","v":108.13},22.941666666666666,38.218333333333334,null,{"$f":"'Combined Cycle Gas'!$D$8","v":318.30459770114948},{"$f":"Nuclear!$D$8","v":307.69444444444446},0,37.135000000000005,12.603333333333333,23.324999999999999,0]
["2018-01-30",21,29.15,2074,null,{"$f":"M756","v":107.95166666666667},58.978333333333346,72.211666666666673,null,{"$f":"'Combined Cycle Gas'!$D$8","v":318.30459770114948},{"$f":"Nuclear!$D$8","v":307.69444444444446},0,25.443333333333332,15.375000000000002,2.6149999999999998,0]
["2018-01-30",22,32.35,1636,null,{"$f":"M757","v":108.97166666666668},55.879999999999995,85.274999999999991,null,{"$f":"'Combined Cycle Gas'!$D$8","v":318.30459770114948},{"$f":"Nuclear!$D$8","v":307.69444444444446},0,24.771666666666665,2.4816666666666669,1.0333333333333334,0]
["2018-01-30",23,35.24,1331,null,{"$f":"M758","v":79.054999999999993},52.213333333333331,85.42,null,{"$f":"'Combined Cycle Gas'!$D$8","v":318.30459770114948},{"$f":"Nuclear!$D$8","v":307.69444444444446},0,30.088333333333335,4.5316666666666663,6.8083333333333336,0]
["2018-01-30",24,34.1,803,null,{"$f":"M759","v":28.614999999999998},33.188333333333333,77.883333333333326,null,{"$f":"'Combined Cycle Gas'!$D$8","v":318.30459770114948},{"$f":"Nuclear!$D$8","v":307.69444444444446},0,106.89,31.310000000000002,4.7383333333333333,0]
["2018-01-31",1,31.33,367,null,{"$f":"M760","v":16.068333333333332},15.468333333333334,80.151666666666657,null,{"$f":"'Combined Cycle Gas'!$D$8","v":318.30459770114948},{"$f":"Nuclear!$D$8","v":307.69444444444446},0,112.64666666666665,29.551666666666666,7.3150000000000004,0]
["2018-01-31",2,31.16,150,null,{"$f":"M761","v":60.568333333333335},12.413333333333334,86.991666666666674,null,{"$f":"'Combined Cycle Gas'!$D$8","v":318.30459770114948},{"$f":"Nuclear!$D$8","v":307.69444444444446},0,108.13,22.941666666666666,38.218333333333334,0]
["2018-01-31",3,31.1,194,null,{"$f":"M762","v":95.204999999999998},32.388333333333328,65.01166666666667,null,{"$f":"'Combined Cycle Gas'!$D$8","v":318.30459770114948},{"$f":"Nuclear!$D$8","v":307.69444444444446},0,107.95166666666667,58.978333333333346,72.211666666666673,0]
["2018-01-31",4,27.55,401,null,{"$f":"M763","v":63.745000000000005},34.998333333333328,33.096666666666671,null,{"$f":"'Combined Cycle Gas'!$D$8","v":318.30459770114948},{"$f":"Nuclear!$D$8","v":307.69444444444446},0,108.97166666666668,55.879999999999995,85.274999999999991,0]
["2018-01-31",5,31.36,545,null,{"$f":"M764","v":22.665000000000003},11.478333333333333,25.49666666666667,null,{"$f":"'Combined Cycle Gas'!$D$8","v":318.30459770114948},{"$f":"Nuclear!$D$8","v":307.69444444444446},0,79.054999999999993,52.213333333333331,85.42,0]
["2018-01-31",6,33.81,379,null,{"$f":"M765","v":2.1150000000000002},0,15.418333333333331,null,{"$f":"'Combined Cycle Gas'!$D$8","v":318.30459770114948},{"$f":"Nuclear!$D$8","v":307.69444444444446},0,28.614999999999998,33.188333333333333,77.883333333333326,0]
["2018-01-31",7,42.72,369,null,{"$f":"M766","v":0},0,0.36333333333333334,null,{"$f":"'Combined Cycle Gas'!$D$8","v":318.30459770114948},{"$f":"Nuclear!$D$8","v":307.69444444444446},0,16.068333333333332,15.468333333333334,80.151666666666657,0]
["2018-01-31",8,41.14,461,null,{"$f":"M767","v":1.1516666666666666},0,0.46833333333333327,null,{"$f":"'Combined Cycle Gas'!$D$8","v":318.30459770114948},{"$f":"Nuclear!$D$8","v":307.69444444444446},2.9599999999999998E-4,60.568333333333335,12.413333333333334,86.991666666666674,296]
["2018-01-31",9,27.45,922,null,{"$f":"M768","v":0.3666666666666667},0,0.58166666666666667,null,{"$f":"'Combined Cycle Gas'!$D$8","v":318.30459770114948},{"$f":"Nuclear!$D$8","v":307.69444444444446},0.53383100000000006,95.204999999999998,32.388333333333328,65.01166666666667,533831]
["2018-01-31",10,29.19,724,null,{"$f":"M769","v":0.28666666666666668},0,2.6266666666666669,null,{"$f":"'Combined Cycle Gas'!$D$8","v":318.30459770114948},{"$f":"Nuclear!$D$8","v":307.69444444444446},1.127102,63.745000000000005,34.998333333333328,33.096666666666671,1127102]
["2018-01-31",11,34.44,294,null,{"$f":"M770","v":1.0483333333333333},0,6.5966666666666667,null,{"$f":"'Combined Cycle Gas'!$D$8","v":318.30459770114948},{"$f":"Nuclear!$D$8","v":307.69444444444446},1.9787269999999999,22.665000000000003,11.478333333333333,25.49666666666667,1978727]
["2018-01-31",12,34.5,0,null,{"$f":"M771","v":0.90666666666666673},0.46333333333333337,11.209999999999999,null,{"$f":"'Combined Cycle Gas'!$D$8","v":318.30459770114948},{"$f":"Nuclear!$D$8","v":307.69444444444446},1.583188,2.1150000000000002,0,15.418333333333331,1583188]
["2018-01-31",13,30.3,635,null,{"$f":"M772","v":3.9733333333333327},1.2816666666666665,22.715000000000003,null,{"$f":"'Combined Cycle Gas'!$D$8","v":318.30459770114948},{"$f":"Nuclear!$D$8","v":307.69444444444446},4.0900179999999997,0,0,0.36333333333333334,4090018]
["2018-01-31",14,29.25,901,null,{"$f":"M773","v":2.7950000000000004},0.90833333333333321,19.481666666666666,null,{"$f":"'Combined Cycle Gas'!$D$8","v":318.30459770114948},{"$f":"Nuclear!$D$8","v":307.69444444444446},4.1921780000000002,1.1516666666666666,0,0.46833333333333327,4192178]
["2018-01-31",15,30.11,825,null,{"$f":"M774","v":5.0166666666666666},0.71833333333333338,14.701666666666666,null,{"$f":"'Combined Cycle Gas'!$D$8","v":318.30459770114948},{"$f":"Nuclear!$D$8","v":307.69444444444446},4.2426240000000002,0.3666666666666667,0,0.58166666666666667,4242624]
["2018-01-31",16,34,603,null,{"$f":"M775","v":6.16},1.7283333333333333,10.806666666666667,null,{"$f":"'Combined Cycle Gas'!$D$8","v":318.30459770114948},{"$f":"Nuclear!$D$8","v":307.69444444444446},3.717266,0.28666666666666668,0,2.6266666666666669,3717266]
["2018-01-31",17,34.51,405,null,{"$f":"M776","v":3.9533333333333336},1.8266666666666664,7.621666666666667,null,{"$f":"'Combined Cycle Gas'!$D$8","v":318.30459770114948},{"$f":"Nuclear!$D$8","v":307.69444444444446},0.37417600000000001,1.0483333333333333,0,6.5966666666666667,374176]
["2018-01-31",18,32.5,108,null,{"$f":"M777","v":8.8616666666666664},0.3116666666666667,6.0783333333333331,null,{"$f":"'Combined Cycle Gas'!$D$8","v":318.30459770114948},{"$f":"Nuclear!$D$8","v":307.69444444444446},0,0.90666666666666673,0.46333333333333337,11.209999999999999,0]
["2018-01-31",19,34.17,245,null,{"$f":"M778","v":7.2649999999999979},0.34666666666666668,3.3266666666666667,null,{"$f":"'Combined Cycle Gas'!$D$8","v":318.30459770114948},{"$f":"Nuclear!$D$8","v":307.69444444444446},0,3.9733333333333327,1.2816666666666665,22.715000000000003,0]
["2018-01-31",20,29.19,455,null,{"$f":"M779","v":4.6499999999999995},0.7683333333333332,4.1116666666666672,null,{"$f":"'Combined Cycle Gas'!$D$8","v":318.30459770114948},{"$f":"Nuclear!$D$8","v":307.69444444444446},0,2.7950000000000004,0.90833333333333321,19.481666666666666,0]
["2018-01-31",21,28.77,188,null,{"$f":"M780","v":3.6149999999999998},1.27,6.75,null,{"$f":"'Combined Cycle Gas'!$D$8","v":318.30459770114948},{"$f":"Nuclear!$D$8","v":307.69444444444446},0,5.0166666666666666,0.71833333333333338,14.701666666666666,0]
["2018-01-31",22,35.200000000000003,176,null,{"$f":"M781","v":1.5733333333333333},1.5333333333333332,13.026666666666666,null,{"$f":"'Combined Cycle Gas'!$D$8","v":318.30459770114948},{"$f":"Nuclear!$D$8","v":307.69444444444446},0,6.16,1.7283333333333333,10.806666666666667,0]
["2018-01-31",23,33.75,30,null,{"$f":"M782","v":0.69666666666666666},1.7033333333333331,17.57,null,{"$f":"'Combined Cycle Gas'!$D$8","v":318.30459770114948},{"$f":"Nuclear!$D$8","v":307.69444444444446},0,3.9533333333333336,1.8266666666666664,7.621666666666667,0]
["2018-01-31",24,27.91,708,null,{"$f":"M783","v":5.2533333333333339},6.9466666666666663,13.62,null,{"$f":"'Combined Cycle Gas'!$D$8","v":318.30459770114948},{"$f":"Nuclear!$D$8","v":307.69444444444446},0,8.8616666666666664,0.3116666666666667,6.0783333333333331,0]
["2018-02-01",1,27.62,1358,null,{"$f":"M784","v":9.9699999999999989},17.915000000000003,9.1066666666666674,null,{"$f":"'Combined Cycle Gas'!$D$8","v":318.30459770114948},{"$f":"Nuclear!$D$8","v":307.69444444444446},0,7.2649999999999979,0.34666666666666668,3.3266666666666667,0]
["2018-02-01",2,32.61,1128,null,{"$f":"M785","v":20.348333333333333},30.275000000000002,13.86,null,{"$f":"'Combined Cycle Gas'!$D$8","v":318.30459770114948},{"$f":"Nuclear!$D$8","v":307.69444444444446},0,4.6499999999999995,0.7683333333333332,4.1116666666666672,0]
["2018-02-01",3,32.090000000000003,1432,null,{"$f":"M786","v":46.323333333333331},51.384999999999998,38.466666666666661,null,{"$f":"'Combined Cycle Gas'!$D$8","v":318.30459770114948},{"$f":"Nuclear!$D$8","v":307.69444444444446},0,3.6149999999999998,1.27,6.75,0]
["2018-02-01",4,28.74,1706,null,{"$f":"M787","v":68.884999999999991},73.458333333333329,59.331666666666671,null,{"$f":"'Combined Cycle Gas'!$D$8","v":318.30459770114948},{"$f":"Nuclear!$D$8","v":307.69444444444446},0,1.5733333333333333,1.5333333333333332,13.026666666666666,0]
["2018-02-01",5,29.85,1792,null,{"$f":"M788","v":86.306666666666672},90.22166666666665,63.131666666666668,null,{"$f":"'Combined Cycle Gas'!$D$8","v":318.30459770114948},{"$f":"Nuclear!$D$8","v":307.69444444444446},0,0.69666666666666666,1.7033333333333331,17.57,0]
["2018-02-01",6,40.770000000000003,1456,null,{"$f":"M789","v":108.16333333333334},105.58,86.96,null,{"$f":"'Combined Cycle Gas'!$D$8","v":318.30459770114948},{"$f":"Nuclear!$D$8","v":307.69444444444446},0,5.2533333333333339,6.9466666666666663,13.62,0]
["2018-02-01",7,41.38,810,null,{"$f":"M790","v":98.646666666666661},88.901666666666657,83.466666666666654,null,{"$f":"'Combined Cycle Gas'!$D$8","v":318.30459770114948},{"$f":"Nuclear!$D$8","v":307.69444444444446},0,9.9699999999999989,17.915000000000003,9.1066666666666674,0]
["2018-02-01",8,45.2,374,null,{"$f":"M791","v":92.618333333333339},82.391666666666666,76.278333333333336,null,{"$f":"'Combined Cycle Gas'!$D$8","v":318.30459770114948},{"$f":"Nuclear!$D$8","v":307.69444444444446},1.2947E-2,20.348333333333333,30.275000000000002,13.86,12947]
["2018-02-01",9,41.41,154,null,{"$f":"M792","v":107.64166666666667},102.55833333333334,82.916666666666657,null,{"$f":"'Combined Cycle Gas'!$D$8","v":318.30459770114948},{"$f":"Nuclear!$D$8","v":307.69444444444446},0.38096999999999998,46.323333333333331,51.384999999999998,38.466666666666661,380970]
["2018-02-01",10,40.700000000000003,45,null,{"$f":"M793","v":94.74499999999999},97.336666666666659,73.678333333333327,null,{"$f":"'Combined Cycle Gas'!$D$8","v":318.30459770114948},{"$f":"Nuclear!$D$8","v":307.69444444444446},1.6442429999999999,68.884999999999991,73.458333333333329,59.331666666666671,1644243]
["2018-02-01",11,41.47,0,null,{"$f":"M794","v":88.37},78.153333333333336,61.615000000000002,null,{"$f":"'Combined Cycle Gas'!$D$8","v":318.30459770114948},{"$f":"Nuclear!$D$8","v":307.69444444444446},2.4129839999999998,86.306666666666672,90.22166666666665,63.131666666666668,2412984]
["2018-02-01",12,40.72,0,null,{"$f":"M795","v":74.826666666666668},75.978333333333339,70.671666666666667,null,{"$f":"'Combined Cycle Gas'!$D$8","v":318.30459770114948},{"$f":"Nuclear!$D$8","v":307.69444444444446},1.8714329999999999,108.16333333333334,105.58,86.96,1871433]
["2018-02-01",13,41.54,0,null,{"$f":"M796","v":66.108333333333334},78.75333333333333,67.068333333333342,null,{"$f":"'Combined Cycle Gas'!$D$8","v":318.30459770114948},{"$f":"Nuclear!$D$8","v":307.69444444444446},2.0133220000000001,98.646666666666661,88.901666666666657,83.466666666666654,2013322]
["2018-02-01",14,40.29,140,null,{"$f":"M797","v":60.726666666666659},75.916666666666671,63.395000000000003,null,{"$f":"'Combined Cycle Gas'!$D$8","v":318.30459770114948},{"$f":"Nuclear!$D$8","v":307.69444444444446},1.9450780000000001,92.618333333333339,82.391666666666666,76.278333333333336,1945078]
["2018-02-01",15,40.72,308,null,{"$f":"M798","v":64.27},73.594999999999999,67.186666666666667,null,{"$f":"'Combined Cycle Gas'!$D$8","v":318.30459770114948},{"$f":"Nuclear!$D$8","v":307.69444444444446},0.71439299999999994,107.64166666666667,102.55833333333334,82.916666666666657,714393]
["2018-02-01",16,40.72,243,null,{"$f":"M799","v":78.498333333333335},85.943333333333328,76.575000000000003,null,{"$f":"'Combined Cycle Gas'!$D$8","v":318.30459770114948},{"$f":"Nuclear!$D$8","v":307.69444444444446},1.515782,94.74499999999999,97.336666666666659,73.678333333333327,1515782]
["2018-02-01",17,42.28,178,null,{"$f":"M800","v":97.045000000000002},97.926666666666662,90.941666666666677,null,{"$f":"'Combined Cycle Gas'!$D$8","v":318.30459770114948},{"$f":"Nuclear!$D$8","v":307.69444444444446},0.41508400000000001,88.37,78.153333333333336,61.615000000000002,415084]
["2018-02-01",18,40.799999999999997,0,null,{"$f":"M801","v":120.045},110.35333333333334,106.55166666666666,null,{"$f":"'Combined Cycle Gas'!$D$8","v":318.30459770114948},{"$f":"Nuclear!$D$8","v":307.69444444444446},0,74.826666666666668,75.978333333333339,70.671666666666667,0]
["2018-02-01",19,41.08,44,null,{"$f":"M802","v":137.49833333333333},111.53833333333331,110.19000000000001,null,{"$f":"'Combined Cycle Gas'!$D$8","v":318.30459770114948},{"$f":"Nuclear!$D$8","v":307.69444444444446},0,66.108333333333334,78.75333333333333,67.068333333333342,0]
["2018-02-01",20,40.72,798,null,{"$f":"M803","v":151.31999999999996},112.52,110.06166666666668,null,{"$f":"'Combined Cycle Gas'!$D$8","v":318.30459770114948},{"$f":"Nuclear!$D$8","v":307.69444444444446},0,60.726666666666659,75.916666666666671,63.395000000000003,0]
["2018-02-01",21,38.630000000000003,1513,null,{"$f":"M804","v":151.13666666666666},112.52,110.11500000000001,null,{"$f":"'Combined Cycle Gas'!$D$8","v":318.30459770114948},{"$f":"Nuclear!$D$8","v":307.69444444444446},0,64.27,73.594999999999999,67.186666666666667,0]
["2018-02-01",22,36.659999999999997,2391,null,{"$f":"M805","v":150.79166666666669},112.52,110.19000000000001,null,{"$f":"'Combined Cycle Gas'!$D$8","v":318.30459770114948},{"$f":"Nuclear!$D$8","v":307.69444444444446},0,78.498333333333335,85.943333333333328,76.575000000000003,0]
["2018-02-01",23,32.659999999999997,2425,null,{"$f":"M806","v":149.99166666666665},112.52,110.19000000000001,null,{"$f":"'Combined Cycle Gas'!$D$8","v":318.30459770114948},{"$f":"Nuclear!$D$8","v":307.69444444444446},0,97.045000000000002,97.926666666666662,90.941666666666677,0]
["2018-02-01",24,27.18,3155,null,{"$f":"M807","v":149.66333333333333},111.50500000000001,110.19000000000001,null,{"$f":"'Combined Cycle Gas'!$D$8","v":318.30459770114948},{"$f":"Nuclear!$D$8","v":307.69444444444446},0,120.045,110.35333333333334,106.55166666666666,0]
["2018-02-02",1,28.72,3306,null,{"$f":"M808","v":151.15499999999997},110.23500000000001,110.19000000000001,null,{"$f":"'Combined Cycle Gas'!$D$8","v":318.30459770114948},{"$f":"Nuclear!$D$8","v":307.69444444444446},0,137.49833333333333,111.53833333333331,110.19000000000001,0]
["2018-02-02",2,28.41,3174,null,{"$f":"M809","v":151.20333333333329},108.80500000000001,110.19000000000001,null,{"$f":"'Combined Cycle Gas'!$D$8","v":318.30459770114948},{"$f":"Nuclear!$D$8","v":307.69444444444446},{"$f":"P803/10^6","v":0},151.31999999999996,112.52,110.06166666666668,0]
["2018-02-02",3,28.41,3195,null,{"$f":"M810","v":151.31666666666663},111.05999999999999,110.19000000000001,null,{"$f":"'Combined Cycle Gas'!$D$8","v":318.30459770114948},{"$f":"Nuclear!$D$8","v":307.69444444444446},0,151.13666666666666,112.52,110.11500000000001,0]
["2018-02-02",4,24.93,3105,null,{"$f":"M811","v":151.05666666666667},111.26999999999998,106.94166666666666,null,{"$f":"'Combined Cycle Gas'!$D$8","v":318.30459770114948},{"$f":"Nuclear!$D$8","v":307.69444444444446},0,150.79166666666669,112.52,110.19000000000001,0]
["2018-02-02",5,26.39,3315,null,{"$f":"M812","v":150.51333333333335},105.89333333333333,106.49333333333334,null,{"$f":"'Combined Cycle Gas'!$D$8","v":318.30459770114948},{"$f":"Nuclear!$D$8","v":307.69444444444446},0,149.99166666666665,112.52,110.19000000000001,0]
["2018-02-02",6,28.24,2967,null,{"$f":"M813","v":151.10999999999999},108.92833333333333,102.97833333333334,null,{"$f":"'Combined Cycle Gas'!$D$8","v":318.30459770114948},{"$f":"Nuclear!$D$8","v":307.69444444444446},0,149.66333333333333,111.50500000000001,110.19000000000001,0]
["2018-02-02",7,41.27,2747,null,{"$f":"M814","v":151.22666666666666},110.64666666666665,104.13500000000001,null,{"$f":"'Combined Cycle Gas'!$D$8","v":318.30459770114948},{"$f":"Nuclear!$D$8","v":307.69444444444446},0,151.15499999999997,110.23500000000001,110.19000000000001,0]
["2018-02-02",8,33.43,2405,null,{"$f":"M815","v":150.50333333333333},112.52,105.36666666666667,null,{"$f":"'Combined Cycle Gas'!$D$8","v":318.30459770114948},{"$f":"Nuclear!$D$8","v":307.69444444444446},6.4114000000000004E-2,151.20333333333329,108.80500000000001,110.19000000000001,64114]
["2018-02-02",9,28.67,2538,null,{"$f":"M816","v":147.49833333333336},109.11666666666667,94.686666666666667,null,{"$f":"'Combined Cycle Gas'!$D$8","v":318.30459770114948},{"$f":"Nuclear!$D$8","v":307.69444444444446},1.2728759999999999,151.31666666666663,111.05999999999999,110.19000000000001,1272876]
["2018-02-02",10,29.34,2168,null,{"$f":"M817","v":150.87833333333333},108.49166666666667,83.898333333333326,null,{"$f":"'Combined Cycle Gas'!$D$8","v":318.30459770114948},{"$f":"Nuclear!$D$8","v":307.69444444444446},1.6290469999999999,151.05666666666667,111.26999999999998,106.94166666666666,1629047]
["2018-02-02",11,28.81,1871,null,{"$f":"M818","v":150.36833333333331},108.86166666666666,77.790000000000006,null,{"$f":"'Combined Cycle Gas'!$D$8","v":318.30459770114948},{"$f":"Nuclear!$D$8","v":307.69444444444446},2.1324459999999998,150.51333333333335,105.89333333333333,106.49333333333334,2132446]
["2018-02-02",12,30.51,1365,null,{"$f":"M819","v":71.301666666666677},104.61666666666667,71.355000000000004,null,{"$f":"'Combined Cycle Gas'!$D$8","v":318.30459770114948},{"$f":"Nuclear!$D$8","v":307.69444444444446},1.43052,151.10999999999999,108.92833333333333,102.97833333333334,1430520]
["2018-02-02",13,30.49,983,null,{"$f":"M820","v":130.035},93.713333333333324,39.256666666666668,null,{"$f":"'Combined Cycle Gas'!$D$8","v":318.30459770114948},{"$f":"Nuclear!$D$8","v":307.69444444444446},2.474189,151.22666666666666,110.64666666666665,104.13500000000001,2474189]
["2018-02-02",14,29.33,1192,null,{"$f":"M821","v":146.66499999999999},107.59166666666668,14.668333333333331,null,{"$f":"'Combined Cycle Gas'!$D$8","v":318.30459770114948},{"$f":"Nuclear!$D$8","v":307.69444444444446},2.5060180000000001,150.50333333333333,112.52,105.36666666666667,2506018]
["2018-02-02",15,30.39,925,null,{"$f":"M822","v":144.76333333333332},107.77833333333332,67.171666666666667,null,{"$f":"'Combined Cycle Gas'!$D$8","v":318.30459770114948},{"$f":"Nuclear!$D$8","v":307.69444444444446},1.0698380000000001,147.49833333333336,109.11666666666667,94.686666666666667,1069838]
["2018-02-02",16,33.86,708,null,{"$f":"M823","v":143.39000000000001},107.63,90.748333333333349,null,{"$f":"'Combined Cycle Gas'!$D$8","v":318.30459770114948},{"$f":"Nuclear!$D$8","v":307.69444444444446},1.368438,150.87833333333333,108.49166666666667,83.898333333333326,1368438]
["2018-02-02",17,36.1,398,null,{"$f":"M824","v":145.55000000000001},105.90166666666669,105.50166666666667,null,{"$f":"'Combined Cycle Gas'!$D$8","v":318.30459770114948},{"$f":"Nuclear!$D$8","v":307.69444444444446},0.48062500000000002,150.36833333333331,108.86166666666666,77.790000000000006,480625]
["2018-02-02",18,33.97,0,null,{"$f":"M825","v":147.43833333333336},105.03166666666665,106.57499999999999,null,{"$f":"'Combined Cycle Gas'!$D$8","v":318.30459770114948},{"$f":"Nuclear!$D$8","v":307.69444444444446},0,71.301666666666677,104.61666666666667,71.355000000000004,0]
["2018-02-02",19,42.51,0,null,{"$f":"M826","v":145.89333333333332},109.05166666666666,105.76833333333333,null,{"$f":"'Combined Cycle Gas'!$D$8","v":318.30459770114948},{"$f":"Nuclear!$D$8","v":307.69444444444446},0,130.035,93.713333333333324,39.256666666666668,0]
["2018-02-02",20,35.42,1179,null,{"$f":"M827","v":146.05166666666665},107.81333333333333,107.83333333333333,null,{"$f":"'Combined Cycle Gas'!$D$8","v":318.30459770114948},{"$f":"Nuclear!$D$8","v":307.69444444444446},0,146.66499999999999,107.59166666666668,14.668333333333331,0]
["2018-02-02",21,29.66,1192,null,{"$f":"M828","v":143.44666666666669},105.96333333333335,106.15666666666665,null,{"$f":"'Combined Cycle Gas'!$D$8","v":318.30459770114948},{"$f":"Nuclear!$D$8","v":307.69444444444446},0,144.76333333333332,107.77833333333332,67.171666666666667,0]
["2018-02-02",22,30.94,1392,null,{"$f":"M829","v":136.69833333333332},106.07166666666667,106.36500000000001,null,{"$f":"'Combined Cycle Gas'!$D$8","v":318.30459770114948},{"$f":"Nuclear!$D$8","v":307.69444444444446},0,143.39000000000001,107.63,90.748333333333349,0]
["2018-02-02",23,24.56,1776,null,{"$f":"M830","v":131.41833333333335},94.149999999999991,102.94833333333332,null,{"$f":"'Combined Cycle Gas'!$D$8","v":318.30459770114948},{"$f":"Nuclear!$D$8","v":307.69444444444446},0,145.55000000000001,105.90166666666669,105.50166666666667,0]
["2018-02-02",24,2.5,2317,null,{"$f":"M831","v":108.13},68.516666666666666,104.22166666666668,null,{"$f":"'Combined Cycle Gas'!$D$8","v":318.30459770114948},{"$f":"Nuclear!$D$8","v":307.69444444444446},0,147.43833333333336,105.03166666666665,106.57499999999999,0]
["2018-02-03",1,25.31,2912,null,{"$f":"M832","v":63.808333333333316},54.949999999999996,98.646666666666661,null,{"$f":"'Combined Cycle Gas'!$D$8","v":318.30459770114948},{"$f":"Nuclear!$D$8","v":307.69444444444446},0,145.89333333333332,109.05166666666666,105.76833333333333,0]
["2018-02-03",2,25.89,2590,null,{"$f":"M833","v":49.586666666666666},37.223333333333336,72.73833333333333,null,{"$f":"'Combined Cycle Gas'!$D$8","v":318.30459770114948},{"$f":"Nuclear!$D$8","v":307.69444444444446},0,146.05166666666665,107.81333333333333,107.83333333333333,0]
["2018-02-03",3,27.06,2193,null,{"$f":"M834","v":50.768333333333338},44.889999999999993,46.466666666666669,null,{"$f":"'Combined Cycle Gas'!$D$8","v":318.30459770114948},{"$f":"Nuclear!$D$8","v":307.69444444444446},0,143.44666666666669,105.96333333333335,106.15666666666665,0]
["2018-02-03",4,29.3,1585,null,{"$f":"M835","v":39.471666666666671},53.426666666666677,29.98,null,{"$f":"'Combined Cycle Gas'!$D$8","v":318.30459770114948},{"$f":"Nuclear!$D$8","v":307.69444444444446},0,136.69833333333332,106.07166666666667,106.36500000000001,0]
["2018-02-03",5,29.95,1135,null,{"$f":"M836","v":29.825000000000003},52.978333333333332,16.713333333333335,null,{"$f":"'Combined Cycle Gas'!$D$8","v":318.30459770114948},{"$f":"Nuclear!$D$8","v":307.69444444444446},0,131.41833333333335,94.149999999999991,102.94833333333332,0]
["2018-02-03",6,34.86,953,null,{"$f":"M837","v":26.473333333333333},54.608333333333327,16.349999999999998,null,{"$f":"'Combined Cycle Gas'!$D$8","v":318.30459770114948},{"$f":"Nuclear!$D$8","v":307.69444444444446},0,108.13,68.516666666666666,104.22166666666668,0]
["2018-02-03",7,29.1,865,null,{"$f":"M838","v":18.040000000000003},45.186666666666667,14.858333333333334,null,{"$f":"'Combined Cycle Gas'!$D$8","v":318.30459770114948},{"$f":"Nuclear!$D$8","v":307.69444444444446},0,63.808333333333316,54.949999999999996,98.646666666666661,0]
["2018-02-03",8,37.31,509,null,{"$f":"M839","v":13.558333333333332},33.783333333333339,29.021666666666665,null,{"$f":"'Combined Cycle Gas'!$D$8","v":318.30459770114948},{"$f":"Nuclear!$D$8","v":307.69444444444446},2.0381860000000001,49.586666666666666,37.223333333333336,72.73833333333333,2038186]
["2018-02-03",9,38.33,165,null,{"$f":"M840","v":5.6233333333333322},11.69166666666667,20.854999999999997,null,{"$f":"'Combined Cycle Gas'!$D$8","v":318.30459770114948},{"$f":"Nuclear!$D$8","v":307.69444444444446},5.7410649999999999,50.768333333333338,44.889999999999993,46.466666666666669,5741065]
["2018-02-03",10,40.880000000000003,103,null,{"$f":"M841","v":2.8616666666666668},2.6949999999999998,10.273333333333333,null,{"$f":"'Combined Cycle Gas'!$D$8","v":318.30459770114948},{"$f":"Nuclear!$D$8","v":307.69444444444446},7.300516,39.471666666666671,53.426666666666677,29.98,7300516]
["2018-02-03",11,40.72,17,null,{"$f":"M842","v":3.1549999999999998},4.0183333333333335,15.809999999999997,null,{"$f":"'Combined Cycle Gas'!$D$8","v":318.30459770114948},{"$f":"Nuclear!$D$8","v":307.69444444444446},8.0493919999999992,29.825000000000003,52.978333333333332,16.713333333333335,8049392]
["2018-02-03",12,32.299999999999997,67,null,{"$f":"M843","v":3.6199999999999997},4.915,19.691666666666666,null,{"$f":"'Combined Cycle Gas'!$D$8","v":318.30459770114948},{"$f":"Nuclear!$D$8","v":307.69444444444446},8.2462210000000002,26.473333333333333,54.608333333333327,16.349999999999998,8246221]
["2018-02-03",13,27.9,166,null,{"$f":"M844","v":6.8299999999999992},2.8249999999999997,9.7650000000000006,null,{"$f":"'Combined Cycle Gas'!$D$8","v":318.30459770114948},{"$f":"Nuclear!$D$8","v":307.69444444444446},8.2293640000000003,18.040000000000003,45.186666666666667,14.858333333333334,8229364]
["2018-02-03",14,26.54,306,null,{"$f":"M845","v":7.9683333333333346},2.1933333333333334,8.8699999999999992,null,{"$f":"'Combined Cycle Gas'!$D$8","v":318.30459770114948},{"$f":"Nuclear!$D$8","v":307.69444444444446},8.0048779999999997,13.558333333333332,33.783333333333339,29.021666666666665,8004878]
["2018-02-03",15,26.39,469,null,{"$f":"M846","v":9.5616666666666656},1.9533333333333334,5.503333333333333,null,{"$f":"'Combined Cycle Gas'!$D$8","v":318.30459770114948},{"$f":"Nuclear!$D$8","v":307.69444444444446},7.5668980000000001,5.6233333333333322,11.69166666666667,20.854999999999997,7566898]
["2018-02-03",16,25.56,687,null,{"$f":"M847","v":9.9783333333333335},4.1449999999999996,5.503333333333333,null,{"$f":"'Combined Cycle Gas'!$D$8","v":318.30459770114948},{"$f":"Nuclear!$D$8","v":307.69444444444446},6.4643819999999996,2.8616666666666668,2.6949999999999998,10.273333333333333,6464382]
["2018-02-03",17,29.97,563,null,{"$f":"M848","v":5.8250000000000002},2.57,5.1033333333333335,null,{"$f":"'Combined Cycle Gas'!$D$8","v":318.30459770114948},{"$f":"Nuclear!$D$8","v":307.69444444444446},3.8777780000000002,3.1549999999999998,4.0183333333333335,15.809999999999997,3877778]
["2018-02-03",18,44.15,354,null,{"$f":"M849","v":7.9116666666666662},14.51,4.9416666666666673,null,{"$f":"'Combined Cycle Gas'!$D$8","v":318.30459770114948},{"$f":"Nuclear!$D$8","v":307.69444444444446},6.5589999999999997E-3,3.6199999999999997,4.915,19.691666666666666,6559]
["2018-02-03",19,39.159999999999997,353,null,{"$f":"M850","v":72.723333333333329},44.001666666666665,9.7683333333333326,null,{"$f":"'Combined Cycle Gas'!$D$8","v":318.30459770114948},{"$f":"Nuclear!$D$8","v":307.69444444444446},0,6.8299999999999992,2.8249999999999997,9.7650000000000006,0]
["2018-02-03",20,30.14,1085,null,{"$f":"M851","v":77.37833333333333},53.428333333333335,14.411666666666667,null,{"$f":"'Combined Cycle Gas'!$D$8","v":318.30459770114948},{"$f":"Nuclear!$D$8","v":307.69444444444446},0,7.9683333333333346,2.1933333333333334,8.8699999999999992,0]
["2018-02-03",21,29.87,1169,null,{"$f":"M852","v":39.006666666666668},59.458333333333343,26.813333333333333,null,{"$f":"'Combined Cycle Gas'!$D$8","v":318.30459770114948},{"$f":"Nuclear!$D$8","v":307.69444444444446},0,9.5616666666666656,1.9533333333333334,5.503333333333333,0]
["2018-02-03",22,28.9,1169,null,{"$f":"M853","v":68.11333333333333},50.716666666666669,30.356666666666669,null,{"$f":"'Combined Cycle Gas'!$D$8","v":318.30459770114948},{"$f":"Nuclear!$D$8","v":307.69444444444446},0,9.9783333333333335,4.1449999999999996,5.503333333333333,0]
["2018-02-03",23,24.86,1198,null,{"$f":"M854","v":42.538333333333334},59.294999999999995,43.658333333333331,null,{"$f":"'Combined Cycle Gas'!$D$8","v":318.30459770114948},{"$f":"Nuclear!$D$8","v":307.69444444444446},0,5.8250000000000002,2.57,5.1033333333333335,0]
["2018-02-03",24,24.85,1206,null,{"$f":"M855","v":71.918333333333337},55.913333333333334,51.798333333333325,null,{"$f":"'Combined Cycle Gas'!$D$8","v":318.30459770114948},{"$f":"Nuclear!$D$8","v":307.69444444444446},0,7.9116666666666662,14.51,4.9416666666666673,0]
["2018-02-04",1,33.01,1010,null,{"$f":"M856","v":98.408333333333346},49.091666666666669,63.43333333333333,null,{"$f":"'Combined Cycle Gas'!$D$8","v":318.30459770114948},{"$f":"Nuclear!$D$8","v":307.69444444444446},0,72.723333333333329,44.001666666666665,9.7683333333333326,0]
["2018-02-04",2,29.92,937,null,{"$f":"M857","v":60.476666666666667},52.288333333333334,55.078333333333326,null,{"$f":"'Combined Cycle Gas'!$D$8","v":318.30459770114948},{"$f":"Nuclear!$D$8","v":307.69444444444446},0,77.37833333333333,53.428333333333335,14.411666666666667,0]
["2018-02-04",3,29.39,1136,null,{"$f":"M858","v":78.911666666666676},42.308333333333337,46.286666666666669,null,{"$f":"'Combined Cycle Gas'!$D$8","v":318.30459770114948},{"$f":"Nuclear!$D$8","v":307.69444444444446},0,39.006666666666668,59.458333333333343,26.813333333333333,0]
["2018-02-04",4,28.92,1438,null,{"$f":"M859","v":67.899999999999991},50.618333333333332,23.681666666666668,null,{"$f":"'Combined Cycle Gas'!$D$8","v":318.30459770114948},{"$f":"Nuclear!$D$8","v":307.69444444444446},0,68.11333333333333,50.716666666666669,30.356666666666669,0]
["2018-02-04",5,30.14,1205,null,{"$f":"M860","v":78.498333333333335},54.038333333333334,17.638333333333335,null,{"$f":"'Combined Cycle Gas'!$D$8","v":318.30459770114948},{"$f":"Nuclear!$D$8","v":307.69444444444446},0,42.538333333333334,59.294999999999995,43.658333333333331,0]
["2018-02-04",6,33.78,1160,null,{"$f":"M861","v":58.579999999999991},27.963333333333335,9.2149999999999981,null,{"$f":"'Combined Cycle Gas'!$D$8","v":318.30459770114948},{"$f":"Nuclear!$D$8","v":307.69444444444446},0,71.918333333333337,55.913333333333334,51.798333333333325,0]
["2018-02-04",7,26.45,1118,null,{"$f":"M862","v":46.126666666666665},22.458333333333332,19.201666666666668,null,{"$f":"'Combined Cycle Gas'!$D$8","v":318.30459770114948},{"$f":"Nuclear!$D$8","v":307.69444444444446},0,98.408333333333346,49.091666666666669,63.43333333333333,0]
["2018-02-04",8,29.63,1678,null,{"$f":"M863","v":55.225000000000001},27.133333333333336,36.711666666666666,null,{"$f":"'Combined Cycle Gas'!$D$8","v":318.30459770114948},{"$f":"Nuclear!$D$8","v":307.69444444444446},3.7264840000000001,60.476666666666667,52.288333333333334,55.078333333333326,3726484]
["2018-02-04",9,37.94,1516,null,{"$f":"M864","v":48.926666666666669},37.434999999999995,44.504999999999995,null,{"$f":"'Combined Cycle Gas'!$D$8","v":318.30459770114948},{"$f":"Nuclear!$D$8","v":307.69444444444446},6.6924020000000004,78.911666666666676,42.308333333333337,46.286666666666669,6692402]
["2018-02-04",10,31.66,1444,null,{"$f":"M865","v":57.185000000000002},42.813333333333333,57.903333333333329,null,{"$f":"'Combined Cycle Gas'!$D$8","v":318.30459770114948},{"$f":"Nuclear!$D$8","v":307.69444444444446},7.6538339999999998,67.899999999999991,50.618333333333332,23.681666666666668,7653834]
["2018-02-04",11,27.84,1437,null,{"$f":"M866","v":86.106666666666669},46.710000000000008,71.226666666666659,null,{"$f":"'Combined Cycle Gas'!$D$8","v":318.30459770114948},{"$f":"Nuclear!$D$8","v":307.69444444444446},8.0017340000000008,78.498333333333335,54.038333333333334,17.638333333333335,8001734]
["2018-02-04",12,27.15,1437,null,{"$f":"M867","v":93.646666666666661},54.438333333333333,75.484999999999999,null,{"$f":"'Combined Cycle Gas'!$D$8","v":318.30459770114948},{"$f":"Nuclear!$D$8","v":307.69444444444446},8.0700819999999993,58.579999999999991,27.963333333333335,9.2149999999999981,8070082]
["2018-02-04",13,26.39,1411,null,{"$f":"M868","v":95.293333333333337},59.083333333333336,72.209999999999994,null,{"$f":"'Combined Cycle Gas'!$D$8","v":318.30459770114948},{"$f":"Nuclear!$D$8","v":307.69444444444446},6.6536429999999998,46.126666666666665,22.458333333333332,19.201666666666668,6653643]
["2018-02-04",14,26.6,1355,null,{"$f":"M869","v":87.301666666666662},45.448333333333331,62.19,null,{"$f":"'Combined Cycle Gas'!$D$8","v":318.30459770114948},{"$f":"Nuclear!$D$8","v":307.69444444444446},7.5425019999999998,55.225000000000001,27.133333333333336,36.711666666666666,7542502]
["2018-02-04",15,26.07,1357,null,{"$f":"M870","v":69.793333333333337},36.693333333333335,51.115000000000002,null,{"$f":"'Combined Cycle Gas'!$D$8","v":318.30459770114948},{"$f":"Nuclear!$D$8","v":307.69444444444446},6.4903680000000001,48.926666666666669,37.434999999999995,44.504999999999995,6490368]
["2018-02-04",16,25.88,1562,null,{"$f":"M871","v":77.42},52.319999999999993,60.32833333333334,null,{"$f":"'Combined Cycle Gas'!$D$8","v":318.30459770114948},{"$f":"Nuclear!$D$8","v":307.69444444444446},5.862616,57.185000000000002,42.813333333333333,57.903333333333329,5862616]
["2018-02-04",17,29.22,1560,null,{"$f":"M872","v":95.165000000000006},57.363333333333323,61.881666666666668,null,{"$f":"'Combined Cycle Gas'!$D$8","v":318.30459770114948},{"$f":"Nuclear!$D$8","v":307.69444444444446},2.5651519999999999,86.106666666666669,46.710000000000008,71.226666666666659,2565152]
["2018-02-04",18,45.17,1018,null,{"$f":"M873","v":107.80333333333334},73.945000000000007,68.538333333333341,null,{"$f":"'Combined Cycle Gas'!$D$8","v":318.30459770114948},{"$f":"Nuclear!$D$8","v":307.69444444444446},{"$f":"P867/10^6","v":0.18937799999999999},93.646666666666661,54.438333333333333,75.484999999999999,189378]
["2018-02-04",19,51.7,327,null,{"$f":"M874","v":100.75166666666667},70.625,76.088333333333324,null,{"$f":"'Combined Cycle Gas'!$D$8","v":318.30459770114948},{"$f":"Nuclear!$D$8","v":307.69444444444446},0,95.293333333333337,59.083333333333336,72.209999999999994,0]
["2018-02-04",20,50.58,588,null,{"$f":"M875","v":83.375},57.169999999999995,77.725000000000009,null,{"$f":"'Combined Cycle Gas'!$D$8","v":318.30459770114948},{"$f":"Nuclear!$D$8","v":307.69444444444446},0,87.301666666666662,45.448333333333331,62.19,0]
["2018-02-04",21,49.96,301,null,{"$f":"M876","v":68.283333333333331},59.17166666666666,74.415000000000006,null,{"$f":"'Combined Cycle Gas'!$D$8","v":318.30459770114948},{"$f":"Nuclear!$D$8","v":307.69444444444446},0,69.793333333333337,36.693333333333335,51.115000000000002,0]
["2018-02-04",22,46.33,312,null,{"$f":"M877","v":65.84666666666665},43.818333333333328,62.13,null,{"$f":"'Combined Cycle Gas'!$D$8","v":318.30459770114948},{"$f":"Nuclear!$D$8","v":307.69444444444446},0,77.42,52.319999999999993,60.32833333333334,0]
["2018-02-04",23,31.46,326,null,{"$f":"M878","v":51.906666666666666},19.581666666666667,50.006666666666661,null,{"$f":"'Combined Cycle Gas'!$D$8","v":318.30459770114948},{"$f":"Nuclear!$D$8","v":307.69444444444446},0,95.165000000000006,57.363333333333323,61.881666666666668,0]
["2018-02-04",24,29.34,348,null,{"$f":"M879","v":40.898333333333333},29.895,48.354999999999997,null,{"$f":"'Combined Cycle Gas'!$D$8","v":318.30459770114948},{"$f":"Nuclear!$D$8","v":307.69444444444446},0,107.80333333333334,73.945000000000007,68.538333333333341,0]
["2018-02-05",1,27.31,531,null,{"$f":"M880","v":30.948333333333327},37.823333333333331,55.708333333333321,null,{"$f":"'Combined Cycle Gas'!$D$8","v":318.30459770114948},{"$f":"Nuclear!$D$8","v":307.69444444444446},0,100.75166666666667,70.625,76.088333333333324,0]
["2018-02-05",2,27.31,768,null,{"$f":"M881","v":40.5},20.006666666666664,43.32,null,{"$f":"'Combined Cycle Gas'!$D$8","v":318.30459770114948},{"$f":"Nuclear!$D$8","v":307.69444444444446},0,83.375,57.169999999999995,77.725000000000009,0]
["2018-02-05",3,27.31,802,null,{"$f":"M882","v":36.06666666666667},15.161666666666669,28.236666666666668,null,{"$f":"'Combined Cycle Gas'!$D$8","v":318.30459770114948},{"$f":"Nuclear!$D$8","v":307.69444444444446},0,68.283333333333331,59.17166666666666,74.415000000000006,0]
["2018-02-05",4,33.340000000000003,1260,null,{"$f":"M883","v":23.211666666666662},7.2633333333333328,22.661666666666665,null,{"$f":"'Combined Cycle Gas'!$D$8","v":318.30459770114948},{"$f":"Nuclear!$D$8","v":307.69444444444446},0,65.84666666666665,43.818333333333328,62.13,0]
["2018-02-05",5,34.29,1324,null,{"$f":"M884","v":10.78},4.001666666666666,21.383333333333336,null,{"$f":"'Combined Cycle Gas'!$D$8","v":318.30459770114948},{"$f":"Nuclear!$D$8","v":307.69444444444446},0,51.906666666666666,19.581666666666667,50.006666666666661,0]
["2018-02-05",6,34.74,1279,null,{"$f":"M885","v":6.0083333333333329},5.3516666666666666,28.189999999999998,null,{"$f":"'Combined Cycle Gas'!$D$8","v":318.30459770114948},{"$f":"Nuclear!$D$8","v":307.69444444444446},0,40.898333333333333,29.895,48.354999999999997,0]
["2018-02-05",7,40.85,1269,null,{"$f":"M886","v":8.4316666666666666},4.1966666666666663,38.725000000000001,null,{"$f":"'Combined Cycle Gas'!$D$8","v":318.30459770114948},{"$f":"Nuclear!$D$8","v":307.69444444444446},0,30.948333333333327,37.823333333333331,55.708333333333321,0]
["2018-02-05",8,34.869999999999997,1574,null,{"$f":"M887","v":14.723333333333334},9.3049999999999997,52.254999999999995,null,{"$f":"'Combined Cycle Gas'!$D$8","v":318.30459770114948},{"$f":"Nuclear!$D$8","v":307.69444444444446},3.1999999999999999E-5,40.5,20.006666666666664,43.32,32]
["2018-02-05",9,30.22,1396,null,{"$f":"M888","v":44.495000000000005},27.458333333333332,63.026666666666664,null,{"$f":"'Combined Cycle Gas'!$D$8","v":318.30459770114948},{"$f":"Nuclear!$D$8","v":307.69444444444446},0.631942,36.06666666666667,15.161666666666669,28.236666666666668,631942]
["2018-02-05",10,34.28,792,null,{"$f":"M889","v":58.256666666666661},40.46,51.918333333333329,null,{"$f":"'Combined Cycle Gas'!$D$8","v":318.30459770114948},{"$f":"Nuclear!$D$8","v":307.69444444444446},1.509066,23.211666666666662,7.2633333333333328,22.661666666666665,1509066]
["2018-02-05",11,49.24,597,null,{"$f":"M890","v":49.093333333333341},38.260000000000005,51.23,null,{"$f":"'Combined Cycle Gas'!$D$8","v":318.30459770114948},{"$f":"Nuclear!$D$8","v":307.69444444444446},1.449298,10.78,4.001666666666666,21.383333333333336,1449298]
["2018-02-05",12,41.63,694,null,{"$f":"M891","v":32.125},26.341666666666669,51.208333333333336,null,{"$f":"'Combined Cycle Gas'!$D$8","v":318.30459770114948},{"$f":"Nuclear!$D$8","v":307.69444444444446},1.0109300000000001,6.0083333333333329,5.3516666666666666,28.189999999999998,1010930]
["2018-02-05",13,34.76,223,null,{"$f":"M892","v":34.033333333333339},25.378333333333334,47.858333333333341,null,{"$f":"'Combined Cycle Gas'!$D$8","v":318.30459770114948},{"$f":"Nuclear!$D$8","v":307.69444444444446},2.3582930000000002,8.4316666666666666,4.1966666666666663,38.725000000000001,2358293]
["2018-02-05",14,34.51,231,null,{"$f":"M893","v":44.651666666666671},28.34,46.268333333333324,null,{"$f":"'Combined Cycle Gas'!$D$8","v":318.30459770114948},{"$f":"Nuclear!$D$8","v":307.69444444444446},1.954072,14.723333333333334,9.3049999999999997,52.254999999999995,1954072]
["2018-02-05",15,30.37,177,null,{"$f":"M894","v":35.223333333333329},14.548333333333332,47.353333333333325,null,{"$f":"'Combined Cycle Gas'!$D$8","v":318.30459770114948},{"$f":"Nuclear!$D$8","v":307.69444444444446},1.065693,44.495000000000005,27.458333333333332,63.026666666666664,1065693]
["2018-02-05",16,30.38,265,null,{"$f":"M895","v":29.386666666666667},23.49,42.116666666666667,null,{"$f":"'Combined Cycle Gas'!$D$8","v":318.30459770114948},{"$f":"Nuclear!$D$8","v":307.69444444444446},1.0960369999999999,58.256666666666661,40.46,51.918333333333329,1096037]
["2018-02-05",17,29.16,536,null,{"$f":"M896","v":29.983333333333334},32.285000000000004,42.933333333333337,null,{"$f":"'Combined Cycle Gas'!$D$8","v":318.30459770114948},{"$f":"Nuclear!$D$8","v":307.69444444444446},0.43636799999999998,49.093333333333341,38.260000000000005,51.23,436368]
["2018-02-05",18,24.86,697,null,{"$f":"M897","v":24.138333333333332},63.935000000000002,52.811666666666667,null,{"$f":"'Combined Cycle Gas'!$D$8","v":318.30459770114948},{"$f":"Nuclear!$D$8","v":307.69444444444446},0,32.125,26.341666666666669,51.208333333333336,0]
["2018-02-05",19,28.69,847,null,{"$f":"M898","v":19.223333333333333},66.978333333333339,61.655000000000001,null,{"$f":"'Combined Cycle Gas'!$D$8","v":318.30459770114948},{"$f":"Nuclear!$D$8","v":307.69444444444446},0,34.033333333333339,25.378333333333334,47.858333333333341,0]
["2018-02-05",20,28.26,1053,null,{"$f":"M899","v":27.324999999999999},70.823333333333338,61.993333333333332,null,{"$f":"'Combined Cycle Gas'!$D$8","v":318.30459770114948},{"$f":"Nuclear!$D$8","v":307.69444444444446},0,44.651666666666671,28.34,46.268333333333324,0]
["2018-02-05",21,24.8,547,null,{"$f":"M900","v":44.643333333333338},76.926666666666677,66.731666666666669,null,{"$f":"'Combined Cycle Gas'!$D$8","v":318.30459770114948},{"$f":"Nuclear!$D$8","v":307.69444444444446},0,35.223333333333329,14.548333333333332,47.353333333333325,0]
["2018-02-05",22,34.47,382,null,{"$f":"M901","v":63.055},77.393333333333331,65.373333333333335,null,{"$f":"'Combined Cycle Gas'!$D$8","v":318.30459770114948},{"$f":"Nuclear!$D$8","v":307.69444444444446},0,29.386666666666667,23.49,42.116666666666667,0]
["2018-02-05",23,29.92,450,null,{"$f":"M902","v":67.693333333333342},70.208333333333329,60.663333333333334,null,{"$f":"'Combined Cycle Gas'!$D$8","v":318.30459770114948},{"$f":"Nuclear!$D$8","v":307.69444444444446},0,29.983333333333334,32.285000000000004,42.933333333333337,0]
["2018-02-05",24,24.84,946,null,{"$f":"M903","v":63.77},60.120000000000005,69.386666666666656,null,{"$f":"'Combined Cycle Gas'!$D$8","v":318.30459770114948},{"$f":"Nuclear!$D$8","v":307.69444444444446},0,24.138333333333332,63.935000000000002,52.811666666666667,0]
["2018-02-06",1,24.93,1232,null,{"$f":"M904","v":50.626666666666665},43.69166666666667,66.416666666666671,null,{"$f":"'Combined Cycle Gas'!$D$8","v":318.30459770114948},{"$f":"Nuclear!$D$8","v":307.69444444444446},0,19.223333333333333,66.978333333333339,61.655000000000001,0]
["2018-02-06",2,24.51,1306,null,{"$f":"M905","v":12.689999999999998},17.073333333333334,51.201666666666661,null,{"$f":"'Combined Cycle Gas'!$D$8","v":318.30459770114948},{"$f":"Nuclear!$D$8","v":307.69444444444446},0,27.324999999999999,70.823333333333338,61.993333333333332,0]
["2018-02-06",3,25.88,1356,null,{"$f":"M906","v":7.504999999999999},4.878333333333333,25.398333333333337,null,{"$f":"'Combined Cycle Gas'!$D$8","v":318.30459770114948},{"$f":"Nuclear!$D$8","v":307.69444444444446},0,44.643333333333338,76.926666666666677,66.731666666666669,0]
["2018-02-06",4,27.11,1197,null,{"$f":"M907","v":7.5099999999999989},4.88,9.9283333333333328,null,{"$f":"'Combined Cycle Gas'!$D$8","v":318.30459770114948},{"$f":"Nuclear!$D$8","v":307.69444444444446},0,63.055,77.393333333333331,65.373333333333335,0]
["2018-02-06",5,28.92,1126,null,{"$f":"M908","v":7.5099999999999989},4.8750000000000009,8.1333333333333346,null,{"$f":"'Combined Cycle Gas'!$D$8","v":318.30459770114948},{"$f":"Nuclear!$D$8","v":307.69444444444446},0,67.693333333333342,70.208333333333329,60.663333333333334,0]
["2018-02-06",6,31.98,1108,null,{"$f":"M909","v":11.866666666666665},4.871666666666667,8.1150000000000002,null,{"$f":"'Combined Cycle Gas'!$D$8","v":318.30459770114948},{"$f":"Nuclear!$D$8","v":307.69444444444446},0,63.77,60.120000000000005,69.386666666666656,0]
["2018-02-06",7,33.700000000000003,726,null,{"$f":"M910","v":31.431666666666668},5.5500000000000007,8.0983333333333345,null,{"$f":"'Combined Cycle Gas'!$D$8","v":318.30459770114948},{"$f":"Nuclear!$D$8","v":307.69444444444446},0,50.626666666666665,43.69166666666667,66.416666666666671,0]
["2018-02-06",8,30.27,746,null,{"$f":"M911","v":49.571666666666665},8.07,10.093333333333334,null,{"$f":"'Combined Cycle Gas'!$D$8","v":318.30459770114948},{"$f":"Nuclear!$D$8","v":307.69444444444446},4.8683999999999998E-2,12.689999999999998,17.073333333333334,51.201666666666661,48684]
["2018-02-06",9,29.23,618,null,{"$f":"M912","v":44.155000000000001},17.001666666666669,17.36,null,{"$f":"'Combined Cycle Gas'!$D$8","v":318.30459770114948},{"$f":"Nuclear!$D$8","v":307.69444444444446},1.0215270000000001,7.504999999999999,4.878333333333333,25.398333333333337,1021527]
["2018-02-06",10,42.1,4,null,{"$f":"M913","v":34.46},7.6966666666666663,20.933333333333334,null,{"$f":"'Combined Cycle Gas'!$D$8","v":318.30459770114948},{"$f":"Nuclear!$D$8","v":307.69444444444446},1.844919,7.5099999999999989,4.88,9.9283333333333328,1844919]
["2018-02-06",11,34.39,53,null,{"$f":"M914","v":17.605},6.416666666666667,17.516666666666666,null,{"$f":"'Combined Cycle Gas'!$D$8","v":318.30459770114948},{"$f":"Nuclear!$D$8","v":307.69444444444446},2.1243829999999999,7.5099999999999989,4.8750000000000009,8.1333333333333346,2124383]
["2018-02-06",12,34.51,0,null,{"$f":"M915","v":8.5250000000000004},6.416666666666667,11.053333333333333,null,{"$f":"'Combined Cycle Gas'!$D$8","v":318.30459770114948},{"$f":"Nuclear!$D$8","v":307.69444444444446},1.3090539999999999,11.866666666666665,4.871666666666667,8.1150000000000002,1309054]
["2018-02-06",13,34.26,0,null,{"$f":"M916","v":7.62},6.9883333333333333,11.839999999999998,null,{"$f":"'Combined Cycle Gas'!$D$8","v":318.30459770114948},{"$f":"Nuclear!$D$8","v":307.69444444444446},2.481967,31.431666666666668,5.5500000000000007,8.0983333333333345,2481967]
["2018-02-06",14,29.18,0,null,{"$f":"M917","v":7.5466666666666669},7.4983333333333322,13.618333333333334,null,{"$f":"'Combined Cycle Gas'!$D$8","v":318.30459770114948},{"$f":"Nuclear!$D$8","v":307.69444444444446},2.3889170000000002,49.571666666666665,8.07,10.093333333333334,2388917]
["2018-02-06",15,29.31,0,null,{"$f":"M918","v":8.2650000000000006},9.2666666666666657,8.956666666666667,null,{"$f":"'Combined Cycle Gas'!$D$8","v":318.30459770114948},{"$f":"Nuclear!$D$8","v":307.69444444444446},0.88966699999999999,44.155000000000001,17.001666666666669,17.36,889667]
["2018-02-06",16,30.02,0,null,{"$f":"M919","v":8.51},11.253333333333332,7.6466666666666674,null,{"$f":"'Combined Cycle Gas'!$D$8","v":318.30459770114948},{"$f":"Nuclear!$D$8","v":307.69444444444446},1.41676,34.46,7.6966666666666663,20.933333333333334,1416760]
["2018-02-06",17,43.05,68,null,{"$f":"M920","v":9.9550000000000001},17.420000000000002,7.5350000000000001,null,{"$f":"'Combined Cycle Gas'!$D$8","v":318.30459770114948},{"$f":"Nuclear!$D$8","v":307.69444444444446},0.251666,17.605,6.416666666666667,17.516666666666666,251666]
["2018-02-06",18,27.94,0,null,{"$f":"M921","v":17.7},25.424999999999997,7.4433333333333342,null,{"$f":"'Combined Cycle Gas'!$D$8","v":318.30459770114948},{"$f":"Nuclear!$D$8","v":307.69444444444446},0,8.5250000000000004,6.416666666666667,11.053333333333333,0]
["2018-02-06",19,28.95,0,null,{"$f":"M922","v":19.756666666666664},20.47,7.748333333333334,null,{"$f":"'Combined Cycle Gas'!$D$8","v":318.30459770114948},{"$f":"Nuclear!$D$8","v":307.69444444444446},0,7.62,6.9883333333333333,11.839999999999998,0]
["2018-02-06",20,31.66,648,null,{"$f":"M923","v":26.574999999999999},17.720000000000002,8.081666666666667,null,{"$f":"'Combined Cycle Gas'!$D$8","v":318.30459770114948},{"$f":"Nuclear!$D$8","v":307.69444444444446},0,7.5466666666666669,7.4983333333333322,13.618333333333334,0]
["2018-02-06",21,26.54,1440,null,{"$f":"M924","v":22.383333333333336},24.17,14.545,null,{"$f":"'Combined Cycle Gas'!$D$8","v":318.30459770114948},{"$f":"Nuclear!$D$8","v":307.69444444444446},0,8.2650000000000006,9.2666666666666657,8.956666666666667,0]
["2018-02-06",22,24.9,2253,null,{"$f":"M925","v":37.534999999999997},18.429999999999996,16.141666666666666,null,{"$f":"'Combined Cycle Gas'!$D$8","v":318.30459770114948},{"$f":"Nuclear!$D$8","v":307.69444444444446},0,8.51,11.253333333333332,7.6466666666666674,0]
["2018-02-06",23,26.77,2463,null,{"$f":"M926","v":55.92166666666666},27.481666666666669,37.421666666666667,null,{"$f":"'Combined Cycle Gas'!$D$8","v":318.30459770114948},{"$f":"Nuclear!$D$8","v":307.69444444444446},0,9.9550000000000001,17.420000000000002,7.5350000000000001,0]
["2018-02-06",24,25.89,3205,null,{"$f":"M927","v":76.58},42.388333333333328,55.98,null,{"$f":"'Combined Cycle Gas'!$D$8","v":318.30459770114948},{"$f":"Nuclear!$D$8","v":307.69444444444446},0,17.7,25.424999999999997,7.4433333333333342,0]
["2018-02-07",1,24.93,3203,null,{"$f":"M928","v":76.573333333333338},40.395000000000003,50.155000000000001,null,{"$f":"'Combined Cycle Gas'!$D$8","v":318.30459770114948},{"$f":"Nuclear!$D$8","v":307.69444444444446},0,19.756666666666664,20.47,7.748333333333334,0]
["2018-02-07",2,24.93,3203,null,{"$f":"M929","v":81.11333333333333},42.698333333333331,45.828333333333326,null,{"$f":"'Combined Cycle Gas'!$D$8","v":318.30459770114948},{"$f":"Nuclear!$D$8","v":307.69444444444446},0,26.574999999999999,17.720000000000002,8.081666666666667,0]
["2018-02-07",3,24.93,3203,null,{"$f":"M930","v":82.631666666666661},44.303333333333335,56.036666666666669,null,{"$f":"'Combined Cycle Gas'!$D$8","v":318.30459770114948},{"$f":"Nuclear!$D$8","v":307.69444444444446},0,22.383333333333336,24.17,14.545,0]
["2018-02-07",4,24.93,3203,null,{"$f":"M931","v":78.168333333333337},40.536666666666669,50.925000000000004,null,{"$f":"'Combined Cycle Gas'!$D$8","v":318.30459770114948},{"$f":"Nuclear!$D$8","v":307.69444444444446},0,37.534999999999997,18.429999999999996,16.141666666666666,0]
["2018-02-07",5,27.55,3273,null,{"$f":"M932","v":56.190000000000005},32.333333333333336,36.466666666666661,null,{"$f":"'Combined Cycle Gas'!$D$8","v":318.30459770114948},{"$f":"Nuclear!$D$8","v":307.69444444444446},0,55.92166666666666,27.481666666666669,37.421666666666667,0]
["2018-02-07",6,27.55,2912,null,{"$f":"M933","v":47.844999999999999},24.548333333333332,22.673333333333336,null,{"$f":"'Combined Cycle Gas'!$D$8","v":318.30459770114948},{"$f":"Nuclear!$D$8","v":307.69444444444446},0,76.58,42.388333333333328,55.98,0]
["2018-02-07",7,38.36,2722,null,{"$f":"M934","v":45.881666666666668},19.631666666666664,18.368333333333329,null,{"$f":"'Combined Cycle Gas'!$D$8","v":318.30459770114948},{"$f":"Nuclear!$D$8","v":307.69444444444446},0,76.573333333333338,40.395000000000003,50.155000000000001,0]
["2018-02-07",8,33.520000000000003,2523,null,{"$f":"M935","v":46.723333333333329},18.330000000000002,17.205000000000002,null,{"$f":"'Combined Cycle Gas'!$D$8","v":318.30459770114948},{"$f":"Nuclear!$D$8","v":307.69444444444446},5.0224999999999999E-2,81.11333333333333,42.698333333333331,45.828333333333326,50225]
["2018-02-07",9,27.82,2566,null,{"$f":"M936","v":25.533333333333331},12.648333333333333,8.7466666666666679,null,{"$f":"'Combined Cycle Gas'!$D$8","v":318.30459770114948},{"$f":"Nuclear!$D$8","v":307.69444444444446},1.40645,82.631666666666661,44.303333333333335,56.036666666666669,1406450]
["2018-02-07",10,28.03,2466,null,{"$f":"M937","v":4.2850000000000001},3.2650000000000001,5.6866666666666665,null,{"$f":"'Combined Cycle Gas'!$D$8","v":318.30459770114948},{"$f":"Nuclear!$D$8","v":307.69444444444446},{"$f":"P931/10^6","v":2.55409},78.168333333333337,40.536666666666669,50.925000000000004,2554090]
["2018-02-07",11,29.81,2103,null,{"$f":"M938","v":4.6966666666666663},3.1966666666666668,5.5799999999999992,null,{"$f":"'Combined Cycle Gas'!$D$8","v":318.30459770114948},{"$f":"Nuclear!$D$8","v":307.69444444444446},3.345307,56.190000000000005,32.333333333333336,36.466666666666661,3345307]
["2018-02-07",12,26.82,2768,null,{"$f":"M939","v":4.3550000000000004},3.331666666666667,5.7816666666666672,null,{"$f":"'Combined Cycle Gas'!$D$8","v":318.30459770114948},{"$f":"Nuclear!$D$8","v":307.69444444444446},4.9327199999999998,47.844999999999999,24.548333333333332,22.673333333333336,4932720]
["2018-02-07",13,30.1,3012,null,{"$f":"M940","v":8.4650000000000016},3.6149999999999998,6.7583333333333329,null,{"$f":"'Combined Cycle Gas'!$D$8","v":318.30459770114948},{"$f":"Nuclear!$D$8","v":307.69444444444446},3.9964729999999999,45.881666666666668,19.631666666666664,18.368333333333329,3996473]
["2018-02-07",14,29.74,3012,null,{"$f":"M941","v":16.200000000000003},3.6116666666666664,11.635,null,{"$f":"'Combined Cycle Gas'!$D$8","v":318.30459770114948},{"$f":"Nuclear!$D$8","v":307.69444444444446},2.2968549999999999,46.723333333333329,18.330000000000002,17.205000000000002,2296855]
["2018-02-07",15,29.68,3012,null,{"$f":"M942","v":20.319999999999997},3.7899999999999996,13.844999999999999,null,{"$f":"'Combined Cycle Gas'!$D$8","v":318.30459770114948},{"$f":"Nuclear!$D$8","v":307.69444444444446},1.472648,25.533333333333331,12.648333333333333,8.7466666666666679,1472648]
["2018-02-07",16,33.92,3281,null,{"$f":"M943","v":14.036666666666664},5.0633333333333335,11.1,null,{"$f":"'Combined Cycle Gas'!$D$8","v":318.30459770114948},{"$f":"Nuclear!$D$8","v":307.69444444444446},1.9418219999999999,4.2850000000000001,3.2650000000000001,5.6866666666666665,1941822]
["2018-02-07",17,40.090000000000003,3499,null,{"$f":"M944","v":9.4350000000000005},3.0866666666666664,14.006666666666666,null,{"$f":"'Combined Cycle Gas'!$D$8","v":318.30459770114948},{"$f":"Nuclear!$D$8","v":307.69444444444446},1.8731260000000001,4.6966666666666663,3.1966666666666668,5.5799999999999992,1873126]
["2018-02-07",18,39.86,3013,null,{"$f":"M945","v":8.7283333333333335},4.0216666666666665,22.004999999999999,null,{"$f":"'Combined Cycle Gas'!$D$8","v":318.30459770114948},{"$f":"Nuclear!$D$8","v":307.69444444444446},5.0007000000000003E-2,4.3550000000000004,3.331666666666667,5.7816666666666672,50007]
["2018-02-07",19,47.36,3013,null,{"$f":"M946","v":20.238333333333333},10.741666666666667,34.593333333333334,null,{"$f":"'Combined Cycle Gas'!$D$8","v":318.30459770114948},{"$f":"Nuclear!$D$8","v":307.69444444444446},0,8.4650000000000016,3.6149999999999998,6.7583333333333329,0]
["2018-02-07",20,42,3013,null,{"$f":"M947","v":24.580000000000002},13.843333333333334,45.456666666666671,null,{"$f":"'Combined Cycle Gas'!$D$8","v":318.30459770114948},{"$f":"Nuclear!$D$8","v":307.69444444444446},0,16.200000000000003,3.6116666666666664,11.635,0]
["2018-02-07",21,41.65,1812,null,{"$f":"M948","v":35.98833333333333},17.14833333333333,46.771666666666668,null,{"$f":"'Combined Cycle Gas'!$D$8","v":318.30459770114948},{"$f":"Nuclear!$D$8","v":307.69444444444446},0,20.319999999999997,3.7899999999999996,13.844999999999999,0]
["2018-02-07",22,41.6,1255,null,{"$f":"M949","v":33.76},22.584999999999997,46.531666666666673,null,{"$f":"'Combined Cycle Gas'!$D$8","v":318.30459770114948},{"$f":"Nuclear!$D$8","v":307.69444444444446},0,14.036666666666664,5.0633333333333335,11.1,0]
["2018-02-07",23,40.83,1057,null,{"$f":"M950","v":28.936666666666667},14.924999999999997,37.634999999999998,null,{"$f":"'Combined Cycle Gas'!$D$8","v":318.30459770114948},{"$f":"Nuclear!$D$8","v":307.69444444444446},0,9.4350000000000005,3.0866666666666664,14.006666666666666,0]
["2018-02-07",24,33.53,1457,null,{"$f":"M951","v":31.036666666666665},16.984999999999999,38.341666666666669,null,{"$f":"'Combined Cycle Gas'!$D$8","v":318.30459770114948},{"$f":"Nuclear!$D$8","v":307.69444444444446},0,8.7283333333333335,4.0216666666666665,22.004999999999999,0]
["2018-02-08",1,32.68,1294,null,{"$f":"M952","v":28.993333333333329},34.594999999999999,46.044999999999995,null,{"$f":"'Combined Cycle Gas'!$D$8","v":318.30459770114948},{"$f":"Nuclear!$D$8","v":307.69444444444446},0,20.238333333333333,10.741666666666667,34.593333333333334,0]
["2018-02-08",2,32.47,950,null,{"$f":"M953","v":18.77},21.625,36.795000000000009,null,{"$f":"'Combined Cycle Gas'!$D$8","v":318.30459770114948},{"$f":"Nuclear!$D$8","v":307.69444444444446},0,24.580000000000002,13.843333333333334,45.456666666666671,0]
["2018-02-08",3,32.450000000000003,1076,null,{"$f":"M954","v":11.548333333333334},11.719999999999999,23.643333333333334,null,{"$f":"'Combined Cycle Gas'!$D$8","v":318.30459770114948},{"$f":"Nuclear!$D$8","v":307.69444444444446},0,35.98833333333333,17.14833333333333,46.771666666666668,0]
["2018-02-08",4,32.520000000000003,1318,null,{"$f":"M955","v":6.376666666666666},4.1233333333333331,12.301666666666668,null,{"$f":"'Combined Cycle Gas'!$D$8","v":318.30459770114948},{"$f":"Nuclear!$D$8","v":307.69444444444446},0,33.76,22.584999999999997,46.531666666666673,0]
["2018-02-08",5,34.01,1235,null,{"$f":"M956","v":0.29166666666666669},1.0349999999999999,16.925000000000001,null,{"$f":"'Combined Cycle Gas'!$D$8","v":318.30459770114948},{"$f":"Nuclear!$D$8","v":307.69444444444446},0,28.936666666666667,14.924999999999997,37.634999999999998,0]
["2018-02-08",6,39.200000000000003,1505,null,{"$f":"M957","v":0},0.91333333333333344,16.655000000000001,null,{"$f":"'Combined Cycle Gas'!$D$8","v":318.30459770114948},{"$f":"Nuclear!$D$8","v":307.69444444444446},0,31.036666666666665,16.984999999999999,38.341666666666669,0]
["2018-02-08",7,50.02,1962,null,{"$f":"M958","v":0.215},3.0333333333333332,17.64,null,{"$f":"'Combined Cycle Gas'!$D$8","v":318.30459770114948},{"$f":"Nuclear!$D$8","v":307.69444444444446},0,28.993333333333329,34.594999999999999,46.044999999999995,0]
["2018-02-08",8,57.92,2106,null,{"$f":"M959","v":0},5.5783333333333331,25.921666666666667,null,{"$f":"'Combined Cycle Gas'!$D$8","v":318.30459770114948},{"$f":"Nuclear!$D$8","v":307.69444444444446},2.392E-3,18.77,21.625,36.795000000000009,2392]
["2018-02-08",9,44.45,1882,null,{"$f":"M960","v":5.0583333333333336},9.2683333333333326,17.195,null,{"$f":"'Combined Cycle Gas'!$D$8","v":318.30459770114948},{"$f":"Nuclear!$D$8","v":307.69444444444446},1.3849E-2,11.548333333333334,11.719999999999999,23.643333333333334,13849]
["2018-02-08",10,42.15,1881,null,{"$f":"M961","v":7.0150000000000006},14.216666666666669,4.6516666666666664,null,{"$f":"'Combined Cycle Gas'!$D$8","v":318.30459770114948},{"$f":"Nuclear!$D$8","v":307.69444444444446},1.367162,6.376666666666666,4.1233333333333331,12.301666666666668,1367162]
["2018-02-08",11,42.52,1848,null,{"$f":"M962","v":12.241666666666667},13.853333333333332,6.6883333333333326,null,{"$f":"'Combined Cycle Gas'!$D$8","v":318.30459770114948},{"$f":"Nuclear!$D$8","v":307.69444444444446},3.5074580000000002,0.29166666666666669,1.0349999999999999,16.925000000000001,3507458]
["2018-02-08",12,40.79,1848,null,{"$f":"M963","v":9.5983333333333345},4.5449999999999999,6.1483333333333334,null,{"$f":"'Combined Cycle Gas'!$D$8","v":318.30459770114948},{"$f":"Nuclear!$D$8","v":307.69444444444446},3.3177460000000001,0,0.91333333333333344,16.655000000000001,3317746]
["2018-02-08",13,40.71,2438,null,{"$f":"M964","v":14.04},7.6083333333333343,3.313333333333333,null,{"$f":"'Combined Cycle Gas'!$D$8","v":318.30459770114948},{"$f":"Nuclear!$D$8","v":307.69444444444446},6.8168319999999998,0.215,3.0333333333333332,17.64,6816832]
["2018-02-08",14,39.81,2809,null,{"$f":"M965","v":24.071666666666669},12.721666666666666,4.5283333333333333,null,{"$f":"'Combined Cycle Gas'!$D$8","v":318.30459770114948},{"$f":"Nuclear!$D$8","v":307.69444444444446},3.2796259999999999,0,5.5783333333333331,25.921666666666667,3279626]
["2018-02-08",15,39.14,2766,null,{"$f":"M966","v":42.085000000000001},17.493333333333336,7.7166666666666677,null,{"$f":"'Combined Cycle Gas'!$D$8","v":318.30459770114948},{"$f":"Nuclear!$D$8","v":307.69444444444446},6.6822679999999997,5.0583333333333336,9.2683333333333326,17.195,6682268]
["2018-02-08",16,39.32,2669,null,{"$f":"M967","v":59.951666666666675},30.996666666666666,7.4833333333333343,null,{"$f":"'Combined Cycle Gas'!$D$8","v":318.30459770114948},{"$f":"Nuclear!$D$8","v":307.69444444444446},5.9357139999999999,7.0150000000000006,14.216666666666669,4.6516666666666664,5935714]
["2018-02-08",17,38.67,2593,null,{"$f":"M968","v":75.413333333333327},43.51,3.7950000000000004,null,{"$f":"'Combined Cycle Gas'!$D$8","v":318.30459770114948},{"$f":"Nuclear!$D$8","v":307.69444444444446},3.6363569999999998,12.241666666666667,13.853333333333332,6.6883333333333326,3636357]
["2018-02-08",18,40.729999999999997,1982,null,{"$f":"M969","v":57.134999999999998},40.97,5.413333333333334,null,{"$f":"'Combined Cycle Gas'!$D$8","v":318.30459770114948},{"$f":"Nuclear!$D$8","v":307.69444444444446},1.0151060000000001,9.5983333333333345,4.5449999999999999,6.1483333333333334,1015106]
["2018-02-08",19,49.93,1182,null,{"$f":"M970","v":83.506666666666675},57.593333333333334,7.0633333333333326,null,{"$f":"'Combined Cycle Gas'!$D$8","v":318.30459770114948},{"$f":"Nuclear!$D$8","v":307.69444444444446},0,14.04,7.6083333333333343,3.313333333333333,0]
["2018-02-08",20,53.99,421,null,{"$f":"M971","v":80.50500000000001},48.781666666666666,5.2450000000000001,null,{"$f":"'Combined Cycle Gas'!$D$8","v":318.30459770114948},{"$f":"Nuclear!$D$8","v":307.69444444444446},0,24.071666666666669,12.721666666666666,4.5283333333333333,0]
["2018-02-08",21,43.88,89,null,{"$f":"M972","v":73.38666666666667},36.163333333333334,9.2733333333333334,null,{"$f":"'Combined Cycle Gas'!$D$8","v":318.30459770114948},{"$f":"Nuclear!$D$8","v":307.69444444444446},0,42.085000000000001,17.493333333333336,7.7166666666666677,0]
["2018-02-08",22,42.31,0,null,{"$f":"M973","v":84.25},54.908333333333339,14.583333333333334,null,{"$f":"'Combined Cycle Gas'!$D$8","v":318.30459770114948},{"$f":"Nuclear!$D$8","v":307.69444444444446},0,59.951666666666675,30.996666666666666,7.4833333333333343,0]
["2018-02-08",23,41.85,20,null,{"$f":"M974","v":69.623333333333335},40.018333333333331,19.348333333333333,null,{"$f":"'Combined Cycle Gas'!$D$8","v":318.30459770114948},{"$f":"Nuclear!$D$8","v":307.69444444444446},0,75.413333333333327,43.51,3.7950000000000004,0]
["2018-02-08",24,33.049999999999997,160,null,{"$f":"M975","v":58.395000000000003},29.925000000000001,32.258333333333333,null,{"$f":"'Combined Cycle Gas'!$D$8","v":318.30459770114948},{"$f":"Nuclear!$D$8","v":307.69444444444446},0,57.134999999999998,40.97,5.413333333333334,0]
["2018-02-09",1,32.630000000000003,410,null,{"$f":"M976","v":50.51},40.74,42.48,null,{"$f":"'Combined Cycle Gas'!$D$8","v":318.30459770114948},{"$f":"Nuclear!$D$8","v":307.69444444444446},0,83.506666666666675,57.593333333333334,7.0633333333333326,0]
["2018-02-09",2,32.590000000000003,823,null,{"$f":"M977","v":64.213333333333324},41.255000000000003,40.476666666666667,null,{"$f":"'Combined Cycle Gas'!$D$8","v":318.30459770114948},{"$f":"Nuclear!$D$8","v":307.69444444444446},0,80.50500000000001,48.781666666666666,5.2450000000000001,0]
["2018-02-09",3,32.21,1347,null,{"$f":"M978","v":72.041666666666671},47.07833333333334,37.879999999999995,null,{"$f":"'Combined Cycle Gas'!$D$8","v":318.30459770114948},{"$f":"Nuclear!$D$8","v":307.69444444444446},0,73.38666666666667,36.163333333333334,9.2733333333333334,0]
["2018-02-09",4,32.06,1657,null,{"$f":"M979","v":69.364999999999995},46.926666666666669,42.868333333333332,null,{"$f":"'Combined Cycle Gas'!$D$8","v":318.30459770114948},{"$f":"Nuclear!$D$8","v":307.69444444444446},0,84.25,54.908333333333339,14.583333333333334,0]
["2018-02-09",5,32.86,1924,null,{"$f":"M980","v":54.905000000000001},39.761666666666663,56.388333333333328,null,{"$f":"'Combined Cycle Gas'!$D$8","v":318.30459770114948},{"$f":"Nuclear!$D$8","v":307.69444444444446},0,69.623333333333335,40.018333333333331,19.348333333333333,0]
["2018-02-09",6,32.83,2190,null,{"$f":"M981","v":39.136666666666663},26.665000000000003,53.048333333333325,null,{"$f":"'Combined Cycle Gas'!$D$8","v":318.30459770114948},{"$f":"Nuclear!$D$8","v":307.69444444444446},0,58.395000000000003,29.925000000000001,32.258333333333333,0]
["2018-02-09",7,41.38,2111,null,{"$f":"M982","v":23.588333333333335},18.333333333333332,31.713333333333328,null,{"$f":"'Combined Cycle Gas'!$D$8","v":318.30459770114948},{"$f":"Nuclear!$D$8","v":307.69444444444446},0,50.51,40.74,42.48,0]
["2018-02-09",8,49.99,1783,null,{"$f":"M983","v":20.486666666666668},16.303333333333331,20.341666666666665,null,{"$f":"'Combined Cycle Gas'!$D$8","v":318.30459770114948},{"$f":"Nuclear!$D$8","v":307.69444444444446},1.1357170000000001,64.213333333333324,41.255000000000003,40.476666666666667,1135717]
["2018-02-09",9,40.770000000000003,2254,null,{"$f":"M984","v":11.326666666666666},9.7799999999999994,16.476666666666667,null,{"$f":"'Combined Cycle Gas'!$D$8","v":318.30459770114948},{"$f":"Nuclear!$D$8","v":307.69444444444446},0.31660899999999997,72.041666666666671,47.07833333333334,37.879999999999995,316609]
["2018-02-09",10,40.04,1534,null,{"$f":"M985","v":4.6966666666666663},3.9983333333333335,17.899999999999999,null,{"$f":"'Combined Cycle Gas'!$D$8","v":318.30459770114948},{"$f":"Nuclear!$D$8","v":307.69444444444446},1.034286,69.364999999999995,46.926666666666669,42.868333333333332,1034286]
["2018-02-09",11,39.85,895,null,{"$f":"M986","v":1.5916666666666666},3.4350000000000001,8.6016666666666666,null,{"$f":"'Combined Cycle Gas'!$D$8","v":318.30459770114948},{"$f":"Nuclear!$D$8","v":307.69444444444446},2.2898040000000002,54.905000000000001,39.761666666666663,56.388333333333328,2289804]
["2018-02-09",12,39.86,895,null,{"$f":"M987","v":0.215},1.05,3.03,null,{"$f":"'Combined Cycle Gas'!$D$8","v":318.30459770114948},{"$f":"Nuclear!$D$8","v":307.69444444444446},1.8871,39.136666666666663,26.665000000000003,53.048333333333325,1887100]
["2018-02-09",13,38.06,1520,null,{"$f":"M988","v":0},7.4999999999999997E-2,0.6166666666666667,null,{"$f":"'Combined Cycle Gas'!$D$8","v":318.30459770114948},{"$f":"Nuclear!$D$8","v":307.69444444444446},2.3356140000000001,23.588333333333335,18.333333333333332,31.713333333333328,2335614]
["2018-02-09",14,37.049999999999997,1520,null,{"$f":"M989","v":1.1666666666666667E-2},0.28333333333333333,0.71833333333333327,null,{"$f":"'Combined Cycle Gas'!$D$8","v":318.30459770114948},{"$f":"Nuclear!$D$8","v":307.69444444444446},1.952056,20.486666666666668,16.303333333333331,20.341666666666665,1952056]
["2018-02-09",15,35.31,1519,null,{"$f":"M990","v":0},0.15,0.52166666666666661,null,{"$f":"'Combined Cycle Gas'!$D$8","v":318.30459770114948},{"$f":"Nuclear!$D$8","v":307.69444444444446},1.764796,11.326666666666666,9.7799999999999994,16.476666666666667,1764796]
["2018-02-09",16,38.47,1399,null,{"$f":"M991","v":0.64},6.3333333333333339E-2,1.0233333333333334,null,{"$f":"'Combined Cycle Gas'!$D$8","v":318.30459770114948},{"$f":"Nuclear!$D$8","v":307.69444444444446},1.2216260000000001,4.6966666666666663,3.9983333333333335,17.899999999999999,1221626]
["2018-02-09",17,39.49,1114,null,{"$f":"M992","v":0},0.10333333333333335,1.7616666666666665,null,{"$f":"'Combined Cycle Gas'!$D$8","v":318.30459770114948},{"$f":"Nuclear!$D$8","v":307.69444444444446},0.291939,1.5916666666666666,3.4350000000000001,8.6016666666666666,291939]
["2018-02-09",18,41.99,600,null,{"$f":"M993","v":0},0,0.4916666666666667,null,{"$f":"'Combined Cycle Gas'!$D$8","v":318.30459770114948},{"$f":"Nuclear!$D$8","v":307.69444444444446},0,0.215,1.05,3.03,0]
["2018-02-09",19,50.94,283,null,{"$f":"M994","v":0},0,0.13500000000000001,null,{"$f":"'Combined Cycle Gas'!$D$8","v":318.30459770114948},{"$f":"Nuclear!$D$8","v":307.69444444444446},0,0,7.4999999999999997E-2,0.6166666666666667,0]
["2018-02-09",20,56.1,194,null,{"$f":"M995","v":0},0,0.375,null,{"$f":"'Combined Cycle Gas'!$D$8","v":318.30459770114948},{"$f":"Nuclear!$D$8","v":307.69444444444446},0,1.1666666666666667E-2,0.28333333333333333,0.71833333333333327,0]
["2018-02-09",21,41.08,0,null,{"$f":"M996","v":1.2249999999999999},2.0266666666666668,3.8333333333333337E-2,null,{"$f":"'Combined Cycle Gas'!$D$8","v":318.30459770114948},{"$f":"Nuclear!$D$8","v":307.69444444444446},0,0,0.15,0.52166666666666661,0]
["2018-02-09",22,40.72,0,null,{"$f":"M997","v":9.3116666666666674},21.728333333333335,1.3466666666666667,null,{"$f":"'Combined Cycle Gas'!$D$8","v":318.30459770114948},{"$f":"Nuclear!$D$8","v":307.69444444444446},0,0.64,6.3333333333333339E-2,1.0233333333333334,0]
["2018-02-09",23,40.229999999999997,138,null,{"$f":"M998","v":41.293333333333329},55.021666666666668,16.465,null,{"$f":"'Combined Cycle Gas'!$D$8","v":318.30459770114948},{"$f":"Nuclear!$D$8","v":307.69444444444446},0,0,0.10333333333333335,1.7616666666666665,0]
["2018-02-09",24,27.68,376,null,{"$f":"M999","v":79.736666666666665},73.064999999999998,29.26,null,{"$f":"'Combined Cycle Gas'!$D$8","v":318.30459770114948},{"$f":"Nuclear!$D$8","v":307.69444444444446},0,0,0,0.4916666666666667,0]
["2018-02-10",1,27.56,1221,null,{"$f":"M1000","v":95.386666666666656},97.77,42.036666666666669,null,{"$f":"'Combined Cycle Gas'!$D$8","v":318.30459770114948},{"$f":"Nuclear!$D$8","v":307.69444444444446},0,0,0,0.13500000000000001,0]
["2018-02-10",2,24.93,1641,null,{"$f":"M1001","v":114.38500000000001},108.83999999999999,87.77833333333335,null,{"$f":"'Combined Cycle Gas'!$D$8","v":318.30459770114948},{"$f":"Nuclear!$D$8","v":307.69444444444446},{"$f":"P995/10^6","v":0},0,0,0.375,0]
["2018-02-10",3,24.93,2086,null,{"$f":"M1002","v":132.33000000000001},112.43166666666669,108.66333333333334,null,{"$f":"'Combined Cycle Gas'!$D$8","v":318.30459770114948},{"$f":"Nuclear!$D$8","v":307.69444444444446},0,1.2249999999999999,2.0266666666666668,3.8333333333333337E-2,0]
["2018-02-10",4,29.11,2809,null,{"$f":"M1003","v":144.64500000000001},112.455,109.21333333333332,null,{"$f":"'Combined Cycle Gas'!$D$8","v":318.30459770114948},{"$f":"Nuclear!$D$8","v":307.69444444444446},0,9.3116666666666674,21.728333333333335,1.3466666666666667,0]
["2018-02-10",5,27.43,2931,null,{"$f":"M1004","v":147.9},111.82166666666666,107.35166666666665,null,{"$f":"'Combined Cycle Gas'!$D$8","v":318.30459770114948},{"$f":"Nuclear!$D$8","v":307.69444444444446},0,41.293333333333329,55.021666666666668,16.465,0]
["2018-02-10",6,32.409999999999997,2671,null,{"$f":"M1005","v":144.35333333333332},108.03000000000002,105.43000000000002,null,{"$f":"'Combined Cycle Gas'!$D$8","v":318.30459770114948},{"$f":"Nuclear!$D$8","v":307.69444444444446},0,79.736666666666665,73.064999999999998,29.26,0]
["2018-02-10",7,25.97,2671,null,{"$f":"M1006","v":137.05833333333331},107.16833333333334,103.67999999999999,null,{"$f":"'Combined Cycle Gas'!$D$8","v":318.30459770114948},{"$f":"Nuclear!$D$8","v":307.69444444444446},0,95.386666666666656,97.77,42.036666666666669,0]
["2018-02-10",8,31.54,2468,null,{"$f":"M1007","v":146.41666666666666},108.73833333333334,104.295,null,{"$f":"'Combined Cycle Gas'!$D$8","v":318.30459770114948},{"$f":"Nuclear!$D$8","v":307.69444444444446},3.9616560000000001,114.38500000000001,108.83999999999999,87.77833333333335,3961656]
["2018-02-10",9,34.92,1838,null,{"$f":"M1008","v":132.875},106.88666666666666,108.71333333333332,null,{"$f":"'Combined Cycle Gas'!$D$8","v":318.30459770114948},{"$f":"Nuclear!$D$8","v":307.69444444444446},6.5067079999999997,132.33000000000001,112.43166666666669,108.66333333333334,6506708]
["2018-02-10",10,39.36,1313,null,{"$f":"M1009","v":88.981666666666669},99.766666666666666,102.02833333333335,null,{"$f":"'Combined Cycle Gas'!$D$8","v":318.30459770114948},{"$f":"Nuclear!$D$8","v":307.69444444444446},7.4402169999999996,144.64500000000001,112.455,109.21333333333332,7440217]
["2018-02-10",11,39.450000000000003,1027,null,{"$f":"M1010","v":49.823333333333323},80.913333333333341,65.204999999999998,null,{"$f":"'Combined Cycle Gas'!$D$8","v":318.30459770114948},{"$f":"Nuclear!$D$8","v":307.69444444444446},7.8329029999999999,147.9,111.82166666666666,107.35166666666665,7832903]
["2018-02-10",12,31.49,653,null,{"$f":"M1011","v":36.856666666666662},64.666666666666671,34.65,null,{"$f":"'Combined Cycle Gas'!$D$8","v":318.30459770114948},{"$f":"Nuclear!$D$8","v":307.69444444444446},7.9774240000000001,144.35333333333332,108.03000000000002,105.43000000000002,7977424]
["2018-02-10",13,27.57,714,null,{"$f":"M1012","v":34.036666666666669},49.081666666666671,25.51,null,{"$f":"'Combined Cycle Gas'!$D$8","v":318.30459770114948},{"$f":"Nuclear!$D$8","v":307.69444444444446},7.9899190000000004,137.05833333333331,107.16833333333334,103.67999999999999,7989919]
["2018-02-10",14,27.72,712,null,{"$f":"M1013","v":30.701666666666664},40.25333333333333,24.276666666666667,null,{"$f":"'Combined Cycle Gas'!$D$8","v":318.30459770114948},{"$f":"Nuclear!$D$8","v":307.69444444444446},7.9245369999999999,146.41666666666666,108.73833333333334,104.295,7924537]
["2018-02-10",15,27.89,495,null,{"$f":"M1014","v":33.581666666666671},19.233333333333334,24.99666666666667,null,{"$f":"'Combined Cycle Gas'!$D$8","v":318.30459770114948},{"$f":"Nuclear!$D$8","v":307.69444444444446},7.5923080000000001,132.875,106.88666666666666,108.71333333333332,7592308]
["2018-02-10",16,28.91,238,null,{"$f":"M1015","v":47.236666666666672},13.208333333333334,21.526666666666667,null,{"$f":"'Combined Cycle Gas'!$D$8","v":318.30459770114948},{"$f":"Nuclear!$D$8","v":307.69444444444446},6.966818,88.981666666666669,99.766666666666666,102.02833333333335,6966818]
["2018-02-10",17,37.14,60,null,{"$f":"M1016","v":57.006666666666661},11.441666666666668,17.510000000000002,null,{"$f":"'Combined Cycle Gas'!$D$8","v":318.30459770114948},{"$f":"Nuclear!$D$8","v":307.69444444444446},5.281879,49.823333333333323,80.913333333333341,65.204999999999998,5281879]
["2018-02-10",18,40.75,8,null,{"$f":"M1017","v":56.491666666666674},13,15.204999999999998,null,{"$f":"'Combined Cycle Gas'!$D$8","v":318.30459770114948},{"$f":"Nuclear!$D$8","v":307.69444444444446},1.4386779999999999,36.856666666666662,64.666666666666671,34.65,1438678]
["2018-02-10",19,40.659999999999997,8,null,{"$f":"M1018","v":32.185000000000002},14.86,14.54,null,{"$f":"'Combined Cycle Gas'!$D$8","v":318.30459770114948},{"$f":"Nuclear!$D$8","v":307.69444444444446},0,34.036666666666669,49.081666666666671,25.51,0]
["2018-02-10",20,39.49,284,null,{"$f":"M1019","v":29.268333333333334},20.805,13.998333333333333,null,{"$f":"'Combined Cycle Gas'!$D$8","v":318.30459770114948},{"$f":"Nuclear!$D$8","v":307.69444444444446},0,30.701666666666664,40.25333333333333,24.276666666666667,0]
["2018-02-10",21,35.880000000000003,642,null,{"$f":"M1020","v":27.33},17.131666666666664,15.215000000000002,null,{"$f":"'Combined Cycle Gas'!$D$8","v":318.30459770114948},{"$f":"Nuclear!$D$8","v":307.69444444444446},0,33.581666666666671,19.233333333333334,24.99666666666667,0]
["2018-02-10",22,34.82,1467,null,{"$f":"M1021","v":27.513333333333332},14.176666666666668,15.238333333333332,null,{"$f":"'Combined Cycle Gas'!$D$8","v":318.30459770114948},{"$f":"Nuclear!$D$8","v":307.69444444444446},0,47.236666666666672,13.208333333333334,21.526666666666667,0]
["2018-02-10",23,24.98,2196,null,{"$f":"M1022","v":37.484999999999999},16.396666666666668,18.621666666666666,null,{"$f":"'Combined Cycle Gas'!$D$8","v":318.30459770114948},{"$f":"Nuclear!$D$8","v":307.69444444444446},0,57.006666666666661,11.441666666666668,17.510000000000002,0]
["2018-02-10",24,25.91,2492,null,{"$f":"M1023","v":37.349999999999994},14.326666666666666,29.508333333333329,null,{"$f":"'Combined Cycle Gas'!$D$8","v":318.30459770114948},{"$f":"Nuclear!$D$8","v":307.69444444444446},0,56.491666666666674,13,15.204999999999998,0]
["2018-02-11",1,32.4,2202,null,{"$f":"M1024","v":28.268333333333334},12.486666666666666,33.141666666666666,null,{"$f":"'Combined Cycle Gas'!$D$8","v":318.30459770114948},{"$f":"Nuclear!$D$8","v":307.69444444444446},0,32.185000000000002,14.86,14.54,0]
["2018-02-11",2,31.51,1969,null,{"$f":"M1025","v":28.754999999999995},12.813333333333334,34.193333333333335,null,{"$f":"'Combined Cycle Gas'!$D$8","v":318.30459770114948},{"$f":"Nuclear!$D$8","v":307.69444444444446},0,29.268333333333334,20.805,13.998333333333333,0]
["2018-02-11",3,29.93,2199,null,{"$f":"M1026","v":30.828333333333333},12.911666666666667,36.173333333333339,null,{"$f":"'Combined Cycle Gas'!$D$8","v":318.30459770114948},{"$f":"Nuclear!$D$8","v":307.69444444444446},0,27.33,17.131666666666664,15.215000000000002,0]
["2018-02-11",4,30.12,2231,null,{"$f":"M1027","v":36.130000000000003},14.201666666666666,32.573333333333331,null,{"$f":"'Combined Cycle Gas'!$D$8","v":318.30459770114948},{"$f":"Nuclear!$D$8","v":307.69444444444446},0,27.513333333333332,14.176666666666668,15.238333333333332,0]
["2018-02-11",5,31.26,2131,null,{"$f":"M1028","v":42.143333333333338},19.114999999999998,19.623333333333335,null,{"$f":"'Combined Cycle Gas'!$D$8","v":318.30459770114948},{"$f":"Nuclear!$D$8","v":307.69444444444446},0,37.484999999999999,16.396666666666668,18.621666666666666,0]
["2018-02-11",6,32.61,1950,null,{"$f":"M1029","v":54.561666666666667},24.75,16.856666666666666,null,{"$f":"'Combined Cycle Gas'!$D$8","v":318.30459770114948},{"$f":"Nuclear!$D$8","v":307.69444444444446},0,37.349999999999994,14.326666666666666,29.508333333333329,0]
["2018-02-11",7,29.65,1888,null,{"$f":"M1030","v":83.78},40.443333333333335,18.32,null,{"$f":"'Combined Cycle Gas'!$D$8","v":318.30459770114948},{"$f":"Nuclear!$D$8","v":307.69444444444446},2.6699999999999998E-4,28.268333333333334,12.486666666666666,33.141666666666666,267]
["2018-02-11",8,27.9,2992,null,{"$f":"M1031","v":110.14333333333332},52.906666666666666,22.548333333333332,null,{"$f":"'Combined Cycle Gas'!$D$8","v":318.30459770114948},{"$f":"Nuclear!$D$8","v":307.69444444444446},3.0158260000000001,28.754999999999995,12.813333333333334,34.193333333333335,3015826]
["2018-02-11",9,28.85,3262,null,{"$f":"M1032","v":84.616666666666674},38.80833333333333,25.745000000000001,null,{"$f":"'Combined Cycle Gas'!$D$8","v":318.30459770114948},{"$f":"Nuclear!$D$8","v":307.69444444444446},4.887562,30.828333333333333,12.911666666666667,36.173333333333339,4887562]
["2018-02-11",10,28.43,3260,null,{"$f":"M1033","v":50.995000000000005},28.014999999999997,30.398333333333337,null,{"$f":"'Combined Cycle Gas'!$D$8","v":318.30459770114948},{"$f":"Nuclear!$D$8","v":307.69444444444446},6.4215780000000002,36.130000000000003,14.201666666666666,32.573333333333331,6421578]
["2018-02-11",11,28.44,3045,null,{"$f":"M1034","v":61.055},28.374999999999996,35.44166666666667,null,{"$f":"'Combined Cycle Gas'!$D$8","v":318.30459770114948},{"$f":"Nuclear!$D$8","v":307.69444444444446},7.19217,42.143333333333338,19.114999999999998,19.623333333333335,7192170]
["2018-02-11",12,28.54,3030,null,{"$f":"M1035","v":76.398333333333326},27.131666666666671,40.773333333333333,null,{"$f":"'Combined Cycle Gas'!$D$8","v":318.30459770114948},{"$f":"Nuclear!$D$8","v":307.69444444444446},7.4674560000000003,54.561666666666667,24.75,16.856666666666666,7467456]
["2018-02-11",13,28.21,3007,null,{"$f":"M1036","v":61.54},40.185000000000002,39.043333333333344,null,{"$f":"'Combined Cycle Gas'!$D$8","v":318.30459770114948},{"$f":"Nuclear!$D$8","v":307.69444444444446},7.7031349999999996,83.78,40.443333333333335,18.32,7703135]
["2018-02-11",14,26.4,3006,null,{"$f":"M1037","v":78.81},47.916666666666664,45.604999999999997,null,{"$f":"'Combined Cycle Gas'!$D$8","v":318.30459770114948},{"$f":"Nuclear!$D$8","v":307.69444444444446},7.754067,110.14333333333332,52.906666666666666,22.548333333333332,7754067]
["2018-02-11",15,27.88,2450,null,{"$f":"M1038","v":65.800000000000011},54.138333333333343,56.398333333333333,null,{"$f":"'Combined Cycle Gas'!$D$8","v":318.30459770114948},{"$f":"Nuclear!$D$8","v":307.69444444444446},7.5934660000000003,84.616666666666674,38.80833333333333,25.745000000000001,7593466]
["2018-02-11",16,29.11,1947,null,{"$f":"M1039","v":90.791666666666671},32.286666666666669,57.79,null,{"$f":"'Combined Cycle Gas'!$D$8","v":318.30459770114948},{"$f":"Nuclear!$D$8","v":307.69444444444446},6.5969119999999997,50.995000000000005,28.014999999999997,30.398333333333337,6596912]
["2018-02-11",17,38.74,1191,null,{"$f":"M1040","v":111.565},75.073333333333323,61.044999999999995,null,{"$f":"'Combined Cycle Gas'!$D$8","v":318.30459770114948},{"$f":"Nuclear!$D$8","v":307.69444444444446},4.0652109999999997,61.055,28.374999999999996,35.44166666666667,4065211]
["2018-02-11",18,45.02,1005,null,{"$f":"M1041","v":132.90666666666667},86.303333333333342,36.164999999999999,null,{"$f":"'Combined Cycle Gas'!$D$8","v":318.30459770114948},{"$f":"Nuclear!$D$8","v":307.69444444444446},1.232329,76.398333333333326,27.131666666666671,40.773333333333333,1232329]
["2018-02-11",19,37.950000000000003,1918,null,{"$f":"M1042","v":131.35499999999999},87.333333333333329,56.905000000000008,null,{"$f":"'Combined Cycle Gas'!$D$8","v":318.30459770114948},{"$f":"Nuclear!$D$8","v":307.69444444444446},0,61.54,40.185000000000002,39.043333333333344,0]
["2018-02-11",20,26.7,3013,null,{"$f":"M1043","v":147.16},87.759999999999991,55.123333333333335,null,{"$f":"'Combined Cycle Gas'!$D$8","v":318.30459770114948},{"$f":"Nuclear!$D$8","v":307.69444444444446},0,78.81,47.916666666666664,45.604999999999997,0]
["2018-02-11",21,30.64,3013,null,{"$f":"M1044","v":134.20000000000002},80.76166666666667,57.56,null,{"$f":"'Combined Cycle Gas'!$D$8","v":318.30459770114948},{"$f":"Nuclear!$D$8","v":307.69444444444446},0,65.800000000000011,54.138333333333343,56.398333333333333,0]
["2018-02-11",22,32.24,2719,null,{"$f":"M1045","v":117.97000000000001},63.005000000000003,52.501666666666672,null,{"$f":"'Combined Cycle Gas'!$D$8","v":318.30459770114948},{"$f":"Nuclear!$D$8","v":307.69444444444446},0,90.791666666666671,32.286666666666669,57.79,0]
["2018-02-11",23,34.26,2322,null,{"$f":"M1046","v":107.89833333333331},72.404999999999987,49.57833333333334,null,{"$f":"'Combined Cycle Gas'!$D$8","v":318.30459770114948},{"$f":"Nuclear!$D$8","v":307.69444444444446},0,111.565,75.073333333333323,61.044999999999995,0]
["2018-02-11",24,28.74,2662,null,{"$f":"M1047","v":122.25},73.515000000000015,83.016666666666666,null,{"$f":"'Combined Cycle Gas'!$D$8","v":318.30459770114948},{"$f":"Nuclear!$D$8","v":307.69444444444446},0,132.90666666666667,86.303333333333342,36.164999999999999,0]
["2018-02-12",1,29.42,2888,null,{"$f":"M1048","v":103.73333333333335},71.63666666666667,83.84666666666665,null,{"$f":"'Combined Cycle Gas'!$D$8","v":318.30459770114948},{"$f":"Nuclear!$D$8","v":307.69444444444446},0,131.35499999999999,87.333333333333329,56.905000000000008,0]
["2018-02-12",2,29.92,2713,null,{"$f":"M1049","v":89.65666666666668},65.405000000000015,75.314999999999998,null,{"$f":"'Combined Cycle Gas'!$D$8","v":318.30459770114948},{"$f":"Nuclear!$D$8","v":307.69444444444446},0,147.16,87.759999999999991,55.123333333333335,0]
["2018-02-12",3,33.29,2185,null,{"$f":"M1050","v":76.746666666666655},46.056666666666672,74.143333333333331,null,{"$f":"'Combined Cycle Gas'!$D$8","v":318.30459770114948},{"$f":"Nuclear!$D$8","v":307.69444444444446},0,134.20000000000002,80.76166666666667,57.56,0]
["2018-02-12",4,33.93,2111,null,{"$f":"M1051","v":86.574999999999989},33.293333333333337,55.57833333333334,null,{"$f":"'Combined Cycle Gas'!$D$8","v":318.30459770114948},{"$f":"Nuclear!$D$8","v":307.69444444444446},0,117.97000000000001,63.005000000000003,52.501666666666672,0]
["2018-02-12",5,36.42,1687,null,{"$f":"M1052","v":63.405000000000001},24.063333333333333,50.235000000000007,null,{"$f":"'Combined Cycle Gas'!$D$8","v":318.30459770114948},{"$f":"Nuclear!$D$8","v":307.69444444444446},0,107.89833333333331,72.404999999999987,49.57833333333334,0]
["2018-02-12",6,40.53,1806,null,{"$f":"M1053","v":49.526666666666664},20.346666666666668,27.373333333333335,null,{"$f":"'Combined Cycle Gas'!$D$8","v":318.30459770114948},{"$f":"Nuclear!$D$8","v":307.69444444444446},0,122.25,73.515000000000015,83.016666666666666,0]
["2018-02-12",7,41.5,1805,null,{"$f":"M1054","v":38.143333333333338},13.391666666666666,27.443333333333332,null,{"$f":"'Combined Cycle Gas'!$D$8","v":318.30459770114948},{"$f":"Nuclear!$D$8","v":307.69444444444446},0,103.73333333333335,71.63666666666667,83.84666666666665,0]
["2018-02-12",8,51.04,1585,null,{"$f":"M1055","v":26.118333333333336},10.649999999999999,38.561666666666667,null,{"$f":"'Combined Cycle Gas'!$D$8","v":318.30459770114948},{"$f":"Nuclear!$D$8","v":307.69444444444446},2.9317229999999999,89.65666666666668,65.405000000000015,75.314999999999998,2931723]
["2018-02-12",9,41.74,802,null,{"$f":"M1056","v":23.536666666666665},12.816666666666668,30.783333333333335,null,{"$f":"'Combined Cycle Gas'!$D$8","v":318.30459770114948},{"$f":"Nuclear!$D$8","v":307.69444444444446},6.3218120000000004,76.746666666666655,46.056666666666672,74.143333333333331,6321812]
["2018-02-12",10,41.16,876,null,{"$f":"M1057","v":21.316666666666666},11.496666666666664,34.940000000000005,null,{"$f":"'Combined Cycle Gas'!$D$8","v":318.30459770114948},{"$f":"Nuclear!$D$8","v":307.69444444444446},7.254257,86.574999999999989,33.293333333333337,55.57833333333334,7254257]
["2018-02-12",11,40.76,1574,null,{"$f":"M1058","v":27.806666666666668},10.185,33.92,null,{"$f":"'Combined Cycle Gas'!$D$8","v":318.30459770114948},{"$f":"Nuclear!$D$8","v":307.69444444444446},7.757409,63.405000000000001,24.063333333333333,50.235000000000007,7757409]
["2018-02-12",12,39.82,2109,null,{"$f":"M1059","v":37.666666666666664},14.126666666666665,41.56666666666667,null,{"$f":"'Combined Cycle Gas'!$D$8","v":318.30459770114948},{"$f":"Nuclear!$D$8","v":307.69444444444446},7.7328789999999996,49.526666666666664,20.346666666666668,27.373333333333335,7732879]
["2018-02-12",13,36.5,2393,null,{"$f":"M1060","v":46.31333333333334},15.178333333333335,43.123333333333335,null,{"$f":"'Combined Cycle Gas'!$D$8","v":318.30459770114948},{"$f":"Nuclear!$D$8","v":307.69444444444446},7.8070279999999999,38.143333333333338,13.391666666666666,27.443333333333332,7807028]
["2018-02-12",14,34.43,2608,null,{"$f":"M1061","v":48.023333333333333},12.5,56.716666666666669,null,{"$f":"'Combined Cycle Gas'!$D$8","v":318.30459770114948},{"$f":"Nuclear!$D$8","v":307.69444444444446},7.7568400000000004,26.118333333333336,10.649999999999999,38.561666666666667,7756840]
["2018-02-12",15,31.01,2732,null,{"$f":"M1062","v":44.793333333333344},16.293333333333333,47.336666666666666,null,{"$f":"'Combined Cycle Gas'!$D$8","v":318.30459770114948},{"$f":"Nuclear!$D$8","v":307.69444444444446},7.6148259999999999,23.536666666666665,12.816666666666668,30.783333333333335,7614826]
["2018-02-12",16,29.29,2878,null,{"$f":"M1063","v":35.276666666666664},20.088333333333335,52.205000000000005,null,{"$f":"'Combined Cycle Gas'!$D$8","v":318.30459770114948},{"$f":"Nuclear!$D$8","v":307.69444444444446},6.1330280000000004,21.316666666666666,11.496666666666664,34.940000000000005,6133028]
["2018-02-12",17,29.33,2846,null,{"$f":"M1064","v":32.344999999999999},20.408333333333335,45.49,null,{"$f":"'Combined Cycle Gas'!$D$8","v":318.30459770114948},{"$f":"Nuclear!$D$8","v":307.69444444444446},4.9561149999999996,27.806666666666668,10.185,33.92,4956115]
["2018-02-12",18,34.79,2681,null,{"$f":"M1065","v":34.038333333333334},21.138333333333332,45.945,null,{"$f":"'Combined Cycle Gas'!$D$8","v":318.30459770114948},{"$f":"Nuclear!$D$8","v":307.69444444444446},{"$f":"P1059/10^6","v":0.96708700000000003},37.666666666666664,14.126666666666665,41.56666666666667,967087]
["2018-02-12",19,39.61,2917,null,{"$f":"M1066","v":20.005000000000003},25.471666666666664,27.006666666666671,null,{"$f":"'Combined Cycle Gas'!$D$8","v":318.30459770114948},{"$f":"Nuclear!$D$8","v":307.69444444444446},0,46.31333333333334,15.178333333333335,43.123333333333335,0]
["2018-02-12",20,38.270000000000003,2712,null,{"$f":"M1067","v":25.553333333333331},29.608333333333334,18.428333333333335,null,{"$f":"'Combined Cycle Gas'!$D$8","v":318.30459770114948},{"$f":"Nuclear!$D$8","v":307.69444444444446},0,48.023333333333333,12.5,56.716666666666669,0]
["2018-02-12",21,29.02,2291,null,{"$f":"M1068","v":30.853333333333335},33.213333333333338,16.66,null,{"$f":"'Combined Cycle Gas'!$D$8","v":318.30459770114948},{"$f":"Nuclear!$D$8","v":307.69444444444446},0,44.793333333333344,16.293333333333333,47.336666666666666,0]
["2018-02-12",22,37.18,1939,null,{"$f":"M1069","v":59.919999999999995},46.723333333333336,13.328333333333333,null,{"$f":"'Combined Cycle Gas'!$D$8","v":318.30459770114948},{"$f":"Nuclear!$D$8","v":307.69444444444446},0,35.276666666666664,20.088333333333335,52.205000000000005,0]
["2018-02-12",23,37.83,2262,null,{"$f":"M1070","v":73.618333333333339},45.309999999999995,18.715,null,{"$f":"'Combined Cycle Gas'!$D$8","v":318.30459770114948},{"$f":"Nuclear!$D$8","v":307.69444444444446},0,32.344999999999999,20.408333333333335,45.49,0]
["2018-02-12",24,29.17,2689,null,{"$f":"M1071","v":60.44},28.678333333333331,32.653333333333329,null,{"$f":"'Combined Cycle Gas'!$D$8","v":318.30459770114948},{"$f":"Nuclear!$D$8","v":307.69444444444446},0,34.038333333333334,21.138333333333332,45.945,0]
["2018-02-13",1,27.62,2743,null,{"$f":"M1072","v":39.618333333333332},15.581666666666665,45.110000000000007,null,{"$f":"'Combined Cycle Gas'!$D$8","v":318.30459770114948},{"$f":"Nuclear!$D$8","v":307.69444444444446},0,20.005000000000003,25.471666666666664,27.006666666666671,0]
["2018-02-13",2,27.62,2726,null,{"$f":"M1073","v":32.14},14.75,44.396666666666668,null,{"$f":"'Combined Cycle Gas'!$D$8","v":318.30459770114948},{"$f":"Nuclear!$D$8","v":307.69444444444446},0,25.553333333333331,29.608333333333334,18.428333333333335,0]
["2018-02-13",3,27.18,2767,null,{"$f":"M1074","v":29.81},10.418333333333333,28.97,null,{"$f":"'Combined Cycle Gas'!$D$8","v":318.30459770114948},{"$f":"Nuclear!$D$8","v":307.69444444444446},0,30.853333333333335,33.213333333333338,16.66,0]
["2018-02-13",4,27.55,2537,null,{"$f":"M1075","v":27.566666666666666},11.736666666666666,24.466666666666665,null,{"$f":"'Combined Cycle Gas'!$D$8","v":318.30459770114948},{"$f":"Nuclear!$D$8","v":307.69444444444446},0,59.919999999999995,46.723333333333336,13.328333333333333,0]
["2018-02-13",5,29.74,2468,null,{"$f":"M1076","v":23.246666666666666},8.5333333333333332,14.113333333333335,null,{"$f":"'Combined Cycle Gas'!$D$8","v":318.30459770114948},{"$f":"Nuclear!$D$8","v":307.69444444444446},0,73.618333333333339,45.309999999999995,18.715,0]
["2018-02-13",6,28.47,2290,null,{"$f":"M1077","v":7.1849999999999996},7.4066666666666663,8.7866666666666671,null,{"$f":"'Combined Cycle Gas'!$D$8","v":318.30459770114948},{"$f":"Nuclear!$D$8","v":307.69444444444446},0,60.44,28.678333333333331,32.653333333333329,0]
["2018-02-13",7,40.46,2389,null,{"$f":"M1078","v":6.25},7.5633333333333335,10.106666666666667,null,{"$f":"'Combined Cycle Gas'!$D$8","v":318.30459770114948},{"$f":"Nuclear!$D$8","v":307.69444444444446},7.5399999999999998E-3,39.618333333333332,15.581666666666665,45.110000000000007,7540]
["2018-02-13",8,37.46,2693,null,{"$f":"M1079","v":10.835000000000001},9.2850000000000001,16.978333333333335,null,{"$f":"'Combined Cycle Gas'!$D$8","v":318.30459770114948},{"$f":"Nuclear!$D$8","v":307.69444444444446},4.345542,32.14,14.75,44.396666666666668,4345542]
["2018-02-13",9,27.19,2763,null,{"$f":"M1080","v":9.1233333333333331},11.491666666666667,22.811666666666667,null,{"$f":"'Combined Cycle Gas'!$D$8","v":318.30459770114948},{"$f":"Nuclear!$D$8","v":307.69444444444446},6.5036120000000004,29.81,10.418333333333333,28.97,6503612]
["2018-02-13",10,26.26,2887,null,{"$f":"M1081","v":7.8850000000000016},9.4666666666666668,24.933333333333334,null,{"$f":"'Combined Cycle Gas'!$D$8","v":318.30459770114948},{"$f":"Nuclear!$D$8","v":307.69444444444446},6.7411919999999999,27.566666666666666,11.736666666666666,24.466666666666665,6741192]
["2018-02-13",11,26.67,3012,null,{"$f":"M1082","v":13.155000000000001},11.116666666666667,21.97666666666667,null,{"$f":"'Combined Cycle Gas'!$D$8","v":318.30459770114948},{"$f":"Nuclear!$D$8","v":307.69444444444446},6.6011360000000003,23.246666666666666,8.5333333333333332,14.113333333333335,6601136]
["2018-02-13",12,26.55,3012,null,{"$f":"M1083","v":22.771666666666665},15.65,25.515000000000001,null,{"$f":"'Combined Cycle Gas'!$D$8","v":318.30459770114948},{"$f":"Nuclear!$D$8","v":307.69444444444446},6.495565,7.1849999999999996,7.4066666666666663,8.7866666666666671,6495565]
["2018-02-13",13,26.94,3012,null,{"$f":"M1084","v":27.016666666666669},20.951666666666668,23.518333333333331,null,{"$f":"'Combined Cycle Gas'!$D$8","v":318.30459770114948},{"$f":"Nuclear!$D$8","v":307.69444444444446},6.6811100000000003,6.25,7.5633333333333335,10.106666666666667,6681110]
["2018-02-13",14,26.75,3012,null,{"$f":"M1085","v":27.026666666666671},18.71166666666667,22.183333333333334,null,{"$f":"'Combined Cycle Gas'!$D$8","v":318.30459770114948},{"$f":"Nuclear!$D$8","v":307.69444444444446},6.5315599999999998,10.835000000000001,9.2850000000000001,16.978333333333335,6531560]
["2018-02-13",15,26.84,3012,null,{"$f":"M1086","v":33.168333333333329},28.943333333333332,27.471666666666664,null,{"$f":"'Combined Cycle Gas'!$D$8","v":318.30459770114948},{"$f":"Nuclear!$D$8","v":307.69444444444446},4.738658,9.1233333333333331,11.491666666666667,22.811666666666667,4738658]
["2018-02-13",16,26.88,3012,null,{"$f":"M1087","v":34.888333333333328},46.873333333333328,37.134999999999998,null,{"$f":"'Combined Cycle Gas'!$D$8","v":318.30459770114948},{"$f":"Nuclear!$D$8","v":307.69444444444446},3.4456150000000001,7.8850000000000016,9.4666666666666668,24.933333333333334,3445615]
["2018-02-13",17,28.94,2967,null,{"$f":"M1088","v":45.403333333333336},78.341666666666669,48.901666666666664,null,{"$f":"'Combined Cycle Gas'!$D$8","v":318.30459770114948},{"$f":"Nuclear!$D$8","v":307.69444444444446},0.90897399999999995,13.155000000000001,11.116666666666667,21.97666666666667,908974]
["2018-02-13",18,27.82,2063,null,{"$f":"M1089","v":36.895000000000003},96.365000000000009,71.191666666666663,null,{"$f":"'Combined Cycle Gas'!$D$8","v":318.30459770114948},{"$f":"Nuclear!$D$8","v":307.69444444444446},0,22.771666666666665,15.65,25.515000000000001,0]
["2018-02-13",19,48.78,1449,null,{"$f":"M1090","v":44.839999999999996},106.125,77.323333333333338,null,{"$f":"'Combined Cycle Gas'!$D$8","v":318.30459770114948},{"$f":"Nuclear!$D$8","v":307.69444444444446},0,27.016666666666669,20.951666666666668,23.518333333333331,0]
["2018-02-13",20,34.49,754,null,{"$f":"M1091","v":66.098333333333329},106.20666666666665,82.083333333333343,null,{"$f":"'Combined Cycle Gas'!$D$8","v":318.30459770114948},{"$f":"Nuclear!$D$8","v":307.69444444444446},0,27.026666666666671,18.71166666666667,22.183333333333334,0]
["2018-02-13",21,36.380000000000003,112,null,{"$f":"M1092","v":88.296666666666667},104.19833333333334,90.778333333333322,null,{"$f":"'Combined Cycle Gas'!$D$8","v":318.30459770114948},{"$f":"Nuclear!$D$8","v":307.69444444444446},0,33.168333333333329,28.943333333333332,27.471666666666664,0]
["2018-02-13",22,40.020000000000003,374,null,{"$f":"M1093","v":94.94},105.20666666666666,98.796666666666667,null,{"$f":"'Combined Cycle Gas'!$D$8","v":318.30459770114948},{"$f":"Nuclear!$D$8","v":307.69444444444446},0,34.888333333333328,46.873333333333328,37.134999999999998,0]
["2018-02-13",23,35.979999999999997,728,null,{"$f":"M1094","v":112.125},105.60000000000001,98.483333333333334,null,{"$f":"'Combined Cycle Gas'!$D$8","v":318.30459770114948},{"$f":"Nuclear!$D$8","v":307.69444444444446},0,45.403333333333336,78.341666666666669,48.901666666666664,0]
["2018-02-13",24,27.62,1549,null,{"$f":"M1095","v":125.39499999999998},105.47500000000001,98.13,null,{"$f":"'Combined Cycle Gas'!$D$8","v":318.30459770114948},{"$f":"Nuclear!$D$8","v":307.69444444444446},0,36.895000000000003,96.365000000000009,71.191666666666663,0]
["2018-02-14",1,27.55,2300,null,{"$f":"M1096","v":129.77999999999997},104.16166666666668,93.491666666666674,null,{"$f":"'Combined Cycle Gas'!$D$8","v":318.30459770114948},{"$f":"Nuclear!$D$8","v":307.69444444444446},0,44.839999999999996,106.125,77.323333333333338,0]
["2018-02-14",2,24.34,2925,null,{"$f":"M1097","v":119.57000000000001},102.76333333333334,81.353333333333339,null,{"$f":"'Combined Cycle Gas'!$D$8","v":318.30459770114948},{"$f":"Nuclear!$D$8","v":307.69444444444446},0,66.098333333333329,106.20666666666665,82.083333333333343,0]
["2018-02-14",3,24.25,3278,null,{"$f":"M1098","v":118.76333333333334},100.02499999999999,87.001666666666665,null,{"$f":"'Combined Cycle Gas'!$D$8","v":318.30459770114948},{"$f":"Nuclear!$D$8","v":307.69444444444446},0,88.296666666666667,104.19833333333334,90.778333333333322,0]
["2018-02-14",4,26.09,3464,null,{"$f":"M1099","v":115.74000000000001},95.823333333333338,93.688333333333333,null,{"$f":"'Combined Cycle Gas'!$D$8","v":318.30459770114948},{"$f":"Nuclear!$D$8","v":307.69444444444446},0,94.94,105.20666666666666,98.796666666666667,0]
["2018-02-14",5,27.88,3500,null,{"$f":"M1100","v":110.66500000000001},98.783333333333346,96.511666666666656,null,{"$f":"'Combined Cycle Gas'!$D$8","v":318.30459770114948},{"$f":"Nuclear!$D$8","v":307.69444444444446},0,112.125,105.60000000000001,98.483333333333334,0]
["2018-02-14",6,30.13,3266,null,{"$f":"M1101","v":97.74666666666667},95.783333333333346,89.581666666666663,null,{"$f":"'Combined Cycle Gas'!$D$8","v":318.30459770114948},{"$f":"Nuclear!$D$8","v":307.69444444444446},0,125.39499999999998,105.47500000000001,98.13,0]
["2018-02-14",7,28.92,3013,null,{"$f":"M1102","v":76.781666666666666},85.786666666666676,84.635000000000005,null,{"$f":"'Combined Cycle Gas'!$D$8","v":318.30459770114948},{"$f":"Nuclear!$D$8","v":307.69444444444446},0,129.77999999999997,104.16166666666668,93.491666666666674,0]
["2018-02-14",8,31.36,3013,null,{"$f":"M1103","v":78.179999999999993},84.079999999999984,85.02,null,{"$f":"'Combined Cycle Gas'!$D$8","v":318.30459770114948},{"$f":"Nuclear!$D$8","v":307.69444444444446},6.6558999999999993E-2,119.57000000000001,102.76333333333334,81.353333333333339,66559]
["2018-02-14",9,28.29,3012,null,{"$f":"M1104","v":75.195000000000007},89.616666666666674,88.12,null,{"$f":"'Combined Cycle Gas'!$D$8","v":318.30459770114948},{"$f":"Nuclear!$D$8","v":307.69444444444446},0.68639600000000001,118.76333333333334,100.02499999999999,87.001666666666665,686396]
["2018-02-14",10,28.83,2965,null,{"$f":"M1105","v":31.858333333333331},81.978333333333339,78.768333333333331,null,{"$f":"'Combined Cycle Gas'!$D$8","v":318.30459770114948},{"$f":"Nuclear!$D$8","v":307.69444444444446},1.842978,115.74000000000001,95.823333333333338,93.688333333333333,1842978]
["2018-02-14",11,28.48,3012,null,{"$f":"M1106","v":13.933333333333332},65.851666666666674,52.99,null,{"$f":"'Combined Cycle Gas'!$D$8","v":318.30459770114948},{"$f":"Nuclear!$D$8","v":307.69444444444446},1.6307510000000001,110.66500000000001,98.783333333333346,96.511666666666656,1630751]
["2018-02-14",12,28.78,3012,null,{"$f":"M1107","v":15.143333333333333},54.213333333333338,35.134999999999998,null,{"$f":"'Combined Cycle Gas'!$D$8","v":318.30459770114948},{"$f":"Nuclear!$D$8","v":307.69444444444446},2.3607420000000001,97.74666666666667,95.783333333333346,89.581666666666663,2360742]
["2018-02-14",13,29.09,3012,null,{"$f":"M1108","v":20.319999999999997},53.658333333333331,26.02333333333333,null,{"$f":"'Combined Cycle Gas'!$D$8","v":318.30459770114948},{"$f":"Nuclear!$D$8","v":307.69444444444446},2.1961249999999999,76.781666666666666,85.786666666666676,84.635000000000005,2196125]
["2018-02-14",14,29.1,2860,null,{"$f":"M1109","v":24.765000000000001},50.341666666666669,25.218333333333334,null,{"$f":"'Combined Cycle Gas'!$D$8","v":318.30459770114948},{"$f":"Nuclear!$D$8","v":307.69444444444446},2.2710659999999998,78.179999999999993,84.079999999999984,85.02,2271066]
["2018-02-14",15,27.3,2915,null,{"$f":"M1110","v":33.098333333333336},34.486666666666657,26.474999999999998,null,{"$f":"'Combined Cycle Gas'!$D$8","v":318.30459770114948},{"$f":"Nuclear!$D$8","v":307.69444444444446},1.0940289999999999,75.195000000000007,89.616666666666674,88.12,1094029]
["2018-02-14",16,28.43,2940,null,{"$f":"M1111","v":52.521666666666675},28.159999999999997,38.756666666666668,null,{"$f":"'Combined Cycle Gas'!$D$8","v":318.30459770114948},{"$f":"Nuclear!$D$8","v":307.69444444444446},1.274187,31.858333333333331,81.978333333333339,78.768333333333331,1274187]
["2018-02-14",17,35.39,2542,null,{"$f":"M1112","v":58.35},66.596666666666664,59.288333333333334,null,{"$f":"'Combined Cycle Gas'!$D$8","v":318.30459770114948},{"$f":"Nuclear!$D$8","v":307.69444444444446},0.27313799999999999,13.933333333333332,65.851666666666674,52.99,273138]
["2018-02-14",18,31.88,1461,null,{"$f":"M1113","v":77.833333333333329},80.198333333333338,81.954999999999984,null,{"$f":"'Combined Cycle Gas'!$D$8","v":318.30459770114948},{"$f":"Nuclear!$D$8","v":307.69444444444446},0,15.143333333333333,54.213333333333338,35.134999999999998,0]
["2018-02-14",19,44.16,734,null,{"$f":"M1114","v":113.71999999999998},86.179999999999993,82.39,null,{"$f":"'Combined Cycle Gas'!$D$8","v":318.30459770114948},{"$f":"Nuclear!$D$8","v":307.69444444444446},0,20.319999999999997,53.658333333333331,26.02333333333333,0]
["2018-02-14",20,42.99,134,null,{"$f":"M1115","v":131.16500000000002},97.364999999999995,89.970000000000013,null,{"$f":"'Combined Cycle Gas'!$D$8","v":318.30459770114948},{"$f":"Nuclear!$D$8","v":307.69444444444446},0,24.765000000000001,50.341666666666669,25.218333333333334,0]
["2018-02-14",21,43.4,133,null,{"$f":"M1116","v":129.60666666666665},101.85333333333334,96.3,null,{"$f":"'Combined Cycle Gas'!$D$8","v":318.30459770114948},{"$f":"Nuclear!$D$8","v":307.69444444444446},0,33.098333333333336,34.486666666666657,26.474999999999998,0]
["2018-02-14",22,46.41,5,null,{"$f":"M1117","v":132.09},102.44833333333334,99.125,null,{"$f":"'Combined Cycle Gas'!$D$8","v":318.30459770114948},{"$f":"Nuclear!$D$8","v":307.69444444444446},0,52.521666666666675,28.159999999999997,38.756666666666668,0]
["2018-02-14",23,40.200000000000003,15,null,{"$f":"M1118","v":139.48166666666665},100.97833333333334,99.478333333333339,null,{"$f":"'Combined Cycle Gas'!$D$8","v":318.30459770114948},{"$f":"Nuclear!$D$8","v":307.69444444444446},0,58.35,66.596666666666664,59.288333333333334,0]
["2018-02-14",24,31.22,134,null,{"$f":"M1119","v":141.73333333333335},100.71999999999998,98.660000000000011,null,{"$f":"'Combined Cycle Gas'!$D$8","v":318.30459770114948},{"$f":"Nuclear!$D$8","v":307.69444444444446},0,77.833333333333329,80.198333333333338,81.954999999999984,0]
["2018-02-15",1,29.25,1151,null,{"$f":"M1120","v":136.18833333333336},100.755,96.838333333333324,null,{"$f":"'Combined Cycle Gas'!$D$8","v":318.30459770114948},{"$f":"Nuclear!$D$8","v":307.69444444444446},0,113.71999999999998,86.179999999999993,82.39,0]
["2018-02-15",2,24.05,2202,null,{"$f":"M1121","v":136.98833333333332},100.12166666666667,97.803333333333327,null,{"$f":"'Combined Cycle Gas'!$D$8","v":318.30459770114948},{"$f":"Nuclear!$D$8","v":307.69444444444446},0,131.16500000000002,97.364999999999995,89.970000000000013,0]
["2018-02-15",3,25.89,2976,null,{"$f":"M1122","v":134.78166666666667},101.58833333333335,95.894999999999996,null,{"$f":"'Combined Cycle Gas'!$D$8","v":318.30459770114948},{"$f":"Nuclear!$D$8","v":307.69444444444446},0,129.60666666666665,101.85333333333334,96.3,0]
["2018-02-15",4,25.89,3500,null,{"$f":"M1123","v":128},102.99166666666667,96.12833333333333,null,{"$f":"'Combined Cycle Gas'!$D$8","v":318.30459770114948},{"$f":"Nuclear!$D$8","v":307.69444444444446},0,132.09,102.44833333333334,99.125,0]
["2018-02-15",5,27.55,3500,null,{"$f":"M1124","v":122.91500000000001},99.601666666666674,95.416666666666671,null,{"$f":"'Combined Cycle Gas'!$D$8","v":318.30459770114948},{"$f":"Nuclear!$D$8","v":307.69444444444446},0,139.48166666666665,100.97833333333334,99.478333333333339,0]
["2018-02-15",6,30.82,3135,null,{"$f":"M1125","v":117.10833333333333},99.801666666666662,95.111666666666665,null,{"$f":"'Combined Cycle Gas'!$D$8","v":318.30459770114948},{"$f":"Nuclear!$D$8","v":307.69444444444446},0,141.73333333333335,100.71999999999998,98.660000000000011,0]
["2018-02-15",7,28.58,3013,null,{"$f":"M1126","v":106.85166666666669},93.913333333333341,93.285000000000011,null,{"$f":"'Combined Cycle Gas'!$D$8","v":318.30459770114948},{"$f":"Nuclear!$D$8","v":307.69444444444446},0,136.18833333333336,100.755,96.838333333333324,0]
["2018-02-15",8,27.43,3013,null,{"$f":"M1127","v":114.60666666666667},93.344999999999985,92.850000000000009,null,{"$f":"'Combined Cycle Gas'!$D$8","v":318.30459770114948},{"$f":"Nuclear!$D$8","v":307.69444444444446},1.9730000000000001E-2,136.98833333333332,100.12166666666667,97.803333333333327,19730]
["2018-02-15",9,27.09,3012,null,{"$f":"M1128","v":89.696666666666673},93.160000000000011,91.706666666666663,null,{"$f":"'Combined Cycle Gas'!$D$8","v":318.30459770114948},{"$f":"Nuclear!$D$8","v":307.69444444444446},1.1229579999999999,134.78166666666667,101.58833333333335,95.894999999999996,1122958]
["2018-02-15",10,27.74,3012,null,{"$f":"M1129","v":57.586666666666666},68.366666666666674,80.331666666666663,null,{"$f":"'Combined Cycle Gas'!$D$8","v":318.30459770114948},{"$f":"Nuclear!$D$8","v":307.69444444444446},{"$f":"P1123/10^6","v":1.6655519999999999},128,102.99166666666667,96.12833333333333,1665552]
["2018-02-15",11,40.450000000000003,2228,null,{"$f":"M1130","v":45.65},63.44,60.164999999999999,null,{"$f":"'Combined Cycle Gas'!$D$8","v":318.30459770114948},{"$f":"Nuclear!$D$8","v":307.69444444444446},2.2119970000000002,122.91500000000001,99.601666666666674,95.416666666666671,2211997]
["2018-02-15",12,38.18,1713,null,{"$f":"M1131","v":49.655000000000001},63.346666666666664,43.194999999999993,null,{"$f":"'Combined Cycle Gas'!$D$8","v":318.30459770114948},{"$f":"Nuclear!$D$8","v":307.69444444444446},1.4060459999999999,117.10833333333333,99.801666666666662,95.111666666666665,1406046]
["2018-02-15",13,35.9,1641,null,{"$f":"M1132","v":63.928333333333342},59.143333333333338,34.246666666666663,null,{"$f":"'Combined Cycle Gas'!$D$8","v":318.30459770114948},{"$f":"Nuclear!$D$8","v":307.69444444444446},2.9543509999999999,106.85166666666669,93.913333333333341,93.285000000000011,2954351]
["2018-02-15",14,32.49,1802,null,{"$f":"M1133","v":64.87},57.803333333333335,36.440000000000005,null,{"$f":"'Combined Cycle Gas'!$D$8","v":318.30459770114948},{"$f":"Nuclear!$D$8","v":307.69444444444446},2.7300420000000001,114.60666666666667,93.344999999999985,92.850000000000009,2730042]
["2018-02-15",15,33.340000000000003,1695,null,{"$f":"M1134","v":75.988333333333344},65.37,40.951666666666668,null,{"$f":"'Combined Cycle Gas'!$D$8","v":318.30459770114948},{"$f":"Nuclear!$D$8","v":307.69444444444446},1.0000530000000001,89.696666666666673,93.160000000000011,91.706666666666663,1000053]
["2018-02-15",16,32.46,1694,null,{"$f":"M1135","v":92.316666666666663},74.63333333333334,53.305,null,{"$f":"'Combined Cycle Gas'!$D$8","v":318.30459770114948},{"$f":"Nuclear!$D$8","v":307.69444444444446},1.3093170000000001,57.586666666666666,68.366666666666674,80.331666666666663,1309317]
["2018-02-15",17,44.29,1257,null,{"$f":"M1136","v":115.02833333333332},84.643333333333331,79.50333333333333,null,{"$f":"'Combined Cycle Gas'!$D$8","v":318.30459770114948},{"$f":"Nuclear!$D$8","v":307.69444444444446},0.382631,45.65,63.44,60.164999999999999,382631]
["2018-02-15",18,42.2,1071,null,{"$f":"M1137","v":135.07000000000002},95.08,82.046666666666667,null,{"$f":"'Combined Cycle Gas'!$D$8","v":318.30459770114948},{"$f":"Nuclear!$D$8","v":307.69444444444446},0,49.655000000000001,63.346666666666664,43.194999999999993,0]
["2018-02-15",19,43.06,556,null,{"$f":"M1138","v":135.71666666666667},93.573333333333338,80.221666666666664,null,{"$f":"'Combined Cycle Gas'!$D$8","v":318.30459770114948},{"$f":"Nuclear!$D$8","v":307.69444444444446},0,63.928333333333342,59.143333333333338,34.246666666666663,0]
["2018-02-15",20,35.270000000000003,639,null,{"$f":"M1139","v":138.86333333333334},95.993333333333325,79.513333333333335,null,{"$f":"'Combined Cycle Gas'!$D$8","v":318.30459770114948},{"$f":"Nuclear!$D$8","v":307.69444444444446},0,64.87,57.803333333333335,36.440000000000005,0]
["2018-02-15",21,38.299999999999997,611,null,{"$f":"M1140","v":132.23666666666668},98.296666666666667,89.751666666666665,null,{"$f":"'Combined Cycle Gas'!$D$8","v":318.30459770114948},{"$f":"Nuclear!$D$8","v":307.69444444444446},0,75.988333333333344,65.37,40.951666666666668,0]
["2018-02-15",22,38.549999999999997,1034,null,{"$f":"M1141","v":132.35666666666665},98.601666666666674,91.936666666666667,null,{"$f":"'Combined Cycle Gas'!$D$8","v":318.30459770114948},{"$f":"Nuclear!$D$8","v":307.69444444444446},0,92.316666666666663,74.63333333333334,53.305,0]
["2018-02-15",23,35.18,1180,null,{"$f":"M1142","v":132.55499999999998},98.46,92.241666666666674,null,{"$f":"'Combined Cycle Gas'!$D$8","v":318.30459770114948},{"$f":"Nuclear!$D$8","v":307.69444444444446},0,115.02833333333332,84.643333333333331,79.50333333333333,0]
["2018-02-15",24,30.74,884,null,{"$f":"M1143","v":130.89166666666668},97.493333333333325,92.545000000000002,null,{"$f":"'Combined Cycle Gas'!$D$8","v":318.30459770114948},{"$f":"Nuclear!$D$8","v":307.69444444444446},0,135.07000000000002,95.08,82.046666666666667,0]
["2018-02-16",1,31.13,531,null,{"$f":"M1144","v":132.73666666666668},98.021666666666661,92.581666666666663,null,{"$f":"'Combined Cycle Gas'!$D$8","v":318.30459770114948},{"$f":"Nuclear!$D$8","v":307.69444444444446},0,135.71666666666667,93.573333333333338,80.221666666666664,0]
["2018-02-16",2,26.08,533,null,{"$f":"M1145","v":127.06333333333335},100.38,93.535000000000011,null,{"$f":"'Combined Cycle Gas'!$D$8","v":318.30459770114948},{"$f":"Nuclear!$D$8","v":307.69444444444446},0,138.86333333333334,95.993333333333325,79.513333333333335,0]
["2018-02-16",3,27.55,602,null,{"$f":"M1146","v":125.67333333333333},99.876666666666665,90.453333333333333,null,{"$f":"'Combined Cycle Gas'!$D$8","v":318.30459770114948},{"$f":"Nuclear!$D$8","v":307.69444444444446},0,132.23666666666668,98.296666666666667,89.751666666666665,0]
["2018-02-16",4,28.24,634,null,{"$f":"M1147","v":129.72666666666666},99.25,91.451666666666668,null,{"$f":"'Combined Cycle Gas'!$D$8","v":318.30459770114948},{"$f":"Nuclear!$D$8","v":307.69444444444446},0,132.35666666666665,98.601666666666674,91.936666666666667,0]
["2018-02-16",5,29.17,737,null,{"$f":"M1148","v":128.04499999999999},100.28500000000001,93.23,null,{"$f":"'Combined Cycle Gas'!$D$8","v":318.30459770114948},{"$f":"Nuclear!$D$8","v":307.69444444444446},0,132.55499999999998,98.46,92.241666666666674,0]
["2018-02-16",6,36.130000000000003,760,null,{"$f":"M1149","v":123.58166666666666},99.26,89.466666666666654,null,{"$f":"'Combined Cycle Gas'!$D$8","v":318.30459770114948},{"$f":"Nuclear!$D$8","v":307.69444444444446},0,130.89166666666668,97.493333333333325,92.545000000000002,0]
["2018-02-16",7,32.9,1078,null,{"$f":"M1150","v":119.35333333333334},95.976666666666674,87.516666666666666,null,{"$f":"'Combined Cycle Gas'!$D$8","v":318.30459770114948},{"$f":"Nuclear!$D$8","v":307.69444444444446},2.9269999999999999E-3,132.73666666666668,98.021666666666661,92.581666666666663,2927]
["2018-02-16",8,42.18,1076,null,{"$f":"M1151","v":126.94499999999999},95.84666666666665,89.256666666666661,null,{"$f":"'Combined Cycle Gas'!$D$8","v":318.30459770114948},{"$f":"Nuclear!$D$8","v":307.69444444444446},4.1176240000000002,127.06333333333335,100.38,93.535000000000011,4117624]
["2018-02-16",9,33.18,1128,null,{"$f":"M1152","v":128.27666666666667},95.256666666666661,88.083333333333329,null,{"$f":"'Combined Cycle Gas'!$D$8","v":318.30459770114948},{"$f":"Nuclear!$D$8","v":307.69444444444446},6.0073280000000002,125.67333333333333,99.876666666666665,90.453333333333333,6007328]
["2018-02-16",10,27.64,1823,null,{"$f":"M1153","v":121.97833333333331},94.476666666666674,88.568333333333328,null,{"$f":"'Combined Cycle Gas'!$D$8","v":318.30459770114948},{"$f":"Nuclear!$D$8","v":307.69444444444446},6.8929239999999998,129.72666666666666,99.25,91.451666666666668,6892924]
["2018-02-16",11,30.36,1425,null,{"$f":"M1154","v":120.11500000000001},99.276666666666657,89.856666666666669,null,{"$f":"'Combined Cycle Gas'!$D$8","v":318.30459770114948},{"$f":"Nuclear!$D$8","v":307.69444444444446},6.8184719999999999,128.04499999999999,100.28500000000001,93.23,6818472]
["2018-02-16",12,36.97,911,null,{"$f":"M1155","v":122.65833333333335},97.594999999999985,86.893333333333331,null,{"$f":"'Combined Cycle Gas'!$D$8","v":318.30459770114948},{"$f":"Nuclear!$D$8","v":307.69444444444446},4.495946,123.58166666666666,99.26,89.466666666666654,4495946]
["2018-02-16",13,31.06,1097,null,{"$f":"M1156","v":115.33333333333333},94.55,90.280000000000015,null,{"$f":"'Combined Cycle Gas'!$D$8","v":318.30459770114948},{"$f":"Nuclear!$D$8","v":307.69444444444446},5.3962459999999997,119.35333333333334,95.976666666666674,87.516666666666666,5396246]
["2018-02-16",14,32.5,866,null,{"$f":"M1157","v":109.18833333333333},97.02,89.904999999999987,null,{"$f":"'Combined Cycle Gas'!$D$8","v":318.30459770114948},{"$f":"Nuclear!$D$8","v":307.69444444444446},3.4235899999999999,126.94499999999999,95.84666666666665,89.256666666666661,3423590]
["2018-02-16",15,29.52,729,null,{"$f":"M1158","v":107.92},97.043333333333337,85.924999999999997,null,{"$f":"'Combined Cycle Gas'!$D$8","v":318.30459770114948},{"$f":"Nuclear!$D$8","v":307.69444444444446},1.435954,128.27666666666667,95.256666666666661,88.083333333333329,1435954]
["2018-02-16",16,28.6,1090,null,{"$f":"M1159","v":118.88333333333333},95.748333333333335,90.425000000000011,null,{"$f":"'Combined Cycle Gas'!$D$8","v":318.30459770114948},{"$f":"Nuclear!$D$8","v":307.69444444444446},2.4089990000000001,121.97833333333331,94.476666666666674,88.568333333333328,2408999]
["2018-02-16",17,32.51,1074,null,{"$f":"M1160","v":116.875},95.846666666666678,88.433333333333323,null,{"$f":"'Combined Cycle Gas'!$D$8","v":318.30459770114948},{"$f":"Nuclear!$D$8","v":307.69444444444446},5.1554799999999998,120.11500000000001,99.276666666666657,89.856666666666669,5155480]
["2018-02-16",18,30.42,693,null,{"$f":"M1161","v":125.97666666666665},95.331666666666663,86.805000000000007,null,{"$f":"'Combined Cycle Gas'!$D$8","v":318.30459770114948},{"$f":"Nuclear!$D$8","v":307.69444444444446},1.9493210000000001,122.65833333333335,97.594999999999985,86.893333333333331,1949321]
["2018-02-16",19,34.08,951,null,{"$f":"M1162","v":133.05166666666665},96.115000000000009,91.138333333333335,null,{"$f":"'Combined Cycle Gas'!$D$8","v":318.30459770114948},{"$f":"Nuclear!$D$8","v":307.69444444444446},0,115.33333333333333,94.55,90.280000000000015,0]
["2018-02-16",20,29.89,1068,null,{"$f":"M1163","v":131.99666666666667},92.826666666666668,92.084999999999994,null,{"$f":"'Combined Cycle Gas'!$D$8","v":318.30459770114948},{"$f":"Nuclear!$D$8","v":307.69444444444446},0,109.18833333333333,97.02,89.904999999999987,0]
["2018-02-16",21,26.82,1693,null,{"$f":"M1164","v":128.63500000000002},92.571666666666658,91.254999999999995,null,{"$f":"'Combined Cycle Gas'!$D$8","v":318.30459770114948},{"$f":"Nuclear!$D$8","v":307.69444444444446},0,107.92,97.043333333333337,85.924999999999997,0]
["2018-02-16",22,25.61,2508,null,{"$f":"M1165","v":132.55500000000004},91.79,84.91,null,{"$f":"'Combined Cycle Gas'!$D$8","v":318.30459770114948},{"$f":"Nuclear!$D$8","v":307.69444444444446},0,118.88333333333333,95.748333333333335,90.425000000000011,0]
["2018-02-16",23,25.14,2648,null,{"$f":"M1166","v":132.54},90.160000000000011,87.350000000000009,null,{"$f":"'Combined Cycle Gas'!$D$8","v":318.30459770114948},{"$f":"Nuclear!$D$8","v":307.69444444444446},0,116.875,95.846666666666678,88.433333333333323,0]
["2018-02-16",24,21.77,2784,null,{"$f":"M1167","v":132.435},92.63,87.961666666666659,null,{"$f":"'Combined Cycle Gas'!$D$8","v":318.30459770114948},{"$f":"Nuclear!$D$8","v":307.69444444444446},0,125.97666666666665,95.331666666666663,86.805000000000007,0]
["2018-02-17",1,29.78,3180,null,{"$f":"M1168","v":125.645},92.331666666666663,87.655000000000015,null,{"$f":"'Combined Cycle Gas'!$D$8","v":318.30459770114948},{"$f":"Nuclear!$D$8","v":307.69444444444446},0,133.05166666666665,96.115000000000009,91.138333333333335,0]
["2018-02-17",2,24.92,3500,null,{"$f":"M1169","v":122.14999999999999},91.586666666666659,87.266666666666666,null,{"$f":"'Combined Cycle Gas'!$D$8","v":318.30459770114948},{"$f":"Nuclear!$D$8","v":307.69444444444446},0,131.99666666666667,92.826666666666668,92.084999999999994,0]
["2018-02-17",3,26.05,3430,null,{"$f":"M1170","v":117.68666666666667},94.614999999999995,80.066666666666663,null,{"$f":"'Combined Cycle Gas'!$D$8","v":318.30459770114948},{"$f":"Nuclear!$D$8","v":307.69444444444446},0,128.63500000000002,92.571666666666658,91.254999999999995,0]
["2018-02-17",4,29.02,2753,null,{"$f":"M1171","v":101.61833333333333},82.95,57.981666666666662,null,{"$f":"'Combined Cycle Gas'!$D$8","v":318.30459770114948},{"$f":"Nuclear!$D$8","v":307.69444444444446},0,132.55500000000004,91.79,84.91,0]
["2018-02-17",5,27.23,3011,null,{"$f":"M1172","v":107.82166666666666},68.726666666666659,61.423333333333339,null,{"$f":"'Combined Cycle Gas'!$D$8","v":318.30459770114948},{"$f":"Nuclear!$D$8","v":307.69444444444446},0,132.54,90.160000000000011,87.350000000000009,0]
["2018-02-17",6,29.25,2688,null,{"$f":"M1173","v":100.22666666666667},43.99,49.866666666666674,null,{"$f":"'Combined Cycle Gas'!$D$8","v":318.30459770114948},{"$f":"Nuclear!$D$8","v":307.69444444444446},0,132.435,92.63,87.961666666666659,0]
["2018-02-17",7,24.8,2596,null,{"$f":"M1174","v":96.868333333333339},43.548333333333339,46.225000000000001,null,{"$f":"'Combined Cycle Gas'!$D$8","v":318.30459770114948},{"$f":"Nuclear!$D$8","v":307.69444444444446},0,125.645,92.331666666666663,87.655000000000015,0]
["2018-02-17",8,36.47,1866,null,{"$f":"M1175","v":78.563333333333347},40.645000000000003,37.041666666666664,null,{"$f":"'Combined Cycle Gas'!$D$8","v":318.30459770114948},{"$f":"Nuclear!$D$8","v":307.69444444444446},1.0066820000000001,122.14999999999999,91.586666666666659,87.266666666666666,1006682]
["2018-02-17",9,32.090000000000003,1428,null,{"$f":"M1176","v":38.548333333333332},24.113333333333333,16.113333333333333,null,{"$f":"'Combined Cycle Gas'!$D$8","v":318.30459770114948},{"$f":"Nuclear!$D$8","v":307.69444444444446},0.85206999999999999,117.68666666666667,94.614999999999995,80.066666666666663,852070]
["2018-02-17",10,35.17,1019,null,{"$f":"M1177","v":19.793333333333333},18.543333333333333,17.21,null,{"$f":"'Combined Cycle Gas'!$D$8","v":318.30459770114948},{"$f":"Nuclear!$D$8","v":307.69444444444446},4.0117690000000001,101.61833333333333,82.95,57.981666666666662,4011769]
["2018-02-17",11,41.08,671,null,{"$f":"M1178","v":21.881666666666671},15.601666666666668,18.563333333333333,null,{"$f":"'Combined Cycle Gas'!$D$8","v":318.30459770114948},{"$f":"Nuclear!$D$8","v":307.69444444444446},6.7080099999999998,107.82166666666666,68.726666666666659,61.423333333333339,6708010]
["2018-02-17",12,31.48,116,null,{"$f":"M1179","v":28.564999999999998},20.849999999999998,17.056666666666665,null,{"$f":"'Combined Cycle Gas'!$D$8","v":318.30459770114948},{"$f":"Nuclear!$D$8","v":307.69444444444446},7.5352249999999996,100.22666666666667,43.99,49.866666666666674,7535225]
["2018-02-17",13,27.91,12,null,{"$f":"M1180","v":47.826666666666675},28.788333333333338,16.346666666666668,null,{"$f":"'Combined Cycle Gas'!$D$8","v":318.30459770114948},{"$f":"Nuclear!$D$8","v":307.69444444444446},7.5137840000000002,96.868333333333339,43.548333333333339,46.225000000000001,7513784]
["2018-02-17",14,27.91,0,null,{"$f":"M1181","v":50.26},28.765000000000001,17.028333333333332,null,{"$f":"'Combined Cycle Gas'!$D$8","v":318.30459770114948},{"$f":"Nuclear!$D$8","v":307.69444444444446},7.3651210000000003,78.563333333333347,40.645000000000003,37.041666666666664,7365121]
["2018-02-17",15,27.62,7,null,{"$f":"M1182","v":41.400000000000006},30.713333333333335,16.739999999999998,null,{"$f":"'Combined Cycle Gas'!$D$8","v":318.30459770114948},{"$f":"Nuclear!$D$8","v":307.69444444444446},7.0488879999999998,38.548333333333332,24.113333333333333,16.113333333333333,7048888]
["2018-02-17",16,27.62,127,null,{"$f":"M1183","v":42.445000000000007},31.298333333333336,16.496666666666666,null,{"$f":"'Combined Cycle Gas'!$D$8","v":318.30459770114948},{"$f":"Nuclear!$D$8","v":307.69444444444446},6.4224670000000001,19.793333333333333,18.543333333333333,17.21,6422467]
["2018-02-17",17,29.16,286,null,{"$f":"M1184","v":55.296666666666674},28.823333333333334,19.618333333333332,null,{"$f":"'Combined Cycle Gas'!$D$8","v":318.30459770114948},{"$f":"Nuclear!$D$8","v":307.69444444444446},4.7625140000000004,21.881666666666671,15.601666666666668,18.563333333333333,4762514]
["2018-02-17",18,28.93,1253,null,{"$f":"M1185","v":88.818333333333328},38.081666666666671,24.256666666666671,null,{"$f":"'Combined Cycle Gas'!$D$8","v":318.30459770114948},{"$f":"Nuclear!$D$8","v":307.69444444444446},1.232486,28.564999999999998,20.849999999999998,17.056666666666665,1232486]
["2018-02-17",19,26.33,2273,null,{"$f":"M1186","v":94.403333333333322},43.696666666666665,38.658333333333339,null,{"$f":"'Combined Cycle Gas'!$D$8","v":318.30459770114948},{"$f":"Nuclear!$D$8","v":307.69444444444446},0,47.826666666666675,28.788333333333338,16.346666666666668,0]
["2018-02-17",20,26.07,2838,null,{"$f":"M1187","v":113.88999999999999},33.711666666666673,45.155000000000001,null,{"$f":"'Combined Cycle Gas'!$D$8","v":318.30459770114948},{"$f":"Nuclear!$D$8","v":307.69444444444446},0,50.26,28.765000000000001,17.028333333333332,0]
["2018-02-17",21,25.69,3013,null,{"$f":"M1188","v":75.075000000000003},51.918333333333329,31.045000000000002,null,{"$f":"'Combined Cycle Gas'!$D$8","v":318.30459770114948},{"$f":"Nuclear!$D$8","v":307.69444444444446},0,41.400000000000006,30.713333333333335,16.739999999999998,0]
["2018-02-17",22,25.11,3013,null,{"$f":"M1189","v":64.48},58.538333333333334,38.726666666666667,null,{"$f":"'Combined Cycle Gas'!$D$8","v":318.30459770114948},{"$f":"Nuclear!$D$8","v":307.69444444444446},0,42.445000000000007,31.298333333333336,16.496666666666666,0]
["2018-02-17",23,21.28,3013,null,{"$f":"M1190","v":73.071666666666658},61.51,40.705000000000005,null,{"$f":"'Combined Cycle Gas'!$D$8","v":318.30459770114948},{"$f":"Nuclear!$D$8","v":307.69444444444446},0,55.296666666666674,28.823333333333334,19.618333333333332,0]
["2018-02-17",24,21.73,2870,null,{"$f":"M1191","v":82.271666666666661},63.87166666666667,46.681666666666672,null,{"$f":"'Combined Cycle Gas'!$D$8","v":318.30459770114948},{"$f":"Nuclear!$D$8","v":307.69444444444446},0,88.818333333333328,38.081666666666671,24.256666666666671,0]
["2018-02-18",1,31.96,3240,null,{"$f":"M1192","v":111.01166666666666},63.831666666666678,46.920000000000009,null,{"$f":"'Combined Cycle Gas'!$D$8","v":318.30459770114948},{"$f":"Nuclear!$D$8","v":307.69444444444446},0,94.403333333333322,43.696666666666665,38.658333333333339,0]
["2018-02-18",2,26.11,3438,null,{"$f":"M1193","v":114.81333333333333},58.888333333333328,46.353333333333332,null,{"$f":"'Combined Cycle Gas'!$D$8","v":318.30459770114948},{"$f":"Nuclear!$D$8","v":307.69444444444446},{"$f":"P1187/10^6","v":0},113.88999999999999,33.711666666666673,45.155000000000001,0]
["2018-02-18",3,24.94,3500,null,{"$f":"M1194","v":87.031666666666652},49.835000000000001,45.181666666666665,null,{"$f":"'Combined Cycle Gas'!$D$8","v":318.30459770114948},{"$f":"Nuclear!$D$8","v":307.69444444444446},0,75.075000000000003,51.918333333333329,31.045000000000002,0]
["2018-02-18",4,24.94,3500,null,{"$f":"M1195","v":81.391666666666666},55.043333333333329,39.06,null,{"$f":"'Combined Cycle Gas'!$D$8","v":318.30459770114948},{"$f":"Nuclear!$D$8","v":307.69444444444446},0,64.48,58.538333333333334,38.726666666666667,0]
["2018-02-18",5,24.93,3499,null,{"$f":"M1196","v":93.858333333333348},58.245000000000005,30.111666666666668,null,{"$f":"'Combined Cycle Gas'!$D$8","v":318.30459770114948},{"$f":"Nuclear!$D$8","v":307.69444444444446},0,73.071666666666658,61.51,40.705000000000005,0]
["2018-02-18",6,26.06,3498,null,{"$f":"M1197","v":99.858333333333334},63.129999999999995,25.691666666666666,null,{"$f":"'Combined Cycle Gas'!$D$8","v":318.30459770114948},{"$f":"Nuclear!$D$8","v":307.69444444444446},0,82.271666666666661,63.87166666666667,46.681666666666672,0]
["2018-02-18",7,16.23,3013,null,{"$f":"M1198","v":113.01333333333334},54.87166666666667,34.123333333333335,null,{"$f":"'Combined Cycle Gas'!$D$8","v":318.30459770114948},{"$f":"Nuclear!$D$8","v":307.69444444444446},4.6220000000000002E-3,111.01166666666666,63.831666666666678,46.920000000000009,4622]
["2018-02-18",8,25.95,3013,null,{"$f":"M1199","v":108.26333333333332},55.223333333333336,27.836666666666662,null,{"$f":"'Combined Cycle Gas'!$D$8","v":318.30459770114948},{"$f":"Nuclear!$D$8","v":307.69444444444446},4.2111109999999998,114.81333333333333,58.888333333333328,46.353333333333332,4211111]
["2018-02-18",9,27.43,3012,null,{"$f":"M1200","v":75.811666666666667},37.143333333333338,14.209999999999999,null,{"$f":"'Combined Cycle Gas'!$D$8","v":318.30459770114948},{"$f":"Nuclear!$D$8","v":307.69444444444446},6.4426399999999999,87.031666666666652,49.835000000000001,45.181666666666665,6442640]
["2018-02-18",10,26.25,3012,null,{"$f":"M1201","v":55.978333333333332},27.995000000000001,13.811666666666666,null,{"$f":"'Combined Cycle Gas'!$D$8","v":318.30459770114948},{"$f":"Nuclear!$D$8","v":307.69444444444446},7.3650200000000003,81.391666666666666,55.043333333333329,39.06,7365020]
["2018-02-18",11,21.65,3012,null,{"$f":"M1202","v":65.646666666666661},40.380000000000003,18.178333333333331,null,{"$f":"'Combined Cycle Gas'!$D$8","v":318.30459770114948},{"$f":"Nuclear!$D$8","v":307.69444444444446},7.7554040000000004,93.858333333333348,58.245000000000005,30.111666666666668,7755404]
["2018-02-18",12,21.88,3012,null,{"$f":"M1203","v":88.063333333333333},55.819999999999993,23.668333333333333,null,{"$f":"'Combined Cycle Gas'!$D$8","v":318.30459770114948},{"$f":"Nuclear!$D$8","v":307.69444444444446},7.8899280000000003,99.858333333333334,63.129999999999995,25.691666666666666,7889928]
["2018-02-18",13,24.35,2855,null,{"$f":"M1204","v":75.233333333333334},53.436666666666667,23.271666666666665,null,{"$f":"'Combined Cycle Gas'!$D$8","v":318.30459770114948},{"$f":"Nuclear!$D$8","v":307.69444444444446},7.8504120000000004,113.01333333333334,54.87166666666667,34.123333333333335,7850412]
["2018-02-18",14,24.82,2673,null,{"$f":"M1205","v":69.316666666666649},39.248333333333328,27.350000000000005,null,{"$f":"'Combined Cycle Gas'!$D$8","v":318.30459770114948},{"$f":"Nuclear!$D$8","v":307.69444444444446},7.7207590000000001,108.26333333333332,55.223333333333336,27.836666666666662,7720759]
["2018-02-18",15,21.8,2872,null,{"$f":"M1206","v":74.873333333333335},59.856666666666662,32.975000000000001,null,{"$f":"'Combined Cycle Gas'!$D$8","v":318.30459770114948},{"$f":"Nuclear!$D$8","v":307.69444444444446},7.401802,75.811666666666667,37.143333333333338,14.209999999999999,7401802]
["2018-02-18",16,23.69,2967,null,{"$f":"M1207","v":81.069999999999993},48.811666666666667,33.81,null,{"$f":"'Combined Cycle Gas'!$D$8","v":318.30459770114948},{"$f":"Nuclear!$D$8","v":307.69444444444446},6.7945029999999997,55.978333333333332,27.995000000000001,13.811666666666666,6794503]
["2018-02-18",17,30.04,3227,null,{"$f":"M1208","v":87.47166666666665},49.596666666666664,35.414999999999999,null,{"$f":"'Combined Cycle Gas'!$D$8","v":318.30459770114948},{"$f":"Nuclear!$D$8","v":307.69444444444446},5.3177199999999996,65.646666666666661,40.380000000000003,18.178333333333331,5317720]
["2018-02-18",18,35.979999999999997,2753,null,{"$f":"M1209","v":95.23},54.24,32.171666666666667,null,{"$f":"'Combined Cycle Gas'!$D$8","v":318.30459770114948},{"$f":"Nuclear!$D$8","v":307.69444444444446},1.800006,88.063333333333333,55.819999999999993,23.668333333333333,1800006]
["2018-02-18",19,29.17,2472,null,{"$f":"M1210","v":83.364999999999995},40.381666666666668,28.37833333333333,null,{"$f":"'Combined Cycle Gas'!$D$8","v":318.30459770114948},{"$f":"Nuclear!$D$8","v":307.69444444444446},0,75.233333333333334,53.436666666666667,23.271666666666665,0]
["2018-02-18",20,37.6,1774,null,{"$f":"M1211","v":72.296666666666667},32.836666666666666,26.52,null,{"$f":"'Combined Cycle Gas'!$D$8","v":318.30459770114948},{"$f":"Nuclear!$D$8","v":307.69444444444446},0,69.316666666666649,39.248333333333328,27.350000000000005,0]
["2018-02-18",21,44.37,1604,null,{"$f":"M1212","v":63.701666666666654},32.69,24.41,null,{"$f":"'Combined Cycle Gas'!$D$8","v":318.30459770114948},{"$f":"Nuclear!$D$8","v":307.69444444444446},0,74.873333333333335,59.856666666666662,32.975000000000001,0]
["2018-02-18",22,34.83,1720,null,{"$f":"M1213","v":60.516666666666673},32.931666666666665,30.533333333333335,null,{"$f":"'Combined Cycle Gas'!$D$8","v":318.30459770114948},{"$f":"Nuclear!$D$8","v":307.69444444444446},0,81.069999999999993,48.811666666666667,33.81,0]
["2018-02-18",23,27.91,1712,null,{"$f":"M1214","v":75.086666666666659},37.396666666666668,39.253333333333337,null,{"$f":"'Combined Cycle Gas'!$D$8","v":318.30459770114948},{"$f":"Nuclear!$D$8","v":307.69444444444446},0,87.47166666666665,49.596666666666664,35.414999999999999,0]
["2018-02-18",24,28.24,1630,null,{"$f":"M1215","v":75.204999999999998},49.416666666666664,31.79333333333334,null,{"$f":"'Combined Cycle Gas'!$D$8","v":318.30459770114948},{"$f":"Nuclear!$D$8","v":307.69444444444446},0,95.23,54.24,32.171666666666667,0]
["2018-02-19",1,29.15,1353,null,{"$f":"M1216","v":90.663333333333313},44.721666666666671,25.403333333333336,null,{"$f":"'Combined Cycle Gas'!$D$8","v":318.30459770114948},{"$f":"Nuclear!$D$8","v":307.69444444444446},0,83.364999999999995,40.381666666666668,28.37833333333333,0]
["2018-02-19",2,29.12,1158,null,{"$f":"M1217","v":83.655000000000001},42.733333333333327,21.14,null,{"$f":"'Combined Cycle Gas'!$D$8","v":318.30459770114948},{"$f":"Nuclear!$D$8","v":307.69444444444446},0,72.296666666666667,32.836666666666666,26.52,0]
["2018-02-19",3,27.93,1403,null,{"$f":"M1218","v":61.756666666666668},34.218333333333327,16.183333333333334,null,{"$f":"'Combined Cycle Gas'!$D$8","v":318.30459770114948},{"$f":"Nuclear!$D$8","v":307.69444444444446},0,63.701666666666654,32.69,24.41,0]
["2018-02-19",4,32.78,974,null,{"$f":"M1219","v":47.148333333333333},23.466666666666669,13.431666666666667,null,{"$f":"'Combined Cycle Gas'!$D$8","v":318.30459770114948},{"$f":"Nuclear!$D$8","v":307.69444444444446},0,60.516666666666673,32.931666666666665,30.533333333333335,0]
["2018-02-19",5,35.89,522,null,{"$f":"M1220","v":21.071666666666669},13.165000000000001,12.979999999999999,null,{"$f":"'Combined Cycle Gas'!$D$8","v":318.30459770114948},{"$f":"Nuclear!$D$8","v":307.69444444444446},0,75.086666666666659,37.396666666666668,39.253333333333337,0]
["2018-02-19",6,41.43,415,null,{"$f":"M1221","v":15.774999999999999},13.381666666666666,12.615,null,{"$f":"'Combined Cycle Gas'!$D$8","v":318.30459770114948},{"$f":"Nuclear!$D$8","v":307.69444444444446},0,75.204999999999998,49.416666666666664,31.79333333333334,0]
["2018-02-19",7,41.39,414,null,{"$f":"M1222","v":19.88},14.895000000000001,15.493333333333332,null,{"$f":"'Combined Cycle Gas'!$D$8","v":318.30459770114948},{"$f":"Nuclear!$D$8","v":307.69444444444446},0,90.663333333333313,44.721666666666671,25.403333333333336,0]
["2018-02-19",8,51.07,261,null,{"$f":"M1223","v":15.984999999999999},12.54,14.966666666666667,null,{"$f":"'Combined Cycle Gas'!$D$8","v":318.30459770114948},{"$f":"Nuclear!$D$8","v":307.69444444444446},3.5038230000000001,83.655000000000001,42.733333333333327,21.14,3503823]
["2018-02-19",9,34.96,0,null,{"$f":"M1224","v":15.195},12.200000000000001,12.203333333333333,null,{"$f":"'Combined Cycle Gas'!$D$8","v":318.30459770114948},{"$f":"Nuclear!$D$8","v":307.69444444444446},6.3845460000000003,61.756666666666668,34.218333333333327,16.183333333333334,6384546]
["2018-02-19",10,34.93,0,null,{"$f":"M1225","v":15.189999999999998},12.228333333333333,12.090000000000002,null,{"$f":"'Combined Cycle Gas'!$D$8","v":318.30459770114948},{"$f":"Nuclear!$D$8","v":307.69444444444446},7.5300479999999999,47.148333333333333,23.466666666666669,13.431666666666667,7530048]
["2018-02-19",11,35.11,0,null,{"$f":"M1226","v":15.233333333333334},12.248333333333333,11.969999999999999,null,{"$f":"'Combined Cycle Gas'!$D$8","v":318.30459770114948},{"$f":"Nuclear!$D$8","v":307.69444444444446},7.9958159999999996,21.071666666666669,13.165000000000001,12.979999999999999,7995816]
["2018-02-19",12,34.85,85,null,{"$f":"M1227","v":15.135},12,11.865,null,{"$f":"'Combined Cycle Gas'!$D$8","v":318.30459770114948},{"$f":"Nuclear!$D$8","v":307.69444444444446},8.1906479999999995,15.774999999999999,13.381666666666666,12.615,8190648]
["2018-02-19",13,32.840000000000003,242,null,{"$f":"M1228","v":14.908333333333331},11.72,11.744999999999999,null,{"$f":"'Combined Cycle Gas'!$D$8","v":318.30459770114948},{"$f":"Nuclear!$D$8","v":307.69444444444446},8.1791509999999992,19.88,14.895000000000001,15.493333333333332,8179151]
["2018-02-19",14,31.66,281,null,{"$f":"M1229","v":14.78},11.536666666666667,11.621666666666668,null,{"$f":"'Combined Cycle Gas'!$D$8","v":318.30459770114948},{"$f":"Nuclear!$D$8","v":307.69444444444446},8.0340539999999994,15.984999999999999,12.54,14.966666666666667,8034054]
["2018-02-19",15,30.11,519,null,{"$f":"M1230","v":14.561666666666666},11.36,11.448333333333332,null,{"$f":"'Combined Cycle Gas'!$D$8","v":318.30459770114948},{"$f":"Nuclear!$D$8","v":307.69444444444446},7.684272,15.195,12.200000000000001,12.203333333333333,7684272]
["2018-02-19",16,28.14,816,null,{"$f":"M1231","v":14.328333333333333},11.218333333333334,11.344999999999999,null,{"$f":"'Combined Cycle Gas'!$D$8","v":318.30459770114948},{"$f":"Nuclear!$D$8","v":307.69444444444446},6.8638060000000003,15.189999999999998,12.228333333333333,12.090000000000002,6863806]
["2018-02-19",17,29.13,742,null,{"$f":"M1232","v":14.138333333333334},11.016666666666666,11.358333333333334,null,{"$f":"'Combined Cycle Gas'!$D$8","v":318.30459770114948},{"$f":"Nuclear!$D$8","v":307.69444444444446},4.9824869999999999,15.233333333333334,12.248333333333333,11.969999999999999,4982487]
["2018-02-19",18,29.05,734,null,{"$f":"M1233","v":14},10.945,11.135,null,{"$f":"'Combined Cycle Gas'!$D$8","v":318.30459770114948},{"$f":"Nuclear!$D$8","v":307.69444444444446},1.320935,15.135,12,11.865,1320935]
["2018-02-19",19,29.24,1098,null,{"$f":"M1234","v":16.690000000000001},10.790000000000001,16.143333333333334,null,{"$f":"'Combined Cycle Gas'!$D$8","v":318.30459770114948},{"$f":"Nuclear!$D$8","v":307.69444444444446},0,14.908333333333331,11.72,11.744999999999999,0]
["2018-02-19",20,28.09,1952,null,{"$f":"M1235","v":14.898333333333333},11.085000000000001,14.125,null,{"$f":"'Combined Cycle Gas'!$D$8","v":318.30459770114948},{"$f":"Nuclear!$D$8","v":307.69444444444446},0,14.78,11.536666666666667,11.621666666666668,0]
["2018-02-19",21,28.98,1695,null,{"$f":"M1236","v":13.446666666666665},10.563333333333334,13.455,null,{"$f":"'Combined Cycle Gas'!$D$8","v":318.30459770114948},{"$f":"Nuclear!$D$8","v":307.69444444444446},0,14.561666666666666,11.36,11.448333333333332,0]
["2018-02-19",22,32.380000000000003,1184,null,{"$f":"M1237","v":13.476666666666667},10.536666666666667,14.360000000000001,null,{"$f":"'Combined Cycle Gas'!$D$8","v":318.30459770114948},{"$f":"Nuclear!$D$8","v":307.69444444444446},0,14.328333333333333,11.218333333333334,11.344999999999999,0]
["2018-02-19",23,29.04,1132,null,{"$f":"M1238","v":13.511666666666665},10.543333333333331,12.336666666666668,null,{"$f":"'Combined Cycle Gas'!$D$8","v":318.30459770114948},{"$f":"Nuclear!$D$8","v":307.69444444444446},0,14.138333333333334,11.016666666666666,11.358333333333334,0]
["2018-02-19",24,27.88,1381,null,{"$f":"M1239","v":13.693333333333333},11.101666666666667,12.185,null,{"$f":"'Combined Cycle Gas'!$D$8","v":318.30459770114948},{"$f":"Nuclear!$D$8","v":307.69444444444446},0,14,10.945,11.135,0]
["2018-02-20",1,28.95,921,null,{"$f":"M1240","v":14.64},11.89,16.726666666666667,null,{"$f":"'Combined Cycle Gas'!$D$8","v":318.30459770114948},{"$f":"Nuclear!$D$8","v":307.69444444444446},0,16.690000000000001,10.790000000000001,16.143333333333334,0]
["2018-02-20",2,28.75,774,null,{"$f":"M1241","v":13.306666666666667},10.381666666666666,16.181666666666668,null,{"$f":"'Combined Cycle Gas'!$D$8","v":318.30459770114948},{"$f":"Nuclear!$D$8","v":307.69444444444446},0,14.898333333333333,11.085000000000001,14.125,0]
["2018-02-20",3,29.19,637,null,{"$f":"M1242","v":12.403333333333334},9.6549999999999994,12.215000000000002,null,{"$f":"'Combined Cycle Gas'!$D$8","v":318.30459770114948},{"$f":"Nuclear!$D$8","v":307.69444444444446},0,13.446666666666665,10.563333333333334,13.455,0]
["2018-02-20",4,29.56,518,null,{"$f":"M1243","v":12.47},9.6866666666666674,9.6916666666666664,null,{"$f":"'Combined Cycle Gas'!$D$8","v":318.30459770114948},{"$f":"Nuclear!$D$8","v":307.69444444444446},0,13.476666666666667,10.536666666666667,14.360000000000001,0]
["2018-02-20",5,29.85,555,null,{"$f":"M1244","v":12.14},9.4283333333333346,9.2733333333333334,null,{"$f":"'Combined Cycle Gas'!$D$8","v":318.30459770114948},{"$f":"Nuclear!$D$8","v":307.69444444444446},0,13.511666666666665,10.543333333333331,12.336666666666668,0]
["2018-02-20",6,31.8,336,null,{"$f":"M1245","v":12.055000000000001},10.053333333333333,9.0250000000000004,null,{"$f":"'Combined Cycle Gas'!$D$8","v":318.30459770114948},{"$f":"Nuclear!$D$8","v":307.69444444444446},0,13.693333333333333,11.101666666666667,12.185,0]
["2018-02-20",7,34.840000000000003,329,null,{"$f":"M1246","v":11.731666666666667},9.2483333333333331,9.0666666666666682,null,{"$f":"'Combined Cycle Gas'!$D$8","v":318.30459770114948},{"$f":"Nuclear!$D$8","v":307.69444444444446},1.2999999999999999E-4,14.64,11.89,16.726666666666667,130]
["2018-02-20",8,34.03,490,null,{"$f":"M1247","v":11.585000000000001},8.9650000000000016,8.8883333333333336,null,{"$f":"'Combined Cycle Gas'!$D$8","v":318.30459770114948},{"$f":"Nuclear!$D$8","v":307.69444444444446},3.7886899999999999,13.306666666666667,10.381666666666666,16.181666666666668,3788690]
["2018-02-20",9,33.17,243,null,{"$f":"M1248","v":11.565},8.8966666666666665,8.6333333333333329,null,{"$f":"'Combined Cycle Gas'!$D$8","v":318.30459770114948},{"$f":"Nuclear!$D$8","v":307.69444444444446},6.4493159999999996,12.403333333333334,9.6549999999999994,12.215000000000002,6449316]
["2018-02-20",10,34.950000000000003,0,null,{"$f":"M1249","v":11.366666666666665},8.7666666666666675,8.4133333333333322,null,{"$f":"'Combined Cycle Gas'!$D$8","v":318.30459770114948},{"$f":"Nuclear!$D$8","v":307.69444444444446},7.5411060000000001,12.47,9.6866666666666674,9.6916666666666664,7541106]
["2018-02-20",11,34.92,0,null,{"$f":"M1250","v":11.346666666666666},8.8950000000000014,8.5283333333333342,null,{"$f":"'Combined Cycle Gas'!$D$8","v":318.30459770114948},{"$f":"Nuclear!$D$8","v":307.69444444444446},7.95566,12.14,9.4283333333333346,9.2733333333333334,7955660]
["2018-02-20",12,34.78,0,null,{"$f":"M1251","v":11.781666666666668},8.93,8.8716666666666679,null,{"$f":"'Combined Cycle Gas'!$D$8","v":318.30459770114948},{"$f":"Nuclear!$D$8","v":307.69444444444446},8.0551159999999999,12.055000000000001,10.053333333333333,9.0250000000000004,8055116]
["2018-02-20",13,34.869999999999997,0,null,{"$f":"M1252","v":12.018333333333333},8.8233333333333324,8.5233333333333317,null,{"$f":"'Combined Cycle Gas'!$D$8","v":318.30459770114948},{"$f":"Nuclear!$D$8","v":307.69444444444446},8.0424740000000003,11.731666666666667,9.2483333333333331,9.0666666666666682,8042474]
["2018-02-20",14,34.75,0,null,{"$f":"M1253","v":12.208333333333334},8.5733333333333324,8.3383333333333329,null,{"$f":"'Combined Cycle Gas'!$D$8","v":318.30459770114948},{"$f":"Nuclear!$D$8","v":307.69444444444446},7.9755260000000003,11.585000000000001,8.9650000000000016,8.8883333333333336,7975526]
["2018-02-20",15,34.799999999999997,0,null,{"$f":"M1254","v":11.773333333333333},9.7183333333333337,8.326666666666668,null,{"$f":"'Combined Cycle Gas'!$D$8","v":318.30459770114948},{"$f":"Nuclear!$D$8","v":307.69444444444446},7.6567429999999996,11.565,8.8966666666666665,8.6333333333333329,7656743]
["2018-02-20",16,34.69,0,null,{"$f":"M1255","v":11.703333333333335},17.388333333333332,9.2416666666666671,null,{"$f":"'Combined Cycle Gas'!$D$8","v":318.30459770114948},{"$f":"Nuclear!$D$8","v":307.69444444444446},6.9120699999999999,11.366666666666665,8.7666666666666675,8.4133333333333322,6912070]
["2018-02-20",17,34.770000000000003,0,null,{"$f":"M1256","v":13.713333333333333},25.186666666666667,11.959999999999999,null,{"$f":"'Combined Cycle Gas'!$D$8","v":318.30459770114948},{"$f":"Nuclear!$D$8","v":307.69444444444446},5.2040139999999999,11.346666666666666,8.8950000000000014,8.5283333333333342,5204014]
["2018-02-20",18,26.09,419,null,{"$f":"M1257","v":20.34},30.081666666666667,17.28,null,{"$f":"'Combined Cycle Gas'!$D$8","v":318.30459770114948},{"$f":"Nuclear!$D$8","v":307.69444444444446},{"$f":"P1251/10^6","v":1.466831},11.781666666666668,8.93,8.8716666666666679,1466831]
["2018-02-20",19,28.66,994,null,{"$f":"M1258","v":19.809999999999999},27.709999999999997,10.663333333333332,null,{"$f":"'Combined Cycle Gas'!$D$8","v":318.30459770114948},{"$f":"Nuclear!$D$8","v":307.69444444444446},0,12.018333333333333,8.8233333333333324,8.5233333333333317,0]
["2018-02-20",20,30.19,1701,null,{"$f":"M1259","v":19.075000000000003},29.811666666666667,12.261666666666668,null,{"$f":"'Combined Cycle Gas'!$D$8","v":318.30459770114948},{"$f":"Nuclear!$D$8","v":307.69444444444446},0,12.208333333333334,8.5733333333333324,8.3383333333333329,0]
["2018-02-20",21,24.36,1996,null,{"$f":"M1260","v":16.41},32.065000000000005,15.82,null,{"$f":"'Combined Cycle Gas'!$D$8","v":318.30459770114948},{"$f":"Nuclear!$D$8","v":307.69444444444446},0,11.773333333333333,9.7183333333333337,8.326666666666668,0]
["2018-02-20",22,26.99,1594,null,{"$f":"M1261","v":19.843333333333334},33.68,28.504999999999999,null,{"$f":"'Combined Cycle Gas'!$D$8","v":318.30459770114948},{"$f":"Nuclear!$D$8","v":307.69444444444446},0,11.703333333333335,17.388333333333332,9.2416666666666671,0]
["2018-02-20",23,32.06,717,null,{"$f":"M1262","v":24.045000000000002},41.02,27.111666666666668,null,{"$f":"'Combined Cycle Gas'!$D$8","v":318.30459770114948},{"$f":"Nuclear!$D$8","v":307.69444444444446},0,13.713333333333333,25.186666666666667,11.959999999999999,0]
["2018-02-20",24,29.1,903,null,{"$f":"M1263","v":41.766666666666666},43.073333333333331,36.476666666666667,null,{"$f":"'Combined Cycle Gas'!$D$8","v":318.30459770114948},{"$f":"Nuclear!$D$8","v":307.69444444444446},0,20.34,30.081666666666667,17.28,0]
["2018-02-21",1,27.5,1056,null,{"$f":"M1264","v":34.116666666666667},24.285,30.289999999999996,null,{"$f":"'Combined Cycle Gas'!$D$8","v":318.30459770114948},{"$f":"Nuclear!$D$8","v":307.69444444444446},0,19.809999999999999,27.709999999999997,10.663333333333332,0]
["2018-02-21",2,25.89,1727,null,{"$f":"M1265","v":19.705000000000002},10.438333333333333,23.695000000000004,null,{"$f":"'Combined Cycle Gas'!$D$8","v":318.30459770114948},{"$f":"Nuclear!$D$8","v":307.69444444444446},0,19.075000000000003,29.811666666666667,12.261666666666668,0]
["2018-02-21",3,27,1846,null,{"$f":"M1266","v":14.68},6.8116666666666665,17.165000000000003,null,{"$f":"'Combined Cycle Gas'!$D$8","v":318.30459770114948},{"$f":"Nuclear!$D$8","v":307.69444444444446},0,16.41,32.065000000000005,15.82,0]
["2018-02-21",4,27.18,1892,null,{"$f":"M1267","v":11.863333333333335},7.043333333333333,9.9983333333333331,null,{"$f":"'Combined Cycle Gas'!$D$8","v":318.30459770114948},{"$f":"Nuclear!$D$8","v":307.69444444444446},0,19.843333333333334,33.68,28.504999999999999,0]
["2018-02-21",5,27.89,1991,null,{"$f":"M1268","v":8.9016666666666673},6.7266666666666666,6.2216666666666667,null,{"$f":"'Combined Cycle Gas'!$D$8","v":318.30459770114948},{"$f":"Nuclear!$D$8","v":307.69444444444446},0,24.045000000000002,41.02,27.111666666666668,0]
["2018-02-21",6,27.51,1876,null,{"$f":"M1269","v":8.8516666666666666},6.6999999999999993,7.1116666666666672,null,{"$f":"'Combined Cycle Gas'!$D$8","v":318.30459770114948},{"$f":"Nuclear!$D$8","v":307.69444444444446},0,41.766666666666666,43.073333333333331,36.476666666666667,0]
["2018-02-21",7,29.16,1595,null,{"$f":"M1270","v":8.8233333333333324},6.6566666666666663,7.211666666666666,null,{"$f":"'Combined Cycle Gas'!$D$8","v":318.30459770114948},{"$f":"Nuclear!$D$8","v":307.69444444444446},6.1580000000000003E-3,34.116666666666667,24.285,30.289999999999996,6158]
["2018-02-21",8,30.22,1356,null,{"$f":"M1271","v":8.76},6.6816666666666675,7.331666666666667,null,{"$f":"'Combined Cycle Gas'!$D$8","v":318.30459770114948},{"$f":"Nuclear!$D$8","v":307.69444444444446},4.3560879999999997,19.705000000000002,10.438333333333333,23.695000000000004,4356088]
["2018-02-21",9,28.43,1583,null,{"$f":"M1272","v":8.75},6.7166666666666659,6.1483333333333334,null,{"$f":"'Combined Cycle Gas'!$D$8","v":318.30459770114948},{"$f":"Nuclear!$D$8","v":307.69444444444446},6.7970040000000003,14.68,6.8116666666666665,17.165000000000003,6797004]
["2018-02-21",10,28.73,1581,null,{"$f":"M1273","v":9.0366666666666671},6.9033333333333333,6.21,null,{"$f":"'Combined Cycle Gas'!$D$8","v":318.30459770114948},{"$f":"Nuclear!$D$8","v":307.69444444444446},7.537496,11.863333333333335,7.043333333333333,9.9983333333333331,7537496]
["2018-02-21",11,27.91,1602,null,{"$f":"M1274","v":9.2200000000000006},7.3283333333333331,6.3966666666666656,null,{"$f":"'Combined Cycle Gas'!$D$8","v":318.30459770114948},{"$f":"Nuclear!$D$8","v":307.69444444444446},7.4266870000000003,8.9016666666666673,6.7266666666666666,6.2216666666666667,7426687]
["2018-02-21",12,28.41,1426,null,{"$f":"M1275","v":9.3133333333333326},7.5566666666666675,6.4016666666666664,null,{"$f":"'Combined Cycle Gas'!$D$8","v":318.30459770114948},{"$f":"Nuclear!$D$8","v":307.69444444444446},7.3078839999999996,8.8516666666666666,6.6999999999999993,7.1116666666666672,7307884]
["2018-02-21",13,29.07,1284,null,{"$f":"M1276","v":9.33},7.8183333333333325,6.6116666666666655,null,{"$f":"'Combined Cycle Gas'!$D$8","v":318.30459770114948},{"$f":"Nuclear!$D$8","v":307.69444444444446},7.1884769999999998,8.8233333333333324,6.6566666666666663,7.211666666666666,7188477]
["2018-02-21",14,28.87,1181,null,{"$f":"M1277","v":9.4949999999999992},8.3600000000000012,6.666666666666667,null,{"$f":"'Combined Cycle Gas'!$D$8","v":318.30459770114948},{"$f":"Nuclear!$D$8","v":307.69444444444446},7.2795639999999997,8.76,6.6816666666666675,7.331666666666667,7279564]
["2018-02-21",15,30.3,755,null,{"$f":"M1278","v":9.5800000000000018},9.2166666666666668,6.796666666666666,null,{"$f":"'Combined Cycle Gas'!$D$8","v":318.30459770114948},{"$f":"Nuclear!$D$8","v":307.69444444444446},7.22844,8.75,6.7166666666666659,6.1483333333333334,7228440]
["2018-02-21",16,30.32,535,null,{"$f":"M1279","v":9.581666666666667},14.410000000000002,6.6716666666666669,null,{"$f":"'Combined Cycle Gas'!$D$8","v":318.30459770114948},{"$f":"Nuclear!$D$8","v":307.69444444444446},6.6283240000000001,9.0366666666666671,6.9033333333333333,6.21,6628324]
["2018-02-21",17,30.1,461,null,{"$f":"M1280","v":9.3666666666666654},18.669999999999998,6.628333333333333,null,{"$f":"'Combined Cycle Gas'!$D$8","v":318.30459770114948},{"$f":"Nuclear!$D$8","v":307.69444444444446},5.2001520000000001,9.2200000000000006,7.3283333333333331,6.3966666666666656,5200152]
["2018-02-21",18,27.61,452,null,{"$f":"M1281","v":8.7200000000000006},21.408333333333331,13.776666666666666,null,{"$f":"'Combined Cycle Gas'!$D$8","v":318.30459770114948},{"$f":"Nuclear!$D$8","v":307.69444444444446},1.83893,9.3133333333333326,7.5566666666666675,6.4016666666666664,1838930]
["2018-02-21",19,28.3,1275,null,{"$f":"M1282","v":12.613333333333335},16.848333333333333,36.918333333333337,null,{"$f":"'Combined Cycle Gas'!$D$8","v":318.30459770114948},{"$f":"Nuclear!$D$8","v":307.69444444444446},0,9.33,7.8183333333333325,6.6116666666666655,0]
["2018-02-21",20,27.51,2015,null,{"$f":"M1283","v":60.726666666666667},28.088333333333335,54.788333333333334,null,{"$f":"'Combined Cycle Gas'!$D$8","v":318.30459770114948},{"$f":"Nuclear!$D$8","v":307.69444444444446},0,9.4949999999999992,8.3600000000000012,6.666666666666667,0]
["2018-02-21",21,20.079999999999998,2064,null,{"$f":"M1284","v":113.97166666666665},84.028333333333336,76.26166666666667,null,{"$f":"'Combined Cycle Gas'!$D$8","v":318.30459770114948},{"$f":"Nuclear!$D$8","v":307.69444444444446},0,9.5800000000000018,9.2166666666666668,6.796666666666666,0]
["2018-02-21",22,29.09,1531,null,{"$f":"M1285","v":121.03833333333331},89.706666666666663,91.435000000000002,null,{"$f":"'Combined Cycle Gas'!$D$8","v":318.30459770114948},{"$f":"Nuclear!$D$8","v":307.69444444444446},0,9.581666666666667,14.410000000000002,6.6716666666666669,0]
["2018-02-21",23,27.21,1516,null,{"$f":"M1286","v":126.25666666666666},96.054999999999993,94.588333333333324,null,{"$f":"'Combined Cycle Gas'!$D$8","v":318.30459770114948},{"$f":"Nuclear!$D$8","v":307.69444444444446},0,9.3666666666666654,18.669999999999998,6.628333333333333,0]
["2018-02-21",24,28.24,1603,null,{"$f":"M1287","v":121.28666666666668},87.823333333333323,94.981666666666669,null,{"$f":"'Combined Cycle Gas'!$D$8","v":318.30459770114948},{"$f":"Nuclear!$D$8","v":307.69444444444446},0,8.7200000000000006,21.408333333333331,13.776666666666666,0]
["2018-02-22",1,27.62,1277,null,{"$f":"M1288","v":116.125},81.88333333333334,80.135000000000005,null,{"$f":"'Combined Cycle Gas'!$D$8","v":318.30459770114948},{"$f":"Nuclear!$D$8","v":307.69444444444446},0,12.613333333333335,16.848333333333333,36.918333333333337,0]
["2018-02-22",2,28.12,1052,null,{"$f":"M1289","v":103.97666666666667},71.413333333333341,59.653333333333336,null,{"$f":"'Combined Cycle Gas'!$D$8","v":318.30459770114948},{"$f":"Nuclear!$D$8","v":307.69444444444446},0,60.726666666666667,28.088333333333335,54.788333333333334,0]
["2018-02-22",3,31.09,361,null,{"$f":"M1290","v":110.86666666666666},47.323333333333345,64.981666666666669,null,{"$f":"'Combined Cycle Gas'!$D$8","v":318.30459770114948},{"$f":"Nuclear!$D$8","v":307.69444444444446},0,113.97166666666665,84.028333333333336,76.26166666666667,0]
["2018-02-22",4,29.54,344,null,{"$f":"M1291","v":30.934999999999999},22.618333333333336,62.086666666666673,null,{"$f":"'Combined Cycle Gas'!$D$8","v":318.30459770114948},{"$f":"Nuclear!$D$8","v":307.69444444444446},0,121.03833333333331,89.706666666666663,91.435000000000002,0]
["2018-02-22",5,31.93,299,null,{"$f":"M1292","v":8.6066666666666674},36.17166666666666,59.146666666666668,null,{"$f":"'Combined Cycle Gas'!$D$8","v":318.30459770114948},{"$f":"Nuclear!$D$8","v":307.69444444444446},0,126.25666666666666,96.054999999999993,94.588333333333324,0]
["2018-02-22",6,34.1,297,null,{"$f":"M1293","v":15.844999999999999},9.6366666666666685,38.190000000000005,null,{"$f":"'Combined Cycle Gas'!$D$8","v":318.30459770114948},{"$f":"Nuclear!$D$8","v":307.69444444444446},0,121.28666666666668,87.823333333333323,94.981666666666669,0]
["2018-02-22",7,39.19,99,null,{"$f":"M1294","v":7.6466666666666656},7.0433333333333339,18.793333333333333,null,{"$f":"'Combined Cycle Gas'!$D$8","v":318.30459770114948},{"$f":"Nuclear!$D$8","v":307.69444444444446},0,116.125,81.88333333333334,80.135000000000005,0]
["2018-02-22",8,43.05,0,null,{"$f":"M1295","v":16.191666666666666},6.7316666666666665,8.9083333333333332,null,{"$f":"'Combined Cycle Gas'!$D$8","v":318.30459770114948},{"$f":"Nuclear!$D$8","v":307.69444444444446},0.125586,103.97666666666667,71.413333333333341,59.653333333333336,125586]
["2018-02-22",9,42.96,0,null,{"$f":"M1296","v":11.263333333333334},5.628333333333333,12.834999999999999,null,{"$f":"'Combined Cycle Gas'!$D$8","v":318.30459770114948},{"$f":"Nuclear!$D$8","v":307.69444444444446},0.86054299999999995,110.86666666666666,47.323333333333345,64.981666666666669,860543]
["2018-02-22",10,41.4,17,null,{"$f":"M1297","v":7.2633333333333328},6.205000000000001,6.5333333333333323,null,{"$f":"'Combined Cycle Gas'!$D$8","v":318.30459770114948},{"$f":"Nuclear!$D$8","v":307.69444444444446},1.4580569999999999,30.934999999999999,22.618333333333336,62.086666666666673,1458057]
["2018-02-22",11,39,17,null,{"$f":"M1298","v":7.0550000000000006},14.883333333333331,8.581666666666667,null,{"$f":"'Combined Cycle Gas'!$D$8","v":318.30459770114948},{"$f":"Nuclear!$D$8","v":307.69444444444446},1.6999169999999999,8.6066666666666674,36.17166666666666,59.146666666666668,1699917]
["2018-02-22",12,39.01,17,null,{"$f":"M1299","v":7.8416666666666659},24.189999999999998,13.916666666666666,null,{"$f":"'Combined Cycle Gas'!$D$8","v":318.30459770114948},{"$f":"Nuclear!$D$8","v":307.69444444444446},2.7112310000000002,15.844999999999999,9.6366666666666685,38.190000000000005,2711231]
["2018-02-22",13,37.520000000000003,88,null,{"$f":"M1300","v":9.9849999999999994},21.293333333333333,16.059999999999999,null,{"$f":"'Combined Cycle Gas'!$D$8","v":318.30459770114948},{"$f":"Nuclear!$D$8","v":307.69444444444446},1.9137090000000001,7.6466666666666656,7.0433333333333339,18.793333333333333,1913709]
["2018-02-22",14,38.15,81,null,{"$f":"M1301","v":9.5849999999999991},13.403333333333331,11.25,null,{"$f":"'Combined Cycle Gas'!$D$8","v":318.30459770114948},{"$f":"Nuclear!$D$8","v":307.69444444444446},1.8007420000000001,16.191666666666666,6.7316666666666665,8.9083333333333332,1800742]
["2018-02-22",15,37.4,58,null,{"$f":"M1302","v":9.6883333333333344},12.615,6.8866666666666667,null,{"$f":"'Combined Cycle Gas'!$D$8","v":318.30459770114948},{"$f":"Nuclear!$D$8","v":307.69444444444446},1.7943450000000001,11.263333333333334,5.628333333333333,12.834999999999999,1794345]
["2018-02-22",16,38.340000000000003,86,null,{"$f":"M1303","v":9.74},21.081666666666663,7.0283333333333333,null,{"$f":"'Combined Cycle Gas'!$D$8","v":318.30459770114948},{"$f":"Nuclear!$D$8","v":307.69444444444446},1.112325,7.2633333333333328,6.205000000000001,6.5333333333333323,1112325]
["2018-02-22",17,41.29,23,null,{"$f":"M1304","v":10.378333333333334},46.695,7.5533333333333337,null,{"$f":"'Combined Cycle Gas'!$D$8","v":318.30459770114948},{"$f":"Nuclear!$D$8","v":307.69444444444446},0.231602,7.0550000000000006,14.883333333333331,8.581666666666667,231602]
["2018-02-22",18,27.79,0,null,{"$f":"M1305","v":25.286666666666665},39.586666666666666,18.036666666666665,null,{"$f":"'Combined Cycle Gas'!$D$8","v":318.30459770114948},{"$f":"Nuclear!$D$8","v":307.69444444444446},0,7.8416666666666659,24.189999999999998,13.916666666666666,0]
["2018-02-22",19,30.16,0,null,{"$f":"M1306","v":25.224999999999998},15.346666666666669,40.026666666666671,null,{"$f":"'Combined Cycle Gas'!$D$8","v":318.30459770114948},{"$f":"Nuclear!$D$8","v":307.69444444444446},0,9.9849999999999994,21.293333333333333,16.059999999999999,0]
["2018-02-22",20,30.49,2,null,{"$f":"M1307","v":9.5733333333333341},5.0716666666666663,59.886666666666663,null,{"$f":"'Combined Cycle Gas'!$D$8","v":318.30459770114948},{"$f":"Nuclear!$D$8","v":307.69444444444446},0,9.5849999999999991,13.403333333333331,11.25,0]
["2018-02-22",21,27.08,625,null,{"$f":"M1308","v":27.766666666666666},6.1016666666666666,58.676666666666669,null,{"$f":"'Combined Cycle Gas'!$D$8","v":318.30459770114948},{"$f":"Nuclear!$D$8","v":307.69444444444446},0,9.6883333333333344,12.615,6.8866666666666667,0]
["2018-02-22",22,28.31,1048,null,{"$f":"M1309","v":19.931666666666668},21.054999999999996,37.155000000000001,null,{"$f":"'Combined Cycle Gas'!$D$8","v":318.30459770114948},{"$f":"Nuclear!$D$8","v":307.69444444444446},0,9.74,21.081666666666663,7.0283333333333333,0]
["2018-02-22",23,27.02,1672,null,{"$f":"M1310","v":15.200000000000001},38.391666666666673,60.738333333333337,null,{"$f":"'Combined Cycle Gas'!$D$8","v":318.30459770114948},{"$f":"Nuclear!$D$8","v":307.69444444444446},0,10.378333333333334,46.695,7.5533333333333337,0]
["2018-02-22",24,24.93,2261,null,{"$f":"M1311","v":22.831666666666667},32.546666666666667,77.161666666666676,null,{"$f":"'Combined Cycle Gas'!$D$8","v":318.30459770114948},{"$f":"Nuclear!$D$8","v":307.69444444444446},0,25.286666666666665,39.586666666666666,18.036666666666665,0]
["2018-02-23",1,27.19,1817,null,{"$f":"M1312","v":37.894999999999996},30.123333333333331,75.64,null,{"$f":"'Combined Cycle Gas'!$D$8","v":318.30459770114948},{"$f":"Nuclear!$D$8","v":307.69444444444446},0,25.224999999999998,15.346666666666669,40.026666666666671,0]
["2018-02-23",2,29.21,1161,null,{"$f":"M1313","v":50.536666666666669},39.178333333333335,70.413333333333341,null,{"$f":"'Combined Cycle Gas'!$D$8","v":318.30459770114948},{"$f":"Nuclear!$D$8","v":307.69444444444446},0,9.5733333333333341,5.0716666666666663,59.886666666666663,0]
["2018-02-23",3,29.2,716,null,{"$f":"M1314","v":65.118333333333339},39.233333333333341,65.791666666666671,null,{"$f":"'Combined Cycle Gas'!$D$8","v":318.30459770114948},{"$f":"Nuclear!$D$8","v":307.69444444444446},0,27.766666666666666,6.1016666666666666,58.676666666666669,0]
["2018-02-23",4,29.2,666,null,{"$f":"M1315","v":47.888333333333328},45.321666666666665,56.356666666666662,null,{"$f":"'Combined Cycle Gas'!$D$8","v":318.30459770114948},{"$f":"Nuclear!$D$8","v":307.69444444444446},0,19.931666666666668,21.054999999999996,37.155000000000001,0]
["2018-02-23",5,32.36,442,null,{"$f":"M1316","v":33.585000000000001},29.049999999999997,14.998333333333335,null,{"$f":"'Combined Cycle Gas'!$D$8","v":318.30459770114948},{"$f":"Nuclear!$D$8","v":307.69444444444446},0,15.200000000000001,38.391666666666673,60.738333333333337,0]
["2018-02-23",6,33.47,465,null,{"$f":"M1317","v":27.071666666666669},22.180000000000003,8.9466666666666672,null,{"$f":"'Combined Cycle Gas'!$D$8","v":318.30459770114948},{"$f":"Nuclear!$D$8","v":307.69444444444446},0,22.831666666666667,32.546666666666667,77.161666666666676,0]
["2018-02-23",7,33.18,218,null,{"$f":"M1318","v":37.035000000000004},23.638333333333332,7.5616666666666674,null,{"$f":"'Combined Cycle Gas'!$D$8","v":318.30459770114948},{"$f":"Nuclear!$D$8","v":307.69444444444446},0,37.894999999999996,30.123333333333331,75.64,0]
["2018-02-23",8,39.270000000000003,691,null,{"$f":"M1319","v":28.225000000000005},20.388333333333332,7.2666666666666657,null,{"$f":"'Combined Cycle Gas'!$D$8","v":318.30459770114948},{"$f":"Nuclear!$D$8","v":307.69444444444446},7.3404999999999998E-2,50.536666666666669,39.178333333333335,70.413333333333341,73405]
["2018-02-23",9,34.119999999999997,920,null,{"$f":"M1320","v":8.1649999999999991},6.375,8.4516666666666662,null,{"$f":"'Combined Cycle Gas'!$D$8","v":318.30459770114948},{"$f":"Nuclear!$D$8","v":307.69444444444446},1.2501279999999999,65.118333333333339,39.233333333333341,65.791666666666671,1250128]
["2018-02-23",10,41.33,280,null,{"$f":"M1321","v":7.5966666666666667},6.2700000000000005,9.5783333333333331,null,{"$f":"'Combined Cycle Gas'!$D$8","v":318.30459770114948},{"$f":"Nuclear!$D$8","v":307.69444444444446},{"$f":"P1315/10^6","v":2.0015869999999998},47.888333333333328,45.321666666666665,56.356666666666662,2001587]
["2018-02-23",11,41.54,136,null,{"$f":"M1322","v":7.625},6.0799999999999992,12.255000000000001,null,{"$f":"'Combined Cycle Gas'!$D$8","v":318.30459770114948},{"$f":"Nuclear!$D$8","v":307.69444444444446},2.5445920000000002,33.585000000000001,29.049999999999997,14.998333333333335,2544592]
["2018-02-23",12,39.35,134,null,{"$f":"M1323","v":9.3833333333333346},6.9883333333333333,23.218333333333334,null,{"$f":"'Combined Cycle Gas'!$D$8","v":318.30459770114948},{"$f":"Nuclear!$D$8","v":307.69444444444446},2.4730349999999999,27.071666666666669,22.180000000000003,8.9466666666666672,2473035]
["2018-02-23",13,39.72,73,null,{"$f":"M1324","v":15.783333333333331},9.8566666666666656,25.241666666666664,null,{"$f":"'Combined Cycle Gas'!$D$8","v":318.30459770114948},{"$f":"Nuclear!$D$8","v":307.69444444444446},2.8744489999999998,37.035000000000004,23.638333333333332,7.5616666666666674,2874449]
["2018-02-23",14,41.48,29,null,{"$f":"M1325","v":25.48},17.306666666666668,29.633333333333336,null,{"$f":"'Combined Cycle Gas'!$D$8","v":318.30459770114948},{"$f":"Nuclear!$D$8","v":307.69444444444446},2.595701,28.225000000000005,20.388333333333332,7.2666666666666657,2595701]
["2018-02-23",15,40.840000000000003,87,null,{"$f":"M1326","v":39.919999999999995},19.495000000000001,37.628333333333337,null,{"$f":"'Combined Cycle Gas'!$D$8","v":318.30459770114948},{"$f":"Nuclear!$D$8","v":307.69444444444446},2.0458289999999999,8.1649999999999991,6.375,8.4516666666666662,2045829]
["2018-02-23",16,40.78,188,null,{"$f":"M1327","v":41.064999999999998},15.588333333333333,48.983333333333341,null,{"$f":"'Combined Cycle Gas'!$D$8","v":318.30459770114948},{"$f":"Nuclear!$D$8","v":307.69444444444446},1.592182,7.5966666666666667,6.2700000000000005,9.5783333333333331,1592182]
["2018-02-23",17,41.08,218,null,{"$f":"M1328","v":29.975000000000005},14.501666666666667,46.771666666666668,null,{"$f":"'Combined Cycle Gas'!$D$8","v":318.30459770114948},{"$f":"Nuclear!$D$8","v":307.69444444444446},0.945272,7.625,6.0799999999999992,12.255000000000001,945272]
["2018-02-23",18,40.82,217,null,{"$f":"M1329","v":30.238333333333333},12.893333333333333,45.653333333333336,null,{"$f":"'Combined Cycle Gas'!$D$8","v":318.30459770114948},{"$f":"Nuclear!$D$8","v":307.69444444444446},3.8040000000000001E-3,9.3833333333333346,6.9883333333333333,23.218333333333334,3804]
["2018-02-23",19,40.76,0,null,{"$f":"M1330","v":22.801666666666666},9.8616666666666664,35.076666666666668,null,{"$f":"'Combined Cycle Gas'!$D$8","v":318.30459770114948},{"$f":"Nuclear!$D$8","v":307.69444444444446},0,15.783333333333331,9.8566666666666656,25.241666666666664,0]
["2018-02-23",20,43.87,0,null,{"$f":"M1331","v":14.63},7.6316666666666677,36.721666666666664,null,{"$f":"'Combined Cycle Gas'!$D$8","v":318.30459770114948},{"$f":"Nuclear!$D$8","v":307.69444444444446},0,25.48,17.306666666666668,29.633333333333336,0]
["2018-02-23",21,41.65,70,null,{"$f":"M1332","v":17.653333333333336},18.321666666666669,58.444999999999993,null,{"$f":"'Combined Cycle Gas'!$D$8","v":318.30459770114948},{"$f":"Nuclear!$D$8","v":307.69444444444446},0,39.919999999999995,19.495000000000001,37.628333333333337,0]
["2018-02-23",22,38.74,1173,null,{"$f":"M1333","v":48.214999999999996},36.80833333333333,68.88666666666667,null,{"$f":"'Combined Cycle Gas'!$D$8","v":318.30459770114948},{"$f":"Nuclear!$D$8","v":307.69444444444446},0,41.064999999999998,15.588333333333333,48.983333333333341,0]
["2018-02-23",23,34.479999999999997,1726,null,{"$f":"M1334","v":59.76},49.881666666666661,66.143333333333331,null,{"$f":"'Combined Cycle Gas'!$D$8","v":318.30459770114948},{"$f":"Nuclear!$D$8","v":307.69444444444446},0,29.975000000000005,14.501666666666667,46.771666666666668,0]
["2018-02-23",24,30.66,1342,null,{"$f":"M1335","v":34.125000000000007},38.26,69.405000000000015,null,{"$f":"'Combined Cycle Gas'!$D$8","v":318.30459770114948},{"$f":"Nuclear!$D$8","v":307.69444444444446},0,30.238333333333333,12.893333333333333,45.653333333333336,0]
["2018-02-24",1,32.67,1320,null,{"$f":"M1336","v":23.060000000000002},30.383333333333336,60.013333333333328,null,{"$f":"'Combined Cycle Gas'!$D$8","v":318.30459770114948},{"$f":"Nuclear!$D$8","v":307.69444444444446},0,22.801666666666666,9.8616666666666664,35.076666666666668,0]
["2018-02-24",2,32.119999999999997,918,null,{"$f":"M1337","v":19.87},23.72666666666667,40.98,null,{"$f":"'Combined Cycle Gas'!$D$8","v":318.30459770114948},{"$f":"Nuclear!$D$8","v":307.69444444444446},0,14.63,7.6316666666666677,36.721666666666664,0]
["2018-02-24",3,31.82,970,null,{"$f":"M1338","v":21.74},18.824999999999999,27.363333333333333,null,{"$f":"'Combined Cycle Gas'!$D$8","v":318.30459770114948},{"$f":"Nuclear!$D$8","v":307.69444444444446},0,17.653333333333336,18.321666666666669,58.444999999999993,0]
["2018-02-24",4,31.97,817,null,{"$f":"M1339","v":28.406666666666666},16.941666666666666,18.918333333333333,null,{"$f":"'Combined Cycle Gas'!$D$8","v":318.30459770114948},{"$f":"Nuclear!$D$8","v":307.69444444444446},0,48.214999999999996,36.80833333333333,68.88666666666667,0]
["2018-02-24",5,32.630000000000003,662,null,{"$f":"M1340","v":32.37166666666667},12.358333333333334,11.903333333333334,null,{"$f":"'Combined Cycle Gas'!$D$8","v":318.30459770114948},{"$f":"Nuclear!$D$8","v":307.69444444444446},0,59.76,49.881666666666661,66.143333333333331,0]
["2018-02-24",6,33.83,488,null,{"$f":"M1341","v":39.195},6.81,5.544999999999999,null,{"$f":"'Combined Cycle Gas'!$D$8","v":318.30459770114948},{"$f":"Nuclear!$D$8","v":307.69444444444446},0,34.125000000000007,38.26,69.405000000000015,0]
["2018-02-24",7,34.93,855,null,{"$f":"M1342","v":32.661666666666669},8.1566666666666663,5.4633333333333338,null,{"$f":"'Combined Cycle Gas'!$D$8","v":318.30459770114948},{"$f":"Nuclear!$D$8","v":307.69444444444446},0,23.060000000000002,30.383333333333336,60.013333333333328,0]
["2018-02-24",8,39.799999999999997,995,null,{"$f":"M1343","v":22.823333333333334},8.5316666666666681,5.47,null,{"$f":"'Combined Cycle Gas'!$D$8","v":318.30459770114948},{"$f":"Nuclear!$D$8","v":307.69444444444446},2.9575000000000001E-2,19.87,23.72666666666667,40.98,29575]
["2018-02-24",9,41.95,419,null,{"$f":"M1344","v":4.7733333333333343},4.6500000000000004,5.3550000000000004,null,{"$f":"'Combined Cycle Gas'!$D$8","v":318.30459770114948},{"$f":"Nuclear!$D$8","v":307.69444444444446},1.171826,21.74,18.824999999999999,27.363333333333333,1171826]
["2018-02-24",10,41.93,103,null,{"$f":"M1345","v":4.84},4.4183333333333339,5.3483333333333327,null,{"$f":"'Combined Cycle Gas'!$D$8","v":318.30459770114948},{"$f":"Nuclear!$D$8","v":307.69444444444446},1.6062430000000001,28.406666666666666,16.941666666666666,18.918333333333333,1606243]
["2018-02-24",11,42.01,12,null,{"$f":"M1346","v":5.2033333333333331},4.4450000000000003,5.4200000000000008,null,{"$f":"'Combined Cycle Gas'!$D$8","v":318.30459770114948},{"$f":"Nuclear!$D$8","v":307.69444444444446},2.151141,32.37166666666667,12.358333333333334,11.903333333333334,2151141]
["2018-02-24",12,40.42,0,null,{"$f":"M1347","v":5.3299999999999992},4.5683333333333334,5.5383333333333331,null,{"$f":"'Combined Cycle Gas'!$D$8","v":318.30459770114948},{"$f":"Nuclear!$D$8","v":307.69444444444446},2.5517620000000001,39.195,6.81,5.544999999999999,2551762]
["2018-02-24",13,37.58,35,null,{"$f":"M1348","v":5.333333333333333},4.5866666666666669,5.5583333333333336,null,{"$f":"'Combined Cycle Gas'!$D$8","v":318.30459770114948},{"$f":"Nuclear!$D$8","v":307.69444444444446},2.7430140000000001,32.661666666666669,8.1566666666666663,5.4633333333333338,2743014]
["2018-02-24",14,35.36,176,null,{"$f":"M1349","v":5.4366666666666665},4.6283333333333339,5.5983333333333327,null,{"$f":"'Combined Cycle Gas'!$D$8","v":318.30459770114948},{"$f":"Nuclear!$D$8","v":307.69444444444446},2.2291530000000002,22.823333333333334,8.5316666666666681,5.47,2229153]
["2018-02-24",15,30.26,487,null,{"$f":"M1350","v":10.426666666666668},4.4666666666666668,5.5200000000000005,null,{"$f":"'Combined Cycle Gas'!$D$8","v":318.30459770114948},{"$f":"Nuclear!$D$8","v":307.69444444444446},1.159138,4.7733333333333343,4.6500000000000004,5.3550000000000004,1159138]
["2018-02-24",16,29.81,789,null,{"$f":"M1351","v":19.878333333333334},5.2366666666666664,7.9349999999999996,null,{"$f":"'Combined Cycle Gas'!$D$8","v":318.30459770114948},{"$f":"Nuclear!$D$8","v":307.69444444444446},1.281501,4.84,4.4183333333333339,5.3483333333333327,1281501]
["2018-02-24",17,38.74,474,null,{"$f":"M1352","v":35.291666666666664},15.356666666666667,13.095000000000001,null,{"$f":"'Combined Cycle Gas'!$D$8","v":318.30459770114948},{"$f":"Nuclear!$D$8","v":307.69444444444446},0.334623,5.2033333333333331,4.4450000000000003,5.4200000000000008,334623]
["2018-02-24",18,41.83,337,null,{"$f":"M1353","v":66.798333333333332},33.828333333333333,26.531666666666666,null,{"$f":"'Combined Cycle Gas'!$D$8","v":318.30459770114948},{"$f":"Nuclear!$D$8","v":307.69444444444446},2.4480000000000001E-3,5.3299999999999992,4.5683333333333334,5.5383333333333331,2448]
["2018-02-24",19,41.29,181,null,{"$f":"M1354","v":72.173333333333332},49.31,33.576666666666675,null,{"$f":"'Combined Cycle Gas'!$D$8","v":318.30459770114948},{"$f":"Nuclear!$D$8","v":307.69444444444446},0,5.333333333333333,4.5866666666666669,5.5583333333333336,0]
["2018-02-24",20,41.8,95,null,{"$f":"M1355","v":62.883333333333333},66.103333333333339,47.994999999999997,null,{"$f":"'Combined Cycle Gas'!$D$8","v":318.30459770114948},{"$f":"Nuclear!$D$8","v":307.69444444444446},0,5.4366666666666665,4.6283333333333339,5.5983333333333327,0]
["2018-02-24",21,41.54,231,null,{"$f":"M1356","v":87.738333333333344},91.578333333333333,72.773333333333326,null,{"$f":"'Combined Cycle Gas'!$D$8","v":318.30459770114948},{"$f":"Nuclear!$D$8","v":307.69444444444446},0,10.426666666666668,4.4666666666666668,5.5200000000000005,0]
["2018-02-24",22,37.72,1178,null,{"$f":"M1357","v":108.08499999999999},96.559999999999988,83.773333333333326,null,{"$f":"'Combined Cycle Gas'!$D$8","v":318.30459770114948},{"$f":"Nuclear!$D$8","v":307.69444444444446},0,19.878333333333334,5.2366666666666664,7.9349999999999996,0]
["2018-02-24",23,28.46,2151,null,{"$f":"M1358","v":123.58999999999999},99.969999999999985,88.318333333333328,null,{"$f":"'Combined Cycle Gas'!$D$8","v":318.30459770114948},{"$f":"Nuclear!$D$8","v":307.69444444444446},0,35.291666666666664,15.356666666666667,13.095000000000001,0]
["2018-02-24",24,26.39,2887,null,{"$f":"M1359","v":128.76},99.385000000000005,95.154999999999987,null,{"$f":"'Combined Cycle Gas'!$D$8","v":318.30459770114948},{"$f":"Nuclear!$D$8","v":307.69444444444446},0,66.798333333333332,33.828333333333333,26.531666666666666,0]
["2018-02-25",1,35.909999999999997,2798,null,{"$f":"M1360","v":131.85},99.666666666666671,98.856666666666669,null,{"$f":"'Combined Cycle Gas'!$D$8","v":318.30459770114948},{"$f":"Nuclear!$D$8","v":307.69444444444446},0,72.173333333333332,49.31,33.576666666666675,0]
["2018-02-25",2,34.74,2179,null,{"$f":"M1361","v":135.52166666666668},101.63333333333333,101.31166666666667,null,{"$f":"'Combined Cycle Gas'!$D$8","v":318.30459770114948},{"$f":"Nuclear!$D$8","v":307.69444444444446},0,62.883333333333333,66.103333333333339,47.994999999999997,0]
["2018-02-25",3,34.090000000000003,1912,null,{"$f":"M1362","v":135.65},103.605,102.43166666666667,null,{"$f":"'Combined Cycle Gas'!$D$8","v":318.30459770114948},{"$f":"Nuclear!$D$8","v":307.69444444444446},0,87.738333333333344,91.578333333333333,72.773333333333326,0]
["2018-02-25",4,34.049999999999997,1912,null,{"$f":"M1363","v":137.65833333333333},100.16833333333334,106.43666666666667,null,{"$f":"'Combined Cycle Gas'!$D$8","v":318.30459770114948},{"$f":"Nuclear!$D$8","v":307.69444444444446},0,108.08499999999999,96.559999999999988,83.773333333333326,0]
["2018-02-25",5,34.81,2202,null,{"$f":"M1364","v":131.65166666666667},96.72166666666665,101.50333333333333,null,{"$f":"'Combined Cycle Gas'!$D$8","v":318.30459770114948},{"$f":"Nuclear!$D$8","v":307.69444444444446},0,123.58999999999999,99.969999999999985,88.318333333333328,0]
["2018-02-25",6,34.51,2689,null,{"$f":"M1365","v":120.00666666666666},92.726666666666674,98.04,null,{"$f":"'Combined Cycle Gas'!$D$8","v":318.30459770114948},{"$f":"Nuclear!$D$8","v":307.69444444444446},0,128.76,99.385000000000005,95.154999999999987,0]
["2018-02-25",7,28.19,2577,null,{"$f":"M1366","v":98.570000000000007},87.276666666666657,96.291666666666671,null,{"$f":"'Combined Cycle Gas'!$D$8","v":318.30459770114948},{"$f":"Nuclear!$D$8","v":307.69444444444446},0,131.85,99.666666666666671,98.856666666666669,0]
["2018-02-25",8,33.14,2406,null,{"$f":"M1367","v":87.196666666666673},75.87833333333333,95.156666666666652,null,{"$f":"'Combined Cycle Gas'!$D$8","v":318.30459770114948},{"$f":"Nuclear!$D$8","v":307.69444444444446},0.12084300000000001,135.52166666666668,101.63333333333333,101.31166666666667,120843]
["2018-02-25",9,31.21,2666,null,{"$f":"M1368","v":50.613333333333337},81.196666666666673,93.00833333333334,null,{"$f":"'Combined Cycle Gas'!$D$8","v":318.30459770114948},{"$f":"Nuclear!$D$8","v":307.69444444444446},1.2526139999999999,135.65,103.605,102.43166666666667,1252614]
["2018-02-25",10,33.6,2249,null,{"$f":"M1369","v":13.398333333333335},53.648333333333333,77.13333333333334,null,{"$f":"'Combined Cycle Gas'!$D$8","v":318.30459770114948},{"$f":"Nuclear!$D$8","v":307.69444444444446},3.921662,137.65833333333333,100.16833333333334,106.43666666666667,3921662]
["2018-02-25",11,35.65,1111,null,{"$f":"M1370","v":3.5766666666666667},17.984999999999999,45.053333333333342,null,{"$f":"'Combined Cycle Gas'!$D$8","v":318.30459770114948},{"$f":"Nuclear!$D$8","v":307.69444444444446},7.2858479999999997,131.65166666666667,96.72166666666665,101.50333333333333,7285848]
["2018-02-25",12,35.36,850,null,{"$f":"M1371","v":3.6799999999999997},7.001666666666666,23.035,null,{"$f":"'Combined Cycle Gas'!$D$8","v":318.30459770114948},{"$f":"Nuclear!$D$8","v":307.69444444444446},7.5608779999999998,120.00666666666666,92.726666666666674,98.04,7560878]
["2018-02-25",13,35.14,730,null,{"$f":"M1372","v":4.7333333333333334},4.251666666666666,13.593333333333334,null,{"$f":"'Combined Cycle Gas'!$D$8","v":318.30459770114948},{"$f":"Nuclear!$D$8","v":307.69444444444446},8.3456399999999995,98.570000000000007,87.276666666666657,96.291666666666671,8345640]
["2018-02-25",14,34.659999999999997,661,null,{"$f":"M1373","v":5.9766666666666666},5.9283333333333319,6.4499999999999993,null,{"$f":"'Combined Cycle Gas'!$D$8","v":318.30459770114948},{"$f":"Nuclear!$D$8","v":307.69444444444446},8.2149370000000008,87.196666666666673,75.87833333333333,95.156666666666652,8214937]
["2018-02-25",15,34.159999999999997,811,null,{"$f":"M1374","v":10.478333333333333},9.6266666666666669,4.7600000000000007,null,{"$f":"'Combined Cycle Gas'!$D$8","v":318.30459770114948},{"$f":"Nuclear!$D$8","v":307.69444444444446},7.8968920000000002,50.613333333333337,81.196666666666673,93.00833333333334,7896892]
["2018-02-25",16,34.119999999999997,1033,null,{"$f":"M1375","v":14.628333333333332},16.868333333333336,7.1483333333333334,null,{"$f":"'Combined Cycle Gas'!$D$8","v":318.30459770114948},{"$f":"Nuclear!$D$8","v":307.69444444444446},7.3707079999999996,13.398333333333335,53.648333333333333,77.13333333333334,7370708]
["2018-02-25",17,39.01,1163,null,{"$f":"M1376","v":27.653333333333336},22.204999999999998,21.669999999999998,null,{"$f":"'Combined Cycle Gas'!$D$8","v":318.30459770114948},{"$f":"Nuclear!$D$8","v":307.69444444444446},5.7013199999999999,3.5766666666666667,17.984999999999999,45.053333333333342,5701320]
["2018-02-25",18,40.200000000000003,1414,null,{"$f":"M1377","v":47.4},49.21,59.608333333333327,null,{"$f":"'Combined Cycle Gas'!$D$8","v":318.30459770114948},{"$f":"Nuclear!$D$8","v":307.69444444444446},2.112358,3.6799999999999997,7.001666666666666,23.035,2112358]
["2018-02-25",19,32.65,1872,null,{"$f":"M1378","v":101.95333333333333},58.306666666666665,72.83,null,{"$f":"'Combined Cycle Gas'!$D$8","v":318.30459770114948},{"$f":"Nuclear!$D$8","v":307.69444444444446},0,4.7333333333333334,4.251666666666666,13.593333333333334,0]
["2018-02-25",20,27.82,2332,null,{"$f":"M1379","v":84.951666666666654},54.671666666666674,86.13,null,{"$f":"'Combined Cycle Gas'!$D$8","v":318.30459770114948},{"$f":"Nuclear!$D$8","v":307.69444444444446},0,5.9766666666666666,5.9283333333333319,6.4499999999999993,0]
["2018-02-25",21,28.07,2478,null,{"$f":"M1380","v":64.103333333333339},75.425000000000011,87.850000000000009,null,{"$f":"'Combined Cycle Gas'!$D$8","v":318.30459770114948},{"$f":"Nuclear!$D$8","v":307.69444444444446},0,10.478333333333333,9.6266666666666669,4.7600000000000007,0]
["2018-02-25",22,31.63,2884,null,{"$f":"M1381","v":89.341666666666654},86.98,89.578333333333333,null,{"$f":"'Combined Cycle Gas'!$D$8","v":318.30459770114948},{"$f":"Nuclear!$D$8","v":307.69444444444446},0,14.628333333333332,16.868333333333336,7.1483333333333334,0]
["2018-02-25",23,28.69,3013,null,{"$f":"M1382","v":125.44666666666667},85.333333333333329,90.308333333333337,null,{"$f":"'Combined Cycle Gas'!$D$8","v":318.30459770114948},{"$f":"Nuclear!$D$8","v":307.69444444444446},0,27.653333333333336,22.204999999999998,21.669999999999998,0]
["2018-02-25",24,27.47,3013,null,{"$f":"M1383","v":128.77333333333334},91.839999999999989,92.074999999999989,null,{"$f":"'Combined Cycle Gas'!$D$8","v":318.30459770114948},{"$f":"Nuclear!$D$8","v":307.69444444444446},0,47.4,49.21,59.608333333333327,0]
["2018-02-26",1,28.12,3195,null,{"$f":"M1384","v":129.45666666666668},95.893333333333317,91.251666666666665,null,{"$f":"'Combined Cycle Gas'!$D$8","v":318.30459770114948},{"$f":"Nuclear!$D$8","v":307.69444444444446},0,101.95333333333333,58.306666666666665,72.83,0]
["2018-02-26",2,27.46,3193,null,{"$f":"M1385","v":132.05166666666668},94.418333333333337,89.553333333333342,null,{"$f":"'Combined Cycle Gas'!$D$8","v":318.30459770114948},{"$f":"Nuclear!$D$8","v":307.69444444444446},{"$f":"P1379/10^6","v":0},84.951666666666654,54.671666666666674,86.13,0]
["2018-02-26",3,27.57,3133,null,{"$f":"M1386","v":131.75833333333335},92.59666666666665,85.43,null,{"$f":"'Combined Cycle Gas'!$D$8","v":318.30459770114948},{"$f":"Nuclear!$D$8","v":307.69444444444446},0,64.103333333333339,75.425000000000011,87.850000000000009,0]
["2018-02-26",4,27.54,3134,null,{"$f":"M1387","v":126.23333333333333},87.418333333333337,83.541666666666671,null,{"$f":"'Combined Cycle Gas'!$D$8","v":318.30459770114948},{"$f":"Nuclear!$D$8","v":307.69444444444446},0,89.341666666666654,86.98,89.578333333333333,0]
["2018-02-26",5,29.65,3133,null,{"$f":"M1388","v":122.41833333333334},81.526666666666657,66.05,null,{"$f":"'Combined Cycle Gas'!$D$8","v":318.30459770114948},{"$f":"Nuclear!$D$8","v":307.69444444444446},0,125.44666666666667,85.333333333333329,90.308333333333337,0]
["2018-02-26",6,37.42,3133,null,{"$f":"M1389","v":113.63666666666666},68.948333333333338,53.963333333333338,null,{"$f":"'Combined Cycle Gas'!$D$8","v":318.30459770114948},{"$f":"Nuclear!$D$8","v":307.69444444444446},0,128.77333333333334,91.839999999999989,92.074999999999989,0]
["2018-02-26",7,40.590000000000003,2785,null,{"$f":"M1390","v":104.42333333333335},63.508333333333333,52.083333333333336,null,{"$f":"'Combined Cycle Gas'!$D$8","v":318.30459770114948},{"$f":"Nuclear!$D$8","v":307.69444444444446},1.525E-2,129.45666666666668,95.893333333333317,91.251666666666665,15250]
["2018-02-26",8,39.119999999999997,2753,null,{"$f":"M1391","v":88.47166666666665},57.044999999999995,49.298333333333325,null,{"$f":"'Combined Cycle Gas'!$D$8","v":318.30459770114948},{"$f":"Nuclear!$D$8","v":307.69444444444446},4.5823140000000002,132.05166666666668,94.418333333333337,89.553333333333342,4582314]
["2018-02-26",9,38.979999999999997,2719,null,{"$f":"M1392","v":77.8},48.131666666666668,39.648333333333333,null,{"$f":"'Combined Cycle Gas'!$D$8","v":318.30459770114948},{"$f":"Nuclear!$D$8","v":307.69444444444446},6.9145440000000002,131.75833333333335,92.59666666666665,85.43,6914544]
["2018-02-26",10,39,2358,null,{"$f":"M1393","v":56.391666666666659},38.588333333333331,28.781666666666666,null,{"$f":"'Combined Cycle Gas'!$D$8","v":318.30459770114948},{"$f":"Nuclear!$D$8","v":307.69444444444446},7.8489300000000002,126.23333333333333,87.418333333333337,83.541666666666671,7848930]
["2018-02-26",11,39.93,1751,null,{"$f":"M1394","v":32.538333333333334},24.823333333333334,19.548333333333328,null,{"$f":"'Combined Cycle Gas'!$D$8","v":318.30459770114948},{"$f":"Nuclear!$D$8","v":307.69444444444446},8.1208819999999999,122.41833333333334,81.526666666666657,66.05,8120882]
["2018-02-26",12,40.18,884,null,{"$f":"M1395","v":23.826666666666668},24.011666666666667,10.819999999999999,null,{"$f":"'Combined Cycle Gas'!$D$8","v":318.30459770114948},{"$f":"Nuclear!$D$8","v":307.69444444444446},8.2526840000000004,113.63666666666666,68.948333333333338,53.963333333333338,8252684]
["2018-02-26",13,39.950000000000003,883,null,{"$f":"M1396","v":16.578333333333333},22.675000000000001,12.204999999999998,null,{"$f":"'Combined Cycle Gas'!$D$8","v":318.30459770114948},{"$f":"Nuclear!$D$8","v":307.69444444444446},8.3222740000000002,104.42333333333335,63.508333333333333,52.083333333333336,8322274]
["2018-02-26",14,39.93,465,null,{"$f":"M1397","v":18.71},17.593333333333334,21.683333333333334,null,{"$f":"'Combined Cycle Gas'!$D$8","v":318.30459770114948},{"$f":"Nuclear!$D$8","v":307.69444444444446},8.2044669999999993,88.47166666666665,57.044999999999995,49.298333333333325,8204467]
["2018-02-26",15,39.64,161,null,{"$f":"M1398","v":8.0833333333333321},16.068333333333332,21.858333333333334,null,{"$f":"'Combined Cycle Gas'!$D$8","v":318.30459770114948},{"$f":"Nuclear!$D$8","v":307.69444444444446},7.9263950000000003,77.8,48.131666666666668,39.648333333333333,7926395]
["2018-02-26",16,39.57,55,null,{"$f":"M1399","v":5.375},8.5366666666666671,15.896666666666668,null,{"$f":"'Combined Cycle Gas'!$D$8","v":318.30459770114948},{"$f":"Nuclear!$D$8","v":307.69444444444446},7.3309519999999999,56.391666666666659,38.588333333333331,28.781666666666666,7330952]
["2018-02-26",17,42.27,27,null,{"$f":"M1400","v":6.4316666666666658},5.083333333333333,12.036666666666667,null,{"$f":"'Combined Cycle Gas'!$D$8","v":318.30459770114948},{"$f":"Nuclear!$D$8","v":307.69444444444446},5.6432700000000002,32.538333333333334,24.823333333333334,19.548333333333328,5643270]
["2018-02-26",18,39.840000000000003,0,null,{"$f":"M1401","v":13.534999999999998},5.8850000000000007,4.6199999999999992,null,{"$f":"'Combined Cycle Gas'!$D$8","v":318.30459770114948},{"$f":"Nuclear!$D$8","v":307.69444444444446},2.0757050000000001,23.826666666666668,24.011666666666667,10.819999999999999,2075705]
["2018-02-26",19,40,0,null,{"$f":"M1402","v":67.05},41.674999999999997,14.816666666666668,null,{"$f":"'Combined Cycle Gas'!$D$8","v":318.30459770114948},{"$f":"Nuclear!$D$8","v":307.69444444444446},0,16.578333333333333,22.675000000000001,12.204999999999998,0]
["2018-02-26",20,42.42,193,null,{"$f":"M1403","v":69.721666666666664},46.493333333333339,23.571666666666669,null,{"$f":"'Combined Cycle Gas'!$D$8","v":318.30459770114948},{"$f":"Nuclear!$D$8","v":307.69444444444446},0,18.71,17.593333333333334,21.683333333333334,0]
["2018-02-26",21,40.06,823,null,{"$f":"M1404","v":44.898333333333341},42.875,12.458333333333336,null,{"$f":"'Combined Cycle Gas'!$D$8","v":318.30459770114948},{"$f":"Nuclear!$D$8","v":307.69444444444446},0,8.0833333333333321,16.068333333333332,21.858333333333334,0]
["2018-02-26",22,39.5,1328,null,{"$f":"M1405","v":16.465},14.298333333333334,6.7866666666666662,null,{"$f":"'Combined Cycle Gas'!$D$8","v":318.30459770114948},{"$f":"Nuclear!$D$8","v":307.69444444444446},0,5.375,8.5366666666666671,15.896666666666668,0]
["2018-02-26",23,34.200000000000003,1703,null,{"$f":"M1406","v":3.4499999999999997},5.4783333333333326,4.6783333333333337,null,{"$f":"'Combined Cycle Gas'!$D$8","v":318.30459770114948},{"$f":"Nuclear!$D$8","v":307.69444444444446},0,6.4316666666666658,5.083333333333333,12.036666666666667,0]
["2018-02-26",24,32.89,1090,null,{"$f":"M1407","v":3.601666666666667},6.3833333333333337,4.8816666666666668,null,{"$f":"'Combined Cycle Gas'!$D$8","v":318.30459770114948},{"$f":"Nuclear!$D$8","v":307.69444444444446},0,13.534999999999998,5.8850000000000007,4.6199999999999992,0]
["2018-02-27",1,33.14,560,null,{"$f":"M1408","v":4.1783333333333337},7.1016666666666666,6.4249999999999998,null,{"$f":"'Combined Cycle Gas'!$D$8","v":318.30459770114948},{"$f":"Nuclear!$D$8","v":307.69444444444446},0,67.05,41.674999999999997,14.816666666666668,0]
["2018-02-27",2,31.44,625,null,{"$f":"M1409","v":9.8016666666666659},19.231666666666666,18.25,null,{"$f":"'Combined Cycle Gas'!$D$8","v":318.30459770114948},{"$f":"Nuclear!$D$8","v":307.69444444444446},0,69.721666666666664,46.493333333333339,23.571666666666669,0]
["2018-02-27",3,30.31,1069,null,{"$f":"M1410","v":37.028333333333336},47.79,33.164999999999999,null,{"$f":"'Combined Cycle Gas'!$D$8","v":318.30459770114948},{"$f":"Nuclear!$D$8","v":307.69444444444446},0,44.898333333333341,42.875,12.458333333333336,0]
["2018-02-27",4,27.62,1942,null,{"$f":"M1411","v":46.476666666666667},45.183333333333337,46.028333333333336,null,{"$f":"'Combined Cycle Gas'!$D$8","v":318.30459770114948},{"$f":"Nuclear!$D$8","v":307.69444444444446},0,16.465,14.298333333333334,6.7866666666666662,0]
["2018-02-27",5,27.53,2802,null,{"$f":"M1412","v":72.066666666666663},69.05,74.47,null,{"$f":"'Combined Cycle Gas'!$D$8","v":318.30459770114948},{"$f":"Nuclear!$D$8","v":307.69444444444446},0,3.4499999999999997,5.4783333333333326,4.6783333333333337,0]
["2018-02-27",6,29.74,3105,null,{"$f":"M1413","v":79.65333333333335},97.308333333333323,85.876666666666665,null,{"$f":"'Combined Cycle Gas'!$D$8","v":318.30459770114948},{"$f":"Nuclear!$D$8","v":307.69444444444446},0,3.601666666666667,6.3833333333333337,4.8816666666666668,0]
["2018-02-27",7,32.9,3013,null,{"$f":"M1414","v":81.96},96.266666666666666,97.956666666666663,null,{"$f":"'Combined Cycle Gas'!$D$8","v":318.30459770114948},{"$f":"Nuclear!$D$8","v":307.69444444444446},2.4503E-2,4.1783333333333337,7.1016666666666666,6.4249999999999998,24503]
["2018-02-27",8,32.49,3013,null,{"$f":"M1415","v":110.70666666666666},108.71333333333332,109.99000000000001,null,{"$f":"'Combined Cycle Gas'!$D$8","v":318.30459770114948},{"$f":"Nuclear!$D$8","v":307.69444444444446},3.9721920000000002,9.8016666666666659,19.231666666666666,18.25,3972192]
["2018-02-27",9,34.229999999999997,2919,null,{"$f":"M1416","v":128.11666666666665},112.20666666666666,100.46,null,{"$f":"'Combined Cycle Gas'!$D$8","v":318.30459770114948},{"$f":"Nuclear!$D$8","v":307.69444444444446},6.2857240000000001,37.028333333333336,47.79,33.164999999999999,6285724]
["2018-02-27",10,35.9,2520,null,{"$f":"M1417","v":93.2},104.83833333333332,87.780000000000015,null,{"$f":"'Combined Cycle Gas'!$D$8","v":318.30459770114948},{"$f":"Nuclear!$D$8","v":307.69444444444446},7.0995400000000002,46.476666666666667,45.183333333333337,46.028333333333336,7099540]
["2018-02-27",11,39.49,1709,null,{"$f":"M1418","v":65.731666666666669},93.778333333333322,78.88000000000001,null,{"$f":"'Combined Cycle Gas'!$D$8","v":318.30459770114948},{"$f":"Nuclear!$D$8","v":307.69444444444446},7.0266339999999996,72.066666666666663,69.05,74.47,7026634]
["2018-02-27",12,40.090000000000003,1419,null,{"$f":"M1419","v":58.228333333333332},83.941666666666677,79.944999999999993,null,{"$f":"'Combined Cycle Gas'!$D$8","v":318.30459770114948},{"$f":"Nuclear!$D$8","v":307.69444444444446},7.0455560000000004,79.65333333333335,97.308333333333323,85.876666666666665,7045556]
["2018-02-27",13,40.18,918,null,{"$f":"M1420","v":67.915000000000006},81.96,87.386666666666656,null,{"$f":"'Combined Cycle Gas'!$D$8","v":318.30459770114948},{"$f":"Nuclear!$D$8","v":307.69444444444446},7.0677580000000004,81.96,96.266666666666666,97.956666666666663,7067758]
["2018-02-27",14,41.2,755,null,{"$f":"M1421","v":74.144999999999996},90.350000000000009,78.258333333333326,null,{"$f":"'Combined Cycle Gas'!$D$8","v":318.30459770114948},{"$f":"Nuclear!$D$8","v":307.69444444444446},7.1272760000000002,110.70666666666666,108.71333333333332,109.99000000000001,7127276]
["2018-02-27",15,41.79,412,null,{"$f":"M1422","v":78.791666666666671},99.00333333333333,81.546666666666667,null,{"$f":"'Combined Cycle Gas'!$D$8","v":318.30459770114948},{"$f":"Nuclear!$D$8","v":307.69444444444446},7.0205200000000003,128.11666666666665,112.20666666666666,100.46,7020520]
["2018-02-27",16,47.96,189,null,{"$f":"M1423","v":87.518333333333331},108.495,86.814999999999998,null,{"$f":"'Combined Cycle Gas'!$D$8","v":318.30459770114948},{"$f":"Nuclear!$D$8","v":307.69444444444446},6.0034939999999999,93.2,104.83833333333332,87.780000000000015,6003494]
["2018-02-27",17,49.5,111,null,{"$f":"M1424","v":78.11},112.52,101.65666666666665,null,{"$f":"'Combined Cycle Gas'!$D$8","v":318.30459770114948},{"$f":"Nuclear!$D$8","v":307.69444444444446},3.4767049999999999,65.731666666666669,93.778333333333322,78.88000000000001,3476705]
["2018-02-27",18,40.119999999999997,71,null,{"$f":"M1425","v":94.915000000000006},112.52,110.19000000000001,null,{"$f":"'Combined Cycle Gas'!$D$8","v":318.30459770114948},{"$f":"Nuclear!$D$8","v":307.69444444444446},9.7974000000000006E-2,58.228333333333332,83.941666666666677,79.944999999999993,97974]
["2018-02-27",19,40.090000000000003,0,null,{"$f":"M1426","v":143.24333333333331},112.52,110.19000000000001,null,{"$f":"'Combined Cycle Gas'!$D$8","v":318.30459770114948},{"$f":"Nuclear!$D$8","v":307.69444444444446},0,67.915000000000006,81.96,87.386666666666656,0]
["2018-02-27",20,40.14,173,null,{"$f":"M1427","v":151.31999999999996},112.52,110.19000000000001,null,{"$f":"'Combined Cycle Gas'!$D$8","v":318.30459770114948},{"$f":"Nuclear!$D$8","v":307.69444444444446},0,74.144999999999996,90.350000000000009,78.258333333333326,0]
["2018-02-27",21,39.57,338,null,{"$f":"M1428","v":151.31999999999996},112.52,110.19000000000001,null,{"$f":"'Combined Cycle Gas'!$D$8","v":318.30459770114948},{"$f":"Nuclear!$D$8","v":307.69444444444446},0,78.791666666666671,99.00333333333333,81.546666666666667,0]
["2018-02-27",22,39.979999999999997,592,null,{"$f":"M1429","v":150.55333333333334},112.52,110.19000000000001,null,{"$f":"'Combined Cycle Gas'!$D$8","v":318.30459770114948},{"$f":"Nuclear!$D$8","v":307.69444444444446},0,87.518333333333331,108.495,86.814999999999998,0]
["2018-02-27",23,40.17,1317,null,{"$f":"M1430","v":149.92999999999998},112.52,110.19000000000001,null,{"$f":"'Combined Cycle Gas'!$D$8","v":318.30459770114948},{"$f":"Nuclear!$D$8","v":307.69444444444446},0,78.11,112.52,101.65666666666665,0]
["2018-02-27",24,34.92,950,null,{"$f":"M1431","v":151.31999999999996},112.22833333333334,110.19000000000001,null,{"$f":"'Combined Cycle Gas'!$D$8","v":318.30459770114948},{"$f":"Nuclear!$D$8","v":307.69444444444446},0,94.915000000000006,112.52,110.19000000000001,0]
["2018-02-28",1,32.68,885,null,{"$f":"M1432","v":151.31999999999996},110.95833333333331,110.18666666666665,null,{"$f":"'Combined Cycle Gas'!$D$8","v":318.30459770114948},{"$f":"Nuclear!$D$8","v":307.69444444444446},0,143.24333333333331,112.52,110.19000000000001,0]
["2018-02-28",2,32.380000000000003,672,null,{"$f":"M1433","v":151.22333333333333},107.96166666666669,108.29333333333334,null,{"$f":"'Combined Cycle Gas'!$D$8","v":318.30459770114948},{"$f":"Nuclear!$D$8","v":307.69444444444446},0,151.31999999999996,112.52,110.19000000000001,0]
["2018-02-28",3,32.07,521,null,{"$f":"M1434","v":144.14666666666665},105.58666666666669,105.40666666666668,null,{"$f":"'Combined Cycle Gas'!$D$8","v":318.30459770114948},{"$f":"Nuclear!$D$8","v":307.69444444444446},0,151.31999999999996,112.52,110.19000000000001,0]
["2018-02-28",4,32.090000000000003,722,null,{"$f":"M1435","v":117.30333333333333},102.77166666666666,89.839999999999989,null,{"$f":"'Combined Cycle Gas'!$D$8","v":318.30459770114948},{"$f":"Nuclear!$D$8","v":307.69444444444446},0,150.55333333333334,112.52,110.19000000000001,0]
["2018-02-28",5,33.04,1082,null,{"$f":"M1436","v":107.29666666666667},105.08333333333333,81.615000000000009,null,{"$f":"'Combined Cycle Gas'!$D$8","v":318.30459770114948},{"$f":"Nuclear!$D$8","v":307.69444444444446},0,149.92999999999998,112.52,110.19000000000001,0]
["2018-02-28",6,35.200000000000003,1591,null,{"$f":"M1437","v":96.833333333333329},99.073333333333323,77.88666666666667,null,{"$f":"'Combined Cycle Gas'!$D$8","v":318.30459770114948},{"$f":"Nuclear!$D$8","v":307.69444444444446},0,151.31999999999996,112.22833333333334,110.19000000000001,0]
["2018-02-28",7,39.69,1833,null,{"$f":"M1438","v":107.42999999999999},92.51166666666667,76.003333333333316,null,{"$f":"'Combined Cycle Gas'!$D$8","v":318.30459770114948},{"$f":"Nuclear!$D$8","v":307.69444444444446},0,151.31999999999996,110.95833333333331,110.18666666666665,0]
["2018-02-28",8,39.69,1831,null,{"$f":"M1439","v":103.81833333333334},85.04,66.788333333333341,null,{"$f":"'Combined Cycle Gas'!$D$8","v":318.30459770114948},{"$f":"Nuclear!$D$8","v":307.69444444444446},0.14013800000000001,151.22333333333333,107.96166666666669,108.29333333333334,140138]
["2018-02-28",9,38.869999999999997,2241,null,{"$f":"M1440","v":95.948333333333323},87.27166666666669,47.849999999999994,null,{"$f":"'Combined Cycle Gas'!$D$8","v":318.30459770114948},{"$f":"Nuclear!$D$8","v":307.69444444444446},0.99013499999999999,144.14666666666665,105.58666666666669,105.40666666666668,990135]
["2018-02-28",10,39.950000000000003,2035,null,{"$f":"M1441","v":78.256666666666661},68.158333333333331,36.055,null,{"$f":"'Combined Cycle Gas'!$D$8","v":318.30459770114948},{"$f":"Nuclear!$D$8","v":307.69444444444446},1.4423269999999999,117.30333333333333,102.77166666666666,89.839999999999989,1442327]
["2018-02-28",11,34.729999999999997,1627,null,{"$f":"M1442","v":69.33},54.023333333333333,42.943333333333328,null,{"$f":"'Combined Cycle Gas'!$D$8","v":318.30459770114948},{"$f":"Nuclear!$D$8","v":307.69444444444446},2.0606339999999999,107.29666666666667,105.08333333333333,81.615000000000009,2060634]
["2018-02-28",12,39.119999999999997,1368,null,{"$f":"M1443","v":52.493333333333332},39.00333333333333,42.718333333333334,null,{"$f":"'Combined Cycle Gas'!$D$8","v":318.30459770114948},{"$f":"Nuclear!$D$8","v":307.69444444444446},2.5685929999999999,96.833333333333329,99.073333333333323,77.88666666666667,2568593]
["2018-02-28",13,39.119999999999997,1376,null,{"$f":"M1444","v":50.511666666666663},36.086666666666666,34.55833333333333,null,{"$f":"'Combined Cycle Gas'!$D$8","v":318.30459770114948},{"$f":"Nuclear!$D$8","v":307.69444444444446},2.1806860000000001,107.42999999999999,92.51166666666667,76.003333333333316,2180686]
["2018-02-28",14,39.93,933,null,{"$f":"M1445","v":54.120000000000005},39,28.911666666666665,null,{"$f":"'Combined Cycle Gas'!$D$8","v":318.30459770114948},{"$f":"Nuclear!$D$8","v":307.69444444444446},2.8317160000000001,103.81833333333334,85.04,66.788333333333341,2831716]
["2018-02-28",15,40.299999999999997,244,null,{"$f":"M1446","v":48.668333333333329},45.593333333333334,34.461666666666666,null,{"$f":"'Combined Cycle Gas'!$D$8","v":318.30459770114948},{"$f":"Nuclear!$D$8","v":307.69444444444446},2.3844240000000001,95.948333333333323,87.27166666666669,47.849999999999994,2384424]
["2018-02-28",16,40.229999999999997,129,null,{"$f":"M1447","v":48.4},51.205000000000005,36.42,null,{"$f":"'Combined Cycle Gas'!$D$8","v":318.30459770114948},{"$f":"Nuclear!$D$8","v":307.69444444444446},1.5606139999999999,78.256666666666661,68.158333333333331,36.055,1560614]
["2018-02-28",17,40.21,544,null,{"$f":"M1448","v":42.666666666666664},64.538333333333341,44.163333333333334,null,{"$f":"'Combined Cycle Gas'!$D$8","v":318.30459770114948},{"$f":"Nuclear!$D$8","v":307.69444444444446},0.90779100000000001,69.33,54.023333333333333,42.943333333333328,907791]
["2018-02-28",18,40.21,1007,null,{"$f":"M1449","v":45},89.768333333333331,55.478333333333332,null,{"$f":"'Combined Cycle Gas'!$D$8","v":318.30459770114948},{"$f":"Nuclear!$D$8","v":307.69444444444446},{"$f":"P1443/10^6","v":0},52.493333333333332,39.00333333333333,42.718333333333334,0]
["2018-02-28",19,38.93,1876,null,{"$f":"M1450","v":58.914999999999999},99.969999999999985,69.248333333333335,null,{"$f":"'Combined Cycle Gas'!$D$8","v":318.30459770114948},{"$f":"Nuclear!$D$8","v":307.69444444444446},0,50.511666666666663,36.086666666666666,34.55833333333333,0]
["2018-02-28",20,30.77,2530,null,{"$f":"M1451","v":107.11500000000001},102.28833333333334,76.99666666666667,null,{"$f":"'Combined Cycle Gas'!$D$8","v":318.30459770114948},{"$f":"Nuclear!$D$8","v":307.69444444444446},0,54.120000000000005,39,28.911666666666665,0]
["2018-02-28",21,29.35,2836,null,{"$f":"M1452","v":126.82},103.14999999999999,95.388333333333335,null,{"$f":"'Combined Cycle Gas'!$D$8","v":318.30459770114948},{"$f":"Nuclear!$D$8","v":307.69444444444446},0,48.668333333333329,45.593333333333334,34.461666666666666,0]
["2018-02-28",22,38.72,3013,null,{"$f":"M1453","v":135.06500000000003},111.39166666666667,99.75500000000001,null,{"$f":"'Combined Cycle Gas'!$D$8","v":318.30459770114948},{"$f":"Nuclear!$D$8","v":307.69444444444446},0,48.4,51.205000000000005,36.42,0]
["2018-02-28",23,34.36,3013,null,{"$f":"M1454","v":138.28833333333333},107.79833333333333,98.333333333333329,null,{"$f":"'Combined Cycle Gas'!$D$8","v":318.30459770114948},{"$f":"Nuclear!$D$8","v":307.69444444444446},0,42.666666666666664,64.538333333333341,44.163333333333334,0]
["2018-02-28",24,26.6,3210,null,{"$f":"M1455","v":135.26666666666665},105.935,99.78166666666668,null,{"$f":"'Combined Cycle Gas'!$D$8","v":318.30459770114948},{"$f":"Nuclear!$D$8","v":307.69444444444446},0,45,89.768333333333331,55.478333333333332,0]
["2018-03-01",1,26.17,3093,null,{"$f":"M1456","v":137.52500000000001},105.39333333333333,99.191666666666663,null,{"$f":"'Combined Cycle Gas'!$D$8","v":318.30459770114948},{"$f":"Nuclear!$D$8","v":307.69444444444446},0,58.914999999999999,99.969999999999985,69.248333333333335,0]
["2018-03-01",2,24.93,3093,null,{"$f":"M1457","v":140.73500000000001},104.59166666666665,97.223333333333343,null,{"$f":"'Combined Cycle Gas'!$D$8","v":318.30459770114948},{"$f":"Nuclear!$D$8","v":307.69444444444446},0,107.11500000000001,102.28833333333334,76.99666666666667,0]
["2018-03-01",3,24.93,3093,null,{"$f":"M1458","v":145.26166666666668},102.61333333333333,93.268333333333331,null,{"$f":"'Combined Cycle Gas'!$D$8","v":318.30459770114948},{"$f":"Nuclear!$D$8","v":307.69444444444446},0,126.82,103.14999999999999,95.388333333333335,0]
["2018-03-01",4,24.17,3093,null,{"$f":"M1459","v":129.14499999999998},99.456666666666663,85.34333333333332,null,{"$f":"'Combined Cycle Gas'!$D$8","v":318.30459770114948},{"$f":"Nuclear!$D$8","v":307.69444444444446},0,135.06500000000003,111.39166666666667,99.75500000000001,0]
["2018-03-01",5,24.93,3093,null,{"$f":"M1460","v":123.85166666666667},91.64,78.37833333333333,null,{"$f":"'Combined Cycle Gas'!$D$8","v":318.30459770114948},{"$f":"Nuclear!$D$8","v":307.69444444444446},0,138.28833333333333,107.79833333333333,98.333333333333329,0]
["2018-03-01",6,29.2,3093,null,{"$f":"M1461","v":112.75666666666667},81.993333333333325,69.838333333333338,null,{"$f":"'Combined Cycle Gas'!$D$8","v":318.30459770114948},{"$f":"Nuclear!$D$8","v":307.69444444444446},0,135.26666666666665,105.935,99.78166666666668,0]
["2018-03-01",7,39.25,3090,null,{"$f":"M1462","v":93.394999999999996},65.608333333333334,57.006666666666661,null,{"$f":"'Combined Cycle Gas'!$D$8","v":318.30459770114948},{"$f":"Nuclear!$D$8","v":307.69444444444446},0,137.52500000000001,105.39333333333333,99.191666666666663,0]
["2018-03-01",8,34.159999999999997,2924,null,{"$f":"M1463","v":84.284999999999982},59.81666666666667,51.588333333333331,null,{"$f":"'Combined Cycle Gas'!$D$8","v":318.30459770114948},{"$f":"Nuclear!$D$8","v":307.69444444444446},8.2257999999999998E-2,140.73500000000001,104.59166666666665,97.223333333333343,82258]
["2018-03-01",9,29.99,2891,null,{"$f":"M1464","v":66.813333333333333},54,32.876666666666665,null,{"$f":"'Combined Cycle Gas'!$D$8","v":318.30459770114948},{"$f":"Nuclear!$D$8","v":307.69444444444446},0.481993,145.26166666666668,102.61333333333333,93.268333333333331,481993]
["2018-03-01",10,35.01,2359,null,{"$f":"M1465","v":54.343333333333334},50.611666666666672,18.465,null,{"$f":"'Combined Cycle Gas'!$D$8","v":318.30459770114948},{"$f":"Nuclear!$D$8","v":307.69444444444446},1.4344760000000001,129.14499999999998,99.456666666666663,85.34333333333332,1434476]
["2018-03-01",11,34.96,1581,null,{"$f":"M1466","v":43.683333333333337},37.076666666666661,18.476666666666667,null,{"$f":"'Combined Cycle Gas'!$D$8","v":318.30459770114948},{"$f":"Nuclear!$D$8","v":307.69444444444446},1.845342,123.85166666666667,91.64,78.37833333333333,1845342]
["2018-03-01",12,34.950000000000003,1462,null,{"$f":"M1467","v":40.993333333333332},44.823333333333331,15.903333333333336,null,{"$f":"'Combined Cycle Gas'!$D$8","v":318.30459770114948},{"$f":"Nuclear!$D$8","v":307.69444444444446},2.2426699999999999,112.75666666666667,81.993333333333325,69.838333333333338,2242670]
["2018-03-01",13,29.69,2164,null,{"$f":"M1468","v":40.493333333333332},46.788333333333334,13.081666666666665,null,{"$f":"'Combined Cycle Gas'!$D$8","v":318.30459770114948},{"$f":"Nuclear!$D$8","v":307.69444444444446},2.5736979999999998,93.394999999999996,65.608333333333334,57.006666666666661,2573698]
["2018-03-01",14,39.159999999999997,1723,null,{"$f":"M1469","v":32.131666666666668},52.420000000000009,12.155000000000001,null,{"$f":"'Combined Cycle Gas'!$D$8","v":318.30459770114948},{"$f":"Nuclear!$D$8","v":307.69444444444446},2.4785550000000001,84.284999999999982,59.81666666666667,51.588333333333331,2478555]
["2018-03-01",15,39.340000000000003,1156,null,{"$f":"M1470","v":28.766666666666666},63.76,9.4433333333333334,null,{"$f":"'Combined Cycle Gas'!$D$8","v":318.30459770114948},{"$f":"Nuclear!$D$8","v":307.69444444444446},2.1130960000000001,66.813333333333333,54,32.876666666666665,2113096]
["2018-03-01",16,39.46,964,null,{"$f":"M1471","v":60.368333333333339},50.944999999999993,13.621666666666664,null,{"$f":"'Combined Cycle Gas'!$D$8","v":318.30459770114948},{"$f":"Nuclear!$D$8","v":307.69444444444446},1.416771,54.343333333333334,50.611666666666672,18.465,1416771]
["2018-03-01",17,40.1,780,null,{"$f":"M1472","v":74.234999999999999},57.17499999999999,22.08,null,{"$f":"'Combined Cycle Gas'!$D$8","v":318.30459770114948},{"$f":"Nuclear!$D$8","v":307.69444444444446},0.95561099999999999,43.683333333333337,37.076666666666661,18.476666666666667,955611]
["2018-03-01",18,40.950000000000003,427,null,{"$f":"M1473","v":112.74},84.839999999999989,35.976666666666667,null,{"$f":"'Combined Cycle Gas'!$D$8","v":318.30459770114948},{"$f":"Nuclear!$D$8","v":307.69444444444446},4.9940000000000002E-3,40.993333333333332,44.823333333333331,15.903333333333336,4994]
["2018-03-01",19,42.91,120,null,{"$f":"M1474","v":131.6766666666667},93.449999999999989,66.24166666666666,null,{"$f":"'Combined Cycle Gas'!$D$8","v":318.30459770114948},{"$f":"Nuclear!$D$8","v":307.69444444444446},0,40.493333333333332,46.788333333333334,13.081666666666665,0]
["2018-03-01",20,49.57,1,null,{"$f":"M1475","v":136.79333333333332},93.401666666666657,86.944999999999993,null,{"$f":"'Combined Cycle Gas'!$D$8","v":318.30459770114948},{"$f":"Nuclear!$D$8","v":307.69444444444446},0,32.131666666666668,52.420000000000009,12.155000000000001,0]
["2018-03-01",21,49.07,0,null,{"$f":"M1476","v":133.85},99.123333333333335,94.141666666666666,null,{"$f":"'Combined Cycle Gas'!$D$8","v":318.30459770114948},{"$f":"Nuclear!$D$8","v":307.69444444444446},0,28.766666666666666,63.76,9.4433333333333334,0]
["2018-03-01",22,41.17,0,null,{"$f":"M1477","v":127.06333333333333},99.673333333333332,95.151666666666657,null,{"$f":"'Combined Cycle Gas'!$D$8","v":318.30459770114948},{"$f":"Nuclear!$D$8","v":307.69444444444446},0,60.368333333333339,50.944999999999993,13.621666666666664,0]
["2018-03-01",23,39.49,41,null,{"$f":"M1478","v":124.35166666666667},99.876666666666665,95.126666666666665,null,{"$f":"'Combined Cycle Gas'!$D$8","v":318.30459770114948},{"$f":"Nuclear!$D$8","v":307.69444444444446},0,74.234999999999999,57.17499999999999,22.08,0]
["2018-03-01",24,27.63,389,null,{"$f":"M1479","v":124.84000000000002},96.533333333333317,93.886666666666656,null,{"$f":"'Combined Cycle Gas'!$D$8","v":318.30459770114948},{"$f":"Nuclear!$D$8","v":307.69444444444446},0,112.74,84.839999999999989,35.976666666666667,0]
["2018-03-02",1,24.76,796,null,{"$f":"M1480","v":129.38166666666666},97.568333333333342,91.243333333333325,null,{"$f":"'Combined Cycle Gas'!$D$8","v":318.30459770114948},{"$f":"Nuclear!$D$8","v":307.69444444444446},0,131.6766666666667,93.449999999999989,66.24166666666666,0]
["2018-03-02",2,24.23,842,null,{"$f":"M1481","v":130.32166666666666},97.675000000000011,89.566666666666663,null,{"$f":"'Combined Cycle Gas'!$D$8","v":318.30459770114948},{"$f":"Nuclear!$D$8","v":307.69444444444446},0,136.79333333333332,93.401666666666657,86.944999999999993,0]
["2018-03-02",3,26.06,719,null,{"$f":"M1482","v":128.94166666666669},95.213333333333324,87.74666666666667,null,{"$f":"'Combined Cycle Gas'!$D$8","v":318.30459770114948},{"$f":"Nuclear!$D$8","v":307.69444444444446},0,133.85,99.123333333333335,94.141666666666666,0]
["2018-03-02",4,27.14,709,null,{"$f":"M1483","v":129.535},93.754999999999995,89.589999999999989,null,{"$f":"'Combined Cycle Gas'!$D$8","v":318.30459770114948},{"$f":"Nuclear!$D$8","v":307.69444444444446},0,127.06333333333333,99.673333333333332,95.151666666666657,0]
["2018-03-02",5,27.5,785,null,{"$f":"M1484","v":119.80833333333334},94.316666666666663,83.446666666666658,null,{"$f":"'Combined Cycle Gas'!$D$8","v":318.30459770114948},{"$f":"Nuclear!$D$8","v":307.69444444444446},0,124.35166666666667,99.876666666666665,95.126666666666665,0]
["2018-03-02",6,37.11,579,null,{"$f":"M1485","v":113.06166666666667},80.728333333333339,79.154999999999987,null,{"$f":"'Combined Cycle Gas'!$D$8","v":318.30459770114948},{"$f":"Nuclear!$D$8","v":307.69444444444446},0,124.84000000000002,96.533333333333317,93.886666666666656,0]
["2018-03-02",7,39.119999999999997,284,null,{"$f":"M1486","v":116.37666666666667},62.838333333333338,80.028333333333336,null,{"$f":"'Combined Cycle Gas'!$D$8","v":318.30459770114948},{"$f":"Nuclear!$D$8","v":307.69444444444446},0,129.38166666666666,97.568333333333342,91.243333333333325,0]
["2018-03-02",8,39.75,284,null,{"$f":"M1487","v":108.01},46.798333333333339,85.57,null,{"$f":"'Combined Cycle Gas'!$D$8","v":318.30459770114948},{"$f":"Nuclear!$D$8","v":307.69444444444446},4.5319999999999996E-3,130.32166666666666,97.675000000000011,89.566666666666663,4532]
["2018-03-02",9,40.119999999999997,0,null,{"$f":"M1488","v":98.433333333333337},39.93,70.61666666666666,null,{"$f":"'Combined Cycle Gas'!$D$8","v":318.30459770114948},{"$f":"Nuclear!$D$8","v":307.69444444444446},0.35663499999999998,128.94166666666669,95.213333333333324,87.74666666666667,356635]
["2018-03-02",10,40.93,541,null,{"$f":"M1489","v":65.498333333333349},26.363333333333333,54.656666666666666,null,{"$f":"'Combined Cycle Gas'!$D$8","v":318.30459770114948},{"$f":"Nuclear!$D$8","v":307.69444444444446},1.083169,129.535,93.754999999999995,89.589999999999989,1083169]
["2018-03-02",11,42.44,547,null,{"$f":"M1490","v":36.92},29.708333333333332,59.725000000000001,null,{"$f":"'Combined Cycle Gas'!$D$8","v":318.30459770114948},{"$f":"Nuclear!$D$8","v":307.69444444444446},2.5260690000000001,119.80833333333334,94.316666666666663,83.446666666666658,2526069]
["2018-03-02",12,44.98,479,null,{"$f":"M1491","v":38.335000000000001},29.293333333333333,59.716666666666669,null,{"$f":"'Combined Cycle Gas'!$D$8","v":318.30459770114948},{"$f":"Nuclear!$D$8","v":307.69444444444446},4.4575950000000004,113.06166666666667,80.728333333333339,79.154999999999987,4457595]
["2018-03-02",13,42.46,132,null,{"$f":"M1492","v":56.293333333333329},29.641666666666666,63.905000000000001,null,{"$f":"'Combined Cycle Gas'!$D$8","v":318.30459770114948},{"$f":"Nuclear!$D$8","v":307.69444444444446},2.8339219999999998,116.37666666666667,62.838333333333338,80.028333333333336,2833922]
["2018-03-02",14,42.34,131,null,{"$f":"M1493","v":54.168333333333329},26.85166666666667,69.90333333333335,null,{"$f":"'Combined Cycle Gas'!$D$8","v":318.30459770114948},{"$f":"Nuclear!$D$8","v":307.69444444444446},0.94101000000000001,108.01,46.798333333333339,85.57,941010]
["2018-03-02",15,34.74,305,null,{"$f":"M1494","v":39.06},33.561666666666667,76.293333333333337,null,{"$f":"'Combined Cycle Gas'!$D$8","v":318.30459770114948},{"$f":"Nuclear!$D$8","v":307.69444444444446},0.92313400000000001,98.433333333333337,39.93,70.61666666666666,923134]
["2018-03-02",16,39.119999999999997,382,null,{"$f":"M1495","v":54.013333333333343},40.014999999999993,74.463333333333338,null,{"$f":"'Combined Cycle Gas'!$D$8","v":318.30459770114948},{"$f":"Nuclear!$D$8","v":307.69444444444446},0.35056100000000001,65.498333333333349,26.363333333333333,54.656666666666666,350561]
["2018-03-02",17,34.56,599,null,{"$f":"M1496","v":69.501666666666665},60.061666666666667,84.398333333333326,null,{"$f":"'Combined Cycle Gas'!$D$8","v":318.30459770114948},{"$f":"Nuclear!$D$8","v":307.69444444444446},0.30820199999999998,36.92,29.708333333333332,59.725000000000001,308202]
["2018-03-02",18,39.86,781,null,{"$f":"M1497","v":94.495000000000005},80.495000000000005,87.12166666666667,null,{"$f":"'Combined Cycle Gas'!$D$8","v":318.30459770114948},{"$f":"Nuclear!$D$8","v":307.69444444444446},5.62E-4,38.335000000000001,29.293333333333333,59.716666666666669,562]
["2018-03-02",19,41.63,801,null,{"$f":"M1498","v":95.87166666666667},83.421666666666667,85.063333333333333,null,{"$f":"'Combined Cycle Gas'!$D$8","v":318.30459770114948},{"$f":"Nuclear!$D$8","v":307.69444444444446},0,56.293333333333329,29.641666666666666,63.905000000000001,0]
["2018-03-02",20,32.9,1647,null,{"$f":"M1499","v":100.59833333333331},83.691666666666663,79.565000000000012,null,{"$f":"'Combined Cycle Gas'!$D$8","v":318.30459770114948},{"$f":"Nuclear!$D$8","v":307.69444444444446},0,54.168333333333329,26.85166666666667,69.90333333333335,0]
["2018-03-02",21,25.26,2684,null,{"$f":"M1500","v":83.86333333333333},73.493333333333325,70.09,null,{"$f":"'Combined Cycle Gas'!$D$8","v":318.30459770114948},{"$f":"Nuclear!$D$8","v":307.69444444444446},0,39.06,33.561666666666667,76.293333333333337,0]
["2018-03-02",22,24.53,3013,null,{"$f":"M1501","v":80.043333333333322},63.608333333333327,60.873333333333335,null,{"$f":"'Combined Cycle Gas'!$D$8","v":318.30459770114948},{"$f":"Nuclear!$D$8","v":307.69444444444446},0,54.013333333333343,40.014999999999993,74.463333333333338,0]
["2018-03-02",23,7.34,3013,null,{"$f":"M1502","v":93.99666666666667},53.603333333333332,32.580000000000005,null,{"$f":"'Combined Cycle Gas'!$D$8","v":318.30459770114948},{"$f":"Nuclear!$D$8","v":307.69444444444446},0,69.501666666666665,60.061666666666667,84.398333333333326,0]
["2018-03-02",24,0,2963,null,{"$f":"M1503","v":93.036666666666676},55.003333333333337,30.629999999999995,null,{"$f":"'Combined Cycle Gas'!$D$8","v":318.30459770114948},{"$f":"Nuclear!$D$8","v":307.69444444444446},0,94.495000000000005,80.495000000000005,87.12166666666667,0]
["2018-03-03",1,24.93,2962,null,{"$f":"M1504","v":105.175},59.763333333333321,42.458333333333336,null,{"$f":"'Combined Cycle Gas'!$D$8","v":318.30459770114948},{"$f":"Nuclear!$D$8","v":307.69444444444446},0,95.87166666666667,83.421666666666667,85.063333333333333,0]
["2018-03-03",2,16.23,2652,null,{"$f":"M1505","v":92.666666666666671},62.188333333333333,40.26166666666667,null,{"$f":"'Combined Cycle Gas'!$D$8","v":318.30459770114948},{"$f":"Nuclear!$D$8","v":307.69444444444446},0,100.59833333333331,83.691666666666663,79.565000000000012,0]
["2018-03-03",3,21.57,2454,null,{"$f":"M1506","v":77.650000000000006},51.655000000000001,23.806666666666668,null,{"$f":"'Combined Cycle Gas'!$D$8","v":318.30459770114948},{"$f":"Nuclear!$D$8","v":307.69444444444446},0,83.86333333333333,73.493333333333325,70.09,0]
["2018-03-03",4,23.29,2317,null,{"$f":"M1507","v":50.608333333333327},42.87833333333333,10.853333333333333,null,{"$f":"'Combined Cycle Gas'!$D$8","v":318.30459770114948},{"$f":"Nuclear!$D$8","v":307.69444444444446},0,80.043333333333322,63.608333333333327,60.873333333333335,0]
["2018-03-03",5,21.28,2507,null,{"$f":"M1508","v":31.105},30.96833333333333,8.2016666666666662,null,{"$f":"'Combined Cycle Gas'!$D$8","v":318.30459770114948},{"$f":"Nuclear!$D$8","v":307.69444444444446},0,93.99666666666667,53.603333333333332,32.580000000000005,0]
["2018-03-03",6,23.63,2506,null,{"$f":"M1509","v":30.468333333333337},23.681666666666668,8.2249999999999996,null,{"$f":"'Combined Cycle Gas'!$D$8","v":318.30459770114948},{"$f":"Nuclear!$D$8","v":307.69444444444446},0,93.036666666666676,55.003333333333337,30.629999999999995,0]
["2018-03-03",7,24.77,2506,null,{"$f":"M1510","v":29.70333333333333},16.684999999999999,16.765000000000001,null,{"$f":"'Combined Cycle Gas'!$D$8","v":318.30459770114948},{"$f":"Nuclear!$D$8","v":307.69444444444446},0,105.175,59.763333333333321,42.458333333333336,0]
["2018-03-03",8,26.09,2576,null,{"$f":"M1511","v":37.049999999999997},17.28833333333333,20.621666666666666,null,{"$f":"'Combined Cycle Gas'!$D$8","v":318.30459770114948},{"$f":"Nuclear!$D$8","v":307.69444444444446},0.70100300000000004,92.666666666666671,62.188333333333333,40.26166666666667,701003]
["2018-03-03",9,5.12,2769,null,{"$f":"M1512","v":14.693333333333333},12.739999999999997,9.51,null,{"$f":"'Combined Cycle Gas'!$D$8","v":318.30459770114948},{"$f":"Nuclear!$D$8","v":307.69444444444446},1.809256,77.650000000000006,51.655000000000001,23.806666666666668,1809256]
["2018-03-03",10,24.81,2712,null,{"$f":"M1513","v":14.223333333333334},13.655000000000001,17.7,null,{"$f":"'Combined Cycle Gas'!$D$8","v":318.30459770114948},{"$f":"Nuclear!$D$8","v":307.69444444444446},{"$f":"P1507/10^6","v":2.7959200000000002},50.608333333333327,42.87833333333333,10.853333333333333,2795920]
["2018-03-03",11,26.36,2538,null,{"$f":"M1514","v":19.2},16.878333333333334,15.695,null,{"$f":"'Combined Cycle Gas'!$D$8","v":318.30459770114948},{"$f":"Nuclear!$D$8","v":307.69444444444446},6.972048,31.105,30.96833333333333,8.2016666666666662,6972048]
["2018-03-03",12,26.07,2243,null,{"$f":"M1515","v":29.810000000000002},24.393333333333334,24.343333333333334,null,{"$f":"'Combined Cycle Gas'!$D$8","v":318.30459770114948},{"$f":"Nuclear!$D$8","v":307.69444444444446},7.1128200000000001,30.468333333333337,23.681666666666668,8.2249999999999996,7112820]
["2018-03-03",13,28.84,1616,null,{"$f":"M1516","v":57.629999999999995},39.471666666666664,28.656666666666666,null,{"$f":"'Combined Cycle Gas'!$D$8","v":318.30459770114948},{"$f":"Nuclear!$D$8","v":307.69444444444446},7.4175519999999997,29.70333333333333,16.684999999999999,16.765000000000001,7417552]
["2018-03-03",14,29.54,1254,null,{"$f":"M1517","v":63.044999999999995},43.021666666666668,30.631666666666671,null,{"$f":"'Combined Cycle Gas'!$D$8","v":318.30459770114948},{"$f":"Nuclear!$D$8","v":307.69444444444446},7.4454000000000002,37.049999999999997,17.28833333333333,20.621666666666666,7445400]
["2018-03-03",15,29.6,1195,null,{"$f":"M1518","v":49.163333333333334},45.506666666666668,26.234999999999996,null,{"$f":"'Combined Cycle Gas'!$D$8","v":318.30459770114948},{"$f":"Nuclear!$D$8","v":307.69444444444446},6.9955689999999997,14.693333333333333,12.739999999999997,9.51,6995569]
["2018-03-03",16,29.2,1190,null,{"$f":"M1519","v":34.108333333333327},39.726666666666667,22.146666666666665,null,{"$f":"'Combined Cycle Gas'!$D$8","v":318.30459770114948},{"$f":"Nuclear!$D$8","v":307.69444444444446},6.5936490000000001,14.223333333333334,13.655000000000001,17.7,6593649]
["2018-03-03",17,29.02,1181,null,{"$f":"M1520","v":32.145000000000003},33.905000000000001,21.095000000000002,null,{"$f":"'Combined Cycle Gas'!$D$8","v":318.30459770114948},{"$f":"Nuclear!$D$8","v":307.69444444444446},1.419273,19.2,16.878333333333334,15.695,1419273]
["2018-03-03",18,28.06,1180,null,{"$f":"M1521","v":32.141666666666666},32.411666666666662,17.058333333333334,null,{"$f":"'Combined Cycle Gas'!$D$8","v":318.30459770114948},{"$f":"Nuclear!$D$8","v":307.69444444444446},1.4906710000000001,29.810000000000002,24.393333333333334,24.343333333333334,1490671]
["2018-03-03",19,24.9,1684,null,{"$f":"M1522","v":41.155000000000001},36.446666666666665,24.665000000000003,null,{"$f":"'Combined Cycle Gas'!$D$8","v":318.30459770114948},{"$f":"Nuclear!$D$8","v":307.69444444444446},0,57.629999999999995,39.471666666666664,28.656666666666666,0]
["2018-03-03",20,19.79,2483,null,{"$f":"M1523","v":35.036666666666669},32.901666666666671,26.224999999999998,null,{"$f":"'Combined Cycle Gas'!$D$8","v":318.30459770114948},{"$f":"Nuclear!$D$8","v":307.69444444444446},0,63.044999999999995,43.021666666666668,30.631666666666671,0]
["2018-03-03",21,21.62,2650,null,{"$f":"M1524","v":31.076666666666668},25.208333333333332,22.443333333333332,null,{"$f":"'Combined Cycle Gas'!$D$8","v":318.30459770114948},{"$f":"Nuclear!$D$8","v":307.69444444444446},0,49.163333333333334,45.506666666666668,26.234999999999996,0]
["2018-03-03",22,26.95,2090,null,{"$f":"M1525","v":39.381666666666668},15.866666666666665,31.213333333333335,null,{"$f":"'Combined Cycle Gas'!$D$8","v":318.30459770114948},{"$f":"Nuclear!$D$8","v":307.69444444444446},0,34.108333333333327,39.726666666666667,22.146666666666665,0]
["2018-03-03",23,24.65,1626,null,{"$f":"M1526","v":45.893333333333338},21.911666666666665,54.723333333333329,null,{"$f":"'Combined Cycle Gas'!$D$8","v":318.30459770114948},{"$f":"Nuclear!$D$8","v":307.69444444444446},0,32.145000000000003,33.905000000000001,21.095000000000002,0]
["2018-03-03",24,21.34,1118,null,{"$f":"M1527","v":59.831666666666671},29.75333333333333,58.819999999999993,null,{"$f":"'Combined Cycle Gas'!$D$8","v":318.30459770114948},{"$f":"Nuclear!$D$8","v":307.69444444444446},0,32.141666666666666,32.411666666666662,17.058333333333334,0]
["2018-03-04",1,25.98,1916,null,{"$f":"M1528","v":62.658333333333331},28.846666666666664,52.426666666666655,null,{"$f":"'Combined Cycle Gas'!$D$8","v":318.30459770114948},{"$f":"Nuclear!$D$8","v":307.69444444444446},0,41.155000000000001,36.446666666666665,24.665000000000003,0]
["2018-03-04",2,24.15,1884,null,{"$f":"M1529","v":56.176666666666655},29.203333333333333,42.551666666666669,null,{"$f":"'Combined Cycle Gas'!$D$8","v":318.30459770114948},{"$f":"Nuclear!$D$8","v":307.69444444444446},0,35.036666666666669,32.901666666666671,26.224999999999998,0]
["2018-03-04",3,24.16,1884,null,{"$f":"M1530","v":69.855000000000004},36.520000000000003,32.321666666666665,null,{"$f":"'Combined Cycle Gas'!$D$8","v":318.30459770114948},{"$f":"Nuclear!$D$8","v":307.69444444444446},0,31.076666666666668,25.208333333333332,22.443333333333332,0]
["2018-03-04",4,24.92,1444,null,{"$f":"M1531","v":85.216666666666654},36.321666666666665,23.290000000000003,null,{"$f":"'Combined Cycle Gas'!$D$8","v":318.30459770114948},{"$f":"Nuclear!$D$8","v":307.69444444444446},0,39.381666666666668,15.866666666666665,31.213333333333335,0]
["2018-03-04",5,24.93,1303,null,{"$f":"M1532","v":96.84333333333332},36.796666666666667,34.843333333333327,null,{"$f":"'Combined Cycle Gas'!$D$8","v":318.30459770114948},{"$f":"Nuclear!$D$8","v":307.69444444444446},0,45.893333333333338,21.911666666666665,54.723333333333329,0]
["2018-03-04",6,25.88,1063,null,{"$f":"M1533","v":80.27},23.185000000000002,33.373333333333335,null,{"$f":"'Combined Cycle Gas'!$D$8","v":318.30459770114948},{"$f":"Nuclear!$D$8","v":307.69444444444446},0,59.831666666666671,29.75333333333333,58.819999999999993,0]
["2018-03-04",7,28.12,717,null,{"$f":"M1534","v":45.161666666666669},22.711666666666662,26.616666666666671,null,{"$f":"'Combined Cycle Gas'!$D$8","v":318.30459770114948},{"$f":"Nuclear!$D$8","v":307.69444444444446},0,62.658333333333331,28.846666666666664,52.426666666666655,0]
["2018-03-04",8,29.2,679,null,{"$f":"M1535","v":18.680000000000003},19,15.133333333333333,null,{"$f":"'Combined Cycle Gas'!$D$8","v":318.30459770114948},{"$f":"Nuclear!$D$8","v":307.69444444444446},0.26511899999999999,56.176666666666655,29.203333333333333,42.551666666666669,265119]
["2018-03-04",9,24.93,204,null,{"$f":"M1536","v":13.698333333333332},11.658333333333333,9.6999999999999993,null,{"$f":"'Combined Cycle Gas'!$D$8","v":318.30459770114948},{"$f":"Nuclear!$D$8","v":307.69444444444446},0.91366800000000004,69.855000000000004,36.520000000000003,32.321666666666665,913668]
["2018-03-04",10,27.91,100,null,{"$f":"M1537","v":15.503333333333336},11.858333333333333,10.031666666666666,null,{"$f":"'Combined Cycle Gas'!$D$8","v":318.30459770114948},{"$f":"Nuclear!$D$8","v":307.69444444444446},0.91820500000000005,85.216666666666654,36.321666666666665,23.290000000000003,918205]
["2018-03-04",11,27.21,180,null,{"$f":"M1538","v":15.21},13.098333333333334,9.9650000000000016,null,{"$f":"'Combined Cycle Gas'!$D$8","v":318.30459770114948},{"$f":"Nuclear!$D$8","v":307.69444444444446},3.937147,96.84333333333332,36.796666666666667,34.843333333333327,3937147]
["2018-03-04",12,27.23,179,null,{"$f":"M1539","v":13.893333333333336},13.655000000000001,9.8616666666666664,null,{"$f":"'Combined Cycle Gas'!$D$8","v":318.30459770114948},{"$f":"Nuclear!$D$8","v":307.69444444444446},1.8787450000000001,80.27,23.185000000000002,33.373333333333335,1878745]
["2018-03-04",13,27.33,179,null,{"$f":"M1540","v":14.703333333333335},14.14,10.961666666666668,null,{"$f":"'Combined Cycle Gas'!$D$8","v":318.30459770114948},{"$f":"Nuclear!$D$8","v":307.69444444444446},5.9762909999999998,45.161666666666669,22.711666666666662,26.616666666666671,5976291]
["2018-03-04",14,27.33,179,null,{"$f":"M1541","v":14.951666666666668},14.128333333333336,10.538333333333336,null,{"$f":"'Combined Cycle Gas'!$D$8","v":318.30459770114948},{"$f":"Nuclear!$D$8","v":307.69444444444446},3.2684359999999999,18.680000000000003,19,15.133333333333333,3268436]
["2018-03-04",15,27.89,192,null,{"$f":"M1542","v":18.603333333333335},15.028333333333331,11.679999999999998,null,{"$f":"'Combined Cycle Gas'!$D$8","v":318.30459770114948},{"$f":"Nuclear!$D$8","v":307.69444444444446},5.9811759999999996,13.698333333333332,11.658333333333333,9.6999999999999993,5981176]
["2018-03-04",16,26.42,325,null,{"$f":"M1543","v":21.011666666666667},15.898333333333333,11.115,null,{"$f":"'Combined Cycle Gas'!$D$8","v":318.30459770114948},{"$f":"Nuclear!$D$8","v":307.69444444444446},4.8055279999999998,15.503333333333336,11.858333333333333,10.031666666666666,4805528]
["2018-03-04",17,26.69,566,null,{"$f":"M1544","v":21.011666666666667},17.491666666666664,11.491666666666665,null,{"$f":"'Combined Cycle Gas'!$D$8","v":318.30459770114948},{"$f":"Nuclear!$D$8","v":307.69444444444446},3.032924,15.21,13.098333333333334,9.9650000000000016,3032924]
["2018-03-04",18,32.42,319,null,{"$f":"M1545","v":29.42},18.528333333333332,15.316666666666665,null,{"$f":"'Combined Cycle Gas'!$D$8","v":318.30459770114948},{"$f":"Nuclear!$D$8","v":307.69444444444446},0.57433800000000002,13.893333333333336,13.655000000000001,9.8616666666666664,574338]
["2018-03-04",19,27.77,500,null,{"$f":"M1546","v":45.23},20.069999999999997,21.404999999999998,null,{"$f":"'Combined Cycle Gas'!$D$8","v":318.30459770114948},{"$f":"Nuclear!$D$8","v":307.69444444444446},0,14.703333333333335,14.14,10.961666666666668,0]
["2018-03-04",20,28.85,500,null,{"$f":"M1547","v":62.611666666666657},26.74,25.103333333333328,null,{"$f":"'Combined Cycle Gas'!$D$8","v":318.30459770114948},{"$f":"Nuclear!$D$8","v":307.69444444444446},0,14.951666666666668,14.128333333333336,10.538333333333336,0]
["2018-03-04",21,29.08,500,null,{"$f":"M1548","v":47.588333333333331},21.463333333333335,28.161666666666662,null,{"$f":"'Combined Cycle Gas'!$D$8","v":318.30459770114948},{"$f":"Nuclear!$D$8","v":307.69444444444446},0,18.603333333333335,15.028333333333331,11.679999999999998,0]
["2018-03-04",22,30.1,400,null,{"$f":"M1549","v":57.72},17.431666666666668,19.285,null,{"$f":"'Combined Cycle Gas'!$D$8","v":318.30459770114948},{"$f":"Nuclear!$D$8","v":307.69444444444446},0,21.011666666666667,15.898333333333333,11.115,0]
["2018-03-04",23,26.2,301,null,{"$f":"M1550","v":51.21},27.606666666666669,19.121666666666666,null,{"$f":"'Combined Cycle Gas'!$D$8","v":318.30459770114948},{"$f":"Nuclear!$D$8","v":307.69444444444446},0,21.011666666666667,17.491666666666664,11.491666666666665,0]
["2018-03-04",24,24.9,300,null,{"$f":"M1551","v":42.568333333333335},28.231666666666666,19.751666666666665,null,{"$f":"'Combined Cycle Gas'!$D$8","v":318.30459770114948},{"$f":"Nuclear!$D$8","v":307.69444444444446},0,29.42,18.528333333333332,15.316666666666665,0]
["2018-03-05",1,24.96,379,null,{"$f":"M1552","v":35.181666666666665},20.363333333333333,16.431666666666665,null,{"$f":"'Combined Cycle Gas'!$D$8","v":318.30459770114948},{"$f":"Nuclear!$D$8","v":307.69444444444446},0,45.23,20.069999999999997,21.404999999999998,0]
["2018-03-05",2,24.9,243,null,{"$f":"M1553","v":23.391666666666669},14.61,13.185,null,{"$f":"'Combined Cycle Gas'!$D$8","v":318.30459770114948},{"$f":"Nuclear!$D$8","v":307.69444444444446},0,62.611666666666657,26.74,25.103333333333328,0]
["2018-03-05",3,24.91,203,null,{"$f":"M1554","v":22.481666666666666},10.47,8.8466666666666658,null,{"$f":"'Combined Cycle Gas'!$D$8","v":318.30459770114948},{"$f":"Nuclear!$D$8","v":307.69444444444446},0,47.588333333333331,21.463333333333335,28.161666666666662,0]
["2018-03-05",4,31.79,209,null,{"$f":"M1555","v":13.180000000000001},10.541666666666666,9.2533333333333339,null,{"$f":"'Combined Cycle Gas'!$D$8","v":318.30459770114948},{"$f":"Nuclear!$D$8","v":307.69444444444446},0,57.72,17.431666666666668,19.285,0]
["2018-03-05",5,32.17,262,null,{"$f":"M1556","v":13.933333333333332},15.58,8.85,null,{"$f":"'Combined Cycle Gas'!$D$8","v":318.30459770114948},{"$f":"Nuclear!$D$8","v":307.69444444444446},0,51.21,27.606666666666669,19.121666666666666,0]
["2018-03-05",6,37.520000000000003,471,null,{"$f":"M1557","v":21.473333333333333},15.670000000000002,8.7483333333333331,null,{"$f":"'Combined Cycle Gas'!$D$8","v":318.30459770114948},{"$f":"Nuclear!$D$8","v":307.69444444444446},0,42.568333333333335,28.231666666666666,19.751666666666665,0]
["2018-03-05",7,42.2,776,null,{"$f":"M1558","v":14.113333333333335},11.013333333333335,11.018333333333333,null,{"$f":"'Combined Cycle Gas'!$D$8","v":318.30459770114948},{"$f":"Nuclear!$D$8","v":307.69444444444446},4.4299999999999998E-4,35.181666666666665,20.363333333333333,16.431666666666665,443]
["2018-03-05",8,37.71,1026,null,{"$f":"M1559","v":16.126666666666669},10.506666666666666,14.39,null,{"$f":"'Combined Cycle Gas'!$D$8","v":318.30459770114948},{"$f":"Nuclear!$D$8","v":307.69444444444446},5.3403289999999997,23.391666666666669,14.61,13.185,5340329]
["2018-03-05",9,42.12,982,null,{"$f":"M1560","v":22.94},10.171666666666667,16.578333333333333,null,{"$f":"'Combined Cycle Gas'!$D$8","v":318.30459770114948},{"$f":"Nuclear!$D$8","v":307.69444444444446},6.3551169999999999,22.481666666666666,10.47,8.8466666666666658,6355117]
["2018-03-05",10,40.130000000000003,981,null,{"$f":"M1561","v":12.973333333333331},9.8466666666666676,8.1199999999999992,null,{"$f":"'Combined Cycle Gas'!$D$8","v":318.30459770114948},{"$f":"Nuclear!$D$8","v":307.69444444444446},7.0944700000000003,13.180000000000001,10.541666666666666,9.2533333333333339,7094470]
["2018-03-05",11,30.42,1078,null,{"$f":"M1562","v":12.063333333333333},9.913333333333334,8.1166666666666671,null,{"$f":"'Combined Cycle Gas'!$D$8","v":318.30459770114948},{"$f":"Nuclear!$D$8","v":307.69444444444446},8.2143519999999999,13.933333333333332,15.58,8.85,8214352]
["2018-03-05",12,25.33,1856,null,{"$f":"M1563","v":12.13},9.9916666666666654,8.0283333333333342,null,{"$f":"'Combined Cycle Gas'!$D$8","v":318.30459770114948},{"$f":"Nuclear!$D$8","v":307.69444444444446},8.2806510000000006,21.473333333333333,15.670000000000002,8.7483333333333331,8280651]
["2018-03-05",13,26.35,2154,null,{"$f":"M1564","v":11.923333333333332},10.275,7.9750000000000005,null,{"$f":"'Combined Cycle Gas'!$D$8","v":318.30459770114948},{"$f":"Nuclear!$D$8","v":307.69444444444446},8.1891090000000002,14.113333333333335,11.013333333333335,11.018333333333333,8189109]
["2018-03-05",14,26.13,2271,null,{"$f":"M1565","v":11.905000000000001},12.37,7.9216666666666669,null,{"$f":"'Combined Cycle Gas'!$D$8","v":318.30459770114948},{"$f":"Nuclear!$D$8","v":307.69444444444446},8.0133399999999995,16.126666666666669,10.506666666666666,14.39,8013340]
["2018-03-05",15,25,2501,null,{"$f":"M1566","v":11.979999999999999},12.191666666666668,8.1100000000000012,null,{"$f":"'Combined Cycle Gas'!$D$8","v":318.30459770114948},{"$f":"Nuclear!$D$8","v":307.69444444444446},7.9472519999999998,22.94,10.171666666666667,16.578333333333333,7947252]
["2018-03-05",16,24.42,2704,null,{"$f":"M1567","v":11.615},14.638333333333334,9.1766666666666676,null,{"$f":"'Combined Cycle Gas'!$D$8","v":318.30459770114948},{"$f":"Nuclear!$D$8","v":307.69444444444446},7.3367639999999996,12.973333333333331,9.8466666666666676,8.1199999999999992,7336764]
["2018-03-05",17,26.02,2645,null,{"$f":"M1568","v":15.623333333333333},20.239999999999998,11.494999999999999,null,{"$f":"'Combined Cycle Gas'!$D$8","v":318.30459770114948},{"$f":"Nuclear!$D$8","v":307.69444444444446},5.9558980000000004,12.063333333333333,9.913333333333334,8.1166666666666671,5955898]
["2018-03-05",18,25.3,2868,null,{"$f":"M1569","v":47.833333333333343},31.415000000000003,29.23833333333333,null,{"$f":"'Combined Cycle Gas'!$D$8","v":318.30459770114948},{"$f":"Nuclear!$D$8","v":307.69444444444446},2.9841820000000001,12.13,9.9916666666666654,8.0283333333333342,2984182]
["2018-03-05",19,25.12,2980,null,{"$f":"M1570","v":65.131666666666661},33.56666666666667,58.543333333333329,null,{"$f":"'Combined Cycle Gas'!$D$8","v":318.30459770114948},{"$f":"Nuclear!$D$8","v":307.69444444444446},0,11.923333333333332,10.275,7.9750000000000005,0]
["2018-03-05",20,24.96,2826,null,{"$f":"M1571","v":56.396666666666668},36.963333333333338,76.774999999999991,null,{"$f":"'Combined Cycle Gas'!$D$8","v":318.30459770114948},{"$f":"Nuclear!$D$8","v":307.69444444444446},0,11.905000000000001,12.37,7.9216666666666669,0]
["2018-03-05",21,49.59,3031,null,{"$f":"M1572","v":55.126666666666665},47.888333333333328,58.471666666666671,null,{"$f":"'Combined Cycle Gas'!$D$8","v":318.30459770114948},{"$f":"Nuclear!$D$8","v":307.69444444444446},0,11.979999999999999,12.191666666666668,8.1100000000000012,0]
["2018-03-05",22,30.23,2743,null,{"$f":"M1573","v":60.856666666666662},35.083333333333336,68.78,null,{"$f":"'Combined Cycle Gas'!$D$8","v":318.30459770114948},{"$f":"Nuclear!$D$8","v":307.69444444444446},0,11.615,14.638333333333334,9.1766666666666676,0]
["2018-03-05",23,27.06,2825,null,{"$f":"M1574","v":111.10666666666667},16.675000000000001,51.063333333333333,null,{"$f":"'Combined Cycle Gas'!$D$8","v":318.30459770114948},{"$f":"Nuclear!$D$8","v":307.69444444444446},0,15.623333333333333,20.239999999999998,11.494999999999999,0]
["2018-03-05",24,3.68,2806,null,{"$f":"M1575","v":79.013333333333335},46.498333333333335,68.836666666666659,null,{"$f":"'Combined Cycle Gas'!$D$8","v":318.30459770114948},{"$f":"Nuclear!$D$8","v":307.69444444444446},0,47.833333333333343,31.415000000000003,29.23833333333333,0]
["2018-03-06",1,2.4,2523,null,{"$f":"M1576","v":59.586666666666673},81.541666666666671,67.968333333333334,null,{"$f":"'Combined Cycle Gas'!$D$8","v":318.30459770114948},{"$f":"Nuclear!$D$8","v":307.69444444444446},0,65.131666666666661,33.56666666666667,58.543333333333329,0]
["2018-03-06",2,16.149999999999999,2686,null,{"$f":"M1577","v":57.45000000000001},74.054999999999993,63.69166666666667,null,{"$f":"'Combined Cycle Gas'!$D$8","v":318.30459770114948},{"$f":"Nuclear!$D$8","v":307.69444444444446},{"$f":"P1571/10^6","v":0},56.396666666666668,36.963333333333338,76.774999999999991,0]
["2018-03-06",3,21.45,2400,null,{"$f":"M1578","v":55.414999999999999},60.536666666666669,51.691666666666663,null,{"$f":"'Combined Cycle Gas'!$D$8","v":318.30459770114948},{"$f":"Nuclear!$D$8","v":307.69444444444446},0,55.126666666666665,47.888333333333328,58.471666666666671,0]
["2018-03-06",4,21.45,2011,null,{"$f":"M1579","v":38.713333333333331},48.338333333333331,40.54666666666666,null,{"$f":"'Combined Cycle Gas'!$D$8","v":318.30459770114948},{"$f":"Nuclear!$D$8","v":307.69444444444446},0,60.856666666666662,35.083333333333336,68.78,0]
["2018-03-06",5,24.77,2020,null,{"$f":"M1580","v":35.736666666666672},33.501666666666665,37.130000000000003,null,{"$f":"'Combined Cycle Gas'!$D$8","v":318.30459770114948},{"$f":"Nuclear!$D$8","v":307.69444444444446},0,111.10666666666667,16.675000000000001,51.063333333333333,0]
["2018-03-06",6,28.69,2473,null,{"$f":"M1581","v":28.181666666666668},17.923333333333336,39.811666666666667,null,{"$f":"'Combined Cycle Gas'!$D$8","v":318.30459770114948},{"$f":"Nuclear!$D$8","v":307.69444444444446},0,79.013333333333335,46.498333333333335,68.836666666666659,0]
["2018-03-06",7,34.869999999999997,3091,null,{"$f":"M1582","v":39.823333333333331},19.636666666666667,44.323333333333331,null,{"$f":"'Combined Cycle Gas'!$D$8","v":318.30459770114948},{"$f":"Nuclear!$D$8","v":307.69444444444446},2.0403000000000001E-2,59.586666666666673,81.541666666666671,67.968333333333334,20403]
["2018-03-06",8,28.93,2677,null,{"$f":"M1583","v":66.073333333333338},28.268333333333334,38.12833333333333,null,{"$f":"'Combined Cycle Gas'!$D$8","v":318.30459770114948},{"$f":"Nuclear!$D$8","v":307.69444444444446},3.6476489999999999,57.45000000000001,74.054999999999993,63.69166666666667,3647649]
["2018-03-06",9,27.06,2894,null,{"$f":"M1584","v":62.195000000000014},31.348333333333333,32.495000000000005,null,{"$f":"'Combined Cycle Gas'!$D$8","v":318.30459770114948},{"$f":"Nuclear!$D$8","v":307.69444444444446},5.0612440000000003,55.414999999999999,60.536666666666669,51.691666666666663,5061244]
["2018-03-06",10,27.86,3012,null,{"$f":"M1585","v":57.341666666666661},27.973333333333333,34.286666666666669,null,{"$f":"'Combined Cycle Gas'!$D$8","v":318.30459770114948},{"$f":"Nuclear!$D$8","v":307.69444444444446},6.3090739999999998,38.713333333333331,48.338333333333331,40.54666666666666,6309074]
["2018-03-06",11,27.39,3012,null,{"$f":"M1586","v":60.564999999999998},34.270000000000003,41.6,null,{"$f":"'Combined Cycle Gas'!$D$8","v":318.30459770114948},{"$f":"Nuclear!$D$8","v":307.69444444444446},5.7630340000000002,35.736666666666672,33.501666666666665,37.130000000000003,5763034]
["2018-03-06",12,28.34,3012,null,{"$f":"M1587","v":62.463333333333331},39.743333333333332,47.935000000000002,null,{"$f":"'Combined Cycle Gas'!$D$8","v":318.30459770114948},{"$f":"Nuclear!$D$8","v":307.69444444444446},5.5987799999999996,28.181666666666668,17.923333333333336,39.811666666666667,5598780]
["2018-03-06",13,24.23,3012,null,{"$f":"M1588","v":67.39},41.88333333333334,43.140000000000008,null,{"$f":"'Combined Cycle Gas'!$D$8","v":318.30459770114948},{"$f":"Nuclear!$D$8","v":307.69444444444446},7.1572469999999999,39.823333333333331,19.636666666666667,44.323333333333331,7157247]
["2018-03-06",14,24.17,3012,null,{"$f":"M1589","v":59.220000000000006},42.484999999999999,54.43333333333333,null,{"$f":"'Combined Cycle Gas'!$D$8","v":318.30459770114948},{"$f":"Nuclear!$D$8","v":307.69444444444446},4.1398400000000004,66.073333333333338,28.268333333333334,38.12833333333333,4139840]
["2018-03-06",15,26.18,2881,null,{"$f":"M1590","v":59.945},50.298333333333339,60.711666666666666,null,{"$f":"'Combined Cycle Gas'!$D$8","v":318.30459770114948},{"$f":"Nuclear!$D$8","v":307.69444444444446},4.5812600000000003,62.195000000000014,31.348333333333333,32.495000000000005,4581260]
["2018-03-06",16,26,3012,null,{"$f":"M1591","v":56.758333333333333},52.488333333333337,72.131666666666661,null,{"$f":"'Combined Cycle Gas'!$D$8","v":318.30459770114948},{"$f":"Nuclear!$D$8","v":307.69444444444446},3.762454,57.341666666666661,27.973333333333333,34.286666666666669,3762454]
["2018-03-06",17,26,3012,null,{"$f":"M1592","v":48.701666666666661},46.839999999999996,88.398333333333326,null,{"$f":"'Combined Cycle Gas'!$D$8","v":318.30459770114948},{"$f":"Nuclear!$D$8","v":307.69444444444446},1.0421370000000001,60.564999999999998,34.270000000000003,41.6,1042137]
["2018-03-06",18,25.8,3013,null,{"$f":"M1593","v":64.481666666666669},36.961666666666666,92.425000000000011,null,{"$f":"'Combined Cycle Gas'!$D$8","v":318.30459770114948},{"$f":"Nuclear!$D$8","v":307.69444444444446},6.87E-4,62.463333333333331,39.743333333333332,47.935000000000002,687]
["2018-03-06",19,26.01,3013,null,{"$f":"M1594","v":53.39500000000001},35.215000000000003,85.51,null,{"$f":"'Combined Cycle Gas'!$D$8","v":318.30459770114948},{"$f":"Nuclear!$D$8","v":307.69444444444446},0,67.39,41.88333333333334,43.140000000000008,0]
["2018-03-06",20,25.8,3013,null,{"$f":"M1595","v":68.92},51.938333333333333,73.833333333333329,null,{"$f":"'Combined Cycle Gas'!$D$8","v":318.30459770114948},{"$f":"Nuclear!$D$8","v":307.69444444444446},0,59.220000000000006,42.484999999999999,54.43333333333333,0]
["2018-03-06",21,25.6,3013,null,{"$f":"M1596","v":94.263333333333335},76.941666666666663,58.080000000000005,null,{"$f":"'Combined Cycle Gas'!$D$8","v":318.30459770114948},{"$f":"Nuclear!$D$8","v":307.69444444444446},0,59.945,50.298333333333339,60.711666666666666,0]
["2018-03-06",22,43.44,3030,null,{"$f":"M1597","v":111.55833333333334},69.283333333333331,75.08,null,{"$f":"'Combined Cycle Gas'!$D$8","v":318.30459770114948},{"$f":"Nuclear!$D$8","v":307.69444444444446},0,56.758333333333333,52.488333333333337,72.131666666666661,0]
["2018-03-06",23,28.72,3013,null,{"$f":"M1598","v":114.38166666666667},62.56666666666667,76.281666666666666,null,{"$f":"'Combined Cycle Gas'!$D$8","v":318.30459770114948},{"$f":"Nuclear!$D$8","v":307.69444444444446},0,48.701666666666661,46.839999999999996,88.398333333333326,0]
["2018-03-06",24,4.09,2888,null,{"$f":"M1599","v":122.48833333333334},62.449999999999996,64.331666666666678,null,{"$f":"'Combined Cycle Gas'!$D$8","v":318.30459770114948},{"$f":"Nuclear!$D$8","v":307.69444444444446},0,64.481666666666669,36.961666666666666,92.425000000000011,0]
["2018-03-07",1,16.23,2371,null,{"$f":"M1600","v":123.83999999999999},70.841666666666669,50.134999999999998,null,{"$f":"'Combined Cycle Gas'!$D$8","v":318.30459770114948},{"$f":"Nuclear!$D$8","v":307.69444444444446},0,53.39500000000001,35.215000000000003,85.51,0]
["2018-03-07",2,24.22,1940,null,{"$f":"M1601","v":104.92833333333333},64.144999999999996,37.111666666666665,null,{"$f":"'Combined Cycle Gas'!$D$8","v":318.30459770114948},{"$f":"Nuclear!$D$8","v":307.69444444444446},0,68.92,51.938333333333333,73.833333333333329,0]
["2018-03-07",3,20.440000000000001,1999,null,{"$f":"M1602","v":49.056666666666672},33.241666666666667,18.065000000000001,null,{"$f":"'Combined Cycle Gas'!$D$8","v":318.30459770114948},{"$f":"Nuclear!$D$8","v":307.69444444444446},0,94.263333333333335,76.941666666666663,58.080000000000005,0]
["2018-03-07",4,16.23,2347,null,{"$f":"M1603","v":9.1533333333333342},6.2333333333333343,8.4166666666666661,null,{"$f":"'Combined Cycle Gas'!$D$8","v":318.30459770114948},{"$f":"Nuclear!$D$8","v":307.69444444444446},0,111.55833333333334,69.283333333333331,75.08,0]
["2018-03-07",5,21.45,2545,null,{"$f":"M1604","v":7.2399999999999993},5.0483333333333329,13.601666666666665,null,{"$f":"'Combined Cycle Gas'!$D$8","v":318.30459770114948},{"$f":"Nuclear!$D$8","v":307.69444444444446},0,114.38166666666667,62.56666666666667,76.281666666666666,0]
["2018-03-07",6,28.54,2716,null,{"$f":"M1605","v":10.856666666666667},7.0516666666666667,5.8416666666666659,null,{"$f":"'Combined Cycle Gas'!$D$8","v":318.30459770114948},{"$f":"Nuclear!$D$8","v":307.69444444444446},0,122.48833333333334,62.449999999999996,64.331666666666678,0]
["2018-03-07",7,39.950000000000003,2877,null,{"$f":"M1606","v":15.758333333333333},5.0633333333333326,9.6433333333333326,null,{"$f":"'Combined Cycle Gas'!$D$8","v":318.30459770114948},{"$f":"Nuclear!$D$8","v":307.69444444444446},0,123.83999999999999,70.841666666666669,50.134999999999998,0]
["2018-03-07",8,41.63,2460,null,{"$f":"M1607","v":25.833333333333332},6.1050000000000004,13.558333333333335,null,{"$f":"'Combined Cycle Gas'!$D$8","v":318.30459770114948},{"$f":"Nuclear!$D$8","v":307.69444444444446},0.214116,104.92833333333333,64.144999999999996,37.111666666666665,214116]
["2018-03-07",9,21.95,2373,null,{"$f":"M1608","v":13.958333333333334},7.5650000000000004,4.9849999999999994,null,{"$f":"'Combined Cycle Gas'!$D$8","v":318.30459770114948},{"$f":"Nuclear!$D$8","v":307.69444444444446},0.50298500000000002,49.056666666666672,33.241666666666667,18.065000000000001,502985]
["2018-03-07",10,28.27,2105,null,{"$f":"M1609","v":6.9516666666666653},5.3683333333333332,5,null,{"$f":"'Combined Cycle Gas'!$D$8","v":318.30459770114948},{"$f":"Nuclear!$D$8","v":307.69444444444446},1.2530319999999999,9.1533333333333342,6.2333333333333343,8.4166666666666661,1253032]
["2018-03-07",11,28.24,1853,null,{"$f":"M1610","v":6.6166666666666663},4.5333333333333341,4.9516666666666671,null,{"$f":"'Combined Cycle Gas'!$D$8","v":318.30459770114948},{"$f":"Nuclear!$D$8","v":307.69444444444446},1.7792619999999999,7.2399999999999993,5.0483333333333329,13.601666666666665,1779262]
["2018-03-07",12,28.38,1819,null,{"$f":"M1611","v":6.3999999999999995},5.1599999999999993,4.9633333333333329,null,{"$f":"'Combined Cycle Gas'!$D$8","v":318.30459770114948},{"$f":"Nuclear!$D$8","v":307.69444444444446},2.5887950000000002,10.856666666666667,7.0516666666666667,5.8416666666666659,2588795]
["2018-03-07",13,28.24,1615,null,{"$f":"M1612","v":6.2866666666666662},4.6566666666666663,4.9716666666666667,null,{"$f":"'Combined Cycle Gas'!$D$8","v":318.30459770114948},{"$f":"Nuclear!$D$8","v":307.69444444444446},2.5121929999999999,15.758333333333333,5.0633333333333326,9.6433333333333326,2512193]
["2018-03-07",14,42.42,1227,null,{"$f":"M1613","v":6.1783333333333337},4.3083333333333327,4.9350000000000005,null,{"$f":"'Combined Cycle Gas'!$D$8","v":318.30459770114948},{"$f":"Nuclear!$D$8","v":307.69444444444446},2.313717,25.833333333333332,6.1050000000000004,13.558333333333335,2313717]
["2018-03-07",15,49.69,724,null,{"$f":"M1614","v":6.0249999999999995},4.2433333333333341,4.91,null,{"$f":"'Combined Cycle Gas'!$D$8","v":318.30459770114948},{"$f":"Nuclear!$D$8","v":307.69444444444446},2.044816,13.958333333333334,7.5650000000000004,4.9849999999999994,2044816]
["2018-03-07",16,49.63,463,null,{"$f":"M1615","v":5.9516666666666671},4.1550000000000002,4.9483333333333341,null,{"$f":"'Combined Cycle Gas'!$D$8","v":318.30459770114948},{"$f":"Nuclear!$D$8","v":307.69444444444446},1.605021,6.9516666666666653,5.3683333333333332,5,1605021]
["2018-03-07",17,49.93,353,null,{"$f":"M1616","v":5.8533333333333326},4.078333333333334,5.1516666666666664,null,{"$f":"'Combined Cycle Gas'!$D$8","v":318.30459770114948},{"$f":"Nuclear!$D$8","v":307.69444444444446},6.3770999999999994E-2,6.6166666666666663,4.5333333333333341,4.9516666666666671,63771]
["2018-03-07",18,49.67,315,null,{"$f":"M1617","v":5.7183333333333337},4.0066666666666668,5.1916666666666673,null,{"$f":"'Combined Cycle Gas'!$D$8","v":318.30459770114948},{"$f":"Nuclear!$D$8","v":307.69444444444446},0,6.3999999999999995,5.1599999999999993,4.9633333333333329,0]
["2018-03-07",19,52.99,323,null,{"$f":"M1618","v":5.8033333333333337},4.0250000000000004,4.998333333333334,null,{"$f":"'Combined Cycle Gas'!$D$8","v":318.30459770114948},{"$f":"Nuclear!$D$8","v":307.69444444444446},0,6.2866666666666662,4.6566666666666663,4.9716666666666667,0]
["2018-03-07",20,51.91,474,null,{"$f":"M1619","v":5.7583333333333337},4.0049999999999999,5.6550000000000002,null,{"$f":"'Combined Cycle Gas'!$D$8","v":318.30459770114948},{"$f":"Nuclear!$D$8","v":307.69444444444446},0,6.1783333333333337,4.3083333333333327,4.9350000000000005,0]
["2018-03-07",21,50.9,571,null,{"$f":"M1620","v":6.4333333333333336},4.625,9.94,null,{"$f":"'Combined Cycle Gas'!$D$8","v":318.30459770114948},{"$f":"Nuclear!$D$8","v":307.69444444444446},0,6.0249999999999995,4.2433333333333341,4.91,0]
["2018-03-07",22,42.07,780,null,{"$f":"M1621","v":37.164999999999999},32.971666666666664,21.343333333333334,null,{"$f":"'Combined Cycle Gas'!$D$8","v":318.30459770114948},{"$f":"Nuclear!$D$8","v":307.69444444444446},0,5.9516666666666671,4.1550000000000002,4.9483333333333341,0]
["2018-03-07",23,43.14,1264,null,{"$f":"M1622","v":91.066666666666663},76.711666666666659,39.270000000000003,null,{"$f":"'Combined Cycle Gas'!$D$8","v":318.30459770114948},{"$f":"Nuclear!$D$8","v":307.69444444444446},0,5.8533333333333326,4.078333333333334,5.1516666666666664,0]
["2018-03-07",24,24.66,1466,null,{"$f":"M1623","v":105.82833333333332},94.308333333333337,52.731666666666662,null,{"$f":"'Combined Cycle Gas'!$D$8","v":318.30459770114948},{"$f":"Nuclear!$D$8","v":307.69444444444446},0,5.7183333333333337,4.0066666666666668,5.1916666666666673,0]
["2018-03-08",1,16.21,1466,null,{"$f":"M1624","v":113.67833333333333},104.33499999999999,80.74166666666666,null,{"$f":"'Combined Cycle Gas'!$D$8","v":318.30459770114948},{"$f":"Nuclear!$D$8","v":307.69444444444446},0,5.8033333333333337,4.0250000000000004,4.998333333333334,0]
["2018-03-08",2,16.23,2008,null,{"$f":"M1625","v":129.63833333333335},111.67999999999999,99.008333333333326,null,{"$f":"'Combined Cycle Gas'!$D$8","v":318.30459770114948},{"$f":"Nuclear!$D$8","v":307.69444444444446},0,5.7583333333333337,4.0049999999999999,5.6550000000000002,0]
["2018-03-08",3,4.09,2647,null,{"$f":"M1626","v":149.34},112.52,108.86666666666667,null,{"$f":"'Combined Cycle Gas'!$D$8","v":318.30459770114948},{"$f":"Nuclear!$D$8","v":307.69444444444446},0,6.4333333333333336,4.625,9.94,0]
["2018-03-08",4,16.149999999999999,2773,null,{"$f":"M1627","v":151.31999999999996},112.37666666666667,110.19000000000001,null,{"$f":"'Combined Cycle Gas'!$D$8","v":318.30459770114948},{"$f":"Nuclear!$D$8","v":307.69444444444446},0,37.164999999999999,32.971666666666664,21.343333333333334,0]
["2018-03-08",5,24.08,2675,null,{"$f":"M1628","v":150.04999999999998},112.52,110.19000000000001,null,{"$f":"'Combined Cycle Gas'!$D$8","v":318.30459770114948},{"$f":"Nuclear!$D$8","v":307.69444444444446},0,91.066666666666663,76.711666666666659,39.270000000000003,0]
["2018-03-08",6,28.73,2674,null,{"$f":"M1629","v":148.44833333333335},112.52,107.97666666666669,null,{"$f":"'Combined Cycle Gas'!$D$8","v":318.30459770114948},{"$f":"Nuclear!$D$8","v":307.69444444444446},0,105.82833333333332,94.308333333333337,52.731666666666662,0]
["2018-03-08",7,42.74,2851,null,{"$f":"M1630","v":148.59833333333333},112.52,108.02500000000002,null,{"$f":"'Combined Cycle Gas'!$D$8","v":318.30459770114948},{"$f":"Nuclear!$D$8","v":307.69444444444446},7.2999999999999996E-4,113.67833333333333,104.33499999999999,80.74166666666666,730]
["2018-03-08",8,40.380000000000003,2486,null,{"$f":"M1631","v":150.40333333333334},112.49166666666667,108.04333333333331,null,{"$f":"'Combined Cycle Gas'!$D$8","v":318.30459770114948},{"$f":"Nuclear!$D$8","v":307.69444444444446},4.5659999999999997E-3,129.63833333333335,111.67999999999999,99.008333333333326,4566]
["2018-03-08",9,27.03,2725,null,{"$f":"M1632","v":146.26333333333332},112.37333333333333,107.63666666666666,null,{"$f":"'Combined Cycle Gas'!$D$8","v":318.30459770114948},{"$f":"Nuclear!$D$8","v":307.69444444444446},1.0689310000000001,149.34,112.52,108.86666666666667,1068931]
["2018-03-08",10,31.32,2366,null,{"$f":"M1633","v":135.48499999999999},110.37833333333333,108.56000000000002,null,{"$f":"'Combined Cycle Gas'!$D$8","v":318.30459770114948},{"$f":"Nuclear!$D$8","v":307.69444444444446},1.8715520000000001,151.31999999999996,112.37666666666667,110.19000000000001,1871552]
["2018-03-08",11,27.6,2629,null,{"$f":"M1634","v":119.74666666666667},110.16333333333334,110.19000000000001,null,{"$f":"'Combined Cycle Gas'!$D$8","v":318.30459770114948},{"$f":"Nuclear!$D$8","v":307.69444444444446},2.2345449999999998,150.04999999999998,112.52,110.19000000000001,2234545]
["2018-03-08",12,27.32,2807,null,{"$f":"M1635","v":129.46166666666667},107.51166666666667,105.58666666666669,null,{"$f":"'Combined Cycle Gas'!$D$8","v":318.30459770114948},{"$f":"Nuclear!$D$8","v":307.69444444444446},2.8281290000000001,148.44833333333335,112.52,107.97666666666669,2828129]
["2018-03-08",13,28.41,2824,null,{"$f":"M1636","v":123.75166666666668},103.37166666666667,97.838333333333324,null,{"$f":"'Combined Cycle Gas'!$D$8","v":318.30459770114948},{"$f":"Nuclear!$D$8","v":307.69444444444446},2.4894880000000001,148.59833333333333,112.52,108.02500000000002,2489488]
["2018-03-08",14,42.37,2403,null,{"$f":"M1637","v":133.47499999999999},90.311666666666667,90.546666666666667,null,{"$f":"'Combined Cycle Gas'!$D$8","v":318.30459770114948},{"$f":"Nuclear!$D$8","v":307.69444444444446},5.8523899999999998,150.40333333333334,112.49166666666667,108.04333333333331,5852390]
["2018-03-08",15,46.59,2122,null,{"$f":"M1638","v":127.51833333333332},97.768333333333331,99.363333333333344,null,{"$f":"'Combined Cycle Gas'!$D$8","v":318.30459770114948},{"$f":"Nuclear!$D$8","v":307.69444444444446},3.8242050000000001,146.26333333333332,112.37333333333333,107.63666666666666,3824205]
["2018-03-08",16,42.2,2122,null,{"$f":"M1639","v":126.29166666666667},108.71666666666665,101.50833333333334,null,{"$f":"'Combined Cycle Gas'!$D$8","v":318.30459770114948},{"$f":"Nuclear!$D$8","v":307.69444444444446},2.543275,135.48499999999999,110.37833333333333,108.56000000000002,2543275]
["2018-03-08",17,42.2,2021,null,{"$f":"M1640","v":134.21666666666667},111.53166666666665,103.06499999999998,null,{"$f":"'Combined Cycle Gas'!$D$8","v":318.30459770114948},{"$f":"Nuclear!$D$8","v":307.69444444444446},1.061661,119.74666666666667,110.16333333333334,110.19000000000001,1061661]
["2018-03-08",18,48.79,1827,null,{"$f":"M1641","v":149.81499999999997},112.52,110.16333333333334,null,{"$f":"'Combined Cycle Gas'!$D$8","v":318.30459770114948},{"$f":"Nuclear!$D$8","v":307.69444444444446},{"$f":"P1635/10^6","v":3.5990000000000002E-3},129.46166666666667,107.51166666666667,105.58666666666669,3599]
["2018-03-08",19,41.23,2208,null,{"$f":"M1642","v":151.31999999999996},112.52,110.19000000000001,null,{"$f":"'Combined Cycle Gas'!$D$8","v":318.30459770114948},{"$f":"Nuclear!$D$8","v":307.69444444444446},0,123.75166666666668,103.37166666666667,97.838333333333324,0]
["2018-03-08",20,27.7,2609,null,{"$f":"M1643","v":151.31999999999996},112.52,110.19000000000001,null,{"$f":"'Combined Cycle Gas'!$D$8","v":318.30459770114948},{"$f":"Nuclear!$D$8","v":307.69444444444446},0,133.47499999999999,90.311666666666667,90.546666666666667,0]
["2018-03-08",21,27.37,2998,null,{"$f":"M1644","v":150.89999999999998},112.52,110.19000000000001,null,{"$f":"'Combined Cycle Gas'!$D$8","v":318.30459770114948},{"$f":"Nuclear!$D$8","v":307.69444444444446},0,127.51833333333332,97.768333333333331,99.363333333333344,0]
["2018-03-08",22,28.42,2928,null,{"$f":"M1645","v":151.06166666666667},112.52,110.11166666666666,null,{"$f":"'Combined Cycle Gas'!$D$8","v":318.30459770114948},{"$f":"Nuclear!$D$8","v":307.69444444444446},0,126.29166666666667,108.71666666666665,101.50833333333334,0]
["2018-03-08",23,25.59,3005,null,{"$f":"M1646","v":149.80666666666664},112.52,110.15333333333335,null,{"$f":"'Combined Cycle Gas'!$D$8","v":318.30459770114948},{"$f":"Nuclear!$D$8","v":307.69444444444446},0,134.21666666666667,111.53166666666665,103.06499999999998,0]
["2018-03-08",24,3.13,3013,null,{"$f":"M1647","v":150.785},112.41666666666667,110.19000000000001,null,{"$f":"'Combined Cycle Gas'!$D$8","v":318.30459770114948},{"$f":"Nuclear!$D$8","v":307.69444444444446},0,149.81499999999997,112.52,110.16333333333334,0]
["2018-03-09",1,1.6,3011,null,{"$f":"M1648","v":147.98999999999998},110.30333333333333,109.87333333333333,null,{"$f":"'Combined Cycle Gas'!$D$8","v":318.30459770114948},{"$f":"Nuclear!$D$8","v":307.69444444444446},0,151.31999999999996,112.52,110.19000000000001,0]
["2018-03-09",2,1.03,3011,null,{"$f":"M1649","v":148.28166666666667},109.40166666666666,110.075,null,{"$f":"'Combined Cycle Gas'!$D$8","v":318.30459770114948},{"$f":"Nuclear!$D$8","v":307.69444444444446},0,151.31999999999996,112.52,110.19000000000001,0]
["2018-03-09",3,1.07,3011,null,{"$f":"M1650","v":151.31999999999996},109.93833333333333,110.19000000000001,null,{"$f":"'Combined Cycle Gas'!$D$8","v":318.30459770114948},{"$f":"Nuclear!$D$8","v":307.69444444444446},0,150.89999999999998,112.52,110.19000000000001,0]
["2018-03-09",4,4.3600000000000003,3011,null,{"$f":"M1651","v":151.31999999999996},111.64333333333333,110.19000000000001,null,{"$f":"'Combined Cycle Gas'!$D$8","v":318.30459770114948},{"$f":"Nuclear!$D$8","v":307.69444444444446},0,151.06166666666667,112.52,110.11166666666666,0]
["2018-03-09",5,16.100000000000001,3013,null,{"$f":"M1652","v":151.07499999999996},112.52,110.19000000000001,null,{"$f":"'Combined Cycle Gas'!$D$8","v":318.30459770114948},{"$f":"Nuclear!$D$8","v":307.69444444444446},0,149.80666666666664,112.52,110.15333333333335,0]
["2018-03-09",6,27.22,3013,null,{"$f":"M1653","v":151.31999999999996},112.52,109.75999999999999,null,{"$f":"'Combined Cycle Gas'!$D$8","v":318.30459770114948},{"$f":"Nuclear!$D$8","v":307.69444444444446},0,150.785,112.41666666666667,110.19000000000001,0]
["2018-03-09",7,35.119999999999997,3222,null,{"$f":"M1654","v":151.14333333333332},112.52,108.89666666666666,null,{"$f":"'Combined Cycle Gas'!$D$8","v":318.30459770114948},{"$f":"Nuclear!$D$8","v":307.69444444444446},0,147.98999999999998,110.30333333333333,109.87333333333333,0]
["2018-03-09",8,29.41,3013,null,{"$f":"M1655","v":151.06166666666664},112.15166666666666,108.62499999999999,null,{"$f":"'Combined Cycle Gas'!$D$8","v":318.30459770114948},{"$f":"Nuclear!$D$8","v":307.69444444444446},4.4559999999999999E-3,148.28166666666667,109.40166666666666,110.075,4456]
["2018-03-09",9,27.37,3012,null,{"$f":"M1656","v":150.22499999999999},112.52,109.49166666666667,null,{"$f":"'Combined Cycle Gas'!$D$8","v":318.30459770114948},{"$f":"Nuclear!$D$8","v":307.69444444444446},4.2618000000000003E-2,151.31999999999996,109.93833333333333,110.19000000000001,42618]
["2018-03-09",10,28.11,3012,null,{"$f":"M1657","v":151.31999999999996},112.52,109.90833333333335,null,{"$f":"'Combined Cycle Gas'!$D$8","v":318.30459770114948},{"$f":"Nuclear!$D$8","v":307.69444444444446},1.0983940000000001,151.31999999999996,111.64333333333333,110.19000000000001,1098394]
["2018-03-09",11,28.5,2824,null,{"$f":"M1658","v":151.31999999999996},112.52,110.19000000000001,null,{"$f":"'Combined Cycle Gas'!$D$8","v":318.30459770114948},{"$f":"Nuclear!$D$8","v":307.69444444444446},1.271447,151.07499999999996,112.52,110.19000000000001,1271447]
["2018-03-09",12,42.34,2391,null,{"$f":"M1659","v":150.46},112.21166666666666,110.19000000000001,null,{"$f":"'Combined Cycle Gas'!$D$8","v":318.30459770114948},{"$f":"Nuclear!$D$8","v":307.69444444444446},1.255655,151.31999999999996,112.52,109.75999999999999,1255655]
["2018-03-09",13,42.37,2273,null,{"$f":"M1660","v":151.31999999999996},112.52,109.44,null,{"$f":"'Combined Cycle Gas'!$D$8","v":318.30459770114948},{"$f":"Nuclear!$D$8","v":307.69444444444446},1.5996379999999999,151.14333333333332,112.52,108.89666666666666,1599638]
["2018-03-09",14,28.49,2502,null,{"$f":"M1661","v":151.31999999999996},112.52,108.80333333333333,null,{"$f":"'Combined Cycle Gas'!$D$8","v":318.30459770114948},{"$f":"Nuclear!$D$8","v":307.69444444444446},1.2717350000000001,151.06166666666664,112.15166666666666,108.62499999999999,1271735]
["2018-03-09",15,44.6,2109,null,{"$f":"M1662","v":151.31999999999996},112.21499999999999,110.19000000000001,null,{"$f":"'Combined Cycle Gas'!$D$8","v":318.30459770114948},{"$f":"Nuclear!$D$8","v":307.69444444444446},1.2264930000000001,150.22499999999999,112.52,109.49166666666667,1226493]
["2018-03-09",16,43.01,1807,null,{"$f":"M1663","v":149.55666666666667},112.46166666666666,110.19000000000001,null,{"$f":"'Combined Cycle Gas'!$D$8","v":318.30459770114948},{"$f":"Nuclear!$D$8","v":307.69444444444446},0.62450600000000001,151.31999999999996,112.52,109.90833333333335,624506]
["2018-03-09",17,42.67,1646,null,{"$f":"M1664","v":150.83166666666668},92.40666666666668,110.19000000000001,null,{"$f":"'Combined Cycle Gas'!$D$8","v":318.30459770114948},{"$f":"Nuclear!$D$8","v":307.69444444444446},7.2397000000000003E-2,151.31999999999996,112.52,110.19000000000001,72397]
["2018-03-09",18,42.63,1645,null,{"$f":"M1665","v":140.685},42.715000000000003,86.795000000000002,null,{"$f":"'Combined Cycle Gas'!$D$8","v":318.30459770114948},{"$f":"Nuclear!$D$8","v":307.69444444444446},9.5000000000000005E-5,150.46,112.21166666666666,110.19000000000001,95]
["2018-03-09",19,42.64,1789,null,{"$f":"M1666","v":129.19666666666666},12.011666666666665,80.309999999999988,null,{"$f":"'Combined Cycle Gas'!$D$8","v":318.30459770114948},{"$f":"Nuclear!$D$8","v":307.69444444444446},0,151.31999999999996,112.52,109.44,0]
["2018-03-09",20,20.05,2618,null,{"$f":"M1667","v":125.47166666666668},14.071666666666665,98.33,null,{"$f":"'Combined Cycle Gas'!$D$8","v":318.30459770114948},{"$f":"Nuclear!$D$8","v":307.69444444444446},0,151.31999999999996,112.52,108.80333333333333,0]
["2018-03-09",21,25.97,3013,null,{"$f":"M1668","v":142.34},46.225000000000001,84.045000000000002,null,{"$f":"'Combined Cycle Gas'!$D$8","v":318.30459770114948},{"$f":"Nuclear!$D$8","v":307.69444444444446},0,151.31999999999996,112.21499999999999,110.19000000000001,0]
["2018-03-09",22,26.9,3013,null,{"$f":"M1669","v":145.02833333333334},105.52333333333333,108.64833333333333,null,{"$f":"'Combined Cycle Gas'!$D$8","v":318.30459770114948},{"$f":"Nuclear!$D$8","v":307.69444444444446},0,149.55666666666667,112.46166666666666,110.19000000000001,0]
["2018-03-09",23,9.48,2848,null,{"$f":"M1670","v":145.96833333333333},110.20166666666667,103.49833333333333,null,{"$f":"'Combined Cycle Gas'!$D$8","v":318.30459770114948},{"$f":"Nuclear!$D$8","v":307.69444444444446},0,150.83166666666668,92.40666666666668,110.19000000000001,0]
["2018-03-09",24,2,2573,null,{"$f":"M1671","v":149.45333333333335},111.80666666666667,106.29833333333333,null,{"$f":"'Combined Cycle Gas'!$D$8","v":318.30459770114948},{"$f":"Nuclear!$D$8","v":307.69444444444446},0,140.685,42.715000000000003,86.795000000000002,0]
["2018-03-10",1,24.63,2574,null,{"$f":"M1672","v":146.54999999999998},112.43666666666667,108.485,null,{"$f":"'Combined Cycle Gas'!$D$8","v":318.30459770114948},{"$f":"Nuclear!$D$8","v":307.69444444444446},0,129.19666666666666,12.011666666666665,80.309999999999988,0]
["2018-03-10",2,19.11,2267,null,{"$f":"M1673","v":132.58000000000001},110.54166666666667,109.10333333333335,null,{"$f":"'Combined Cycle Gas'!$D$8","v":318.30459770114948},{"$f":"Nuclear!$D$8","v":307.69444444444446},0,125.47166666666668,14.071666666666665,98.33,0]
["2018-03-10",3,3.23,2623,null,{"$f":"M1674","v":116.11499999999999},110.62166666666667,109.92,null,{"$f":"'Combined Cycle Gas'!$D$8","v":318.30459770114948},{"$f":"Nuclear!$D$8","v":307.69444444444446},0,142.34,46.225000000000001,84.045000000000002,0]
["2018-03-10",4,16.190000000000001,2751,null,{"$f":"M1675","v":94.69},103.05833333333334,102.71333333333332,null,{"$f":"'Combined Cycle Gas'!$D$8","v":318.30459770114948},{"$f":"Nuclear!$D$8","v":307.69444444444446},0,145.02833333333334,105.52333333333333,108.64833333333333,0]
["2018-03-10",5,16.21,2826,null,{"$f":"M1676","v":93.035000000000011},88.33,98.921666666666681,null,{"$f":"'Combined Cycle Gas'!$D$8","v":318.30459770114948},{"$f":"Nuclear!$D$8","v":307.69444444444446},0,145.96833333333333,110.20166666666667,103.49833333333333,0]
["2018-03-10",6,20.43,2871,null,{"$f":"M1677","v":62.838333333333331},55.946666666666665,89.248333333333335,null,{"$f":"'Combined Cycle Gas'!$D$8","v":318.30459770114948},{"$f":"Nuclear!$D$8","v":307.69444444444446},0,149.45333333333335,111.80666666666667,106.29833333333333,0]
["2018-03-10",7,20.440000000000001,3013,null,{"$f":"M1678","v":26.513333333333332},32.103333333333332,55.836666666666673,null,{"$f":"'Combined Cycle Gas'!$D$8","v":318.30459770114948},{"$f":"Nuclear!$D$8","v":307.69444444444446},0,146.54999999999998,112.43666666666667,108.485,0]
["2018-03-10",8,26.06,3013,null,{"$f":"M1679","v":13.141666666666667},36.064999999999998,35.404999999999994,null,{"$f":"'Combined Cycle Gas'!$D$8","v":318.30459770114948},{"$f":"Nuclear!$D$8","v":307.69444444444446},4.9490480000000003,132.58000000000001,110.54166666666667,109.10333333333335,4949048]
["2018-03-10",9,6.35,3012,null,{"$f":"M1680","v":11.188333333333333},26.01,30.516666666666669,null,{"$f":"'Combined Cycle Gas'!$D$8","v":318.30459770114948},{"$f":"Nuclear!$D$8","v":307.69444444444446},6.2505199999999999,116.11499999999999,110.62166666666667,109.92,6250520]
["2018-03-10",10,21.26,3012,null,{"$f":"M1681","v":11.136666666666668},16.841666666666669,26.90166666666666,null,{"$f":"'Combined Cycle Gas'!$D$8","v":318.30459770114948},{"$f":"Nuclear!$D$8","v":307.69444444444446},6.3107199999999999,94.69,103.05833333333334,102.71333333333332,6310720]
["2018-03-10",11,25.77,3012,null,{"$f":"M1682","v":14.246666666666668},24.031666666666666,31.146666666666665,null,{"$f":"'Combined Cycle Gas'!$D$8","v":318.30459770114948},{"$f":"Nuclear!$D$8","v":307.69444444444446},5.4037269999999999,93.035000000000011,88.33,98.921666666666681,5403727]
["2018-03-10",12,24.55,3012,null,{"$f":"M1683","v":15.265000000000001},32.053333333333327,36.699999999999996,null,{"$f":"'Combined Cycle Gas'!$D$8","v":318.30459770114948},{"$f":"Nuclear!$D$8","v":307.69444444444446},5.5842660000000004,62.838333333333331,55.946666666666665,89.248333333333335,5584266]
["2018-03-10",13,21.8,3012,null,{"$f":"M1684","v":18.666666666666668},38.914999999999999,29.713333333333335,null,{"$f":"'Combined Cycle Gas'!$D$8","v":318.30459770114948},{"$f":"Nuclear!$D$8","v":307.69444444444446},5.9080550000000001,26.513333333333332,32.103333333333332,55.836666666666673,5908055]
["2018-03-10",14,21.77,3049,null,{"$f":"M1685","v":17.311666666666667},33.998333333333328,25.906666666666666,null,{"$f":"'Combined Cycle Gas'!$D$8","v":318.30459770114948},{"$f":"Nuclear!$D$8","v":307.69444444444446},8.2305720000000004,13.141666666666667,36.064999999999998,35.404999999999994,8230572]
["2018-03-10",15,21.76,3108,null,{"$f":"M1686","v":13.108333333333334},15.951666666666666,20.446666666666669,null,{"$f":"'Combined Cycle Gas'!$D$8","v":318.30459770114948},{"$f":"Nuclear!$D$8","v":307.69444444444446},6.0240450000000001,11.188333333333333,26.01,30.516666666666669,6024045]
["2018-03-10",16,20.54,3165,null,{"$f":"M1687","v":12.656666666666666},7.4833333333333334,10.225,null,{"$f":"'Combined Cycle Gas'!$D$8","v":318.30459770114948},{"$f":"Nuclear!$D$8","v":307.69444444444446},6.4530250000000002,11.136666666666668,16.841666666666669,26.90166666666666,6453025]
["2018-03-10",17,23.58,3164,null,{"$f":"M1688","v":12.833333333333334},7.1816666666666675,9.5416666666666661,null,{"$f":"'Combined Cycle Gas'!$D$8","v":318.30459770114948},{"$f":"Nuclear!$D$8","v":307.69444444444446},5.9626070000000002,14.246666666666668,24.031666666666666,31.146666666666665,5962607]
["2018-03-10",18,23.49,3204,null,{"$f":"M1689","v":12.43},7.5450000000000008,12.246666666666668,null,{"$f":"'Combined Cycle Gas'!$D$8","v":318.30459770114948},{"$f":"Nuclear!$D$8","v":307.69444444444446},2.9661219999999999,15.265000000000001,32.053333333333327,36.699999999999996,2966122]
["2018-03-10",19,24.16,3202,null,{"$f":"M1690","v":15.426666666666668},9.4266666666666676,16.361666666666668,null,{"$f":"'Combined Cycle Gas'!$D$8","v":318.30459770114948},{"$f":"Nuclear!$D$8","v":307.69444444444446},0,18.666666666666668,38.914999999999999,29.713333333333335,0]
["2018-03-10",20,25.56,3196,null,{"$f":"M1691","v":30.156666666666663},13.686666666666667,18.70333333333333,null,{"$f":"'Combined Cycle Gas'!$D$8","v":318.30459770114948},{"$f":"Nuclear!$D$8","v":307.69444444444446},0,17.311666666666667,33.998333333333328,25.906666666666666,0]
["2018-03-10",21,26.94,2719,null,{"$f":"M1692","v":99.306666666666672},39.973333333333329,15.825000000000001,null,{"$f":"'Combined Cycle Gas'!$D$8","v":318.30459770114948},{"$f":"Nuclear!$D$8","v":307.69444444444446},0,13.108333333333334,15.951666666666666,20.446666666666669,0]
["2018-03-10",22,16.579999999999998,2757,null,{"$f":"M1693","v":133.05500000000001},88.973333333333343,11.055,null,{"$f":"'Combined Cycle Gas'!$D$8","v":318.30459770114948},{"$f":"Nuclear!$D$8","v":307.69444444444446},0,12.656666666666666,7.4833333333333334,10.225,0]
["2018-03-10",23,5.0999999999999996,2588,null,{"$f":"M1694","v":143.07833333333335},98.551666666666662,31.308333333333337,null,{"$f":"'Combined Cycle Gas'!$D$8","v":318.30459770114948},{"$f":"Nuclear!$D$8","v":307.69444444444446},0,12.833333333333334,7.1816666666666675,9.5416666666666661,0]
["2018-03-10",24,2.27,2308,null,{"$f":"M1695","v":147.15166666666667},104.93,49.443333333333328,null,{"$f":"'Combined Cycle Gas'!$D$8","v":318.30459770114948},{"$f":"Nuclear!$D$8","v":307.69444444444446},0,12.43,7.5450000000000008,12.246666666666668,0]
["2018-03-11",1,22.58,2798,null,{"$f":"M1696","v":146.91833333333332},107.85166666666667,60.561666666666667,null,{"$f":"'Combined Cycle Gas'!$D$8","v":318.30459770114948},{"$f":"Nuclear!$D$8","v":307.69444444444446},0,15.426666666666668,9.4266666666666676,16.361666666666668,0]
["2018-03-11",2,22.13,2392,null,{"$f":"M1697","v":140.69333333333336},105.88999999999999,59.601666666666667,null,{"$f":"'Combined Cycle Gas'!$D$8","v":318.30459770114948},{"$f":"Nuclear!$D$8","v":307.69444444444446},0,30.156666666666663,13.686666666666667,18.70333333333333,0]
["2018-03-11",3,22.06,2279,null,{"$f":"M1698","v":135.77500000000001},104.88666666666666,62.958333333333343,null,{"$f":"'Combined Cycle Gas'!$D$8","v":318.30459770114948},{"$f":"Nuclear!$D$8","v":307.69444444444446},0,99.306666666666672,39.973333333333329,15.825000000000001,0]
["2018-03-11",4,21.28,2233,null,{"$f":"M1699","v":127.75833333333333},102.25666666666666,78.963333333333324,null,{"$f":"'Combined Cycle Gas'!$D$8","v":318.30459770114948},{"$f":"Nuclear!$D$8","v":307.69444444444446},0,133.05500000000001,88.973333333333343,11.055,0]
["2018-03-11",5,21.47,2175,null,{"$f":"M1700","v":126.77166666666666},102.55500000000001,99.273333333333326,null,{"$f":"'Combined Cycle Gas'!$D$8","v":318.30459770114948},{"$f":"Nuclear!$D$8","v":307.69444444444446},0,143.07833333333335,98.551666666666662,31.308333333333337,0]
["2018-03-11",6,21.49,2175,null,{"$f":"M1701","v":128.94333333333336},102.95333333333333,96.433333333333337,null,{"$f":"'Combined Cycle Gas'!$D$8","v":318.30459770114948},{"$f":"Nuclear!$D$8","v":307.69444444444446},0,147.15166666666667,104.93,49.443333333333328,0]
["2018-03-11",7,26.07,1925,null,{"$f":"M1702","v":133.39333333333335},102.57000000000001,95.63,null,{"$f":"'Combined Cycle Gas'!$D$8","v":318.30459770114948},{"$f":"Nuclear!$D$8","v":307.69444444444446},1.1884539999999999,146.91833333333332,107.85166666666667,60.561666666666667,1188454]
["2018-03-11",8,28.38,1537,null,{"$f":"M1703","v":136.32000000000002},105.48833333333334,83.864999999999995,null,{"$f":"'Combined Cycle Gas'!$D$8","v":318.30459770114948},{"$f":"Nuclear!$D$8","v":307.69444444444446},4.9220110000000004,140.69333333333336,105.88999999999999,59.601666666666667,4922011]
["2018-03-11",9,24.69,900,null,{"$f":"M1704","v":128.87666666666667},104.49,52.971666666666664,null,{"$f":"'Combined Cycle Gas'!$D$8","v":318.30459770114948},{"$f":"Nuclear!$D$8","v":307.69444444444446},6.7913249999999996,135.77500000000001,104.88666666666666,62.958333333333343,6791325]
["2018-03-11",10,27.16,771,null,{"$f":"M1705","v":124.85166666666667},102.62,84.976666666666674,null,{"$f":"'Combined Cycle Gas'!$D$8","v":318.30459770114948},{"$f":"Nuclear!$D$8","v":307.69444444444446},{"$f":"P1699/10^6","v":7.5305569999999999},127.75833333333333,102.25666666666666,78.963333333333324,7530557]
["2018-03-11",11,26.07,699,null,{"$f":"M1706","v":109.69166666666666},97.113333333333344,99.733333333333334,null,{"$f":"'Combined Cycle Gas'!$D$8","v":318.30459770114948},{"$f":"Nuclear!$D$8","v":307.69444444444446},7.8202420000000004,126.77166666666666,102.55500000000001,99.273333333333326,7820242]
["2018-03-11",12,26.07,698,null,{"$f":"M1707","v":110.84166666666665},87.798333333333332,95.125,null,{"$f":"'Combined Cycle Gas'!$D$8","v":318.30459770114948},{"$f":"Nuclear!$D$8","v":307.69444444444446},7.3830679999999997,128.94333333333336,102.95333333333333,96.433333333333337,7383068]
["2018-03-11",13,27.09,636,null,{"$f":"M1708","v":107.93666666666665},73.314999999999998,93.23,null,{"$f":"'Combined Cycle Gas'!$D$8","v":318.30459770114948},{"$f":"Nuclear!$D$8","v":307.69444444444446},7.1463780000000003,133.39333333333335,102.57000000000001,95.63,7146378]
["2018-03-11",14,27.37,486,null,{"$f":"M1709","v":95.576666666666668},69.365000000000009,93.96833333333332,null,{"$f":"'Combined Cycle Gas'!$D$8","v":318.30459770114948},{"$f":"Nuclear!$D$8","v":307.69444444444446},6.9151309999999997,136.32000000000002,105.48833333333334,83.864999999999995,6915131]
["2018-03-11",15,26.24,491,null,{"$f":"M1710","v":83.649999999999991},86.51166666666667,85.813333333333318,null,{"$f":"'Combined Cycle Gas'!$D$8","v":318.30459770114948},{"$f":"Nuclear!$D$8","v":307.69444444444446},6.9194979999999999,128.87666666666667,104.49,52.971666666666664,6919498]
["2018-03-11",16,27.89,360,null,{"$f":"M1711","v":91.265000000000001},87.836666666666659,92.196666666666673,null,{"$f":"'Combined Cycle Gas'!$D$8","v":318.30459770114948},{"$f":"Nuclear!$D$8","v":307.69444444444446},6.4732070000000004,124.85166666666667,102.62,84.976666666666674,6473207]
["2018-03-11",17,29.18,310,null,{"$f":"M1712","v":114.77333333333333},87.773333333333326,93.213333333333324,null,{"$f":"'Combined Cycle Gas'!$D$8","v":318.30459770114948},{"$f":"Nuclear!$D$8","v":307.69444444444446},5.448258,109.69166666666666,97.113333333333344,99.733333333333334,5448258]
["2018-03-11",18,28.74,450,null,{"$f":"M1713","v":125.70333333333333},85.161666666666676,95.964999999999989,null,{"$f":"'Combined Cycle Gas'!$D$8","v":318.30459770114948},{"$f":"Nuclear!$D$8","v":307.69444444444446},2.3062019999999999,110.84166666666665,87.798333333333332,95.125,2306202]
["2018-03-11",19,28.52,643,null,{"$f":"M1714","v":137.34},93.913333333333341,92.186666666666667,null,{"$f":"'Combined Cycle Gas'!$D$8","v":318.30459770114948},{"$f":"Nuclear!$D$8","v":307.69444444444446},0,107.93666666666665,73.314999999999998,93.23,0]
["2018-03-11",20,26.39,1425,null,{"$f":"M1715","v":140.41166666666666},97.37833333333333,93.336666666666659,null,{"$f":"'Combined Cycle Gas'!$D$8","v":318.30459770114948},{"$f":"Nuclear!$D$8","v":307.69444444444446},0,95.576666666666668,69.365000000000009,93.96833333333332,0]
["2018-03-11",21,27.1,1823,null,{"$f":"M1716","v":138.83500000000001},104.815,106.26499999999999,null,{"$f":"'Combined Cycle Gas'!$D$8","v":318.30459770114948},{"$f":"Nuclear!$D$8","v":307.69444444444446},0,83.649999999999991,86.51166666666667,85.813333333333318,0]
["2018-03-11",22,21.28,2293,null,{"$f":"M1717","v":138.00166666666664},106.74833333333333,107.47499999999998,null,{"$f":"'Combined Cycle Gas'!$D$8","v":318.30459770114948},{"$f":"Nuclear!$D$8","v":307.69444444444446},0,91.265000000000001,87.836666666666659,92.196666666666673,0]
["2018-03-11",23,16.25,2362,null,{"$f":"M1718","v":139.12166666666667},103.98166666666667,105.88833333333332,null,{"$f":"'Combined Cycle Gas'!$D$8","v":318.30459770114948},{"$f":"Nuclear!$D$8","v":307.69444444444446},0,114.77333333333333,87.773333333333326,93.213333333333324,0]
["2018-03-11",24,16.23,2377,null,{"$f":"M1719","v":133.49166666666667},106.79333333333334,99.031666666666652,null,{"$f":"'Combined Cycle Gas'!$D$8","v":318.30459770114948},{"$f":"Nuclear!$D$8","v":307.69444444444446},0,125.70333333333333,85.161666666666676,95.964999999999989,0]
["2018-03-12",1,16.23,2227,null,{"$f":"M1720","v":135.05500000000001},107.73833333333334,99.486666666666665,null,{"$f":"'Combined Cycle Gas'!$D$8","v":318.30459770114948},{"$f":"Nuclear!$D$8","v":307.69444444444446},0,137.34,93.913333333333341,92.186666666666667,0]
["2018-03-12",2,20.190000000000001,1956,null,{"$f":"M1721","v":137.51666666666665},105.90166666666666,103.88666666666667,null,{"$f":"'Combined Cycle Gas'!$D$8","v":318.30459770114948},{"$f":"Nuclear!$D$8","v":307.69444444444446},0,140.41166666666666,97.37833333333333,93.336666666666659,0]
["2018-03-12",3,23.63,1513,null,{"$f":"M1722","v":130.68333333333334},106.02833333333335,104.30000000000001,null,{"$f":"'Combined Cycle Gas'!$D$8","v":318.30459770114948},{"$f":"Nuclear!$D$8","v":307.69444444444446},0,138.83500000000001,104.815,106.26499999999999,0]
["2018-03-12",4,21.45,1591,null,{"$f":"M1723","v":127.92833333333333},105.06166666666667,105.62333333333333,null,{"$f":"'Combined Cycle Gas'!$D$8","v":318.30459770114948},{"$f":"Nuclear!$D$8","v":307.69444444444446},0,138.00166666666664,106.74833333333333,107.47499999999998,0]
["2018-03-12",5,16.23,2227,null,{"$f":"M1724","v":120.99166666666667},102.50833333333333,106.49166666666667,null,{"$f":"'Combined Cycle Gas'!$D$8","v":318.30459770114948},{"$f":"Nuclear!$D$8","v":307.69444444444446},0,139.12166666666667,103.98166666666667,105.88833333333332,0]
["2018-03-12",6,24.17,2667,null,{"$f":"M1725","v":110.855},98.928333333333342,104.00833333333334,null,{"$f":"'Combined Cycle Gas'!$D$8","v":318.30459770114948},{"$f":"Nuclear!$D$8","v":307.69444444444446},0,133.49166666666667,106.79333333333334,99.031666666666652,0]
["2018-03-12",7,42.41,2369,null,{"$f":"M1726","v":100.87},93.538333333333341,97.40333333333335,null,{"$f":"'Combined Cycle Gas'!$D$8","v":318.30459770114948},{"$f":"Nuclear!$D$8","v":307.69444444444446},0.13117400000000001,135.05500000000001,107.73833333333334,99.486666666666665,131174]
["2018-03-12",8,28.12,1629,null,{"$f":"M1727","v":91.966666666666654},93.848333333333343,97.915000000000006,null,{"$f":"'Combined Cycle Gas'!$D$8","v":318.30459770114948},{"$f":"Nuclear!$D$8","v":307.69444444444446},3.9934539999999998,137.51666666666665,105.90166666666666,103.88666666666667,3993454]
["2018-03-12",9,24.93,1629,null,{"$f":"M1728","v":87.240000000000009},92.515000000000001,96.733333333333348,null,{"$f":"'Combined Cycle Gas'!$D$8","v":318.30459770114948},{"$f":"Nuclear!$D$8","v":307.69444444444446},6.1851479999999999,130.68333333333334,106.02833333333335,104.30000000000001,6185148]
["2018-03-12",10,26.07,2363,null,{"$f":"M1729","v":74.416666666666671},85.089999999999989,83.768333333333331,null,{"$f":"'Combined Cycle Gas'!$D$8","v":318.30459770114948},{"$f":"Nuclear!$D$8","v":307.69444444444446},7.1287060000000002,127.92833333333333,105.06166666666667,105.62333333333333,7128706]
["2018-03-12",11,23.72,3012,null,{"$f":"M1730","v":55.99},76.459999999999994,75.06,null,{"$f":"'Combined Cycle Gas'!$D$8","v":318.30459770114948},{"$f":"Nuclear!$D$8","v":307.69444444444446},7.48163,120.99166666666667,102.50833333333333,106.49166666666667,7481630]
["2018-03-12",12,24.38,3012,null,{"$f":"M1731","v":72.721666666666664},84.63000000000001,63.978333333333332,null,{"$f":"'Combined Cycle Gas'!$D$8","v":318.30459770114948},{"$f":"Nuclear!$D$8","v":307.69444444444446},7.5728169999999997,110.855,98.928333333333342,104.00833333333334,7572817]
["2018-03-12",13,21.26,3012,null,{"$f":"M1732","v":52.823333333333331},73.213333333333324,53.428333333333335,null,{"$f":"'Combined Cycle Gas'!$D$8","v":318.30459770114948},{"$f":"Nuclear!$D$8","v":307.69444444444446},7.3337490000000001,100.87,93.538333333333341,97.40333333333335,7333749]
["2018-03-12",14,24.52,3012,null,{"$f":"M1733","v":73.303333333333342},79.930000000000007,44.838333333333331,null,{"$f":"'Combined Cycle Gas'!$D$8","v":318.30459770114948},{"$f":"Nuclear!$D$8","v":307.69444444444446},7.4534500000000001,91.966666666666654,93.848333333333343,97.915000000000006,7453450]
["2018-03-12",15,20.09,3012,null,{"$f":"M1734","v":103.34666666666668},92.605000000000004,62.513333333333343,null,{"$f":"'Combined Cycle Gas'!$D$8","v":318.30459770114948},{"$f":"Nuclear!$D$8","v":307.69444444444446},7.0270469999999996,87.240000000000009,92.515000000000001,96.733333333333348,7027047]
["2018-03-12",16,23.43,3012,null,{"$f":"M1735","v":92.804999999999993},81.686666666666667,83.254999999999995,null,{"$f":"'Combined Cycle Gas'!$D$8","v":318.30459770114948},{"$f":"Nuclear!$D$8","v":307.69444444444446},6.3619880000000002,74.416666666666671,85.089999999999989,83.768333333333331,6361988]
["2018-03-12",17,24.99,3012,null,{"$f":"M1736","v":95.161666666666648},96.143333333333331,86.648333333333326,null,{"$f":"'Combined Cycle Gas'!$D$8","v":318.30459770114948},{"$f":"Nuclear!$D$8","v":307.69444444444446},4.6930800000000001,55.99,76.459999999999994,75.06,4693080]
["2018-03-12",18,22.46,3013,null,{"$f":"M1737","v":102.89166666666667},96.256666666666675,84.48,null,{"$f":"'Combined Cycle Gas'!$D$8","v":318.30459770114948},{"$f":"Nuclear!$D$8","v":307.69444444444446},1.467357,72.721666666666664,84.63000000000001,63.978333333333332,1467357]
["2018-03-12",19,24.14,3013,null,{"$f":"M1738","v":121.80833333333334},94.564999999999998,88,null,{"$f":"'Combined Cycle Gas'!$D$8","v":318.30459770114948},{"$f":"Nuclear!$D$8","v":307.69444444444446},0,52.823333333333331,73.213333333333324,53.428333333333335,0]
["2018-03-12",20,22.11,3013,null,{"$f":"M1739","v":132.50666666666666},99.276666666666657,89.598333333333315,null,{"$f":"'Combined Cycle Gas'!$D$8","v":318.30459770114948},{"$f":"Nuclear!$D$8","v":307.69444444444446},0,73.303333333333342,79.930000000000007,44.838333333333331,0]
["2018-03-12",21,23.85,3011,null,{"$f":"M1740","v":129.76499999999999},93.303333333333342,96.77500000000002,null,{"$f":"'Combined Cycle Gas'!$D$8","v":318.30459770114948},{"$f":"Nuclear!$D$8","v":307.69444444444446},0,103.34666666666668,92.605000000000004,62.513333333333343,0]
["2018-03-12",22,26.04,2118,null,{"$f":"M1741","v":127.455},95.29,99.786666666666676,null,{"$f":"'Combined Cycle Gas'!$D$8","v":318.30459770114948},{"$f":"Nuclear!$D$8","v":307.69444444444446},0,92.804999999999993,81.686666666666667,83.254999999999995,0]
["2018-03-12",23,26.22,2219,null,{"$f":"M1742","v":128.12333333333331},99.296666666666667,99.015000000000001,null,{"$f":"'Combined Cycle Gas'!$D$8","v":318.30459770114948},{"$f":"Nuclear!$D$8","v":307.69444444444446},0,95.161666666666648,96.143333333333331,86.648333333333326,0]
["2018-03-12",24,2.27,2929,null,{"$f":"M1743","v":132.36166666666668},99.503333333333345,99.026666666666657,null,{"$f":"'Combined Cycle Gas'!$D$8","v":318.30459770114948},{"$f":"Nuclear!$D$8","v":307.69444444444446},0,102.89166666666667,96.256666666666675,84.48,0]
["2018-03-13",1,3.92,2712,null,{"$f":"M1744","v":130.32500000000002},98.185000000000002,96.839999999999989,null,{"$f":"'Combined Cycle Gas'!$D$8","v":318.30459770114948},{"$f":"Nuclear!$D$8","v":307.69444444444446},0,121.80833333333334,94.564999999999998,88,0]
["2018-03-13",2,4.09,2345,null,{"$f":"M1745","v":128.37333333333333},96.763333333333321,94.793333333333337,null,{"$f":"'Combined Cycle Gas'!$D$8","v":318.30459770114948},{"$f":"Nuclear!$D$8","v":307.69444444444446},0,132.50666666666666,99.276666666666657,89.598333333333315,0]
["2018-03-13",3,16.149999999999999,1941,null,{"$f":"M1746","v":130.60166666666666},96.12833333333333,96.393333333333317,null,{"$f":"'Combined Cycle Gas'!$D$8","v":318.30459770114948},{"$f":"Nuclear!$D$8","v":307.69444444444446},0,129.76499999999999,93.303333333333342,96.77500000000002,0]
["2018-03-13",4,21.45,1562,null,{"$f":"M1747","v":132.98333333333332},98.606666666666669,103.04000000000002,null,{"$f":"'Combined Cycle Gas'!$D$8","v":318.30459770114948},{"$f":"Nuclear!$D$8","v":307.69444444444446},0,127.455,95.29,99.786666666666676,0]
["2018-03-13",5,23.62,1413,null,{"$f":"M1748","v":128.12},98.498333333333335,102.58166666666666,null,{"$f":"'Combined Cycle Gas'!$D$8","v":318.30459770114948},{"$f":"Nuclear!$D$8","v":307.69444444444446},0,128.12333333333331,99.296666666666667,99.015000000000001,0]
["2018-03-13",6,27.17,1412,null,{"$f":"M1749","v":129.19666666666663},97.411666666666676,101.13166666666667,null,{"$f":"'Combined Cycle Gas'!$D$8","v":318.30459770114948},{"$f":"Nuclear!$D$8","v":307.69444444444446},0,132.36166666666668,99.503333333333345,99.026666666666657,0]
["2018-03-13",7,45.87,768,null,{"$f":"M1750","v":125.08833333333332},93.839999999999989,96.304999999999993,null,{"$f":"'Combined Cycle Gas'!$D$8","v":318.30459770114948},{"$f":"Nuclear!$D$8","v":307.69444444444446},0.190328,130.32500000000002,98.185000000000002,96.839999999999989,190328]
["2018-03-13",8,40.880000000000003,216,null,{"$f":"M1751","v":123.60833333333335},93.836666666666659,89.735000000000014,null,{"$f":"'Combined Cycle Gas'!$D$8","v":318.30459770114948},{"$f":"Nuclear!$D$8","v":307.69444444444446},3.9639199999999999,128.37333333333333,96.763333333333321,94.793333333333337,3963920]
["2018-03-13",9,27.09,0,null,{"$f":"M1752","v":119.93},93.818333333333328,87.988333333333344,null,{"$f":"'Combined Cycle Gas'!$D$8","v":318.30459770114948},{"$f":"Nuclear!$D$8","v":307.69444444444446},6.1832989999999999,130.60166666666666,96.12833333333333,96.393333333333317,6183299]
["2018-03-13",10,28.36,0,null,{"$f":"M1753","v":119.96499999999999},97.221666666666678,86.795000000000016,null,{"$f":"'Combined Cycle Gas'!$D$8","v":318.30459770114948},{"$f":"Nuclear!$D$8","v":307.69444444444446},6.7541419999999999,132.98333333333332,98.606666666666669,103.04000000000002,6754142]
["2018-03-13",11,27.5,0,null,{"$f":"M1754","v":102.30666666666667},96.511666666666656,86.12833333333333,null,{"$f":"'Combined Cycle Gas'!$D$8","v":318.30459770114948},{"$f":"Nuclear!$D$8","v":307.69444444444446},7.05687,128.12,98.498333333333335,102.58166666666666,7056870]
["2018-03-13",12,27.18,218,null,{"$f":"M1755","v":110.47333333333334},97.861666666666665,83.626666666666651,null,{"$f":"'Combined Cycle Gas'!$D$8","v":318.30459770114948},{"$f":"Nuclear!$D$8","v":307.69444444444446},7.0477809999999996,129.19666666666663,97.411666666666676,101.13166666666667,7047781]
["2018-03-13",13,21.37,1303,null,{"$f":"M1756","v":114.66333333333334},99.00500000000001,82.106666666666669,null,{"$f":"'Combined Cycle Gas'!$D$8","v":318.30459770114948},{"$f":"Nuclear!$D$8","v":307.69444444444446},6.7710650000000001,125.08833333333332,93.839999999999989,96.304999999999993,6771065]
["2018-03-13",14,21.88,2171,null,{"$f":"M1757","v":122.69833333333334},101.61833333333334,94.328333333333333,null,{"$f":"'Combined Cycle Gas'!$D$8","v":318.30459770114948},{"$f":"Nuclear!$D$8","v":307.69444444444446},4.2491099999999999,123.60833333333335,93.836666666666659,89.735000000000014,4249110]
["2018-03-13",15,19.29,2963,null,{"$f":"M1758","v":129.94499999999999},101.25,97.679999999999993,null,{"$f":"'Combined Cycle Gas'!$D$8","v":318.30459770114948},{"$f":"Nuclear!$D$8","v":307.69444444444446},4.3475539999999997,119.93,93.818333333333328,87.988333333333344,4347554]
["2018-03-13",16,22,3011,null,{"$f":"M1759","v":131.245},100.24,98.761666666666656,null,{"$f":"'Combined Cycle Gas'!$D$8","v":318.30459770114948},{"$f":"Nuclear!$D$8","v":307.69444444444446},1.907287,119.96499999999999,97.221666666666678,86.795000000000016,1907287]
["2018-03-13",17,22.43,3012,null,{"$f":"M1760","v":131.8233333333333},99.936666666666667,98.804999999999993,null,{"$f":"'Combined Cycle Gas'!$D$8","v":318.30459770114948},{"$f":"Nuclear!$D$8","v":307.69444444444446},0.93147500000000005,102.30666666666667,96.511666666666656,86.12833333333333,931475]
["2018-03-13",18,22.42,3013,null,{"$f":"M1761","v":133.19999999999999},97.913333333333341,96.149999999999991,null,{"$f":"'Combined Cycle Gas'!$D$8","v":318.30459770114948},{"$f":"Nuclear!$D$8","v":307.69444444444446},1.22E-4,110.47333333333334,97.861666666666665,83.626666666666651,122]
["2018-03-13",19,21.65,3018,null,{"$f":"M1762","v":134.88333333333333},99.418333333333337,93.463333333333324,null,{"$f":"'Combined Cycle Gas'!$D$8","v":318.30459770114948},{"$f":"Nuclear!$D$8","v":307.69444444444446},0,114.66333333333334,99.00500000000001,82.106666666666669,0]
["2018-03-13",20,19.87,3013,null,{"$f":"M1763","v":137.26500000000001},95.388333333333321,94.168333333333337,null,{"$f":"'Combined Cycle Gas'!$D$8","v":318.30459770114948},{"$f":"Nuclear!$D$8","v":307.69444444444446},0,122.69833333333334,101.61833333333334,94.328333333333333,0]
["2018-03-13",21,21.12,2956,null,{"$f":"M1764","v":135.84666666666666},94.243333333333339,86.168333333333337,null,{"$f":"'Combined Cycle Gas'!$D$8","v":318.30459770114948},{"$f":"Nuclear!$D$8","v":307.69444444444446},0,129.94499999999999,101.25,97.679999999999993,0]
["2018-03-13",22,24.42,3020,null,{"$f":"M1765","v":130.11166666666671},87.973333333333343,93.944999999999993,null,{"$f":"'Combined Cycle Gas'!$D$8","v":318.30459770114948},{"$f":"Nuclear!$D$8","v":307.69444444444446},0,131.245,100.24,98.761666666666656,0]
["2018-03-13",23,21.53,3246,null,{"$f":"M1766","v":98.62833333333333},69.828333333333333,92.273333333333326,null,{"$f":"'Combined Cycle Gas'!$D$8","v":318.30459770114948},{"$f":"Nuclear!$D$8","v":307.69444444444446},0,131.8233333333333,99.936666666666667,98.804999999999993,0]
["2018-03-13",24,5.26,3013,null,{"$f":"M1767","v":102.01},66.92,83.38,null,{"$f":"'Combined Cycle Gas'!$D$8","v":318.30459770114948},{"$f":"Nuclear!$D$8","v":307.69444444444446},0,133.19999999999999,97.913333333333341,96.149999999999991,0]
["2018-03-14",1,21.28,2877,null,{"$f":"M1768","v":110.92833333333333},70.288333333333341,73.166666666666671,null,{"$f":"'Combined Cycle Gas'!$D$8","v":318.30459770114948},{"$f":"Nuclear!$D$8","v":307.69444444444446},0,134.88333333333333,99.418333333333337,93.463333333333324,0]
["2018-03-14",2,16.23,2936,null,{"$f":"M1769","v":100.60000000000001},81.968333333333348,72.453333333333333,null,{"$f":"'Combined Cycle Gas'!$D$8","v":318.30459770114948},{"$f":"Nuclear!$D$8","v":307.69444444444446},{"$f":"P1763/10^6","v":0},137.26500000000001,95.388333333333321,94.168333333333337,0]
["2018-03-14",3,20.440000000000001,2959,null,{"$f":"M1770","v":114.54666666666667},81.908333333333331,57.429999999999986,null,{"$f":"'Combined Cycle Gas'!$D$8","v":318.30459770114948},{"$f":"Nuclear!$D$8","v":307.69444444444446},0,135.84666666666666,94.243333333333339,86.168333333333337,0]
["2018-03-14",4,21.98,3048,null,{"$f":"M1771","v":102.38833333333334},65.053333333333342,41.23,null,{"$f":"'Combined Cycle Gas'!$D$8","v":318.30459770114948},{"$f":"Nuclear!$D$8","v":307.69444444444446},0,130.11166666666671,87.973333333333343,93.944999999999993,0]
["2018-03-14",5,23.68,3047,null,{"$f":"M1772","v":59.161666666666669},34.583333333333336,26.771666666666672,null,{"$f":"'Combined Cycle Gas'!$D$8","v":318.30459770114948},{"$f":"Nuclear!$D$8","v":307.69444444444446},0,98.62833333333333,69.828333333333333,92.273333333333326,0]
["2018-03-14",6,27.19,3299,null,{"$f":"M1773","v":26.686666666666667},15.271666666666667,23.51,null,{"$f":"'Combined Cycle Gas'!$D$8","v":318.30459770114948},{"$f":"Nuclear!$D$8","v":307.69444444444446},0,102.01,66.92,83.38,0]
["2018-03-14",7,35.21,3255,null,{"$f":"M1774","v":18.458333333333336},12.481666666666667,19.98,null,{"$f":"'Combined Cycle Gas'!$D$8","v":318.30459770114948},{"$f":"Nuclear!$D$8","v":307.69444444444446},0,110.92833333333333,70.288333333333341,73.166666666666671,0]
["2018-03-14",8,27.22,3013,null,{"$f":"M1775","v":18.885000000000002},12.188333333333334,18.649999999999999,null,{"$f":"'Combined Cycle Gas'!$D$8","v":318.30459770114948},{"$f":"Nuclear!$D$8","v":307.69444444444446},3.1838999999999999E-2,100.60000000000001,81.968333333333348,72.453333333333333,31839]
["2018-03-14",9,25.89,3012,null,{"$f":"M1776","v":25.368333333333329},14.606666666666664,15.761666666666665,null,{"$f":"'Combined Cycle Gas'!$D$8","v":318.30459770114948},{"$f":"Nuclear!$D$8","v":307.69444444444446},1.0521929999999999,114.54666666666667,81.908333333333331,57.429999999999986,1052193]
["2018-03-14",10,27,3012,null,{"$f":"M1777","v":25.551666666666666},16.166666666666668,18.738333333333333,null,{"$f":"'Combined Cycle Gas'!$D$8","v":318.30459770114948},{"$f":"Nuclear!$D$8","v":307.69444444444446},1.6626700000000001,102.38833333333334,65.053333333333342,41.23,1662670]
["2018-03-14",11,25.87,3012,null,{"$f":"M1778","v":30.668333333333333},21.536666666666665,27.019999999999996,null,{"$f":"'Combined Cycle Gas'!$D$8","v":318.30459770114948},{"$f":"Nuclear!$D$8","v":307.69444444444446},1.8460399999999999,59.161666666666669,34.583333333333336,26.771666666666672,1846040]
["2018-03-14",12,25.82,3012,null,{"$f":"M1779","v":51.088333333333331},30.349999999999998,45.681666666666665,null,{"$f":"'Combined Cycle Gas'!$D$8","v":318.30459770114948},{"$f":"Nuclear!$D$8","v":307.69444444444446},4.9997480000000003,26.686666666666667,15.271666666666667,23.51,4999748]
["2018-03-14",13,26.06,3012,null,{"$f":"M1780","v":54.266666666666673},37.225000000000001,50.485000000000007,null,{"$f":"'Combined Cycle Gas'!$D$8","v":318.30459770114948},{"$f":"Nuclear!$D$8","v":307.69444444444446},4.7478590000000001,18.458333333333336,12.481666666666667,19.98,4747859]
["2018-03-14",14,26.06,3012,null,{"$f":"M1781","v":56.148333333333341},31.146666666666665,53.57833333333334,null,{"$f":"'Combined Cycle Gas'!$D$8","v":318.30459770114948},{"$f":"Nuclear!$D$8","v":307.69444444444446},3.8567779999999998,18.885000000000002,12.188333333333334,18.649999999999999,3856778]
["2018-03-14",15,26.06,3012,null,{"$f":"M1782","v":54.656666666666666},56.608333333333327,62.183333333333337,null,{"$f":"'Combined Cycle Gas'!$D$8","v":318.30459770114948},{"$f":"Nuclear!$D$8","v":307.69444444444446},1.9248639999999999,25.368333333333329,14.606666666666664,15.761666666666665,1924864]
["2018-03-14",16,27.12,3033,null,{"$f":"M1783","v":59.294999999999995},46.966666666666669,67.614999999999995,null,{"$f":"'Combined Cycle Gas'!$D$8","v":318.30459770114948},{"$f":"Nuclear!$D$8","v":307.69444444444446},0.130662,25.551666666666666,16.166666666666668,18.738333333333333,130662]
["2018-03-14",17,27.59,3025,null,{"$f":"M1784","v":48.145000000000003},47.793333333333329,61.554999999999986,null,{"$f":"'Combined Cycle Gas'!$D$8","v":318.30459770114948},{"$f":"Nuclear!$D$8","v":307.69444444444446},7.0210000000000003E-3,30.668333333333333,21.536666666666665,27.019999999999996,7021]
["2018-03-14",18,26.84,3013,null,{"$f":"M1785","v":32.04},36.898333333333333,61.405000000000001,null,{"$f":"'Combined Cycle Gas'!$D$8","v":318.30459770114948},{"$f":"Nuclear!$D$8","v":307.69444444444446},0,51.088333333333331,30.349999999999998,45.681666666666665,0]
["2018-03-14",19,26.88,3013,null,{"$f":"M1786","v":21.106666666666669},24.311666666666667,67.523333333333326,null,{"$f":"'Combined Cycle Gas'!$D$8","v":318.30459770114948},{"$f":"Nuclear!$D$8","v":307.69444444444446},0,54.266666666666673,37.225000000000001,50.485000000000007,0]
["2018-03-14",20,25.38,3013,null,{"$f":"M1787","v":18.826666666666664},22.966666666666669,71.515000000000001,null,{"$f":"'Combined Cycle Gas'!$D$8","v":318.30459770114948},{"$f":"Nuclear!$D$8","v":307.69444444444446},0,56.148333333333341,31.146666666666665,53.57833333333334,0]
["2018-03-14",21,25.89,3013,null,{"$f":"M1788","v":17.243333333333336},20.41,70.043333333333337,null,{"$f":"'Combined Cycle Gas'!$D$8","v":318.30459770114948},{"$f":"Nuclear!$D$8","v":307.69444444444446},0,54.656666666666666,56.608333333333327,62.183333333333337,0]
["2018-03-14",22,27.24,3086,null,{"$f":"M1789","v":26.850000000000005},18.526666666666667,51.708333333333336,null,{"$f":"'Combined Cycle Gas'!$D$8","v":318.30459770114948},{"$f":"Nuclear!$D$8","v":307.69444444444446},0,59.294999999999995,46.966666666666669,67.614999999999995,0]
["2018-03-14",23,27.42,3163,null,{"$f":"M1790","v":52.230000000000011},17.84333333333333,54.06666666666667,null,{"$f":"'Combined Cycle Gas'!$D$8","v":318.30459770114948},{"$f":"Nuclear!$D$8","v":307.69444444444446},0,48.145000000000003,47.793333333333329,61.554999999999986,0]
["2018-03-14",24,24.61,2765,null,{"$f":"M1791","v":39.928333333333335},15.908333333333331,57.78,null,{"$f":"'Combined Cycle Gas'!$D$8","v":318.30459770114948},{"$f":"Nuclear!$D$8","v":307.69444444444446},0,32.04,36.898333333333333,61.405000000000001,0]
["2018-03-15",1,24.93,1939,null,{"$f":"M1792","v":36.553333333333335},26.450000000000003,60.284999999999997,null,{"$f":"'Combined Cycle Gas'!$D$8","v":318.30459770114948},{"$f":"Nuclear!$D$8","v":307.69444444444446},0,21.106666666666669,24.311666666666667,67.523333333333326,0]
["2018-03-15",2,24.93,1612,null,{"$f":"M1793","v":34.048333333333339},26.02,60.936666666666667,null,{"$f":"'Combined Cycle Gas'!$D$8","v":318.30459770114948},{"$f":"Nuclear!$D$8","v":307.69444444444446},0,18.826666666666664,22.966666666666669,71.515000000000001,0]
["2018-03-15",3,24.93,1463,null,{"$f":"M1794","v":29.89},26.158333333333331,59.69,null,{"$f":"'Combined Cycle Gas'!$D$8","v":318.30459770114948},{"$f":"Nuclear!$D$8","v":307.69444444444446},0,17.243333333333336,20.41,70.043333333333337,0]
["2018-03-15",4,23.26,1550,null,{"$f":"M1795","v":25.491666666666671},32.848333333333336,46.354999999999997,null,{"$f":"'Combined Cycle Gas'!$D$8","v":318.30459770114948},{"$f":"Nuclear!$D$8","v":307.69444444444446},0,26.850000000000005,18.526666666666667,51.708333333333336,0]
["2018-03-15",5,25.88,1425,null,{"$f":"M1796","v":26.583333333333332},46.086666666666666,38.318333333333335,null,{"$f":"'Combined Cycle Gas'!$D$8","v":318.30459770114948},{"$f":"Nuclear!$D$8","v":307.69444444444446},0,52.230000000000011,17.84333333333333,54.06666666666667,0]
["2018-03-15",6,29.86,1267,null,{"$f":"M1797","v":30.183333333333334},49.178333333333335,40.453333333333333,null,{"$f":"'Combined Cycle Gas'!$D$8","v":318.30459770114948},{"$f":"Nuclear!$D$8","v":307.69444444444446},0,39.928333333333335,15.908333333333331,57.78,0]
["2018-03-15",7,36.1,1441,null,{"$f":"M1798","v":18.838333333333335},30.906666666666666,24.3,null,{"$f":"'Combined Cycle Gas'!$D$8","v":318.30459770114948},{"$f":"Nuclear!$D$8","v":307.69444444444446},1.322695,36.553333333333335,26.450000000000003,60.284999999999997,1322695]
["2018-03-15",8,39.86,921,null,{"$f":"M1799","v":16.648333333333333},19.118333333333336,15.211666666666666,null,{"$f":"'Combined Cycle Gas'!$D$8","v":318.30459770114948},{"$f":"Nuclear!$D$8","v":307.69444444444446},5.4271430000000001,34.048333333333339,26.02,60.936666666666667,5427143]
["2018-03-15",9,30.3,154,null,{"$f":"M1800","v":16.61},12.275,14.878333333333332,null,{"$f":"'Combined Cycle Gas'!$D$8","v":318.30459770114948},{"$f":"Nuclear!$D$8","v":307.69444444444446},7.0312970000000004,29.89,26.158333333333331,59.69,7031297]
["2018-03-15",10,29.85,397,null,{"$f":"M1801","v":16.643333333333334},12.270000000000001,15.111666666666666,null,{"$f":"'Combined Cycle Gas'!$D$8","v":318.30459770114948},{"$f":"Nuclear!$D$8","v":307.69444444444446},7.6603329999999996,25.491666666666671,32.848333333333336,46.354999999999997,7660333]
["2018-03-15",11,31.55,139,null,{"$f":"M1802","v":17.126666666666669},13.031666666666666,17.77,null,{"$f":"'Combined Cycle Gas'!$D$8","v":318.30459770114948},{"$f":"Nuclear!$D$8","v":307.69444444444446},7.8046369999999996,26.583333333333332,46.086666666666666,38.318333333333335,7804637]
["2018-03-15",12,37.39,0,null,{"$f":"M1803","v":17.581666666666667},18.88,29.61333333333333,null,{"$f":"'Combined Cycle Gas'!$D$8","v":318.30459770114948},{"$f":"Nuclear!$D$8","v":307.69444444444446},7.8162919999999998,30.183333333333334,49.178333333333335,40.453333333333333,7816292]
["2018-03-15",13,32.880000000000003,0,null,{"$f":"M1804","v":17.87},20.51,39.919999999999995,null,{"$f":"'Combined Cycle Gas'!$D$8","v":318.30459770114948},{"$f":"Nuclear!$D$8","v":307.69444444444446},7.7128629999999996,18.838333333333335,30.906666666666666,24.3,7712863]
["2018-03-15",14,31.81,0,null,{"$f":"M1805","v":17.635000000000002},17.846666666666668,27.136666666666667,null,{"$f":"'Combined Cycle Gas'!$D$8","v":318.30459770114948},{"$f":"Nuclear!$D$8","v":307.69444444444446},7.6885919999999999,16.648333333333333,19.118333333333336,15.211666666666666,7688592]
["2018-03-15",15,31.99,0,null,{"$f":"M1806","v":17.688333333333333},13.155000000000001,29.268333333333334,null,{"$f":"'Combined Cycle Gas'!$D$8","v":318.30459770114948},{"$f":"Nuclear!$D$8","v":307.69444444444446},7.634277,16.61,12.275,14.878333333333332,7634277]
["2018-03-15",16,40.97,0,null,{"$f":"M1807","v":17.113333333333333},12.435000000000002,22.504999999999995,null,{"$f":"'Combined Cycle Gas'!$D$8","v":318.30459770114948},{"$f":"Nuclear!$D$8","v":307.69444444444446},7.072527,16.643333333333334,12.270000000000001,15.111666666666666,7072527]
["2018-03-15",17,40.92,0,null,{"$f":"M1808","v":16.91333333333333},12.118333333333332,17.765000000000001,null,{"$f":"'Combined Cycle Gas'!$D$8","v":318.30459770114948},{"$f":"Nuclear!$D$8","v":307.69444444444446},5.8997539999999997,17.126666666666669,13.031666666666666,17.77,5899754]
["2018-03-15",18,49.11,25,null,{"$f":"M1809","v":16.941666666666666},11.87,13.878333333333332,null,{"$f":"'Combined Cycle Gas'!$D$8","v":318.30459770114948},{"$f":"Nuclear!$D$8","v":307.69444444444446},3.1171730000000002,17.581666666666667,18.88,29.61333333333333,3117173]
["2018-03-15",19,49.2,8,null,{"$f":"M1810","v":16.775000000000002},15.025,22.504999999999999,null,{"$f":"'Combined Cycle Gas'!$D$8","v":318.30459770114948},{"$f":"Nuclear!$D$8","v":307.69444444444446},0,17.87,20.51,39.919999999999995,0]
["2018-03-15",20,38.840000000000003,0,null,{"$f":"M1811","v":20.59},16.333333333333332,20.413333333333334,null,{"$f":"'Combined Cycle Gas'!$D$8","v":318.30459770114948},{"$f":"Nuclear!$D$8","v":307.69444444444446},0,17.635000000000002,17.846666666666668,27.136666666666667,0]
["2018-03-15",21,39.07,0,null,{"$f":"M1812","v":22.599999999999998},13.616666666666665,13.326666666666666,null,{"$f":"'Combined Cycle Gas'!$D$8","v":318.30459770114948},{"$f":"Nuclear!$D$8","v":307.69444444444446},0,17.688333333333333,13.155000000000001,29.268333333333334,0]
["2018-03-15",22,41.99,128,null,{"$f":"M1813","v":20.778333333333332},12.438333333333334,13.164999999999999,null,{"$f":"'Combined Cycle Gas'!$D$8","v":318.30459770114948},{"$f":"Nuclear!$D$8","v":307.69444444444446},0,17.113333333333333,12.435000000000002,22.504999999999995,0]
["2018-03-15",23,38.450000000000003,193,null,{"$f":"M1814","v":23.189999999999998},16.361666666666668,13.074999999999998,null,{"$f":"'Combined Cycle Gas'!$D$8","v":318.30459770114948},{"$f":"Nuclear!$D$8","v":307.69444444444446},0,16.91333333333333,12.118333333333332,17.765000000000001,0]
["2018-03-15",24,28.74,188,null,{"$f":"M1815","v":23.71166666666667},19.406666666666666,13.061666666666667,null,{"$f":"'Combined Cycle Gas'!$D$8","v":318.30459770114948},{"$f":"Nuclear!$D$8","v":307.69444444444446},0,16.941666666666666,11.87,13.878333333333332,0]
["2018-03-16",1,27.12,456,null,{"$f":"M1816","v":29.294999999999998},22.37,12.951666666666666,null,{"$f":"'Combined Cycle Gas'!$D$8","v":318.30459770114948},{"$f":"Nuclear!$D$8","v":307.69444444444446},0,16.775000000000002,15.025,22.504999999999999,0]
["2018-03-16",2,25.89,761,null,{"$f":"M1817","v":32.661666666666669},23.396666666666665,13.205,null,{"$f":"'Combined Cycle Gas'!$D$8","v":318.30459770114948},{"$f":"Nuclear!$D$8","v":307.69444444444446},0,20.59,16.333333333333332,20.413333333333334,0]
["2018-03-16",3,20.78,1198,null,{"$f":"M1818","v":43.776666666666671},27.838333333333328,13.398333333333333,null,{"$f":"'Combined Cycle Gas'!$D$8","v":318.30459770114948},{"$f":"Nuclear!$D$8","v":307.69444444444446},0,22.599999999999998,13.616666666666665,13.326666666666666,0]
["2018-03-16",4,21.54,2097,null,{"$f":"M1819","v":51.854999999999997},29.635000000000002,13.158333333333333,null,{"$f":"'Combined Cycle Gas'!$D$8","v":318.30459770114948},{"$f":"Nuclear!$D$8","v":307.69444444444446},0,20.778333333333332,12.438333333333334,13.164999999999999,0]
["2018-03-16",5,24.17,2620,null,{"$f":"M1820","v":50.308333333333337},29.561666666666667,13.98666666666667,null,{"$f":"'Combined Cycle Gas'!$D$8","v":318.30459770114948},{"$f":"Nuclear!$D$8","v":307.69444444444446},0,23.189999999999998,16.361666666666668,13.074999999999998,0]
["2018-03-16",6,28.82,2777,null,{"$f":"M1821","v":56.106666666666662},36.68,19.068333333333332,null,{"$f":"'Combined Cycle Gas'!$D$8","v":318.30459770114948},{"$f":"Nuclear!$D$8","v":307.69444444444446},0,23.71166666666667,19.406666666666666,13.061666666666667,0]
["2018-03-16",7,33.369999999999997,1852,null,{"$f":"M1822","v":59.528333333333329},38.823333333333331,28.794999999999998,null,{"$f":"'Combined Cycle Gas'!$D$8","v":318.30459770114948},{"$f":"Nuclear!$D$8","v":307.69444444444446},2.026796,29.294999999999998,22.37,12.951666666666666,2026796]
["2018-03-16",8,37.31,1163,null,{"$f":"M1823","v":64.493333333333339},43.353333333333332,42.886666666666663,null,{"$f":"'Combined Cycle Gas'!$D$8","v":318.30459770114948},{"$f":"Nuclear!$D$8","v":307.69444444444446},5.3563020000000003,32.661666666666669,23.396666666666665,13.205,5356302]
["2018-03-16",9,38.75,553,null,{"$f":"M1824","v":65.601666666666674},57.646666666666668,42.573333333333331,null,{"$f":"'Combined Cycle Gas'!$D$8","v":318.30459770114948},{"$f":"Nuclear!$D$8","v":307.69444444444446},6.8847079999999998,43.776666666666671,27.838333333333328,13.398333333333333,6884708]
["2018-03-16",10,39.119999999999997,276,null,{"$f":"M1825","v":57.738333333333337},58.363333333333337,47.611666666666672,null,{"$f":"'Combined Cycle Gas'!$D$8","v":318.30459770114948},{"$f":"Nuclear!$D$8","v":307.69444444444446},7.4768780000000001,51.854999999999997,29.635000000000002,13.158333333333333,7476878]
["2018-03-16",11,48.98,699,null,{"$f":"M1826","v":55.829999999999991},56.638333333333343,41.458333333333336,null,{"$f":"'Combined Cycle Gas'!$D$8","v":318.30459770114948},{"$f":"Nuclear!$D$8","v":307.69444444444446},7.6302459999999996,50.308333333333337,29.561666666666667,13.98666666666667,7630246]
["2018-03-16",12,48.97,534,null,{"$f":"M1827","v":50.44},61.651666666666664,42.016666666666673,null,{"$f":"'Combined Cycle Gas'!$D$8","v":318.30459770114948},{"$f":"Nuclear!$D$8","v":307.69444444444446},7.7001939999999998,56.106666666666662,36.68,19.068333333333332,7700194]
["2018-03-16",13,48.98,302,null,{"$f":"M1828","v":44.77},72.421666666666667,43.523333333333341,null,{"$f":"'Combined Cycle Gas'!$D$8","v":318.30459770114948},{"$f":"Nuclear!$D$8","v":307.69444444444446},7.6681220000000003,59.528333333333329,38.823333333333331,28.794999999999998,7668122]
["2018-03-16",14,42.42,146,null,{"$f":"M1829","v":50.955000000000005},84.506666666666675,45.811666666666667,null,{"$f":"'Combined Cycle Gas'!$D$8","v":318.30459770114948},{"$f":"Nuclear!$D$8","v":307.69444444444446},7.5471089999999998,64.493333333333339,43.353333333333332,42.886666666666663,7547109]
["2018-03-16",15,42.46,90,null,{"$f":"M1830","v":55.523333333333341},95.976666666666674,54.526666666666664,null,{"$f":"'Combined Cycle Gas'!$D$8","v":318.30459770114948},{"$f":"Nuclear!$D$8","v":307.69444444444446},7.3455919999999999,65.601666666666674,57.646666666666668,42.573333333333331,7345592]
["2018-03-16",16,41.12,200,null,{"$f":"M1831","v":57.274999999999999},108.005,64.899999999999991,null,{"$f":"'Combined Cycle Gas'!$D$8","v":318.30459770114948},{"$f":"Nuclear!$D$8","v":307.69444444444446},6.9349379999999998,57.738333333333337,58.363333333333337,47.611666666666672,6934938]
["2018-03-16",17,38.729999999999997,262,null,{"$f":"M1832","v":63.136666666666663},108.87166666666667,82.978333333333339,null,{"$f":"'Combined Cycle Gas'!$D$8","v":318.30459770114948},{"$f":"Nuclear!$D$8","v":307.69444444444446},5.7829110000000004,55.829999999999991,56.638333333333343,41.458333333333336,5782911]
["2018-03-16",18,38.840000000000003,378,null,{"$f":"M1833","v":70.03166666666668},107.44166666666666,97.87166666666667,null,{"$f":"'Combined Cycle Gas'!$D$8","v":318.30459770114948},{"$f":"Nuclear!$D$8","v":307.69444444444446},{"$f":"P1827/10^6","v":3.1519590000000002},50.44,61.651666666666664,42.016666666666673,3151959]
["2018-03-16",19,30.76,943,null,{"$f":"M1834","v":91.558333333333323},103.72333333333331,100.97499999999998,null,{"$f":"'Combined Cycle Gas'!$D$8","v":318.30459770114948},{"$f":"Nuclear!$D$8","v":307.69444444444446},0,44.77,72.421666666666667,43.523333333333341,0]
["2018-03-16",20,27.81,2064,null,{"$f":"M1835","v":116.81833333333333},103.31166666666667,105.14333333333332,null,{"$f":"'Combined Cycle Gas'!$D$8","v":318.30459770114948},{"$f":"Nuclear!$D$8","v":307.69444444444446},0,50.955000000000005,84.506666666666675,45.811666666666667,0]
["2018-03-16",21,28.64,2335,null,{"$f":"M1836","v":119.55166666666666},105.18,106.42166666666667,null,{"$f":"'Combined Cycle Gas'!$D$8","v":318.30459770114948},{"$f":"Nuclear!$D$8","v":307.69444444444446},0,55.523333333333341,95.976666666666674,54.526666666666664,0]
["2018-03-16",22,24.53,2730,null,{"$f":"M1837","v":120.47166666666668},104.71,106.42500000000001,null,{"$f":"'Combined Cycle Gas'!$D$8","v":318.30459770114948},{"$f":"Nuclear!$D$8","v":307.69444444444446},0,57.274999999999999,108.005,64.899999999999991,0]
["2018-03-16",23,25.03,3069,null,{"$f":"M1838","v":113.67500000000001},99.891666666666666,95.071666666666673,null,{"$f":"'Combined Cycle Gas'!$D$8","v":318.30459770114948},{"$f":"Nuclear!$D$8","v":307.69444444444446},0,63.136666666666663,108.87166666666667,82.978333333333339,0]
["2018-03-16",24,2.14,3013,null,{"$f":"M1839","v":115.85000000000001},94.506666666666661,92.963333333333324,null,{"$f":"'Combined Cycle Gas'!$D$8","v":318.30459770114948},{"$f":"Nuclear!$D$8","v":307.69444444444446},0,70.03166666666668,107.44166666666666,97.87166666666667,0]
["2018-03-17",1,24.35,3499,null,{"$f":"M1840","v":122.21666666666668},85.034999999999982,91.438333333333333,null,{"$f":"'Combined Cycle Gas'!$D$8","v":318.30459770114948},{"$f":"Nuclear!$D$8","v":307.69444444444446},0,91.558333333333323,103.72333333333331,100.97499999999998,0]
["2018-03-17",2,21.39,3497,null,{"$f":"M1841","v":91.15333333333335},68.236666666666665,80.926666666666662,null,{"$f":"'Combined Cycle Gas'!$D$8","v":318.30459770114948},{"$f":"Nuclear!$D$8","v":307.69444444444446},0,116.81833333333333,103.31166666666667,105.14333333333332,0]
["2018-03-17",3,24.81,3500,null,{"$f":"M1842","v":75.144999999999996},62.255000000000003,65.428333333333327,null,{"$f":"'Combined Cycle Gas'!$D$8","v":318.30459770114948},{"$f":"Nuclear!$D$8","v":307.69444444444446},0,119.55166666666666,105.18,106.42166666666667,0]
["2018-03-17",4,24.81,3500,null,{"$f":"M1843","v":73.811666666666653},51.458333333333336,49.843333333333334,null,{"$f":"'Combined Cycle Gas'!$D$8","v":318.30459770114948},{"$f":"Nuclear!$D$8","v":307.69444444444446},0,120.47166666666668,104.71,106.42500000000001,0]
["2018-03-17",5,24.82,3500,null,{"$f":"M1844","v":58.593333333333334},35.698333333333331,36.454999999999998,null,{"$f":"'Combined Cycle Gas'!$D$8","v":318.30459770114948},{"$f":"Nuclear!$D$8","v":307.69444444444446},0,113.67500000000001,99.891666666666666,95.071666666666673,0]
["2018-03-17",6,24.86,3499,null,{"$f":"M1845","v":54.09},26.581666666666667,22.708333333333332,null,{"$f":"'Combined Cycle Gas'!$D$8","v":318.30459770114948},{"$f":"Nuclear!$D$8","v":307.69444444444446},0,115.85000000000001,94.506666666666661,92.963333333333324,0]
["2018-03-17",7,24.93,3499,null,{"$f":"M1846","v":31.768333333333334},12.628333333333332,10.101666666666667,null,{"$f":"'Combined Cycle Gas'!$D$8","v":318.30459770114948},{"$f":"Nuclear!$D$8","v":307.69444444444446},2.037204,122.21666666666668,85.034999999999982,91.438333333333333,2037204]
["2018-03-17",8,27.3,3464,null,{"$f":"M1847","v":17.855},9.2149999999999999,10.271666666666667,null,{"$f":"'Combined Cycle Gas'!$D$8","v":318.30459770114948},{"$f":"Nuclear!$D$8","v":307.69444444444446},5.3350540000000004,91.15333333333335,68.236666666666665,80.926666666666662,5335054]
["2018-03-17",9,16.23,3012,null,{"$f":"M1848","v":15.996666666666664},15.295,11.56,null,{"$f":"'Combined Cycle Gas'!$D$8","v":318.30459770114948},{"$f":"Nuclear!$D$8","v":307.69444444444446},6.8771370000000003,75.144999999999996,62.255000000000003,65.428333333333327,6877137]
["2018-03-17",10,26.07,3012,null,{"$f":"M1849","v":24.566666666666666},17.7,14.680000000000001,null,{"$f":"'Combined Cycle Gas'!$D$8","v":318.30459770114948},{"$f":"Nuclear!$D$8","v":307.69444444444446},7.2326009999999998,73.811666666666653,51.458333333333336,49.843333333333334,7232601]
["2018-03-17",11,27.88,3012,null,{"$f":"M1850","v":30.135000000000002},24.58666666666667,11.588333333333333,null,{"$f":"'Combined Cycle Gas'!$D$8","v":318.30459770114948},{"$f":"Nuclear!$D$8","v":307.69444444444446},7.4608920000000003,58.593333333333334,35.698333333333331,36.454999999999998,7460892]
["2018-03-17",12,27.17,3012,null,{"$f":"M1851","v":31.544999999999998},29.421666666666667,9.2383333333333333,null,{"$f":"'Combined Cycle Gas'!$D$8","v":318.30459770114948},{"$f":"Nuclear!$D$8","v":307.69444444444446},7.7042719999999996,54.09,26.581666666666667,22.708333333333332,7704272]
["2018-03-17",13,27.16,3012,null,{"$f":"M1852","v":26.513333333333332},21.783333333333331,11.691666666666668,null,{"$f":"'Combined Cycle Gas'!$D$8","v":318.30459770114948},{"$f":"Nuclear!$D$8","v":307.69444444444446},7.7433740000000002,31.768333333333334,12.628333333333332,10.101666666666667,7743374]
["2018-03-17",14,27.13,3037,null,{"$f":"M1853","v":32.191666666666663},19.608333333333331,15.659999999999998,null,{"$f":"'Combined Cycle Gas'!$D$8","v":318.30459770114948},{"$f":"Nuclear!$D$8","v":307.69444444444446},7.760758,17.855,9.2149999999999999,10.271666666666667,7760758]
["2018-03-17",15,26.45,3146,null,{"$f":"M1854","v":34.269999999999996},23.896666666666665,18.821666666666665,null,{"$f":"'Combined Cycle Gas'!$D$8","v":318.30459770114948},{"$f":"Nuclear!$D$8","v":307.69444444444446},7.6142560000000001,15.996666666666664,15.295,11.56,7614256]
["2018-03-17",16,26.35,3178,null,{"$f":"M1855","v":36.946666666666665},23.625,30.379999999999995,null,{"$f":"'Combined Cycle Gas'!$D$8","v":318.30459770114948},{"$f":"Nuclear!$D$8","v":307.69444444444446},7.1228939999999996,24.566666666666666,17.7,14.680000000000001,7122894]
["2018-03-17",17,27.85,3209,null,{"$f":"M1856","v":54.653333333333336},26.965,30.004999999999999,null,{"$f":"'Combined Cycle Gas'!$D$8","v":318.30459770114948},{"$f":"Nuclear!$D$8","v":307.69444444444446},5.8411759999999999,30.135000000000002,24.58666666666667,11.588333333333333,5841176]
["2018-03-17",18,28.64,3208,null,{"$f":"M1857","v":57.164999999999999},29.801666666666666,27.543333333333333,null,{"$f":"'Combined Cycle Gas'!$D$8","v":318.30459770114948},{"$f":"Nuclear!$D$8","v":307.69444444444446},3.1181890000000001,31.544999999999998,29.421666666666667,9.2383333333333333,3118189]
["2018-03-17",19,31.1,3208,null,{"$f":"M1858","v":66.13666666666667},30.168333333333333,34.455000000000005,null,{"$f":"'Combined Cycle Gas'!$D$8","v":318.30459770114948},{"$f":"Nuclear!$D$8","v":307.69444444444446},0,26.513333333333332,21.783333333333331,11.691666666666668,0]
["2018-03-17",20,30.33,3177,null,{"$f":"M1859","v":64.61},30.28,28.13,null,{"$f":"'Combined Cycle Gas'!$D$8","v":318.30459770114948},{"$f":"Nuclear!$D$8","v":307.69444444444446},0,32.191666666666663,19.608333333333331,15.659999999999998,0]
["2018-03-17",21,27.17,3172,null,{"$f":"M1860","v":48.173333333333325},33.776666666666671,17.303333333333331,null,{"$f":"'Combined Cycle Gas'!$D$8","v":318.30459770114948},{"$f":"Nuclear!$D$8","v":307.69444444444446},0,34.269999999999996,23.896666666666665,18.821666666666665,0]
["2018-03-17",22,25.37,2971,null,{"$f":"M1861","v":39.984999999999992},30.898333333333337,25.346666666666668,null,{"$f":"'Combined Cycle Gas'!$D$8","v":318.30459770114948},{"$f":"Nuclear!$D$8","v":307.69444444444446},0,36.946666666666665,23.625,30.379999999999995,0]
["2018-03-17",23,21.45,2173,null,{"$f":"M1862","v":48.666666666666664},33.488333333333337,46.343333333333327,null,{"$f":"'Combined Cycle Gas'!$D$8","v":318.30459770114948},{"$f":"Nuclear!$D$8","v":307.69444444444446},0,54.653333333333336,26.965,30.004999999999999,0]
["2018-03-17",24,21.21,1928,null,{"$f":"M1863","v":62.564999999999998},40.505000000000003,63.928333333333335,null,{"$f":"'Combined Cycle Gas'!$D$8","v":318.30459770114948},{"$f":"Nuclear!$D$8","v":307.69444444444446},0,57.164999999999999,29.801666666666666,27.543333333333333,0]
["2018-03-18",1,31,2088,null,{"$f":"M1864","v":69.790000000000006},37.691666666666663,59.721666666666671,null,{"$f":"'Combined Cycle Gas'!$D$8","v":318.30459770114948},{"$f":"Nuclear!$D$8","v":307.69444444444446},0,66.13666666666667,30.168333333333333,34.455000000000005,0]
["2018-03-18",2,24.88,2390,null,{"$f":"M1865","v":85.685000000000002},45.193333333333328,60.681666666666672,null,{"$f":"'Combined Cycle Gas'!$D$8","v":318.30459770114948},{"$f":"Nuclear!$D$8","v":307.69444444444446},0,64.61,30.28,28.13,0]
["2018-03-18",3,24.95,2253,null,{"$f":"M1866","v":81.92},53.368333333333339,58.161666666666669,null,{"$f":"'Combined Cycle Gas'!$D$8","v":318.30459770114948},{"$f":"Nuclear!$D$8","v":307.69444444444446},0,48.173333333333325,33.776666666666671,17.303333333333331,0]
["2018-03-18",4,25.92,1819,null,{"$f":"M1867","v":71.660000000000011},45.941666666666663,46.26,null,{"$f":"'Combined Cycle Gas'!$D$8","v":318.30459770114948},{"$f":"Nuclear!$D$8","v":307.69444444444446},0,39.984999999999992,30.898333333333337,25.346666666666668,0]
["2018-03-18",5,24.86,2082,null,{"$f":"M1868","v":40.026666666666664},21.681666666666668,25.096666666666664,null,{"$f":"'Combined Cycle Gas'!$D$8","v":318.30459770114948},{"$f":"Nuclear!$D$8","v":307.69444444444446},0,48.666666666666664,33.488333333333337,46.343333333333327,0]
["2018-03-18",6,22.45,2524,null,{"$f":"M1869","v":7.9433333333333325},7.3500000000000005,7.0483333333333329,null,{"$f":"'Combined Cycle Gas'!$D$8","v":318.30459770114948},{"$f":"Nuclear!$D$8","v":307.69444444444446},0,62.564999999999998,40.505000000000003,63.928333333333335,0]
["2018-03-18",7,24.59,2671,null,{"$f":"M1870","v":6.208333333333333},5.0116666666666667,10.196666666666667,null,{"$f":"'Combined Cycle Gas'!$D$8","v":318.30459770114948},{"$f":"Nuclear!$D$8","v":307.69444444444446},1.0522629999999999,69.790000000000006,37.691666666666663,59.721666666666671,1052263]
["2018-03-18",8,27.15,2393,null,{"$f":"M1871","v":5.16},4.6399999999999997,6.28,null,{"$f":"'Combined Cycle Gas'!$D$8","v":318.30459770114948},{"$f":"Nuclear!$D$8","v":307.69444444444446},4.6114470000000001,85.685000000000002,45.193333333333328,60.681666666666672,4611447]
["2018-03-18",9,24.99,1689,null,{"$f":"M1872","v":5.0233333333333343},4.5750000000000002,4.95,null,{"$f":"'Combined Cycle Gas'!$D$8","v":318.30459770114948},{"$f":"Nuclear!$D$8","v":307.69444444444446},6.6066479999999999,81.92,53.368333333333339,58.161666666666669,6606648]
["2018-03-18",10,27.64,1460,null,{"$f":"M1873","v":6.5466666666666669},5.9483333333333341,5.1816666666666666,null,{"$f":"'Combined Cycle Gas'!$D$8","v":318.30459770114948},{"$f":"Nuclear!$D$8","v":307.69444444444446},7.4833879999999997,71.660000000000011,45.941666666666663,46.26,7483388]
["2018-03-18",11,26.34,1238,null,{"$f":"M1874","v":17.416666666666668},8.1016666666666666,4.6333333333333329,null,{"$f":"'Combined Cycle Gas'!$D$8","v":318.30459770114948},{"$f":"Nuclear!$D$8","v":307.69444444444446},7.5883310000000002,40.026666666666664,21.681666666666668,25.096666666666664,7588331]
["2018-03-18",12,26.29,1167,null,{"$f":"M1875","v":24.201666666666668},15.156666666666666,4.5583333333333336,null,{"$f":"'Combined Cycle Gas'!$D$8","v":318.30459770114948},{"$f":"Nuclear!$D$8","v":307.69444444444446},7.652533,7.9433333333333325,7.3500000000000005,7.0483333333333329,7652533]
["2018-03-18",13,27.89,1082,null,{"$f":"M1876","v":24.421666666666667},18.680000000000003,5.7016666666666671,null,{"$f":"'Combined Cycle Gas'!$D$8","v":318.30459770114948},{"$f":"Nuclear!$D$8","v":307.69444444444446},7.3306250000000004,6.208333333333333,5.0116666666666667,10.196666666666667,7330625]
["2018-03-18",14,28.92,809,null,{"$f":"M1877","v":13.471666666666666},16.664999999999999,6.5983333333333336,null,{"$f":"'Combined Cycle Gas'!$D$8","v":318.30459770114948},{"$f":"Nuclear!$D$8","v":307.69444444444446},6.756907,5.16,4.6399999999999997,6.28,6756907]
["2018-03-18",15,33.450000000000003,400,null,{"$f":"M1878","v":11.326666666666666},18.373333333333331,8.581666666666667,null,{"$f":"'Combined Cycle Gas'!$D$8","v":318.30459770114948},{"$f":"Nuclear!$D$8","v":307.69444444444446},6.0300799999999999,5.0233333333333343,4.5750000000000002,4.95,6030080]
["2018-03-18",16,31.95,221,null,{"$f":"M1879","v":14.428333333333333},15.905000000000001,9.8883333333333336,null,{"$f":"'Combined Cycle Gas'!$D$8","v":318.30459770114948},{"$f":"Nuclear!$D$8","v":307.69444444444446},3.5917650000000001,6.5466666666666669,5.9483333333333341,5.1816666666666666,3591765]
["2018-03-18",17,33.54,145,null,{"$f":"M1880","v":16.453333333333333},18.333333333333332,14.406666666666666,null,{"$f":"'Combined Cycle Gas'!$D$8","v":318.30459770114948},{"$f":"Nuclear!$D$8","v":307.69444444444446},2.0726650000000002,17.416666666666668,8.1016666666666666,4.6333333333333329,2072665]
["2018-03-18",18,34.28,54,null,{"$f":"M1881","v":30.501666666666669},25.2,17.188333333333336,null,{"$f":"'Combined Cycle Gas'!$D$8","v":318.30459770114948},{"$f":"Nuclear!$D$8","v":307.69444444444446},0.32298199999999999,24.201666666666668,15.156666666666666,4.5583333333333336,322982]
["2018-03-18",19,35.43,188,null,{"$f":"M1882","v":49.931666666666665},31.008333333333329,25.174999999999997,null,{"$f":"'Combined Cycle Gas'!$D$8","v":318.30459770114948},{"$f":"Nuclear!$D$8","v":307.69444444444446},0,24.421666666666667,18.680000000000003,5.7016666666666671,0]
["2018-03-18",20,37.619999999999997,500,null,{"$f":"M1883","v":67.466666666666669},34.574999999999996,37.05833333333333,null,{"$f":"'Combined Cycle Gas'!$D$8","v":318.30459770114948},{"$f":"Nuclear!$D$8","v":307.69444444444446},0,13.471666666666666,16.664999999999999,6.5983333333333336,0]
["2018-03-18",21,39.64,725,null,{"$f":"M1884","v":59.856666666666662},23.973333333333333,47.886666666666663,null,{"$f":"'Combined Cycle Gas'!$D$8","v":318.30459770114948},{"$f":"Nuclear!$D$8","v":307.69444444444446},0,11.326666666666666,18.373333333333331,8.581666666666667,0]
["2018-03-18",22,37.99,897,null,{"$f":"M1885","v":47.393333333333338},24.676666666666666,49.663333333333334,null,{"$f":"'Combined Cycle Gas'!$D$8","v":318.30459770114948},{"$f":"Nuclear!$D$8","v":307.69444444444446},0,14.428333333333333,15.905000000000001,9.8883333333333336,0]
["2018-03-18",23,24.21,1376,null,{"$f":"M1886","v":85.148333333333326},37.005000000000003,48.501666666666665,null,{"$f":"'Combined Cycle Gas'!$D$8","v":318.30459770114948},{"$f":"Nuclear!$D$8","v":307.69444444444446},0,16.453333333333333,18.333333333333332,14.406666666666666,0]
["2018-03-18",24,21.31,1915,null,{"$f":"M1887","v":76.896666666666661},44.604999999999997,44.431666666666665,null,{"$f":"'Combined Cycle Gas'!$D$8","v":318.30459770114948},{"$f":"Nuclear!$D$8","v":307.69444444444446},0,30.501666666666669,25.2,17.188333333333336,0]
["2018-03-19",1,21.7,1933,null,{"$f":"M1888","v":71.818333333333328},44.226666666666667,35.833333333333329,null,{"$f":"'Combined Cycle Gas'!$D$8","v":318.30459770114948},{"$f":"Nuclear!$D$8","v":307.69444444444446},0,49.931666666666665,31.008333333333329,25.174999999999997,0]
["2018-03-19",2,24.17,2023,null,{"$f":"M1889","v":78.316666666666663},48.168333333333329,33.58,null,{"$f":"'Combined Cycle Gas'!$D$8","v":318.30459770114948},{"$f":"Nuclear!$D$8","v":307.69444444444446},0,67.466666666666669,34.574999999999996,37.05833333333333,0]
["2018-03-19",3,24.17,2022,null,{"$f":"M1890","v":69.17},52.478333333333332,41.083333333333336,null,{"$f":"'Combined Cycle Gas'!$D$8","v":318.30459770114948},{"$f":"Nuclear!$D$8","v":307.69444444444446},0,59.856666666666662,23.973333333333333,47.886666666666663,0]
["2018-03-19",4,25.88,2351,null,{"$f":"M1891","v":83.376666666666665},40.355000000000004,58.04999999999999,null,{"$f":"'Combined Cycle Gas'!$D$8","v":318.30459770114948},{"$f":"Nuclear!$D$8","v":307.69444444444446},0,47.393333333333338,24.676666666666666,49.663333333333334,0]
["2018-03-19",5,24.93,2224,null,{"$f":"M1892","v":84.49499999999999},46.185000000000002,53.734999999999992,null,{"$f":"'Combined Cycle Gas'!$D$8","v":318.30459770114948},{"$f":"Nuclear!$D$8","v":307.69444444444446},0,85.148333333333326,37.005000000000003,48.501666666666665,0]
["2018-03-19",6,37.19,1761,null,{"$f":"M1893","v":84.036666666666676},54.29,43.791666666666664,null,{"$f":"'Combined Cycle Gas'!$D$8","v":318.30459770114948},{"$f":"Nuclear!$D$8","v":307.69444444444446},0,76.896666666666661,44.604999999999997,44.431666666666665,0]
["2018-03-19",7,27.17,1589,null,{"$f":"M1894","v":65.048333333333332},22.63,33.411666666666669,null,{"$f":"'Combined Cycle Gas'!$D$8","v":318.30459770114948},{"$f":"Nuclear!$D$8","v":307.69444444444446},0,71.818333333333328,44.226666666666667,35.833333333333329,0]
["2018-03-19",8,29.03,1150,null,{"$f":"M1895","v":56.966666666666669},11.323333333333332,12.363333333333332,null,{"$f":"'Combined Cycle Gas'!$D$8","v":318.30459770114948},{"$f":"Nuclear!$D$8","v":307.69444444444446},1.2156999999999999E-2,78.316666666666663,48.168333333333329,33.58,12157]
["2018-03-19",9,40.98,822,null,{"$f":"M1896","v":11.868333333333332},8.7283333333333317,3.27,null,{"$f":"'Combined Cycle Gas'!$D$8","v":318.30459770114948},{"$f":"Nuclear!$D$8","v":307.69444444444446},1.049944,69.17,52.478333333333332,41.083333333333336,1049944]
["2018-03-19",10,42.09,686,null,{"$f":"M1897","v":5.3449999999999998},5.1816666666666675,3.0133333333333336,null,{"$f":"'Combined Cycle Gas'!$D$8","v":318.30459770114948},{"$f":"Nuclear!$D$8","v":307.69444444444446},{"$f":"P1891/10^6","v":2.3973300000000002},83.376666666666665,40.355000000000004,58.04999999999999,2397330]
["2018-03-19",11,32.869999999999997,753,null,{"$f":"M1898","v":7.3983333333333334},5,3.2183333333333333,null,{"$f":"'Combined Cycle Gas'!$D$8","v":318.30459770114948},{"$f":"Nuclear!$D$8","v":307.69444444444446},1.448882,84.49499999999999,46.185000000000002,53.734999999999992,1448882]
["2018-03-19",12,25.3,1694,null,{"$f":"M1899","v":5.4649999999999999},5.24,3.0416666666666665,null,{"$f":"'Combined Cycle Gas'!$D$8","v":318.30459770114948},{"$f":"Nuclear!$D$8","v":307.69444444444446},1.489106,84.036666666666676,54.29,43.791666666666664,1489106]
["2018-03-19",13,26.64,1873,null,{"$f":"M1900","v":5.625},8.2266666666666666,3.3649999999999998,null,{"$f":"'Combined Cycle Gas'!$D$8","v":318.30459770114948},{"$f":"Nuclear!$D$8","v":307.69444444444446},6.668558,65.048333333333332,22.63,33.411666666666669,6668558]
["2018-03-19",14,29.86,1494,null,{"$f":"M1901","v":5.7633333333333345},6.1066666666666665,3.5150000000000001,null,{"$f":"'Combined Cycle Gas'!$D$8","v":318.30459770114948},{"$f":"Nuclear!$D$8","v":307.69444444444446},7.0616779999999997,56.966666666666669,11.323333333333332,12.363333333333332,7061678]
["2018-03-19",15,45.06,1200,null,{"$f":"M1902","v":5.7150000000000007},7.2450000000000001,4.3033333333333337,null,{"$f":"'Combined Cycle Gas'!$D$8","v":318.30459770114948},{"$f":"Nuclear!$D$8","v":307.69444444444446},2.2892160000000001,11.868333333333332,8.7283333333333317,3.27,2289216]
["2018-03-19",16,42.6,1197,null,{"$f":"M1903","v":5.626666666666666},9.1066666666666674,5.4483333333333333,null,{"$f":"'Combined Cycle Gas'!$D$8","v":318.30459770114948},{"$f":"Nuclear!$D$8","v":307.69444444444446},3.7070050000000001,5.3449999999999998,5.1816666666666675,3.0133333333333336,3707005]
["2018-03-19",17,29.42,1443,null,{"$f":"M1904","v":6.3616666666666672},10.976666666666667,5.835,null,{"$f":"'Combined Cycle Gas'!$D$8","v":318.30459770114948},{"$f":"Nuclear!$D$8","v":307.69444444444446},0.95044300000000004,7.3983333333333334,5,3.2183333333333333,950443]
["2018-03-19",18,27.37,1710,null,{"$f":"M1905","v":7.44},13.393333333333333,8.0550000000000015,null,{"$f":"'Combined Cycle Gas'!$D$8","v":318.30459770114948},{"$f":"Nuclear!$D$8","v":307.69444444444446},0.67464199999999996,5.4649999999999999,5.24,3.0416666666666665,674642]
["2018-03-19",19,26.43,2198,null,{"$f":"M1906","v":19.486666666666665},22.555000000000003,24.181666666666672,null,{"$f":"'Combined Cycle Gas'!$D$8","v":318.30459770114948},{"$f":"Nuclear!$D$8","v":307.69444444444446},0,5.625,8.2266666666666666,3.3649999999999998,0]
["2018-03-19",20,26.02,2648,null,{"$f":"M1907","v":40.771666666666668},18.193333333333332,33.045000000000002,null,{"$f":"'Combined Cycle Gas'!$D$8","v":318.30459770114948},{"$f":"Nuclear!$D$8","v":307.69444444444446},0,5.7633333333333345,6.1066666666666665,3.5150000000000001,0]
["2018-03-19",21,26.07,2760,null,{"$f":"M1908","v":33.050000000000004},10.375,29.026666666666667,null,{"$f":"'Combined Cycle Gas'!$D$8","v":318.30459770114948},{"$f":"Nuclear!$D$8","v":307.69444444444446},0,5.7150000000000007,7.2450000000000001,4.3033333333333337,0]
["2018-03-19",22,24.93,2540,null,{"$f":"M1909","v":10.933333333333332},7.1233333333333322,30.189999999999998,null,{"$f":"'Combined Cycle Gas'!$D$8","v":318.30459770114948},{"$f":"Nuclear!$D$8","v":307.69444444444446},0,5.626666666666666,9.1066666666666674,5.4483333333333333,0]
["2018-03-19",23,24.86,2452,null,{"$f":"M1910","v":14.17},5.8133333333333335,28.3,null,{"$f":"'Combined Cycle Gas'!$D$8","v":318.30459770114948},{"$f":"Nuclear!$D$8","v":307.69444444444446},0,6.3616666666666672,10.976666666666667,5.835,0]
["2018-03-19",24,24.93,2298,null,{"$f":"M1911","v":49.854999999999997},6.8049999999999997,32.108333333333334,null,{"$f":"'Combined Cycle Gas'!$D$8","v":318.30459770114948},{"$f":"Nuclear!$D$8","v":307.69444444444446},0,7.44,13.393333333333333,8.0550000000000015,0]
["2018-03-20",1,24.17,1769,null,{"$f":"M1912","v":82.183333333333337},22.811666666666667,40.711666666666666,null,{"$f":"'Combined Cycle Gas'!$D$8","v":318.30459770114948},{"$f":"Nuclear!$D$8","v":307.69444444444446},0,19.486666666666665,22.555000000000003,24.181666666666672,0]
["2018-03-20",2,24.59,1581,null,{"$f":"M1913","v":113.605},49.023333333333341,49.836666666666666,null,{"$f":"'Combined Cycle Gas'!$D$8","v":318.30459770114948},{"$f":"Nuclear!$D$8","v":307.69444444444446},0,40.771666666666668,18.193333333333332,33.045000000000002,0]
["2018-03-20",3,24.85,1307,null,{"$f":"M1914","v":123.84500000000001},56.564999999999998,64.051666666666662,null,{"$f":"'Combined Cycle Gas'!$D$8","v":318.30459770114948},{"$f":"Nuclear!$D$8","v":307.69444444444446},0,33.050000000000004,10.375,29.026666666666667,0]
["2018-03-20",4,24.85,1380,null,{"$f":"M1915","v":109.16666666666667},61.351666666666667,46.44,null,{"$f":"'Combined Cycle Gas'!$D$8","v":318.30459770114948},{"$f":"Nuclear!$D$8","v":307.69444444444446},0,10.933333333333332,7.1233333333333322,30.189999999999998,0]
["2018-03-20",5,24.93,1379,null,{"$f":"M1916","v":67.209999999999994},79.708333333333329,43.583333333333336,null,{"$f":"'Combined Cycle Gas'!$D$8","v":318.30459770114948},{"$f":"Nuclear!$D$8","v":307.69444444444446},0,14.17,5.8133333333333335,28.3,0]
["2018-03-20",6,29.7,1599,null,{"$f":"M1917","v":66.358333333333334},105.25833333333334,34.585000000000001,null,{"$f":"'Combined Cycle Gas'!$D$8","v":318.30459770114948},{"$f":"Nuclear!$D$8","v":307.69444444444446},0,49.854999999999997,6.8049999999999997,32.108333333333334,0]
["2018-03-20",7,38.39,1013,null,{"$f":"M1918","v":105.68833333333333},94.031666666666652,53.833333333333336,null,{"$f":"'Combined Cycle Gas'!$D$8","v":318.30459770114948},{"$f":"Nuclear!$D$8","v":307.69444444444446},1.92E-4,82.183333333333337,22.811666666666667,40.711666666666666,192]
["2018-03-20",8,41.88,695,null,{"$f":"M1919","v":146.16999999999999},102.61500000000001,72.515000000000001,null,{"$f":"'Combined Cycle Gas'!$D$8","v":318.30459770114948},{"$f":"Nuclear!$D$8","v":307.69444444444446},0.14624899999999999,113.605,49.023333333333341,49.836666666666666,146249]
["2018-03-20",9,23.74,1158,null,{"$f":"M1920","v":131.39333333333335},37.064999999999998,66.114999999999995,null,{"$f":"'Combined Cycle Gas'!$D$8","v":318.30459770114948},{"$f":"Nuclear!$D$8","v":307.69444444444446},6.1212140000000002,123.84500000000001,56.564999999999998,64.051666666666662,6121214]
["2018-03-20",10,24.8,2028,null,{"$f":"M1921","v":60.859999999999992},26.938333333333336,25.251666666666665,null,{"$f":"'Combined Cycle Gas'!$D$8","v":318.30459770114948},{"$f":"Nuclear!$D$8","v":307.69444444444446},6.3671059999999997,109.16666666666667,61.351666666666667,46.44,6367106]
["2018-03-20",11,26.05,2320,null,{"$f":"M1922","v":51.566666666666663},33.281666666666659,22.611666666666668,null,{"$f":"'Combined Cycle Gas'!$D$8","v":318.30459770114948},{"$f":"Nuclear!$D$8","v":307.69444444444446},6.8722339999999997,67.209999999999994,79.708333333333329,43.583333333333336,6872234]
["2018-03-20",12,26.21,1844,null,{"$f":"M1923","v":70.226666666666674},39.728333333333332,31.418333333333333,null,{"$f":"'Combined Cycle Gas'!$D$8","v":318.30459770114948},{"$f":"Nuclear!$D$8","v":307.69444444444446},7.2976109999999998,66.358333333333334,105.25833333333334,34.585000000000001,7297611]
["2018-03-20",13,26.04,1689,null,{"$f":"M1924","v":115.14666666666666},63.591666666666661,22.39,null,{"$f":"'Combined Cycle Gas'!$D$8","v":318.30459770114948},{"$f":"Nuclear!$D$8","v":307.69444444444446},6.4439080000000004,105.68833333333333,94.031666666666652,53.833333333333336,6443908]
["2018-03-20",14,25.94,1934,null,{"$f":"M1925","v":130.68833333333336},70.453333333333333,23.234999999999999,null,{"$f":"'Combined Cycle Gas'!$D$8","v":318.30459770114948},{"$f":"Nuclear!$D$8","v":307.69444444444446},3.2544140000000001,146.16999999999999,102.61500000000001,72.515000000000001,3254414]
["2018-03-20",15,23.67,2233,null,{"$f":"M1926","v":145.89499999999998},94.62833333333333,35.96,null,{"$f":"'Combined Cycle Gas'!$D$8","v":318.30459770114948},{"$f":"Nuclear!$D$8","v":307.69444444444446},3.7037339999999999,131.39333333333335,37.064999999999998,66.114999999999995,3703734]
["2018-03-20",16,25,2229,null,{"$f":"M1927","v":150.65333333333334},105.08999999999999,72.529999999999987,null,{"$f":"'Combined Cycle Gas'!$D$8","v":318.30459770114948},{"$f":"Nuclear!$D$8","v":307.69444444444446},2.6086279999999999,60.859999999999992,26.938333333333336,25.251666666666665,2608628]
["2018-03-20",17,25.01,2262,null,{"$f":"M1928","v":150.30166666666665},107.94500000000001,57.965000000000003,null,{"$f":"'Combined Cycle Gas'!$D$8","v":318.30459770114948},{"$f":"Nuclear!$D$8","v":307.69444444444446},0.27291100000000001,51.566666666666663,33.281666666666659,22.611666666666668,272911]
["2018-03-20",18,25.04,2269,null,{"$f":"M1929","v":151.17666666666665},110.75,45.648333333333333,null,{"$f":"'Combined Cycle Gas'!$D$8","v":318.30459770114948},{"$f":"Nuclear!$D$8","v":307.69444444444446},5.4609999999999997E-3,70.226666666666674,39.728333333333332,31.418333333333333,5461]
["2018-03-20",19,25,2289,null,{"$f":"M1930","v":150.56666666666669},96.333333333333329,45.428333333333335,null,{"$f":"'Combined Cycle Gas'!$D$8","v":318.30459770114948},{"$f":"Nuclear!$D$8","v":307.69444444444446},0,115.14666666666666,63.591666666666661,22.39,0]
["2018-03-20",20,25.76,2299,null,{"$f":"M1931","v":150.75833333333333},64.396666666666675,62.57833333333334,null,{"$f":"'Combined Cycle Gas'!$D$8","v":318.30459770114948},{"$f":"Nuclear!$D$8","v":307.69444444444446},0,130.68833333333336,70.453333333333333,23.234999999999999,0]
["2018-03-20",21,26.02,2290,null,{"$f":"M1932","v":148.63666666666666},84.498333333333321,63.685000000000002,null,{"$f":"'Combined Cycle Gas'!$D$8","v":318.30459770114948},{"$f":"Nuclear!$D$8","v":307.69444444444446},0,145.89499999999998,94.62833333333333,35.96,0]
["2018-03-20",22,22.04,2627,null,{"$f":"M1933","v":151.31999999999996},85.426666666666662,47.311666666666667,null,{"$f":"'Combined Cycle Gas'!$D$8","v":318.30459770114948},{"$f":"Nuclear!$D$8","v":307.69444444444446},0,150.65333333333334,105.08999999999999,72.529999999999987,0]
["2018-03-20",23,24.85,2832,null,{"$f":"M1934","v":151.31999999999996},111.07,74.693333333333328,null,{"$f":"'Combined Cycle Gas'!$D$8","v":318.30459770114948},{"$f":"Nuclear!$D$8","v":307.69444444444446},0,150.30166666666665,107.94500000000001,57.965000000000003,0]
["2018-03-20",24,10.85,2892,null,{"$f":"M1935","v":151.31999999999996},112.52,77.458333333333329,null,{"$f":"'Combined Cycle Gas'!$D$8","v":318.30459770114948},{"$f":"Nuclear!$D$8","v":307.69444444444446},0,151.17666666666665,110.75,45.648333333333333,0]
["2018-03-21",1,16.23,2530,null,{"$f":"M1936","v":151.17333333333332},112.52,86.943333333333328,null,{"$f":"'Combined Cycle Gas'!$D$8","v":318.30459770114948},{"$f":"Nuclear!$D$8","v":307.69444444444446},0,150.56666666666669,96.333333333333329,45.428333333333335,0]
["2018-03-21",2,24.15,1883,null,{"$f":"M1937","v":150.39666666666668},112.52,79.168333333333337,null,{"$f":"'Combined Cycle Gas'!$D$8","v":318.30459770114948},{"$f":"Nuclear!$D$8","v":307.69444444444446},0,150.75833333333333,64.396666666666675,62.57833333333334,0]
["2018-03-21",3,23.91,1591,null,{"$f":"M1938","v":150.01000000000002},112.52,106.61000000000001,null,{"$f":"'Combined Cycle Gas'!$D$8","v":318.30459770114948},{"$f":"Nuclear!$D$8","v":307.69444444444446},0,148.63666666666666,84.498333333333321,63.685000000000002,0]
["2018-03-21",4,23.63,1591,null,{"$f":"M1939","v":130.09333333333333},110.55666666666667,102.21166666666666,null,{"$f":"'Combined Cycle Gas'!$D$8","v":318.30459770114948},{"$f":"Nuclear!$D$8","v":307.69444444444446},0,151.31999999999996,85.426666666666662,47.311666666666667,0]
["2018-03-21",5,24.59,1591,null,{"$f":"M1940","v":98.43},103.20833333333333,105.57833333333333,null,{"$f":"'Combined Cycle Gas'!$D$8","v":318.30459770114948},{"$f":"Nuclear!$D$8","v":307.69444444444446},0,151.31999999999996,111.07,74.693333333333328,0]
["2018-03-21",6,36.39,1567,null,{"$f":"M1941","v":102.26333333333334},85.931666666666672,99.641666666666666,null,{"$f":"'Combined Cycle Gas'!$D$8","v":318.30459770114948},{"$f":"Nuclear!$D$8","v":307.69444444444446},0,151.31999999999996,112.52,77.458333333333329,0]
["2018-03-21",7,43.17,1421,null,{"$f":"M1942","v":76.966666666666669},45.503333333333337,102.17999999999999,null,{"$f":"'Combined Cycle Gas'!$D$8","v":318.30459770114948},{"$f":"Nuclear!$D$8","v":307.69444444444446},3.3930000000000002E-3,151.17333333333332,112.52,86.943333333333328,3393]
["2018-03-21",8,40.53,1453,null,{"$f":"M1943","v":81.683333333333351},45.063333333333333,107.46833333333332,null,{"$f":"'Combined Cycle Gas'!$D$8","v":318.30459770114948},{"$f":"Nuclear!$D$8","v":307.69444444444446},0.33359299999999997,150.39666666666668,112.52,79.168333333333337,333593]
["2018-03-21",9,26.09,1895,null,{"$f":"M1944","v":63.778333333333329},39.803333333333335,90.256666666666675,null,{"$f":"'Combined Cycle Gas'!$D$8","v":318.30459770114948},{"$f":"Nuclear!$D$8","v":307.69444444444446},1.9300930000000001,150.01000000000002,112.52,106.61000000000001,1930093]
["2018-03-21",10,29.92,2014,null,{"$f":"M1945","v":59.416666666666664},32.440000000000005,48.5,null,{"$f":"'Combined Cycle Gas'!$D$8","v":318.30459770114948},{"$f":"Nuclear!$D$8","v":307.69444444444446},1.793409,130.09333333333333,110.55666666666667,102.21166666666666,1793409]
["2018-03-21",11,22.84,1592,null,{"$f":"M1946","v":75.94},54.663333333333327,40.131666666666668,null,{"$f":"'Combined Cycle Gas'!$D$8","v":318.30459770114948},{"$f":"Nuclear!$D$8","v":307.69444444444446},2.451308,98.43,103.20833333333333,105.57833333333333,2451308]
["2018-03-21",12,27.31,1135,null,{"$f":"M1947","v":93.410000000000011},73.334999999999994,50.536666666666669,null,{"$f":"'Combined Cycle Gas'!$D$8","v":318.30459770114948},{"$f":"Nuclear!$D$8","v":307.69444444444446},3.1321159999999999,102.26333333333334,85.931666666666672,99.641666666666666,3132116]
["2018-03-21",13,27.26,1143,null,{"$f":"M1948","v":124.88333333333333},78.036666666666676,73,null,{"$f":"'Combined Cycle Gas'!$D$8","v":318.30459770114948},{"$f":"Nuclear!$D$8","v":307.69444444444446},2.8434729999999999,76.966666666666669,45.503333333333337,102.17999999999999,2843473]
["2018-03-21",14,24.86,1671,null,{"$f":"M1949","v":111.55833333333334},71.635000000000005,80.098333333333329,null,{"$f":"'Combined Cycle Gas'!$D$8","v":318.30459770114948},{"$f":"Nuclear!$D$8","v":307.69444444444446},2.8080539999999998,81.683333333333351,45.063333333333333,107.46833333333332,2808054]
["2018-03-21",15,24.97,1940,null,{"$f":"M1950","v":123.18666666666667},77.533333333333346,88.238333333333344,null,{"$f":"'Combined Cycle Gas'!$D$8","v":318.30459770114948},{"$f":"Nuclear!$D$8","v":307.69444444444446},2.6405280000000002,63.778333333333329,39.803333333333335,90.256666666666675,2640528]
["2018-03-21",16,42.44,2209,null,{"$f":"M1951","v":111.91666666666667},91.98,86.806666666666672,null,{"$f":"'Combined Cycle Gas'!$D$8","v":318.30459770114948},{"$f":"Nuclear!$D$8","v":307.69444444444446},1.8771370000000001,59.416666666666664,32.440000000000005,48.5,1877137]
["2018-03-21",17,26.5,2361,null,{"$f":"M1952","v":132.11333333333332},99.314999999999998,93.759999999999991,null,{"$f":"'Combined Cycle Gas'!$D$8","v":318.30459770114948},{"$f":"Nuclear!$D$8","v":307.69444444444446},0.948461,75.94,54.663333333333327,40.131666666666668,948461]
["2018-03-21",18,26.13,2846,null,{"$f":"M1953","v":123.27166666666665},96.87,95.581666666666663,null,{"$f":"'Combined Cycle Gas'!$D$8","v":318.30459770114948},{"$f":"Nuclear!$D$8","v":307.69444444444446},1.9855000000000001E-2,93.410000000000011,73.334999999999994,50.536666666666669,19855]
["2018-03-21",19,27.12,2746,null,{"$f":"M1954","v":127.72166666666668},88.141666666666666,91.798333333333332,null,{"$f":"'Combined Cycle Gas'!$D$8","v":318.30459770114948},{"$f":"Nuclear!$D$8","v":307.69444444444446},0,124.88333333333333,78.036666666666676,73,0]
["2018-03-21",20,20.34,2775,null,{"$f":"M1955","v":127.96},88.731666666666669,81.961666666666659,null,{"$f":"'Combined Cycle Gas'!$D$8","v":318.30459770114948},{"$f":"Nuclear!$D$8","v":307.69444444444446},0,111.55833333333334,71.635000000000005,80.098333333333329,0]
["2018-03-21",21,22.09,2911,null,{"$f":"M1956","v":132.125},94.44,83.653333333333336,null,{"$f":"'Combined Cycle Gas'!$D$8","v":318.30459770114948},{"$f":"Nuclear!$D$8","v":307.69444444444446},0,123.18666666666667,77.533333333333346,88.238333333333344,0]
["2018-03-21",22,28.92,2841,null,{"$f":"M1957","v":113.63333333333334},90.285000000000011,82.155000000000015,null,{"$f":"'Combined Cycle Gas'!$D$8","v":318.30459770114948},{"$f":"Nuclear!$D$8","v":307.69444444444446},0,111.91666666666667,91.98,86.806666666666672,0]
["2018-03-21",23,27.22,2372,null,{"$f":"M1958","v":108.36666666666666},77.184999999999988,78.691666666666663,null,{"$f":"'Combined Cycle Gas'!$D$8","v":318.30459770114948},{"$f":"Nuclear!$D$8","v":307.69444444444446},0,132.11333333333332,99.314999999999998,93.759999999999991,0]
["2018-03-21",24,9.48,2209,null,{"$f":"M1959","v":86.668333333333337},65.963333333333338,45.738333333333337,null,{"$f":"'Combined Cycle Gas'!$D$8","v":318.30459770114948},{"$f":"Nuclear!$D$8","v":307.69444444444446},0,123.27166666666665,96.87,95.581666666666663,0]
["2018-03-22",1,16.23,1984,null,{"$f":"M1960","v":45.706666666666671},39.269999999999996,22,null,{"$f":"'Combined Cycle Gas'!$D$8","v":318.30459770114948},{"$f":"Nuclear!$D$8","v":307.69444444444446},0,127.72166666666668,88.141666666666666,91.798333333333332,0]
["2018-03-22",2,24.25,1716,null,{"$f":"M1961","v":37.201666666666675},29.754999999999999,26.319999999999997,null,{"$f":"'Combined Cycle Gas'!$D$8","v":318.30459770114948},{"$f":"Nuclear!$D$8","v":307.69444444444446},{"$f":"P1955/10^6","v":0},127.96,88.731666666666669,81.961666666666659,0]
["2018-03-22",3,23.63,1716,null,{"$f":"M1962","v":27.743333333333336},23.97,16.243333333333332,null,{"$f":"'Combined Cycle Gas'!$D$8","v":318.30459770114948},{"$f":"Nuclear!$D$8","v":307.69444444444446},0,132.125,94.44,83.653333333333336,0]
["2018-03-22",4,24.77,1455,null,{"$f":"M1963","v":29.918333333333337},23.183333333333334,14.421666666666667,null,{"$f":"'Combined Cycle Gas'!$D$8","v":318.30459770114948},{"$f":"Nuclear!$D$8","v":307.69444444444446},0,113.63333333333334,90.285000000000011,82.155000000000015,0]
["2018-03-22",5,31.33,609,null,{"$f":"M1964","v":48.351666666666667},28.91333333333333,24.478333333333335,null,{"$f":"'Combined Cycle Gas'!$D$8","v":318.30459770114948},{"$f":"Nuclear!$D$8","v":307.69444444444446},0,108.36666666666666,77.184999999999988,78.691666666666663,0]
["2018-03-22",6,29.87,762,null,{"$f":"M1965","v":46.413333333333334},32.949999999999996,26.101666666666663,null,{"$f":"'Combined Cycle Gas'!$D$8","v":318.30459770114948},{"$f":"Nuclear!$D$8","v":307.69444444444446},0,86.668333333333337,65.963333333333338,45.738333333333337,0]
["2018-03-22",7,35.92,1321,null,{"$f":"M1966","v":28.616666666666671},26.004999999999999,11.761666666666665,null,{"$f":"'Combined Cycle Gas'!$D$8","v":318.30459770114948},{"$f":"Nuclear!$D$8","v":307.69444444444446},2.2112430000000001,45.706666666666671,39.269999999999996,22,2211243]
["2018-03-22",8,41.11,1632,null,{"$f":"M1967","v":24.83666666666667},15.586666666666668,4.7266666666666675,null,{"$f":"'Combined Cycle Gas'!$D$8","v":318.30459770114948},{"$f":"Nuclear!$D$8","v":307.69444444444446},5.2709700000000002,37.201666666666675,29.754999999999999,26.319999999999997,5270970]
["2018-03-22",9,41.93,1631,null,{"$f":"M1968","v":19.688333333333333},13.994999999999997,2.8349999999999995,null,{"$f":"'Combined Cycle Gas'!$D$8","v":318.30459770114948},{"$f":"Nuclear!$D$8","v":307.69444444444446},7.0043179999999996,27.743333333333336,23.97,16.243333333333332,7004318]
["2018-03-22",10,47.19,1569,null,{"$f":"M1969","v":26.841666666666669},18.169999999999998,4.1266666666666669,null,{"$f":"'Combined Cycle Gas'!$D$8","v":318.30459770114948},{"$f":"Nuclear!$D$8","v":307.69444444444446},7.2415200000000004,29.918333333333337,23.183333333333334,14.421666666666667,7241520]
["2018-03-22",11,47.35,1246,null,{"$f":"M1970","v":22.111666666666668},16.688333333333333,5.7583333333333337,null,{"$f":"'Combined Cycle Gas'!$D$8","v":318.30459770114948},{"$f":"Nuclear!$D$8","v":307.69444444444446},6.2999280000000004,48.351666666666667,28.91333333333333,24.478333333333335,6299928]
["2018-03-22",12,47.45,1245,null,{"$f":"M1971","v":9.1566666666666663},11.926666666666668,5.5049999999999999,null,{"$f":"'Combined Cycle Gas'!$D$8","v":318.30459770114948},{"$f":"Nuclear!$D$8","v":307.69444444444446},7.6476040000000003,46.413333333333334,32.949999999999996,26.101666666666663,7647604]
["2018-03-22",13,47.64,1288,null,{"$f":"M1972","v":9.2299999999999986},8.0649999999999995,5.5566666666666658,null,{"$f":"'Combined Cycle Gas'!$D$8","v":318.30459770114948},{"$f":"Nuclear!$D$8","v":307.69444444444446},7.7308909999999997,28.616666666666671,26.004999999999999,11.761666666666665,7730891]
["2018-03-22",14,38.81,1604,null,{"$f":"M1973","v":6.5166666666666666},5.8250000000000002,5.63,null,{"$f":"'Combined Cycle Gas'!$D$8","v":318.30459770114948},{"$f":"Nuclear!$D$8","v":307.69444444444446},7.6888259999999997,24.83666666666667,15.586666666666668,4.7266666666666675,7688826]
["2018-03-22",15,24.94,2113,null,{"$f":"M1974","v":10.715000000000002},6.9316666666666658,5.8916666666666666,null,{"$f":"'Combined Cycle Gas'!$D$8","v":318.30459770114948},{"$f":"Nuclear!$D$8","v":307.69444444444446},7.4716170000000002,19.688333333333333,13.994999999999997,2.8349999999999995,7471617]
["2018-03-22",16,24.87,2901,null,{"$f":"M1975","v":7.3150000000000004},7.4033333333333333,8.9666666666666668,null,{"$f":"'Combined Cycle Gas'!$D$8","v":318.30459770114948},{"$f":"Nuclear!$D$8","v":307.69444444444446},7.0524420000000001,26.841666666666669,18.169999999999998,4.1266666666666669,7052442]
["2018-03-22",17,24.96,3012,null,{"$f":"M1976","v":14.71},5.7649999999999997,9.09,null,{"$f":"'Combined Cycle Gas'!$D$8","v":318.30459770114948},{"$f":"Nuclear!$D$8","v":307.69444444444446},5.8287519999999997,22.111666666666668,16.688333333333333,5.7583333333333337,5828752]
["2018-03-22",18,26.06,3013,null,{"$f":"M1977","v":17.618333333333332},7.1849999999999996,8.5283333333333342,null,{"$f":"'Combined Cycle Gas'!$D$8","v":318.30459770114948},{"$f":"Nuclear!$D$8","v":307.69444444444446},3.1264560000000001,9.1566666666666663,11.926666666666668,5.5049999999999999,3126456]
["2018-03-22",19,26.06,3013,null,{"$f":"M1978","v":17.170000000000002},5.2,8.2533333333333339,null,{"$f":"'Combined Cycle Gas'!$D$8","v":318.30459770114948},{"$f":"Nuclear!$D$8","v":307.69444444444446},0,9.2299999999999986,8.0649999999999995,5.5566666666666658,0]
["2018-03-22",20,24.96,3013,null,{"$f":"M1979","v":31.291666666666668},9.2666666666666675,13.088333333333333,null,{"$f":"'Combined Cycle Gas'!$D$8","v":318.30459770114948},{"$f":"Nuclear!$D$8","v":307.69444444444446},0,6.5166666666666666,5.8250000000000002,5.63,0]
["2018-03-22",21,24.93,3013,null,{"$f":"M1980","v":42.313333333333333},11.329999999999998,9.7066666666666652,null,{"$f":"'Combined Cycle Gas'!$D$8","v":318.30459770114948},{"$f":"Nuclear!$D$8","v":307.69444444444446},0,10.715000000000002,6.9316666666666658,5.8916666666666666,0]
["2018-03-22",22,24.93,3013,null,{"$f":"M1981","v":32.44},7.8216666666666663,9.0399999999999991,null,{"$f":"'Combined Cycle Gas'!$D$8","v":318.30459770114948},{"$f":"Nuclear!$D$8","v":307.69444444444446},0,7.3150000000000004,7.4033333333333333,8.9666666666666668,0]
["2018-03-22",23,10.86,3013,null,{"$f":"M1982","v":49.06},11.611666666666666,14.486666666666665,null,{"$f":"'Combined Cycle Gas'!$D$8","v":318.30459770114948},{"$f":"Nuclear!$D$8","v":307.69444444444446},0,14.71,5.7649999999999997,9.09,0]
["2018-03-22",24,8.11,3013,null,{"$f":"M1983","v":78.001666666666665},24.678333333333331,20.653333333333332,null,{"$f":"'Combined Cycle Gas'!$D$8","v":318.30459770114948},{"$f":"Nuclear!$D$8","v":307.69444444444446},0,17.618333333333332,7.1849999999999996,8.5283333333333342,0]
["2018-03-23",1,21.74,3013,null,{"$f":"M1984","v":93.941666666666663},55.363333333333337,32.866666666666667,null,{"$f":"'Combined Cycle Gas'!$D$8","v":318.30459770114948},{"$f":"Nuclear!$D$8","v":307.69444444444446},0,17.170000000000002,5.2,8.2533333333333339,0]
["2018-03-23",2,16.23,3013,null,{"$f":"M1985","v":110.38833333333334},57.451666666666661,59.568333333333328,null,{"$f":"'Combined Cycle Gas'!$D$8","v":318.30459770114948},{"$f":"Nuclear!$D$8","v":307.69444444444446},0,31.291666666666668,9.2666666666666675,13.088333333333333,0]
["2018-03-23",3,16.23,3013,null,{"$f":"M1986","v":86.913333333333341},46.626666666666665,66.811666666666667,null,{"$f":"'Combined Cycle Gas'!$D$8","v":318.30459770114948},{"$f":"Nuclear!$D$8","v":307.69444444444446},0,42.313333333333333,11.329999999999998,9.7066666666666652,0]
["2018-03-23",4,23.63,3011,null,{"$f":"M1987","v":44.256666666666668},28.026666666666667,41.073333333333331,null,{"$f":"'Combined Cycle Gas'!$D$8","v":318.30459770114948},{"$f":"Nuclear!$D$8","v":307.69444444444446},0,32.44,7.8216666666666663,9.0399999999999991,0]
["2018-03-23",5,23.63,2866,null,{"$f":"M1988","v":10.821666666666665},9.038333333333334,22.75,null,{"$f":"'Combined Cycle Gas'!$D$8","v":318.30459770114948},{"$f":"Nuclear!$D$8","v":307.69444444444446},0,49.06,11.611666666666666,14.486666666666665,0]
["2018-03-23",6,28.12,2714,null,{"$f":"M1989","v":11.424999999999999},8.8349999999999991,11.576666666666666,null,{"$f":"'Combined Cycle Gas'!$D$8","v":318.30459770114948},{"$f":"Nuclear!$D$8","v":307.69444444444446},0,78.001666666666665,24.678333333333331,20.653333333333332,0]
["2018-03-23",7,27.12,1902,null,{"$f":"M1990","v":14.985000000000001},10.704999999999998,11.031666666666668,null,{"$f":"'Combined Cycle Gas'!$D$8","v":318.30459770114948},{"$f":"Nuclear!$D$8","v":307.69444444444446},1.7158899999999999,93.941666666666663,55.363333333333337,32.866666666666667,1715890]
["2018-03-23",8,27.15,1942,null,{"$f":"M1991","v":6.77},4.9883333333333324,9.9,null,{"$f":"'Combined Cycle Gas'!$D$8","v":318.30459770114948},{"$f":"Nuclear!$D$8","v":307.69444444444446},5.0560280000000004,110.38833333333334,57.451666666666661,59.568333333333328,5056028]
["2018-03-23",9,27.22,1794,null,{"$f":"M1992","v":5.7116666666666669},4.3583333333333334,4.0000000000000009,null,{"$f":"'Combined Cycle Gas'!$D$8","v":318.30459770114948},{"$f":"Nuclear!$D$8","v":307.69444444444446},6.7687379999999999,86.913333333333341,46.626666666666665,66.811666666666667,6768738]
["2018-03-23",10,40.21,1449,null,{"$f":"M1993","v":5.8983333333333334},4.3500000000000005,2.9050000000000007,null,{"$f":"'Combined Cycle Gas'!$D$8","v":318.30459770114948},{"$f":"Nuclear!$D$8","v":307.69444444444446},7.4010350000000003,44.256666666666668,28.026666666666667,41.073333333333331,7401035]
["2018-03-23",11,29.86,1164,null,{"$f":"M1994","v":5.98},4.833333333333333,3.0333333333333337,null,{"$f":"'Combined Cycle Gas'!$D$8","v":318.30459770114948},{"$f":"Nuclear!$D$8","v":307.69444444444446},7.7290419999999997,10.821666666666665,9.038333333333334,22.75,7729042]
["2018-03-23",12,42.47,992,null,{"$f":"M1995","v":7.1149999999999993},5.0599999999999996,4.88,null,{"$f":"'Combined Cycle Gas'!$D$8","v":318.30459770114948},{"$f":"Nuclear!$D$8","v":307.69444444444446},7.8550199999999997,11.424999999999999,8.8349999999999991,11.576666666666666,7855020]
["2018-03-23",13,42.91,923,null,{"$f":"M1996","v":9.0983333333333327},5.0166666666666666,10.023333333333332,null,{"$f":"'Combined Cycle Gas'!$D$8","v":318.30459770114948},{"$f":"Nuclear!$D$8","v":307.69444444444446},7.8176600000000001,14.985000000000001,10.704999999999998,11.031666666666668,7817660]
["2018-03-23",14,41.9,804,null,{"$f":"M1997","v":12.706666666666669},7.6750000000000016,7.6499999999999995,null,{"$f":"'Combined Cycle Gas'!$D$8","v":318.30459770114948},{"$f":"Nuclear!$D$8","v":307.69444444444446},7.6127159999999998,6.77,4.9883333333333324,9.9,7612716]
["2018-03-23",15,46.58,479,null,{"$f":"M1998","v":18.096666666666668},9.8166666666666664,6.5166666666666666,null,{"$f":"'Combined Cycle Gas'!$D$8","v":318.30459770114948},{"$f":"Nuclear!$D$8","v":307.69444444444446},7.4151569999999998,5.7116666666666669,4.3583333333333334,4.0000000000000009,7415157]
["2018-03-23",16,46.14,261,null,{"$f":"M1999","v":23.284999999999997},13.174999999999999,3.898333333333333,null,{"$f":"'Combined Cycle Gas'!$D$8","v":318.30459770114948},{"$f":"Nuclear!$D$8","v":307.69444444444446},6.8563559999999999,5.8983333333333334,4.3500000000000005,2.9050000000000007,6856356]
["2018-03-23",17,45.66,148,null,{"$f":"M2000","v":24.395},13.953333333333333,4.53,null,{"$f":"'Combined Cycle Gas'!$D$8","v":318.30459770114948},{"$f":"Nuclear!$D$8","v":307.69444444444446},5.3593320000000002,5.98,4.833333333333333,3.0333333333333337,5359332]
["2018-03-23",18,48.21,106,null,{"$f":"M2001","v":30.039999999999996},16.111666666666668,9.3966666666666665,null,{"$f":"'Combined Cycle Gas'!$D$8","v":318.30459770114948},{"$f":"Nuclear!$D$8","v":307.69444444444446},1.3961319999999999,7.1149999999999993,5.0599999999999996,4.88,1396132]
["2018-03-23",19,47.9,345,null,{"$f":"M2002","v":46.755000000000003},26.123333333333335,22.808333333333334,null,{"$f":"'Combined Cycle Gas'!$D$8","v":318.30459770114948},{"$f":"Nuclear!$D$8","v":307.69444444444446},0,9.0983333333333327,5.0166666666666666,10.023333333333332,0]
["2018-03-23",20,42.42,846,null,{"$f":"M2003","v":60.116666666666667},45.138333333333328,35.016666666666666,null,{"$f":"'Combined Cycle Gas'!$D$8","v":318.30459770114948},{"$f":"Nuclear!$D$8","v":307.69444444444446},0,12.706666666666669,7.6750000000000016,7.6499999999999995,0]
["2018-03-23",21,40.4,879,null,{"$f":"M2004","v":57.151666666666664},32.926666666666669,44.41,null,{"$f":"'Combined Cycle Gas'!$D$8","v":318.30459770114948},{"$f":"Nuclear!$D$8","v":307.69444444444446},0,18.096666666666668,9.8166666666666664,6.5166666666666666,0]
["2018-03-23",22,37.130000000000003,958,null,{"$f":"M2005","v":56.169999999999995},33.061666666666667,26.896666666666665,null,{"$f":"'Combined Cycle Gas'!$D$8","v":318.30459770114948},{"$f":"Nuclear!$D$8","v":307.69444444444446},0,23.284999999999997,13.174999999999999,3.898333333333333,0]
["2018-03-23",23,24.68,504,null,{"$f":"M2006","v":66.161666666666676},31.97333333333334,17.799999999999997,null,{"$f":"'Combined Cycle Gas'!$D$8","v":318.30459770114948},{"$f":"Nuclear!$D$8","v":307.69444444444446},0,24.395,13.953333333333333,4.53,0]
["2018-03-23",24,21.28,424,null,{"$f":"M2007","v":55.238333333333337},28.89,19.401666666666667,null,{"$f":"'Combined Cycle Gas'!$D$8","v":318.30459770114948},{"$f":"Nuclear!$D$8","v":307.69444444444446},0,30.039999999999996,16.111666666666668,9.3966666666666665,0]
["2018-03-24",4,30.54,194,null,{"$f":"M2011","v":32.158333333333331},9.1833333333333318,3.6349999999999998,null,{"$f":"'Combined Cycle Gas'!$D$8","v":318.30459770114948},{"$f":"Nuclear!$D$8","v":307.69444444444446},0,56.169999999999995,33.061666666666667,26.896666666666665,0]
["2018-03-24",7,24.93,509,null,{"$f":"M2014","v":25.836666666666673},7.585,17.004999999999999,null,{"$f":"'Combined Cycle Gas'!$D$8","v":318.30459770114948},{"$f":"Nuclear!$D$8","v":307.69444444444446},5.7654999999999998E-2,42.841666666666669,19.459999999999997,18.258333333333329,57655]
["2018-03-24",11,42.04,198,null,{"$f":"M2018","v":32.663333333333334},21.868333333333336,16.921666666666667,null,{"$f":"'Combined Cycle Gas'!$D$8","v":318.30459770114948},{"$f":"Nuclear!$D$8","v":307.69444444444446},2.509557,22.8,5.1466666666666665,3.4550000000000001,2509557]
["2018-03-24",14,39.85,22,null,{"$f":"M2021","v":42.501666666666665},17.883333333333336,29.733333333333334,null,{"$f":"'Combined Cycle Gas'!$D$8","v":318.30459770114948},{"$f":"Nuclear!$D$8","v":307.69444444444446},6.4197800000000003,16.673333333333332,9.0783333333333314,19.801666666666666,6419780]
["2018-03-24",17,38.4,12,null,{"$f":"M2024","v":33.741666666666674},20.235000000000003,27.123333333333335,null,{"$f":"'Combined Cycle Gas'!$D$8","v":318.30459770114948},{"$f":"Nuclear!$D$8","v":307.69444444444446},0.18065200000000001,32.663333333333334,21.868333333333336,16.921666666666667,180652]
["2018-03-24",21,42.57,6,null,{"$f":"M2028","v":64.948333333333338},43.588333333333338,24.028333333333336,null,{"$f":"'Combined Cycle Gas'!$D$8","v":318.30459770114948},{"$f":"Nuclear!$D$8","v":307.69444444444446},0,36.050000000000004,24.421666666666667,20.036666666666665,0]
["2018-03-24",22,40.54,0,null,{"$f":"M2029","v":70.056666666666672},39.68333333333333,24.319999999999997,null,{"$f":"'Combined Cycle Gas'!$D$8","v":318.30459770114948},{"$f":"Nuclear!$D$8","v":307.69444444444446},0,26.474999999999998,27.919999999999998,20.895,0]
["2018-03-25",2,27.32,352,null,{"$f":"M2033","v":60.521666666666668},40.924999999999997,28.465,null,{"$f":"'Combined Cycle Gas'!$D$8","v":318.30459770114948},{"$f":"Nuclear!$D$8","v":307.69444444444446},0,52.75,47.406666666666666,27.02,0]
["2018-03-25",5,30.6,319,null,{"$f":"M2036","v":25.853333333333335},9.7666666666666675,6.871666666666667,null,{"$f":"'Combined Cycle Gas'!$D$8","v":318.30459770114948},{"$f":"Nuclear!$D$8","v":307.69444444444446},0,54.225000000000001,35.008333333333333,24.584999999999997,0]
["2018-03-25",8,31.22,389,null,{"$f":"M2039","v":8.4216666666666669},6.3483333333333336,5.4983333333333322,null,{"$f":"'Combined Cycle Gas'!$D$8","v":318.30459770114948},{"$f":"Nuclear!$D$8","v":307.69444444444446},0.83346600000000004,60.521666666666668,40.924999999999997,28.465,833466]
["2018-03-25",12,27.38,116,null,{"$f":"M2043","v":36.191666666666663},21.63,8.8549999999999986,null,{"$f":"'Combined Cycle Gas'!$D$8","v":318.30459770114948},{"$f":"Nuclear!$D$8","v":307.69444444444446},2.7515550000000002,11.696666666666667,5.8383333333333338,10.768333333333333,2751555]
["2018-03-25",15,29.01,264,null,{"$f":"M2046","v":40.448333333333331},32.19166666666667,23.251666666666665,null,{"$f":"'Combined Cycle Gas'!$D$8","v":318.30459770114948},{"$f":"Nuclear!$D$8","v":307.69444444444446},2.2761450000000001,12.016666666666666,7.1749999999999998,5.8016666666666667,2276145]
["2018-03-25",18,38.630000000000003,601,null,{"$f":"M2049","v":33.923333333333332},44.848333333333336,54.610000000000007,null,{"$f":"'Combined Cycle Gas'!$D$8","v":318.30459770114948},{"$f":"Nuclear!$D$8","v":307.69444444444446},2.4936E-2,36.191666666666663,21.63,8.8549999999999986,24936]
["2018-03-25",20,44.52,131,null,{"$f":"M2051","v":44.606666666666662},34.03,25.459999999999997,null,{"$f":"'Combined Cycle Gas'!$D$8","v":318.30459770114948},{"$f":"Nuclear!$D$8","v":307.69444444444446},0,55.29,25.13,11.681666666666667,0]
["2018-03-25",23,39.33,66,null,{"$f":"M2054","v":59.29},19.891666666666666,23.08,null,{"$f":"'Combined Cycle Gas'!$D$8","v":318.30459770114948},{"$f":"Nuclear!$D$8","v":307.69444444444446},0,35.331666666666671,27.11,30.641666666666666,0]
["2018-03-26",3,24.93,608,null,{"$f":"M2058","v":36.811666666666667},13.244999999999999,6.0183333333333335,null,{"$f":"'Combined Cycle Gas'!$D$8","v":318.30459770114948},{"$f":"Nuclear!$D$8","v":307.69444444444446},0,64.968333333333334,30.815000000000001,26.596666666666668,0]
["2018-03-26",6,38.72,544,null,{"$f":"M2061","v":12.744999999999999},5.0449999999999999,4.5383333333333331,null,{"$f":"'Combined Cycle Gas'!$D$8","v":318.30459770114948},{"$f":"Nuclear!$D$8","v":307.69444444444446},0,78.531666666666652,42.81,30.62,0]
["2018-03-26",9,40.520000000000003,559,null,{"$f":"M2064","v":7.7033333333333331},4.9516666666666671,4.4649999999999999,null,{"$f":"'Combined Cycle Gas'!$D$8","v":318.30459770114948},{"$f":"Nuclear!$D$8","v":307.69444444444446},6.4529120000000004,36.811666666666667,13.244999999999999,6.0183333333333335,6452912]
["2018-03-26",11,48.4,124,null,{"$f":"M2066","v":8.7799999999999994},6.0149999999999997,4.668333333333333,null,{"$f":"'Combined Cycle Gas'!$D$8","v":318.30459770114948},{"$f":"Nuclear!$D$8","v":307.69444444444446},8.0812910000000002,17.004999999999999,5.1050000000000004,4.5949999999999998,8081291]
["2018-03-26",17,41.85,382,null,{"$f":"M2072","v":15.065},4.8466666666666667,10.030000000000001,null,{"$f":"'Combined Cycle Gas'!$D$8","v":318.30459770114948},{"$f":"Nuclear!$D$8","v":307.69444444444446},4.5501040000000001,8.7799999999999994,6.0149999999999997,4.668333333333333,4550104]
["2018-03-26",18,41.45,430,null,{"$f":"M2073","v":11.568333333333333},4.4050000000000002,9.0583333333333336,null,{"$f":"'Combined Cycle Gas'!$D$8","v":318.30459770114948},{"$f":"Nuclear!$D$8","v":307.69444444444446},1.4964820000000001,10.873333333333335,6.3033333333333337,4.8999999999999995,1496482]
["2018-03-26",21,27.22,1393,null,{"$f":"M2076","v":18.848333333333333},7.0883333333333338,10.565,null,{"$f":"'Combined Cycle Gas'!$D$8","v":318.30459770114948},{"$f":"Nuclear!$D$8","v":307.69444444444446},0,15.854999999999999,7.06,9.043333333333333,0]
["2018-03-26",24,24.85,959,null,{"$f":"M2079","v":14.365000000000002},6.0133333333333328,3.8233333333333337,null,{"$f":"'Combined Cycle Gas'!$D$8","v":318.30459770114948},{"$f":"Nuclear!$D$8","v":307.69444444444446},0,11.568333333333333,4.4050000000000002,9.0583333333333336,0]
["2018-03-27",4,24.93,674,null,{"$f":"M2083","v":66.990000000000009},33.344999999999999,12.726666666666667,null,{"$f":"'Combined Cycle Gas'!$D$8","v":318.30459770114948},{"$f":"Nuclear!$D$8","v":307.69444444444446},0,13.200000000000001,9.3716666666666679,9.8699999999999992,0]
["2018-03-27",7,42.65,541,null,{"$f":"M2086","v":68.08},43.62833333333333,14.950000000000001,null,{"$f":"'Combined Cycle Gas'!$D$8","v":318.30459770114948},{"$f":"Nuclear!$D$8","v":307.69444444444446},2.2602259999999998,24.091666666666669,7.9950000000000001,4.4899999999999993,2260226]
["2018-03-27",12,42.75,47,null,{"$f":"M2091","v":21.091666666666665},15.278333333333334,8.2366666666666664,null,{"$f":"'Combined Cycle Gas'!$D$8","v":318.30459770114948},{"$f":"Nuclear!$D$8","v":307.69444444444446},7.3318640000000004,53.698333333333331,29.673333333333332,7.4433333333333325,7331864]
["2018-03-27",15,29.79,529,null,{"$f":"M2094","v":27.251666666666665},22.364999999999998,10.306666666666667,null,{"$f":"'Combined Cycle Gas'!$D$8","v":318.30459770114948},{"$f":"Nuclear!$D$8","v":307.69444444444446},6.0219889999999996,51.47,26.941666666666666,6.3150000000000004,6021989]
["2018-03-27",18,42.62,1558,null,{"$f":"M2097","v":52.416666666666664},58.043333333333329,29.745000000000001,null,{"$f":"'Combined Cycle Gas'!$D$8","v":318.30459770114948},{"$f":"Nuclear!$D$8","v":307.69444444444446},1.0366420000000001,21.091666666666665,15.278333333333334,8.2366666666666664,1036642]
["2018-03-27",19,29.6,2130,null,{"$f":"M2098","v":65.081666666666663},66.706666666666663,36.734999999999999,null,{"$f":"'Combined Cycle Gas'!$D$8","v":318.30459770114948},{"$f":"Nuclear!$D$8","v":307.69444444444446},0,15.211666666666668,16.991666666666664,8.3199999999999985,0]
["2018-03-27",22,26.39,3013,null,{"$f":"M2101","v":125.88333333333333},97.083333333333329,88.105000000000004,null,{"$f":"'Combined Cycle Gas'!$D$8","v":318.30459770114948},{"$f":"Nuclear!$D$8","v":307.69444444444446},0,32.05833333333333,25.671666666666667,17.088333333333335,0]
["2018-03-28",1,16.149999999999999,3013,null,{"$f":"M2104","v":126.21},99.158333333333346,97.154999999999987,null,{"$f":"'Combined Cycle Gas'!$D$8","v":318.30459770114948},{"$f":"Nuclear!$D$8","v":307.69444444444446},0,65.081666666666663,66.706666666666663,36.734999999999999,0]
["2018-03-28",5,21.26,3013,null,{"$f":"M2108","v":95.563333333333347},96.581666666666663,95.553333333333327,null,{"$f":"'Combined Cycle Gas'!$D$8","v":318.30459770114948},{"$f":"Nuclear!$D$8","v":307.69444444444446},0,123.57166666666666,98.218333333333348,100.25666666666666,0]
["2018-03-28",9,26.38,3012,null,{"$f":"M2112","v":77.808333333333337},43.068333333333328,62.013333333333328,null,{"$f":"'Combined Cycle Gas'!$D$8","v":318.30459770114948},{"$f":"Nuclear!$D$8","v":307.69444444444446},0.24401400000000001,125.81833333333334,104.2,96.504999999999995,244014]
["2018-03-28",12,26.38,3012,null,{"$f":"M2115","v":95.7},49.971666666666664,72.45,null,{"$f":"'Combined Cycle Gas'!$D$8","v":318.30459770114948},{"$f":"Nuclear!$D$8","v":307.69444444444446},3.1239319999999999,77.83,82.146666666666661,84.478333333333339,3123932]
["2018-03-28",16,26.38,3012,null,{"$f":"M2119","v":63.368333333333332},35.21,60.601666666666667,null,{"$f":"'Combined Cycle Gas'!$D$8","v":318.30459770114948},{"$f":"Nuclear!$D$8","v":307.69444444444446},6.8400600000000003,90.106666666666669,45.468333333333334,59.793333333333329,6840060]
["2018-03-28",19,26.42,2672,null,{"$f":"M2122","v":28.325000000000003},19.920000000000002,34.766666666666659,null,{"$f":"'Combined Cycle Gas'!$D$8","v":318.30459770114948},{"$f":"Nuclear!$D$8","v":307.69444444444446},0,91.72499999999998,39.24666666666667,66.478333333333339,0]
["2018-03-28",20,25.9,2574,null,{"$f":"M2123","v":24.113333333333333},21.213333333333331,42.226666666666667,null,{"$f":"'Combined Cycle Gas'!$D$8","v":318.30459770114948},{"$f":"Nuclear!$D$8","v":307.69444444444446},0,81.798333333333332,33.598333333333329,63.406666666666666,0]
["2018-03-28",23,33,1451,null,{"$f":"M2126","v":29.418333333333333},10.388333333333334,20.883333333333336,null,{"$f":"'Combined Cycle Gas'!$D$8","v":318.30459770114948},{"$f":"Nuclear!$D$8","v":307.69444444444446},0,35.71,13.68,44.233333333333327,0]
["2018-03-29",2,23.59,1174,null,{"$f":"M2129","v":34.673333333333339},25.396666666666665,15.248333333333333,null,{"$f":"'Combined Cycle Gas'!$D$8","v":318.30459770114948},{"$f":"Nuclear!$D$8","v":307.69444444444446},0,24.113333333333333,21.213333333333331,42.226666666666667,0]
["2018-03-29",7,40.520000000000003,2068,null,{"$f":"M2134","v":1.6199999999999999},0,0.98166666666666658,null,{"$f":"'Combined Cycle Gas'!$D$8","v":318.30459770114948},{"$f":"Nuclear!$D$8","v":307.69444444444446},2.8667739999999999,30.053333333333331,30.326666666666672,23.89833333333333,2866774]
["2018-03-29",10,40.229999999999997,1145,null,{"$f":"M2137","v":0},0,1.05,null,{"$f":"'Combined Cycle Gas'!$D$8","v":318.30459770114948},{"$f":"Nuclear!$D$8","v":307.69444444444446},7.3616760000000001,18.578333333333333,10.528333333333332,4.0383333333333331,7361676]
["2018-03-29",14,48.9,461,null,{"$f":"M2141","v":0.22500000000000001},0.12833333333333333,1.1049999999999998,null,{"$f":"'Combined Cycle Gas'!$D$8","v":318.30459770114948},{"$f":"Nuclear!$D$8","v":307.69444444444446},5.8289119999999999,0,0,1.0033333333333332,5828912]
["2018-03-29",17,46.53,127,null,{"$f":"M2144","v":0},0,0.89166666666666672,null,{"$f":"'Combined Cycle Gas'!$D$8","v":318.30459770114948},{"$f":"Nuclear!$D$8","v":307.69444444444446},5.0979099999999997,2.3333333333333334E-2,1.6666666666666668E-3,1.071666666666667,5097910]
["2018-03-29",20,47.89,66,null,{"$f":"M2147","v":0},0.17833333333333334,0.63166666666666671,null,{"$f":"'Combined Cycle Gas'!$D$8","v":318.30459770114948},{"$f":"Nuclear!$D$8","v":307.69444444444446},0,0.22500000000000001,0.12833333333333333,1.1049999999999998,0]
["2018-03-29",21,49.65,199,null,{"$f":"M2148","v":4.4683333333333328},0.13500000000000001,0.54500000000000004,null,{"$f":"'Combined Cycle Gas'!$D$8","v":318.30459770114948},{"$f":"Nuclear!$D$8","v":307.69444444444446},0,5.3333333333333337E-2,5.4999999999999993E-2,1.0250000000000001,0]
["2018-03-30",3,24.93,871,null,{"$f":"M2154","v":84.418333333333337},72.393333333333331,49.004999999999995,null,{"$f":"'Combined Cycle Gas'!$D$8","v":318.30459770114948},{"$f":"Nuclear!$D$8","v":307.69444444444446},0,4.4683333333333328,0.13500000000000001,0.54500000000000004,0]
["2018-03-30",4,24.93,875,null,{"$f":"M2155","v":94.033333333333346},97.583333333333329,67.635000000000005,null,{"$f":"'Combined Cycle Gas'!$D$8","v":318.30459770114948},{"$f":"Nuclear!$D$8","v":307.69444444444446},0,5.6183333333333323,0,5.9966666666666661,0]
["2018-03-30",8,36.26,1759,null,{"$f":"M2159","v":87.823333333333338},93.216666666666654,74.156666666666666,null,{"$f":"'Combined Cycle Gas'!$D$8","v":318.30459770114948},{"$f":"Nuclear!$D$8","v":307.69444444444446},6.11496,56.254999999999995,30.284999999999997,39.695,6114960]
["2018-03-30",11,28.96,1877,null,{"$f":"M2162","v":46.235000000000007},51.508333333333333,66.165000000000006,null,{"$f":"'Combined Cycle Gas'!$D$8","v":318.30459770114948},{"$f":"Nuclear!$D$8","v":307.69444444444446},8.3370820000000005,92.986666666666679,102.65500000000002,97.11,8337082]
["2018-03-30",15,27.86,2937,null,{"$f":"M2166","v":43.486666666666672},31.49666666666667,50.263333333333343,null,{"$f":"'Combined Cycle Gas'!$D$8","v":318.30459770114948},{"$f":"Nuclear!$D$8","v":307.69444444444446},7.7651620000000001,69.405000000000001,67.043333333333337,64.74666666666667,7765162]
["2018-03-30",18,27.32,2656,null,{"$f":"M2169","v":79.036666666666676},59.973333333333336,49.17166666666666,null,{"$f":"'Combined Cycle Gas'!$D$8","v":318.30459770114948},{"$f":"Nuclear!$D$8","v":307.69444444444446},1.164968,39.064999999999991,39.808333333333337,63.211666666666673,1164968]
["2018-03-30",20,26.07,2743,null,{"$f":"M2171","v":110.20833333333333},78.883333333333326,76.246666666666655,null,{"$f":"'Combined Cycle Gas'!$D$8","v":318.30459770114948},{"$f":"Nuclear!$D$8","v":307.69444444444446},0,40.164999999999999,31.081666666666667,55.851666666666667,0]
["2018-03-30",23,21.7,3013,null,{"$f":"M2174","v":123.63666666666666},106.11166666666666,105.52999999999999,null,{"$f":"'Combined Cycle Gas'!$D$8","v":318.30459770114948},{"$f":"Nuclear!$D$8","v":307.69444444444446},0,57.379999999999995,47.021666666666668,46.678333333333335,0]
["2018-03-31",2,21.45,3013,null,{"$f":"M2177","v":132.83166666666668},107.09499999999998,109.91333333333334,null,{"$f":"'Combined Cycle Gas'!$D$8","v":318.30459770114948},{"$f":"Nuclear!$D$8","v":307.69444444444446},0,110.20833333333333,78.883333333333326,76.246666666666655,0]
["2018-03-31",6,21.46,3013,null,{"$f":"M2181","v":118.22333333333334},99.233333333333334,103.78333333333335,null,{"$f":"'Combined Cycle Gas'!$D$8","v":318.30459770114948},{"$f":"Nuclear!$D$8","v":307.69444444444446},0,118.24333333333333,104.19666666666667,107.38333333333334,0]
["2018-03-31",9,27.89,2855,null,{"$f":"M2184","v":123.94833333333334},105.65833333333335,90.31,null,{"$f":"'Combined Cycle Gas'!$D$8","v":318.30459770114948},{"$f":"Nuclear!$D$8","v":307.69444444444446},7.1733510000000003,137.6866666666667,110.57000000000001,107.28166666666668,7173351]
["2018-03-31",12,26.33,3012,null,{"$f":"M2187","v":83.821666666666658},97.86333333333333,104.79333333333331,null,{"$f":"'Combined Cycle Gas'!$D$8","v":318.30459770114948},{"$f":"Nuclear!$D$8","v":307.69444444444446},7.5707139999999997,118.22333333333334,99.233333333333334,103.78333333333335,7570714]
["2018-03-31",16,27.91,3012,null,{"$f":"M2191","v":83.910000000000011},77.661666666666676,75.618333333333325,null,{"$f":"'Combined Cycle Gas'!$D$8","v":318.30459770114948},{"$f":"Nuclear!$D$8","v":307.69444444444446},6.8747499999999997,94.995000000000005,108.78666666666665,102.84000000000002,6874750]
["2018-03-31",17,30.01,3020,null,{"$f":"M2192","v":111.62166666666667},103.98500000000001,75.800000000000011,null,{"$f":"'Combined Cycle Gas'!$D$8","v":318.30459770114948},{"$f":"Nuclear!$D$8","v":307.69444444444446},5.5133679999999998,79.193333333333342,106.48833333333334,102.47166666666668,5513368]
["2018-03-31",23,7.16,3013,null,{"$f":"M2198","v":89.296666666666667},102.11833333333333,92.083333333333329,null,{"$f":"'Combined Cycle Gas'!$D$8","v":318.30459770114948},{"$f":"Nuclear!$D$8","v":307.69444444444446},0,111.62166666666667,103.98500000000001,75.800000000000011,0]
["2018-03-31",24,1.68,3012,null,{"$f":"M2199","v":96.928333333333342},103.67166666666667,86.421666666666667,null,{"$f":"'Combined Cycle Gas'!$D$8","v":318.30459770114948},{"$f":"Nuclear!$D$8","v":307.69444444444446},0,138.08666666666667,105.90333333333332,80.723333333333343,0]
["2018-04-01",3,1.04,2967,null,{"$f":"M2202","v":55.00333333333333},63.413333333333334,79.845000000000013,null,{"$f":"'Combined Cycle Gas'!$D$8","v":318.30459770114948},{"$f":"Nuclear!$D$8","v":307.69444444444446},0,105.18833333333332,107.56166666666667,99.008333333333326,0]
["2018-04-01",7,0.01,2968,null,{"$f":"M2206","v":16.670000000000002},3.043333333333333,29.481666666666666,null,{"$f":"'Combined Cycle Gas'!$D$8","v":318.30459770114948},{"$f":"Nuclear!$D$8","v":307.69444444444446},2.4549759999999998,84.016666666666666,87.65000000000002,86.043333333333337,2454976]
["2018-04-01",10,21.38,2977,null,{"$f":"M2209","v":8.4883333333333333},2.0150000000000001,11.333333333333334,null,{"$f":"'Combined Cycle Gas'!$D$8","v":318.30459770114948},{"$f":"Nuclear!$D$8","v":307.69444444444446},7.4466900000000003,42.721666666666664,38.638333333333328,67.618333333333325,7446690]
["2018-04-01",13,21.28,2967,null,{"$f":"M2212","v":18.559999999999999},8.1633333333333322,20.693333333333332,null,{"$f":"'Combined Cycle Gas'!$D$8","v":318.30459770114948},{"$f":"Nuclear!$D$8","v":307.69444444444446},7.4064100000000002,16.670000000000002,3.043333333333333,29.481666666666666,7406410]
["2018-04-01",18,24.27,2363,null,{"$f":"M2217","v":1.0633333333333332},0.69833333333333325,18.646666666666665,null,{"$f":"'Combined Cycle Gas'!$D$8","v":318.30459770114948},{"$f":"Nuclear!$D$8","v":307.69444444444446},{"$f":"P2211/10^6","v":2.7111399999999999},11.149999999999999,9.3266666666666662,13.743333333333332,2711140]
["2018-04-01",21,25.31,191,null,{"$f":"M2220","v":43.505000000000003},28.871666666666666,24.8,null,{"$f":"'Combined Cycle Gas'!$D$8","v":318.30459770114948},{"$f":"Nuclear!$D$8","v":307.69444444444446},0,22.951666666666668,16.186666666666671,19.315000000000001,0]
["2018-04-01",24,25.99,0,null,{"$f":"M2223","v":4.5000000000000005E-2},6.1216666666666661,2.313333333333333,null,{"$f":"'Combined Cycle Gas'!$D$8","v":318.30459770114948},{"$f":"Nuclear!$D$8","v":307.69444444444446},0,1.0633333333333332,0.69833333333333325,18.646666666666665,0]
["2018-04-02",1,28.78,179,null,{"$f":"M2224","v":0},2.2783333333333333,1.4549999999999998,null,{"$f":"'Combined Cycle Gas'!$D$8","v":318.30459770114948},{"$f":"Nuclear!$D$8","v":307.69444444444446},0,16.311666666666667,11.381666666666666,35.911666666666669,0]
["2018-04-02",4,23.04,349,null,{"$f":"M2227","v":12.024999999999999},8.2949999999999999,4.54,null,{"$f":"'Combined Cycle Gas'!$D$8","v":318.30459770114948},{"$f":"Nuclear!$D$8","v":307.69444444444446},0,46.673333333333339,21.825000000000003,21.713333333333335,0]
["2018-04-02",8,37.99,144,null,{"$f":"M2231","v":28.188333333333333},41.541666666666664,9.8849999999999998,null,{"$f":"'Combined Cycle Gas'!$D$8","v":318.30459770114948},{"$f":"Nuclear!$D$8","v":307.69444444444446},2.5334180000000002,0,0,1.3966666666666667,2533418]
["2018-04-02",11,28.48,0,null,{"$f":"M2234","v":46.781666666666666},49.883333333333333,33.461666666666666,null,{"$f":"'Combined Cycle Gas'!$D$8","v":318.30459770114948},{"$f":"Nuclear!$D$8","v":307.69444444444446},5.5922910000000003,31.284999999999997,21.650000000000002,12.666666666666666,5592291]
["2018-04-02",15,35.03,0,null,{"$f":"M2238","v":50.42499999999999},87.625,55.523333333333333,null,{"$f":"'Combined Cycle Gas'!$D$8","v":318.30459770114948},{"$f":"Nuclear!$D$8","v":307.69444444444446},2.0521500000000001,38.468333333333334,37.339999999999996,9.7949999999999999,2052150]
["2018-04-02",19,36.200000000000003,0,null,{"$f":"M2242","v":130.24},108.21666666666665,102.91333333333334,null,{"$f":"'Combined Cycle Gas'!$D$8","v":318.30459770114948},{"$f":"Nuclear!$D$8","v":307.69444444444446},0,38.410000000000004,72.485000000000014,10.203333333333333,0]
["2018-04-02",22,31.06,1704,null,{"$f":"M2245","v":123.95833333333333},108.03500000000001,107.06666666666668,null,{"$f":"'Combined Cycle Gas'!$D$8","v":318.30459770114948},{"$f":"Nuclear!$D$8","v":307.69444444444446},0,57.873333333333335,91.84333333333332,68.768333333333331,0]
["2018-04-02",23,9.4700000000000006,2444,null,{"$f":"M2246","v":129.48333333333332},102.57833333333333,108.32000000000001,null,{"$f":"'Combined Cycle Gas'!$D$8","v":318.30459770114948},{"$f":"Nuclear!$D$8","v":307.69444444444446},0,82.058333333333323,96.809999999999988,90.365000000000009,0]
["2018-04-03",2,22.17,2151,null,{"$f":"M2249","v":116.67333333333335},72.218333333333348,96.978333333333339,null,{"$f":"'Combined Cycle Gas'!$D$8","v":318.30459770114948},{"$f":"Nuclear!$D$8","v":307.69444444444446},0,135.58833333333334,108.33166666666666,108.38499999999999,0]
["2018-04-03",5,21.24,2417,null,{"$f":"M2252","v":90.948333333333338},54.273333333333333,54.611666666666672,null,{"$f":"'Combined Cycle Gas'!$D$8","v":318.30459770114948},{"$f":"Nuclear!$D$8","v":307.69444444444446},0,129.48333333333332,102.57833333333333,108.32000000000001,0]
["2018-04-03",8,35.06,1664,null,{"$f":"M2255","v":35.256666666666668},34.95000000000001,71.371666666666684,null,{"$f":"'Combined Cycle Gas'!$D$8","v":318.30459770114948},{"$f":"Nuclear!$D$8","v":307.69444444444446},2.8673090000000001,116.67333333333335,72.218333333333348,96.978333333333339,2867309]
["2018-04-03",13,40.47,924,null,{"$f":"M2260","v":107.51666666666669},84.823333333333338,92.36,null,{"$f":"'Combined Cycle Gas'!$D$8","v":318.30459770114948},{"$f":"Nuclear!$D$8","v":307.69444444444446},6.231287,43.526666666666671,36.893333333333331,53.858333333333341,6231287]
["2018-04-03",16,25.98,2623,null,{"$f":"M2263","v":117.43166666666666},81.123333333333335,90.331666666666649,null,{"$f":"'Combined Cycle Gas'!$D$8","v":318.30459770114948},{"$f":"Nuclear!$D$8","v":307.69444444444446},3.0339849999999999,99.22166666666665,80.254999999999995,90.951666666666668,3033985]
["2018-04-03",20,25.9,2252,null,{"$f":"M2267","v":103.42333333333335},74.126666666666679,72.87833333333333,null,{"$f":"'Combined Cycle Gas'!$D$8","v":318.30459770114948},{"$f":"Nuclear!$D$8","v":307.69444444444446},0,114.69666666666667,83.716666666666654,92.21,0]
["2018-04-03",23,24.74,3195,null,{"$f":"M2270","v":76.165000000000006},37.865000000000002,23.23,null,{"$f":"'Combined Cycle Gas'!$D$8","v":318.30459770114948},{"$f":"Nuclear!$D$8","v":307.69444444444446},0,113.77666666666669,61.725000000000001,92.25,0]
["2018-04-03",24,16.43,2409,null,{"$f":"M2271","v":65.424999999999997},28.743333333333336,17.38,null,{"$f":"'Combined Cycle Gas'!$D$8","v":318.30459770114948},{"$f":"Nuclear!$D$8","v":307.69444444444446},0,108.81166666666665,72.713333333333324,96.533333333333346,0]
["2018-04-04",3,21.83,1373,null,{"$f":"M2274","v":23.291666666666668},29.90166666666666,15.826666666666668,null,{"$f":"'Combined Cycle Gas'!$D$8","v":318.30459770114948},{"$f":"Nuclear!$D$8","v":307.69444444444446},0,88.265000000000001,57.523333333333333,57.066666666666663,0]
["2018-04-04",9,27.11,2084,null,{"$f":"M2280","v":2.723333333333334},2.1583333333333332,3.7849999999999997,null,{"$f":"'Combined Cycle Gas'!$D$8","v":318.30459770114948},{"$f":"Nuclear!$D$8","v":307.69444444444446},6.0169430000000004,23.291666666666668,29.90166666666666,15.826666666666668,6016943]
["2018-04-04",11,35.57,1863,null,{"$f":"M2282","v":2.9966666666666666},2.2283333333333331,10.608333333333333,null,{"$f":"'Combined Cycle Gas'!$D$8","v":318.30459770114948},{"$f":"Nuclear!$D$8","v":307.69444444444446},4.7868740000000001,13.938333333333333,38.328333333333333,27.811666666666667,4786874]
["2018-04-04",14,36.369999999999997,1290,null,{"$f":"M2285","v":15.285000000000002},8.0716666666666672,26.320000000000004,null,{"$f":"'Combined Cycle Gas'!$D$8","v":318.30459770114948},{"$f":"Nuclear!$D$8","v":307.69444444444446},2.3843640000000001,2.8866666666666667,2.0916666666666663,3.7716666666666669,2384364]
["2018-04-04",17,34.74,1200,null,{"$f":"M2288","v":5.28},8.83,51.449999999999996,null,{"$f":"'Combined Cycle Gas'!$D$8","v":318.30459770114948},{"$f":"Nuclear!$D$8","v":307.69444444444446},0.49576300000000001,2.9966666666666666,2.2283333333333331,10.608333333333333,495763]
["2018-04-04",21,32.26,1851,null,{"$f":"M2292","v":25.700000000000003},25.876666666666665,66.038333333333341,null,{"$f":"'Combined Cycle Gas'!$D$8","v":318.30459770114948},{"$f":"Nuclear!$D$8","v":307.69444444444446},0,21.08,7.25,37.81333333333334,0]
["2018-04-04",24,22.23,1871,null,{"$f":"M2295","v":58.949999999999996},8.0033333333333339,64.851666666666674,null,{"$f":"'Combined Cycle Gas'!$D$8","v":318.30459770114948},{"$f":"Nuclear!$D$8","v":307.69444444444446},0,7.9000000000000012,14.091666666666667,58.835000000000001,0]
["2018-04-05",2,18.75,1246,null,{"$f":"M2297","v":41.405000000000001},6.1183333333333332,64.055000000000007,null,{"$f":"'Combined Cycle Gas'!$D$8","v":318.30459770114948},{"$f":"Nuclear!$D$8","v":307.69444444444446},0,22.561666666666667,25.611666666666665,66.178333333333327,0]
["2018-04-05",5,23.63,1122,null,{"$f":"M2300","v":27.171666666666667},2.4249999999999998,29.175000000000008,null,{"$f":"'Combined Cycle Gas'!$D$8","v":318.30459770114948},{"$f":"Nuclear!$D$8","v":307.69444444444446},0,52.573333333333323,9.15,65.331666666666663,0]
["2018-04-05",8,36.020000000000003,892,null,{"$f":"M2303","v":6.0049999999999999},4.7649999999999997,3.8350000000000004,null,{"$f":"'Combined Cycle Gas'!$D$8","v":318.30459770114948},{"$f":"Nuclear!$D$8","v":307.69444444444446},0.95623499999999995,41.405000000000001,6.1183333333333332,64.055000000000007,956235]
["2018-04-05",12,40.479999999999997,134,null,{"$f":"M2307","v":3.5550000000000002},2.7016666666666667,4.665,null,{"$f":"'Combined Cycle Gas'!$D$8","v":318.30459770114948},{"$f":"Nuclear!$D$8","v":307.69444444444446},2.9142100000000002,11.623333333333335,2.4449999999999998,15.65,2914210]
["2018-04-05",15,45.09,7,null,{"$f":"M2310","v":4.0949999999999998},2.938333333333333,13.569999999999999,null,{"$f":"'Combined Cycle Gas'!$D$8","v":318.30459770114948},{"$f":"Nuclear!$D$8","v":307.69444444444446},3.7320440000000001,3.4833333333333329,2.7733333333333334,3.6766666666666672,3732044]
["2018-04-05",19,43.03,189,null,{"$f":"M2314","v":4.7866666666666662},3.3633333333333333,10.686666666666667,null,{"$f":"'Combined Cycle Gas'!$D$8","v":318.30459770114948},{"$f":"Nuclear!$D$8","v":307.69444444444446},0,3.8483333333333332,2.7466666666666666,5.6700000000000008,0]
["2018-04-05",22,34.17,1803,null,{"$f":"M2317","v":4.8966666666666674},4.0683333333333334,11.143333333333333,null,{"$f":"'Combined Cycle Gas'!$D$8","v":318.30459770114948},{"$f":"Nuclear!$D$8","v":307.69444444444446},0,4.1566666666666663,3.1649999999999996,12.63,0]
["2018-04-05",23,19.79,1796,null,{"$f":"M2318","v":14.219999999999999},18.066666666666666,14.771666666666667,null,{"$f":"'Combined Cycle Gas'!$D$8","v":318.30459770114948},{"$f":"Nuclear!$D$8","v":307.69444444444446},0,4.2333333333333334,3.1750000000000003,12.551666666666668,0]
["2018-04-06",3,2.21,1951,null,{"$f":"M2322","v":89.166666666666671},78.468333333333334,26.433333333333337,null,{"$f":"'Combined Cycle Gas'!$D$8","v":318.30459770114948},{"$f":"Nuclear!$D$8","v":307.69444444444446},0,4.8266666666666671,3.6633333333333336,9.211666666666666,0]
["2018-04-06",6,21.54,2269,null,{"$f":"M2325","v":128.52166666666668},95.69,50.1,null,{"$f":"'Combined Cycle Gas'!$D$8","v":318.30459770114948},{"$f":"Nuclear!$D$8","v":307.69444444444446},0,38.508333333333333,39.521666666666661,18.13,0]
["2018-04-06",9,24.81,2676,null,{"$f":"M2328","v":128.20166666666668},102.76166666666666,33.511666666666663,null,{"$f":"'Combined Cycle Gas'!$D$8","v":318.30459770114948},{"$f":"Nuclear!$D$8","v":307.69444444444446},1.512384,89.166666666666671,78.468333333333334,26.433333333333337,1512384]
["2018-04-06",13,28.33,2441,null,{"$f":"M2332","v":93.421666666666667},95.026666666666685,60.321666666666658,null,{"$f":"'Combined Cycle Gas'!$D$8","v":318.30459770114948},{"$f":"Nuclear!$D$8","v":307.69444444444446},4.5879839999999996,88.754999999999995,69.241666666666674,34.413333333333334,4587984]
["2018-04-06",16,26.9,2767,null,{"$f":"M2335","v":119.38166666666666},100.11,77.858333333333334,null,{"$f":"'Combined Cycle Gas'!$D$8","v":318.30459770114948},{"$f":"Nuclear!$D$8","v":307.69444444444446},6.5670299999999999,114.75666666666666,112.06166666666667,39.044999999999995,6567030]
["2018-04-06",20,27.19,2928,null,{"$f":"M2339","v":149.54333333333335},99.196666666666673,106.53166666666665,null,{"$f":"'Combined Cycle Gas'!$D$8","v":318.30459770114948},{"$f":"Nuclear!$D$8","v":307.69444444444446},0,98.183333333333337,94.041666666666671,69.801666666666662,0]
["2018-04-06",24,0.16,2638,null,{"$f":"M2343","v":150.87666666666667},108.33499999999999,105.065,null,{"$f":"'Combined Cycle Gas'!$D$8","v":318.30459770114948},{"$f":"Nuclear!$D$8","v":307.69444444444446},0,147.75333333333336,85.981666666666669,91.541666666666671,0]
["2018-04-07",3,1.5,2620,null,{"$f":"M2346","v":145.32},112.11333333333333,109.83999999999999,null,{"$f":"'Combined Cycle Gas'!$D$8","v":318.30459770114948},{"$f":"Nuclear!$D$8","v":307.69444444444446},0,148.19666666666669,107.71666666666665,105.34333333333332,0]
["2018-04-07",4,30.69,2895,null,{"$f":"M2347","v":142.95500000000001},111.3,104.95666666666666,null,{"$f":"'Combined Cycle Gas'!$D$8","v":318.30459770114948},{"$f":"Nuclear!$D$8","v":307.69444444444446},0,148.815,108.08333333333333,103.32833333333333,0]
["2018-04-07",7,1.01,1713,null,{"$f":"M2350","v":131.28666666666666},100.42,103.40333333333335,null,{"$f":"'Combined Cycle Gas'!$D$8","v":318.30459770114948},{"$f":"Nuclear!$D$8","v":307.69444444444446},3.3998780000000002,150.24833333333333,111.76333333333332,104.97833333333331,3399878]
["2018-04-07",11,36.33,1306,null,{"$f":"M2354","v":110.45666666666666},102.50833333333334,102.92166666666667,null,{"$f":"'Combined Cycle Gas'!$D$8","v":318.30459770114948},{"$f":"Nuclear!$D$8","v":307.69444444444446},6.9777940000000003,140.22666666666666,109.24833333333333,104.61333333333333,6977794]
["2018-04-07",14,24.56,1718,null,{"$f":"M2357","v":104.61333333333333},90.541666666666671,96.464999999999989,null,{"$f":"'Combined Cycle Gas'!$D$8","v":318.30459770114948},{"$f":"Nuclear!$D$8","v":307.69444444444446},6.7263130000000002,132.98500000000001,102.97833333333334,100.67333333333335,6726313]
["2018-04-07",17,24.43,3023,null,{"$f":"M2360","v":145.98333333333332},87.896666666666661,78.668333333333337,null,{"$f":"'Combined Cycle Gas'!$D$8","v":318.30459770114948},{"$f":"Nuclear!$D$8","v":307.69444444444446},5.2605659999999999,110.45666666666666,102.50833333333334,102.92166666666667,5260566]
["2018-04-07",22,16.59,2108,null,{"$f":"M2365","v":86.61333333333333},99.65666666666668,66.336666666666659,null,{"$f":"'Combined Cycle Gas'!$D$8","v":318.30459770114948},{"$f":"Nuclear!$D$8","v":307.69444444444446},0,143.26,98.655000000000015,61.03,0]
["2018-04-08",1,24.78,2806,null,{"$f":"M2368","v":134.70000000000002},29.956666666666667,98.575000000000003,null,{"$f":"'Combined Cycle Gas'!$D$8","v":318.30459770114948},{"$f":"Nuclear!$D$8","v":307.69444444444446},0,139.09833333333333,107,64.463333333333324,0]
["2018-04-08",4,21.63,2534,null,{"$f":"M2371","v":48.296666666666674},21.60166666666667,33.414999999999999,null,{"$f":"'Combined Cycle Gas'!$D$8","v":318.30459770114948},{"$f":"Nuclear!$D$8","v":307.69444444444446},0,86.61333333333333,99.65666666666668,66.336666666666659,0]
["2018-04-08",5,21.13,2585,null,{"$f":"M2372","v":27.001666666666665},5.3449999999999998,29.633333333333329,null,{"$f":"'Combined Cycle Gas'!$D$8","v":318.30459770114948},{"$f":"Nuclear!$D$8","v":307.69444444444446},0,104.51833333333332,84.706666666666663,99.463333333333324,0]
["2018-04-08",8,29.17,1947,null,{"$f":"M2375","v":4.6083333333333334},2.936666666666667,6.5650000000000004,null,{"$f":"'Combined Cycle Gas'!$D$8","v":318.30459770114948},{"$f":"Nuclear!$D$8","v":307.69444444444446},2.591936,40.336666666666666,53.75333333333333,93.456666666666649,2591936]
["2018-04-08",12,16.46,3018,null,{"$f":"M2379","v":47.87833333333333},58.744999999999997,34.06166666666666,null,{"$f":"'Combined Cycle Gas'!$D$8","v":318.30459770114948},{"$f":"Nuclear!$D$8","v":307.69444444444446},3.8686859999999998,22.136666666666667,4.3250000000000002,4.7483333333333331,3868686]
["2018-04-08",14,16.55,3051,null,{"$f":"M2381","v":108.06833333333334},86.428333333333327,48.083333333333336,null,{"$f":"'Combined Cycle Gas'!$D$8","v":318.30459770114948},{"$f":"Nuclear!$D$8","v":307.69444444444446},6.6528520000000002,4.6083333333333334,2.936666666666667,6.5650000000000004,6652852]
["2018-04-08",19,25.83,2769,null,{"$f":"M2386","v":88.486666666666665},57.691666666666663,49.856666666666662,null,{"$f":"'Combined Cycle Gas'!$D$8","v":318.30459770114948},{"$f":"Nuclear!$D$8","v":307.69444444444446},4.7399999999999997E-4,91.614999999999995,64.8,41.74666666666667,474]
["2018-04-08",23,24.87,1591,null,{"$f":"M2390","v":114.89166666666667},77.58,66.835000000000022,null,{"$f":"'Combined Cycle Gas'!$D$8","v":318.30459770114948},{"$f":"Nuclear!$D$8","v":307.69444444444446},0,100.30000000000001,58.65,41.87,0]
["2018-04-09",2,24.17,2957,null,{"$f":"M2393","v":87.74666666666667},63.476666666666667,34.956666666666671,null,{"$f":"'Combined Cycle Gas'!$D$8","v":318.30459770114948},{"$f":"Nuclear!$D$8","v":307.69444444444446},0,95.976666666666674,74.981666666666669,58.633333333333326,0]
["2018-04-09",5,21.83,3233,null,{"$f":"M2396","v":51.851666666666667},45.461666666666673,43.225000000000001,null,{"$f":"'Combined Cycle Gas'!$D$8","v":318.30459770114948},{"$f":"Nuclear!$D$8","v":307.69444444444446},0,114.89166666666667,77.58,66.835000000000022,0]
["2018-04-09",6,29.92,3231,null,{"$f":"M2397","v":42.365000000000002},30.39,21.523333333333337,null,{"$f":"'Combined Cycle Gas'!$D$8","v":318.30459770114948},{"$f":"Nuclear!$D$8","v":307.69444444444446},0,111.41666666666667,69.484999999999999,53.244999999999997,0]
["2018-04-09",11,37.39,2967,null,{"$f":"M2402","v":6.0549999999999997},6.0650000000000004,4.7933333333333339,null,{"$f":"'Combined Cycle Gas'!$D$8","v":318.30459770114948},{"$f":"Nuclear!$D$8","v":307.69444444444446},2.4371309999999999,51.851666666666667,45.461666666666673,43.225000000000001,2437131]
["2018-04-09",14,37.369999999999997,2967,null,{"$f":"M2405","v":7.2850000000000001},7.9849999999999994,5.7266666666666666,null,{"$f":"'Combined Cycle Gas'!$D$8","v":318.30459770114948},{"$f":"Nuclear!$D$8","v":307.69444444444446},2.4433639999999999,4.7433333333333332,4.0116666666666667,4.415,2443364]
["2018-04-09",17,39.85,2968,null,{"$f":"M2408","v":10.185},11.38,8.6750000000000007,null,{"$f":"'Combined Cycle Gas'!$D$8","v":318.30459770114948},{"$f":"Nuclear!$D$8","v":307.69444444444446},0.47167199999999998,6.0549999999999997,6.0650000000000004,4.7933333333333339,471672]
["2018-04-09",20,38.11,3233,null,{"$f":"M2411","v":85.608333333333348},34.278333333333329,31.236666666666668,null,{"$f":"'Combined Cycle Gas'!$D$8","v":318.30459770114948},{"$f":"Nuclear!$D$8","v":307.69444444444446},0,7.2850000000000001,7.9849999999999994,5.7266666666666666,0]
["2018-04-09",24,6.58,2574,null,{"$f":"M2415","v":62.521666666666668},56.715000000000003,44.838333333333331,null,{"$f":"'Combined Cycle Gas'!$D$8","v":318.30459770114948},{"$f":"Nuclear!$D$8","v":307.69444444444446},0,17.37,12.766666666666666,13.14,0]
["2018-04-10",3,24.84,2666,null,{"$f":"M2418","v":141.74166666666667},92.401666666666657,40.974999999999994,null,{"$f":"'Combined Cycle Gas'!$D$8","v":318.30459770114948},{"$f":"Nuclear!$D$8","v":307.69444444444446},0,76.654999999999987,37.994999999999997,25.703333333333333,0]
["2018-04-10",4,25.89,2134,null,{"$f":"M2419","v":146.29333333333332},104.79,41.733333333333334,null,{"$f":"'Combined Cycle Gas'!$D$8","v":318.30459770114948},{"$f":"Nuclear!$D$8","v":307.69444444444446},0,76.133333333333326,26.521666666666665,32.338333333333331,0]
["2018-04-10",8,40.54,547,null,{"$f":"M2423","v":72.71833333333332},49.468333333333327,48.49,null,{"$f":"'Combined Cycle Gas'!$D$8","v":318.30459770114948},{"$f":"Nuclear!$D$8","v":307.69444444444446},0.16197900000000001,115.72833333333334,72.278333333333336,49.938333333333333,161979]
["2018-04-10",11,40.520000000000003,4,null,{"$f":"M2426","v":8.5300000000000011},10.473333333333333,7.8933333333333335,null,{"$f":"'Combined Cycle Gas'!$D$8","v":318.30459770114948},{"$f":"Nuclear!$D$8","v":307.69444444444446},7.1483679999999996,108.18666666666667,91.521666666666661,33.723333333333336,7148368]
["2018-04-10",15,40.54,0,null,{"$f":"M2430","v":8.7816666666666663},7.870000000000001,7.5650000000000004,null,{"$f":"'Combined Cycle Gas'!$D$8","v":318.30459770114948},{"$f":"Nuclear!$D$8","v":307.69444444444446},6.6302079999999997,35.966666666666661,19.298333333333332,30.619999999999994,6630208]
["2018-04-10",18,40.36,223,null,{"$f":"M2433","v":19.853333333333335},10.965000000000002,12.333333333333334,null,{"$f":"'Combined Cycle Gas'!$D$8","v":318.30459770114948},{"$f":"Nuclear!$D$8","v":307.69444444444446},2.0707260000000001,9.3366666666666678,7.5100000000000007,7.1483333333333325,2070726]
["2018-04-10",21,28.03,2004,null,{"$f":"M2436","v":58.769999999999989},27.930000000000003,19.373333333333335,null,{"$f":"'Combined Cycle Gas'!$D$8","v":318.30459770114948},{"$f":"Nuclear!$D$8","v":307.69444444444446},0,8.7816666666666663,7.870000000000001,7.5650000000000004,0]
["2018-04-11",1,24.84,2494,null,{"$f":"M2440","v":130.92666666666665},107.54,104.00166666666667,null,{"$f":"'Combined Cycle Gas'!$D$8","v":318.30459770114948},{"$f":"Nuclear!$D$8","v":307.69444444444446},0,25.633333333333336,15.115,14.288333333333332,0]
["2018-04-11",4,24.85,2641,null,{"$f":"M2443","v":143.49333333333331},107.83333333333333,107.53166666666665,null,{"$f":"'Combined Cycle Gas'!$D$8","v":318.30459770114948},{"$f":"Nuclear!$D$8","v":307.69444444444446},0,116.78000000000002,49.15,29.416666666666668,0]
["2018-04-11",5,24.89,2906,null,{"$f":"M2444","v":141.52333333333334},109.99166666666667,108.045,null,{"$f":"'Combined Cycle Gas'!$D$8","v":318.30459770114948},{"$f":"Nuclear!$D$8","v":307.69444444444446},0,118.15833333333332,91.486666666666679,39.56666666666667,0]
["2018-04-11",9,37.39,2939,null,{"$f":"M2448","v":65.816666666666677},79.771666666666661,44.581666666666671,null,{"$f":"'Combined Cycle Gas'!$D$8","v":318.30459770114948},{"$f":"Nuclear!$D$8","v":307.69444444444446},6.9596499999999999,134.75166666666667,107.40000000000002,103.47833333333334,6959650]
["2018-04-11",12,35.630000000000003,2206,null,{"$f":"M2451","v":23.254999999999995},29.635000000000002,27.393333333333331,null,{"$f":"'Combined Cycle Gas'!$D$8","v":318.30459770114948},{"$f":"Nuclear!$D$8","v":307.69444444444446},7.5952999999999999,143.95333333333332,109.13333333333333,108.63166666666666,7595300]
["2018-04-11",16,40.11,1440,null,{"$f":"M2455","v":41.585000000000001},32.050000000000004,28.22,null,{"$f":"'Combined Cycle Gas'!$D$8","v":318.30459770114948},{"$f":"Nuclear!$D$8","v":307.69444444444446},6.512162,39.489999999999995,57.313333333333333,26.094999999999999,6512162]
["2018-04-11",19,37.39,2314,null,{"$f":"M2458","v":101.19499999999999},70.303333333333327,57.860000000000007,null,{"$f":"'Combined Cycle Gas'!$D$8","v":318.30459770114948},{"$f":"Nuclear!$D$8","v":307.69444444444446},2.5099999999999998E-4,20.418333333333333,25.196666666666669,28.606666666666669,251]
["2018-04-11",23,37.22,2968,null,{"$f":"M2462","v":128.07},101.675,101.315,null,{"$f":"'Combined Cycle Gas'!$D$8","v":318.30459770114948},{"$f":"Nuclear!$D$8","v":307.69444444444446},0,50.81,40.026666666666664,25.698333333333334,0]
["2018-04-12",2,3.58,2968,null,{"$f":"M2465","v":141.34333333333333},101.52333333333333,104.68833333333333,null,{"$f":"'Combined Cycle Gas'!$D$8","v":318.30459770114948},{"$f":"Nuclear!$D$8","v":307.69444444444446},0,119.32833333333332,86.018333333333331,87.27,0]
["2018-04-12",6,26.75,2989,null,{"$f":"M2469","v":122.07833333333333},98.928333333333327,97.748333333333335,null,{"$f":"'Combined Cycle Gas'!$D$8","v":318.30459770114948},{"$f":"Nuclear!$D$8","v":307.69444444444446},0,135.89666666666668,99.225000000000009,100.81833333333333,0]
["2018-04-12",7,37.659999999999997,3133,null,{"$f":"M2470","v":104.25166666666667},93.231666666666669,96.259999999999991,null,{"$f":"'Combined Cycle Gas'!$D$8","v":318.30459770114948},{"$f":"Nuclear!$D$8","v":307.69444444444446},1.8775660000000001,140.33166666666668,99.28166666666668,100.43333333333334,1877566]
["2018-04-12",10,29.28,2967,null,{"$f":"M2473","v":58.768333333333338},73.873333333333335,68.248333333333335,null,{"$f":"'Combined Cycle Gas'!$D$8","v":318.30459770114948},{"$f":"Nuclear!$D$8","v":307.69444444444446},{"$f":"P2467/10^6","v":5.3275959999999998},139.77500000000001,100.69333333333333,101.83166666666666,5327596]
["2018-04-12",13,27.99,2907,null,{"$f":"M2476","v":33.343333333333334},54.98,41.034999999999997,null,{"$f":"'Combined Cycle Gas'!$D$8","v":318.30459770114948},{"$f":"Nuclear!$D$8","v":307.69444444444446},3.7537159999999998,104.25166666666667,93.231666666666669,96.259999999999991,3753716]
["2018-04-12",17,32.619999999999997,2968,null,{"$f":"M2480","v":19.331666666666667},50.793333333333329,50.72,null,{"$f":"'Combined Cycle Gas'!$D$8","v":318.30459770114948},{"$f":"Nuclear!$D$8","v":307.69444444444446},1.635966,49.37166666666667,59.67499999999999,42.504999999999995,1635966]
["2018-04-12",20,39.04,3085,null,{"$f":"M2483","v":101.21666666666668},77.24666666666667,75.800000000000011,null,{"$f":"'Combined Cycle Gas'!$D$8","v":318.30459770114948},{"$f":"Nuclear!$D$8","v":307.69444444444446},0,29.415000000000003,60.368333333333332,49.296666666666674,0]
["2018-04-12",23,6.85,2968,null,{"$f":"M2486","v":79.893333333333331},79.678333333333327,72.635000000000005,null,{"$f":"'Combined Cycle Gas'!$D$8","v":318.30459770114948},{"$f":"Nuclear!$D$8","v":307.69444444444446},0,19.331666666666667,50.793333333333329,50.72,0]
["2018-04-13",4,24.13,3363,null,{"$f":"M2491","v":15.291666666666666},13.268333333333336,37.494999999999997,null,{"$f":"'Combined Cycle Gas'!$D$8","v":318.30459770114948},{"$f":"Nuclear!$D$8","v":307.69444444444446},0,92.545000000000002,80.668333333333337,82.745000000000005,0]
["2018-04-13",7,37.729999999999997,2371,null,{"$f":"M2494","v":20.793333333333333},21.421666666666667,20.713333333333335,null,{"$f":"'Combined Cycle Gas'!$D$8","v":318.30459770114948},{"$f":"Nuclear!$D$8","v":307.69444444444446},8.0194000000000001E-2,58.958333333333336,47.743333333333332,58.154999999999994,80194]
["2018-04-13",8,37.51,1805,null,{"$f":"M2495","v":14.780000000000001},20.948333333333334,19.038333333333334,null,{"$f":"'Combined Cycle Gas'!$D$8","v":318.30459770114948},{"$f":"Nuclear!$D$8","v":307.69444444444446},1.2200040000000001,41.15,33.854999999999997,43.963333333333331,1220004]
["2018-04-13",11,27.6,2279,null,{"$f":"M2498","v":23.341666666666669},10.209999999999999,16.253333333333334,null,{"$f":"'Combined Cycle Gas'!$D$8","v":318.30459770114948},{"$f":"Nuclear!$D$8","v":307.69444444444446},2.4721669999999998,14.56,12.58,29.625,2472167]
["2018-04-13",14,27.61,2967,null,{"$f":"M2501","v":17.59},12.171666666666667,14.603333333333333,null,{"$f":"'Combined Cycle Gas'!$D$8","v":318.30459770114948},{"$f":"Nuclear!$D$8","v":307.69444444444446},2.9514900000000002,14.780000000000001,20.948333333333334,19.038333333333334,2951490]
["2018-04-13",20,47.82,867,null,{"$f":"M2507","v":44.978333333333332},61.25,29.568333333333332,null,{"$f":"'Combined Cycle Gas'!$D$8","v":318.30459770114948},{"$f":"Nuclear!$D$8","v":307.69444444444446},0,17.59,12.171666666666667,14.603333333333333,0]
["2018-04-13",22,39.35,892,null,{"$f":"M2509","v":82.208333333333329},65.788333333333341,43.471666666666664,null,{"$f":"'Combined Cycle Gas'!$D$8","v":318.30459770114948},{"$f":"Nuclear!$D$8","v":307.69444444444446},0,24.473333333333333,12.555000000000001,17.026666666666667,0]
["2018-04-14",2,25.13,996,null,{"$f":"M2513","v":109.56},77.531666666666666,80.63,null,{"$f":"'Combined Cycle Gas'!$D$8","v":318.30459770114948},{"$f":"Nuclear!$D$8","v":307.69444444444446},0,44.978333333333332,61.25,29.568333333333332,0]
["2018-04-14",5,27.17,1011,null,{"$f":"M2516","v":101.84333333333332},85.106666666666655,80.853333333333339,null,{"$f":"'Combined Cycle Gas'!$D$8","v":318.30459770114948},{"$f":"Nuclear!$D$8","v":307.69444444444446},0,112.62333333333333,89.348333333333343,68.433333333333323,0]
["2018-04-14",8,32.47,961,null,{"$f":"M2519","v":112.57333333333334},85.163333333333341,93.023333333333326,null,{"$f":"'Combined Cycle Gas'!$D$8","v":318.30459770114948},{"$f":"Nuclear!$D$8","v":307.69444444444446},2.1537670000000002,109.56,77.531666666666666,80.63,2153767]
["2018-04-14",9,28.29,375,null,{"$f":"M2520","v":117.95666666666666},67.576666666666654,90.97166666666665,null,{"$f":"'Combined Cycle Gas'!$D$8","v":318.30459770114948},{"$f":"Nuclear!$D$8","v":307.69444444444446},5.4085140000000003,109.63,84.918333333333337,82.603333333333339,5408514]
["2018-04-14",12,36.520000000000003,139,null,{"$f":"M2523","v":93.898333333333326},47.028333333333336,73.754999999999995,null,{"$f":"'Combined Cycle Gas'!$D$8","v":318.30459770114948},{"$f":"Nuclear!$D$8","v":307.69444444444446},5.1864420000000004,109.11333333333333,85.791666666666671,87.558333333333337,5186442]
["2018-04-14",17,35.049999999999997,65,null,{"$f":"M2528","v":96.001666666666665},95.568333333333328,86.50333333333333,null,{"$f":"'Combined Cycle Gas'!$D$8","v":318.30459770114948},{"$f":"Nuclear!$D$8","v":307.69444444444446},1.3243279999999999,91.788333333333341,40.523333333333333,84.401666666666657,1324328]
["2018-04-14",20,29.08,1061,null,{"$f":"M2531","v":135.6},107.52833333333335,103.81500000000001,null,{"$f":"'Combined Cycle Gas'!$D$8","v":318.30459770114948},{"$f":"Nuclear!$D$8","v":307.69444444444446},0,102.20833333333333,67.86333333333333,64.834999999999994,0]
["2018-04-14",23,24.97,1709,null,{"$f":"M2534","v":139.49333333333334},107.355,108.77833333333332,null,{"$f":"'Combined Cycle Gas'!$D$8","v":318.30459770114948},{"$f":"Nuclear!$D$8","v":307.69444444444446},0,96.001666666666665,95.568333333333328,86.50333333333333,0]
["2018-04-15",3,25.69,2261,null,{"$f":"M2538","v":131.57333333333335},92.068333333333342,103.84666666666668,null,{"$f":"'Combined Cycle Gas'!$D$8","v":318.30459770114948},{"$f":"Nuclear!$D$8","v":307.69444444444446},0,143.22999999999999,107.32166666666667,107.37166666666667,0]
["2018-04-15",6,25.77,2245,null,{"$f":"M2541","v":104.17166666666667},71.121666666666655,89.87833333333333,null,{"$f":"'Combined Cycle Gas'!$D$8","v":318.30459770114948},{"$f":"Nuclear!$D$8","v":307.69444444444446},0,144.96833333333333,107.81166666666667,107.09833333333334,0]
["2018-04-15",9,26.74,1742,null,{"$f":"M2544","v":82.33},51.125,80.76166666666667,null,{"$f":"'Combined Cycle Gas'!$D$8","v":318.30459770114948},{"$f":"Nuclear!$D$8","v":307.69444444444446},2.2991000000000001,131.57333333333335,92.068333333333342,103.84666666666668,2299100]
["2018-04-15",10,27.47,1734,null,{"$f":"M2545","v":76.88333333333334},41.758333333333333,64.846666666666664,null,{"$f":"'Combined Cycle Gas'!$D$8","v":318.30459770114948},{"$f":"Nuclear!$D$8","v":307.69444444444446},5.5438830000000001,126.11833333333334,86.938333333333333,98.598333333333343,5543883]
["2018-04-15",14,24.89,2309,null,{"$f":"M2549","v":61.728333333333332},39.93,53.331666666666671,null,{"$f":"'Combined Cycle Gas'!$D$8","v":318.30459770114948},{"$f":"Nuclear!$D$8","v":307.69444444444446},6.4058719999999996,90.116666666666674,63.206666666666671,88.341666666666654,6405872]
["2018-04-15",18,28.43,2274,null,{"$f":"M2553","v":72.36666666666666},46.151666666666664,70.260000000000005,null,{"$f":"'Combined Cycle Gas'!$D$8","v":318.30459770114948},{"$f":"Nuclear!$D$8","v":307.69444444444446},2.486278,72.524999999999991,37.763333333333343,48.368333333333332,2486278]
["2018-04-15",21,24.26,2888,null,{"$f":"M2556","v":93.173333333333332},63.26,59.268333333333338,null,{"$f":"'Combined Cycle Gas'!$D$8","v":318.30459770114948},{"$f":"Nuclear!$D$8","v":307.69444444444446},0,56.78,41.011666666666663,51.551666666666677,0]
["2018-04-15",24,5.84,2991,null,{"$f":"M2559","v":137.31333333333333},101.66166666666668,82.723333333333315,null,{"$f":"'Combined Cycle Gas'!$D$8","v":318.30459770114948},{"$f":"Nuclear!$D$8","v":307.69444444444446},0,72.36666666666666,46.151666666666664,70.260000000000005,0]
["2018-04-16",4,21.93,2893,null,{"$f":"M2563","v":109.03833333333334},95.943333333333328,87.291666666666671,null,{"$f":"'Combined Cycle Gas'!$D$8","v":318.30459770114948},{"$f":"Nuclear!$D$8","v":307.69444444444446},0,128.19166666666663,90.506666666666661,69.146666666666675,0]
["2018-04-16",7,35.32,2629,null,{"$f":"M2566","v":87.94},83.931666666666672,63.276666666666671,null,{"$f":"'Combined Cycle Gas'!$D$8","v":318.30459770114948},{"$f":"Nuclear!$D$8","v":307.69444444444446},3.055679,140.97166666666666,102.65000000000002,91.516666666666666,3055679]
["2018-04-16",11,40.479999999999997,539,null,{"$f":"M2570","v":105.64999999999999},96.071666666666673,19.821666666666669,null,{"$f":"'Combined Cycle Gas'!$D$8","v":318.30459770114948},{"$f":"Nuclear!$D$8","v":307.69444444444446},5.7090820000000004,115.53500000000001,93.868333333333325,84.81,5709082]
["2018-04-16",12,41.37,155,null,{"$f":"M2571","v":107.81333333333333},95.62,19.006666666666668,null,{"$f":"'Combined Cycle Gas'!$D$8","v":318.30459770114948},{"$f":"Nuclear!$D$8","v":307.69444444444446},6.1116770000000002,109.19666666666667,84.87166666666667,83.546666666666667,6111677]
["2018-04-16",15,40.51,278,null,{"$f":"M2574","v":89.375},89.708333333333329,65.943333333333342,null,{"$f":"'Combined Cycle Gas'!$D$8","v":318.30459770114948},{"$f":"Nuclear!$D$8","v":307.69444444444446},5.801933,106.24666666666667,94.818333333333328,33.779999999999994,5801933]
["2018-04-16",19,33.409999999999997,1236,null,{"$f":"M2578","v":112.34500000000001},94.58,69.41,null,{"$f":"'Combined Cycle Gas'!$D$8","v":318.30459770114948},{"$f":"Nuclear!$D$8","v":307.69444444444446},0,96.713333333333352,93.409999999999982,35.655000000000001,0]
["2018-04-16",22,30.89,1939,null,{"$f":"M2581","v":110.75999999999999},88.521666666666661,86.954999999999998,null,{"$f":"'Combined Cycle Gas'!$D$8","v":318.30459770114948},{"$f":"Nuclear!$D$8","v":307.69444444444446},0,91.183333333333337,96.190000000000012,63.366666666666674,0]
["2018-04-17",1,1.04,2730,null,{"$f":"M2584","v":87.030000000000015},72.898333333333326,81.584999999999994,null,{"$f":"'Combined Cycle Gas'!$D$8","v":318.30459770114948},{"$f":"Nuclear!$D$8","v":307.69444444444446},0,112.34500000000001,94.58,69.41,0]
["2018-04-17",5,3.05,2968,null,{"$f":"M2588","v":78.286666666666676},53.91,68.548333333333332,null,{"$f":"'Combined Cycle Gas'!$D$8","v":318.30459770114948},{"$f":"Nuclear!$D$8","v":307.69444444444446},0,103.42166666666667,81.506666666666675,84.426666666666677,0]
["2018-04-17",8,28.6,2968,null,{"$f":"M2591","v":20.010000000000002},10.25,13.933333333333332,null,{"$f":"'Combined Cycle Gas'!$D$8","v":318.30459770114948},{"$f":"Nuclear!$D$8","v":307.69444444444446},0.63206600000000002,74.56,68.90666666666668,80.743333333333339,632066]
["2018-04-17",10,27.89,2967,null,{"$f":"M2593","v":36.583333333333336},29.093333333333334,27.95,null,{"$f":"'Combined Cycle Gas'!$D$8","v":318.30459770114948},{"$f":"Nuclear!$D$8","v":307.69444444444446},2.4339339999999998,76.696666666666658,58.571666666666665,80.459999999999994,2433934]
["2018-04-17",13,28.06,2967,null,{"$f":"M2596","v":65.271666666666661},42.223333333333336,70.650000000000006,null,{"$f":"'Combined Cycle Gas'!$D$8","v":318.30459770114948},{"$f":"Nuclear!$D$8","v":307.69444444444446},2.3948770000000001,29.381666666666664,14.666666666666666,24.688333333333333,2394877]
["2018-04-17",16,26.85,2967,null,{"$f":"M2599","v":73.313333333333333},48.861666666666672,43.256666666666668,null,{"$f":"'Combined Cycle Gas'!$D$8","v":318.30459770114948},{"$f":"Nuclear!$D$8","v":307.69444444444446},1.8289949999999999,36.583333333333336,29.093333333333334,27.95,1828995]
["2018-04-17",20,37.82,2201,null,{"$f":"M2603","v":57.954999999999991},35.108333333333327,17.159999999999997,null,{"$f":"'Combined Cycle Gas'!$D$8","v":318.30459770114948},{"$f":"Nuclear!$D$8","v":307.69444444444446},0,76.516666666666666,50.573333333333331,74.924999999999997,0]
["2018-04-17",23,27.88,1896,null,{"$f":"M2606","v":27.826666666666668},13.9,14.545,null,{"$f":"'Combined Cycle Gas'!$D$8","v":318.30459770114948},{"$f":"Nuclear!$D$8","v":307.69444444444446},0,70.706666666666663,60.699999999999996,31.820000000000004,0]
["2018-04-18",2,21.74,1945,null,{"$f":"M2609","v":19.146666666666665},12.556666666666667,14.641666666666666,null,{"$f":"'Combined Cycle Gas'!$D$8","v":318.30459770114948},{"$f":"Nuclear!$D$8","v":307.69444444444446},0,57.954999999999991,35.108333333333327,17.159999999999997,0]
["2018-04-18",5,23.63,2154,null,{"$f":"M2612","v":45.946666666666665},12.243333333333334,20.371666666666666,null,{"$f":"'Combined Cycle Gas'!$D$8","v":318.30459770114948},{"$f":"Nuclear!$D$8","v":307.69444444444446},0,27.826666666666668,13.9,14.545,0]
["2018-04-18",10,39.85,240,null,{"$f":"M2617","v":18.433333333333334},14.315,14.271666666666667,null,{"$f":"'Combined Cycle Gas'!$D$8","v":318.30459770114948},{"$f":"Nuclear!$D$8","v":307.69444444444446},3.1264400000000001,27.311666666666667,14.759999999999998,22.666666666666668,3126440]
["2018-04-18",11,40.67,168,null,{"$f":"M2618","v":18.343333333333334},14.261666666666665,14.183333333333335,null,{"$f":"'Combined Cycle Gas'!$D$8","v":318.30459770114948},{"$f":"Nuclear!$D$8","v":307.69444444444446},5.8422780000000003,45.946666666666665,12.243333333333334,20.371666666666666,5842278]
["2018-04-18",14,40.46,25,null,{"$f":"M2621","v":18.101666666666667},14.023333333333333,14.065,null,{"$f":"'Combined Cycle Gas'!$D$8","v":318.30459770114948},{"$f":"Nuclear!$D$8","v":307.69444444444446},3.4254159999999998,20.006666666666664,14.438333333333333,14.164999999999999,3425416]
["2018-04-18",17,41.33,49,null,{"$f":"M2624","v":18.338333333333335},14.895000000000001,13.806666666666667,null,{"$f":"'Combined Cycle Gas'!$D$8","v":318.30459770114948},{"$f":"Nuclear!$D$8","v":307.69444444444446},1.2273350000000001,18.343333333333334,14.261666666666665,14.183333333333335,1227335]
["2018-04-18",21,29.39,1769,null,{"$f":"M2628","v":127.68666666666668},98.538333333333341,58.303333333333335,null,{"$f":"'Combined Cycle Gas'!$D$8","v":318.30459770114948},{"$f":"Nuclear!$D$8","v":307.69444444444446},0,18.055,14.266666666666667,13.826666666666666,0]
["2018-04-19",2,23.69,1823,null,{"$f":"M2633","v":102.42166666666667},94.548333333333332,63.805,null,{"$f":"'Combined Cycle Gas'!$D$8","v":318.30459770114948},{"$f":"Nuclear!$D$8","v":307.69444444444446},0,104.96999999999998,65.463333333333324,45.24,0]
["2018-04-19",5,24.85,1493,null,{"$f":"M2636","v":84.635000000000005},100.76166666666666,102.16500000000001,null,{"$f":"'Combined Cycle Gas'!$D$8","v":318.30459770114948},{"$f":"Nuclear!$D$8","v":307.69444444444446},0,124.60333333333331,107.13000000000001,93.886666666666656,0]
["2018-04-19",8,28.12,2723,null,{"$f":"M2639","v":32.326666666666668},47.236666666666657,52.48,null,{"$f":"'Combined Cycle Gas'!$D$8","v":318.30459770114948},{"$f":"Nuclear!$D$8","v":307.69444444444446},1.0718430000000001,102.42166666666667,94.548333333333332,63.805,1071843]
["2018-04-19",11,40.46,219,null,{"$f":"M2642","v":31.088333333333328},13.818333333333333,30.548333333333332,null,{"$f":"'Combined Cycle Gas'!$D$8","v":318.30459770114948},{"$f":"Nuclear!$D$8","v":307.69444444444446},3.1383359999999998,84.635000000000005,100.76166666666666,102.16500000000001,3138336]
["2018-04-19",12,42.06,7,null,{"$f":"M2643","v":65.554999999999993},11.281666666666666,31.463333333333328,null,{"$f":"'Combined Cycle Gas'!$D$8","v":318.30459770114948},{"$f":"Nuclear!$D$8","v":307.69444444444446},3.1034000000000002,80.068333333333328,87.026666666666685,88.106666666666669,3103400]
["2018-04-19",15,39.21,761,null,{"$f":"M2646","v":75.526666666666671},33.43,13.643333333333333,null,{"$f":"'Combined Cycle Gas'!$D$8","v":318.30459770114948},{"$f":"Nuclear!$D$8","v":307.69444444444446},2.7349559999999999,54.646666666666675,33.563333333333333,40.118333333333332,2734956]
["2018-04-19",18,28.7,1899,null,{"$f":"M2649","v":25.333333333333332},12.691666666666668,20.326666666666668,null,{"$f":"'Combined Cycle Gas'!$D$8","v":318.30459770114948},{"$f":"Nuclear!$D$8","v":307.69444444444446},0.18298400000000001,65.554999999999993,11.281666666666666,31.463333333333328,182984]
["2018-04-19",23,8.5299999999999994,2968,null,{"$f":"M2654","v":53.113333333333337},64.73,11.565,null,{"$f":"'Combined Cycle Gas'!$D$8","v":318.30459770114948},{"$f":"Nuclear!$D$8","v":307.69444444444446},0,92.466666666666683,12.503333333333336,13.29,0]
["2018-04-20",2,3.05,2944,null,{"$f":"M2657","v":88.493333333333339},79.521666666666661,17.900000000000002,null,{"$f":"'Combined Cycle Gas'!$D$8","v":318.30459770114948},{"$f":"Nuclear!$D$8","v":307.69444444444446},0,38.716666666666669,31.895,25.968333333333334,0]
["2018-04-20",6,28.26,2641,null,{"$f":"M2661","v":43.236666666666672},51.081666666666671,42.63,null,{"$f":"'Combined Cycle Gas'!$D$8","v":318.30459770114948},{"$f":"Nuclear!$D$8","v":307.69444444444446},7.54E-4,73.543333333333337,34.073333333333338,11.401666666666666,754]
["2018-04-20",9,27.91,2108,null,{"$f":"M2664","v":38.544999999999995},16.684999999999999,9.2566666666666659,null,{"$f":"'Combined Cycle Gas'!$D$8","v":318.30459770114948},{"$f":"Nuclear!$D$8","v":307.69444444444446},6.5797670000000004,101.60666666666667,81.00500000000001,32.033333333333331,6579767]
["2018-04-20",12,37.39,1754,null,{"$f":"M2667","v":24.785},11.901666666666666,100.78500000000001,null,{"$f":"'Combined Cycle Gas'!$D$8","v":318.30459770114948},{"$f":"Nuclear!$D$8","v":307.69444444444446},7.2999359999999998,43.236666666666672,51.081666666666671,42.63,7299936]
["2018-04-20",13,37.31,1196,null,{"$f":"M2668","v":19.440000000000001},11.005000000000001,59.686666666666667,null,{"$f":"'Combined Cycle Gas'!$D$8","v":318.30459770114948},{"$f":"Nuclear!$D$8","v":307.69444444444446},7.260402,15.393333333333331,19.565000000000001,45.538333333333334,7260402]
["2018-04-20",16,39.56,1070,null,{"$f":"M2671","v":32.701666666666668},8.4249999999999989,23.911666666666665,null,{"$f":"'Combined Cycle Gas'!$D$8","v":318.30459770114948},{"$f":"Nuclear!$D$8","v":307.69444444444446},6.1117080000000001,43.808333333333337,88.704999999999998,9.7466666666666679,6111708]
["2018-04-20",20,29.33,1866,null,{"$f":"M2675","v":29.275000000000002},30.653333333333332,55.233333333333327,null,{"$f":"'Combined Cycle Gas'!$D$8","v":318.30459770114948},{"$f":"Nuclear!$D$8","v":307.69444444444446},0,24.844999999999999,13.821666666666667,20.321666666666669,0]
["2018-04-20",24,20.010000000000002,1398,null,{"$f":"M2679","v":97.910000000000011},83.333333333333329,75.621666666666655,null,{"$f":"'Combined Cycle Gas'!$D$8","v":318.30459770114948},{"$f":"Nuclear!$D$8","v":307.69444444444446},0,34.183333333333337,12.12833333333333,31.803333333333331,0]
["2018-04-21",3,24.93,737,null,{"$f":"M2682","v":130.63000000000002},96.111666666666665,75.181666666666672,null,{"$f":"'Combined Cycle Gas'!$D$8","v":318.30459770114948},{"$f":"Nuclear!$D$8","v":307.69444444444446},0,88.554999999999993,82.318333333333342,53.163333333333334,0]
["2018-04-21",7,21.06,454,null,{"$f":"M2686","v":9.4816666666666656},6.3633333333333333,27.108333333333334,null,{"$f":"'Combined Cycle Gas'!$D$8","v":318.30459770114948},{"$f":"Nuclear!$D$8","v":307.69444444444446},3.7121569999999999,120.27166666666666,89.58,77.181666666666672,3712157]
["2018-04-21",10,37.99,19,null,{"$f":"M2689","v":12.699999999999998},30.563333333333333,41.06333333333334,null,{"$f":"'Combined Cycle Gas'!$D$8","v":318.30459770114948},{"$f":"Nuclear!$D$8","v":307.69444444444446},7.1367000000000003,123.08166666666669,93.526666666666657,92.856666666666669,7136700]
["2018-04-21",13,38.65,271,null,{"$f":"M2692","v":37.153333333333336},37.414999999999999,19.765000000000001,null,{"$f":"'Combined Cycle Gas'!$D$8","v":318.30459770114948},{"$f":"Nuclear!$D$8","v":307.69444444444446},7.3414279999999996,9.4816666666666656,6.3633333333333333,27.108333333333334,7341428]
["2018-04-21",17,37.46,53,null,{"$f":"M2696","v":10.366666666666667},16.62,23.596666666666664,null,{"$f":"'Combined Cycle Gas'!$D$8","v":318.30459770114948},{"$f":"Nuclear!$D$8","v":307.69444444444446},5.5505440000000004,13.818333333333335,31.056666666666668,7.370000000000001,5550544]
["2018-04-21",18,38.770000000000003,35,null,{"$f":"M2697","v":29.834999999999997},5.2316666666666674,23.263333333333332,null,{"$f":"'Combined Cycle Gas'!$D$8","v":318.30459770114948},{"$f":"Nuclear!$D$8","v":307.69444444444446},3.4635660000000001,27.165000000000003,36.023333333333333,9.4983333333333331,3463566]
["2018-04-21",22,33.229999999999997,1293,null,{"$f":"M2701","v":20.781666666666666},8.5150000000000006,53.216666666666661,null,{"$f":"'Combined Cycle Gas'!$D$8","v":318.30459770114948},{"$f":"Nuclear!$D$8","v":307.69444444444446},0,10.418333333333333,26.853333333333335,23.018333333333331,0]
["2018-04-22",1,24.84,1599,null,{"$f":"M2704","v":12.503333333333332},5.46,22.169999999999998,null,{"$f":"'Combined Cycle Gas'!$D$8","v":318.30459770114948},{"$f":"Nuclear!$D$8","v":307.69444444444446},0,102.28166666666665,35.71,7.1700000000000008,0]
["2018-04-22",4,26.12,1427,null,{"$f":"M2707","v":15.688333333333334},6.9816666666666665,7.4883333333333333,null,{"$f":"'Combined Cycle Gas'!$D$8","v":318.30459770114948},{"$f":"Nuclear!$D$8","v":307.69444444444446},0,20.781666666666666,8.5150000000000006,53.216666666666661,0]
["2018-04-22",8,31.96,293,null,{"$f":"M2711","v":11.159999999999998},7.4333333333333336,11.396666666666667,null,{"$f":"'Combined Cycle Gas'!$D$8","v":318.30459770114948},{"$f":"Nuclear!$D$8","v":307.69444444444446},4.8356529999999998,11.241666666666667,5.0166666666666666,10.700000000000001,4835653]
["2018-04-22",11,36.65,120,null,{"$f":"M2714","v":13.601666666666668},7.1016666666666666,12.188333333333334,null,{"$f":"'Combined Cycle Gas'!$D$8","v":318.30459770114948},{"$f":"Nuclear!$D$8","v":307.69444444444446},7.2502219999999999,9.4633333333333329,5.34,6.6466666666666656,7250222]
["2018-04-22",14,37.01,96,null,{"$f":"M2717","v":23.441666666666663},7.8816666666666668,17.725000000000001,null,{"$f":"'Combined Cycle Gas'!$D$8","v":318.30459770114948},{"$f":"Nuclear!$D$8","v":307.69444444444446},7.2096739999999997,11.159999999999998,7.4333333333333336,11.396666666666667,7209674]
["2018-04-22",16,34.799999999999997,329,null,{"$f":"M2719","v":23.676666666666666},13.738333333333332,12.798333333333334,null,{"$f":"'Combined Cycle Gas'!$D$8","v":318.30459770114948},{"$f":"Nuclear!$D$8","v":307.69444444444446},6.2131740000000004,12.049999999999999,5.9833333333333334,6.7349999999999994,6213174]
["2018-04-22",19,31.43,1965,null,{"$f":"M2722","v":8.2666666666666675},4.6833333333333336,7.3283333333333331,null,{"$f":"'Combined Cycle Gas'!$D$8","v":318.30459770114948},{"$f":"Nuclear!$D$8","v":307.69444444444446},5.6400000000000005E-4,14.358333333333334,5.5016666666666678,12.524999999999999,564]
["2018-04-22",23,26.29,1972,null,{"$f":"M2726","v":47.298333333333339},44.84,55.95000000000001,null,{"$f":"'Combined Cycle Gas'!$D$8","v":318.30459770114948},{"$f":"Nuclear!$D$8","v":307.69444444444446},0,20.776666666666667,8.331666666666667,10.844999999999999,0]
["2018-04-23",2,27.56,632,null,{"$f":"M2729","v":96.046666666666681},77.848333333333329,95.011666666666656,null,{"$f":"'Combined Cycle Gas'!$D$8","v":318.30459770114948},{"$f":"Nuclear!$D$8","v":307.69444444444446},{"$f":"P2723/10^6","v":0},8.0183333333333326,4.7516666666666669,6.086666666666666,0]
["2018-04-23",5,29.22,168,null,{"$f":"M2732","v":92.848333333333315},70.463333333333324,82.571666666666658,null,{"$f":"'Combined Cycle Gas'!$D$8","v":318.30459770114948},{"$f":"Nuclear!$D$8","v":307.69444444444446},0,47.298333333333339,44.84,55.95000000000001,0]
["2018-04-23",7,38.42,218,null,{"$f":"M2734","v":90.304999999999993},55.833333333333336,73.274999999999991,null,{"$f":"'Combined Cycle Gas'!$D$8","v":318.30459770114948},{"$f":"Nuclear!$D$8","v":307.69444444444446},3.537566,100.245,73.533333333333317,82.009999999999991,3537566]
["2018-04-23",13,40.6,0,null,{"$f":"M2740","v":62.62166666666667},48.536666666666669,61.760000000000012,null,{"$f":"'Combined Cycle Gas'!$D$8","v":318.30459770114948},{"$f":"Nuclear!$D$8","v":307.69444444444446},6.4944839999999999,90.304999999999993,55.833333333333336,73.274999999999991,6494484]
["2018-04-23",16,40.03,27,null,{"$f":"M2743","v":53.75333333333333},26.281666666666666,59.848333333333329,null,{"$f":"'Combined Cycle Gas'!$D$8","v":318.30459770114948},{"$f":"Nuclear!$D$8","v":307.69444444444446},6.102417,40.335000000000001,48.735000000000007,66.571666666666673,6102417]
["2018-04-23",17,39.97,27,null,{"$f":"M2744","v":58.196666666666665},29.426666666666666,79.64,null,{"$f":"'Combined Cycle Gas'!$D$8","v":318.30459770114948},{"$f":"Nuclear!$D$8","v":307.69444444444446},5.425262,50.443333333333335,45.218333333333334,60.616666666666667,5425262]
["2018-04-23",20,38.01,1618,null,{"$f":"M2747","v":32.693333333333335},60.205000000000005,41.15,null,{"$f":"'Combined Cycle Gas'!$D$8","v":318.30459770114948},{"$f":"Nuclear!$D$8","v":307.69444444444446},0,59.036666666666662,45.928333333333342,76.618333333333325,0]
["2018-04-23",24,0.05,1904,null,{"$f":"M2751","v":108.54833333333335},87.853333333333339,95.786666666666676,null,{"$f":"'Combined Cycle Gas'!$D$8","v":318.30459770114948},{"$f":"Nuclear!$D$8","v":307.69444444444446},0,69.643333333333331,39.026666666666664,74.021666666666661,0]
["2018-04-24",3,1.02,2037,null,{"$f":"M2754","v":43.301666666666669},32.211666666666666,59.496666666666663,null,{"$f":"'Combined Cycle Gas'!$D$8","v":318.30459770114948},{"$f":"Nuclear!$D$8","v":307.69444444444446},0,82.34,77.743333333333339,13.19,0]
["2018-04-24",8,37.39,2321,null,{"$f":"M2759","v":12.381666666666666},7.9066666666666672,9.6616666666666671,null,{"$f":"'Combined Cycle Gas'!$D$8","v":318.30459770114948},{"$f":"Nuclear!$D$8","v":307.69444444444446},6.1719220000000004,47.824999999999996,44.079999999999991,77.916666666666657,6171922]
["2018-04-24",11,30.21,2630,null,{"$f":"M2762","v":36.326666666666661},8,15.801666666666668,null,{"$f":"'Combined Cycle Gas'!$D$8","v":318.30459770114948},{"$f":"Nuclear!$D$8","v":307.69444444444446},7.5953400000000002,14.639999999999999,17.311666666666667,49.053333333333335,7595340]
["2018-04-24",14,34.36,2967,null,{"$f":"M2765","v":15.444999999999999},6.7716666666666656,23.741666666666664,null,{"$f":"'Combined Cycle Gas'!$D$8","v":318.30459770114948},{"$f":"Nuclear!$D$8","v":307.69444444444446},7.3813149999999998,12.381666666666666,7.9066666666666672,9.6616666666666671,7381315]
["2018-04-24",15,33.49,2967,null,{"$f":"M2766","v":22.308333333333334},17.056666666666668,33.764999999999993,null,{"$f":"'Combined Cycle Gas'!$D$8","v":318.30459770114948},{"$f":"Nuclear!$D$8","v":307.69444444444446},7.1291609999999999,10.718333333333334,4.3716666666666661,7.1516666666666664,7129161]
["2018-04-24",18,37.14,2305,null,{"$f":"M2769","v":25.703333333333337},12.88,4.1399999999999997,null,{"$f":"'Combined Cycle Gas'!$D$8","v":318.30459770114948},{"$f":"Nuclear!$D$8","v":307.69444444444446},3.845215,37.041666666666664,7.5166666666666666,19.341666666666665,3845215]
["2018-04-24",21,34.590000000000003,2968,null,{"$f":"M2772","v":34.493333333333332},7.0333333333333341,10.893333333333333,null,{"$f":"'Combined Cycle Gas'!$D$8","v":318.30459770114948},{"$f":"Nuclear!$D$8","v":307.69444444444446},0,22.308333333333334,17.056666666666668,33.764999999999993,0]
["2018-04-25",1,1.93,2966,null,{"$f":"M2776","v":5.3633333333333333},4.2750000000000004,14.920000000000002,null,{"$f":"'Combined Cycle Gas'!$D$8","v":318.30459770114948},{"$f":"Nuclear!$D$8","v":307.69444444444446},0,52.485000000000007,24.48,3.811666666666667,0]
["2018-04-25",5,24.87,3092,null,{"$f":"M2780","v":12.945},19.286666666666669,41.533333333333331,null,{"$f":"'Combined Cycle Gas'!$D$8","v":318.30459770114948},{"$f":"Nuclear!$D$8","v":307.69444444444446},0,23.871666666666666,8.3516666666666683,9.6016666666666683,0]
["2018-04-25",8,38.549999999999997,2124,null,{"$f":"M2783","v":4.9933333333333332},8.8033333333333328,19.763333333333335,null,{"$f":"'Combined Cycle Gas'!$D$8","v":318.30459770114948},{"$f":"Nuclear!$D$8","v":307.69444444444446},5.7819599999999998,4.5750000000000002,11.211666666666666,21.048333333333332,5781960]
["2018-04-25",12,39.39,1038,null,{"$f":"M2787","v":63.946666666666658},44.675000000000004,60.580000000000005,null,{"$f":"'Combined Cycle Gas'!$D$8","v":318.30459770114948},{"$f":"Nuclear!$D$8","v":307.69444444444446},7.3541879999999997,16.248333333333331,17.579999999999998,48.824999999999996,7354188]
["2018-04-25",15,41.87,598,null,{"$f":"M2790","v":96.323333333333338},79.576666666666668,68.989999999999995,null,{"$f":"'Combined Cycle Gas'!$D$8","v":318.30459770114948},{"$f":"Nuclear!$D$8","v":307.69444444444446},7.1253260000000003,8.2000000000000011,9.5316666666666681,20.87,7125326]
["2018-04-25",16,41.14,598,null,{"$f":"M2791","v":120.315},90.143333333333331,40.506666666666668,null,{"$f":"'Combined Cycle Gas'!$D$8","v":318.30459770114948},{"$f":"Nuclear!$D$8","v":307.69444444444446},6.6496849999999998,22.788333333333338,14.689999999999998,29.768333333333334,6649685]
["2018-04-25",19,38.549999999999997,1573,null,{"$f":"M2794","v":109.88666666666667},97.846666666666678,68.86333333333333,null,{"$f":"'Combined Cycle Gas'!$D$8","v":318.30459770114948},{"$f":"Nuclear!$D$8","v":307.69444444444446},0.117781,93.25333333333333,53.543333333333322,65.08,117781]
["2018-04-25",22,38.9,2678,null,{"$f":"M2797","v":51.024999999999999},21.566666666666666,77.935000000000002,null,{"$f":"'Combined Cycle Gas'!$D$8","v":318.30459770114948},{"$f":"Nuclear!$D$8","v":307.69444444444446},0,120.315,90.143333333333331,40.506666666666668,0]
["2018-04-26",3,0.6,2780,null,{"$f":"M2802","v":5.2716666666666665},3.1149999999999998,7.1999999999999993,null,{"$f":"'Combined Cycle Gas'!$D$8","v":318.30459770114948},{"$f":"Nuclear!$D$8","v":307.69444444444446},0,77.64,51.028333333333329,75.336666666666659,0]
["2018-04-26",6,28.25,2315,null,{"$f":"M2805","v":10.103333333333333},5.1799999999999988,3.58,null,{"$f":"'Combined Cycle Gas'!$D$8","v":318.30459770114948},{"$f":"Nuclear!$D$8","v":307.69444444444446},7.8449999999999995E-3,17.455000000000002,21.778333333333336,21.066666666666666,7845]
["2018-04-26",10,39.28,142,null,{"$f":"M2809","v":11.018333333333333},3.9266666666666663,4.3216666666666663,null,{"$f":"'Combined Cycle Gas'!$D$8","v":318.30459770114948},{"$f":"Nuclear!$D$8","v":307.69444444444446},6.9978759999999998,5.501666666666666,3.2550000000000003,4.416666666666667,6997876]
["2018-04-26",13,40.51,0,null,{"$f":"M2812","v":25.37},12.786666666666667,5.873333333333334,null,{"$f":"'Combined Cycle Gas'!$D$8","v":318.30459770114948},{"$f":"Nuclear!$D$8","v":307.69444444444446},7.2869590000000004,10.685,3.7450000000000006,3.4483333333333337,7286959]
["2018-04-26",16,38.78,620,null,{"$f":"M2815","v":53.138333333333343},41.983333333333334,24.143333333333334,null,{"$f":"'Combined Cycle Gas'!$D$8","v":318.30459770114948},{"$f":"Nuclear!$D$8","v":307.69444444444446},6.2220690000000003,11.018333333333333,3.9266666666666663,4.3216666666666663,6222069]
["2018-04-26",17,38.409999999999997,1062,null,{"$f":"M2816","v":77.821666666666673},45.563333333333333,15.621666666666668,null,{"$f":"'Combined Cycle Gas'!$D$8","v":318.30459770114948},{"$f":"Nuclear!$D$8","v":307.69444444444446},4.500521,10.768333333333333,3.4733333333333332,4.1716666666666669,4500521]
["2018-04-26",23,6.74,2968,null,{"$f":"M2822","v":62.265000000000008},27.824999999999999,27.66333333333333,null,{"$f":"'Combined Cycle Gas'!$D$8","v":318.30459770114948},{"$f":"Nuclear!$D$8","v":307.69444444444446},0,77.821666666666673,45.563333333333333,15.621666666666668,0]
["2018-04-26",24,0.06,2698,null,{"$f":"M2823","v":70.605000000000004},33.116666666666667,39.081666666666671,null,{"$f":"'Combined Cycle Gas'!$D$8","v":318.30459770114948},{"$f":"Nuclear!$D$8","v":307.69444444444446},0,71.213333333333324,46.063333333333333,15.683333333333332,0]
["2018-04-27",4,0.3,2367,null,{"$f":"M2827","v":68.344999999999999},23.344999999999999,39.758333333333333,null,{"$f":"'Combined Cycle Gas'!$D$8","v":318.30459770114948},{"$f":"Nuclear!$D$8","v":307.69444444444446},0,66.323333333333338,28.314999999999998,26.544999999999998,0]
["2018-04-27",7,37.39,2383,null,{"$f":"M2830","v":43.138333333333343},19.831666666666667,29.073333333333334,null,{"$f":"'Combined Cycle Gas'!$D$8","v":318.30459770114948},{"$f":"Nuclear!$D$8","v":307.69444444444446},2.3830909999999998,59.401666666666664,34.125,39.603333333333339,2383091]
["2018-04-27",11,36.33,2106,null,{"$f":"M2834","v":20.643333333333331},13.416666666666666,17.253333333333334,null,{"$f":"'Combined Cycle Gas'!$D$8","v":318.30459770114948},{"$f":"Nuclear!$D$8","v":307.69444444444446},5.1181539999999996,69.578333333333333,26.333333333333332,40.805000000000007,5118154]
["2018-04-27",14,34.99,1617,null,{"$f":"M2837","v":31.958333333333332},17.184999999999999,20.919999999999998,null,{"$f":"'Combined Cycle Gas'!$D$8","v":318.30459770114948},{"$f":"Nuclear!$D$8","v":307.69444444444446},3.8512629999999999,25.983333333333331,11.888333333333334,19.633333333333329,3851263]
["2018-04-27",16,37.47,1025,null,{"$f":"M2839","v":34.74},18.568333333333332,18.253333333333334,null,{"$f":"'Combined Cycle Gas'!$D$8","v":318.30459770114948},{"$f":"Nuclear!$D$8","v":307.69444444444446},1.433713,15.793333333333335,9.2750000000000004,15.008333333333333,1433713]
["2018-04-27",19,39.049999999999997,833,null,{"$f":"M2842","v":38.643333333333331},22.570000000000004,20.871666666666666,null,{"$f":"'Combined Cycle Gas'!$D$8","v":318.30459770114948},{"$f":"Nuclear!$D$8","v":307.69444444444446},1.034E-3,23.491666666666664,15.5,17.265000000000001,1034]
["2018-04-27",22,37.83,747,null,{"$f":"M2845","v":37.309999999999995},18.531666666666663,15.44,null,{"$f":"'Combined Cycle Gas'!$D$8","v":318.30459770114948},{"$f":"Nuclear!$D$8","v":307.69444444444446},0,34.74,18.568333333333332,18.253333333333334,0]
["2018-04-28",1,32.299999999999997,576,null,{"$f":"M2848","v":52.466666666666661},14.108333333333333,4.4066666666666672,null,{"$f":"'Combined Cycle Gas'!$D$8","v":318.30459770114948},{"$f":"Nuclear!$D$8","v":307.69444444444446},0,38.643333333333331,22.570000000000004,20.871666666666666,0]
["2018-04-28",5,28.49,118,null,{"$f":"M2852","v":70.608333333333334},36.916666666666664,16.228333333333335,null,{"$f":"'Combined Cycle Gas'!$D$8","v":318.30459770114948},{"$f":"Nuclear!$D$8","v":307.69444444444446},0,37.29,12.340000000000002,9.59,0]
["2018-04-28",8,28.96,416,null,{"$f":"M2855","v":17.621666666666666},7.8433333333333337,5.8966666666666674,null,{"$f":"'Combined Cycle Gas'!$D$8","v":318.30459770114948},{"$f":"Nuclear!$D$8","v":307.69444444444446},5.2134159999999996,51.284999999999997,13.649999999999999,4.2150000000000007,5213416]
["2018-04-28",12,38.18,325,null,{"$f":"M2859","v":8.75},6.3950000000000005,4.5066666666666668,null,{"$f":"'Combined Cycle Gas'!$D$8","v":318.30459770114948},{"$f":"Nuclear!$D$8","v":307.69444444444446},7.5367139999999999,53.276666666666664,29.118333333333336,15.231666666666667,7536714]
["2018-04-28",13,37.11,400,null,{"$f":"M2860","v":7.1500000000000012},9.2799999999999994,6.8233333333333333,null,{"$f":"'Combined Cycle Gas'!$D$8","v":318.30459770114948},{"$f":"Nuclear!$D$8","v":307.69444444444446},6.9644399999999997,35.69,21.243333333333336,12.441666666666668,6964440]
["2018-04-28",19,38.409999999999997,1022,null,{"$f":"M2866","v":25.623333333333335},9.7799999999999994,18.168333333333333,null,{"$f":"'Combined Cycle Gas'!$D$8","v":318.30459770114948},{"$f":"Nuclear!$D$8","v":307.69444444444446},8.9619999999999995E-3,7.1500000000000012,9.2799999999999994,6.8233333333333333,8962]
["2018-04-28",20,33.31,1843,null,{"$f":"M2867","v":70.674999999999997},18.073333333333334,24.646666666666665,null,{"$f":"'Combined Cycle Gas'!$D$8","v":318.30459770114948},{"$f":"Nuclear!$D$8","v":307.69444444444446},0,7.0016666666666678,9.2650000000000006,5.6149999999999993,0]
["2018-04-28",23,12.74,2404,null,{"$f":"M2870","v":139.33666666666667},98.126666666666665,63.888333333333328,null,{"$f":"'Combined Cycle Gas'!$D$8","v":318.30459770114948},{"$f":"Nuclear!$D$8","v":307.69444444444446},0,14.424999999999999,4.3883333333333336,5.921666666666666,0]
["2018-04-29",3,28.63,2300,null,{"$f":"M2874","v":134.57499999999999},107.75166666666668,62.478333333333332,null,{"$f":"'Combined Cycle Gas'!$D$8","v":318.30459770114948},{"$f":"Nuclear!$D$8","v":307.69444444444446},0,115.70666666666666,44.348333333333336,11.6,0]
["2018-04-29",6,23.77,3041,null,{"$f":"M2877","v":128.03833333333333},94.711666666666659,71.67,null,{"$f":"'Combined Cycle Gas'!$D$8","v":318.30459770114948},{"$f":"Nuclear!$D$8","v":307.69444444444446},1.0570740000000001,139.48499999999999,102.11833333333333,84.466666666666669,1057074]
["2018-04-29",9,24.19,2443,null,{"$f":"M2880","v":128.94833333333332},101.34166666666665,58.455000000000005,null,{"$f":"'Combined Cycle Gas'!$D$8","v":318.30459770114948},{"$f":"Nuclear!$D$8","v":307.69444444444446},7.233085,134.57499999999999,107.75166666666668,62.478333333333332,7233085]
["2018-04-29",14,22.94,2812,null,{"$f":"M2885","v":132.91833333333332},94.743333333333339,46.920000000000009,null,{"$f":"'Combined Cycle Gas'!$D$8","v":318.30459770114948},{"$f":"Nuclear!$D$8","v":307.69444444444446},7.3565699999999996,128.38,100.79166666666667,60.745000000000005,7356570]
["2018-04-29",17,26.05,2968,null,{"$f":"M2888","v":135.86000000000001},99.195000000000007,71.676666666666677,null,{"$f":"'Combined Cycle Gas'!$D$8","v":318.30459770114948},{"$f":"Nuclear!$D$8","v":307.69444444444446},5.7430539999999999,134.25333333333336,100.41666666666667,37.6,5743054]
["2018-04-29",20,33.049999999999997,2968,null,{"$f":"M2891","v":136.82833333333335},98.756666666666661,92.783333333333346,null,{"$f":"'Combined Cycle Gas'!$D$8","v":318.30459770114948},{"$f":"Nuclear!$D$8","v":307.69444444444446},0,132.91833333333332,94.743333333333339,46.920000000000009,0]
["2018-04-29",21,36.96,2728,null,{"$f":"M2892","v":137.14666666666668},98.423333333333346,90.303333333333327,null,{"$f":"'Combined Cycle Gas'!$D$8","v":318.30459770114948},{"$f":"Nuclear!$D$8","v":307.69444444444446},0,131.26499999999999,97.50333333333333,65.064999999999998,0]
["2018-04-29",24,20.38,2398,null,{"$f":"M2895","v":138.16333333333333},99.028333333333322,49.830000000000005,null,{"$f":"'Combined Cycle Gas'!$D$8","v":318.30459770114948},{"$f":"Nuclear!$D$8","v":307.69444444444446},0,132.38166666666666,100.25833333333334,73.173333333333332,0]
["2018-04-30",4,24.77,2139,null,{"$f":"M2899","v":136.83666666666667},100.00500000000001,94.256666666666661,null,{"$f":"'Combined Cycle Gas'!$D$8","v":318.30459770114948},{"$f":"Nuclear!$D$8","v":307.69444444444446},0,137.68166666666667,97.918333333333337,67.376666666666665,0]
["2018-04-30",7,36.07,1944,null,{"$f":"M2902","v":139.39333333333332},102.97000000000001,95.424999999999997,null,{"$f":"'Combined Cycle Gas'!$D$8","v":318.30459770114948},{"$f":"Nuclear!$D$8","v":307.69444444444446},4.3741120000000002,137.32166666666669,97.64,84.706666666666663,4374112]
["2018-04-30",11,40.479999999999997,724,null,{"$f":"M2906","v":138.87666666666667},104.18666666666667,80.621666666666655,null,{"$f":"'Combined Cycle Gas'!$D$8","v":318.30459770114948},{"$f":"Nuclear!$D$8","v":307.69444444444446},7.4439950000000001,138.42166666666665,101.93,97.25333333333333,7443995]
["2018-04-30",15,36.03,1659,null,{"$f":"M2910","v":138.31500000000003},102.78166666666668,89.038333333333341,null,{"$f":"'Combined Cycle Gas'!$D$8","v":318.30459770114948},{"$f":"Nuclear!$D$8","v":307.69444444444446},7.164218,137.11166666666668,103.32833333333332,79.781666666666666,7164218]
["2018-04-30",18,31.43,2695,null,{"$f":"M2913","v":134.51833333333335},86.24,60.29,null,{"$f":"'Combined Cycle Gas'!$D$8","v":318.30459770114948},{"$f":"Nuclear!$D$8","v":307.69444444444446},3.8423780000000001,139.79999999999998,102.20833333333331,92.946666666666673,3842378]
["2018-04-30",19,30.45,2763,null,{"$f":"M2914","v":135.34166666666667},90.458333333333329,78.301666666666662,null,{"$f":"'Combined Cycle Gas'!$D$8","v":318.30459770114948},{"$f":"Nuclear!$D$8","v":307.69444444444446},0.93728999999999996,139.59833333333333,100.22000000000001,94.406666666666652,937290]
["2018-04-30",22,37.22,1411,null,{"$f":"M2917","v":139.23666666666668},100.27499999999999,87.134999999999991,null,{"$f":"'Combined Cycle Gas'!$D$8","v":318.30459770114948},{"$f":"Nuclear!$D$8","v":307.69444444444446},0,135.85333333333335,90.40666666666668,70.12,0]
["2018-05-01",1,21.05,1539,null,{"$f":"M2920","v":140.44166666666666},106.98666666666668,89.523333333333326,null,{"$f":"'Combined Cycle Gas'!$D$8","v":318.30459770114948},{"$f":"Nuclear!$D$8","v":307.69444444444446},0,135.34166666666667,90.458333333333329,78.301666666666662,0]
["2018-05-01",4,24.14,1887,null,{"$f":"M2923","v":135.22833333333335},107.34999999999998,92.118333333333339,null,{"$f":"'Combined Cycle Gas'!$D$8","v":318.30459770114948},{"$f":"Nuclear!$D$8","v":307.69444444444446},0,139.23666666666668,100.27499999999999,87.134999999999991,0]
["2018-05-01",9,37.270000000000003,1042,null,{"$f":"M2928","v":80.486666666666665},62.616666666666674,24.801666666666666,null,{"$f":"'Combined Cycle Gas'!$D$8","v":318.30459770114948},{"$f":"Nuclear!$D$8","v":307.69444444444446},6.526262,137.84166666666667,107.89166666666669,91.13333333333334,6526262]
["2018-05-01",12,36.869999999999997,887,null,{"$f":"M2931","v":10.336666666666668},11.578333333333333,11.493333333333334,null,{"$f":"'Combined Cycle Gas'!$D$8","v":318.30459770114948},{"$f":"Nuclear!$D$8","v":307.69444444444446},7.2295619999999996,135.37833333333333,102.33999999999999,85.536666666666676,7229562]
["2018-05-01",16,28.47,2656,null,{"$f":"M2935","v":7.5333333333333323},6.94,4.4933333333333332,null,{"$f":"'Combined Cycle Gas'!$D$8","v":318.30459770114948},{"$f":"Nuclear!$D$8","v":307.69444444444446},5.594093,36.428333333333335,28.354999999999993,19.715000000000003,5594093]
["2018-05-01",19,36.18,1569,null,{"$f":"M2938","v":24.579999999999995},15.388333333333334,17.12,null,{"$f":"'Combined Cycle Gas'!$D$8","v":318.30459770114948},{"$f":"Nuclear!$D$8","v":307.69444444444446},1.9380000000000001E-3,9.3933333333333326,5.54,5.4816666666666665,1938]
["2018-05-01",20,36.869999999999997,1032,null,{"$f":"M2939","v":27.959999999999997},32.434999999999995,29.136666666666667,null,{"$f":"'Combined Cycle Gas'!$D$8","v":318.30459770114948},{"$f":"Nuclear!$D$8","v":307.69444444444446},0,6.7716666666666656,5.6566666666666663,4.9083333333333332,0]
["2018-05-01",23,30.46,1107,null,{"$f":"M2942","v":112.44499999999999},75.441666666666677,40.514999999999993,null,{"$f":"'Combined Cycle Gas'!$D$8","v":318.30459770114948},{"$f":"Nuclear!$D$8","v":307.69444444444446},0,7.5983333333333327,5.8666666666666671,4.5183333333333335,0]
["2018-05-02",5,24.18,2064,null,{"$f":"M2948","v":127.53666666666668},97.361666666666679,105.005,null,{"$f":"'Combined Cycle Gas'!$D$8","v":318.30459770114948},{"$f":"Nuclear!$D$8","v":307.69444444444446},0,112.44499999999999,75.441666666666677,40.514999999999993,0]
["2018-05-02",7,37.14,2697,null,{"$f":"M2950","v":68.100000000000009},52.680000000000007,57.603333333333325,null,{"$f":"'Combined Cycle Gas'!$D$8","v":318.30459770114948},{"$f":"Nuclear!$D$8","v":307.69444444444446},4.1289999999999999E-3,135.16333333333333,97.38333333333334,59.033333333333331,4129]
["2018-05-02",10,38.57,511,null,{"$f":"M2953","v":55.854999999999997},34.455000000000005,33.814999999999998,null,{"$f":"'Combined Cycle Gas'!$D$8","v":318.30459770114948},{"$f":"Nuclear!$D$8","v":307.69444444444446},1.236103,115.42,102.64833333333331,101.37666666666667,1236103]
["2018-05-02",13,36.78,736,null,{"$f":"M2956","v":90.254999999999995},36.738333333333337,65.204999999999998,null,{"$f":"'Combined Cycle Gas'!$D$8","v":318.30459770114948},{"$f":"Nuclear!$D$8","v":307.69444444444446},2.5762740000000002,68.100000000000009,52.680000000000007,57.603333333333325,2576274]
["2018-05-02",17,35.75,718,null,{"$f":"M2960","v":73.00500000000001},24.516666666666666,64.524999999999991,null,{"$f":"'Combined Cycle Gas'!$D$8","v":318.30459770114948},{"$f":"Nuclear!$D$8","v":307.69444444444446},1.1148739999999999,67.176666666666662,31.525000000000002,42.506666666666668,1114874]
["2018-05-02",20,38.340000000000003,455,null,{"$f":"M2963","v":101.94666666666666},61.641666666666659,27.766666666666666,null,{"$f":"'Combined Cycle Gas'!$D$8","v":318.30459770114948},{"$f":"Nuclear!$D$8","v":307.69444444444446},0,103.71666666666665,34.895000000000003,62.856666666666676,0]
["2018-05-02",22,39.89,674,null,{"$f":"M2965","v":99.678333333333327},41.976666666666667,44.326666666666661,null,{"$f":"'Combined Cycle Gas'!$D$8","v":318.30459770114948},{"$f":"Nuclear!$D$8","v":307.69444444444446},0,79.73,28.425000000000001,48.978333333333332,0]
["2018-05-03",1,27.32,1034,null,{"$f":"M2968","v":67.611666666666665},15.973333333333334,18.855,null,{"$f":"'Combined Cycle Gas'!$D$8","v":318.30459770114948},{"$f":"Nuclear!$D$8","v":307.69444444444446},0,84.946666666666673,55.856666666666662,31.571666666666662,0]
["2018-05-03",4,27.63,373,null,{"$f":"M2971","v":4.0933333333333328},2.9616666666666664,25.578333333333333,null,{"$f":"'Combined Cycle Gas'!$D$8","v":318.30459770114948},{"$f":"Nuclear!$D$8","v":307.69444444444446},0,99.678333333333327,41.976666666666667,44.326666666666661,0]
["2018-05-03",8,38.61,1115,null,{"$f":"M2975","v":3.56},2.648333333333333,2.4716666666666671,null,{"$f":"'Combined Cycle Gas'!$D$8","v":318.30459770114948},{"$f":"Nuclear!$D$8","v":307.69444444444446},5.0850499999999998,32.384999999999998,3.4299999999999997,12.340000000000002,5085050]
["2018-05-03",11,38.28,1175,null,{"$f":"M2978","v":2.8583333333333329},2.665,2.78,null,{"$f":"'Combined Cycle Gas'!$D$8","v":318.30459770114948},{"$f":"Nuclear!$D$8","v":307.69444444444446},7.1752320000000003,3.4133333333333336,2.8499999999999996,10.955,7175232]
["2018-05-03",15,39.64,158,null,{"$f":"M2982","v":2.5950000000000002},2.35,4.5266666666666664,null,{"$f":"'Combined Cycle Gas'!$D$8","v":318.30459770114948},{"$f":"Nuclear!$D$8","v":307.69444444444446},6.6029479999999996,2.97,2.4883333333333333,4.0166666666666666,6602948]
["2018-05-03",18,40.08,27,null,{"$f":"M2985","v":1.7916666666666667},15.718333333333334,1.2983333333333333,null,{"$f":"'Combined Cycle Gas'!$D$8","v":318.30459770114948},{"$f":"Nuclear!$D$8","v":307.69444444444446},{"$f":"P2979/10^6","v":2.5014099999999999},2.7716666666666665,2.351666666666667,3.0583333333333336,2501410]
["2018-05-03",19,39.96,27,null,{"$f":"M2986","v":37.351666666666667},38.154999999999994,2.2533333333333334,null,{"$f":"'Combined Cycle Gas'!$D$8","v":318.30459770114948},{"$f":"Nuclear!$D$8","v":307.69444444444446},6.7289999999999997E-3,2.7966666666666664,2.2599999999999998,5.5816666666666679,6729]
["2018-05-03",23,32.68,1759,null,{"$f":"M2990","v":55.093333333333341},47.476666666666667,24.635000000000002,null,{"$f":"'Combined Cycle Gas'!$D$8","v":318.30459770114948},{"$f":"Nuclear!$D$8","v":307.69444444444446},0,2.688333333333333,2.2133333333333334,1.6900000000000002,0]
["2018-05-04",2,24.88,1767,null,{"$f":"M2993","v":44.278333333333336},43.95333333333334,42.906666666666666,null,{"$f":"'Combined Cycle Gas'!$D$8","v":318.30459770114948},{"$f":"Nuclear!$D$8","v":307.69444444444446},0,17.114999999999998,10.416666666666666,4.708333333333333,0]
["2018-05-04",5,24.9,2250,null,{"$f":"M2996","v":23.998333333333335},37.299999999999997,41.366666666666667,null,{"$f":"'Combined Cycle Gas'!$D$8","v":318.30459770114948},{"$f":"Nuclear!$D$8","v":307.69444444444446},0,55.093333333333341,47.476666666666667,24.635000000000002,0]
["2018-05-04",9,40.29,582,null,{"$f":"M3000","v":0.42833333333333329},0.64333333333333331,11.016666666666666,null,{"$f":"'Combined Cycle Gas'!$D$8","v":318.30459770114948},{"$f":"Nuclear!$D$8","v":307.69444444444446},6.5056419999999999,29.246666666666666,42.668333333333329,28.641666666666662,6505642]
["2018-05-04",12,38.68,805,null,{"$f":"M3003","v":12.44},1.3766666666666667,21.723333333333333,null,{"$f":"'Combined Cycle Gas'!$D$8","v":318.30459770114948},{"$f":"Nuclear!$D$8","v":307.69444444444446},6.8332040000000003,14.46,30.491666666666664,27.215,6833204]
["2018-05-04",16,42.93,296,null,{"$f":"M3007","v":47.31166666666666},10.818333333333333,11.253333333333336,null,{"$f":"'Combined Cycle Gas'!$D$8","v":318.30459770114948},{"$f":"Nuclear!$D$8","v":307.69444444444446},5.9441709999999999,23.591666666666669,0.48,13.39,5944171]
["2018-05-04",20,41.75,711,null,{"$f":"M3011","v":9.8616666666666664},4.0933333333333337,23.106666666666666,null,{"$f":"'Combined Cycle Gas'!$D$8","v":318.30459770114948},{"$f":"Nuclear!$D$8","v":307.69444444444446},0,31.91,33.015000000000001,13.815,0]
["2018-05-04",23,24.6,2361,null,{"$f":"M3014","v":10.354999999999999},3.9333333333333336,0.98333333333333328,null,{"$f":"'Combined Cycle Gas'!$D$8","v":318.30459770114948},{"$f":"Nuclear!$D$8","v":307.69444444444446},0,26.931666666666668,5.4816666666666665,14.821666666666665,0]
["2018-05-04",24,4.45,2386,null,{"$f":"M3015","v":10.991666666666667},4.2549999999999999,1.4800000000000002,null,{"$f":"'Combined Cycle Gas'!$D$8","v":318.30459770114948},{"$f":"Nuclear!$D$8","v":307.69444444444446},0,7.0683333333333325,0.59833333333333327,27.303333333333338,0]
["2018-05-05",3,26.1,2518,null,{"$f":"M3018","v":34.865000000000002},22.668333333333337,4.1516666666666664,null,{"$f":"'Combined Cycle Gas'!$D$8","v":318.30459770114948},{"$f":"Nuclear!$D$8","v":307.69444444444446},0,25.076666666666664,3.936666666666667,13.365,0]
["2018-05-05",6,29.69,816,null,{"$f":"M3021","v":40.853333333333332},33,21.986666666666668,null,{"$f":"'Combined Cycle Gas'!$D$8","v":318.30459770114948},{"$f":"Nuclear!$D$8","v":307.69444444444446},1.6995E-2,10.991666666666667,4.2549999999999999,1.4800000000000002,16995]
["2018-05-05",10,27.29,1585,null,{"$f":"M3025","v":4.0883333333333338},3.3133333333333339,1.2466666666666666,null,{"$f":"'Combined Cycle Gas'!$D$8","v":318.30459770114948},{"$f":"Nuclear!$D$8","v":307.69444444444446},6.0531620000000004,58.603333333333346,32.823333333333331,9.3849999999999998,6053162]
["2018-05-05",13,28.94,1179,null,{"$f":"M3028","v":16.745000000000001},17.946666666666665,9.831666666666667,null,{"$f":"'Combined Cycle Gas'!$D$8","v":318.30459770114948},{"$f":"Nuclear!$D$8","v":307.69444444444446},6.7681779999999998,18.341666666666669,13.409999999999998,10.873333333333333,6768178]
["2018-05-05",18,31.37,1029,null,{"$f":"M3033","v":29.02333333333333},3.9316666666666666,6.918333333333333,null,{"$f":"'Combined Cycle Gas'!$D$8","v":318.30459770114948},{"$f":"Nuclear!$D$8","v":307.69444444444446},2.3690159999999998,32.428333333333335,6.5416666666666679,5.9966666666666661,2369016]
["2018-05-05",21,32.130000000000003,2272,null,{"$f":"M3036","v":4.4716666666666667},1.3549999999999998,9.9,null,{"$f":"'Combined Cycle Gas'!$D$8","v":318.30459770114948},{"$f":"Nuclear!$D$8","v":307.69444444444446},0,12.17,7.001666666666666,11.766666666666666,0]
["2018-05-05",24,21.27,2262,null,{"$f":"M3039","v":10.066666666666666},17.241666666666664,42.361666666666665,null,{"$f":"'Combined Cycle Gas'!$D$8","v":318.30459770114948},{"$f":"Nuclear!$D$8","v":307.69444444444446},0,29.02333333333333,3.9316666666666666,6.918333333333333,0]
["2018-05-06",1,31.1,2375,null,{"$f":"M3040","v":16.843333333333334},17.203333333333333,39.339999999999996,null,{"$f":"'Combined Cycle Gas'!$D$8","v":318.30459770114948},{"$f":"Nuclear!$D$8","v":307.69444444444446},0,16.851666666666667,1.3533333333333333,12.458333333333334,0]
["2018-05-06",4,29.13,1026,null,{"$f":"M3043","v":57.98},34.451666666666668,42.213333333333331,null,{"$f":"'Combined Cycle Gas'!$D$8","v":318.30459770114948},{"$f":"Nuclear!$D$8","v":307.69444444444446},0,6.7450000000000001,0.7416666666666667,15.316666666666668,0]
["2018-05-06",8,29.19,1991,null,{"$f":"M3047","v":1.5016666666666667},1.5000000000000001E-2,0.96166666666666656,null,{"$f":"'Combined Cycle Gas'!$D$8","v":318.30459770114948},{"$f":"Nuclear!$D$8","v":307.69444444444446},3.2138339999999999,29.988333333333333,18.231666666666666,32.573333333333331,3213834]
["2018-05-06",10,29.77,816,null,{"$f":"M3049","v":0},0,0,null,{"$f":"'Combined Cycle Gas'!$D$8","v":318.30459770114948},{"$f":"Nuclear!$D$8","v":307.69444444444446},{"$f":"P3043/10^6","v":6.4795530000000001},57.98,34.451666666666668,42.213333333333331,6479553]
["2018-05-06",15,35.299999999999997,255,null,{"$f":"M3054","v":0.21833333333333335},0,0,null,{"$f":"'Combined Cycle Gas'!$D$8","v":318.30459770114948},{"$f":"Nuclear!$D$8","v":307.69444444444446},6.0041770000000003,0,0,0,6004177]
["2018-05-06",19,38,230,null,{"$f":"M3058","v":2.8366666666666664},4.3333333333333335E-2,15.113333333333335,null,{"$f":"'Combined Cycle Gas'!$D$8","v":318.30459770114948},{"$f":"Nuclear!$D$8","v":307.69444444444446},6.13E-3,0,0,0,6130]
["2018-05-06",22,33.15,1374,null,{"$f":"M3061","v":0.18500000000000003},0,18.843333333333334,null,{"$f":"'Combined Cycle Gas'!$D$8","v":318.30459770114948},{"$f":"Nuclear!$D$8","v":307.69444444444446},0,0,0,0,0]
["2018-05-07",1,21.65,1388,null,{"$f":"M3064","v":14.003333333333332},2.4683333333333333,11.586666666666666,null,{"$f":"'Combined Cycle Gas'!$D$8","v":318.30459770114948},{"$f":"Nuclear!$D$8","v":307.69444444444446},0,2.8366666666666664,4.3333333333333335E-2,15.113333333333335,0]
["2018-05-07",2,24.81,1584,null,{"$f":"M3065","v":26.790000000000003},9.3416666666666668,36.141666666666659,null,{"$f":"'Combined Cycle Gas'!$D$8","v":318.30459770114948},{"$f":"Nuclear!$D$8","v":307.69444444444446},0,0.33666666666666667,0,17.721666666666668,0]
["2018-05-07",7,38.17,546,null,{"$f":"M3070","v":58.63},19.900000000000002,53.964999999999996,null,{"$f":"'Combined Cycle Gas'!$D$8","v":318.30459770114948},{"$f":"Nuclear!$D$8","v":307.69444444444446},0.121762,14.003333333333332,2.4683333333333333,11.586666666666666,121762]
["2018-05-07",10,40.520000000000003,71,null,{"$f":"M3073","v":8.4666666666666668},5.083333333333333,5.669999999999999,null,{"$f":"'Combined Cycle Gas'!$D$8","v":318.30459770114948},{"$f":"Nuclear!$D$8","v":307.69444444444446},5.7202130000000002,122.17166666666667,99.586666666666659,62.556666666666672,5720213]
["2018-05-07",13,39.65,56,null,{"$f":"M3076","v":27.281666666666666},11.715000000000002,4.6883333333333326,null,{"$f":"'Combined Cycle Gas'!$D$8","v":318.30459770114948},{"$f":"Nuclear!$D$8","v":307.69444444444446},4.8763959999999997,58.63,19.900000000000002,53.964999999999996,4876396]
["2018-05-07",16,29.78,1725,null,{"$f":"M3079","v":26.906666666666666},30.916666666666661,31.560000000000002,null,{"$f":"'Combined Cycle Gas'!$D$8","v":318.30459770114948},{"$f":"Nuclear!$D$8","v":307.69444444444446},1.446653,8.4666666666666668,5.083333333333333,5.669999999999999,1446653]
["2018-05-07",20,34.4,1466,null,{"$f":"M3083","v":17.638333333333332},10.281666666666668,30.011666666666667,null,{"$f":"'Combined Cycle Gas'!$D$8","v":318.30459770114948},{"$f":"Nuclear!$D$8","v":307.69444444444446},0,29.98,11.711666666666666,12.766666666666666,0]
["2018-05-07",23,30.66,1066,null,{"$f":"M3086","v":15.636666666666665},9.0666666666666682,9.2900000000000009,null,{"$f":"'Combined Cycle Gas'!$D$8","v":318.30459770114948},{"$f":"Nuclear!$D$8","v":307.69444444444446},0,27.961666666666662,17.153333333333332,26.351666666666663,0]
["2018-05-07",24,21.2,1442,null,{"$f":"M3087","v":16.691666666666666},10.701666666666666,8.7516666666666669,null,{"$f":"'Combined Cycle Gas'!$D$8","v":318.30459770114948},{"$f":"Nuclear!$D$8","v":307.69444444444446},0,24.285,14.773333333333333,21.766666666666666,0]
["2018-05-08",4,26.06,871,null,{"$f":"M3091","v":21.453333333333333},13.313333333333333,7.5650000000000004,null,{"$f":"'Combined Cycle Gas'!$D$8","v":318.30459770114948},{"$f":"Nuclear!$D$8","v":307.69444444444446},0,12.496666666666668,6.34,12.463333333333333,0]
["2018-05-08",7,38.17,558,null,{"$f":"M3094","v":9.1333333333333329},9.0350000000000001,8.1716666666666669,null,{"$f":"'Combined Cycle Gas'!$D$8","v":318.30459770114948},{"$f":"Nuclear!$D$8","v":307.69444444444446},1.0806560000000001,12.6,7.0233333333333334,6.4733333333333336,1080656]
["2018-05-08",11,39.729999999999997,0,null,{"$f":"M3098","v":8.2016666666666662},5.498333333333334,5.8916666666666666,null,{"$f":"'Combined Cycle Gas'!$D$8","v":318.30459770114948},{"$f":"Nuclear!$D$8","v":307.69444444444446},2.3201000000000001,17.82,9.1566666666666663,7.8666666666666663,2320100]
["2018-05-08",14,39.729999999999997,0,null,{"$f":"M3101","v":8.49},5.6833333333333327,6.9999999999999991,null,{"$f":"'Combined Cycle Gas'!$D$8","v":318.30459770114948},{"$f":"Nuclear!$D$8","v":307.69444444444446},5.330336,8.1766666666666659,5.9016666666666664,5.8983333333333334,5330336]
["2018-05-08",17,39.4,0,null,{"$f":"M3104","v":8.8216666666666672},5.9666666666666659,6.0883333333333338,null,{"$f":"'Combined Cycle Gas'!$D$8","v":318.30459770114948},{"$f":"Nuclear!$D$8","v":307.69444444444446},0.39692300000000003,8.2016666666666662,5.498333333333334,5.8916666666666666,396923]
["2018-05-08",21,40.92,166,null,{"$f":"M3108","v":9.2533333333333321},6.1866666666666674,6.18,null,{"$f":"'Combined Cycle Gas'!$D$8","v":318.30459770114948},{"$f":"Nuclear!$D$8","v":307.69444444444446},0,8.576666666666668,5.791666666666667,7.5900000000000007,0]
["2018-05-09",1,27.64,836,null,{"$f":"M3112","v":64.25},34.388333333333328,23.778333333333336,null,{"$f":"'Combined Cycle Gas'!$D$8","v":318.30459770114948},{"$f":"Nuclear!$D$8","v":307.69444444444446},0,8.9883333333333315,6.0533333333333337,6.538333333333334,0]
["2018-05-09",2,27.63,788,null,{"$f":"M3113","v":117.66000000000001},96.701666666666668,36.083333333333336,null,{"$f":"'Combined Cycle Gas'!$D$8","v":318.30459770114948},{"$f":"Nuclear!$D$8","v":307.69444444444446},{"$f":"P3107/10^6","v":0},9.2449999999999992,6.2033333333333331,6.5,0]
["2018-05-09",5,27.47,985,null,{"$f":"M3116","v":133.48166666666665},99.963333333333324,78.996666666666655,null,{"$f":"'Combined Cycle Gas'!$D$8","v":318.30459770114948},{"$f":"Nuclear!$D$8","v":307.69444444444446},0,9.3866666666666649,6.875,12.979999999999999,0]
["2018-05-09",8,39.520000000000003,1377,null,{"$f":"M3119","v":89.716666666666683},84.24666666666667,52.17499999999999,null,{"$f":"'Combined Cycle Gas'!$D$8","v":318.30459770114948},{"$f":"Nuclear!$D$8","v":307.69444444444446},0.85590100000000002,117.66000000000001,96.701666666666668,36.083333333333336,855901]
["2018-05-09",12,38.06,2080,null,{"$f":"M3123","v":38.785000000000004},34.645000000000003,27.581666666666663,null,{"$f":"'Combined Cycle Gas'!$D$8","v":318.30459770114948},{"$f":"Nuclear!$D$8","v":307.69444444444446},3.031812,129.65166666666667,98.763333333333335,71.286666666666676,3031812]
["2018-05-09",15,37.950000000000003,2014,null,{"$f":"M3126","v":38.901666666666664},32.191666666666663,24.231666666666669,null,{"$f":"'Combined Cycle Gas'!$D$8","v":318.30459770114948},{"$f":"Nuclear!$D$8","v":307.69444444444446},2.3362959999999999,61.376666666666665,60.98,50.32,2336296]
["2018-05-09",18,33.119999999999997,2850,null,{"$f":"M3129","v":117.01833333333332},72.49166666666666,33.538333333333334,null,{"$f":"'Combined Cycle Gas'!$D$8","v":318.30459770114948},{"$f":"Nuclear!$D$8","v":307.69444444444446},1.125726,38.785000000000004,34.645000000000003,27.581666666666663,1125726]
["2018-05-09",22,38.49,2248,null,{"$f":"M3133","v":142.63},110.49,105.79666666666668,null,{"$f":"'Combined Cycle Gas'!$D$8","v":318.30459770114948},{"$f":"Nuclear!$D$8","v":307.69444444444446},0,48.378333333333337,40.693333333333335,25.726666666666663,0]
["2018-05-10",2,21.84,2862,null,{"$f":"M3137","v":133.22499999999999},102.83833333333335,102.28666666666668,null,{"$f":"'Combined Cycle Gas'!$D$8","v":318.30459770114948},{"$f":"Nuclear!$D$8","v":307.69444444444446},0,142.09,110.26166666666666,101.94166666666668,0]
["2018-05-10",3,20.97,2894,null,{"$f":"M3138","v":129.375},99.389999999999986,100.50833333333334,null,{"$f":"'Combined Cycle Gas'!$D$8","v":318.30459770114948},{"$f":"Nuclear!$D$8","v":307.69444444444446},0,142.25,110.38,103.40333333333335,0]
["2018-05-10",6,33.35,2895,null,{"$f":"M3141","v":122.36333333333334},98.185000000000002,98.25,null,{"$f":"'Combined Cycle Gas'!$D$8","v":318.30459770114948},{"$f":"Nuclear!$D$8","v":307.69444444444446},3.0499999999999999E-4,137.22499999999999,108.58833333333332,104.69833333333334,305]
["2018-05-10",9,40.17,987,null,{"$f":"M3144","v":103.50333333333333},81.384999999999991,91.02833333333335,null,{"$f":"'Combined Cycle Gas'!$D$8","v":318.30459770114948},{"$f":"Nuclear!$D$8","v":307.69444444444446},0.98561799999999999,129.375,99.389999999999986,100.50833333333334,985618]
["2018-05-10",13,41.41,236,null,{"$f":"M3148","v":120.71833333333335},100.75333333333333,95.88000000000001,null,{"$f":"'Combined Cycle Gas'!$D$8","v":318.30459770114948},{"$f":"Nuclear!$D$8","v":307.69444444444446},5.7659760000000002,116.81666666666668,95.051666666666677,91.649999999999991,5765976]
["2018-05-10",16,39.79,679,null,{"$f":"M3151","v":61.748333333333328},87.566666666666663,99.733333333333334,null,{"$f":"'Combined Cycle Gas'!$D$8","v":318.30459770114948},{"$f":"Nuclear!$D$8","v":307.69444444444446},4.3337310000000002,112.97166666666668,88.973333333333343,86.988333333333344,4333731]
["2018-05-10",19,39.56,714,null,{"$f":"M3154","v":110.825},98.016666666666666,91.625,null,{"$f":"'Combined Cycle Gas'!$D$8","v":318.30459770114948},{"$f":"Nuclear!$D$8","v":307.69444444444446},7.8831999999999999E-2,120.71833333333335,100.75333333333333,95.88000000000001,78832]
["2018-05-10",24,22.77,1743,null,{"$f":"M3159","v":55.495000000000005},73.070000000000007,83.38666666666667,null,{"$f":"'Combined Cycle Gas'!$D$8","v":318.30459770114948},{"$f":"Nuclear!$D$8","v":307.69444444444446},0,63.573333333333331,85.991666666666674,66.576666666666668,0]
["2018-05-11",3,26.06,2069,null,{"$f":"M3162","v":60.683333333333337},26.459999999999997,39.753333333333337,null,{"$f":"'Combined Cycle Gas'!$D$8","v":318.30459770114948},{"$f":"Nuclear!$D$8","v":307.69444444444446},0,94.754999999999995,83.236666666666665,98.740000000000009,0]
["2018-05-11",4,26.07,1864,null,{"$f":"M3163","v":60.265000000000008},18.133333333333336,42.478333333333332,null,{"$f":"'Combined Cycle Gas'!$D$8","v":318.30459770114948},{"$f":"Nuclear!$D$8","v":307.69444444444446},0,82.691666666666663,86.245000000000005,93.466666666666654,0]
["2018-05-11",7,38.29,2713,null,{"$f":"M3166","v":65.803333333333327},31.996666666666666,16.593333333333334,null,{"$f":"'Combined Cycle Gas'!$D$8","v":318.30459770114948},{"$f":"Nuclear!$D$8","v":307.69444444444446},0.249802,55.826666666666661,45.721666666666664,73.091666666666669,249802]
["2018-05-11",10,40.369999999999997,1168,null,{"$f":"M3169","v":89.636666666666656},59.95333333333334,63.719999999999992,null,{"$f":"'Combined Cycle Gas'!$D$8","v":318.30459770114948},{"$f":"Nuclear!$D$8","v":307.69444444444446},4.7626619999999997,60.265000000000008,18.133333333333336,42.478333333333332,4762662]
["2018-05-11",16,47.09,153,null,{"$f":"M3175","v":116.41833333333334},72.696666666666658,23.328333333333333,null,{"$f":"'Combined Cycle Gas'!$D$8","v":318.30459770114948},{"$f":"Nuclear!$D$8","v":307.69444444444446},5.0598739999999998,89.636666666666656,59.95333333333334,63.719999999999992,5059874]
["2018-05-11",18,40.4,714,null,{"$f":"M3177","v":131.48166666666665},83.38333333333334,19.848333333333333,null,{"$f":"'Combined Cycle Gas'!$D$8","v":318.30459770114948},{"$f":"Nuclear!$D$8","v":307.69444444444446},{"$f":"P3171/10^6","v":1.4938910000000001},56.883333333333333,49.384999999999998,90.06,1493891]
["2018-05-11",22,39.78,1261,null,{"$f":"M3181","v":99.521666666666661},53.695,68.408333333333346,null,{"$f":"'Combined Cycle Gas'!$D$8","v":318.30459770114948},{"$f":"Nuclear!$D$8","v":307.69444444444446},0,116.41833333333334,72.696666666666658,23.328333333333333,0]
["2018-05-12",1,32.28,1311,null,{"$f":"M3184","v":85.11},55.696666666666665,68.713333333333324,null,{"$f":"'Combined Cycle Gas'!$D$8","v":318.30459770114948},{"$f":"Nuclear!$D$8","v":307.69444444444446},0,109.52333333333333,82.428333333333342,67.841666666666669,0]
["2018-05-12",4,28.79,2799,null,{"$f":"M3187","v":69.606666666666669},41.044999999999995,43.388333333333328,null,{"$f":"'Combined Cycle Gas'!$D$8","v":318.30459770114948},{"$f":"Nuclear!$D$8","v":307.69444444444446},0,99.521666666666661,53.695,68.408333333333346,0]
["2018-05-12",5,26.39,3301,null,{"$f":"M3188","v":91.295000000000002},49.064999999999998,48.348333333333336,null,{"$f":"'Combined Cycle Gas'!$D$8","v":318.30459770114948},{"$f":"Nuclear!$D$8","v":307.69444444444446},0,89.954999999999998,61.004999999999995,69.733333333333334,0]
["2018-05-12",8,25.17,2629,null,{"$f":"M3191","v":55.976666666666659},27.891666666666669,59.416666666666664,null,{"$f":"'Combined Cycle Gas'!$D$8","v":318.30459770114948},{"$f":"Nuclear!$D$8","v":307.69444444444446},3.8528039999999999,71.00833333333334,55.533333333333339,33.590000000000003,3852804]
["2018-05-12",13,30.48,2135,null,{"$f":"M3196","v":111.875},67.276666666666657,71.323333333333323,null,{"$f":"'Combined Cycle Gas'!$D$8","v":318.30459770114948},{"$f":"Nuclear!$D$8","v":307.69444444444446},5.176812,65.114999999999995,35.421666666666667,59.5,5176812]
["2018-05-12",16,26.02,1815,null,{"$f":"M3199","v":89.614999999999995},59.93666666666666,72.093333333333334,null,{"$f":"'Combined Cycle Gas'!$D$8","v":318.30459770114948},{"$f":"Nuclear!$D$8","v":307.69444444444446},4.8208500000000001,72.951666666666668,37.918333333333329,56.103333333333332,4820850]
["2018-05-12",19,35.520000000000003,1740,null,{"$f":"M3202","v":47.893333333333324},31.435000000000002,69.598333333333343,null,{"$f":"'Combined Cycle Gas'!$D$8","v":318.30459770114948},{"$f":"Nuclear!$D$8","v":307.69444444444446},1.3489999999999999E-3,111.875,67.276666666666657,71.323333333333323,1349]
["2018-05-12",23,27.9,176,null,{"$f":"M3206","v":94.743333333333339},66.308333333333323,55.54,null,{"$f":"'Combined Cycle Gas'!$D$8","v":318.30459770114948},{"$f":"Nuclear!$D$8","v":307.69444444444446},0,89.339999999999989,59.568333333333328,75.106666666666669,0]
["2018-05-13",2,22.02,2060,null,{"$f":"M3209","v":113.84666666666668},86.138333333333335,92.980000000000018,null,{"$f":"'Combined Cycle Gas'!$D$8","v":318.30459770114948},{"$f":"Nuclear!$D$8","v":307.69444444444446},0,27.316666666666666,13.451666666666666,67.401666666666657,0]
["2018-05-13",5,26.49,2118,null,{"$f":"M3212","v":81.146666666666661},69.216666666666669,75.063333333333333,null,{"$f":"'Combined Cycle Gas'!$D$8","v":318.30459770114948},{"$f":"Nuclear!$D$8","v":307.69444444444446},0,94.743333333333339,66.308333333333323,55.54,0]
["2018-05-13",6,27.23,1927,null,{"$f":"M3213","v":52.641666666666673},55.218333333333334,64.893333333333331,null,{"$f":"'Combined Cycle Gas'!$D$8","v":318.30459770114948},{"$f":"Nuclear!$D$8","v":307.69444444444446},1.6352800000000001,100.78166666666668,85.475000000000009,78.575000000000003,1635280]
["2018-05-13",10,29.37,756,null,{"$f":"M3217","v":35.39},56.813333333333325,22.301666666666666,null,{"$f":"'Combined Cycle Gas'!$D$8","v":318.30459770114948},{"$f":"Nuclear!$D$8","v":307.69444444444446},7.1402760000000001,102.13833333333332,84.438333333333333,83.925000000000011,7140276]
["2018-05-13",14,31.73,625,null,{"$f":"M3221","v":27.016666666666666},19.275000000000002,42.223333333333336,null,{"$f":"'Combined Cycle Gas'!$D$8","v":318.30459770114948},{"$f":"Nuclear!$D$8","v":307.69444444444446},5.2066600000000003,58.79,26.803333333333331,7.2283333333333326,5206660]
["2018-05-13",17,35.619999999999997,651,null,{"$f":"M3224","v":98.144999999999996},32.930000000000007,25.263333333333335,null,{"$f":"'Combined Cycle Gas'!$D$8","v":318.30459770114948},{"$f":"Nuclear!$D$8","v":307.69444444444446},2.2370640000000002,42.46,48.25,37.666666666666664,2237064]
["2018-05-13",20,39.75,276,null,{"$f":"M3227","v":70.948333333333338},18.071666666666669,70.366666666666674,null,{"$f":"'Combined Cycle Gas'!$D$8","v":318.30459770114948},{"$f":"Nuclear!$D$8","v":307.69444444444446},0,27.016666666666666,19.275000000000002,42.223333333333336,0]
["2018-05-13",24,29.47,503,null,{"$f":"M3231","v":79.14500000000001},62.533333333333331,63.20333333333334,null,{"$f":"'Combined Cycle Gas'!$D$8","v":318.30459770114948},{"$f":"Nuclear!$D$8","v":307.69444444444446},0,113.25833333333334,45.206666666666671,38.593333333333334,0]
["2018-05-14",3,24.85,1020,null,{"$f":"M3234","v":16.191666666666666},23.004999999999999,17.516666666666666,null,{"$f":"'Combined Cycle Gas'!$D$8","v":318.30459770114948},{"$f":"Nuclear!$D$8","v":307.69444444444446},0,78.248333333333321,10.816666666666668,78.043333333333337,0]
["2018-05-14",7,34.700000000000003,1113,null,{"$f":"M3238","v":9.6883333333333344},5.8866666666666667,5.0450000000000008,null,{"$f":"'Combined Cycle Gas'!$D$8","v":318.30459770114948},{"$f":"Nuclear!$D$8","v":307.69444444444446},4.3694050000000004,74.62,11.733333333333334,74.8,4369405]
["2018-05-14",8,37.31,875,null,{"$f":"M3239","v":7.4483333333333333},5.9033333333333333,9.3033333333333328,null,{"$f":"'Combined Cycle Gas'!$D$8","v":318.30459770114948},{"$f":"Nuclear!$D$8","v":307.69444444444446},6.0451759999999997,45.478333333333332,20.821666666666665,66.50500000000001,6045176]
["2018-05-14",11,37.21,255,null,{"$f":"M3242","v":23.723333333333333},18.265000000000001,19.75,null,{"$f":"'Combined Cycle Gas'!$D$8","v":318.30459770114948},{"$f":"Nuclear!$D$8","v":307.69444444444446},7.2579890000000002,15.320000000000002,5.8566666666666665,5.8999999999999986,7257989]
["2018-05-14",15,38.46,281,null,{"$f":"M3246","v":67.408333333333331},18.66,13.008333333333333,null,{"$f":"'Combined Cycle Gas'!$D$8","v":318.30459770114948},{"$f":"Nuclear!$D$8","v":307.69444444444446},6.9185460000000001,8.7933333333333312,6.9283333333333337,12.064999999999998,6918546]
["2018-05-14",18,38.44,666,null,{"$f":"M3249","v":46.634999999999998},14.901666666666666,13.286666666666667,null,{"$f":"'Combined Cycle Gas'!$D$8","v":318.30459770114948},{"$f":"Nuclear!$D$8","v":307.69444444444446},3.8971,32.188333333333333,30.248333333333331,23.635000000000002,3897100]
["2018-05-14",21,39.47,59,null,{"$f":"M3252","v":26.663333333333338},17.841666666666665,14.145000000000001,null,{"$f":"'Combined Cycle Gas'!$D$8","v":318.30459770114948},{"$f":"Nuclear!$D$8","v":307.69444444444446},0,67.408333333333331,18.66,13.008333333333333,0]
["2018-05-15",1,24.72,62,null,{"$f":"M3256","v":34.734999999999999},9.7683333333333326,34.084999999999994,null,{"$f":"'Combined Cycle Gas'!$D$8","v":318.30459770114948},{"$f":"Nuclear!$D$8","v":307.69444444444446},0,44.793333333333329,27.52333333333333,27.116666666666664,0]
["2018-05-15",4,29.17,81,null,{"$f":"M3259","v":8.9099999999999984},6.4016666666666673,13.023333333333332,null,{"$f":"'Combined Cycle Gas'!$D$8","v":318.30459770114948},{"$f":"Nuclear!$D$8","v":307.69444444444446},0,15.053333333333333,10.604999999999999,37.346666666666664,0]
["2018-05-15",6,25,24,null,{"$f":"M3261","v":40.403333333333329},14.673333333333332,20.018333333333334,null,{"$f":"'Combined Cycle Gas'!$D$8","v":318.30459770114948},{"$f":"Nuclear!$D$8","v":307.69444444444446},1.224931,19.574999999999999,8.4450000000000003,30.221666666666664,1224931]
["2018-05-15",9,38.49,42,null,{"$f":"M3264","v":13.714999999999998},13.950000000000001,18.893333333333334,null,{"$f":"'Combined Cycle Gas'!$D$8","v":318.30459770114948},{"$f":"Nuclear!$D$8","v":307.69444444444446},6.6700759999999999,18.754999999999999,10.566666666666666,22.014999999999997,6670076]
["2018-05-15",12,39.479999999999997,56,null,{"$f":"M3267","v":40.99},32.4,37.381666666666661,null,{"$f":"'Combined Cycle Gas'!$D$8","v":318.30459770114948},{"$f":"Nuclear!$D$8","v":307.69444444444446},6.8225759999999998,40.403333333333329,14.673333333333332,20.018333333333334,6822576]
["2018-05-15",16,37.880000000000003,717,null,{"$f":"M3271","v":62.221666666666671},29.540000000000003,33.696666666666665,null,{"$f":"'Combined Cycle Gas'!$D$8","v":318.30459770114948},{"$f":"Nuclear!$D$8","v":307.69444444444446},6.1652750000000003,17.376666666666669,17.87,25.891666666666666,6165275]
["2018-05-15",19,38.520000000000003,614,null,{"$f":"M3274","v":39.961666666666666},43.891666666666673,37.589999999999996,null,{"$f":"'Combined Cycle Gas'!$D$8","v":318.30459770114948},{"$f":"Nuclear!$D$8","v":307.69444444444446},0.89566599999999996,50.79,30.178333333333331,28.64,895666]
["2018-05-15",21,38.549999999999997,614,null,{"$f":"M3276","v":78.774999999999991},43.553333333333342,35.234999999999999,null,{"$f":"'Combined Cycle Gas'!$D$8","v":318.30459770114948},{"$f":"Nuclear!$D$8","v":307.69444444444446},0,46.368333333333339,31.013333333333335,40.5,0]
["2018-05-16",3,24.18,770,null,{"$f":"M3282","v":26.696666666666669},14.906666666666666,17.46166666666667,null,{"$f":"'Combined Cycle Gas'!$D$8","v":318.30459770114948},{"$f":"Nuclear!$D$8","v":307.69444444444446},0,78.774999999999991,43.553333333333342,35.234999999999999,0]
["2018-05-16",6,29.98,210,null,{"$f":"M3285","v":11.326666666666668},5.4066666666666663,8.1100000000000012,null,{"$f":"'Combined Cycle Gas'!$D$8","v":318.30459770114948},{"$f":"Nuclear!$D$8","v":307.69444444444446},1.272186,59.764999999999993,37.543333333333329,36.234999999999999,1272186]
["2018-05-16",7,39.270000000000003,34,null,{"$f":"M3286","v":7.0350000000000001},5.2850000000000001,5.1816666666666666,null,{"$f":"'Combined Cycle Gas'!$D$8","v":318.30459770114948},{"$f":"Nuclear!$D$8","v":307.69444444444446},3.7565140000000001,62.65,32.626666666666665,37.043333333333329,3756514]
["2018-05-16",10,39.78,30,null,{"$f":"M3289","v":7.7233333333333327},6.0766666666666671,6.583333333333333,null,{"$f":"'Combined Cycle Gas'!$D$8","v":318.30459770114948},{"$f":"Nuclear!$D$8","v":307.69444444444446},6.7535720000000001,18.054999999999996,9.0666666666666664,14.825000000000001,6753572]
["2018-05-16",13,38.49,512,null,{"$f":"M3292","v":12.021666666666668},6.0166666666666666,10.616666666666665,null,{"$f":"'Combined Cycle Gas'!$D$8","v":318.30459770114948},{"$f":"Nuclear!$D$8","v":307.69444444444446},6.8913739999999999,7.0350000000000001,5.2850000000000001,5.1816666666666666,6891374]
["2018-05-16",17,37.6,793,null,{"$f":"M3296","v":60.554999999999986},14.005000000000001,5.26,null,{"$f":"'Combined Cycle Gas'!$D$8","v":318.30459770114948},{"$f":"Nuclear!$D$8","v":307.69444444444446},5.124206,8.4383333333333326,6.9766666666666666,8,5124206]
["2018-05-16",22,38.08,1507,null,{"$f":"M3301","v":33.914999999999999},28.83,64.333333333333329,null,{"$f":"'Combined Cycle Gas'!$D$8","v":318.30459770114948},{"$f":"Nuclear!$D$8","v":307.69444444444446},0,35.545000000000002,10.988333333333332,16.059999999999999,0]
["2018-05-16",24,24.91,670,null,{"$f":"M3303","v":54.698333333333331},41.195,50.71,null,{"$f":"'Combined Cycle Gas'!$D$8","v":318.30459770114948},{"$f":"Nuclear!$D$8","v":307.69444444444446},0,17.358333333333331,43.555,20.283333333333331,0]
["2018-05-17",4,25.92,181,null,{"$f":"M3307","v":6.8816666666666668},5.22,23.088333333333335,null,{"$f":"'Combined Cycle Gas'!$D$8","v":318.30459770114948},{"$f":"Nuclear!$D$8","v":307.69444444444446},0,33.914999999999999,28.83,64.333333333333329,0]
["2018-05-17",7,40.69,36,null,{"$f":"M3310","v":7.1866666666666674},4.9349999999999996,8.4099999999999984,null,{"$f":"'Combined Cycle Gas'!$D$8","v":318.30459770114948},{"$f":"Nuclear!$D$8","v":307.69444444444446},4.1755199999999997,44.12166666666667,30.99666666666667,41.625,4175520]
["2018-05-17",8,43.74,52,null,{"$f":"M3311","v":7.2816666666666672},5.1000000000000005,6.3083333333333336,null,{"$f":"'Combined Cycle Gas'!$D$8","v":318.30459770114948},{"$f":"Nuclear!$D$8","v":307.69444444444446},5.6703299999999999,52.358333333333341,31.358333333333331,42.391666666666673,5670330]
["2018-05-17",11,39.82,0,null,{"$f":"M3314","v":11.286666666666667},5.6616666666666662,5.0183333333333335,null,{"$f":"'Combined Cycle Gas'!$D$8","v":318.30459770114948},{"$f":"Nuclear!$D$8","v":307.69444444444446},6.8327419999999996,6.9850000000000003,4.9016666666666664,12.643333333333333,6832742]
["2018-05-17",14,38.47,320,null,{"$f":"M3317","v":12.426666666666664},16.433333333333334,17.083333333333332,null,{"$f":"'Combined Cycle Gas'!$D$8","v":318.30459770114948},{"$f":"Nuclear!$D$8","v":307.69444444444446},6.6085669999999999,7.2816666666666672,5.1000000000000005,6.3083333333333336,6608567]
["2018-05-17",19,39.78,116,null,{"$f":"M3322","v":37.861666666666672},20.933333333333334,24.946666666666662,null,{"$f":"'Combined Cycle Gas'!$D$8","v":318.30459770114948},{"$f":"Nuclear!$D$8","v":307.69444444444446},0.55761899999999998,7.3566666666666656,13.685,8.7566666666666659,557619]
["2018-05-17",22,40.58,0,null,{"$f":"M3325","v":104.425},54.109999999999992,28.475000000000005,null,{"$f":"'Combined Cycle Gas'!$D$8","v":318.30459770114948},{"$f":"Nuclear!$D$8","v":307.69444444444446},0,19.723333333333333,17.455000000000002,13.159999999999998,0]
["2018-05-18",2,16.23,0,null,{"$f":"M3329","v":91.865000000000009},80.676666666666662,90.281666666666652,null,{"$f":"'Combined Cycle Gas'!$D$8","v":318.30459770114948},{"$f":"Nuclear!$D$8","v":307.69444444444446},0,56.989999999999988,36.125000000000007,17.953333333333333,0]
["2018-05-18",5,24.86,27,null,{"$f":"M3332","v":109.64666666666666},82.726666666666674,97.423333333333346,null,{"$f":"'Combined Cycle Gas'!$D$8","v":318.30459770114948},{"$f":"Nuclear!$D$8","v":307.69444444444446},0,78.796666666666667,51.63,48.961666666666666,0]
["2018-05-18",8,38.64,1,null,{"$f":"M3335","v":128.3133333333333},55.216666666666669,50.748333333333335,null,{"$f":"'Combined Cycle Gas'!$D$8","v":318.30459770114948},{"$f":"Nuclear!$D$8","v":307.69444444444446},5.4287739999999998,91.865000000000009,80.676666666666662,90.281666666666652,5428774]
["2018-05-18",9,37.409999999999997,0,null,{"$f":"M3336","v":113.935},55.488333333333337,37.271666666666668,null,{"$f":"'Combined Cycle Gas'!$D$8","v":318.30459770114948},{"$f":"Nuclear!$D$8","v":307.69444444444446},6.3362379999999998,99.67,85.365000000000009,98.545000000000002,6336238]
["2018-05-18",12,34.880000000000003,0,null,{"$f":"M3339","v":114.52333333333331},70.238333333333344,74.861666666666665,null,{"$f":"'Combined Cycle Gas'!$D$8","v":318.30459770114948},{"$f":"Nuclear!$D$8","v":307.69444444444446},6.5964700000000001,112.68333333333334,76.103333333333325,83.171666666666667,6596470]
["2018-05-18",16,38.479999999999997,0,null,{"$f":"M3343","v":112.17166666666667},88.095000000000013,72.701666666666668,null,{"$f":"'Combined Cycle Gas'!$D$8","v":318.30459770114948},{"$f":"Nuclear!$D$8","v":307.69444444444446},5.8753960000000003,96.201666666666668,55.574999999999989,52.701666666666675,5875396]
["2018-05-18",20,38.130000000000003,0,null,{"$f":"M3347","v":136.34666666666666},89.09333333333332,80.88000000000001,null,{"$f":"'Combined Cycle Gas'!$D$8","v":318.30459770114948},{"$f":"Nuclear!$D$8","v":307.69444444444446},0,121.06500000000001,86.198333333333323,84.703333333333333,0]
["2018-05-18",23,29.66,0,null,{"$f":"M3350","v":107.53166666666665},73.144999999999996,46.294999999999995,null,{"$f":"'Combined Cycle Gas'!$D$8","v":318.30459770114948},{"$f":"Nuclear!$D$8","v":307.69444444444446},0,120.26499999999999,78.928333333333327,74.278333333333322,0]
["2018-05-19",3,24.9,181,null,{"$f":"M3354","v":34.701666666666668},21.15666666666667,43.616666666666667,null,{"$f":"'Combined Cycle Gas'!$D$8","v":318.30459770114948},{"$f":"Nuclear!$D$8","v":307.69444444444446},0,131.20666666666665,82.858333333333334,70.149999999999991,0]
["2018-05-19",6,27.01,331,null,{"$f":"M3357","v":4.3683333333333332},8.2316666666666674,42.866666666666674,null,{"$f":"'Combined Cycle Gas'!$D$8","v":318.30459770114948},{"$f":"Nuclear!$D$8","v":307.69444444444446},5.0916999999999997E-2,108.02333333333333,43.058333333333337,27.296666666666667,50917]
["2018-05-19",9,27.3,0,null,{"$f":"M3360","v":4.663333333333334},3.1983333333333328,11.916666666666666,null,{"$f":"'Combined Cycle Gas'!$D$8","v":318.30459770114948},{"$f":"Nuclear!$D$8","v":307.69444444444446},5.4985460000000002,34.701666666666668,21.15666666666667,43.616666666666667,5498546]
["2018-05-19",13,36.700000000000003,18,null,{"$f":"M3364","v":16.025000000000002},8.44,15.773333333333335,null,{"$f":"'Combined Cycle Gas'!$D$8","v":318.30459770114948},{"$f":"Nuclear!$D$8","v":307.69444444444446},5.1357160000000004,4.7133333333333338,3.9583333333333339,38.398333333333333,5135716]
["2018-05-19",14,36.01,20,null,{"$f":"M3365","v":41.72},30.546666666666663,16.96166666666667,null,{"$f":"'Combined Cycle Gas'!$D$8","v":318.30459770114948},{"$f":"Nuclear!$D$8","v":307.69444444444446},5.0596579999999998,3.9116666666666666,2.8466666666666662,21.803333333333338,5059658]
["2018-05-19",18,38.369999999999997,135,null,{"$f":"M3369","v":125.93999999999998},80.161666666666676,1.3583333333333334,null,{"$f":"'Combined Cycle Gas'!$D$8","v":318.30459770114948},{"$f":"Nuclear!$D$8","v":307.69444444444446},{"$f":"P3363/10^6","v":0.98219000000000001},7.1083333333333334,3.0416666666666665,23.598333333333333,982190]
["2018-05-19",21,37.21,563,null,{"$f":"M3372","v":131.22999999999999},95.883333333333326,96.135000000000005,null,{"$f":"'Combined Cycle Gas'!$D$8","v":318.30459770114948},{"$f":"Nuclear!$D$8","v":307.69444444444446},0,65.168333333333337,45.714999999999996,8.5300000000000011,0]
["2018-05-19",24,22.04,1039,null,{"$f":"M3375","v":121.61333333333333},95.23833333333333,77.438333333333333,null,{"$f":"'Combined Cycle Gas'!$D$8","v":318.30459770114948},{"$f":"Nuclear!$D$8","v":307.69444444444446},0,125.93999999999998,80.161666666666676,1.3583333333333334,0]
["2018-05-20",4,24.15,1862,null,{"$f":"M3379","v":119.69166666666666},79.038333333333313,77.593333333333334,null,{"$f":"'Combined Cycle Gas'!$D$8","v":318.30459770114948},{"$f":"Nuclear!$D$8","v":307.69444444444446},0,124.94,99.841666666666654,98.333333333333329,0]
["2018-05-20",7,27.56,1328,null,{"$f":"M3382","v":63.871666666666663},19.135000000000002,9.8266666666666662,null,{"$f":"'Combined Cycle Gas'!$D$8","v":318.30459770114948},{"$f":"Nuclear!$D$8","v":307.69444444444446},3.1315,118.98833333333333,81.073333333333323,76.843333333333334,3131500]
["2018-05-20",10,34.19,81,null,{"$f":"M3385","v":38.829999999999991},5.8883333333333328,0.18166666666666667,null,{"$f":"'Combined Cycle Gas'!$D$8","v":318.30459770114948},{"$f":"Nuclear!$D$8","v":307.69444444444446},6.2656679999999998,119.69166666666666,79.038333333333313,77.593333333333334,6265668]
["2018-05-20",12,31.07,15,null,{"$f":"M3387","v":50.506666666666661},7.77,6.78,null,{"$f":"'Combined Cycle Gas'!$D$8","v":318.30459770114948},{"$f":"Nuclear!$D$8","v":307.69444444444446},5.6917540000000004,81.906666666666652,40.54666666666666,29.593333333333334,5691754]
["2018-05-20",15,35.35,69,null,{"$f":"M3390","v":54.623333333333335},2.1233333333333335,10.868333333333334,null,{"$f":"'Combined Cycle Gas'!$D$8","v":318.30459770114948},{"$f":"Nuclear!$D$8","v":307.69444444444446},5.4613500000000004,34.25,2.3550000000000004,0,5461350]
["2018-05-20",19,41.19,130,null,{"$f":"M3394","v":71.191666666666663},22.824999999999999,25.64833333333333,null,{"$f":"'Combined Cycle Gas'!$D$8","v":318.30459770114948},{"$f":"Nuclear!$D$8","v":307.69444444444446},0.64449100000000004,52.706666666666671,3.9633333333333334,14.128333333333332,644491]
["2018-05-20",22,30.81,1420,null,{"$f":"M3397","v":8.4350000000000005},0.58166666666666667,3.0900000000000003,null,{"$f":"'Combined Cycle Gas'!$D$8","v":318.30459770114948},{"$f":"Nuclear!$D$8","v":307.69444444444446},0,74.901666666666671,21.64,7.6883333333333326,0]
["2018-05-21",1,24.07,2620,null,{"$f":"M3400","v":16.14},12.47,5.3449999999999998,null,{"$f":"'Combined Cycle Gas'!$D$8","v":318.30459770114948},{"$f":"Nuclear!$D$8","v":307.69444444444446},0,71.191666666666663,22.824999999999999,25.64833333333333,0]
["2018-05-21",3,24.72,2193,null,{"$f":"M3402","v":70.391666666666666},29.941666666666666,42.024999999999999,null,{"$f":"'Combined Cycle Gas'!$D$8","v":318.30459770114948},{"$f":"Nuclear!$D$8","v":307.69444444444446},0,0.98000000000000009,1.928333333333333,12.503333333333336,0]
["2018-05-21",9,39.04,444,null,{"$f":"M3408","v":19.751666666666665},13.573333333333332,19.500000000000004,null,{"$f":"'Combined Cycle Gas'!$D$8","v":318.30459770114948},{"$f":"Nuclear!$D$8","v":307.69444444444446},5.4406400000000001,70.391666666666666,29.941666666666666,42.024999999999999,5440640]
["2018-05-21",12,39.24,0,null,{"$f":"M3411","v":18.886666666666667},36.266666666666666,20.378333333333334,null,{"$f":"'Combined Cycle Gas'!$D$8","v":318.30459770114948},{"$f":"Nuclear!$D$8","v":307.69444444444446},6.205813,68.016666666666666,34.678333333333335,60.818333333333335,6205813]
["2018-05-21",13,39.81,0,null,{"$f":"M3412","v":25.566666666666666},37.516666666666666,24.24666666666667,null,{"$f":"'Combined Cycle Gas'!$D$8","v":318.30459770114948},{"$f":"Nuclear!$D$8","v":307.69444444444446},6.048654,39.93,21.280000000000005,38.556666666666672,6048654]
["2018-05-21",16,41.15,110,null,{"$f":"M3415","v":89.42},50.713333333333331,46.68,null,{"$f":"'Combined Cycle Gas'!$D$8","v":318.30459770114948},{"$f":"Nuclear!$D$8","v":307.69444444444446},4.5078899999999997,20.743333333333336,16.181666666666668,15.670000000000002,4507890]
["2018-05-21",20,41.15,109,null,{"$f":"M3419","v":35.593333333333334},19.128333333333334,36.836666666666666,null,{"$f":"'Combined Cycle Gas'!$D$8","v":318.30459770114948},{"$f":"Nuclear!$D$8","v":307.69444444444446},0,96.769999999999982,50.21,26.183333333333326,0]
["2018-05-21",23,23.75,1539,null,{"$f":"M3422","v":20.176666666666666},16.486666666666668,53.273333333333333,null,{"$f":"'Combined Cycle Gas'!$D$8","v":318.30459770114948},{"$f":"Nuclear!$D$8","v":307.69444444444446},0,72.023333333333326,19.445,39.146666666666668,0]
["2018-05-22",4,16.239999999999998,869,null,{"$f":"M3427","v":69.546666666666667},42.261666666666663,58.870000000000005,null,{"$f":"'Combined Cycle Gas'!$D$8","v":318.30459770114948},{"$f":"Nuclear!$D$8","v":307.69444444444446},0,30.221666666666664,23.981666666666666,54.805000000000007,0]
["2018-05-22",7,38.57,522,null,{"$f":"M3430","v":10.461666666666668},31.179999999999996,6.4666666666666659,null,{"$f":"'Combined Cycle Gas'!$D$8","v":318.30459770114948},{"$f":"Nuclear!$D$8","v":307.69444444444446},2.1715070000000001,14.195,8.5483333333333338,36.594999999999992,2171507]
["2018-05-22",10,38.61,0,null,{"$f":"M3433","v":7.8033333333333337},3.6483333333333334,2.65,null,{"$f":"'Combined Cycle Gas'!$D$8","v":318.30459770114948},{"$f":"Nuclear!$D$8","v":307.69444444444446},{"$f":"P3427/10^6","v":4.674417},69.546666666666667,42.261666666666663,58.870000000000005,4674417]
["2018-05-22",11,39.75,0,null,{"$f":"M3434","v":7.7066666666666661},3.5583333333333331,2.8433333333333337,null,{"$f":"'Combined Cycle Gas'!$D$8","v":318.30459770114948},{"$f":"Nuclear!$D$8","v":307.69444444444446},5.8675499999999996,43.29666666666666,17.663333333333334,43.366666666666667,5867550]
["2018-05-22",14,39.659999999999997,2,null,{"$f":"M3437","v":19.096666666666668},3.5583333333333336,7.2383333333333333,null,{"$f":"'Combined Cycle Gas'!$D$8","v":318.30459770114948},{"$f":"Nuclear!$D$8","v":307.69444444444446},2.221298,10.751666666666667,19.001666666666669,4.4249999999999998,2221298]
["2018-05-22",17,37.54,1132,null,{"$f":"M3440","v":37.403333333333329},9.6649999999999991,3.9233333333333333,null,{"$f":"'Combined Cycle Gas'!$D$8","v":318.30459770114948},{"$f":"Nuclear!$D$8","v":307.69444444444446},0.255359,7.7066666666666661,3.5583333333333331,2.8433333333333337,255359]
["2018-05-22",21,37.35,1566,null,{"$f":"M3444","v":27.7},23.47,54.735000000000007,null,{"$f":"'Combined Cycle Gas'!$D$8","v":318.30459770114948},{"$f":"Nuclear!$D$8","v":307.69444444444446},0,48.211666666666666,2.7899999999999996,3.7699999999999996,0]
["2018-05-23",1,1.45,295,null,{"$f":"M3448","v":14.758333333333333},11.233333333333334,40.606666666666669,null,{"$f":"'Combined Cycle Gas'!$D$8","v":318.30459770114948},{"$f":"Nuclear!$D$8","v":307.69444444444446},0,24.008333333333336,8.7050000000000001,12.673333333333334,0]
["2018-05-23",4,20.22,906,null,{"$f":"M3451","v":76.651666666666671},48.918333333333329,45.56666666666667,null,{"$f":"'Combined Cycle Gas'!$D$8","v":318.30459770114948},{"$f":"Nuclear!$D$8","v":307.69444444444446},0,12.985000000000001,16.375,34.625,0]
["2018-05-23",8,38.630000000000003,562,null,{"$f":"M3455","v":20.010000000000002},16.873333333333335,15.551666666666668,null,{"$f":"'Combined Cycle Gas'!$D$8","v":318.30459770114948},{"$f":"Nuclear!$D$8","v":307.69444444444446},1.1853149999999999,22.231666666666669,10.950000000000001,41.914999999999999,1185315]
["2018-05-23",11,39.5,0,null,{"$f":"M3458","v":14.151666666666666},10.451666666666666,8.4216666666666669,null,{"$f":"'Combined Cycle Gas'!$D$8","v":318.30459770114948},{"$f":"Nuclear!$D$8","v":307.69444444444446},4.5164169999999997,80.088333333333324,61.423333333333325,36.938333333333333,4516417]
["2018-05-23",12,39.409999999999997,0,null,{"$f":"M3459","v":17.465},13.106666666666667,8.4550000000000001,null,{"$f":"'Combined Cycle Gas'!$D$8","v":318.30459770114948},{"$f":"Nuclear!$D$8","v":307.69444444444446},5.9710429999999999,79.413333333333341,48.298333333333325,30.435000000000002,5971043]
["2018-05-23",15,39.17,0,null,{"$f":"M3462","v":14.164999999999999},11.286666666666667,12.161666666666667,null,{"$f":"'Combined Cycle Gas'!$D$8","v":318.30459770114948},{"$f":"Nuclear!$D$8","v":307.69444444444446},6.0274559999999999,13.793333333333337,11.001666666666667,9.5666666666666664,6027456]
["2018-05-23",18,38.42,559,null,{"$f":"M3465","v":14.154999999999999},9.4983333333333331,13.771666666666668,null,{"$f":"'Combined Cycle Gas'!$D$8","v":318.30459770114948},{"$f":"Nuclear!$D$8","v":307.69444444444446},3.3309449999999998,17.465,13.106666666666667,8.4550000000000001,3330945]
["2018-05-23",23,38.54,1059,null,{"$f":"M3470","v":11.705},8.6216666666666679,9.0216666666666665,null,{"$f":"'Combined Cycle Gas'!$D$8","v":318.30459770114948},{"$f":"Nuclear!$D$8","v":307.69444444444446},0,14.306666666666667,10.024999999999999,12.983333333333334,0]
["2018-05-24",2,24.87,422,null,{"$f":"M3473","v":12.811666666666667},9.1066666666666674,11.89,null,{"$f":"'Combined Cycle Gas'!$D$8","v":318.30459770114948},{"$f":"Nuclear!$D$8","v":307.69444444444446},0,20.133333333333329,11.085000000000001,9.3116666666666674,0]
["2018-05-24",5,24.87,758,null,{"$f":"M3476","v":13.67},11.896666666666667,17.375,null,{"$f":"'Combined Cycle Gas'!$D$8","v":318.30459770114948},{"$f":"Nuclear!$D$8","v":307.69444444444446},0,11.705,8.6216666666666679,9.0216666666666665,0]
["2018-05-24",9,38.36,0,null,{"$f":"M3480","v":10.229999999999999},8.0216666666666665,7.708333333333333,null,{"$f":"'Combined Cycle Gas'!$D$8","v":318.30459770114948},{"$f":"Nuclear!$D$8","v":307.69444444444446},5.7557960000000001,13.394999999999998,9.918333333333333,14.821666666666667,5755796]
["2018-05-24",12,40.43,0,null,{"$f":"M3483","v":12.651666666666666},8.4933333333333341,8.2266666666666666,null,{"$f":"'Combined Cycle Gas'!$D$8","v":318.30459770114948},{"$f":"Nuclear!$D$8","v":307.69444444444446},4.8417370000000002,12.663333333333334,11.028333333333334,11.594999999999999,4841737]
["2018-05-24",13,37.22,1203,null,{"$f":"M3484","v":14.656666666666668},8.7816666666666663,9.3566666666666656,null,{"$f":"'Combined Cycle Gas'!$D$8","v":318.30459770114948},{"$f":"Nuclear!$D$8","v":307.69444444444446},3.2389429999999999,11.494999999999999,8.6349999999999998,8.6233333333333331,3238943]
["2018-05-24",19,30.6,3004,null,{"$f":"M3490","v":14.303333333333335},12.621666666666668,18.809999999999999,null,{"$f":"'Combined Cycle Gas'!$D$8","v":318.30459770114948},{"$f":"Nuclear!$D$8","v":307.69444444444446},0.25870599999999999,14.656666666666668,8.7816666666666663,9.3566666666666656,258706]
["2018-05-24",20,29.14,2982,null,{"$f":"M3491","v":30.926666666666666},26.278333333333332,46.475000000000001,null,{"$f":"'Combined Cycle Gas'!$D$8","v":318.30459770114948},{"$f":"Nuclear!$D$8","v":307.69444444444446},0,12.081666666666669,8.3216666666666672,8.0916666666666668,0]
["2018-05-24",24,1.06,2982,null,{"$f":"M3495","v":106.205},96.976666666666674,104.45333333333333,null,{"$f":"'Combined Cycle Gas'!$D$8","v":318.30459770114948},{"$f":"Nuclear!$D$8","v":307.69444444444446},0,10.681666666666667,8.5266666666666673,8.33,0]
["2018-05-25",3,20.47,2707,null,{"$f":"M3498","v":139.66999999999999},99.901666666666657,107.81333333333332,null,{"$f":"'Combined Cycle Gas'!$D$8","v":318.30459770114948},{"$f":"Nuclear!$D$8","v":307.69444444444446},0,58.359999999999992,31.021666666666665,72.23,0]
["2018-05-25",7,38.57,2841,null,{"$f":"M3502","v":11.459999999999999},14.001666666666667,18.146666666666665,null,{"$f":"'Combined Cycle Gas'!$D$8","v":318.30459770114948},{"$f":"Nuclear!$D$8","v":307.69444444444446},4.0107100000000004,113.765,102.69833333333334,103.83999999999999,4010710]
["2018-05-25",10,39.11,2735,null,{"$f":"M3505","v":69.36},39.151666666666664,14.223333333333334,null,{"$f":"'Combined Cycle Gas'!$D$8","v":318.30459770114948},{"$f":"Nuclear!$D$8","v":307.69444444444446},6.2079680000000002,102.18666666666668,82.949999999999989,100.85833333333333,6207968]
["2018-05-25",12,42.08,2502,null,{"$f":"M3507","v":89.576666666666668},69.936666666666653,40.693333333333335,null,{"$f":"'Combined Cycle Gas'!$D$8","v":318.30459770114948},{"$f":"Nuclear!$D$8","v":307.69444444444446},6.1890780000000003,29.631666666666664,43.466666666666669,66.893333333333331,6189078]
["2018-05-25",15,39.700000000000003,2808,null,{"$f":"M3510","v":98.286666666666676},76.899999999999991,84.641666666666666,null,{"$f":"'Combined Cycle Gas'!$D$8","v":318.30459770114948},{"$f":"Nuclear!$D$8","v":307.69444444444446},6.2404099999999998,31.356666666666669,19.536666666666669,0.12833333333333333,6240410]
["2018-05-25",18,46.31,2194,null,{"$f":"M3513","v":65.771666666666661},78.704999999999998,84.456666666666663,null,{"$f":"'Combined Cycle Gas'!$D$8","v":318.30459770114948},{"$f":"Nuclear!$D$8","v":307.69444444444446},2.9276420000000001,89.576666666666668,69.936666666666653,40.693333333333335,2927642]
["2018-05-25",21,51.76,1890,null,{"$f":"M3516","v":74.651666666666657},75.88,93.008333333333326,null,{"$f":"'Combined Cycle Gas'!$D$8","v":318.30459770114948},{"$f":"Nuclear!$D$8","v":307.69444444444446},0,98.286666666666676,76.899999999999991,84.641666666666666,0]
["2018-05-26",1,30.71,1352,null,{"$f":"M3520","v":97.643333333333331},71.416666666666671,96.411666666666676,null,{"$f":"'Combined Cycle Gas'!$D$8","v":318.30459770114948},{"$f":"Nuclear!$D$8","v":307.69444444444446},0,55.248333333333335,70.031666666666666,92.231666666666669,0]
["2018-05-26",4,26.51,722,null,{"$f":"M3523","v":80.075000000000003},74.953333333333333,83.203333333333333,null,{"$f":"'Combined Cycle Gas'!$D$8","v":318.30459770114948},{"$f":"Nuclear!$D$8","v":307.69444444444446},0,89.166666666666671,84.846666666666678,92.596666666666678,0]
["2018-05-26",8,26.27,1557,null,{"$f":"M3527","v":89.643333333333331},54.163333333333327,62.876666666666665,null,{"$f":"'Combined Cycle Gas'!$D$8","v":318.30459770114948},{"$f":"Nuclear!$D$8","v":307.69444444444446},4.7080219999999997,93.426666666666677,78.918333333333322,88.141666666666666,4708022]
["2018-05-26",9,25.93,1377,null,{"$f":"M3528","v":92.691666666666677},60.23,60.95333333333334,null,{"$f":"'Combined Cycle Gas'!$D$8","v":318.30459770114948},{"$f":"Nuclear!$D$8","v":307.69444444444446},5.3381420000000004,83.000000000000014,79.611666666666665,84.045000000000002,5338142]
["2018-05-26",15,36.840000000000003,592,null,{"$f":"M3534","v":38.983333333333334},53.134999999999998,58.648333333333333,null,{"$f":"'Combined Cycle Gas'!$D$8","v":318.30459770114948},{"$f":"Nuclear!$D$8","v":307.69444444444446},4.4391740000000004,92.691666666666677,60.23,60.95333333333334,4439174]
["2018-05-26",16,37.950000000000003,414,null,{"$f":"M3535","v":77.385000000000005},44.395000000000003,47.236666666666672,null,{"$f":"'Combined Cycle Gas'!$D$8","v":318.30459770114948},{"$f":"Nuclear!$D$8","v":307.69444444444446},4.8022960000000001,88.741666666666674,46.794999999999995,62.423333333333339,4802296]
["2018-05-26",19,40.81,101,null,{"$f":"M3538","v":99.293333333333337},30.491666666666664,16.366666666666667,null,{"$f":"'Combined Cycle Gas'!$D$8","v":318.30459770114948},{"$f":"Nuclear!$D$8","v":307.69444444444446},3.7357000000000001E-2,55.136666666666663,37.348333333333336,79.274999999999991,37357]
["2018-05-26",23,25.91,699,null,{"$f":"M3542","v":72.521666666666661},53.465000000000003,57.001666666666665,null,{"$f":"'Combined Cycle Gas'!$D$8","v":318.30459770114948},{"$f":"Nuclear!$D$8","v":307.69444444444446},0,97.056666666666658,49.603333333333325,37.443333333333328,0]
["2018-05-27",2,24.85,1578,null,{"$f":"M3545","v":21.099999999999998},36.713333333333331,26.645000000000007,null,{"$f":"'Combined Cycle Gas'!$D$8","v":318.30459770114948},{"$f":"Nuclear!$D$8","v":307.69444444444446},0,92.46,35.605000000000004,47.37166666666667,0]
["2018-05-27",5,27.5,1060,null,{"$f":"M3548","v":47.49666666666667},3.4499999999999997,1.3616666666666666,null,{"$f":"'Combined Cycle Gas'!$D$8","v":318.30459770114948},{"$f":"Nuclear!$D$8","v":307.69444444444446},0,72.521666666666661,53.465000000000003,57.001666666666665,0]
["2018-05-27",10,35.799999999999997,47,null,{"$f":"M3553","v":59.871666666666663},19.388333333333335,2.1999999999999997,null,{"$f":"'Combined Cycle Gas'!$D$8","v":318.30459770114948},{"$f":"Nuclear!$D$8","v":307.69444444444446},6.2524160000000002,138.82166666666663,7.0783333333333331,4.1366666666666658,6252416]
["2018-05-27",13,29.04,998,null,{"$f":"M3556","v":16.224999999999998},6.5283333333333333,5.7950000000000008,null,{"$f":"'Combined Cycle Gas'!$D$8","v":318.30459770114948},{"$f":"Nuclear!$D$8","v":307.69444444444446},6.0419179999999999,13.625,14.543333333333335,1.3049999999999999,6041918]
["2018-05-27",16,29.39,1748,null,{"$f":"M3559","v":44.061666666666667},8.7183333333333319,4.996666666666667,null,{"$f":"'Combined Cycle Gas'!$D$8","v":318.30459770114948},{"$f":"Nuclear!$D$8","v":307.69444444444446},5.3282160000000003,59.871666666666663,19.388333333333335,2.1999999999999997,5328216]
["2018-05-27",17,30.18,1770,null,{"$f":"M3560","v":11.311666666666667},17.536666666666665,5.4650000000000007,null,{"$f":"'Combined Cycle Gas'!$D$8","v":318.30459770114948},{"$f":"Nuclear!$D$8","v":307.69444444444446},2.7832560000000002,21.084999999999997,9.3550000000000004,4.4050000000000002,2783256]
["2018-05-27",20,39,2248,null,{"$f":"M3563","v":8.0416666666666661},18.893333333333334,14.416666666666666,null,{"$f":"'Combined Cycle Gas'!$D$8","v":318.30459770114948},{"$f":"Nuclear!$D$8","v":307.69444444444446},0,15.899999999999999,21.756666666666671,5.544999999999999,0]
["2018-05-27",24,7.34,2993,null,{"$f":"M3567","v":29.996666666666666},11.409999999999998,19.933333333333334,null,{"$f":"'Combined Cycle Gas'!$D$8","v":318.30459770114948},{"$f":"Nuclear!$D$8","v":307.69444444444446},0,29.428333333333338,8.0333333333333332,7.2683333333333335,0]
["2018-05-28",3,22.79,3329,null,{"$f":"M3570","v":20.958333333333332},16.321666666666669,20.93,null,{"$f":"'Combined Cycle Gas'!$D$8","v":318.30459770114948},{"$f":"Nuclear!$D$8","v":307.69444444444446},0,8.3433333333333337,9.4716666666666676,9.5066666666666677,0]
["2018-05-28",7,40.94,2237,null,{"$f":"M3574","v":5.1249999999999991},4.5516666666666667,6.9799999999999995,null,{"$f":"'Combined Cycle Gas'!$D$8","v":318.30459770114948},{"$f":"Nuclear!$D$8","v":307.69444444444446},3.195802,37.736666666666672,21.556666666666668,25.27333333333333,3195802]
["2018-05-28",11,39.5,2332,null,{"$f":"M3578","v":7.4133333333333331},4.7266666666666675,6.7,null,{"$f":"'Combined Cycle Gas'!$D$8","v":318.30459770114948},{"$f":"Nuclear!$D$8","v":307.69444444444446},3.5152830000000002,14.216666666666667,12.296666666666667,13.178333333333335,3515283]
["2018-05-28",14,36.200000000000003,3022,null,{"$f":"M3581","v":6.4316666666666675},58.426666666666669,3.0116666666666667,null,{"$f":"'Combined Cycle Gas'!$D$8","v":318.30459770114948},{"$f":"Nuclear!$D$8","v":307.69444444444446},1.9546760000000001,5.1116666666666672,4.63,3.2633333333333332,1954676]
["2018-05-28",17,35.119999999999997,2997,null,{"$f":"M3584","v":45.314999999999998},23.27333333333333,20.41333333333333,null,{"$f":"'Combined Cycle Gas'!$D$8","v":318.30459770114948},{"$f":"Nuclear!$D$8","v":307.69444444444446},1.2436940000000001,7.4133333333333331,4.7266666666666675,6.7,1243694]
["2018-05-28",18,36.19,3102,null,{"$f":"M3585","v":37.781666666666666},11.088333333333333,7.7566666666666668,null,{"$f":"'Combined Cycle Gas'!$D$8","v":318.30459770114948},{"$f":"Nuclear!$D$8","v":307.69444444444446},7.9186999999999994E-2,6.794999999999999,5.1766666666666659,7.4383333333333335,79187]
["2018-05-28",21,38.44,3289,null,{"$f":"M3588","v":27.99},30.883333333333329,9.8233333333333341,null,{"$f":"'Combined Cycle Gas'!$D$8","v":318.30459770114948},{"$f":"Nuclear!$D$8","v":307.69444444444446},0,29.963333333333335,90.904999999999987,3.7233333333333332,0]
["2018-05-28",24,4.97,2982,null,{"$f":"M3591","v":31.754999999999995},18.645,26.715,null,{"$f":"'Combined Cycle Gas'!$D$8","v":318.30459770114948},{"$f":"Nuclear!$D$8","v":307.69444444444446},0,37.781666666666666,11.088333333333333,7.7566666666666668,0]
["2018-05-29",5,21.28,2982,null,{"$f":"M3596","v":4.17},3.7066666666666666,20.321666666666669,null,{"$f":"'Combined Cycle Gas'!$D$8","v":318.30459770114948},{"$f":"Nuclear!$D$8","v":307.69444444444446},0,25.75333333333333,24.678333333333331,15.006666666666666,0]
["2018-05-29",8,40.98,3093,null,{"$f":"M3599","v":3.9583333333333335},4.6100000000000003,2.5916666666666668,null,{"$f":"'Combined Cycle Gas'!$D$8","v":318.30459770114948},{"$f":"Nuclear!$D$8","v":307.69444444444446},5.15341,9.4583333333333339,9.4849999999999994,21.27,5153410]
["2018-05-29",12,33.65,2632,null,{"$f":"M3603","v":7.7216666666666667},12.106666666666664,39.028333333333329,null,{"$f":"'Combined Cycle Gas'!$D$8","v":318.30459770114948},{"$f":"Nuclear!$D$8","v":307.69444444444446},6.634328,4.0533333333333337,3.48,12.108333333333334,6634328]
["2018-05-29",15,31.63,2982,null,{"$f":"M3606","v":17.945000000000004},21.91,4.8233333333333333,null,{"$f":"'Combined Cycle Gas'!$D$8","v":318.30459770114948},{"$f":"Nuclear!$D$8","v":307.69444444444446},5.9745140000000001,4.4966666666666661,3.8683333333333336,3.9450000000000003,5974514]
["2018-05-29",16,33.36,2982,null,{"$f":"M3607","v":9.9149999999999991},5.52,4.5600000000000005,null,{"$f":"'Combined Cycle Gas'!$D$8","v":318.30459770114948},{"$f":"Nuclear!$D$8","v":307.69444444444446},5.3253459999999997,3.5866666666666664,3.1783333333333332,56.471666666666671,5325346]
["2018-05-29",21,33.28,3080,null,{"$f":"M3612","v":7.0283333333333333},5.7533333333333339,6.6116666666666672,null,{"$f":"'Combined Cycle Gas'!$D$8","v":318.30459770114948},{"$f":"Nuclear!$D$8","v":307.69444444444446},0,17.945000000000004,21.91,4.8233333333333333,0]
["2018-05-29",23,13.73,2982,null,{"$f":"M3614","v":5.9749999999999988},3.8533333333333335,6.8849999999999989,null,{"$f":"'Combined Cycle Gas'!$D$8","v":318.30459770114948},{"$f":"Nuclear!$D$8","v":307.69444444444446},0,8.7433333333333341,4.5233333333333334,4.3500000000000005,0]
["2018-05-30",3,0.34,2982,null,{"$f":"M3618","v":7.3916666666666666},7.0833333333333321,5.1483333333333325,null,{"$f":"'Combined Cycle Gas'!$D$8","v":318.30459770114948},{"$f":"Nuclear!$D$8","v":307.69444444444446},0,7.0283333333333333,5.7533333333333339,6.6116666666666672,0]
["2018-05-30",6,0.32,2960,null,{"$f":"M3621","v":1.99},1.0266666666666668,1.4583333333333333,null,{"$f":"'Combined Cycle Gas'!$D$8","v":318.30459770114948},{"$f":"Nuclear!$D$8","v":307.69444444444446},4.6E-5,7.496666666666667,3.3200000000000003,8.3733333333333331,46]
["2018-05-30",9,26.94,2826,null,{"$f":"M3624","v":1.4333333333333333},0.54500000000000004,1.06,null,{"$f":"'Combined Cycle Gas'!$D$8","v":318.30459770114948},{"$f":"Nuclear!$D$8","v":307.69444444444446},1.4342569999999999,7.3916666666666666,7.0833333333333321,5.1483333333333325,1434257]
["2018-05-30",13,39.54,2040,null,{"$f":"M3628","v":24.046666666666667},20.82,23.618333333333336,null,{"$f":"'Combined Cycle Gas'!$D$8","v":318.30459770114948},{"$f":"Nuclear!$D$8","v":307.69444444444446},2.7468699999999999,1.8716666666666668,0.86,1.2449999999999999,2746870]
["2018-05-30",16,28.73,2982,null,{"$f":"M3631","v":21.288333333333334},2.645,1.9883333333333333,null,{"$f":"'Combined Cycle Gas'!$D$8","v":318.30459770114948},{"$f":"Nuclear!$D$8","v":307.69444444444446},2.1037840000000001,1.2916666666666665,0.32166666666666666,1.7699999999999998,2103784]
["2018-05-30",18,37.03,3003,null,{"$f":"M3633","v":3.4283333333333332},1.4566666666666663,1.486666666666667,null,{"$f":"'Combined Cycle Gas'!$D$8","v":318.30459770114948},{"$f":"Nuclear!$D$8","v":307.69444444444446},0.23838400000000001,3.2383333333333337,8.1666666666666665E-2,23.093333333333334,238384]
["2018-05-30",21,30.62,3039,null,{"$f":"M3636","v":12.033333333333333},9.0899999999999981,21.826666666666668,null,{"$f":"'Combined Cycle Gas'!$D$8","v":318.30459770114948},{"$f":"Nuclear!$D$8","v":307.69444444444446},0,39.413333333333334,11.793333333333331,7.745000000000001,0]
["2018-05-30",24,4.5599999999999996,2982,null,{"$f":"M3639","v":2.0183333333333335},2.6433333333333331,1.6583333333333334,null,{"$f":"'Combined Cycle Gas'!$D$8","v":318.30459770114948},{"$f":"Nuclear!$D$8","v":307.69444444444446},0,3.4283333333333332,1.4566666666666663,1.486666666666667,0]
["2018-05-31",4,24.84,3304,null,{"$f":"M3643","v":23.033333333333331},0.87166666666666659,13.316666666666665,null,{"$f":"'Combined Cycle Gas'!$D$8","v":318.30459770114948},{"$f":"Nuclear!$D$8","v":307.69444444444446},0,5.9466666666666663,2.4049999999999998,25.698333333333334,0]
["2018-05-31",7,24.83,2052,null,{"$f":"M3646","v":10.799999999999999},0.39833333333333337,9.5933333333333337,null,{"$f":"'Combined Cycle Gas'!$D$8","v":318.30459770114948},{"$f":"Nuclear!$D$8","v":307.69444444444446},3.0557000000000001E-2,0,0,0.63500000000000001,30557]
["2018-05-31",11,36.25,766,null,{"$f":"M3650","v":6.84},1.5033333333333332,1.1033333333333333,null,{"$f":"'Combined Cycle Gas'!$D$8","v":318.30459770114948},{"$f":"Nuclear!$D$8","v":307.69444444444446},1.398196,12.305,0.48833333333333334,5.3866666666666667,1398196]
["2018-05-31",14,39.07,460,null,{"$f":"M3653","v":5.2649999999999997},1.6766666666666667,16.135000000000002,null,{"$f":"'Combined Cycle Gas'!$D$8","v":318.30459770114948},{"$f":"Nuclear!$D$8","v":307.69444444444446},1.7592620000000001,1.4433333333333334,0,5.5166666666666666,1759262]
["2018-05-31",15,40.17,87,null,{"$f":"M3654","v":10.583333333333334},0,7.5766666666666671,null,{"$f":"'Combined Cycle Gas'!$D$8","v":318.30459770114948},{"$f":"Nuclear!$D$8","v":307.69444444444446},1.384131,2.6083333333333334,0,0.41833333333333328,1384131]
["2018-05-31",19,37.32,522,null,{"$f":"M3658","v":23.805000000000003},30.180000000000007,24.700000000000003,null,{"$f":"'Combined Cycle Gas'!$D$8","v":318.30459770114948},{"$f":"Nuclear!$D$8","v":307.69444444444446},4.7800000000000004E-3,21.423333333333332,18.734999999999999,23.61,4780]
["2018-05-31",22,33.35,1542,null,{"$f":"M3661","v":55.29},38.091666666666669,6.6666666666666671E-3,null,{"$f":"'Combined Cycle Gas'!$D$8","v":318.30459770114948},{"$f":"Nuclear!$D$8","v":307.69444444444446},0,29.491666666666664,6.836666666666666,4.9300000000000006,0]
["2018-06-01",1,24.13,1748,null,{"$f":"M3664","v":35.055},13.339999999999998,14.251666666666665,null,{"$f":"'Combined Cycle Gas'!$D$8","v":318.30459770114948},{"$f":"Nuclear!$D$8","v":307.69444444444446},0,23.805000000000003,30.180000000000007,24.700000000000003,0]
["2018-06-01",5,24.85,909,null,{"$f":"M3668","v":12.193333333333335},0.38666666666666666,6.9466666666666663,null,{"$f":"'Combined Cycle Gas'!$D$8","v":318.30459770114948},{"$f":"Nuclear!$D$8","v":307.69444444444446},0,22.256666666666671,79.719999999999985,19.23,0]
["2018-06-01",8,27.16,651,null,{"$f":"M3671","v":44.56},35.148333333333333,32.695,null,{"$f":"'Combined Cycle Gas'!$D$8","v":318.30459770114948},{"$f":"Nuclear!$D$8","v":307.69444444444446},4.5199129999999998,30.430000000000003,10.26,16.504999999999999,4519913]
["2018-06-01",12,29.39,1603,null,{"$f":"M3675","v":8.0716666666666654},11.56,10.751666666666665,null,{"$f":"'Combined Cycle Gas'!$D$8","v":318.30459770114948},{"$f":"Nuclear!$D$8","v":307.69444444444446},6.4601439999999997,45.166666666666664,33.806666666666672,21.218333333333334,6460144]
["2018-06-01",16,26.99,628,null,{"$f":"M3679","v":7.0150000000000006},19.760000000000002,19.98,null,{"$f":"'Combined Cycle Gas'!$D$8","v":318.30459770114948},{"$f":"Nuclear!$D$8","v":307.69444444444446},5.2548529999999998,17.236666666666668,23.618333333333336,8.3583333333333343,5254853]
["2018-06-01",19,28.86,1273,null,{"$f":"M3682","v":8.2816666666666663},21.581666666666663,12.448333333333332,null,{"$f":"'Combined Cycle Gas'!$D$8","v":318.30459770114948},{"$f":"Nuclear!$D$8","v":307.69444444444446},0.33667799999999998,11.86,7.3566666666666665,10.378333333333334,336678]
["2018-06-01",20,37.82,809,null,{"$f":"M3683","v":20.446666666666669},13.668333333333335,7.64,null,{"$f":"'Combined Cycle Gas'!$D$8","v":318.30459770114948},{"$f":"Nuclear!$D$8","v":307.69444444444446},0,5.87,46.131666666666661,33.811666666666667,0]
["2018-06-01",23,23.76,1424,null,{"$f":"M3686","v":67.111666666666665},15.115000000000002,16.223333333333333,null,{"$f":"'Combined Cycle Gas'!$D$8","v":318.30459770114948},{"$f":"Nuclear!$D$8","v":307.69444444444446},0,6.6333333333333329,21.416666666666671,13.253333333333336,0]
["2018-06-02",2,24.81,1583,null,{"$f":"M3689","v":61.076666666666661},49.833333333333336,81.958333333333329,null,{"$f":"'Combined Cycle Gas'!$D$8","v":318.30459770114948},{"$f":"Nuclear!$D$8","v":307.69444444444446},{"$f":"P3683/10^6","v":0},20.446666666666669,13.668333333333335,7.64,0]
["2018-06-02",6,27.09,1417,null,{"$f":"M3693","v":24.073333333333334},18.053333333333335,56.016666666666673,null,{"$f":"'Combined Cycle Gas'!$D$8","v":318.30459770114948},{"$f":"Nuclear!$D$8","v":307.69444444444446},1.17797,58.833333333333336,29.036666666666665,55.563333333333333,1177970]
["2018-06-02",9,26.08,345,null,{"$f":"M3696","v":3.3683333333333336},8.2333333333333325,16.593333333333334,null,{"$f":"'Combined Cycle Gas'!$D$8","v":318.30459770114948},{"$f":"Nuclear!$D$8","v":307.69444444444446},6.0138939999999996,49.225000000000001,43.961666666666666,81.681666666666658,6013894]
["2018-06-02",14,39.770000000000003,42,null,{"$f":"M3701","v":82.06},7.96,26.62,null,{"$f":"'Combined Cycle Gas'!$D$8","v":318.30459770114948},{"$f":"Nuclear!$D$8","v":307.69444444444446},5.8922330000000001,2.938333333333333,7.4700000000000015,19.368333333333332,5892233]
["2018-06-02",17,40.4,357,null,{"$f":"M3704","v":11.496666666666668},28.194999999999997,20.671666666666663,null,{"$f":"'Combined Cycle Gas'!$D$8","v":318.30459770114948},{"$f":"Nuclear!$D$8","v":307.69444444444446},5.2351080000000003,31.303333333333331,14.118333333333332,30.168333333333333,5235108]
["2018-06-02",20,39.950000000000003,565,null,{"$f":"M3707","v":47.401666666666664},16.383333333333329,24.531666666666666,null,{"$f":"'Combined Cycle Gas'!$D$8","v":318.30459770114948},{"$f":"Nuclear!$D$8","v":307.69444444444446},0,82.06,7.96,26.62,0]
["2018-06-02",21,32.06,600,null,{"$f":"M3708","v":23.088333333333335},14.091666666666663,20.819999999999997,null,{"$f":"'Combined Cycle Gas'!$D$8","v":318.30459770114948},{"$f":"Nuclear!$D$8","v":307.69444444444446},0,12.600000000000001,5.4649999999999999,36.685000000000002,0]
["2018-06-02",24,21.71,1652,null,{"$f":"M3711","v":7.3683333333333332},5.461666666666666,22.605,null,{"$f":"'Combined Cycle Gas'!$D$8","v":318.30459770114948},{"$f":"Nuclear!$D$8","v":307.69444444444446},0,13.236666666666666,12.664999999999999,12.62,0]
["2018-06-03",4,26.08,574,null,{"$f":"M3715","v":54.986666666666657},15.276666666666669,49.62833333333333,null,{"$f":"'Combined Cycle Gas'!$D$8","v":318.30459770114948},{"$f":"Nuclear!$D$8","v":307.69444444444446},0,16.184999999999999,12.075000000000001,31.316666666666663,0]
["2018-06-03",6,24.9,711,null,{"$f":"M3717","v":20.574999999999999},8.5583333333333318,38.268333333333338,null,{"$f":"'Combined Cycle Gas'!$D$8","v":318.30459770114948},{"$f":"Nuclear!$D$8","v":307.69444444444446},0.1018,7.3683333333333332,5.461666666666666,22.605,101800]
["2018-06-03",11,31.86,377,null,{"$f":"M3722","v":11.540000000000001},10.618333333333334,26.036666666666665,null,{"$f":"'Combined Cycle Gas'!$D$8","v":318.30459770114948},{"$f":"Nuclear!$D$8","v":307.69444444444446},5.0138619999999996,39.87166666666667,13.661666666666669,55.821666666666658,5013862]
["2018-06-03",15,38.85,0,null,{"$f":"M3726","v":20.786666666666669},11.12,24.489999999999995,null,{"$f":"'Combined Cycle Gas'!$D$8","v":318.30459770114948},{"$f":"Nuclear!$D$8","v":307.69444444444446},5.7016939999999998,8.1449999999999996,5.9666666666666659,5.666666666666667,5701694]
["2018-06-03",18,38.85,0,null,{"$f":"M3729","v":22.224999999999998},11.498333333333335,10.628333333333332,null,{"$f":"'Combined Cycle Gas'!$D$8","v":318.30459770114948},{"$f":"Nuclear!$D$8","v":307.69444444444446},2.605842,19.145,9.9150000000000009,28.916666666666668,2605842]
["2018-06-03",21,38.229999999999997,83,null,{"$f":"M3732","v":10.955},21.75,27.135000000000002,null,{"$f":"'Combined Cycle Gas'!$D$8","v":318.30459770114948},{"$f":"Nuclear!$D$8","v":307.69444444444446},0,20.786666666666669,11.12,24.489999999999995,0]
["2018-06-03",22,38.24,254,null,{"$f":"M3733","v":4.291666666666667},8.1416666666666675,25.263333333333335,null,{"$f":"'Combined Cycle Gas'!$D$8","v":318.30459770114948},{"$f":"Nuclear!$D$8","v":307.69444444444446},0,17.093333333333334,11.494999999999999,15.906666666666666,0]
["2018-06-04",3,24.18,593,null,{"$f":"M3738","v":8.8566666666666674},7.38,14.453333333333335,null,{"$f":"'Combined Cycle Gas'!$D$8","v":318.30459770114948},{"$f":"Nuclear!$D$8","v":307.69444444444446},0,10.955,21.75,27.135000000000002,0]
["2018-06-04",6,25.8,420,null,{"$f":"M3741","v":32.944999999999993},27.266666666666666,1.4383333333333332,null,{"$f":"'Combined Cycle Gas'!$D$8","v":318.30459770114948},{"$f":"Nuclear!$D$8","v":307.69444444444446},1.309625,3.6283333333333339,1.9316666666666666,27.046666666666667,1309625]
["2018-06-04",9,29.29,0,null,{"$f":"M3744","v":24.724999999999998},3.5983333333333332,6.0566666666666675,null,{"$f":"'Combined Cycle Gas'!$D$8","v":318.30459770114948},{"$f":"Nuclear!$D$8","v":307.69444444444446},6.0197760000000002,8.8566666666666674,7.38,14.453333333333335,6019776]
["2018-06-04",12,38.770000000000003,0,null,{"$f":"M3747","v":45.46},22.381666666666664,10.728333333333333,null,{"$f":"'Combined Cycle Gas'!$D$8","v":318.30459770114948},{"$f":"Nuclear!$D$8","v":307.69444444444446},6.1991759999999996,32.944999999999993,27.266666666666666,1.4383333333333332,6199176]
["2018-06-04",16,37.71,0,null,{"$f":"M3751","v":9.6533333333333342},22.044999999999998,30.748333333333335,null,{"$f":"'Combined Cycle Gas'!$D$8","v":318.30459770114948},{"$f":"Nuclear!$D$8","v":307.69444444444446},5.8636780000000002,23.684999999999999,2.8416666666666663,4.7216666666666667,5863678]
["2018-06-04",19,37.49,802,null,{"$f":"M3754","v":28.321666666666662},15.185,13.048333333333334,null,{"$f":"'Combined Cycle Gas'!$D$8","v":318.30459770114948},{"$f":"Nuclear!$D$8","v":307.69444444444446},1.0283519999999999,50.518333333333338,34.736666666666672,21.84,1028352]
["2018-06-04",22,36.94,1371,null,{"$f":"M3757","v":65.401666666666671},26.189999999999998,53.625,null,{"$f":"'Combined Cycle Gas'!$D$8","v":318.30459770114948},{"$f":"Nuclear!$D$8","v":307.69444444444446},0,9.6533333333333342,22.044999999999998,30.748333333333335,0]
["2018-06-04",24,24.86,1491,null,{"$f":"M3759","v":49.963333333333331},22.086666666666662,45.681666666666665,null,{"$f":"'Combined Cycle Gas'!$D$8","v":318.30459770114948},{"$f":"Nuclear!$D$8","v":307.69444444444446},0,42.486666666666672,17.626666666666665,32.553333333333335,0]
["2018-06-05",3,24.17,1661,null,{"$f":"M3762","v":66.339999999999989},64.00500000000001,30.846666666666668,null,{"$f":"'Combined Cycle Gas'!$D$8","v":318.30459770114948},{"$f":"Nuclear!$D$8","v":307.69444444444446},0,44.491666666666667,33.541666666666664,27.596666666666664,0]
["2018-06-05",7,26.16,2011,null,{"$f":"M3766","v":3.2383333333333333},2.6016666666666666,8.9583333333333339,null,{"$f":"'Combined Cycle Gas'!$D$8","v":318.30459770114948},{"$f":"Nuclear!$D$8","v":307.69444444444446},2.061242,54.52,18.516666666666666,46.998333333333335,2061242]
["2018-06-05",10,29.34,1952,null,{"$f":"M3769","v":20.213333333333335},14.111666666666665,9.5016666666666669,null,{"$f":"'Combined Cycle Gas'!$D$8","v":318.30459770114948},{"$f":"Nuclear!$D$8","v":307.69444444444446},3.8174049999999999,87.881666666666661,61.206666666666671,17.476666666666663,3817405]
["2018-06-05",13,36.58,1939,null,{"$f":"M3772","v":42.39},28.878333333333334,11.345000000000001,null,{"$f":"'Combined Cycle Gas'!$D$8","v":318.30459770114948},{"$f":"Nuclear!$D$8","v":307.69444444444446},6.3037020000000004,3.2383333333333333,2.6016666666666666,8.9583333333333339,6303702]
["2018-06-05",17,34.26,899,null,{"$f":"M3776","v":56.696666666666665},31.043333333333333,28.576666666666664,null,{"$f":"'Combined Cycle Gas'!$D$8","v":318.30459770114948},{"$f":"Nuclear!$D$8","v":307.69444444444446},3.4825870000000001,25.806666666666668,13.145000000000001,5.77,3482587]
["2018-06-05",21,32.71,2603,null,{"$f":"M3780","v":57.133333333333333},29.873333333333335,41.513333333333335,null,{"$f":"'Combined Cycle Gas'!$D$8","v":318.30459770114948},{"$f":"Nuclear!$D$8","v":307.69444444444446},0,48.853333333333332,34.414999999999999,26.885000000000002,0]
["2018-06-05",22,29.16,2911,null,{"$f":"M3781","v":76.711666666666659},41.354999999999997,41.33,null,{"$f":"'Combined Cycle Gas'!$D$8","v":318.30459770114948},{"$f":"Nuclear!$D$8","v":307.69444444444446},0,55.771666666666668,37.653333333333336,24.236666666666665,0]
["2018-06-06",1,16.22,3013,null,{"$f":"M3784","v":52.658333333333339},49.656666666666666,9.09,null,{"$f":"'Combined Cycle Gas'!$D$8","v":318.30459770114948},{"$f":"Nuclear!$D$8","v":307.69444444444446},0,49.556666666666672,27.22666666666667,41.556666666666665,0]
["2018-06-06",4,29.06,2965,null,{"$f":"M3787","v":86.861666666666665},52.87,6.7150000000000007,null,{"$f":"'Combined Cycle Gas'!$D$8","v":318.30459770114948},{"$f":"Nuclear!$D$8","v":307.69444444444446},0,76.711666666666659,41.354999999999997,41.33,0]
["2018-06-06",8,27.51,1670,null,{"$f":"M3791","v":8.1733333333333338},2.0383333333333327,3.65,null,{"$f":"'Combined Cycle Gas'!$D$8","v":318.30459770114948},{"$f":"Nuclear!$D$8","v":307.69444444444446},1.0788690000000001,60.208333333333336,56.261666666666663,3.5066666666666664,1078869]
["2018-06-06",11,37.83,1443,null,{"$f":"M3794","v":3.9483333333333337},2.4,4.3116666666666665,null,{"$f":"'Combined Cycle Gas'!$D$8","v":318.30459770114948},{"$f":"Nuclear!$D$8","v":307.69444444444446},2.2534939999999999,67.61666666666666,43.664999999999999,4.2700000000000005,2253494]
["2018-06-06",14,43.34,0,null,{"$f":"M3797","v":5.208333333333333},2.6666666666666665,4.5366666666666662,null,{"$f":"'Combined Cycle Gas'!$D$8","v":318.30459770114948},{"$f":"Nuclear!$D$8","v":307.69444444444446},5.160323,8.1733333333333338,2.0383333333333327,3.65,5160323]
["2018-06-06",18,40.19,1172,null,{"$f":"M3801","v":4.3383333333333329},2.6333333333333333,6.9566666666666679,null,{"$f":"'Combined Cycle Gas'!$D$8","v":318.30459770114948},{"$f":"Nuclear!$D$8","v":307.69444444444446},0.18614700000000001,4.1149999999999993,2.8666666666666671,4.2949999999999999,186147]
["2018-06-06",22,39.270000000000003,1435,null,{"$f":"M3805","v":33.57},3.1916666666666664,4.6816666666666666,null,{"$f":"'Combined Cycle Gas'!$D$8","v":318.30459770114948},{"$f":"Nuclear!$D$8","v":307.69444444444446},0,4.328333333333334,3.4133333333333327,8.418333333333333,0]
["2018-06-06",23,31.2,1523,null,{"$f":"M3806","v":40.024999999999999},3.8916666666666671,4.9599999999999991,null,{"$f":"'Combined Cycle Gas'!$D$8","v":318.30459770114948},{"$f":"Nuclear!$D$8","v":307.69444444444446},0,4.2116666666666669,3.0166666666666662,7.0316666666666663,0]
["2018-06-07",2,23.39,1816,null,{"$f":"M3809","v":8.7866666666666671},3.2233333333333332,4.5566666666666658,null,{"$f":"'Combined Cycle Gas'!$D$8","v":318.30459770114948},{"$f":"Nuclear!$D$8","v":307.69444444444446},0,4.5666666666666673,3.0183333333333331,4.5799999999999992,0]
["2018-06-07",5,16.239999999999998,2008,null,{"$f":"M3812","v":4.2449999999999992},2.72,4.2733333333333334,null,{"$f":"'Combined Cycle Gas'!$D$8","v":318.30459770114948},{"$f":"Nuclear!$D$8","v":307.69444444444446},0,40.024999999999999,3.8916666666666671,4.9599999999999991,0]
["2018-06-07",9,29.93,1364,null,{"$f":"M3816","v":8.2750000000000004},9.9649999999999999,9.2800000000000011,null,{"$f":"'Combined Cycle Gas'!$D$8","v":318.30459770114948},{"$f":"Nuclear!$D$8","v":307.69444444444446},4.9927739999999998,4.3566666666666674,2.9649999999999999,4.3983333333333334,4992774]
["2018-06-07",12,40.04,0,null,{"$f":"M3819","v":30.78833333333333},21.114999999999998,6.3883333333333345,null,{"$f":"'Combined Cycle Gas'!$D$8","v":318.30459770114948},{"$f":"Nuclear!$D$8","v":307.69444444444446},4.8089250000000003,4.2783333333333333,2.7583333333333333,4.3583333333333334,4808925]
["2018-06-07",15,56.12,212,null,{"$f":"M3822","v":19.303333333333335},14.981666666666667,15.991666666666667,null,{"$f":"'Combined Cycle Gas'!$D$8","v":318.30459770114948},{"$f":"Nuclear!$D$8","v":307.69444444444446},4.093407,8.2750000000000004,9.9649999999999999,9.2800000000000011,4093407]
["2018-06-07",20,38.89,1712,null,{"$f":"M3827","v":42.08},31.843333333333334,74.413333333333327,null,{"$f":"'Combined Cycle Gas'!$D$8","v":318.30459770114948},{"$f":"Nuclear!$D$8","v":307.69444444444446},0,36.80833333333333,16.103333333333335,12.975,0]
["2018-06-07",23,31.45,1334,null,{"$f":"M3830","v":52.585000000000001},39.944999999999993,60.338333333333331,null,{"$f":"'Combined Cycle Gas'!$D$8","v":318.30459770114948},{"$f":"Nuclear!$D$8","v":307.69444444444446},0,21.578333333333333,15.161666666666667,19.724999999999998,0]
["2018-06-07",24,25.2,1468,null,{"$f":"M3831","v":40.031666666666666},53.161666666666669,52.074999999999996,null,{"$f":"'Combined Cycle Gas'!$D$8","v":318.30459770114948},{"$f":"Nuclear!$D$8","v":307.69444444444446},0,48.231666666666662,27.796666666666667,27.741666666666664,0]
["2018-06-08",3,24.89,1327,null,{"$f":"M3834","v":4.8099999999999996},10.843333333333334,35.023333333333333,null,{"$f":"'Combined Cycle Gas'!$D$8","v":318.30459770114948},{"$f":"Nuclear!$D$8","v":307.69444444444446},0,81.225000000000009,46.195,89.431666666666672,0]
["2018-06-08",6,24.78,1763,null,{"$f":"M3837","v":8.17},6.1649999999999991,5.416666666666667,null,{"$f":"'Combined Cycle Gas'!$D$8","v":318.30459770114948},{"$f":"Nuclear!$D$8","v":307.69444444444446},5.7405999999999999E-2,40.031666666666666,53.161666666666669,52.074999999999996,57406]
["2018-06-08",12,46.97,17,null,{"$f":"M3843","v":34.515000000000001},18.803333333333335,42.331666666666671,null,{"$f":"'Combined Cycle Gas'!$D$8","v":318.30459770114948},{"$f":"Nuclear!$D$8","v":307.69444444444446},5.6280859999999997,8.17,6.1649999999999991,5.416666666666667,5628086]
["2018-06-08",14,40.869999999999997,0,null,{"$f":"M3845","v":45.988333333333337},48.998333333333335,56.781666666666666,null,{"$f":"'Combined Cycle Gas'!$D$8","v":318.30459770114948},{"$f":"Nuclear!$D$8","v":307.69444444444446},4.7768959999999998,4.7833333333333323,3.4849999999999999,5.7799999999999985,4776896]
["2018-06-08",18,41.19,858,null,{"$f":"M3849","v":63.559999999999995},49.37166666666667,41.713333333333331,null,{"$f":"'Combined Cycle Gas'!$D$8","v":318.30459770114948},{"$f":"Nuclear!$D$8","v":307.69444444444446},3.7130420000000002,34.515000000000001,18.803333333333335,42.331666666666671,3713042]
["2018-06-08",21,39.56,267,null,{"$f":"M3852","v":91.183333333333323},47.830000000000005,64.786666666666676,null,{"$f":"'Combined Cycle Gas'!$D$8","v":318.30459770114948},{"$f":"Nuclear!$D$8","v":307.69444444444446},0,40.938333333333333,57.468333333333327,58.355000000000011,0]
["2018-06-08",24,24.78,877,null,{"$f":"M3855","v":65.251666666666665},61.081666666666671,56.123333333333328,null,{"$f":"'Combined Cycle Gas'!$D$8","v":318.30459770114948},{"$f":"Nuclear!$D$8","v":307.69444444444446},0,63.559999999999995,49.37166666666667,41.713333333333331,0]
["2018-06-09",1,29.8,1104,null,{"$f":"M3856","v":81.611666666666665},65.981666666666669,33.524999999999999,null,{"$f":"'Combined Cycle Gas'!$D$8","v":318.30459770114948},{"$f":"Nuclear!$D$8","v":307.69444444444446},0,76.713333333333324,51.623333333333335,62.251666666666665,0]
["2018-06-09",4,24.86,2157,null,{"$f":"M3859","v":62.529999999999994},30.790000000000003,5.4733333333333336,null,{"$f":"'Combined Cycle Gas'!$D$8","v":318.30459770114948},{"$f":"Nuclear!$D$8","v":307.69444444444446},0,82.554999999999993,35.613333333333337,56.936666666666667,0]
["2018-06-09",9,24.96,178,null,{"$f":"M3864","v":4.6933333333333342},3.47,5.59,null,{"$f":"'Combined Cycle Gas'!$D$8","v":318.30459770114948},{"$f":"Nuclear!$D$8","v":307.69444444444446},5.3771709999999997,82.899999999999991,50.865000000000002,5.5049999999999999,5377171]
["2018-06-09",12,33.17,559,null,{"$f":"M3867","v":6.57},4.3483333333333336,11.086666666666666,null,{"$f":"'Combined Cycle Gas'!$D$8","v":318.30459770114948},{"$f":"Nuclear!$D$8","v":307.69444444444446},6.2233210000000003,12.216666666666667,3.3799999999999994,8.2616666666666649,6223321]
["2018-06-09",15,39.54,1093,null,{"$f":"M3870","v":18.799999999999997},12.200000000000001,15.233333333333334,null,{"$f":"'Combined Cycle Gas'!$D$8","v":318.30459770114948},{"$f":"Nuclear!$D$8","v":307.69444444444446},5.7780839999999998,4.6933333333333342,3.47,5.59,5778084]
["2018-06-09",19,25.99,1605,null,{"$f":"M3874","v":10.918333333333335},14.64,53.12166666666667,null,{"$f":"'Combined Cycle Gas'!$D$8","v":318.30459770114948},{"$f":"Nuclear!$D$8","v":307.69444444444446},4.4301E-2,8.4666666666666668,4.078333333333334,12.761666666666668,44301]
["2018-06-09",22,23.74,2531,null,{"$f":"M3877","v":34.664999999999999},9.6633333333333322,32.113333333333337,null,{"$f":"'Combined Cycle Gas'!$D$8","v":318.30459770114948},{"$f":"Nuclear!$D$8","v":307.69444444444446},0,13.118333333333332,10.521666666666667,13.136666666666668,0]
["2018-06-10",1,28.25,2845,null,{"$f":"M3880","v":16.155000000000001},4.0533333333333337,25.248333333333335,null,{"$f":"'Combined Cycle Gas'!$D$8","v":318.30459770114948},{"$f":"Nuclear!$D$8","v":307.69444444444446},0,10.918333333333335,14.64,53.12166666666667,0]
["2018-06-10",2,24.91,2646,null,{"$f":"M3881","v":14.391666666666666},3.7733333333333334,16.078333333333333,null,{"$f":"'Combined Cycle Gas'!$D$8","v":318.30459770114948},{"$f":"Nuclear!$D$8","v":307.69444444444446},{"$f":"P3875/10^6","v":0},27.266666666666666,20.858333333333334,59.238333333333323,0]
["2018-06-10",6,28.32,1957,null,{"$f":"M3885","v":4.8516666666666666},4.3016666666666667,5.7466666666666661,null,{"$f":"'Combined Cycle Gas'!$D$8","v":318.30459770114948},{"$f":"Nuclear!$D$8","v":307.69444444444446},0.97902400000000001,36.880000000000003,4.4600000000000009,24.74666666666667,979024]
["2018-06-10",10,32.4,388,null,{"$f":"M3889","v":5.9249999999999998},4.0750000000000002,9.3083333333333336,null,{"$f":"'Combined Cycle Gas'!$D$8","v":318.30459770114948},{"$f":"Nuclear!$D$8","v":307.69444444444446},6.1015920000000001,16.135000000000002,4.2766666666666664,5.68,6101592]
["2018-06-10",13,36.99,707,null,{"$f":"M3892","v":11.641666666666666},13.998333333333335,18.440000000000001,null,{"$f":"'Combined Cycle Gas'!$D$8","v":318.30459770114948},{"$f":"Nuclear!$D$8","v":307.69444444444446},6.1113,6.7616666666666658,4.9649999999999999,5.788333333333334,6111300]
["2018-06-10",16,39.51,1515,null,{"$f":"M3895","v":16.13},19.18,39.30833333333333,null,{"$f":"'Combined Cycle Gas'!$D$8","v":318.30459770114948},{"$f":"Nuclear!$D$8","v":307.69444444444446},0.99377400000000005,5.9249999999999998,4.0750000000000002,9.3083333333333336,993774]
["2018-06-10",20,28.89,2677,null,{"$f":"M3899","v":41.12166666666667},38.12833333333333,49.156666666666666,null,{"$f":"'Combined Cycle Gas'!$D$8","v":318.30459770114948},{"$f":"Nuclear!$D$8","v":307.69444444444446},0,12.588333333333333,19.434999999999999,22.986666666666665,0]
["2018-06-10",23,27.46,2823,null,{"$f":"M3902","v":34.224999999999994},40.761666666666663,69.179999999999993,null,{"$f":"'Combined Cycle Gas'!$D$8","v":318.30459770114948},{"$f":"Nuclear!$D$8","v":307.69444444444446},0,21.138333333333332,28.431666666666661,47.946666666666665,0]
["2018-06-11",3,24.84,2746,null,{"$f":"M3906","v":32.268333333333338},53.271666666666675,49.303333333333335,null,{"$f":"'Combined Cycle Gas'!$D$8","v":318.30459770114948},{"$f":"Nuclear!$D$8","v":307.69444444444446},0,28.605,38.376666666666665,70.671666666666667,0]
["2018-06-11",4,29.88,2982,null,{"$f":"M3907","v":13.736666666666665},30.564999999999998,32.153333333333329,null,{"$f":"'Combined Cycle Gas'!$D$8","v":318.30459770114948},{"$f":"Nuclear!$D$8","v":307.69444444444446},0,29.19,39.466666666666661,73.644999999999996,0]
["2018-06-11",7,27.23,2532,null,{"$f":"M3910","v":6.1716666666666669},5.2450000000000001,21.213333333333335,null,{"$f":"'Combined Cycle Gas'!$D$8","v":318.30459770114948},{"$f":"Nuclear!$D$8","v":307.69444444444446},1.124036,34.743333333333332,60.1,67.388333333333335,1124036]
["2018-06-11",11,37.78,2255,null,{"$f":"M3914","v":64.328333333333333},21.87,31.03,null,{"$f":"'Combined Cycle Gas'!$D$8","v":318.30459770114948},{"$f":"Nuclear!$D$8","v":307.69444444444446},2.2386970000000002,8.33,15.641666666666666,23.531666666666666,2238697]
["2018-06-11",14,44.95,2005,null,{"$f":"M3917","v":25.431666666666668},21.248333333333331,23.594999999999999,null,{"$f":"'Combined Cycle Gas'!$D$8","v":318.30459770114948},{"$f":"Nuclear!$D$8","v":307.69444444444446},2.6100020000000002,10.1,5.501666666666666,7.6449999999999996,2610002]
["2018-06-11",17,32.22,3012,null,{"$f":"M3920","v":19.138333333333332},23.655000000000001,21.731666666666666,null,{"$f":"'Combined Cycle Gas'!$D$8","v":318.30459770114948},{"$f":"Nuclear!$D$8","v":307.69444444444446},1.0610059999999999,64.328333333333333,21.87,31.03,1061006]
["2018-06-11",21,38.93,2677,null,{"$f":"M3924","v":17.640000000000004},26.653333333333336,85.69,null,{"$f":"'Combined Cycle Gas'!$D$8","v":318.30459770114948},{"$f":"Nuclear!$D$8","v":307.69444444444446},0,19.676666666666666,21.89833333333333,28.665000000000003,0]
["2018-06-11",24,26.73,2299,null,{"$f":"M3927","v":54.416666666666664},68.49499999999999,73.411666666666676,null,{"$f":"'Combined Cycle Gas'!$D$8","v":318.30459770114948},{"$f":"Nuclear!$D$8","v":307.69444444444446},0,16.591666666666669,27.856666666666666,29.081666666666663,0]
["2018-06-12",4,26.06,3500,null,{"$f":"M3931","v":5.3049999999999997},12.339999999999998,28.916666666666668,null,{"$f":"'Combined Cycle Gas'!$D$8","v":318.30459770114948},{"$f":"Nuclear!$D$8","v":307.69444444444446},0,28.52333333333333,56.853333333333332,86.163333333333341,0]
["2018-06-12",5,0.1,3013,null,{"$f":"M3932","v":5.3116666666666665},5.3266666666666671,17.54,null,{"$f":"'Combined Cycle Gas'!$D$8","v":318.30459770114948},{"$f":"Nuclear!$D$8","v":307.69444444444446},0,51.99666666666667,78.234999999999999,80.938333333333318,0]
["2018-06-12",8,26.93,2964,null,{"$f":"M3935","v":6.1483333333333334},5.7566666666666668,6.8033333333333337,null,{"$f":"'Combined Cycle Gas'!$D$8","v":318.30459770114948},{"$f":"Nuclear!$D$8","v":307.69444444444446},3.5702590000000001,12.784999999999998,35.005000000000003,59.765000000000008,3570259]
["2018-06-12",12,42.8,1158,null,{"$f":"M3939","v":11.003333333333336},12.805,12.436666666666666,null,{"$f":"'Combined Cycle Gas'!$D$8","v":318.30459770114948},{"$f":"Nuclear!$D$8","v":307.69444444444446},6.6162539999999996,5.296666666666666,4.6866666666666665,6.5066666666666677,6616254]
["2018-06-12",15,101.5,537,null,{"$f":"M3942","v":46.723333333333336},35.966666666666669,27.71166666666667,null,{"$f":"'Combined Cycle Gas'!$D$8","v":318.30459770114948},{"$f":"Nuclear!$D$8","v":307.69444444444446},5.7912619999999997,6.9833333333333334,4.7483333333333331,6.7399999999999993,5791262]
["2018-06-12",17,41.19,821,null,{"$f":"M3944","v":42.125},25.981666666666666,33.578333333333333,null,{"$f":"'Combined Cycle Gas'!$D$8","v":318.30459770114948},{"$f":"Nuclear!$D$8","v":307.69444444444446},4.5161939999999996,12.594999999999999,7.6833333333333336,12.466666666666667,4516194]
["2018-06-12",23,24.35,2771,null,{"$f":"M3950","v":82.728333333333339},62.976666666666667,54.353333333333332,null,{"$f":"'Combined Cycle Gas'!$D$8","v":318.30459770114948},{"$f":"Nuclear!$D$8","v":307.69444444444446},0,42.125,25.981666666666666,33.578333333333333,0]
["2018-06-13",2,15.7,2633,null,{"$f":"M3953","v":76.543333333333322},63.693333333333335,76.953333333333333,null,{"$f":"'Combined Cycle Gas'!$D$8","v":318.30459770114948},{"$f":"Nuclear!$D$8","v":307.69444444444446},0,115.03166666666665,64.291666666666671,51.303333333333335,0]
["2018-06-13",3,20.76,2427,null,{"$f":"M3954","v":65.313333333333333},47.005000000000003,67.291666666666671,null,{"$f":"'Combined Cycle Gas'!$D$8","v":318.30459770114948},{"$f":"Nuclear!$D$8","v":307.69444444444446},0,122.73500000000001,62.97999999999999,54.04666666666666,0]
["2018-06-13",6,24.28,2433,null,{"$f":"M3957","v":51.54666666666666},43.508333333333333,62.653333333333329,null,{"$f":"'Combined Cycle Gas'!$D$8","v":318.30459770114948},{"$f":"Nuclear!$D$8","v":307.69444444444446},0.39107999999999998,79.225000000000009,64.716666666666683,74.048333333333332,391080]
["2018-06-13",9,31.68,1833,null,{"$f":"M3960","v":4.8616666666666672},2.9683333333333333,5.0616666666666665,null,{"$f":"'Combined Cycle Gas'!$D$8","v":318.30459770114948},{"$f":"Nuclear!$D$8","v":307.69444444444446},6.0884039999999997,65.313333333333333,47.005000000000003,67.291666666666671,6088404]
["2018-06-13",13,41.35,272,null,{"$f":"M3964","v":22.385000000000002},24.724999999999998,11.413333333333332,null,{"$f":"'Combined Cycle Gas'!$D$8","v":318.30459770114948},{"$f":"Nuclear!$D$8","v":307.69444444444446},6.75366,11.838333333333333,20.623333333333335,28.775000000000006,6753660]
["2018-06-13",18,60.7,607,null,{"$f":"M3969","v":74.02},50.82833333333334,36.483333333333341,null,{"$f":"'Combined Cycle Gas'!$D$8","v":318.30459770114948},{"$f":"Nuclear!$D$8","v":307.69444444444446},2.8847200000000002,14.520000000000001,14.555,7.7299999999999995,2884720]
["2018-06-13",20,38.770000000000003,1389,null,{"$f":"M3971","v":97.523333333333326},52.006666666666668,45.214999999999996,null,{"$f":"'Combined Cycle Gas'!$D$8","v":318.30459770114948},{"$f":"Nuclear!$D$8","v":307.69444444444446},0,42.048333333333332,27.866666666666664,17.678333333333335,0]
["2018-06-13",24,26.59,764,null,{"$f":"M3975","v":84.088333333333338},50.365000000000002,52.143333333333338,null,{"$f":"'Combined Cycle Gas'!$D$8","v":318.30459770114948},{"$f":"Nuclear!$D$8","v":307.69444444444446},0,74.02,50.82833333333334,36.483333333333341,0]
["2018-06-14",3,24.87,650,null,{"$f":"M3978","v":46.403333333333329},29.454999999999998,35.498333333333335,null,{"$f":"'Combined Cycle Gas'!$D$8","v":318.30459770114948},{"$f":"Nuclear!$D$8","v":307.69444444444446},0,87.90666666666668,66.01166666666667,65.251666666666665,0]
["2018-06-14",4,30.7,816,null,{"$f":"M3979","v":80.429999999999993},36.186666666666667,48.314999999999998,null,{"$f":"'Combined Cycle Gas'!$D$8","v":318.30459770114948},{"$f":"Nuclear!$D$8","v":307.69444444444446},0,76.438333333333333,63.819999999999993,80.843333333333334,0]
["2018-06-14",7,28.25,368,null,{"$f":"M3982","v":3.17},5.541666666666667,15.133333333333333,null,{"$f":"'Combined Cycle Gas'!$D$8","v":318.30459770114948},{"$f":"Nuclear!$D$8","v":307.69444444444446},3.2181150000000001,69.774999999999991,25.686666666666667,36.700000000000003,3218115]
["2018-06-14",10,38.950000000000003,225,null,{"$f":"M3985","v":12.648333333333332},6.7366666666666672,4.3583333333333334,null,{"$f":"'Combined Cycle Gas'!$D$8","v":318.30459770114948},{"$f":"Nuclear!$D$8","v":307.69444444444446},6.5548770000000003,80.429999999999993,36.186666666666667,48.314999999999998,6554877]
["2018-06-14",15,70.02,1018,null,{"$f":"M3990","v":13.175000000000002},13.366666666666667,17.835000000000004,null,{"$f":"'Combined Cycle Gas'!$D$8","v":318.30459770114948},{"$f":"Nuclear!$D$8","v":307.69444444444446},6.4445759999999996,3.6383333333333336,6,10.38,6444576]
["2018-06-14",18,52.88,1181,null,{"$f":"M3993","v":12.918333333333335},17.831666666666667,21.7,null,{"$f":"'Combined Cycle Gas'!$D$8","v":318.30459770114948},{"$f":"Nuclear!$D$8","v":307.69444444444446},3.0391840000000001,19.813333333333336,12.946666666666667,13.905000000000001,3039184]
["2018-06-14",22,40.380000000000003,708,null,{"$f":"M3997","v":10.215},14.896666666666667,4.5516666666666667,null,{"$f":"'Combined Cycle Gas'!$D$8","v":318.30459770114948},{"$f":"Nuclear!$D$8","v":307.69444444444446},0,16.79,12.503333333333336,15.850000000000001,0]
["2018-06-15",1,16.21,917,null,{"$f":"M4000","v":15.451666666666666},3.6349999999999998,18.61,null,{"$f":"'Combined Cycle Gas'!$D$8","v":318.30459770114948},{"$f":"Nuclear!$D$8","v":307.69444444444446},0,26.091666666666669,27.753333333333341,20.396666666666668,0]
["2018-06-15",4,30.67,1324,null,{"$f":"M4003","v":49.043333333333329},26.201666666666664,15.416666666666666,null,{"$f":"'Combined Cycle Gas'!$D$8","v":318.30459770114948},{"$f":"Nuclear!$D$8","v":307.69444444444446},0,10.215,14.896666666666667,4.5516666666666667,0]
["2018-06-15",5,0.14000000000000001,1168,null,{"$f":"M4004","v":35.913333333333334},17.216666666666665,5.1366666666666676,null,{"$f":"'Combined Cycle Gas'!$D$8","v":318.30459770114948},{"$f":"Nuclear!$D$8","v":307.69444444444446},0,7.1166666666666671,9.5849999999999991,3.8033333333333332,0]
["2018-06-15",8,30.19,507,null,{"$f":"M4007","v":0.24},2.9316666666666666,2.3466666666666671,null,{"$f":"'Combined Cycle Gas'!$D$8","v":318.30459770114948},{"$f":"Nuclear!$D$8","v":307.69444444444446},4.3013060000000003,27.52,7.7149999999999999,26.47,4301306]
["2018-06-15",12,46.75,869,null,{"$f":"M4011","v":0.77},3.9166666666666665,3.3083333333333336,null,{"$f":"'Combined Cycle Gas'!$D$8","v":318.30459770114948},{"$f":"Nuclear!$D$8","v":307.69444444444446},6.1987649999999999,11.933333333333332,2.9299999999999997,2.7583333333333333,6198765]
["2018-06-15",16,41.61,698,null,{"$f":"M4015","v":1.885},4.7733333333333334,3.4033333333333329,null,{"$f":"'Combined Cycle Gas'!$D$8","v":318.30459770114948},{"$f":"Nuclear!$D$8","v":307.69444444444446},3.4799920000000002,0.42333333333333339,3.1866666666666674,2.3316666666666666,3479992]
["2018-06-15",19,39.630000000000003,1844,null,{"$f":"M4018","v":2.8533333333333335},5.9016666666666664,9.2066666666666652,null,{"$f":"'Combined Cycle Gas'!$D$8","v":318.30459770114948},{"$f":"Nuclear!$D$8","v":307.69444444444446},0.21861700000000001,0.82166666666666666,3.8133333333333339,3.15,218617]
["2018-06-15",23,26.28,2639,null,{"$f":"M4022","v":1.6083333333333334},9.5466666666666669,11.173333333333334,null,{"$f":"'Combined Cycle Gas'!$D$8","v":318.30459770114948},{"$f":"Nuclear!$D$8","v":307.69444444444446},0,1.95,4.5633333333333335,2.89,0]
["2018-06-16",2,26.08,2967,null,{"$f":"M4025","v":10.094999999999999},26.23,16.271666666666665,null,{"$f":"'Combined Cycle Gas'!$D$8","v":318.30459770114948},{"$f":"Nuclear!$D$8","v":307.69444444444446},0,2.085,4.6716666666666669,13.255000000000003,0]
["2018-06-16",5,24.84,3405,null,{"$f":"M4028","v":119.49166666666667},84.796666666666653,43.390000000000008,null,{"$f":"'Combined Cycle Gas'!$D$8","v":318.30459770114948},{"$f":"Nuclear!$D$8","v":307.69444444444446},0,1.6083333333333334,9.5466666666666669,11.173333333333334,0]
["2018-06-16",9,4.07,3012,null,{"$f":"M4032","v":22.146666666666665},13.956666666666665,11.073333333333332,null,{"$f":"'Combined Cycle Gas'!$D$8","v":318.30459770114948},{"$f":"Nuclear!$D$8","v":307.69444444444446},5.5308060000000001,48.888333333333328,47.720000000000006,41.408333333333331,5530806]
["2018-06-16",10,24.87,3012,null,{"$f":"M4033","v":18.059999999999999},13.048333333333337,11.088333333333333,null,{"$f":"'Combined Cycle Gas'!$D$8","v":318.30459770114948},{"$f":"Nuclear!$D$8","v":307.69444444444446},5.0638420000000002,101.88833333333332,75.851666666666674,57.396666666666668,5063842]
["2018-06-16",13,33.590000000000003,3012,null,{"$f":"M4036","v":13.461666666666666},13.021666666666667,11.104999999999999,null,{"$f":"'Combined Cycle Gas'!$D$8","v":318.30459770114948},{"$f":"Nuclear!$D$8","v":307.69444444444446},5.7157960000000001,88.193333333333328,40.278333333333343,15.543333333333331,5715796]
["2018-06-16",17,40.51,3012,null,{"$f":"M4040","v":15.363333333333335},12.72,11.828333333333333,null,{"$f":"'Combined Cycle Gas'!$D$8","v":318.30459770114948},{"$f":"Nuclear!$D$8","v":307.69444444444446},2.3312590000000002,14.736666666666666,13.088333333333331,11.219999999999999,2331259]
["2018-06-16",20,32.520000000000003,3013,null,{"$f":"M4043","v":33.018333333333331},19.108333333333331,12.74,null,{"$f":"'Combined Cycle Gas'!$D$8","v":318.30459770114948},{"$f":"Nuclear!$D$8","v":307.69444444444446},0,13.36,13.163333333333334,11.023333333333333,0]
["2018-06-16",24,24.85,3013,null,{"$f":"M4047","v":127.72833333333331},103.46999999999998,48.008333333333326,null,{"$f":"'Combined Cycle Gas'!$D$8","v":318.30459770114948},{"$f":"Nuclear!$D$8","v":307.69444444444446},0,28.888333333333332,12.178333333333333,14.966666666666667,0]
["2018-06-17",3,24.92,3500,null,{"$f":"M4050","v":137.06666666666666},112.52,106.51499999999999,null,{"$f":"'Combined Cycle Gas'!$D$8","v":318.30459770114948},{"$f":"Nuclear!$D$8","v":307.69444444444446},0,42.531666666666666,22.246666666666666,17.543333333333333,0]
["2018-06-17",6,24.91,3499,null,{"$f":"M4053","v":116.85833333333333},96.001666666666679,85.504999999999995,null,{"$f":"'Combined Cycle Gas'!$D$8","v":318.30459770114948},{"$f":"Nuclear!$D$8","v":307.69444444444446},2.0652E-2,127.72833333333331,103.46999999999998,48.008333333333326,20652]
["2018-06-17",8,26.08,3499,null,{"$f":"M4055","v":97.52},82.971666666666678,70.781666666666666,null,{"$f":"'Combined Cycle Gas'!$D$8","v":318.30459770114948},{"$f":"Nuclear!$D$8","v":307.69444444444446},2.5268700000000002,138.25333333333333,112.52,99.163333333333341,2526870]
["2018-06-17",11,27.23,2822,null,{"$f":"M4058","v":41.476666666666667},38.101666666666667,30.358333333333331,null,{"$f":"'Combined Cycle Gas'!$D$8","v":318.30459770114948},{"$f":"Nuclear!$D$8","v":307.69444444444446},3.777946,126.69833333333334,109.46666666666665,105.87833333333333,3777946]
["2018-06-17",15,39.369999999999997,3012,null,{"$f":"M4062","v":37.365000000000002},24.668333333333333,20.574999999999999,null,{"$f":"'Combined Cycle Gas'!$D$8","v":318.30459770114948},{"$f":"Nuclear!$D$8","v":307.69444444444446},5.9295400000000003,64.285000000000011,64.72,60.604999999999997,5929540]
["2018-06-17",18,41.68,3019,null,{"$f":"M4065","v":16.583333333333332},28.278333333333332,28.143333333333334,null,{"$f":"'Combined Cycle Gas'!$D$8","v":318.30459770114948},{"$f":"Nuclear!$D$8","v":307.69444444444446},2.1544000000000001E-2,46.141666666666673,38.968333333333334,26.151666666666671,21544]
["2018-06-17",21,31.26,2783,null,{"$f":"M4068","v":49.384999999999998},86.951666666666654,68.451666666666668,null,{"$f":"'Combined Cycle Gas'!$D$8","v":318.30459770114948},{"$f":"Nuclear!$D$8","v":307.69444444444446},0,37.365000000000002,24.668333333333333,20.574999999999999,0]
["2018-06-17",23,28.67,2984,null,{"$f":"M4070","v":120.07833333333333},96.643333333333317,78.785000000000011,null,{"$f":"'Combined Cycle Gas'!$D$8","v":318.30459770114948},{"$f":"Nuclear!$D$8","v":307.69444444444446},0,25.248333333333335,20.031666666666666,24.204999999999998,0]
["2018-06-18",5,2.14,2731,null,{"$f":"M4076","v":130.55499999999998},101.69999999999999,97.436666666666667,null,{"$f":"'Combined Cycle Gas'!$D$8","v":318.30459770114948},{"$f":"Nuclear!$D$8","v":307.69444444444446},0,120.07833333333333,96.643333333333317,78.785000000000011,0]
["2018-06-18",8,27.08,2792,null,{"$f":"M4079","v":121.73666666666668},83.998333333333335,67.73833333333333,null,{"$f":"'Combined Cycle Gas'!$D$8","v":318.30459770114948},{"$f":"Nuclear!$D$8","v":307.69444444444446},1.198982,131.43833333333336,104.82,103.81333333333333,1198982]
["2018-06-18",9,28.3,3038,null,{"$f":"M4080","v":96.780000000000015},73.695000000000007,59.708333333333336,null,{"$f":"'Combined Cycle Gas'!$D$8","v":318.30459770114948},{"$f":"Nuclear!$D$8","v":307.69444444444446},1.9301440000000001,134.31333333333333,105.045,100.86666666666667,1930144]
["2018-06-18",12,39.94,2903,null,{"$f":"M4083","v":75.046666666666667},54.801666666666655,32.143333333333338,null,{"$f":"'Combined Cycle Gas'!$D$8","v":318.30459770114948},{"$f":"Nuclear!$D$8","v":307.69444444444446},2.9780090000000001,115.7,90.216666666666654,91.368333333333339,2978009]
["2018-06-18",16,40.14,3027,null,{"$f":"M4087","v":61.841666666666661},52.725000000000001,4.335,null,{"$f":"'Combined Cycle Gas'!$D$8","v":318.30459770114948},{"$f":"Nuclear!$D$8","v":307.69444444444446},1.901705,63.414999999999999,66.835000000000008,40.423333333333332,1901705]
["2018-06-18",19,62.62,1219,null,{"$f":"M4090","v":20.658333333333335},26.968333333333334,24.810000000000002,null,{"$f":"'Combined Cycle Gas'!$D$8","v":318.30459770114948},{"$f":"Nuclear!$D$8","v":307.69444444444446},1.050098,66.311666666666653,46.048333333333325,23.728333333333335,1050098]
["2018-06-18",24,25.14,818,null,{"$f":"M4095","v":76.448333333333338},65.8,89.261666666666656,null,{"$f":"'Combined Cycle Gas'!$D$8","v":318.30459770114948},{"$f":"Nuclear!$D$8","v":307.69444444444446},0,61.676666666666655,53.305,35.236666666666665,0]
["2018-06-19",3,24.69,490,null,{"$f":"M4098","v":94.665000000000006},70.381666666666661,73.75833333333334,null,{"$f":"'Combined Cycle Gas'!$D$8","v":318.30459770114948},{"$f":"Nuclear!$D$8","v":307.69444444444446},0,100.74000000000001,59.488333333333337,77.176666666666677,0]
["2018-06-19",6,24.84,665,null,{"$f":"M4101","v":92.678333333333342},79.843333333333334,52.468333333333334,null,{"$f":"'Combined Cycle Gas'!$D$8","v":318.30459770114948},{"$f":"Nuclear!$D$8","v":307.69444444444446},3.5625999999999998E-2,76.448333333333338,65.8,89.261666666666656,35626]
["2018-06-19",7,27.36,441,null,{"$f":"M4102","v":61.218333333333334},62.263333333333328,41.406666666666673,null,{"$f":"'Combined Cycle Gas'!$D$8","v":318.30459770114948},{"$f":"Nuclear!$D$8","v":307.69444444444446},2.6493989999999998,87.15000000000002,69.083333333333329,87.933333333333323,2649399]
["2018-06-19",10,40.549999999999997,454,null,{"$f":"M4105","v":1.6983333333333335},1.6466666666666665,22.271666666666665,null,{"$f":"'Combined Cycle Gas'!$D$8","v":318.30459770114948},{"$f":"Nuclear!$D$8","v":307.69444444444446},6.2010360000000002,91.736666666666665,72.748333333333335,67.77833333333335,6201036]
["2018-06-19",13,50.5,1367,null,{"$f":"M4108","v":2.0616666666666665},1.5166666666666668,2.7650000000000001,null,{"$f":"'Combined Cycle Gas'!$D$8","v":318.30459770114948},{"$f":"Nuclear!$D$8","v":307.69444444444446},4.7227790000000001,61.218333333333334,62.263333333333328,41.406666666666673,4722779]
["2018-06-19",17,52.02,1480,null,{"$f":"M4112","v":0},1.9516666666666664,4.3066666666666666,null,{"$f":"'Combined Cycle Gas'!$D$8","v":318.30459770114948},{"$f":"Nuclear!$D$8","v":307.69444444444446},4.3953519999999999,2.8016666666666672,1.6933333333333331,5.2166666666666659,4395352]
["2018-06-19",21,70.040000000000006,571,null,{"$f":"M4116","v":0},1.9083333333333334,13.980000000000002,null,{"$f":"'Combined Cycle Gas'!$D$8","v":318.30459770114948},{"$f":"Nuclear!$D$8","v":307.69444444444446},0,0.505,13.895000000000001,2.2583333333333333,0]
["2018-06-19",24,33.69,644,null,{"$f":"M4119","v":3.3633333333333333},10.423333333333332,15.883333333333335,null,{"$f":"'Combined Cycle Gas'!$D$8","v":318.30459770114948},{"$f":"Nuclear!$D$8","v":307.69444444444446},0,0,2.2383333333333333,1.1399999999999999,0]
["2018-06-20",4,31.51,1748,null,{"$f":"M4123","v":0.92166666666666675},2.9683333333333333,23.333333333333332,null,{"$f":"'Combined Cycle Gas'!$D$8","v":318.30459770114948},{"$f":"Nuclear!$D$8","v":307.69444444444446},0,0.15833333333333335,5.2249999999999996,5.71,0]
["2018-06-20",7,34.619999999999997,884,null,{"$f":"M4126","v":0},2.3116666666666665,2.1366666666666667,null,{"$f":"'Combined Cycle Gas'!$D$8","v":318.30459770114948},{"$f":"Nuclear!$D$8","v":307.69444444444446},3.580295,5.24,10.228333333333333,25.166666666666668,3580295]
["2018-06-20",8,37.78,548,null,{"$f":"M4127","v":0.30833333333333335},2.4,2.1116666666666664,null,{"$f":"'Combined Cycle Gas'!$D$8","v":318.30459770114948},{"$f":"Nuclear!$D$8","v":307.69444444444446},4.9842209999999998,4.3616666666666672,3.4283333333333332,28.808333333333334,4984221]
["2018-06-20",11,59.84,619,null,{"$f":"M4130","v":1.6600000000000001},2.9816666666666669,5.9866666666666672,null,{"$f":"'Combined Cycle Gas'!$D$8","v":318.30459770114948},{"$f":"Nuclear!$D$8","v":307.69444444444446},6.2532180000000004,0,2.2100000000000004,13.801666666666668,6253218]
["2018-06-20",14,54.45,1930,null,{"$f":"M4133","v":1.8150000000000002},3.7900000000000005,23.345000000000002,null,{"$f":"'Combined Cycle Gas'!$D$8","v":318.30459770114948},{"$f":"Nuclear!$D$8","v":307.69444444444446},6.6473940000000002,0.30833333333333335,2.4,2.1116666666666664,6647394]
["2018-06-20",19,43.48,3013,null,{"$f":"M4138","v":4.665},13.121666666666664,7.5500000000000007,null,{"$f":"'Combined Cycle Gas'!$D$8","v":318.30459770114948},{"$f":"Nuclear!$D$8","v":307.69444444444446},0.85991399999999996,0.46166666666666667,2.9966666666666666,19.066666666666666,859914]
["2018-06-20",22,38.770000000000003,2713,null,{"$f":"M4141","v":4.7216666666666667},6.6933333333333325,4.66,null,{"$f":"'Combined Cycle Gas'!$D$8","v":318.30459770114948},{"$f":"Nuclear!$D$8","v":307.69444444444446},0,2.6766666666666663,4.3549999999999995,12.870000000000003,0]
["2018-06-21",1,29.53,2853,null,{"$f":"M4144","v":10.738333333333332},17.558333333333334,18.315000000000001,null,{"$f":"'Combined Cycle Gas'!$D$8","v":318.30459770114948},{"$f":"Nuclear!$D$8","v":307.69444444444446},0,4.665,13.121666666666664,7.5500000000000007,0]
["2018-06-21",5,5.33,1826,null,{"$f":"M4148","v":5.1083333333333334},10.568333333333333,21.700000000000003,null,{"$f":"'Combined Cycle Gas'!$D$8","v":318.30459770114948},{"$f":"Nuclear!$D$8","v":307.69444444444446},0,3.9983333333333335,8.0233333333333334,13.726666666666668,0]
["2018-06-21",8,27.8,2520,null,{"$f":"M4151","v":3.81},4.6083333333333334,4.7750000000000004,null,{"$f":"'Combined Cycle Gas'!$D$8","v":318.30459770114948},{"$f":"Nuclear!$D$8","v":307.69444444444446},4.3901019999999997,8.4883333333333351,16.253333333333334,17.948333333333334,4390102]
["2018-06-21",9,34.78,2343,null,{"$f":"M4152","v":4.0716666666666663},4.623333333333334,5.8266666666666671,null,{"$f":"'Combined Cycle Gas'!$D$8","v":318.30459770114948},{"$f":"Nuclear!$D$8","v":307.69444444444446},5.7013740000000004,7.4083333333333341,13.524999999999999,13.993333333333332,5701374]
["2018-06-21",15,24.8,3021,null,{"$f":"M4158","v":21.680000000000003},12.439999999999998,11.843333333333334,null,{"$f":"'Combined Cycle Gas'!$D$8","v":318.30459770114948},{"$f":"Nuclear!$D$8","v":307.69444444444446},5.9745010000000001,4.0716666666666663,4.623333333333334,5.8266666666666671,5974501]
["2018-06-21",16,24.72,3012,null,{"$f":"M4159","v":8.9166666666666661},4.371666666666667,8.8933333333333326,null,{"$f":"'Combined Cycle Gas'!$D$8","v":318.30459770114948},{"$f":"Nuclear!$D$8","v":307.69444444444446},5.3400350000000003,9.82,5.79,12.141666666666666,5340035]
["2018-06-21",20,37.020000000000003,3096,null,{"$f":"M4163","v":29.918333333333333},41.141666666666659,34.685000000000002,null,{"$f":"'Combined Cycle Gas'!$D$8","v":318.30459770114948},{"$f":"Nuclear!$D$8","v":307.69444444444446},0,24.391666666666669,11.678333333333335,27.068333333333332,0]
["2018-06-21",23,35.020000000000003,3013,null,{"$f":"M4166","v":32.926666666666662},25.833333333333332,53.473333333333329,null,{"$f":"'Combined Cycle Gas'!$D$8","v":318.30459770114948},{"$f":"Nuclear!$D$8","v":307.69444444444446},0,2.6416666666666666,2.5833333333333335,79.161666666666662,0]
["2018-06-22",3,25.28,3013,null,{"$f":"M4170","v":30.863333333333333},34.279999999999994,52.468333333333334,null,{"$f":"'Combined Cycle Gas'!$D$8","v":318.30459770114948},{"$f":"Nuclear!$D$8","v":307.69444444444446},0,102.03666666666668,54.946666666666665,23.386666666666667,0]
["2018-06-22",6,23.59,3059,null,{"$f":"M4173","v":1.5150000000000003},1.5449999999999999,3.6150000000000002,null,{"$f":"'Combined Cycle Gas'!$D$8","v":318.30459770114948},{"$f":"Nuclear!$D$8","v":307.69444444444446},2.1280000000000001E-3,17.621666666666666,30.886666666666667,81.683333333333323,2128]
["2018-06-22",8,23.35,2780,null,{"$f":"M4175","v":1.4200000000000002},1.4866666666666666,2.3383333333333334,null,{"$f":"'Combined Cycle Gas'!$D$8","v":318.30459770114948},{"$f":"Nuclear!$D$8","v":307.69444444444446},1.154228,16.628333333333334,38.226666666666667,60.773333333333341,1154228]
["2018-06-22",11,38.950000000000003,1477,null,{"$f":"M4178","v":3.9533333333333331},2.5749999999999997,2.8366666666666673,null,{"$f":"'Combined Cycle Gas'!$D$8","v":318.30459770114948},{"$f":"Nuclear!$D$8","v":307.69444444444446},1.6053010000000001,9.7149999999999999,1.8933333333333335,11.89,1605301]
["2018-06-22",14,26.07,3012,null,{"$f":"M4181","v":23.03},16.71166666666667,3.6,null,{"$f":"'Combined Cycle Gas'!$D$8","v":318.30459770114948},{"$f":"Nuclear!$D$8","v":307.69444444444446},3.1461320000000002,1.4200000000000002,1.4866666666666666,2.3383333333333334,3146132]
["2018-06-22",17,32.89,3012,null,{"$f":"M4184","v":11.063333333333333},23.611666666666665,27.52,null,{"$f":"'Combined Cycle Gas'!$D$8","v":318.30459770114948},{"$f":"Nuclear!$D$8","v":307.69444444444446},2.9276949999999999,3.9533333333333331,2.5749999999999997,2.8366666666666673,2927695]
["2018-06-22",21,38.82,3013,null,{"$f":"M4188","v":0.26166666666666666},11.194999999999999,73.99499999999999,null,{"$f":"'Combined Cycle Gas'!$D$8","v":318.30459770114948},{"$f":"Nuclear!$D$8","v":307.69444444444446},0,15.491666666666665,11.301666666666668,34.964999999999996,0]
["2018-06-22",24,9.76,3013,null,{"$f":"M4191","v":43.75},57.101666666666667,58.231666666666662,null,{"$f":"'Combined Cycle Gas'!$D$8","v":318.30459770114948},{"$f":"Nuclear!$D$8","v":307.69444444444446},0,14.091666666666667,24.983333333333334,13.826666666666668,0]
["2018-06-23",4,24.06,3013,null,{"$f":"M4195","v":5.6666666666666671E-2},0,5.0249999999999995,null,{"$f":"'Combined Cycle Gas'!$D$8","v":318.30459770114948},{"$f":"Nuclear!$D$8","v":307.69444444444446},0,7.4450000000000003,23.171666666666667,77.160000000000011,0]
["2018-06-23",5,22.32,3118,null,{"$f":"M4196","v":31.541666666666668},3.0066666666666664,8.0516666666666676,null,{"$f":"'Combined Cycle Gas'!$D$8","v":318.30459770114948},{"$f":"Nuclear!$D$8","v":307.69444444444446},0,21.543333333333333,37.114999999999995,89.038333333333341,0]
["2018-06-23",11,33.909999999999997,1153,null,{"$f":"M4202","v":5.6816666666666675},2.1766666666666672,12.954999999999998,null,{"$f":"'Combined Cycle Gas'!$D$8","v":318.30459770114948},{"$f":"Nuclear!$D$8","v":307.69444444444446},6.267226,31.541666666666668,3.0066666666666664,8.0516666666666676,6267226]
["2018-06-23",12,37.700000000000003,887,null,{"$f":"M4203","v":6.4466666666666663},1.1600000000000001,72.11999999999999,null,{"$f":"'Combined Cycle Gas'!$D$8","v":318.30459770114948},{"$f":"Nuclear!$D$8","v":307.69444444444446},5.9022579999999998,37.945000000000007,11.926666666666669,28.185000000000002,5902258]
["2018-06-23",15,45.1,289,null,{"$f":"M4206","v":25.896666666666665},9.7783333333333342,9.1383333333333336,null,{"$f":"'Combined Cycle Gas'!$D$8","v":318.30459770114948},{"$f":"Nuclear!$D$8","v":307.69444444444446},5.8350479999999996,6.1149999999999993,3.7283333333333331,0.73666666666666669,5835048]
["2018-06-23",18,38.549999999999997,1825,null,{"$f":"M4209","v":15.941666666666668},35.848333333333329,51.223333333333329,null,{"$f":"'Combined Cycle Gas'!$D$8","v":318.30459770114948},{"$f":"Nuclear!$D$8","v":307.69444444444446},3.1484009999999998,6.4466666666666663,1.1600000000000001,72.11999999999999,3148401]
["2018-06-23",22,23.83,2226,null,{"$f":"M4213","v":83.336666666666659},9.9583333333333339,0.76000000000000012,null,{"$f":"'Combined Cycle Gas'!$D$8","v":318.30459770114948},{"$f":"Nuclear!$D$8","v":307.69444444444446},0,39.691666666666663,10.658333333333333,6.043333333333333,0]
["2018-06-24",2,27.47,400,null,{"$f":"M4217","v":6.9383333333333335},0.23666666666666666,0.38666666666666671,null,{"$f":"'Combined Cycle Gas'!$D$8","v":318.30459770114948},{"$f":"Nuclear!$D$8","v":307.69444444444446},0,46.836666666666666,62.533333333333339,2.3299999999999996,0]
["2018-06-24",6,23.49,1300,null,{"$f":"M4221","v":7.6666666666666661E-2},0,0,null,{"$f":"'Combined Cycle Gas'!$D$8","v":318.30459770114948},{"$f":"Nuclear!$D$8","v":307.69444444444446},1.473576,14.728333333333333,2.5249999999999995,23.991666666666664,1473576]
["2018-06-24",9,28.81,224,null,{"$f":"M4224","v":9.086666666666666},0,0,null,{"$f":"'Combined Cycle Gas'!$D$8","v":318.30459770114948},{"$f":"Nuclear!$D$8","v":307.69444444444446},5.8185469999999997,6.7350000000000003,0,0.01,5818547]
["2018-06-24",12,37.49,0,null,{"$f":"M4227","v":8.19},18.768333333333331,6.830000000000001,null,{"$f":"'Combined Cycle Gas'!$D$8","v":318.30459770114948},{"$f":"Nuclear!$D$8","v":307.69444444444446},5.8732280000000001,7.6666666666666661E-2,0,0,5873228]
["2018-06-24",13,38.68,0,null,{"$f":"M4228","v":13.928333333333335},4.0333333333333332,15.13,null,{"$f":"'Combined Cycle Gas'!$D$8","v":318.30459770114948},{"$f":"Nuclear!$D$8","v":307.69444444444446},5.6809620000000001,0,0,2.3333333333333334E-2,5680962]
["2018-06-24",16,39.47,312,null,{"$f":"M4231","v":0.67833333333333334},0.56999999999999995,1.9283333333333335,null,{"$f":"'Combined Cycle Gas'!$D$8","v":318.30459770114948},{"$f":"Nuclear!$D$8","v":307.69444444444446},4.9212199999999999,5.166666666666667,0,5.8333333333333327E-2,4921220]
["2018-06-24",20,30.99,2207,null,{"$f":"M4235","v":5.1666666666666666E-2},0.18666666666666668,26.850000000000005,null,{"$f":"'Combined Cycle Gas'!$D$8","v":318.30459770114948},{"$f":"Nuclear!$D$8","v":307.69444444444446},0,12.713333333333333,1.375,14.185000000000002,0]
["2018-06-24",23,34,224,null,{"$f":"M4238","v":1.9100000000000001},1.9416666666666667,14.159999999999998,null,{"$f":"'Combined Cycle Gas'!$D$8","v":318.30459770114948},{"$f":"Nuclear!$D$8","v":307.69444444444446},0,10.346666666666666,4.8899999999999997,1.4566666666666668,0]
["2018-06-25",3,25.98,506,null,{"$f":"M4242","v":0.60333333333333339},3.0166666666666671,10.506666666666666,null,{"$f":"'Combined Cycle Gas'!$D$8","v":318.30459770114948},{"$f":"Nuclear!$D$8","v":307.69444444444446},0,1.3666666666666665,0.86,17.625,0]
["2018-06-25",7,29.61,27,null,{"$f":"M4246","v":6.5766666666666653},2.0299999999999998,32.42,null,{"$f":"'Combined Cycle Gas'!$D$8","v":318.30459770114948},{"$f":"Nuclear!$D$8","v":307.69444444444446},3.4118300000000001,6.330000000000001,24.763333333333335,13.986666666666666,3411830]
["2018-06-25",10,38.15,169,null,{"$f":"M4249","v":6.9783333333333326},13.274999999999999,15.961666666666668,null,{"$f":"'Combined Cycle Gas'!$D$8","v":318.30459770114948},{"$f":"Nuclear!$D$8","v":307.69444444444446},5.9647170000000003,0.6366666666666666,4.6666666666666669E-2,5.91,5964717]
["2018-06-25",13,39.11,0,null,{"$f":"M4252","v":3.6333333333333333},5.293333333333333,17.62,null,{"$f":"'Combined Cycle Gas'!$D$8","v":318.30459770114948},{"$f":"Nuclear!$D$8","v":307.69444444444446},3.4685860000000002,6.5766666666666653,2.0299999999999998,32.42,3468586]
["2018-06-25",14,39.19,0,null,{"$f":"M4253","v":9.7183333333333337},2.6383333333333332,17.815000000000001,null,{"$f":"'Combined Cycle Gas'!$D$8","v":318.30459770114948},{"$f":"Nuclear!$D$8","v":307.69444444444446},6.007835,4.541666666666667,1.1483333333333334,32.145000000000003,6007835]
["2018-06-25",17,41.17,308,null,{"$f":"M4256","v":11.916666666666666},14.339999999999998,13.983333333333333,null,{"$f":"'Combined Cycle Gas'!$D$8","v":318.30459770114948},{"$f":"Nuclear!$D$8","v":307.69444444444446},3.951635,2.64,11.700000000000001,10.936666666666666,3951635]
["2018-06-25",20,41.83,0,null,{"$f":"M4259","v":2.62},2.4,2.9483333333333337,null,{"$f":"'Combined Cycle Gas'!$D$8","v":318.30459770114948},{"$f":"Nuclear!$D$8","v":307.69444444444446},0,9.7183333333333337,2.6383333333333332,17.815000000000001,0]
["2018-06-26",1,24.72,1050,null,{"$f":"M4264","v":2.2066666666666666},1.93,3.105,null,{"$f":"'Combined Cycle Gas'!$D$8","v":318.30459770114948},{"$f":"Nuclear!$D$8","v":307.69444444444446},0,2.5150000000000001,2.2149999999999999,1.948333333333333,0]
["2018-06-26",4,27.64,996,null,{"$f":"M4267","v":1.7149999999999999},1.5766666666666664,8.0449999999999999,null,{"$f":"'Combined Cycle Gas'!$D$8","v":318.30459770114948},{"$f":"Nuclear!$D$8","v":307.69444444444446},0,7.4466666666666663,1.7,2.3616666666666664,0]
["2018-06-26",8,29.17,184,null,{"$f":"M4271","v":5.373333333333334},4.2216666666666667,4.8533333333333326,null,{"$f":"'Combined Cycle Gas'!$D$8","v":318.30459770114948},{"$f":"Nuclear!$D$8","v":307.69444444444446},4.3143580000000004,3.77,3.1816666666666666,18.04,4314358]
["2018-06-26",11,39.270000000000003,0,null,{"$f":"M4274","v":9.82},7.168333333333333,5.5933333333333337,null,{"$f":"'Combined Cycle Gas'!$D$8","v":318.30459770114948},{"$f":"Nuclear!$D$8","v":307.69444444444446},4.6409339999999997,3.0449999999999999,2.2250000000000001,15.956666666666669,4640934]
["2018-06-26",12,40.590000000000003,0,null,{"$f":"M4275","v":8.7149999999999999},7.496666666666667,5.3683333333333332,null,{"$f":"'Combined Cycle Gas'!$D$8","v":318.30459770114948},{"$f":"Nuclear!$D$8","v":307.69444444444446},6.1063400000000003,11.796666666666667,5.1933333333333342,21.443333333333332,6106340]
["2018-06-26",17,36.86,485,null,{"$f":"M4280","v":47.241666666666667},36.896666666666661,10.565,null,{"$f":"'Combined Cycle Gas'!$D$8","v":318.30459770114948},{"$f":"Nuclear!$D$8","v":307.69444444444446},3.0955819999999998,9.82,7.168333333333333,5.5933333333333337,3095582]
["2018-06-26",19,39.229999999999997,258,null,{"$f":"M4282","v":18.728333333333335},6.163333333333334,10.623333333333333,null,{"$f":"'Combined Cycle Gas'!$D$8","v":318.30459770114948},{"$f":"Nuclear!$D$8","v":307.69444444444446},0.865147,12.9,6.6883333333333335,4.6366666666666667,865147]
["2018-06-26",23,33.35,0,null,{"$f":"M4286","v":4.8633333333333333},3.7116666666666664,6.8666666666666671,null,{"$f":"'Combined Cycle Gas'!$D$8","v":318.30459770114948},{"$f":"Nuclear!$D$8","v":307.69444444444446},0,47.241666666666667,36.896666666666661,10.565,0]
["2018-06-27",2,24.94,49,null,{"$f":"M4289","v":4.9249999999999998},4.0016666666666669,9.6616666666666671,null,{"$f":"'Combined Cycle Gas'!$D$8","v":318.30459770114948},{"$f":"Nuclear!$D$8","v":307.69444444444446},0,7.6133333333333333,3.9750000000000001,7.7533333333333339,0]
["2018-06-27",5,21.73,190,null,{"$f":"M4292","v":7.7549999999999999},3.3733333333333335,4.3083333333333336,null,{"$f":"'Combined Cycle Gas'!$D$8","v":318.30459770114948},{"$f":"Nuclear!$D$8","v":307.69444444444446},0,4.8633333333333333,3.7116666666666664,6.8666666666666671,0]
["2018-06-27",9,29.87,0,null,{"$f":"M4296","v":4.6700000000000008},3.0266666666666668,3.3383333333333334,null,{"$f":"'Combined Cycle Gas'!$D$8","v":318.30459770114948},{"$f":"Nuclear!$D$8","v":307.69444444444446},5.3665479999999999,5.4466666666666663,4.1016666666666666,5.8066666666666675,5366548]
["2018-06-27",12,40.71,0,null,{"$f":"M4299","v":21.011666666666667},14.941666666666668,11.883333333333335,null,{"$f":"'Combined Cycle Gas'!$D$8","v":318.30459770114948},{"$f":"Nuclear!$D$8","v":307.69444444444446},4.3791820000000001,4.28,2.8216666666666668,4.8883333333333328,4379182]
["2018-06-27",14,40.21,0,null,{"$f":"M4301","v":29.070000000000004},9.0983333333333327,19.489999999999998,null,{"$f":"'Combined Cycle Gas'!$D$8","v":318.30459770114948},{"$f":"Nuclear!$D$8","v":307.69444444444446},6.1743119999999996,4.0216666666666674,3.0833333333333335,3.5316666666666667,6174312]
["2018-06-27",17,42.19,87,null,{"$f":"M4304","v":18.996666666666666},13.006666666666666,15.295000000000002,null,{"$f":"'Combined Cycle Gas'!$D$8","v":318.30459770114948},{"$f":"Nuclear!$D$8","v":307.69444444444446},1.9532590000000001,24.171666666666663,9.2216666666666658,6.4449999999999994,1953259]
["2018-06-27",20,52.48,11,null,{"$f":"M4307","v":22.98},10.661666666666667,28.663333333333338,null,{"$f":"'Combined Cycle Gas'!$D$8","v":318.30459770114948},{"$f":"Nuclear!$D$8","v":307.69444444444446},0,29.070000000000004,9.0983333333333327,19.489999999999998,0]
["2018-06-27",24,27.61,12,null,{"$f":"M4311","v":28.218333333333334},26.866666666666671,23.405000000000001,null,{"$f":"'Combined Cycle Gas'!$D$8","v":318.30459770114948},{"$f":"Nuclear!$D$8","v":307.69444444444446},0,19.194999999999997,11.913333333333334,10.401666666666666,0]
["2018-06-28",3,24.87,1016,null,{"$f":"M4314","v":11.981666666666667},2.7850000000000001,2.895,null,{"$f":"'Combined Cycle Gas'!$D$8","v":318.30459770114948},{"$f":"Nuclear!$D$8","v":307.69444444444446},0,34.338333333333331,15.334999999999999,29.521666666666672,0]
["2018-06-28",6,26.12,571,null,{"$f":"M4317","v":0},0,0,null,{"$f":"'Combined Cycle Gas'!$D$8","v":318.30459770114948},{"$f":"Nuclear!$D$8","v":307.69444444444446},5.2719999999999998E-3,28.218333333333334,26.866666666666671,23.405000000000001,5272]
["2018-06-28",10,38.15,64,null,{"$f":"M4321","v":0},0,1.6016666666666666,null,{"$f":"'Combined Cycle Gas'!$D$8","v":318.30459770114948},{"$f":"Nuclear!$D$8","v":307.69444444444446},2.6803650000000001,7.6383333333333328,0,0,2680365]
["2018-06-28",11,40.159999999999997,64,null,{"$f":"M4322","v":0.93},1.5966666666666667,5.5766666666666671,null,{"$f":"'Combined Cycle Gas'!$D$8","v":318.30459770114948},{"$f":"Nuclear!$D$8","v":307.69444444444446},2.573194,0.65,0,0,2573194]
["2018-06-28",15,60.64,43,null,{"$f":"M4326","v":6.3716666666666661},5.9383333333333326,10.703333333333333,null,{"$f":"'Combined Cycle Gas'!$D$8","v":318.30459770114948},{"$f":"Nuclear!$D$8","v":307.69444444444446},2.4564339999999998,0,0,0.29833333333333334,2456434]
["2018-06-28",18,48.65,0,null,{"$f":"M4329","v":0.01},0,1.7433333333333332,null,{"$f":"'Combined Cycle Gas'!$D$8","v":318.30459770114948},{"$f":"Nuclear!$D$8","v":307.69444444444446},{"$f":"P4323/10^6","v":1.563534},3.0883333333333334,3.82,5.1550000000000002,1563534]
["2018-06-28",21,52.16,372,null,{"$f":"M4332","v":4.34},0,0.93666666666666665,null,{"$f":"'Combined Cycle Gas'!$D$8","v":318.30459770114948},{"$f":"Nuclear!$D$8","v":307.69444444444446},0,6.3716666666666661,5.9383333333333326,10.703333333333333,0]
["2018-06-29",1,25.25,1438,null,{"$f":"M4336","v":10.763333333333334},2.1383333333333332,4.3433333333333328,null,{"$f":"'Combined Cycle Gas'!$D$8","v":318.30459770114948},{"$f":"Nuclear!$D$8","v":307.69444444444446},0,2.2316666666666669,0.36333333333333334,0.81333333333333335,0]
["2018-06-29",4,30.01,2145,null,{"$f":"M4339","v":9.2083333333333339},4.6766666666666667,3.7133333333333334,null,{"$f":"'Combined Cycle Gas'!$D$8","v":318.30459770114948},{"$f":"Nuclear!$D$8","v":307.69444444444446},0,3.8249999999999997,0,0.72833333333333339,0]
["2018-06-29",8,34.11,749,null,{"$f":"M4343","v":0},4.1666666666666664E-2,5.6383333333333328,null,{"$f":"'Combined Cycle Gas'!$D$8","v":318.30459770114948},{"$f":"Nuclear!$D$8","v":307.69444444444446},4.8512060000000004,14.106666666666667,6.8083333333333336,6.7566666666666677,4851206]
["2018-06-29",12,44.39,332,null,{"$f":"M4347","v":4.7250000000000005},6.9666666666666659,36.206666666666671,null,{"$f":"'Combined Cycle Gas'!$D$8","v":318.30459770114948},{"$f":"Nuclear!$D$8","v":307.69444444444446},6.6718679999999999,0.13833333333333334,9.4999999999999987E-2,5.9533333333333331,6671868]
["2018-06-29",15,78.89,78,null,{"$f":"M4350","v":10.556666666666667},14.826666666666666,31.818333333333328,null,{"$f":"'Combined Cycle Gas'!$D$8","v":318.30459770114948},{"$f":"Nuclear!$D$8","v":307.69444444444446},6.1549880000000003,0.77500000000000002,1.4666666666666668,11.938333333333333,6154988]
["2018-06-29",16,53.74,167,null,{"$f":"M4351","v":14.299999999999999},15.348333333333331,27.281666666666666,null,{"$f":"'Combined Cycle Gas'!$D$8","v":318.30459770114948},{"$f":"Nuclear!$D$8","v":307.69444444444446},6.1091579999999999,5.1916666666666673,2.6999999999999997,14.111666666666666,6109158]
["2018-06-29",19,39.229999999999997,494,null,{"$f":"M4354","v":1.9750000000000003},29.058333333333334,27.495000000000001,null,{"$f":"'Combined Cycle Gas'!$D$8","v":318.30459770114948},{"$f":"Nuclear!$D$8","v":307.69444444444446},0.96018700000000001,3.3916666666666671,11.846666666666666,36.148333333333333,960187]
["2018-06-29",22,37.26,1751,null,{"$f":"M4357","v":15.228333333333333},2.1733333333333333,15.393333333333336,null,{"$f":"'Combined Cycle Gas'!$D$8","v":318.30459770114948},{"$f":"Nuclear!$D$8","v":307.69444444444446},0,14.299999999999999,15.348333333333331,27.281666666666666,0]
["2018-06-30",2,22.33,2513,null,{"$f":"M4361","v":2.2233333333333332},1.1199999999999999,4.796666666666666,null,{"$f":"'Combined Cycle Gas'!$D$8","v":318.30459770114948},{"$f":"Nuclear!$D$8","v":307.69444444444446},0,61.543333333333329,0.28499999999999998,35.813333333333333,0]
["2018-06-30",5,24.17,2808,null,{"$f":"M4364","v":0},6.1666666666666675E-2,0.16500000000000001,null,{"$f":"'Combined Cycle Gas'!$D$8","v":318.30459770114948},{"$f":"Nuclear!$D$8","v":307.69444444444446},0,14.299999999999999,5.3383333333333338,13.490000000000002,0]
["2018-06-30",10,29.76,467,null,{"$f":"M4369","v":7.4716666666666667},3.03,0.39666666666666667,null,{"$f":"'Combined Cycle Gas'!$D$8","v":318.30459770114948},{"$f":"Nuclear!$D$8","v":307.69444444444446},5.8215170000000001,0,4.3333333333333335E-2,0.13666666666666669,5821517]
["2018-06-30",13,36.18,1842,null,{"$f":"M4372","v":10.69},8.3466666666666658,10.475,null,{"$f":"'Combined Cycle Gas'!$D$8","v":318.30459770114948},{"$f":"Nuclear!$D$8","v":307.69444444444446},6.3759220000000001,0.10333333333333333,0.46666666666666673,0.22500000000000001,6375922]
["2018-06-30",16,37.5,1446,null,{"$f":"M4375","v":4.8166666666666664},7.0149999999999997,2.5083333333333333,null,{"$f":"'Combined Cycle Gas'!$D$8","v":318.30459770114948},{"$f":"Nuclear!$D$8","v":307.69444444444446},6.0119199999999999,7.4716666666666667,3.03,0.39666666666666667,6011920]
["2018-06-30",17,37.840000000000003,1446,null,{"$f":"M4376","v":13.238333333333335},15.521666666666667,2.42,null,{"$f":"'Combined Cycle Gas'!$D$8","v":318.30459770114948},{"$f":"Nuclear!$D$8","v":307.69444444444446},1.6446909999999999,22.45,18.309999999999999,1.7300000000000002,1644691]
["2018-06-30",20,27.05,2957,null,{"$f":"M4379","v":114.00166666666667},10.734999999999999,14.053333333333333,null,{"$f":"'Combined Cycle Gas'!$D$8","v":318.30459770114948},{"$f":"Nuclear!$D$8","v":307.69444444444446},0,12.788333333333334,8.6383333333333336,4.5049999999999999,0]
["2018-07-01",2,24.86,1919,null,{"$f":"M4385","v":5.7733333333333334},7.0233333333333334,14.425000000000002,null,{"$f":"'Combined Cycle Gas'!$D$8","v":318.30459770114948},{"$f":"Nuclear!$D$8","v":307.69444444444446},0,114.00166666666667,10.734999999999999,14.053333333333333,0]
["2018-07-01",4,20.87,2432,null,{"$f":"M4387","v":1.9883333333333333},2.2333333333333329,11.104999999999999,null,{"$f":"'Combined Cycle Gas'!$D$8","v":318.30459770114948},{"$f":"Nuclear!$D$8","v":307.69444444444446},0,27.381666666666664,6.3033333333333337,13.826666666666668,0]
["2018-07-01",7,24.5,2590,null,{"$f":"M4390","v":3.5400000000000005},3.4616666666666664,7.1183333333333332,null,{"$f":"'Combined Cycle Gas'!$D$8","v":318.30459770114948},{"$f":"Nuclear!$D$8","v":307.69444444444446},2.989906,6.4733333333333327,6.6149999999999993,32.68333333333333,2989906]
["2018-07-01",11,29.99,1543,null,{"$f":"M4394","v":2.9183333333333334},7.7833333333333323,3.2983333333333333,null,{"$f":"'Combined Cycle Gas'!$D$8","v":318.30459770114948},{"$f":"Nuclear!$D$8","v":307.69444444444446},6.0753339999999998,2.7733333333333334,2.7866666666666666,10.501666666666667,6075334]
["2018-07-01",14,38.74,563,null,{"$f":"M4397","v":13.936666666666666},13.183333333333332,38.744999999999997,null,{"$f":"'Combined Cycle Gas'!$D$8","v":318.30459770114948},{"$f":"Nuclear!$D$8","v":307.69444444444446},5.923038,6.41,4.03,8.2750000000000004,5923038]
["2018-07-01",17,33.86,1016,null,{"$f":"M4400","v":1.7833333333333332},64.25500000000001,30.476666666666663,null,{"$f":"'Combined Cycle Gas'!$D$8","v":318.30459770114948},{"$f":"Nuclear!$D$8","v":307.69444444444446},4.2012869999999998,2.9183333333333334,7.7833333333333323,3.2983333333333333,4201287]
["2018-07-01",18,28.47,1579,null,{"$f":"M4401","v":3.0216666666666669},16.981666666666666,26.999999999999996,null,{"$f":"'Combined Cycle Gas'!$D$8","v":318.30459770114948},{"$f":"Nuclear!$D$8","v":307.69444444444446},3.002993,7.6949999999999994,5.7950000000000008,5.0149999999999997,3002993]
["2018-07-01",23,28.86,1770,null,{"$f":"M4406","v":47.671666666666674},60.990000000000009,38.28,null,{"$f":"'Combined Cycle Gas'!$D$8","v":318.30459770114948},{"$f":"Nuclear!$D$8","v":307.69444444444446},0,1.7833333333333332,64.25500000000001,30.476666666666663,0]
["2018-07-02",2,24.89,2178,null,{"$f":"M4409","v":113.99833333333332},53.875,44.284999999999997,null,{"$f":"'Combined Cycle Gas'!$D$8","v":318.30459770114948},{"$f":"Nuclear!$D$8","v":307.69444444444446},0,8.5366666666666671,1.6333333333333335,23.790000000000003,0]
["2018-07-02",5,0.17,1860,null,{"$f":"M4412","v":50.813333333333333},41.713333333333331,23.069999999999997,null,{"$f":"'Combined Cycle Gas'!$D$8","v":318.30459770114948},{"$f":"Nuclear!$D$8","v":307.69444444444446},0,47.671666666666674,60.990000000000009,38.28,0]
["2018-07-02",8,32.96,373,null,{"$f":"M4415","v":94.71833333333332},13.118333333333332,30.188333333333333,null,{"$f":"'Combined Cycle Gas'!$D$8","v":318.30459770114948},{"$f":"Nuclear!$D$8","v":307.69444444444446},4.346285,113.99833333333332,53.875,44.284999999999997,4346285]
["2018-07-02",12,40.08,208,null,{"$f":"M4419","v":5.3},17.481666666666666,2.7816666666666663,null,{"$f":"'Combined Cycle Gas'!$D$8","v":318.30459770114948},{"$f":"Nuclear!$D$8","v":307.69444444444446},5.7553590000000003,20.993333333333336,16.426666666666666,29.988333333333333,5755359]
["2018-07-02",15,59.61,952,null,{"$f":"M4422","v":3.3633333333333333},6.2833333333333323,19.831666666666667,null,{"$f":"'Combined Cycle Gas'!$D$8","v":318.30459770114948},{"$f":"Nuclear!$D$8","v":307.69444444444446},2.3125330000000002,58.080000000000005,43.241666666666667,13.798333333333332,2312533]
["2018-07-02",18,43.36,794,null,{"$f":"M4425","v":3.4150000000000005},2.6950000000000003,2.2733333333333334,null,{"$f":"'Combined Cycle Gas'!$D$8","v":318.30459770114948},{"$f":"Nuclear!$D$8","v":307.69444444444446},1.308184,5.3,17.481666666666666,2.7816666666666663,1308184]
["2018-07-02",20,39.229999999999997,1717,null,{"$f":"M4427","v":2.8316666666666666},3.9833333333333329,12.143333333333333,null,{"$f":"'Combined Cycle Gas'!$D$8","v":318.30459770114948},{"$f":"Nuclear!$D$8","v":307.69444444444446},0,8.7983333333333338,5.1083333333333334,31.076666666666668,0]
["2018-07-02",23,25.51,2811,null,{"$f":"M4430","v":12.365},14.534999999999998,27.473333333333333,null,{"$f":"'Combined Cycle Gas'!$D$8","v":318.30459770114948},{"$f":"Nuclear!$D$8","v":307.69444444444446},0,3.3716666666666661,4.53,2.7300000000000004,0]
["2018-07-03",3,24.83,2743,null,{"$f":"M4434","v":2.41},10.339999999999998,11.838333333333333,null,{"$f":"'Combined Cycle Gas'!$D$8","v":318.30459770114948},{"$f":"Nuclear!$D$8","v":307.69444444444446},0,2.1816666666666666,11.38,19.131666666666664,0]
["2018-07-03",6,21.13,2188,null,{"$f":"M4437","v":46.99},21.484999999999999,17.448333333333334,null,{"$f":"'Combined Cycle Gas'!$D$8","v":318.30459770114948},{"$f":"Nuclear!$D$8","v":307.69444444444446},0.93370799999999998,22.954999999999998,13.088333333333333,26.786666666666665,933708]
["2018-07-03",9,39.19,328,null,{"$f":"M4440","v":13.265000000000002},5.8216666666666663,4.8266666666666671,null,{"$f":"'Combined Cycle Gas'!$D$8","v":318.30459770114948},{"$f":"Nuclear!$D$8","v":307.69444444444446},5.195443,2.41,10.339999999999998,11.838333333333333,5195443]
["2018-07-03",13,38.159999999999997,93,null,{"$f":"M4444","v":16.166666666666668},17.884999999999998,11.251666666666665,null,{"$f":"'Combined Cycle Gas'!$D$8","v":318.30459770114948},{"$f":"Nuclear!$D$8","v":307.69444444444446},5.7376620000000003,23.09,19.310000000000002,8.5499999999999989,5737662]
["2018-07-03",17,36.64,980,null,{"$f":"M4448","v":22.263333333333335},18.510000000000002,20.821666666666665,null,{"$f":"'Combined Cycle Gas'!$D$8","v":318.30459770114948},{"$f":"Nuclear!$D$8","v":307.69444444444446},4.4147239999999996,10.446666666666665,10.185,6.6333333333333337,4414724]
["2018-07-03",18,37.43,1011,null,{"$f":"M4449","v":21.988333333333333},17.453333333333333,8.1283333333333339,null,{"$f":"'Combined Cycle Gas'!$D$8","v":318.30459770114948},{"$f":"Nuclear!$D$8","v":307.69444444444446},2.369675,13.863333333333332,18.088333333333335,14.396666666666667,2369675]
["2018-07-03",21,28.29,2390,null,{"$f":"M4452","v":28.183333333333337},27.423333333333336,9.6000000000000014,null,{"$f":"'Combined Cycle Gas'!$D$8","v":318.30459770114948},{"$f":"Nuclear!$D$8","v":307.69444444444446},0,17.143333333333334,7.45,54.603333333333332,0]
["2018-07-03",24,19.37,2664,null,{"$f":"M4455","v":54.5},14.561666666666667,31.518333333333334,null,{"$f":"'Combined Cycle Gas'!$D$8","v":318.30459770114948},{"$f":"Nuclear!$D$8","v":307.69444444444446},0,21.988333333333333,17.453333333333333,8.1283333333333339,0]
["2018-07-04",4,24.27,2744,null,{"$f":"M4459","v":38.181666666666665},13.823333333333336,10.365,null,{"$f":"'Combined Cycle Gas'!$D$8","v":318.30459770114948},{"$f":"Nuclear!$D$8","v":307.69444444444446},0,28.125,28.531666666666666,11.513333333333334,0]
["2018-07-04",7,29.87,1092,null,{"$f":"M4462","v":5.2},3.3383333333333334,2.8483333333333332,null,{"$f":"'Combined Cycle Gas'!$D$8","v":318.30459770114948},{"$f":"Nuclear!$D$8","v":307.69444444444446},3.4585300000000001,68.353333333333339,18.046666666666663,49.00333333333333,3458530]
["2018-07-04",10,38.119999999999997,323,null,{"$f":"M4465","v":17.16},3.8933333333333331,10.335000000000001,null,{"$f":"'Combined Cycle Gas'!$D$8","v":318.30459770114948},{"$f":"Nuclear!$D$8","v":307.69444444444446},6.3265039999999999,38.181666666666665,13.823333333333336,10.365,6326504]
["2018-07-04",14,39.4,691,null,{"$f":"M4469","v":34.478333333333332},21.186666666666667,17.224999999999998,null,{"$f":"'Combined Cycle Gas'!$D$8","v":318.30459770114948},{"$f":"Nuclear!$D$8","v":307.69444444444446},6.0614020000000002,2.8566666666666669,3.33,2.9850000000000008,6061402]
["2018-07-04",18,37.909999999999997,1729,null,{"$f":"M4473","v":19.508333333333333},12.593333333333334,3.8416666666666663,null,{"$f":"'Combined Cycle Gas'!$D$8","v":318.30459770114948},{"$f":"Nuclear!$D$8","v":307.69444444444446},3.4070339999999999,15.761666666666665,20.003333333333334,27.959999999999997,3407034]
["2018-07-04",19,34.46,1903,null,{"$f":"M4474","v":39.774999999999999},22.466666666666669,8.6566666666666663,null,{"$f":"'Combined Cycle Gas'!$D$8","v":318.30459770114948},{"$f":"Nuclear!$D$8","v":307.69444444444446},1.002534,26.360000000000003,26.143333333333334,17.803333333333335,1002534]
["2018-07-04",22,33.39,2943,null,{"$f":"M4477","v":45.516666666666673},37.341666666666661,27.23,null,{"$f":"'Combined Cycle Gas'!$D$8","v":318.30459770114948},{"$f":"Nuclear!$D$8","v":307.69444444444446},0,22.593333333333334,17.336666666666666,23.545000000000002,0]
["2018-07-05",1,27.24,2695,null,{"$f":"M4480","v":5.4750000000000005},6.0200000000000005,41.338333333333338,null,{"$f":"'Combined Cycle Gas'!$D$8","v":318.30459770114948},{"$f":"Nuclear!$D$8","v":307.69444444444446},0,39.774999999999999,22.466666666666669,8.6566666666666663,0]
["2018-07-05",5,0.08,1649,null,{"$f":"M4484","v":36.616666666666667},14.128333333333332,9.9283333333333346,null,{"$f":"'Combined Cycle Gas'!$D$8","v":318.30459770114948},{"$f":"Nuclear!$D$8","v":307.69444444444446},0,40.65,18.665000000000003,55.093333333333334,0]
["2018-07-05",8,27.26,1382,null,{"$f":"M4487","v":2.25},2.8783333333333334,4.3316666666666661,null,{"$f":"'Combined Cycle Gas'!$D$8","v":318.30459770114948},{"$f":"Nuclear!$D$8","v":307.69444444444446},4.7239019999999998,2.9966666666666666,5.8866666666666667,31.294999999999998,4723902]
["2018-07-05",11,39.22,18,null,{"$f":"M4490","v":2.6100000000000003},28.268333333333331,3.4516666666666667,null,{"$f":"'Combined Cycle Gas'!$D$8","v":318.30459770114948},{"$f":"Nuclear!$D$8","v":307.69444444444446},5.2255919999999998,36.616666666666667,14.128333333333332,9.9283333333333346,5225592]
["2018-07-05",16,37.57,1174,null,{"$f":"M4495","v":10.335000000000001},8.3349999999999991,7.1116666666666672,null,{"$f":"'Combined Cycle Gas'!$D$8","v":318.30459770114948},{"$f":"Nuclear!$D$8","v":307.69444444444446},2.5532539999999999,8.61,27.718333333333337,7.4466666666666654,2553254]
["2018-07-05",19,38.659999999999997,983,null,{"$f":"M4498","v":14.528333333333331},18.588333333333331,4.6083333333333334,null,{"$f":"'Combined Cycle Gas'!$D$8","v":318.30459770114948},{"$f":"Nuclear!$D$8","v":307.69444444444446},5.0221000000000002E-2,3.4116666666666666,17.808333333333334,5.0633333333333335,50221]
["2018-07-05",20,39.130000000000003,1538,null,{"$f":"M4499","v":21.668333333333333},12.625,3.6866666666666661,null,{"$f":"'Combined Cycle Gas'!$D$8","v":318.30459770114948},{"$f":"Nuclear!$D$8","v":307.69444444444446},0,3.9716666666666662,13.558333333333332,3.8649999999999998,0]
["2018-07-05",23,36.57,1204,null,{"$f":"M4502","v":12.636666666666668},2.0150000000000001,61.87833333333333,null,{"$f":"'Combined Cycle Gas'!$D$8","v":318.30459770114948},{"$f":"Nuclear!$D$8","v":307.69444444444446},0,5.6616666666666662,8.9283333333333328,8.2716666666666665,0]
["2018-07-06",2,25.31,2022,null,{"$f":"M4505","v":67.001666666666665},25.166666666666668,42.798333333333339,null,{"$f":"'Combined Cycle Gas'!$D$8","v":318.30459770114948},{"$f":"Nuclear!$D$8","v":307.69444444444446},0,21.668333333333333,12.625,3.6866666666666661,0]
["2018-07-06",8,33.770000000000003,90,null,{"$f":"M4511","v":14.536666666666664},4.961666666666666,19.664999999999996,null,{"$f":"'Combined Cycle Gas'!$D$8","v":318.30459770114948},{"$f":"Nuclear!$D$8","v":307.69444444444446},4.7237559999999998,67.001666666666665,25.166666666666668,42.798333333333339,4723756]
["2018-07-06",10,39.200000000000003,0,null,{"$f":"M4513","v":8.9799999999999986},5.8033333333333337,4.0949999999999998,null,{"$f":"'Combined Cycle Gas'!$D$8","v":318.30459770114948},{"$f":"Nuclear!$D$8","v":307.69444444444446},5.3204260000000003,38.891666666666666,24.899999999999995,44.47,5320426]
["2018-07-06",14,39.32,0,null,{"$f":"M4517","v":40.574999999999996},31.073333333333334,13.195,null,{"$f":"'Combined Cycle Gas'!$D$8","v":318.30459770114948},{"$f":"Nuclear!$D$8","v":307.69444444444446},5.7484289999999998,14.536666666666664,4.961666666666666,19.664999999999996,5748429]
["2018-07-06",17,35.42,123,null,{"$f":"M4520","v":81.174999999999997},46.318333333333328,30.055000000000003,null,{"$f":"'Combined Cycle Gas'!$D$8","v":318.30459770114948},{"$f":"Nuclear!$D$8","v":307.69444444444446},4.2806040000000003,18.671666666666663,13.420000000000002,4.3766666666666669,4280604]
["2018-07-06",20,40.479999999999997,78,null,{"$f":"M4523","v":100.39666666666666},75.463333333333324,74.668333333333337,null,{"$f":"'Combined Cycle Gas'!$D$8","v":318.30459770114948},{"$f":"Nuclear!$D$8","v":307.69444444444446},0,40.574999999999996,31.073333333333334,13.195,0]
["2018-07-06",21,39.19,823,null,{"$f":"M4524","v":95.564999999999998},80.19,73.271666666666661,null,{"$f":"'Combined Cycle Gas'!$D$8","v":318.30459770114948},{"$f":"Nuclear!$D$8","v":307.69444444444446},0,51.428333333333335,36.033333333333339,22.658333333333331,0]
["2018-07-06",24,27.28,337,null,{"$f":"M4527","v":101.265},76.048333333333332,83.346666666666678,null,{"$f":"'Combined Cycle Gas'!$D$8","v":318.30459770114948},{"$f":"Nuclear!$D$8","v":307.69444444444446},0,86.44,58.741666666666667,44.15,0]
["2018-07-07",5,27.22,56,null,{"$f":"M4532","v":128.5616666666667},92.056666666666672,77.855000000000004,null,{"$f":"'Combined Cycle Gas'!$D$8","v":318.30459770114948},{"$f":"Nuclear!$D$8","v":307.69444444444446},0,102.32833333333333,70.908333333333317,87.768333333333317,0]
["2018-07-07",8,25.8,989,null,{"$f":"M4535","v":20.779999999999998},14.283333333333333,27.591666666666669,null,{"$f":"'Combined Cycle Gas'!$D$8","v":318.30459770114948},{"$f":"Nuclear!$D$8","v":307.69444444444446},1.541023,114.64666666666666,72.265000000000001,68.61,1541023]
["2018-07-07",11,30.97,1499,null,{"$f":"M4538","v":0},0.76999999999999991,0.43333333333333329,null,{"$f":"'Combined Cycle Gas'!$D$8","v":318.30459770114948},{"$f":"Nuclear!$D$8","v":307.69444444444446},6.012918,128.5616666666667,92.056666666666672,77.855000000000004,6012918]
["2018-07-07",15,49.32,752,null,{"$f":"M4542","v":14.111666666666666},11.854999999999999,11.436666666666667,null,{"$f":"'Combined Cycle Gas'!$D$8","v":318.30459770114948},{"$f":"Nuclear!$D$8","v":307.69444444444446},5.994891,0.26,0,3.6649999999999996,5994891]
["2018-07-07",18,53.55,699,null,{"$f":"M4545","v":8.2550000000000008},10.180000000000001,16.414999999999996,null,{"$f":"'Combined Cycle Gas'!$D$8","v":318.30459770114948},{"$f":"Nuclear!$D$8","v":307.69444444444446},2.4399929999999999,1.2683333333333333,2.2483333333333335,2.0133333333333332,2439993]
["2018-07-07",21,40.340000000000003,45,null,{"$f":"M4548","v":12.565},1.135,24.041666666666668,null,{"$f":"'Combined Cycle Gas'!$D$8","v":318.30459770114948},{"$f":"Nuclear!$D$8","v":307.69444444444446},0,14.111666666666666,11.854999999999999,11.436666666666667,0]
["2018-07-07",22,40.79,45,null,{"$f":"M4549","v":28.506666666666664},5.1783333333333337,20.131666666666664,null,{"$f":"'Combined Cycle Gas'!$D$8","v":318.30459770114948},{"$f":"Nuclear!$D$8","v":307.69444444444446},0,19.509999999999998,11.941666666666668,10.68,0]
["2018-07-08",2,25.95,1282,null,{"$f":"M4553","v":38.763333333333335},25.043333333333333,41.858333333333327,null,{"$f":"'Combined Cycle Gas'!$D$8","v":318.30459770114948},{"$f":"Nuclear!$D$8","v":307.69444444444446},0,18.275000000000002,2.5933333333333333,27.998333333333335,0]
["2018-07-08",6,25.36,1164,null,{"$f":"M4557","v":96.625},70.36,10.419999999999998,null,{"$f":"'Combined Cycle Gas'!$D$8","v":318.30459770114948},{"$f":"Nuclear!$D$8","v":307.69444444444446},1.0641339999999999,35.126666666666665,9.1850000000000005,45.071666666666665,1064134]
["2018-07-08",9,27.9,994,null,{"$f":"M4560","v":16.811666666666671},18.145,11.816666666666665,null,{"$f":"'Combined Cycle Gas'!$D$8","v":318.30459770114948},{"$f":"Nuclear!$D$8","v":307.69444444444446},6.0623189999999996,39.225000000000001,38.298333333333332,25.508333333333336,6062319]
["2018-07-08",12,39.130000000000003,278,null,{"$f":"M4563","v":8.8983333333333334},5.84,10.288333333333332,null,{"$f":"'Combined Cycle Gas'!$D$8","v":318.30459770114948},{"$f":"Nuclear!$D$8","v":307.69444444444446},6.3021120000000002,96.625,70.36,10.419999999999998,6302112]
["2018-07-08",16,40.68,918,null,{"$f":"M4567","v":7.3549999999999995},5.4899999999999993,6.4516666666666671,null,{"$f":"'Combined Cycle Gas'!$D$8","v":318.30459770114948},{"$f":"Nuclear!$D$8","v":307.69444444444446},5.5367059999999997,8.7666666666666657,9.0183333333333326,8.6216666666666679,5536706]
["2018-07-08",19,40.78,958,null,{"$f":"M4570","v":12.916666666666666},10.651666666666667,5.4850000000000003,null,{"$f":"'Combined Cycle Gas'!$D$8","v":318.30459770114948},{"$f":"Nuclear!$D$8","v":307.69444444444446},6.5578999999999998E-2,7.6516666666666673,5.833333333333333,6.2583333333333337,65579]
["2018-07-08",23,29.45,1415,null,{"$f":"M4574","v":21.458333333333332},30.701666666666668,16.760000000000002,null,{"$f":"'Combined Cycle Gas'!$D$8","v":318.30459770114948},{"$f":"Nuclear!$D$8","v":307.69444444444446},0,26.491666666666664,5.2366666666666664,5.7349999999999994,0]
["2018-07-08",24,27.48,1003,null,{"$f":"M4575","v":19.455000000000002},27.209999999999997,38.284999999999997,null,{"$f":"'Combined Cycle Gas'!$D$8","v":318.30459770114948},{"$f":"Nuclear!$D$8","v":307.69444444444446},0,25.78,10.461666666666666,5.4116666666666662,0]
["2018-07-09",3,26.06,1440,null,{"$f":"M4578","v":40.664999999999999},31.805000000000003,36.936666666666667,null,{"$f":"'Combined Cycle Gas'!$D$8","v":318.30459770114948},{"$f":"Nuclear!$D$8","v":307.69444444444446},0,9.9383333333333344,14.296666666666669,7.8966666666666674,0]
["2018-07-09",7,24.85,2139,null,{"$f":"M4582","v":50.641666666666659},52.374999999999993,33.119999999999997,null,{"$f":"'Combined Cycle Gas'!$D$8","v":318.30459770114948},{"$f":"Nuclear!$D$8","v":307.69444444444446},3.8564090000000002,14.486666666666666,21.32,35.876666666666665,3856409]
["2018-07-09",10,32.299999999999997,2153,null,{"$f":"M4585","v":36.808333333333337},54.76,29.593333333333334,null,{"$f":"'Combined Cycle Gas'!$D$8","v":318.30459770114948},{"$f":"Nuclear!$D$8","v":307.69444444444446},{"$f":"P4579/10^6","v":6.201695},77.888333333333335,50.543333333333329,37.311666666666667,6201695]
["2018-07-09",13,41.51,1612,null,{"$f":"M4588","v":32.059999999999995},22.20333333333333,31.543333333333333,null,{"$f":"'Combined Cycle Gas'!$D$8","v":318.30459770114948},{"$f":"Nuclear!$D$8","v":307.69444444444446},6.2190620000000001,50.641666666666659,52.374999999999993,33.119999999999997,6219062]
["2018-07-09",17,39.94,2410,null,{"$f":"M4592","v":25.49666666666667},25.468333333333334,21.669999999999998,null,{"$f":"'Combined Cycle Gas'!$D$8","v":318.30459770114948},{"$f":"Nuclear!$D$8","v":307.69444444444446},5.38368,39.893333333333338,36.005000000000003,22.263333333333332,5383680]
["2018-07-09",20,39.270000000000003,3006,null,{"$f":"M4595","v":78.715000000000003},53.835000000000001,62.13,null,{"$f":"'Combined Cycle Gas'!$D$8","v":318.30459770114948},{"$f":"Nuclear!$D$8","v":307.69444444444446},0,35.311666666666667,20.780000000000005,20.895,0]
["2018-07-09",24,26.62,2137,null,{"$f":"M4599","v":86.146666666666647},64.83,74.930000000000021,null,{"$f":"'Combined Cycle Gas'!$D$8","v":318.30459770114948},{"$f":"Nuclear!$D$8","v":307.69444444444446},0,31.048333333333332,46.708333333333336,19.294999999999998,0]
["2018-07-10",1,27.89,2473,null,{"$f":"M4600","v":79.446666666666658},54.533333333333331,77.605000000000004,null,{"$f":"'Combined Cycle Gas'!$D$8","v":318.30459770114948},{"$f":"Nuclear!$D$8","v":307.69444444444446},0,57.125,42.225000000000001,30.761666666666667,0]
["2018-07-10",4,26.36,2140,null,{"$f":"M4603","v":84.001666666666665},37.94,55.123333333333335,null,{"$f":"'Combined Cycle Gas'!$D$8","v":318.30459770114948},{"$f":"Nuclear!$D$8","v":307.69444444444446},0,101.38166666666666,87.013333333333335,75.821666666666673,0]
["2018-07-10",8,27.13,2048,null,{"$f":"M4607","v":50.933333333333337},51.164999999999999,21.31,null,{"$f":"'Combined Cycle Gas'!$D$8","v":318.30459770114948},{"$f":"Nuclear!$D$8","v":307.69444444444446},4.4557149999999996,74.033333333333346,42.381666666666668,66.884999999999991,4455715]
["2018-07-10",11,42.13,1473,null,{"$f":"M4610","v":81.366666666666674},45.708333333333336,12.243333333333334,null,{"$f":"'Combined Cycle Gas'!$D$8","v":318.30459770114948},{"$f":"Nuclear!$D$8","v":307.69444444444446},6.0186359999999999,90.301666666666677,53.866666666666667,47.150000000000006,6018636]
["2018-07-10",13,43.2,83,null,{"$f":"M4612","v":30.011666666666667},32.978333333333332,12.454999999999998,null,{"$f":"'Combined Cycle Gas'!$D$8","v":318.30459770114948},{"$f":"Nuclear!$D$8","v":307.69444444444446},6.2662129999999996,65.641666666666666,50.913333333333334,26.995000000000001,6266213]
["2018-07-10",19,44.53,998,null,{"$f":"M4618","v":10.616666666666667},27.946666666666662,24.614999999999998,null,{"$f":"'Combined Cycle Gas'!$D$8","v":318.30459770114948},{"$f":"Nuclear!$D$8","v":307.69444444444446},9.1000000000000003E-5,30.011666666666667,32.978333333333332,12.454999999999998,91]
["2018-07-10",22,66.36,597,null,{"$f":"M4621","v":44.890000000000008},40.486666666666672,44.905000000000001,null,{"$f":"'Combined Cycle Gas'!$D$8","v":318.30459770114948},{"$f":"Nuclear!$D$8","v":307.69444444444446},0,18.475000000000001,39.673333333333332,12.913333333333334,0]
["2018-07-10",23,41.25,1425,null,{"$f":"M4622","v":111.81333333333333},79.603333333333339,51.848333333333336,null,{"$f":"'Combined Cycle Gas'!$D$8","v":318.30459770114948},{"$f":"Nuclear!$D$8","v":307.69444444444446},0,13.78,36.585000000000001,23.988333333333333,0]
["2018-07-11",2,31.42,1786,null,{"$f":"M4625","v":124.35166666666667},108.48666666666666,97.490000000000009,null,{"$f":"'Combined Cycle Gas'!$D$8","v":318.30459770114948},{"$f":"Nuclear!$D$8","v":307.69444444444446},0,17.84333333333333,23.87,32.803333333333335,0]
["2018-07-11",5,20.41,1785,null,{"$f":"M4628","v":120.66166666666668},109.44333333333334,103.81666666666666,null,{"$f":"'Combined Cycle Gas'!$D$8","v":318.30459770114948},{"$f":"Nuclear!$D$8","v":307.69444444444446},0,111.81333333333333,79.603333333333339,51.848333333333336,0]
["2018-07-11",9,40.43,288,null,{"$f":"M4632","v":47.536666666666662},63.568333333333328,52.935000000000002,null,{"$f":"'Combined Cycle Gas'!$D$8","v":318.30459770114948},{"$f":"Nuclear!$D$8","v":307.69444444444446},1.765692,118.83499999999999,105.10666666666667,98.836666666666659,1765692]
["2018-07-11",14,56.55,0,null,{"$f":"M4637","v":15.063333333333333},37.126666666666665,27.263333333333332,null,{"$f":"'Combined Cycle Gas'!$D$8","v":318.30459770114948},{"$f":"Nuclear!$D$8","v":307.69444444444446},6.0511549999999996,60.451666666666675,50.571666666666665,55.283333333333331,6051155]
["2018-07-11",16,62.57,435,null,{"$f":"M4639","v":13.898333333333333},33.216666666666669,35.206666666666671,null,{"$f":"'Combined Cycle Gas'!$D$8","v":318.30459770114948},{"$f":"Nuclear!$D$8","v":307.69444444444446},5.3734890000000002,33.596666666666664,71.701666666666668,41.796666666666667,5373489]
["2018-07-11",20,42.02,2166,null,{"$f":"M4643","v":41.696666666666673},53.311666666666667,67.67,null,{"$f":"'Combined Cycle Gas'!$D$8","v":318.30459770114948},{"$f":"Nuclear!$D$8","v":307.69444444444446},0,15.063333333333333,37.126666666666665,27.263333333333332,0]
["2018-07-11",23,40.31,1904,null,{"$f":"M4646","v":107.56833333333334},96.214999999999989,91.498333333333335,null,{"$f":"'Combined Cycle Gas'!$D$8","v":318.30459770114948},{"$f":"Nuclear!$D$8","v":307.69444444444446},0,21.27,39.961666666666673,43.066666666666663,0]
["2018-07-11",24,37.06,2035,null,{"$f":"M4647","v":103.61500000000001},90.413333333333341,90.50333333333333,null,{"$f":"'Combined Cycle Gas'!$D$8","v":318.30459770114948},{"$f":"Nuclear!$D$8","v":307.69444444444446},0,32.774999999999999,39.54,50.705000000000005,0]
["2018-07-12",3,34.21,1154,null,{"$f":"M4650","v":97.908333333333346},92.456666666666663,85.046666666666667,null,{"$f":"'Combined Cycle Gas'!$D$8","v":318.30459770114948},{"$f":"Nuclear!$D$8","v":307.69444444444446},0,79.176666666666662,85.011666666666656,89.771666666666661,0]
["2018-07-12",6,25.88,2155,null,{"$f":"M4653","v":89.235000000000014},88.796666666666667,77.204999999999998,null,{"$f":"'Combined Cycle Gas'!$D$8","v":318.30459770114948},{"$f":"Nuclear!$D$8","v":307.69444444444446},2.7014E-2,103.61500000000001,90.413333333333341,90.50333333333333,27014]
["2018-07-12",11,56.43,22,null,{"$f":"M4658","v":18.515000000000001},40.578333333333333,15.243333333333334,null,{"$f":"'Combined Cycle Gas'!$D$8","v":318.30459770114948},{"$f":"Nuclear!$D$8","v":307.69444444444446},5.3843610000000002,96.781666666666652,93.853333333333339,87.723333333333343,5384361]
["2018-07-12",14,52.84,0,null,{"$f":"M4661","v":6.706666666666667},28.383333333333336,47.75333333333333,null,{"$f":"'Combined Cycle Gas'!$D$8","v":318.30459770114948},{"$f":"Nuclear!$D$8","v":307.69444444444446},5.5043379999999997,20.235000000000003,27.048333333333332,34.931666666666665,5504338]
["2018-07-12",17,44.07,697,null,{"$f":"M4664","v":26.831666666666667},22.186666666666667,19.653333333333332,null,{"$f":"'Combined Cycle Gas'!$D$8","v":318.30459770114948},{"$f":"Nuclear!$D$8","v":307.69444444444446},5.0855119999999996,18.515000000000001,40.578333333333333,15.243333333333334,5085512]
["2018-07-12",21,41.96,565,null,{"$f":"M4668","v":56.883333333333333},52.144999999999989,52.97,null,{"$f":"'Combined Cycle Gas'!$D$8","v":318.30459770114948},{"$f":"Nuclear!$D$8","v":307.69444444444446},0,6.2233333333333336,31.536666666666672,19.588333333333335,0]
["2018-07-12",24,25.05,530,null,{"$f":"M4671","v":109.00833333333334},82.673333333333332,83.63666666666667,null,{"$f":"'Combined Cycle Gas'!$D$8","v":318.30459770114948},{"$f":"Nuclear!$D$8","v":307.69444444444446},0,24.463333333333328,18.968333333333334,19.008333333333333,0]
["2018-07-13",1,27.38,1223,null,{"$f":"M4672","v":105.88499999999999},86.611666666666679,85.413333333333341,null,{"$f":"'Combined Cycle Gas'!$D$8","v":318.30459770114948},{"$f":"Nuclear!$D$8","v":307.69444444444446},0,41.963333333333331,27.631666666666664,25.018333333333331,0]
["2018-07-13",4,24.8,1509,null,{"$f":"M4675","v":90.444999999999993},71.654999999999987,71.425000000000011,null,{"$f":"'Combined Cycle Gas'!$D$8","v":318.30459770114948},{"$f":"Nuclear!$D$8","v":307.69444444444446},0,72.323333333333338,65.548333333333332,72.75500000000001,0]
["2018-07-13",8,29.23,0,null,{"$f":"M4679","v":7.0283333333333333},10.138333333333334,10.075000000000001,null,{"$f":"'Combined Cycle Gas'!$D$8","v":318.30459770114948},{"$f":"Nuclear!$D$8","v":307.69444444444446},4.1640779999999999,101.86166666666666,88.53166666666668,86.481666666666669,4164078]
["2018-07-13",12,42.04,0,null,{"$f":"M4683","v":26.263333333333335},21.533333333333331,22.941666666666666,null,{"$f":"'Combined Cycle Gas'!$D$8","v":318.30459770114948},{"$f":"Nuclear!$D$8","v":307.69444444444446},5.2298340000000003,47.12,49.348333333333336,48.326666666666675,5229834]
["2018-07-13",15,66.010000000000005,301,null,{"$f":"M4686","v":20.898333333333333},15.958333333333334,20.628333333333334,null,{"$f":"'Combined Cycle Gas'!$D$8","v":318.30459770114948},{"$f":"Nuclear!$D$8","v":307.69444444444446},5.3079179999999999,13.984999999999999,7.830000000000001,7.080000000000001,5307918]
["2018-07-13",19,40.76,1380,null,{"$f":"M4690","v":61.368333333333332},48.386666666666663,7.665,null,{"$f":"'Combined Cycle Gas'!$D$8","v":318.30459770114948},{"$f":"Nuclear!$D$8","v":307.69444444444446},0.18210000000000001,41.535000000000004,24.650000000000002,23.271666666666665,182100]
["2018-07-13",22,39.119999999999997,0,null,{"$f":"M4693","v":65.644999999999996},51.306666666666665,17.294999999999998,null,{"$f":"'Combined Cycle Gas'!$D$8","v":318.30459770114948},{"$f":"Nuclear!$D$8","v":307.69444444444446},0,19.436666666666667,20.701666666666668,6.0066666666666668,0]
["2018-07-14",1,27.49,777,null,{"$f":"M4696","v":74.666666666666643},51.221666666666671,39.645000000000003,null,{"$f":"'Combined Cycle Gas'!$D$8","v":318.30459770114948},{"$f":"Nuclear!$D$8","v":307.69444444444446},0,61.368333333333332,48.386666666666663,7.665,0]
["2018-07-14",5,26.4,167,null,{"$f":"M4700","v":42.63},27.011666666666667,28.501666666666665,null,{"$f":"'Combined Cycle Gas'!$D$8","v":318.30459770114948},{"$f":"Nuclear!$D$8","v":307.69444444444446},0,71.561666666666667,45.238333333333337,42.028333333333329,0]
["2018-07-14",6,27.12,216,null,{"$f":"M4701","v":46.68},21.400000000000002,25.324999999999999,null,{"$f":"'Combined Cycle Gas'!$D$8","v":318.30459770114948},{"$f":"Nuclear!$D$8","v":307.69444444444446},4.1370000000000001E-3,73.956666666666663,43.666666666666664,42.125,4137]
["2018-07-14",9,29.18,126,null,{"$f":"M4704","v":49.585000000000001},35.746666666666663,9.7850000000000019,null,{"$f":"'Combined Cycle Gas'!$D$8","v":318.30459770114948},{"$f":"Nuclear!$D$8","v":307.69444444444446},5.382898,66.416666666666671,39.175000000000004,23.044999999999998,5382898]
["2018-07-14",13,40.020000000000003,0,null,{"$f":"M4708","v":21.5},24.071666666666669,31.83666666666667,null,{"$f":"'Combined Cycle Gas'!$D$8","v":318.30459770114948},{"$f":"Nuclear!$D$8","v":307.69444444444446},6.0377200000000002,33.050000000000004,17.893333333333334,19.903333333333332,6037720]
["2018-07-14",16,52.16,62,null,{"$f":"M4711","v":20.006666666666668},23.081666666666667,39.156666666666666,null,{"$f":"'Combined Cycle Gas'!$D$8","v":318.30459770114948},{"$f":"Nuclear!$D$8","v":307.69444444444446},5.3100079999999998,27.935000000000002,49.53,11.258333333333333,5310008]
["2018-07-14",20,39.24,868,null,{"$f":"M4715","v":16.904999999999998},32.086666666666666,26.141666666666666,null,{"$f":"'Combined Cycle Gas'!$D$8","v":318.30459770114948},{"$f":"Nuclear!$D$8","v":307.69444444444446},0,16.713333333333335,15.818333333333333,31.008333333333329,0]
["2018-07-14",22,25.25,2382,null,{"$f":"M4717","v":82.846666666666678},73.181666666666686,59.19166666666667,null,{"$f":"'Combined Cycle Gas'!$D$8","v":318.30459770114948},{"$f":"Nuclear!$D$8","v":307.69444444444446},0,20.006666666666668,23.081666666666667,39.156666666666666,0]
["2018-07-15",3,23.31,2673,null,{"$f":"M4722","v":9.0083333333333346},20.828333333333333,65.191666666666677,null,{"$f":"'Combined Cycle Gas'!$D$8","v":318.30459770114948},{"$f":"Nuclear!$D$8","v":307.69444444444446},0,52.786666666666669,53.648333333333333,40.651666666666671,0]
["2018-07-15",4,24.17,2671,null,{"$f":"M4723","v":8.6566666666666681},14.606666666666664,46.896666666666668,null,{"$f":"'Combined Cycle Gas'!$D$8","v":318.30459770114948},{"$f":"Nuclear!$D$8","v":307.69444444444446},0,82.846666666666678,73.181666666666686,59.19166666666667,0]
["2018-07-15",7,27.16,1199,null,{"$f":"M4726","v":10},8.2816666666666663,6.286666666666668,null,{"$f":"'Combined Cycle Gas'!$D$8","v":318.30459770114948},{"$f":"Nuclear!$D$8","v":307.69444444444446},3.347874,44.88,60.973333333333336,37.173333333333332,3347874]
["2018-07-15",11,30.57,773,null,{"$f":"M4730","v":10.871666666666668},12.473333333333334,12.871666666666664,null,{"$f":"'Combined Cycle Gas'!$D$8","v":318.30459770114948},{"$f":"Nuclear!$D$8","v":307.69444444444446},6.0434359999999998,9.1966666666666672,11.923333333333332,29.188333333333333,6043436]
["2018-07-15",14,40.57,0,null,{"$f":"M4733","v":25.698333333333334},18.666666666666668,25.876666666666665,null,{"$f":"'Combined Cycle Gas'!$D$8","v":318.30459770114948},{"$f":"Nuclear!$D$8","v":307.69444444444446},6.05809,13.703333333333333,8.3083333333333318,6.3433333333333328,6058090]
["2018-07-15",17,52.91,24,null,{"$f":"M4736","v":27.315000000000001},22.713333333333335,23.281666666666666,null,{"$f":"'Combined Cycle Gas'!$D$8","v":318.30459770114948},{"$f":"Nuclear!$D$8","v":307.69444444444446},4.6246809999999998,10.871666666666668,12.473333333333334,12.871666666666664,4624681]
["2018-07-15",19,40.090000000000003,314,null,{"$f":"M4738","v":27.365000000000006},27.708333333333332,13.161666666666667,null,{"$f":"'Combined Cycle Gas'!$D$8","v":318.30459770114948},{"$f":"Nuclear!$D$8","v":307.69444444444446},1.1925619999999999,19.39,36.221666666666671,26.331666666666667,1192562]
["2018-07-16",1,33.31,1535,null,{"$f":"M4744","v":10.451666666666666},7.9833333333333334,50.448333333333331,null,{"$f":"'Combined Cycle Gas'!$D$8","v":318.30459770114948},{"$f":"Nuclear!$D$8","v":307.69444444444446},0,27.365000000000006,27.708333333333332,13.161666666666667,0]
["2018-07-16",4,32.770000000000003,870,null,{"$f":"M4747","v":6.1449999999999996},6.8983333333333334,45.768333333333324,null,{"$f":"'Combined Cycle Gas'!$D$8","v":318.30459770114948},{"$f":"Nuclear!$D$8","v":307.69444444444446},0,53.386666666666663,17.364999999999998,7.7049999999999992,0]
["2018-07-16",5,27.32,332,null,{"$f":"M4748","v":6.6983333333333333},6.9016666666666664,34.893333333333338,null,{"$f":"'Combined Cycle Gas'!$D$8","v":318.30459770114948},{"$f":"Nuclear!$D$8","v":307.69444444444446},0,29.986666666666661,24.936666666666667,8.0533333333333328,0]
["2018-07-16",8,38.130000000000003,221,null,{"$f":"M4751","v":6.041666666666667},6.6533333333333333,4.3033333333333337,null,{"$f":"'Combined Cycle Gas'!$D$8","v":318.30459770114948},{"$f":"Nuclear!$D$8","v":307.69444444444446},2.5302920000000002,6.0383333333333331,7.0533333333333319,45.123333333333335,2530292]
["2018-07-16",12,55.78,326,null,{"$f":"M4755","v":12.786666666666667},18.131666666666664,4.2083333333333348,null,{"$f":"'Combined Cycle Gas'!$D$8","v":318.30459770114948},{"$f":"Nuclear!$D$8","v":307.69444444444446},5.64377,5.94,8.4416666666666664,27.248333333333335,5643770]
["2018-07-16",15,52.07,718,null,{"$f":"M4758","v":31.536666666666665},16.55,4.7233333333333336,null,{"$f":"'Combined Cycle Gas'!$D$8","v":318.30459770114948},{"$f":"Nuclear!$D$8","v":307.69444444444446},5.064254,5.995000000000001,6.5183333333333335,4.3049999999999997,5064254]
["2018-07-16",20,40,1003,null,{"$f":"M4763","v":47.886666666666677},24.991666666666664,24.823333333333334,null,{"$f":"'Combined Cycle Gas'!$D$8","v":318.30459770114948},{"$f":"Nuclear!$D$8","v":307.69444444444446},0,24.074999999999999,13.151666666666666,4.9966666666666661,0]
["2018-07-16",23,39.200000000000003,301,null,{"$f":"M4766","v":33.873333333333335},28.086666666666673,29.088333333333335,null,{"$f":"'Combined Cycle Gas'!$D$8","v":318.30459770114948},{"$f":"Nuclear!$D$8","v":307.69444444444446},0,30.708333333333332,11.371666666666664,9.2183333333333337,0]
["2018-07-17",2,24.96,1603,null,{"$f":"M4769","v":122.39666666666666},63.736666666666672,54.146666666666668,null,{"$f":"'Combined Cycle Gas'!$D$8","v":318.30459770114948},{"$f":"Nuclear!$D$8","v":307.69444444444446},0,47.886666666666677,24.991666666666664,24.823333333333334,0]
["2018-07-17",5,21.9,110,null,{"$f":"M4772","v":139.82499999999999},99.946666666666673,14.553333333333335,null,{"$f":"'Combined Cycle Gas'!$D$8","v":318.30459770114948},{"$f":"Nuclear!$D$8","v":307.69444444444446},0,33.873333333333335,28.086666666666673,29.088333333333335,0]
["2018-07-17",6,27.01,5,null,{"$f":"M4773","v":135.89500000000001},97.464999999999989,9.58,null,{"$f":"'Combined Cycle Gas'!$D$8","v":318.30459770114948},{"$f":"Nuclear!$D$8","v":307.69444444444446},9.5489000000000004E-2,42.086666666666666,21.546666666666667,48.690000000000005,95489]
["2018-07-17",9,36.89,0,null,{"$f":"M4776","v":68.278333333333336},41.919999999999995,4.5533333333333328,null,{"$f":"'Combined Cycle Gas'!$D$8","v":318.30459770114948},{"$f":"Nuclear!$D$8","v":307.69444444444446},5.8761359999999998,127.07333333333334,73.688333333333333,39.338333333333331,5876136]
["2018-07-17",13,58.88,0,null,{"$f":"M4780","v":9.1249999999999982},7.206666666666667,5.6166666666666671,null,{"$f":"'Combined Cycle Gas'!$D$8","v":318.30459770114948},{"$f":"Nuclear!$D$8","v":307.69444444444446},6.1003259999999999,121.52833333333332,96.066666666666663,8.1766666666666676,6100326]
["2018-07-17",17,44.03,0,null,{"$f":"M4784","v":17.793333333333333},5.7633333333333328,7.6650000000000018,null,{"$f":"'Combined Cycle Gas'!$D$8","v":318.30459770114948},{"$f":"Nuclear!$D$8","v":307.69444444444446},5.0043069999999998,21.060000000000002,12.588333333333333,5.2250000000000005,5004307]
["2018-07-17",20,58.78,938,null,{"$f":"M4787","v":51.223333333333336},12.481666666666667,5.9316666666666658,null,{"$f":"'Combined Cycle Gas'!$D$8","v":318.30459770114948},{"$f":"Nuclear!$D$8","v":307.69444444444446},0,8.3266666666666662,6.5099999999999989,5.5983333333333336,0]
["2018-07-17",24,25.42,2158,null,{"$f":"M4791","v":86.686666666666667},66.551666666666662,27.704999999999998,null,{"$f":"'Combined Cycle Gas'!$D$8","v":318.30459770114948},{"$f":"Nuclear!$D$8","v":307.69444444444446},0,33.761666666666663,6.0583333333333336,8.293333333333333,0]
["2018-07-18",3,26.97,2108,null,{"$f":"M4794","v":66.578333333333333},83.961666666666687,55.366666666666667,null,{"$f":"'Combined Cycle Gas'!$D$8","v":318.30459770114948},{"$f":"Nuclear!$D$8","v":307.69444444444446},0,55.851666666666667,24.650000000000002,11.090000000000002,0]
["2018-07-18",4,24.14,2571,null,{"$f":"M4795","v":61.824999999999996},86.90000000000002,40.173333333333339,null,{"$f":"'Combined Cycle Gas'!$D$8","v":318.30459770114948},{"$f":"Nuclear!$D$8","v":307.69444444444446},0,72.951666666666668,41.718333333333334,16.433333333333334,0]
["2018-07-18",7,29.71,1879,null,{"$f":"M4798","v":23.580000000000002},22.218333333333334,26.77,null,{"$f":"'Combined Cycle Gas'!$D$8","v":318.30459770114948},{"$f":"Nuclear!$D$8","v":307.69444444444446},1.4183319999999999,78.808333333333337,72.543333333333337,46.38,1418332]
["2018-07-18",10,46.54,427,null,{"$f":"M4801","v":5.746666666666667},13.188333333333333,3.1116666666666664,null,{"$f":"'Combined Cycle Gas'!$D$8","v":318.30459770114948},{"$f":"Nuclear!$D$8","v":307.69444444444446},6.3979819999999998,61.824999999999996,86.90000000000002,40.173333333333339,6397982]
["2018-07-18",15,49.93,0,null,{"$f":"M4806","v":1.5916666666666666},1.6250000000000002,2.9083333333333332,null,{"$f":"'Combined Cycle Gas'!$D$8","v":318.30459770114948},{"$f":"Nuclear!$D$8","v":307.69444444444446},6.2596299999999996,4.2683333333333335,11.74,13.973333333333331,6259630]
["2018-07-18",18,46.13,0,null,{"$f":"M4809","v":8.2366666666666664},0.81833333333333336,53.54666666666666,null,{"$f":"'Combined Cycle Gas'!$D$8","v":318.30459770114948},{"$f":"Nuclear!$D$8","v":307.69444444444446},2.9388480000000001,1.8049999999999999,1.1216666666666666,1.7299999999999998,2938848]
["2018-07-18",21,39.54,1668,null,{"$f":"M4812","v":114.02333333333333},31.463333333333335,4.2233333333333336,null,{"$f":"'Combined Cycle Gas'!$D$8","v":318.30459770114948},{"$f":"Nuclear!$D$8","v":307.69444444444446},0,1.5916666666666666,1.6250000000000002,2.9083333333333332,0]
["2018-07-19",1,30.67,1903,null,{"$f":"M4816","v":12.378333333333332},11.545000000000002,69.911666666666676,null,{"$f":"'Combined Cycle Gas'!$D$8","v":318.30459770114948},{"$f":"Nuclear!$D$8","v":307.69444444444446},0,3.31,16.035,65.589999999999989,0]
["2018-07-19",4,25.41,2068,null,{"$f":"M4819","v":5.5866666666666669},9.918333333333333,1.7250000000000003,null,{"$f":"'Combined Cycle Gas'!$D$8","v":318.30459770114948},{"$f":"Nuclear!$D$8","v":307.69444444444446},0,121.67833333333334,86.084999999999994,28.203333333333337,0]
["2018-07-19",5,0.02,1715,null,{"$f":"M4820","v":0.73833333333333329},1.97,2.0816666666666666,null,{"$f":"'Combined Cycle Gas'!$D$8","v":318.30459770114948},{"$f":"Nuclear!$D$8","v":307.69444444444446},0,61.313333333333333,45.611666666666679,75.706666666666663,0]
["2018-07-19",11,40.61,237,null,{"$f":"M4826","v":7.166666666666667E-2},0.89,1.9116666666666668,null,{"$f":"'Combined Cycle Gas'!$D$8","v":318.30459770114948},{"$f":"Nuclear!$D$8","v":307.69444444444446},6.7458260000000001,0.73833333333333329,1.97,2.0816666666666666,6745826]
["2018-07-19",12,62.51,212,null,{"$f":"M4827","v":0.95500000000000007},0.34333333333333327,2.0716666666666668,null,{"$f":"'Combined Cycle Gas'!$D$8","v":318.30459770114948},{"$f":"Nuclear!$D$8","v":307.69444444444446},6.7324039999999998,0.45,0.14000000000000001,2.1333333333333333,6732404]
["2018-07-19",16,45.43,0,null,{"$f":"M4831","v":5.5883333333333338},1.871666666666667,6.0183333333333335,null,{"$f":"'Combined Cycle Gas'!$D$8","v":318.30459770114948},{"$f":"Nuclear!$D$8","v":307.69444444444446},6.1957899999999997,9.8333333333333342E-2,2.02,1.8550000000000002,6195790]
["2018-07-19",19,42.71,135,null,{"$f":"M4834","v":6.0933333333333328},2.12,5.1933333333333334,null,{"$f":"'Combined Cycle Gas'!$D$8","v":318.30459770114948},{"$f":"Nuclear!$D$8","v":307.69444444444446},1.720537,1.2483333333333333,3.833333333333333E-2,1.9416666666666667,1720537]
["2018-07-19",23,37.5,1432,null,{"$f":"M4838","v":3.4333333333333336},24.689999999999998,71.73833333333333,null,{"$f":"'Combined Cycle Gas'!$D$8","v":318.30459770114948},{"$f":"Nuclear!$D$8","v":307.69444444444446},0,8.5033333333333321,2.6666666666666665,3.981666666666666,0]
["2018-07-20",2,26.06,1554,null,{"$f":"M4841","v":26.053333333333331},12.269999999999998,6.498333333333334,null,{"$f":"'Combined Cycle Gas'!$D$8","v":318.30459770114948},{"$f":"Nuclear!$D$8","v":307.69444444444446},{"$f":"P4835/10^6","v":0},5.415,5.5200000000000005,3.7983333333333333,0]
["2018-07-20",4,26.47,1553,null,{"$f":"M4843","v":101.00166666666667},78.846666666666678,27.196666666666669,null,{"$f":"'Combined Cycle Gas'!$D$8","v":318.30459770114948},{"$f":"Nuclear!$D$8","v":307.69444444444446},0,3.2383333333333333,0.87333333333333318,25.556666666666668,0]
["2018-07-20",7,34.119999999999997,1019,null,{"$f":"M4846","v":67.004999999999995},56.203333333333326,54.986666666666657,null,{"$f":"'Combined Cycle Gas'!$D$8","v":318.30459770114948},{"$f":"Nuclear!$D$8","v":307.69444444444446},2.9428070000000002,2.2449999999999997,18.568333333333332,2.7416666666666671,2942807]
["2018-07-20",10,41.4,0,null,{"$f":"M4849","v":18.646666666666665},18.081666666666667,26.181666666666672,null,{"$f":"'Combined Cycle Gas'!$D$8","v":318.30459770114948},{"$f":"Nuclear!$D$8","v":307.69444444444446},5.9495250000000004,101.00166666666667,78.846666666666678,27.196666666666669,5949525]
["2018-07-20",13,37.5,158,null,{"$f":"M4852","v":18.864999999999998},7.9766666666666666,14.303333333333335,null,{"$f":"'Combined Cycle Gas'!$D$8","v":318.30459770114948},{"$f":"Nuclear!$D$8","v":307.69444444444446},4.7916420000000004,67.004999999999995,56.203333333333326,54.986666666666657,4791642]
["2018-07-20",17,45.67,1014,null,{"$f":"M4856","v":13.506666666666668},7.4600000000000009,17.430000000000003,null,{"$f":"'Combined Cycle Gas'!$D$8","v":318.30459770114948},{"$f":"Nuclear!$D$8","v":307.69444444444446},3.8321839999999998,15.634999999999998,15.063333333333333,23.900000000000002,3832184]
["2018-07-20",20,44.98,1787,null,{"$f":"M4859","v":30.541666666666657},20.161666666666665,66.598333333333329,null,{"$f":"'Combined Cycle Gas'!$D$8","v":318.30459770114948},{"$f":"Nuclear!$D$8","v":307.69444444444446},0,13.950000000000001,7.3583333333333334,14.354999999999999,0]
["2018-07-20",24,24,1893,null,{"$f":"M4863","v":73.381666666666661},60.111666666666672,101.455,null,{"$f":"'Combined Cycle Gas'!$D$8","v":318.30459770114948},{"$f":"Nuclear!$D$8","v":307.69444444444446},0,13.183333333333332,11.916666666666666,21.55,0]
["2018-07-21",1,29.36,2130,null,{"$f":"M4864","v":59.611666666666657},62.131666666666668,99.011666666666656,null,{"$f":"'Combined Cycle Gas'!$D$8","v":318.30459770114948},{"$f":"Nuclear!$D$8","v":307.69444444444446},0,22.98,15.853333333333333,33.041666666666664,0]
["2018-07-21",7,25.02,2350,null,{"$f":"M4870","v":6.6499999999999995},8.0750000000000011,4.9550000000000001,null,{"$f":"'Combined Cycle Gas'!$D$8","v":318.30459770114948},{"$f":"Nuclear!$D$8","v":307.69444444444446},1.141489,59.611666666666657,62.131666666666668,99.011666666666656,1141489]
["2018-07-21",8,29.23,1593,null,{"$f":"M4871","v":11.483333333333333},12.541666666666666,10.596666666666666,null,{"$f":"'Combined Cycle Gas'!$D$8","v":318.30459770114948},{"$f":"Nuclear!$D$8","v":307.69444444444446},2.1225019999999999,57.705000000000005,43.024999999999999,94.355000000000004,2122502]
["2018-07-21",11,33.39,1074,null,{"$f":"M4874","v":19.099999999999998},15.426666666666664,5.4683333333333337,null,{"$f":"'Combined Cycle Gas'!$D$8","v":318.30459770114948},{"$f":"Nuclear!$D$8","v":307.69444444444446},4.8347619999999996,6.1416666666666666,26.046666666666667,55.255000000000003,4834762]
["2018-07-21",14,39.5,1429,null,{"$f":"M4877","v":25.923333333333336},11.748333333333335,41.518333333333331,null,{"$f":"'Combined Cycle Gas'!$D$8","v":318.30459770114948},{"$f":"Nuclear!$D$8","v":307.69444444444446},5.9693839999999998,11.483333333333333,12.541666666666666,10.596666666666666,5969384]
["2018-07-21",18,38.159999999999997,2237,null,{"$f":"M4881","v":42.333333333333336},71.561666666666653,45.016666666666673,null,{"$f":"'Combined Cycle Gas'!$D$8","v":318.30459770114948},{"$f":"Nuclear!$D$8","v":307.69444444444446},2.2143329999999999,39.491666666666667,22.599999999999998,14.346666666666666,2214333]
["2018-07-21",22,20.66,2993,null,{"$f":"M4885","v":109.23833333333333},82.535000000000011,52.015000000000008,null,{"$f":"'Combined Cycle Gas'!$D$8","v":318.30459770114948},{"$f":"Nuclear!$D$8","v":307.69444444444446},0,32.15,37.071666666666665,14.271666666666667,0]
["2018-07-22",2,24.89,2987,null,{"$f":"M4889","v":29.188333333333333},0.5,43.09,null,{"$f":"'Combined Cycle Gas'!$D$8","v":318.30459770114948},{"$f":"Nuclear!$D$8","v":307.69444444444446},0,92.783333333333346,90.12833333333333,35.093333333333334,0]
["2018-07-22",5,25.3,2819,null,{"$f":"M4892","v":2.6833333333333331},16.995000000000001,21.303333333333331,null,{"$f":"'Combined Cycle Gas'!$D$8","v":318.30459770114948},{"$f":"Nuclear!$D$8","v":307.69444444444446},0,120.29833333333333,62.163333333333334,29.97,0]
["2018-07-22",8,34.479999999999997,1044,null,{"$f":"M4895","v":2.7100000000000004},3.6083333333333329,4.7833333333333332,null,{"$f":"'Combined Cycle Gas'!$D$8","v":318.30459770114948},{"$f":"Nuclear!$D$8","v":307.69444444444446},4.0510789999999997,29.188333333333333,0.5,43.09,4051079]
["2018-07-22",9,34.729999999999997,829,null,{"$f":"M4896","v":18.503333333333334},3.2366666666666668,42.384999999999998,null,{"$f":"'Combined Cycle Gas'!$D$8","v":318.30459770114948},{"$f":"Nuclear!$D$8","v":307.69444444444446},5.1270759999999997,0.9900000000000001,0.65833333333333333,15.806666666666667,5127076]
["2018-07-22",12,39.32,465,null,{"$f":"M4899","v":9.0516666666666659},7.248333333333334,20.975000000000001,null,{"$f":"'Combined Cycle Gas'!$D$8","v":318.30459770114948},{"$f":"Nuclear!$D$8","v":307.69444444444446},6.3449759999999999,3.1166666666666667,5.9316666666666658,31.340000000000003,6344976]
["2018-07-22",16,40.200000000000003,450,null,{"$f":"M4903","v":19.731666666666666},27.130000000000006,31.681666666666668,null,{"$f":"'Combined Cycle Gas'!$D$8","v":318.30459770114948},{"$f":"Nuclear!$D$8","v":307.69444444444446},5.7382140000000001,11.931666666666667,7.4933333333333332,40.254999999999995,5738214]
["2018-07-22",19,39.94,1255,null,{"$f":"M4906","v":91.046666666666681},47.670000000000009,16.559999999999999,null,{"$f":"'Combined Cycle Gas'!$D$8","v":318.30459770114948},{"$f":"Nuclear!$D$8","v":307.69444444444446},0.24146400000000001,9.24,11.531666666666666,27.298333333333336,241464]
["2018-07-22",23,37.99,3013,null,{"$f":"M4910","v":66.834999999999994},26.058333333333334,16.114999999999998,null,{"$f":"'Combined Cycle Gas'!$D$8","v":318.30459770114948},{"$f":"Nuclear!$D$8","v":307.69444444444446},0,32.085000000000001,36.659999999999997,22.273333333333337,0]
["2018-07-23",3,28.83,2679,null,{"$f":"M4914","v":6.2266666666666675},2.0683333333333334,1.906666666666667,null,{"$f":"'Combined Cycle Gas'!$D$8","v":318.30459770114948},{"$f":"Nuclear!$D$8","v":307.69444444444446},0,100.27166666666666,59.35,29.631666666666671,0]
["2018-07-23",6,34.69,1375,null,{"$f":"M4917","v":3.0916666666666668},0.14666666666666667,1.8250000000000002,null,{"$f":"'Combined Cycle Gas'!$D$8","v":318.30459770114948},{"$f":"Nuclear!$D$8","v":307.69444444444446},5.8842999999999999E-2,46.59,14.83,7.4050000000000011,58843]
["2018-07-23",9,41.31,0,null,{"$f":"M4920","v":0.85333333333333317},0.65166666666666673,1.7866666666666664,null,{"$f":"'Combined Cycle Gas'!$D$8","v":318.30459770114948},{"$f":"Nuclear!$D$8","v":307.69444444444446},5.545426,6.2266666666666675,2.0683333333333334,1.906666666666667,5545426]
["2018-07-23",10,42.51,446,null,{"$f":"M4921","v":0.74333333333333329},1.4883333333333333,1.9833333333333334,null,{"$f":"'Combined Cycle Gas'!$D$8","v":318.30459770114948},{"$f":"Nuclear!$D$8","v":307.69444444444446},6.2018969999999998,7.8449999999999989,1.2549999999999999,2.2349999999999999,6201897]
["2018-07-23",13,40.6,1749,null,{"$f":"M4924","v":5.8566666666666665},4.6016666666666666,6.1766666666666659,null,{"$f":"'Combined Cycle Gas'!$D$8","v":318.30459770114948},{"$f":"Nuclear!$D$8","v":307.69444444444446},6.7542720000000003,0.31333333333333335,0.12333333333333334,1.8,6754272]
["2018-07-23",16,36.76,2653,null,{"$f":"M4927","v":4.1483333333333343},3.1283333333333334,7.2549999999999999,null,{"$f":"'Combined Cycle Gas'!$D$8","v":318.30459770114948},{"$f":"Nuclear!$D$8","v":307.69444444444446},4.783258,0.74333333333333329,1.4883333333333333,1.9833333333333334,4783258]
["2018-07-23",21,50.93,546,null,{"$f":"M4932","v":18.094999999999999},32.503333333333337,18.948333333333331,null,{"$f":"'Combined Cycle Gas'!$D$8","v":318.30459770114948},{"$f":"Nuclear!$D$8","v":307.69444444444446},0,8.5816666666666652,2.8766666666666656,7.873333333333334,0]
["2018-07-23",24,36.57,0,null,{"$f":"M4935","v":55.853333333333332},34.208333333333329,19.736666666666668,null,{"$f":"'Combined Cycle Gas'!$D$8","v":318.30459770114948},{"$f":"Nuclear!$D$8","v":307.69444444444446},0,6.9283333333333319,2.8249999999999997,4.5666666666666673,0]
["2018-07-24",4,29.8,43,null,{"$f":"M4939","v":33.033333333333339},28.891666666666666,21.681666666666668,null,{"$f":"'Combined Cycle Gas'!$D$8","v":318.30459770114948},{"$f":"Nuclear!$D$8","v":307.69444444444446},0,23.51,37.161666666666669,15.148333333333332,0]
["2018-07-24",7,30.11,0,null,{"$f":"M4942","v":2.395},1.7350000000000001,3.7250000000000001,null,{"$f":"'Combined Cycle Gas'!$D$8","v":318.30459770114948},{"$f":"Nuclear!$D$8","v":307.69444444444446},5.0722000000000003E-2,40.555,25.431666666666668,21.111666666666668,50722]
["2018-07-24",10,41.49,0,null,{"$f":"M4945","v":2.7033333333333331},1.8499999999999999,3.4966666666666675,null,{"$f":"'Combined Cycle Gas'!$D$8","v":318.30459770114948},{"$f":"Nuclear!$D$8","v":307.69444444444446},1.997012,33.033333333333339,28.891666666666666,21.681666666666668,1997012]
["2018-07-24",13,45.12,0,null,{"$f":"M4948","v":5.69},2.1716666666666664,4.2166666666666668,null,{"$f":"'Combined Cycle Gas'!$D$8","v":318.30459770114948},{"$f":"Nuclear!$D$8","v":307.69444444444446},2.8491460000000002,2.395,1.7350000000000001,3.7250000000000001,2849146]
["2018-07-24",15,94.37,91,null,{"$f":"M4950","v":3.9250000000000003},5.3250000000000002,4.0466666666666669,null,{"$f":"'Combined Cycle Gas'!$D$8","v":318.30459770114948},{"$f":"Nuclear!$D$8","v":307.69444444444446},1.4264889999999999,2.4149999999999996,1.7083333333333333,3.3816666666666664,1426489]
["2018-07-24",19,60.74,210,null,{"$f":"M4954","v":3.4700000000000006},3.2066666666666666,5.3616666666666672,null,{"$f":"'Combined Cycle Gas'!$D$8","v":318.30459770114948},{"$f":"Nuclear!$D$8","v":307.69444444444446},4.5589999999999997E-3,5.69,2.1716666666666664,4.2166666666666668,4559]
["2018-07-24",22,54.12,1122,null,{"$f":"M4957","v":7.8099999999999987},25.166666666666661,17.263333333333335,null,{"$f":"'Combined Cycle Gas'!$D$8","v":318.30459770114948},{"$f":"Nuclear!$D$8","v":307.69444444444446},0,3.5633333333333339,2.2550000000000003,4.1583333333333332,0]
["2018-07-25",1,39.83,1323,null,{"$f":"M4960","v":14.913333333333332},4.9233333333333329,58.028333333333329,null,{"$f":"'Combined Cycle Gas'!$D$8","v":318.30459770114948},{"$f":"Nuclear!$D$8","v":307.69444444444446},0,3.4700000000000006,3.2066666666666666,5.3616666666666672,0]
["2018-07-25",5,29.25,575,null,{"$f":"M4964","v":14.209999999999999},16.329999999999998,16.113333333333333,null,{"$f":"'Combined Cycle Gas'!$D$8","v":318.30459770114948},{"$f":"Nuclear!$D$8","v":307.69444444444446},0,4.1083333333333334,6.8049999999999997,40.791666666666664,0]
["2018-07-25",8,39.299999999999997,372,null,{"$f":"M4967","v":4.6283333333333339},14.045,4.3966666666666656,null,{"$f":"'Combined Cycle Gas'!$D$8","v":318.30459770114948},{"$f":"Nuclear!$D$8","v":307.69444444444446},1.8509119999999999,22.593333333333334,3.6099999999999994,24.626666666666669,1850912]
["2018-07-25",10,52.94,233,null,{"$f":"M4969","v":14.266666666666667},4.7616666666666658,4.5299999999999994,null,{"$f":"'Combined Cycle Gas'!$D$8","v":318.30459770114948},{"$f":"Nuclear!$D$8","v":307.69444444444446},{"$f":"P4963/10^6","v":3.5092880000000002},9.8716666666666679,16.841666666666665,22.515000000000001,3509288]
["2018-07-25",13,64.13,64,null,{"$f":"M4972","v":27.183333333333334},14.516666666666667,11.065,null,{"$f":"'Combined Cycle Gas'!$D$8","v":318.30459770114948},{"$f":"Nuclear!$D$8","v":307.69444444444446},3.8417029999999999,9.5633333333333326,11.161666666666667,4.8099999999999996,3841703]
["2018-07-25",16,66.03,91,null,{"$f":"M4975","v":27.283333333333331},23.823333333333334,11.178333333333335,null,{"$f":"'Combined Cycle Gas'!$D$8","v":318.30459770114948},{"$f":"Nuclear!$D$8","v":307.69444444444446},1.5684880000000001,14.266666666666667,4.7616666666666658,4.5299999999999994,1568488]
["2018-07-25",20,61.82,1870,null,{"$f":"M4979","v":86.583333333333329},30.296666666666667,6.9083333333333341,null,{"$f":"'Combined Cycle Gas'!$D$8","v":318.30459770114948},{"$f":"Nuclear!$D$8","v":307.69444444444446},0,27.793333333333337,38.638333333333335,5.7483333333333322,0]
["2018-07-25",23,38.880000000000003,2493,null,{"$f":"M4982","v":31.266666666666666},22.385000000000002,7.9883333333333324,null,{"$f":"'Combined Cycle Gas'!$D$8","v":318.30459770114948},{"$f":"Nuclear!$D$8","v":307.69444444444446},0,31.395,16.111666666666665,8.9066666666666663,0]
["2018-07-26",2,30.1,2268,null,{"$f":"M4985","v":20.266666666666666},25.876666666666665,7.5066666666666668,null,{"$f":"'Combined Cycle Gas'!$D$8","v":318.30459770114948},{"$f":"Nuclear!$D$8","v":307.69444444444446},0,86.583333333333329,30.296666666666667,6.9083333333333341,0]
["2018-07-26",6,26.36,2206,null,{"$f":"M4989","v":40.451666666666661},58.68333333333333,26.631666666666664,null,{"$f":"'Combined Cycle Gas'!$D$8","v":318.30459770114948},{"$f":"Nuclear!$D$8","v":307.69444444444446},1.1088370000000001,14.94,17.818333333333332,10.653333333333334,1108837]
["2018-07-26",7,29.87,1914,null,{"$f":"M4990","v":33.451666666666668},51.166666666666657,16.993333333333329,null,{"$f":"'Combined Cycle Gas'!$D$8","v":318.30459770114948},{"$f":"Nuclear!$D$8","v":307.69444444444446},3.8182040000000002,14.856666666666667,18.355,9.4383333333333326,3818204]
["2018-07-26",11,39.630000000000003,1692,null,{"$f":"M4994","v":33.823333333333331},15.934999999999997,17.764999999999997,null,{"$f":"'Combined Cycle Gas'!$D$8","v":318.30459770114948},{"$f":"Nuclear!$D$8","v":307.69444444444446},6.8547890000000002,74.58,74.293333333333337,18.12,6854789]
["2018-07-26",14,46.11,1790,null,{"$f":"M4997","v":26.95},13.288333333333332,21.31,null,{"$f":"'Combined Cycle Gas'!$D$8","v":318.30459770114948},{"$f":"Nuclear!$D$8","v":307.69444444444446},6.5824230000000004,38.776666666666664,27.816666666666674,11.15,6582423]
["2018-07-26",17,38.71,2017,null,{"$f":"M5000","v":38.770000000000003},32.993333333333332,16.316666666666666,null,{"$f":"'Combined Cycle Gas'!$D$8","v":318.30459770114948},{"$f":"Nuclear!$D$8","v":307.69444444444446},5.1497780000000004,33.823333333333331,15.934999999999997,17.764999999999997,5149778]
["2018-07-26",21,36.19,2479,null,{"$f":"M5004","v":74.213333333333324},63.896666666666668,36.168333333333337,null,{"$f":"'Combined Cycle Gas'!$D$8","v":318.30459770114948},{"$f":"Nuclear!$D$8","v":307.69444444444446},0,23.474999999999998,16.436666666666664,19.303333333333331,0]
["2018-07-26",24,22.62,3013,null,{"$f":"M5007","v":91.078333333333333},88.138333333333321,72.706666666666663,null,{"$f":"'Combined Cycle Gas'!$D$8","v":318.30459770114948},{"$f":"Nuclear!$D$8","v":307.69444444444446},0,32.331666666666671,48.626666666666665,18.951666666666664,0]
["2018-07-27",4,25.07,2961,null,{"$f":"M5011","v":16.876666666666669},20.946666666666669,48.681666666666672,null,{"$f":"'Combined Cycle Gas'!$D$8","v":318.30459770114948},{"$f":"Nuclear!$D$8","v":307.69444444444446},0,89.185000000000002,89.555000000000007,53.754999999999995,0]
["2018-07-27",8,35.31,1821,null,{"$f":"M5015","v":25.71166666666667},26.525000000000002,22.60166666666667,null,{"$f":"'Combined Cycle Gas'!$D$8","v":318.30459770114948},{"$f":"Nuclear!$D$8","v":307.69444444444446},5.482691,27.876666666666669,39.503333333333337,66.996666666666655,5482691]
["2018-07-27",11,39.729999999999997,1162,null,{"$f":"M5018","v":7.0916666666666659},20.455000000000002,7.123333333333334,null,{"$f":"'Combined Cycle Gas'!$D$8","v":318.30459770114948},{"$f":"Nuclear!$D$8","v":307.69444444444446},6.5365510000000002,71.688333333333347,45.101666666666667,39.535000000000004,6536551]
["2018-07-27",12,42.54,1197,null,{"$f":"M5019","v":9.6},23.886666666666667,8.4450000000000003,null,{"$f":"'Combined Cycle Gas'!$D$8","v":318.30459770114948},{"$f":"Nuclear!$D$8","v":307.69444444444446},6.760122,65.708333333333329,45.768333333333338,32.359999999999992,6760122]
["2018-07-27",15,69.83,1844,null,{"$f":"M5022","v":30.10166666666667},20.231666666666666,10.711666666666666,null,{"$f":"'Combined Cycle Gas'!$D$8","v":318.30459770114948},{"$f":"Nuclear!$D$8","v":307.69444444444446},6.5629860000000004,16.876666666666665,21.708333333333332,16.285,6562986]
["2018-07-27",18,26.54,2799,null,{"$f":"M5025","v":70.62166666666667},64.718333333333348,8.7283333333333335,null,{"$f":"'Combined Cycle Gas'!$D$8","v":318.30459770114948},{"$f":"Nuclear!$D$8","v":307.69444444444446},3.9232879999999999,9.6,23.886666666666667,8.4450000000000003,3923288]
["2018-07-27",22,37.450000000000003,2339,null,{"$f":"M5029","v":97.083333333333329},90.625,71.36333333333333,null,{"$f":"'Combined Cycle Gas'!$D$8","v":318.30459770114948},{"$f":"Nuclear!$D$8","v":307.69444444444446},0,45.05833333333333,29.194999999999997,9.6166666666666671,0]
["2018-07-28",1,27.11,2584,null,{"$f":"M5032","v":125.00166666666667},92.948333333333338,84.251666666666665,null,{"$f":"'Combined Cycle Gas'!$D$8","v":318.30459770114948},{"$f":"Nuclear!$D$8","v":307.69444444444446},0,96.901666666666657,77.25833333333334,9.5683333333333351,0]
["2018-07-28",6,23.49,2228,null,{"$f":"M5037","v":39.716666666666669},62.533333333333331,50.611666666666672,null,{"$f":"'Combined Cycle Gas'!$D$8","v":318.30459770114948},{"$f":"Nuclear!$D$8","v":307.69444444444446},0,117.12333333333333,92.668333333333337,85.96,0]
["2018-07-28",9,31.3,549,null,{"$f":"M5040","v":45.691666666666663},33.261666666666663,3.1466666666666669,null,{"$f":"'Combined Cycle Gas'!$D$8","v":318.30459770114948},{"$f":"Nuclear!$D$8","v":307.69444444444446},2.9451040000000002,96.305000000000021,87.738333333333344,72.878333333333345,2945104]
["2018-07-28",12,39.96,57,null,{"$f":"M5043","v":8.82},19.053333333333335,29.326666666666668,null,{"$f":"'Combined Cycle Gas'!$D$8","v":318.30459770114948},{"$f":"Nuclear!$D$8","v":307.69444444444446},2.440706,39.716666666666669,62.533333333333331,50.611666666666672,2440706]
["2018-07-28",13,40.25,205,null,{"$f":"M5044","v":9.32},15.155000000000001,40.505000000000003,null,{"$f":"'Combined Cycle Gas'!$D$8","v":318.30459770114948},{"$f":"Nuclear!$D$8","v":307.69444444444446},2.2412670000000001,39.148333333333333,42.148333333333333,34.126666666666672,2241267]
["2018-07-28",16,42.13,674,null,{"$f":"M5047","v":17.381666666666664},18.438333333333333,41.35,null,{"$f":"'Combined Cycle Gas'!$D$8","v":318.30459770114948},{"$f":"Nuclear!$D$8","v":307.69444444444446},1.521398,23.258333333333336,26.823333333333334,12.153333333333331,1521398]
["2018-07-28",22,32.32,1612,null,{"$f":"M5053","v":3.7083333333333335},4.8550000000000004,63.391666666666673,null,{"$f":"'Combined Cycle Gas'!$D$8","v":318.30459770114948},{"$f":"Nuclear!$D$8","v":307.69444444444446},0,17.381666666666664,18.438333333333333,41.35,0]
["2018-07-28",24,26.06,181,null,{"$f":"M5055","v":3.6316666666666664},4.4333333333333336,50.205000000000005,null,{"$f":"'Combined Cycle Gas'!$D$8","v":318.30459770114948},{"$f":"Nuclear!$D$8","v":307.69444444444446},0,11.691666666666668,7.3633333333333333,49.18333333333333,0]
["2018-07-29",3,27.48,239,null,{"$f":"M5058","v":3.7666666666666662},6.0666666666666664,6.8150000000000004,null,{"$f":"'Combined Cycle Gas'!$D$8","v":318.30459770114948},{"$f":"Nuclear!$D$8","v":307.69444444444446},0,11.603333333333332,24.14,59.82500000000001,0]
["2018-07-29",7,27.19,29,null,{"$f":"M5062","v":38.884999999999998},27.278333333333336,4.0183333333333326,null,{"$f":"'Combined Cycle Gas'!$D$8","v":318.30459770114948},{"$f":"Nuclear!$D$8","v":307.69444444444446},0.91401100000000002,3.6166666666666667,4.4216666666666669,46.319999999999993,914011]
["2018-07-29",10,35.659999999999997,267,null,{"$f":"M5065","v":75.086666666666687},44.870000000000005,6.45,null,{"$f":"'Combined Cycle Gas'!$D$8","v":318.30459770114948},{"$f":"Nuclear!$D$8","v":307.69444444444446},1.8457460000000001,23.39,27.848333333333329,2.8516666666666666,1845746]
["2018-07-29",13,41.26,161,null,{"$f":"M5068","v":76.876666666666665},92.87833333333333,24.073333333333334,null,{"$f":"'Combined Cycle Gas'!$D$8","v":318.30459770114948},{"$f":"Nuclear!$D$8","v":307.69444444444446},2.3704900000000002,38.884999999999998,27.278333333333336,4.0183333333333326,2370490]
["2018-07-29",14,47.18,329,null,{"$f":"M5069","v":71.25},57.204999999999991,18.763333333333335,null,{"$f":"'Combined Cycle Gas'!$D$8","v":318.30459770114948},{"$f":"Nuclear!$D$8","v":307.69444444444446},2.6002329999999998,22.364999999999998,17.399999999999999,2.93,2600233]
["2018-07-29",19,54.81,388,null,{"$f":"M5074","v":16.686666666666667},17.258333333333336,8.0883333333333329,null,{"$f":"'Combined Cycle Gas'!$D$8","v":318.30459770114948},{"$f":"Nuclear!$D$8","v":307.69444444444446},8.5216E-2,76.876666666666665,92.87833333333333,24.073333333333334,85216]
["2018-07-29",22,43.75,266,null,{"$f":"M5077","v":8.663333333333334},17.715,24.121666666666666,null,{"$f":"'Combined Cycle Gas'!$D$8","v":318.30459770114948},{"$f":"Nuclear!$D$8","v":307.69444444444446},0,20.013333333333332,28.258333333333336,11.146666666666667,0]
["2018-07-30",1,39.65,428,null,{"$f":"M5080","v":15.154999999999996},14.375,19.995000000000001,null,{"$f":"'Combined Cycle Gas'!$D$8","v":318.30459770114948},{"$f":"Nuclear!$D$8","v":307.69444444444446},0,16.686666666666667,17.258333333333336,8.0883333333333329,0]
["2018-07-30",4,40,14,null,{"$f":"M5083","v":21.426666666666666},16.656666666666663,8.11,null,{"$f":"'Combined Cycle Gas'!$D$8","v":318.30459770114948},{"$f":"Nuclear!$D$8","v":307.69444444444446},0,8.663333333333334,17.715,24.121666666666666,0]
["2018-07-30",8,47.87,72,null,{"$f":"M5087","v":6.6166666666666663},8.0266666666666655,3.2466666666666666,null,{"$f":"'Combined Cycle Gas'!$D$8","v":318.30459770114948},{"$f":"Nuclear!$D$8","v":307.69444444444446},2.4105020000000001,20.333333333333332,24.201666666666668,13.993333333333332,2410502]
["2018-07-30",11,62.01,266,null,{"$f":"M5090","v":5.2666666666666666},5.3283333333333331,3.7166666666666668,null,{"$f":"'Combined Cycle Gas'!$D$8","v":318.30459770114948},{"$f":"Nuclear!$D$8","v":307.69444444444446},6.3448729999999998,14.884999999999998,12.568333333333333,3.125,6344873]
["2018-07-30",14,80.52,22,null,{"$f":"M5093","v":5.625},5.9283333333333337,4.1550000000000002,null,{"$f":"'Combined Cycle Gas'!$D$8","v":318.30459770114948},{"$f":"Nuclear!$D$8","v":307.69444444444446},5.498532,6.6166666666666663,8.0266666666666655,3.2466666666666666,5498532]
["2018-07-30",16,65.48,366,null,{"$f":"M5095","v":4.6283333333333339},21.423333333333332,3.9350000000000005,null,{"$f":"'Combined Cycle Gas'!$D$8","v":318.30459770114948},{"$f":"Nuclear!$D$8","v":307.69444444444446},5.9151379999999998,5.9466666666666663,4.6833333333333336,3.7683333333333331,5915138]
["2018-07-30",19,51.57,1867,null,{"$f":"M5098","v":10.761666666666668},6.1366666666666667,4.7166666666666659,null,{"$f":"'Combined Cycle Gas'!$D$8","v":318.30459770114948},{"$f":"Nuclear!$D$8","v":307.69444444444446},0.13841400000000001,6.5583333333333336,6.57,3.4666666666666668,138414]
["2018-07-30",23,40.630000000000003,1572,null,{"$f":"M5102","v":17.386666666666667},27.426666666666666,4.9233333333333329,null,{"$f":"'Combined Cycle Gas'!$D$8","v":318.30459770114948},{"$f":"Nuclear!$D$8","v":307.69444444444446},0,65.529999999999987,5.1683333333333339,3.5116666666666667,0]
["2018-07-31",2,34.630000000000003,2216,null,{"$f":"M5105","v":10.586666666666666},19.338333333333335,3.6650000000000005,null,{"$f":"'Combined Cycle Gas'!$D$8","v":318.30459770114948},{"$f":"Nuclear!$D$8","v":307.69444444444446},0,14.421666666666667,8.0683333333333334,4.4383333333333335,0]
["2018-07-31",5,23.04,2103,null,{"$f":"M5108","v":16.373333333333331},12.72,6.958333333333333,null,{"$f":"'Combined Cycle Gas'!$D$8","v":318.30459770114948},{"$f":"Nuclear!$D$8","v":307.69444444444446},0,17.386666666666667,27.426666666666666,4.9233333333333329,0]
["2018-07-31",9,40.64,223,null,{"$f":"M5112","v":8.0783333333333349},4.1049999999999995,12.801666666666668,null,{"$f":"'Combined Cycle Gas'!$D$8","v":318.30459770114948},{"$f":"Nuclear!$D$8","v":307.69444444444446},3.7508020000000002,6.0616666666666665,13.318333333333335,4.2233333333333336,3750802]
["2018-07-31",13,54.06,1236,null,{"$f":"M5116","v":6.8216666666666663},18.448333333333334,14.21,null,{"$f":"'Combined Cycle Gas'!$D$8","v":318.30459770114948},{"$f":"Nuclear!$D$8","v":307.69444444444446},4.1276700000000002,13.126666666666665,7.418333333333333,6.2649999999999997,4127670]
["2018-07-31",14,42.75,2031,null,{"$f":"M5117","v":6.0116666666666667},4.7399999999999993,14.241666666666665,null,{"$f":"'Combined Cycle Gas'!$D$8","v":318.30459770114948},{"$f":"Nuclear!$D$8","v":307.69444444444446},5.9057719999999998,9.2000000000000011,7.6183333333333323,3.581666666666667,5905772]
["2018-07-31",17,1.02,2777,null,{"$f":"M5120","v":3.59},3.9200000000000004,4.55,null,{"$f":"'Combined Cycle Gas'!$D$8","v":318.30459770114948},{"$f":"Nuclear!$D$8","v":307.69444444444446},4.0662050000000001,13.033333333333333,5.08,6.2733333333333334,4066205]
["2018-07-31",20,53.15,2092,null,{"$f":"M5123","v":2.7916666666666665},2.9166666666666665,10.205,null,{"$f":"'Combined Cycle Gas'!$D$8","v":318.30459770114948},{"$f":"Nuclear!$D$8","v":307.69444444444446},0,6.0116666666666667,4.7399999999999993,14.241666666666665,0]
["2018-07-31",24,39.31,1488,null,{"$f":"M5127","v":15.698333333333332},22.841666666666669,1.9816666666666667,null,{"$f":"'Combined Cycle Gas'!$D$8","v":318.30459770114948},{"$f":"Nuclear!$D$8","v":307.69444444444446},0,3.4916666666666667,3.3283333333333336,3.2649999999999992,0]
["2018-08-01",3,29.28,2247,null,{"$f":"M5130","v":19.754999999999999},23.858333333333334,2.4616666666666664,null,{"$f":"'Combined Cycle Gas'!$D$8","v":318.30459770114948},{"$f":"Nuclear!$D$8","v":307.69444444444446},0,2.7966666666666669,5.2116666666666669,5.8583333333333334,0]
["2018-08-01",6,26.94,2117,null,{"$f":"M5133","v":11.481666666666667},4.208333333333333,5.3150000000000004,null,{"$f":"'Combined Cycle Gas'!$D$8","v":318.30459770114948},{"$f":"Nuclear!$D$8","v":307.69444444444446},8.2880000000000002E-3,15.698333333333332,22.841666666666669,1.9816666666666667,8288]
["2018-08-01",10,34.92,2656,null,{"$f":"M5137","v":2.62},0.65333333333333343,1.5499999999999998,null,{"$f":"'Combined Cycle Gas'!$D$8","v":318.30459770114948},{"$f":"Nuclear!$D$8","v":307.69444444444446},5.0589389999999996,24.178333333333331,16.753333333333334,7.8566666666666665,5058939]
["2018-08-01",14,0.48,2897,null,{"$f":"M5141","v":8.6},6.9750000000000005,7.751666666666666,null,{"$f":"'Combined Cycle Gas'!$D$8","v":318.30459770114948},{"$f":"Nuclear!$D$8","v":307.69444444444446},4.7263320000000002,1.3350000000000002,0.83666666666666656,1.1316666666666666,4726332]
["2018-08-01",15,1,2596,null,{"$f":"M5142","v":7.0266666666666664},6.57,6.4999999999999991,null,{"$f":"'Combined Cycle Gas'!$D$8","v":318.30459770114948},{"$f":"Nuclear!$D$8","v":307.69444444444446},5.2527650000000001,1.4833333333333334,0.68,1.1566666666666665,5252765]
["2018-08-01",18,1,2589,null,{"$f":"M5145","v":7.7149999999999999},1.1033333333333333,7.3083333333333336,null,{"$f":"'Combined Cycle Gas'!$D$8","v":318.30459770114948},{"$f":"Nuclear!$D$8","v":307.69444444444446},3.4049100000000001,5.9766666666666675,0.66,3.4233333333333338,3404910]
["2018-08-01",21,37.450000000000003,2899,null,{"$f":"M5148","v":5.2616666666666667},7.413333333333334,0.51,null,{"$f":"'Combined Cycle Gas'!$D$8","v":318.30459770114948},{"$f":"Nuclear!$D$8","v":307.69444444444446},0,7.0266666666666664,6.57,6.4999999999999991,0]
["2018-08-02",1,34.549999999999997,2964,null,{"$f":"M5152","v":17.865000000000002},17.286666666666665,2.1083333333333338,null,{"$f":"'Combined Cycle Gas'!$D$8","v":318.30459770114948},{"$f":"Nuclear!$D$8","v":307.69444444444446},0,5.7549999999999999,1.28,1.2783333333333333,0]
["2018-08-02",3,25.81,2964,null,{"$f":"M5154","v":10.428333333333333},13.958333333333334,15.566666666666668,null,{"$f":"'Combined Cycle Gas'!$D$8","v":318.30459770114948},{"$f":"Nuclear!$D$8","v":307.69444444444446},0,5.2616666666666667,7.413333333333334,0.51,0]
["2018-08-02",8,29.07,2726,null,{"$f":"M5159","v":1.2183333333333335},0.49499999999999994,0.86833333333333318,null,{"$f":"'Combined Cycle Gas'!$D$8","v":318.30459770114948},{"$f":"Nuclear!$D$8","v":307.69444444444446},3.7055799999999999,17.993333333333336,13.421666666666665,7.1499999999999995,3705580]
["2018-08-02",12,37.39,2899,null,{"$f":"M5163","v":13.651666666666666},63.638333333333328,17.428333333333331,null,{"$f":"'Combined Cycle Gas'!$D$8","v":318.30459770114948},{"$f":"Nuclear!$D$8","v":307.69444444444446},6.0727840000000004,4.21,7.8416666666666677,12.834999999999999,6072784]
["2018-08-02",15,24.51,2899,null,{"$f":"M5166","v":12.683333333333332},3.2816666666666667,8.5816666666666652,null,{"$f":"'Combined Cycle Gas'!$D$8","v":318.30459770114948},{"$f":"Nuclear!$D$8","v":307.69444444444446},3.616447,6.5183333333333335,5.3333333333333344E-2,1.2433333333333334,3616447]
["2018-08-02",16,29.85,2899,null,{"$f":"M5167","v":13.216666666666667},3.34,4.4816666666666665,null,{"$f":"'Combined Cycle Gas'!$D$8","v":318.30459770114948},{"$f":"Nuclear!$D$8","v":307.69444444444446},4.5472400000000004,33.533333333333339,0.18000000000000002,4.2683333333333335,4547240]
["2018-08-02",19,42.03,2899,null,{"$f":"M5170","v":11.178333333333335},5.3583333333333343,3.6150000000000002,null,{"$f":"'Combined Cycle Gas'!$D$8","v":318.30459770114948},{"$f":"Nuclear!$D$8","v":307.69444444444446},2.9789999999999999E-3,6.876666666666666,17.898333333333333,20.001666666666669,2979]
["2018-08-02",22,38.06,2045,null,{"$f":"M5173","v":16.586666666666666},5.9083333333333341,9.5083333333333346,null,{"$f":"'Combined Cycle Gas'!$D$8","v":318.30459770114948},{"$f":"Nuclear!$D$8","v":307.69444444444446},0,13.216666666666667,3.34,4.4816666666666665,0]
["2018-08-03",4,24.79,2647,null,{"$f":"M5179","v":27.975000000000005},24.301666666666666,39.113333333333337,null,{"$f":"'Combined Cycle Gas'!$D$8","v":318.30459770114948},{"$f":"Nuclear!$D$8","v":307.69444444444446},0,16.586666666666666,5.9083333333333341,9.5083333333333346,0]
["2018-08-03",6,21.6,1969,null,{"$f":"M5181","v":16.473333333333333},14.593333333333332,24.756666666666664,null,{"$f":"'Combined Cycle Gas'!$D$8","v":318.30459770114948},{"$f":"Nuclear!$D$8","v":307.69444444444446},0.14715700000000001,18.916666666666668,47.518333333333338,21.026666666666667,147157]
["2018-08-03",10,33.11,2080,null,{"$f":"M5185","v":21.933333333333334},25.8,4.663333333333334,null,{"$f":"'Combined Cycle Gas'!$D$8","v":318.30459770114948},{"$f":"Nuclear!$D$8","v":307.69444444444446},5.9554080000000003,27.975000000000005,24.301666666666666,39.113333333333337,5955408]
["2018-08-03",13,38.43,2899,null,{"$f":"M5188","v":12.668333333333331},7.3733333333333322,13.58,null,{"$f":"'Combined Cycle Gas'!$D$8","v":318.30459770114948},{"$f":"Nuclear!$D$8","v":307.69444444444446},6.480334,4.8500000000000005,4.456666666666667,14.216666666666669,6480334]
["2018-08-03",16,40.24,2899,null,{"$f":"M5191","v":6.96},5.4316666666666658,6.9533333333333331,null,{"$f":"'Combined Cycle Gas'!$D$8","v":318.30459770114948},{"$f":"Nuclear!$D$8","v":307.69444444444446},5.8059329999999996,21.933333333333334,25.8,4.663333333333334,5805933]
["2018-08-03",17,41.71,2899,null,{"$f":"M5192","v":8.1916666666666682},4.9850000000000003,19.528333333333332,null,{"$f":"'Combined Cycle Gas'!$D$8","v":318.30459770114948},{"$f":"Nuclear!$D$8","v":307.69444444444446},5.3004249999999997,14.071666666666667,45.969999999999992,14.99666666666667,5300425]
["2018-08-03",20,39.479999999999997,2772,null,{"$f":"M5195","v":35.516666666666666},19.62,18.761666666666667,null,{"$f":"'Combined Cycle Gas'!$D$8","v":318.30459770114948},{"$f":"Nuclear!$D$8","v":307.69444444444446},0,18.264999999999997,9.8033333333333328,8.793333333333333,0]
["2018-08-04",1,28.99,1817,null,{"$f":"M5200","v":43.906666666666666},26.368333333333336,24.83666666666667,null,{"$f":"'Combined Cycle Gas'!$D$8","v":318.30459770114948},{"$f":"Nuclear!$D$8","v":307.69444444444446},0,21.774999999999995,9,10.278333333333334,0]
["2018-08-04",4,26.05,1439,null,{"$f":"M5203","v":31.295000000000002},10.261666666666667,24.649999999999995,null,{"$f":"'Combined Cycle Gas'!$D$8","v":318.30459770114948},{"$f":"Nuclear!$D$8","v":307.69444444444446},0,80.243333333333339,32.156666666666666,64.036666666666676,0]
["2018-08-04",7,28.23,863,null,{"$f":"M5206","v":2.0566666666666666},1.26,1.7149999999999999,null,{"$f":"'Combined Cycle Gas'!$D$8","v":318.30459770114948},{"$f":"Nuclear!$D$8","v":307.69444444444446},2.9563760000000001,43.906666666666666,26.368333333333336,24.83666666666667,2956376]
["2018-08-04",11,27.69,753,null,{"$f":"M5210","v":9.293333333333333},4.1383333333333328,6.9233333333333329,null,{"$f":"'Combined Cycle Gas'!$D$8","v":318.30459770114948},{"$f":"Nuclear!$D$8","v":307.69444444444446},6.2377820000000002,15.800000000000002,1.9183333333333332,6.9516666666666671,6237782]
["2018-08-04",14,39.549999999999997,1594,null,{"$f":"M5213","v":65.168333333333337},52.876666666666665,18.301666666666666,null,{"$f":"'Combined Cycle Gas'!$D$8","v":318.30459770114948},{"$f":"Nuclear!$D$8","v":307.69444444444446},5.3991110000000004,2.1399999999999997,1.3283333333333331,1.5733333333333335,5399111]
["2018-08-04",17,39.43,2297,null,{"$f":"M5216","v":16.246666666666666},4.3116666666666665,70.533333333333331,null,{"$f":"'Combined Cycle Gas'!$D$8","v":318.30459770114948},{"$f":"Nuclear!$D$8","v":307.69444444444446},3.6614399999999998,9.293333333333333,4.1383333333333328,6.9233333333333329,3661440]
["2018-08-04",18,39.520000000000003,1707,null,{"$f":"M5217","v":24.316666666666666},2.9250000000000003,35.223333333333336,null,{"$f":"'Combined Cycle Gas'!$D$8","v":318.30459770114948},{"$f":"Nuclear!$D$8","v":307.69444444444446},2.019952,12.723333333333334,4.6466666666666665,11.811666666666667,2019952]
["2018-08-04",22,39.39,0,null,{"$f":"M5221","v":3.4716666666666671},7.0483333333333329,22.818333333333332,null,{"$f":"'Combined Cycle Gas'!$D$8","v":318.30459770114948},{"$f":"Nuclear!$D$8","v":307.69444444444446},0,9.6399999999999988,10.285,10.716666666666667,0]
["2018-08-05",1,31.58,112,null,{"$f":"M5224","v":3.1083333333333329},5.7016666666666671,23.78833333333333,null,{"$f":"'Combined Cycle Gas'!$D$8","v":318.30459770114948},{"$f":"Nuclear!$D$8","v":307.69444444444446},0,14.123333333333333,3.8983333333333334,16.856666666666666,0]
["2018-08-05",5,27.56,23,null,{"$f":"M5228","v":15.891666666666666},17.000000000000004,40.661666666666669,null,{"$f":"'Combined Cycle Gas'!$D$8","v":318.30459770114948},{"$f":"Nuclear!$D$8","v":307.69444444444446},0,2.9283333333333332,6.0616666666666665,26.733333333333331,0]
["2018-08-05",8,28.96,85,null,{"$f":"M5231","v":13.413333333333334},3.5883333333333329,5.37,null,{"$f":"'Combined Cycle Gas'!$D$8","v":318.30459770114948},{"$f":"Nuclear!$D$8","v":307.69444444444446},4.975778,3.0233333333333334,3.5950000000000002,27.438333333333333,4975778]
["2018-08-05",12,38.32,0,null,{"$f":"M5235","v":9.19},6.1999999999999993,5.1416666666666666,null,{"$f":"'Combined Cycle Gas'!$D$8","v":318.30459770114948},{"$f":"Nuclear!$D$8","v":307.69444444444446},5.9386559999999999,27.421666666666663,8.0566666666666666,35.591666666666669,5938656]
["2018-08-05",15,41.65,0,null,{"$f":"M5238","v":6.5699999999999994},4.2783333333333333,4.7683333333333335,null,{"$f":"'Combined Cycle Gas'!$D$8","v":318.30459770114948},{"$f":"Nuclear!$D$8","v":307.69444444444446},5.7952760000000003,37.948333333333331,3.3566666666666669,2.5350000000000001,5795276]
["2018-08-05",19,41.5,0,null,{"$f":"M5242","v":5.6133333333333333},4.1066666666666665,21.004999999999999,null,{"$f":"'Combined Cycle Gas'!$D$8","v":318.30459770114948},{"$f":"Nuclear!$D$8","v":307.69444444444446},0.123962,7.0100000000000007,4.628333333333333,3.89,123962]
["2018-08-05",20,40.31,0,null,{"$f":"M5243","v":10.178333333333333},4.585,17.358333333333334,null,{"$f":"'Combined Cycle Gas'!$D$8","v":318.30459770114948},{"$f":"Nuclear!$D$8","v":307.69444444444446},0,6.8650000000000011,4.6983333333333333,5.8950000000000005,0]
["2018-08-05",23,38.049999999999997,138,null,{"$f":"M5246","v":118.51333333333332},94.440000000000012,49.096666666666664,null,{"$f":"'Combined Cycle Gas'!$D$8","v":318.30459770114948},{"$f":"Nuclear!$D$8","v":307.69444444444446},0,5.9833333333333334,4.1916666666666664,6.8033333333333337,0]
["2018-08-06",3,27.03,149,null,{"$f":"M5250","v":112.78000000000002},92.181666666666672,80.265000000000001,null,{"$f":"'Combined Cycle Gas'!$D$8","v":318.30459770114948},{"$f":"Nuclear!$D$8","v":307.69444444444446},0,18.353333333333332,11.256666666666666,21.641666666666666,0]
["2018-08-06",6,27.45,0,null,{"$f":"M5253","v":72.01166666666667},63.761666666666677,57.851666666666667,null,{"$f":"'Combined Cycle Gas'!$D$8","v":318.30459770114948},{"$f":"Nuclear!$D$8","v":307.69444444444446},1.158E-3,131.54,99.881666666666661,64.646666666666661,1158]
["2018-08-06",9,38.79,0,null,{"$f":"M5256","v":13.36},18.861666666666665,8.8349999999999991,null,{"$f":"'Combined Cycle Gas'!$D$8","v":318.30459770114948},{"$f":"Nuclear!$D$8","v":307.69444444444446},5.1354839999999999,112.78000000000002,92.181666666666672,80.265000000000001,5135484]
["2018-08-06",13,43.6,0,null,{"$f":"M5260","v":10.225},10.99,55.126666666666665,null,{"$f":"'Combined Cycle Gas'!$D$8","v":318.30459770114948},{"$f":"Nuclear!$D$8","v":307.69444444444446},5.7051780000000001,50.646666666666654,40.963333333333331,38.344999999999999,5705178]
["2018-08-06",16,41.42,1123,null,{"$f":"M5263","v":3.0766666666666667},5.66,7.998333333333334,null,{"$f":"'Combined Cycle Gas'!$D$8","v":318.30459770114948},{"$f":"Nuclear!$D$8","v":307.69444444444446},4.9536119999999997,11.243333333333332,26.675000000000001,19.483333333333334,4953612]
["2018-08-06",20,46.46,437,null,{"$f":"M5267","v":7.2366666666666672},11.060000000000002,41.231666666666662,null,{"$f":"'Combined Cycle Gas'!$D$8","v":318.30459770114948},{"$f":"Nuclear!$D$8","v":307.69444444444446},0,5.08,12.219999999999999,12.136666666666668,0]
["2018-08-06",21,38.31,1860,null,{"$f":"M5268","v":33.99},13.596666666666666,62.231666666666662,null,{"$f":"'Combined Cycle Gas'!$D$8","v":318.30459770114948},{"$f":"Nuclear!$D$8","v":307.69444444444446},0,4.208333333333333,9.0749999999999993,18.863333333333333,0]
["2018-08-06",24,25.12,1575,null,{"$f":"M5271","v":90.63666666666667},42.141666666666673,54.210000000000008,null,{"$f":"'Combined Cycle Gas'!$D$8","v":318.30459770114948},{"$f":"Nuclear!$D$8","v":307.69444444444446},0,5.2766666666666664,7.6849999999999996,52.786666666666662,0]
["2018-08-07",4,25.22,1202,null,{"$f":"M5275","v":8.4916666666666671},20.261666666666667,38.783333333333331,null,{"$f":"'Combined Cycle Gas'!$D$8","v":318.30459770114948},{"$f":"Nuclear!$D$8","v":307.69444444444446},0,78.478333333333339,27.498333333333331,53.37,0]
["2018-08-07",7,27.15,967,null,{"$f":"M5278","v":2.3366666666666664},1.7716666666666665,1.8416666666666668,null,{"$f":"'Combined Cycle Gas'!$D$8","v":318.30459770114948},{"$f":"Nuclear!$D$8","v":307.69444444444446},1.9789829999999999,66.160000000000011,33.783333333333331,62.329999999999991,1978983]
["2018-08-07",9,38.97,0,null,{"$f":"M5280","v":7.3533333333333326},2.5633333333333335,6.0283333333333333,null,{"$f":"'Combined Cycle Gas'!$D$8","v":318.30459770114948},{"$f":"Nuclear!$D$8","v":307.69444444444446},3.618862,19.048333333333332,23.688333333333333,52.661666666666669,3618862]
["2018-08-07",15,71.13,1465,null,{"$f":"M5286","v":24.900000000000002},2.6633333333333336,16.256666666666668,null,{"$f":"'Combined Cycle Gas'!$D$8","v":318.30459770114948},{"$f":"Nuclear!$D$8","v":307.69444444444446},0.70885500000000001,7.3533333333333326,2.5633333333333335,6.0283333333333333,708855]
["2018-08-07",18,54.4,1473,null,{"$f":"M5289","v":5.6400000000000006},2.6649999999999996,5.6466666666666656,null,{"$f":"'Combined Cycle Gas'!$D$8","v":318.30459770114948},{"$f":"Nuclear!$D$8","v":307.69444444444446},{"$f":"P5283/10^6","v":0.14152899999999999},32.788333333333334,16.506666666666664,9.85,141529]
["2018-08-07",19,44.29,1582,null,{"$f":"M5290","v":5.0933333333333328},2.9383333333333339,12.071666666666665,null,{"$f":"'Combined Cycle Gas'!$D$8","v":318.30459770114948},{"$f":"Nuclear!$D$8","v":307.69444444444446},6.6000000000000005E-5,33.368333333333332,4.9649999999999999,19.251666666666669,66]
["2018-08-07",22,50.61,643,null,{"$f":"M5293","v":39.568333333333335},5.54,21.344999999999999,null,{"$f":"'Combined Cycle Gas'!$D$8","v":318.30459770114948},{"$f":"Nuclear!$D$8","v":307.69444444444446},0,9.9633333333333329,2.0950000000000002,26.080000000000002,0]
["2018-08-08",1,39.33,1854,null,{"$f":"M5296","v":42.84},5.7350000000000003,21.78,null,{"$f":"'Combined Cycle Gas'!$D$8","v":318.30459770114948},{"$f":"Nuclear!$D$8","v":307.69444444444446},0,5.0933333333333328,2.9383333333333339,12.071666666666665,0]
["2018-08-08",5,27.19,788,null,{"$f":"M5300","v":20.171666666666667},4.6516666666666664,15.431666666666665,null,{"$f":"'Combined Cycle Gas'!$D$8","v":318.30459770114948},{"$f":"Nuclear!$D$8","v":307.69444444444446},0,57.413333333333334,21.916666666666668,22.039999999999996,0]
["2018-08-08",10,49.06,31,null,{"$f":"M5305","v":3.2366666666666668},2.1683333333333334,6.1066666666666665,null,{"$f":"'Combined Cycle Gas'!$D$8","v":318.30459770114948},{"$f":"Nuclear!$D$8","v":307.69444444444446},1.8722989999999999,21.563333333333336,3.7983333333333333,29.330000000000002,1872299]
["2018-08-08",12,72.88,659,null,{"$f":"M5307","v":10.981666666666667},3.9966666666666666,17.813333333333336,null,{"$f":"'Combined Cycle Gas'!$D$8","v":318.30459770114948},{"$f":"Nuclear!$D$8","v":307.69444444444446},4.4600239999999998,13.358333333333333,1.6900000000000002,3.3933333333333331,4460024]
["2018-08-08",16,56.69,1560,null,{"$f":"M5311","v":5.4966666666666661},4.085,9.3166666666666664,null,{"$f":"'Combined Cycle Gas'!$D$8","v":318.30459770114948},{"$f":"Nuclear!$D$8","v":307.69444444444446},3.2227220000000001,3.2366666666666668,2.1683333333333334,6.1066666666666665,3222722]
["2018-08-08",19,48.6,1361,null,{"$f":"M5314","v":9.6216666666666679},3.6649999999999996,2.4233333333333333,null,{"$f":"'Combined Cycle Gas'!$D$8","v":318.30459770114948},{"$f":"Nuclear!$D$8","v":307.69444444444446},0.116324,12.676666666666668,5.6466666666666674,26.971666666666664,116324]
["2018-08-08",20,52.31,2057,null,{"$f":"M5315","v":20.66},10.373333333333333,1.55,null,{"$f":"'Combined Cycle Gas'!$D$8","v":318.30459770114948},{"$f":"Nuclear!$D$8","v":307.69444444444446},0,8.6150000000000002,33.655000000000001,28.221666666666664,0]
["2018-08-08",23,39.369999999999997,2132,null,{"$f":"M5318","v":7.3},2.9283333333333332,2.4933333333333332,null,{"$f":"'Combined Cycle Gas'!$D$8","v":318.30459770114948},{"$f":"Nuclear!$D$8","v":307.69444444444446},0,8.19,6.8549999999999995,3.7216666666666671,0]
["2018-08-09",3,29.29,1646,null,{"$f":"M5322","v":2.1183333333333336},2.1133333333333333,1.3983333333333334,null,{"$f":"'Combined Cycle Gas'!$D$8","v":318.30459770114948},{"$f":"Nuclear!$D$8","v":307.69444444444446},0,22.86,2.2333333333333334,1.3866666666666667,0]
["2018-08-09",7,34.33,61,null,{"$f":"M5326","v":2.5266666666666668},2.4433333333333329,1.7483333333333333,null,{"$f":"'Combined Cycle Gas'!$D$8","v":318.30459770114948},{"$f":"Nuclear!$D$8","v":307.69444444444446},0.29450399999999999,2.6349999999999998,6.546666666666666,1.9349999999999998,294504]
["2018-08-09",10,49.2,0,null,{"$f":"M5329","v":6.0850000000000009},2.9966666666666666,2.0349999999999997,null,{"$f":"'Combined Cycle Gas'!$D$8","v":318.30459770114948},{"$f":"Nuclear!$D$8","v":307.69444444444446},5.6577719999999996,2.1983333333333337,2.1750000000000003,1.5016666666666667,5657772]
["2018-08-09",13,55.93,203,null,{"$f":"M5332","v":6.583333333333333},8.7449999999999992,2.7349999999999994,null,{"$f":"'Combined Cycle Gas'!$D$8","v":318.30459770114948},{"$f":"Nuclear!$D$8","v":307.69444444444446},5.185263,2.5266666666666668,2.4433333333333329,1.7483333333333333,5185263]
["2018-08-09",17,56.15,698,null,{"$f":"M5336","v":18.22},9.32,14.058333333333332,null,{"$f":"'Combined Cycle Gas'!$D$8","v":318.30459770114948},{"$f":"Nuclear!$D$8","v":307.69444444444446},4.2980700000000001,6.56,5.03,2.78,4298070]
["2018-08-09",20,42.12,2278,null,{"$f":"M5339","v":16.05},26.790000000000003,14.015000000000001,null,{"$f":"'Combined Cycle Gas'!$D$8","v":318.30459770114948},{"$f":"Nuclear!$D$8","v":307.69444444444446},0,8.99,11.721666666666666,7.330000000000001,0]
["2018-08-09",21,41.29,2731,null,{"$f":"M5340","v":14.334999999999999},28.26,30.090000000000003,null,{"$f":"'Combined Cycle Gas'!$D$8","v":318.30459770114948},{"$f":"Nuclear!$D$8","v":307.69444444444446},0,14.361666666666666,11.545,8.8549999999999986,0]
["2018-08-09",24,30.78,1418,null,{"$f":"M5343","v":22.778333333333332},28.445000000000004,5.586666666666666,null,{"$f":"'Combined Cycle Gas'!$D$8","v":318.30459770114948},{"$f":"Nuclear!$D$8","v":307.69444444444446},0,27.099999999999998,3.8733333333333331,18.046666666666667,0]
["2018-08-10",4,31.95,1407,null,{"$f":"M5347","v":61.228333333333332},43.32833333333334,7.0066666666666668,null,{"$f":"'Combined Cycle Gas'!$D$8","v":318.30459770114948},{"$f":"Nuclear!$D$8","v":307.69444444444446},0,7.756666666666665,36.211666666666666,70.006666666666661,0]
["2018-08-10",8,38.700000000000003,778,null,{"$f":"M5351","v":30.608333333333331},20.806666666666668,15.278333333333334,null,{"$f":"'Combined Cycle Gas'!$D$8","v":318.30459770114948},{"$f":"Nuclear!$D$8","v":307.69444444444446},4.6478409999999997,40.82,30.409999999999997,29.01,4647841]
["2018-08-10",11,55.1,994,null,{"$f":"M5354","v":8.01},37.020000000000003,28.62833333333333,null,{"$f":"'Combined Cycle Gas'!$D$8","v":318.30459770114948},{"$f":"Nuclear!$D$8","v":307.69444444444446},6.7142480000000004,53.77,49.556666666666672,6.3816666666666668,6714248]
["2018-08-10",15,113.96,972,null,{"$f":"M5358","v":56.156666666666666},15.953333333333333,31.37833333333333,null,{"$f":"'Combined Cycle Gas'!$D$8","v":318.30459770114948},{"$f":"Nuclear!$D$8","v":307.69444444444446},6.5571539999999997,28.478333333333328,21.971666666666664,7.3283333333333331,6557154]
["2018-08-10",18,63.62,2000,null,{"$f":"M5361","v":74.171666666666667},26.011666666666667,29.185000000000006,null,{"$f":"'Combined Cycle Gas'!$D$8","v":318.30459770114948},{"$f":"Nuclear!$D$8","v":307.69444444444446},2.687649,8.6033333333333335,16.889999999999997,42.336666666666666,2687649]
["2018-08-10",21,45.16,1633,null,{"$f":"M5364","v":42.330000000000005},33.551666666666669,38.341666666666661,null,{"$f":"'Combined Cycle Gas'!$D$8","v":318.30459770114948},{"$f":"Nuclear!$D$8","v":307.69444444444446},0,56.156666666666666,15.953333333333333,31.37833333333333,0]
["2018-08-11",1,27.1,2126,null,{"$f":"M5368","v":25.77},20.625000000000004,74.50333333333333,null,{"$f":"'Combined Cycle Gas'!$D$8","v":318.30459770114948},{"$f":"Nuclear!$D$8","v":307.69444444444446},0,58.280000000000008,13.833333333333334,50.910000000000004,0]
["2018-08-11",2,23.59,2353,null,{"$f":"M5369","v":16.066666666666666},10.834999999999999,51.451666666666661,null,{"$f":"'Combined Cycle Gas'!$D$8","v":318.30459770114948},{"$f":"Nuclear!$D$8","v":307.69444444444446},0,38.373333333333335,18.071666666666669,87.358333333333348,0]
["2018-08-11",5,23.72,2618,null,{"$f":"M5372","v":7.6783333333333337},6.0033333333333339,12.438333333333333,null,{"$f":"'Combined Cycle Gas'!$D$8","v":318.30459770114948},{"$f":"Nuclear!$D$8","v":307.69444444444446},0,24.198333333333334,32.728333333333332,82.333333333333329,0]
["2018-08-11",9,27.42,2235,null,{"$f":"M5376","v":9.2333333333333343},3.2916666666666661,1.4166666666666667,null,{"$f":"'Combined Cycle Gas'!$D$8","v":318.30459770114948},{"$f":"Nuclear!$D$8","v":307.69444444444446},5.932372,5.9400000000000013,4.828333333333334,48.186666666666667,5932372]
["2018-08-11",12,39.39,1536,null,{"$f":"M5379","v":15.201666666666668},19.375,1.3633333333333333,null,{"$f":"'Combined Cycle Gas'!$D$8","v":318.30459770114948},{"$f":"Nuclear!$D$8","v":307.69444444444446},6.6875609999999996,14.733333333333333,3.3666666666666671,2.8050000000000002,6687561]
["2018-08-11",16,54.56,1005,null,{"$f":"M5383","v":14.855000000000002},13.153333333333331,2.2349999999999999,null,{"$f":"'Combined Cycle Gas'!$D$8","v":318.30459770114948},{"$f":"Nuclear!$D$8","v":307.69444444444446},5.7320500000000001,31.408333333333331,2.9333333333333331,1.3366666666666667,5732050]
["2018-08-11",18,57.92,782,null,{"$f":"M5385","v":4.6133333333333333},2.4849999999999999,2.9716666666666662,null,{"$f":"'Combined Cycle Gas'!$D$8","v":318.30459770114948},{"$f":"Nuclear!$D$8","v":307.69444444444446},2.0678049999999999,15.201666666666668,19.375,1.3633333333333333,2067805]
["2018-08-11",23,25.41,2080,null,{"$f":"M5390","v":30.588333333333338},9.5516666666666676,11.685,null,{"$f":"'Combined Cycle Gas'!$D$8","v":318.30459770114948},{"$f":"Nuclear!$D$8","v":307.69444444444446},0,10.178333333333335,3.2900000000000005,2.6149999999999998,0]
["2018-08-11",24,25.25,2014,null,{"$f":"M5391","v":13.013333333333334},14.678333333333335,11.865,null,{"$f":"'Combined Cycle Gas'!$D$8","v":318.30459770114948},{"$f":"Nuclear!$D$8","v":307.69444444444446},0,4.6133333333333333,2.4849999999999999,2.9716666666666662,0]
["2018-08-12",3,25.78,1395,null,{"$f":"M5394","v":65.936666666666667},22.988333333333333,6.9950000000000001,null,{"$f":"'Combined Cycle Gas'!$D$8","v":318.30459770114948},{"$f":"Nuclear!$D$8","v":307.69444444444446},0,2.7883333333333336,2.2616666666666667,6.5716666666666681,0]
["2018-08-12",6,23.91,1523,null,{"$f":"M5397","v":4.9383333333333335},2.5133333333333332,8.6916666666666664,null,{"$f":"'Combined Cycle Gas'!$D$8","v":318.30459770114948},{"$f":"Nuclear!$D$8","v":307.69444444444446},0,13.013333333333334,14.678333333333335,11.865,0]
["2018-08-12",10,38.229999999999997,365,null,{"$f":"M5401","v":3.2650000000000001},2.7816666666666667,2.41,null,{"$f":"'Combined Cycle Gas'!$D$8","v":318.30459770114948},{"$f":"Nuclear!$D$8","v":307.69444444444446},5.965122,53.00333333333333,4.7399999999999993,5.416666666666667,5965122]
["2018-08-12",13,39.89,947,null,{"$f":"M5404","v":10.243333333333334},9.629999999999999,5.2566666666666668,null,{"$f":"'Combined Cycle Gas'!$D$8","v":318.30459770114948},{"$f":"Nuclear!$D$8","v":307.69444444444446},6.5763780000000001,3.0266666666666668,2.3466666666666671,2.8666666666666667,6576378]
["2018-08-12",15,49.13,173,null,{"$f":"M5406","v":8.3549999999999986},8.2866666666666671,4.12,null,{"$f":"'Combined Cycle Gas'!$D$8","v":318.30459770114948},{"$f":"Nuclear!$D$8","v":307.69444444444446},4.224348,3.2466666666666666,2.6516666666666668,1.5866666666666667,4224348]
["2018-08-12",21,39.51,1575,null,{"$f":"M5412","v":59.458333333333336},72.948333333333323,31.736666666666668,null,{"$f":"'Combined Cycle Gas'!$D$8","v":318.30459770114948},{"$f":"Nuclear!$D$8","v":307.69444444444446},0,8.3549999999999986,8.2866666666666671,4.12,0]
["2018-08-12",24,28.5,1554,null,{"$f":"M5415","v":111.10166666666667},89.28166666666668,8.8016666666666659,null,{"$f":"'Combined Cycle Gas'!$D$8","v":318.30459770114948},{"$f":"Nuclear!$D$8","v":307.69444444444446},0,5.458333333333333,4.4216666666666669,11.348333333333334,0]
["2018-08-13",1,26.61,2406,null,{"$f":"M5416","v":116.31833333333333},93.34333333333332,13.704999999999998,null,{"$f":"'Combined Cycle Gas'!$D$8","v":318.30459770114948},{"$f":"Nuclear!$D$8","v":307.69444444444446},0,29.021666666666665,3.9350000000000001,21.751666666666669,0]
["2018-08-13",4,29.21,1101,null,{"$f":"M5419","v":110.02},84.586666666666659,9.7649999999999988,null,{"$f":"'Combined Cycle Gas'!$D$8","v":318.30459770114948},{"$f":"Nuclear!$D$8","v":307.69444444444446},0,101.45166666666665,83.881666666666661,26.833333333333332,0]
["2018-08-13",8,35.11,0,null,{"$f":"M5423","v":32.086666666666666},19.209999999999997,2.6083333333333329,null,{"$f":"'Combined Cycle Gas'!$D$8","v":318.30459770114948},{"$f":"Nuclear!$D$8","v":307.69444444444446},2.074068,119.255,97.509999999999991,13.08,2074068]
["2018-08-13",11,40.869999999999997,0,null,{"$f":"M5426","v":4.2833333333333332},2.8883333333333336,2.3316666666666666,null,{"$f":"'Combined Cycle Gas'!$D$8","v":318.30459770114948},{"$f":"Nuclear!$D$8","v":307.69444444444446},5.7555779999999999,96.058333333333323,78.424999999999997,16.553333333333331,5755578]
["2018-08-13",16,58.27,612,null,{"$f":"M5431","v":8.4783333333333335},2.8933333333333331,2.0183333333333331,null,{"$f":"'Combined Cycle Gas'!$D$8","v":318.30459770114948},{"$f":"Nuclear!$D$8","v":307.69444444444446},5.2403870000000001,3.4816666666666669,2.8849999999999998,4.2600000000000007,5240387]
["2018-08-13",19,64.989999999999995,1054,null,{"$f":"M5434","v":18.348333333333333},25.058333333333334,10.813333333333333,null,{"$f":"'Combined Cycle Gas'!$D$8","v":318.30459770114948},{"$f":"Nuclear!$D$8","v":307.69444444444446},1.9598999999999998E-2,3.5266666666666668,2.895,2.9333333333333336,19599]
["2018-08-13",22,40.11,1636,null,{"$f":"M5437","v":70.165000000000006},75.751666666666665,45.806666666666672,null,{"$f":"'Combined Cycle Gas'!$D$8","v":318.30459770114948},{"$f":"Nuclear!$D$8","v":307.69444444444446},0,8.4783333333333335,2.8933333333333331,2.0183333333333331,0]
["2018-08-14",1,34.01,1298,null,{"$f":"M5440","v":101.10000000000001},90.67,65.933333333333337,null,{"$f":"'Combined Cycle Gas'!$D$8","v":318.30459770114948},{"$f":"Nuclear!$D$8","v":307.69444444444446},0,18.348333333333333,25.058333333333334,10.813333333333333,0]
["2018-08-14",2,27.32,1343,null,{"$f":"M5441","v":96.551666666666677},89.803333333333327,70.353333333333339,null,{"$f":"'Combined Cycle Gas'!$D$8","v":318.30459770114948},{"$f":"Nuclear!$D$8","v":307.69444444444446},0,26.658333333333335,31.209999999999997,20.643333333333334,0]
["2018-08-14",5,16.23,471,null,{"$f":"M5444","v":81.446666666666673},77.248333333333335,67.11,null,{"$f":"'Combined Cycle Gas'!$D$8","v":318.30459770114948},{"$f":"Nuclear!$D$8","v":307.69444444444446},0,92.643333333333331,78.274999999999991,50.115000000000009,0]
["2018-08-14",9,39.46,144,null,{"$f":"M5448","v":6.1599999999999993},11.278333333333334,9.5249999999999986,null,{"$f":"'Combined Cycle Gas'!$D$8","v":318.30459770114948},{"$f":"Nuclear!$D$8","v":307.69444444444446},5.6085219999999998,85.563333333333333,83.688333333333318,73.084999999999994,5608522]
["2018-08-14",13,50.99,720,null,{"$f":"M5452","v":6.044999999999999},3.7999999999999994,9.7516666666666669,null,{"$f":"'Combined Cycle Gas'!$D$8","v":318.30459770114948},{"$f":"Nuclear!$D$8","v":307.69444444444446},5.634506,55.351666666666667,55.95000000000001,45.53,5634506]
["2018-08-14",16,60.77,1219,null,{"$f":"M5455","v":3.4616666666666673},2.78,4.4283333333333337,null,{"$f":"'Combined Cycle Gas'!$D$8","v":318.30459770114948},{"$f":"Nuclear!$D$8","v":307.69444444444446},5.7155040000000001,4.8833333333333337,8.6216666666666679,2.6233333333333335,5715504]
["2018-08-14",20,42.44,2367,null,{"$f":"M5459","v":41.958333333333336},66.63333333333334,70.876666666666665,null,{"$f":"'Combined Cycle Gas'!$D$8","v":318.30459770114948},{"$f":"Nuclear!$D$8","v":307.69444444444446},0,4.6183333333333332,3.1299999999999994,4.6049999999999995,0]
["2018-08-14",23,37.840000000000003,2908,null,{"$f":"M5462","v":7.3633333333333333},24.448333333333334,62.71,null,{"$f":"'Combined Cycle Gas'!$D$8","v":318.30459770114948},{"$f":"Nuclear!$D$8","v":307.69444444444446},0,4.0333333333333332,3.2466666666666661,5.7366666666666672,0]
["2018-08-14",24,24.73,2806,null,{"$f":"M5463","v":16.811666666666664},26.301666666666666,53.844999999999999,null,{"$f":"'Combined Cycle Gas'!$D$8","v":318.30459770114948},{"$f":"Nuclear!$D$8","v":307.69444444444446},0,24.118333333333329,10.358333333333333,24.334999999999997,0]
["2018-08-15",3,26.94,2646,null,{"$f":"M5466","v":53.158333333333339},35.880000000000003,3.5950000000000002,null,{"$f":"'Combined Cycle Gas'!$D$8","v":318.30459770114948},{"$f":"Nuclear!$D$8","v":307.69444444444446},0,50.059999999999995,83.211666666666659,68.211666666666659,0]
["2018-08-15",6,24.89,1893,null,{"$f":"M5469","v":48.778333333333336},25.306666666666668,54.748333333333335,null,{"$f":"'Combined Cycle Gas'!$D$8","v":318.30459770114948},{"$f":"Nuclear!$D$8","v":307.69444444444446},6.7347000000000004E-2,16.811666666666664,26.301666666666666,53.844999999999999,67347]
["2018-08-15",11,45.21,332,null,{"$f":"M5474","v":4.0266666666666664},2.7033333333333331,7.3083333333333336,null,{"$f":"'Combined Cycle Gas'!$D$8","v":318.30459770114948},{"$f":"Nuclear!$D$8","v":307.69444444444446},6.3511959999999998,67.081666666666663,35.663333333333334,45.964999999999996,6351196]
["2018-08-15",14,66.790000000000006,1037,null,{"$f":"M5477","v":7.506666666666665},11.073333333333332,18.243333333333336,null,{"$f":"'Combined Cycle Gas'!$D$8","v":318.30459770114948},{"$f":"Nuclear!$D$8","v":307.69444444444446},5.7575229999999999,6.9249999999999998,3.4316666666666666,2.4350000000000001,5757523]
["2018-08-15",17,73.44,841,null,{"$f":"M5480","v":14.181666666666667},26.955000000000002,10.928333333333335,null,{"$f":"'Combined Cycle Gas'!$D$8","v":318.30459770114948},{"$f":"Nuclear!$D$8","v":307.69444444444446},4.2189180000000004,4.0266666666666664,2.7033333333333331,7.3083333333333336,4218918]
["2018-08-15",21,50.51,1332,null,{"$f":"M5484","v":11.25},17.314999999999998,46.136666666666663,null,{"$f":"'Combined Cycle Gas'!$D$8","v":318.30459770114948},{"$f":"Nuclear!$D$8","v":307.69444444444446},0,7.41,10.956666666666665,18.204999999999998,0]
["2018-08-15",24,39.630000000000003,450,null,{"$f":"M5487","v":41.973333333333336},27.658333333333331,71.168333333333337,null,{"$f":"'Combined Cycle Gas'!$D$8","v":318.30459770114948},{"$f":"Nuclear!$D$8","v":307.69444444444446},0,28.728333333333335,20.696666666666669,13.07,0]
["2018-08-16",3,33.630000000000003,164,null,{"$f":"M5490","v":69.348333333333329},44.134999999999998,67.444999999999993,null,{"$f":"'Combined Cycle Gas'!$D$8","v":318.30459770114948},{"$f":"Nuclear!$D$8","v":307.69444444444446},0,11.25,17.314999999999998,46.136666666666663,0]
["2018-08-16",5,27.44,48,null,{"$f":"M5492","v":46.871666666666663},32.176666666666669,37.548333333333332,null,{"$f":"'Combined Cycle Gas'!$D$8","v":318.30459770114948},{"$f":"Nuclear!$D$8","v":307.69444444444446},0,53.871666666666663,20.73,49.669999999999995,0]
["2018-08-16",8,39.61,7,null,{"$f":"M5495","v":1.8849999999999998},1.8099999999999998,5.8483333333333327,null,{"$f":"'Combined Cycle Gas'!$D$8","v":318.30459770114948},{"$f":"Nuclear!$D$8","v":307.69444444444446},4.6690449999999997,53.388333333333328,36.25,75.105000000000004,4669045]
["2018-08-16",12,68.17,693,null,{"$f":"M5499","v":8.456666666666667},11.391666666666666,4.5599999999999996,null,{"$f":"'Combined Cycle Gas'!$D$8","v":318.30459770114948},{"$f":"Nuclear!$D$8","v":307.69444444444446},5.7278650000000004,38.388333333333328,25.915000000000003,25.58666666666667,5727865]
["2018-08-16",15,67.819999999999993,813,null,{"$f":"M5502","v":5.24},10.875,2.0350000000000001,null,{"$f":"'Combined Cycle Gas'!$D$8","v":318.30459770114948},{"$f":"Nuclear!$D$8","v":307.69444444444446},5.673686,2.0900000000000003,1.61,1.1583333333333334,5673686]
["2018-08-16",18,65.81,711,null,{"$f":"M5505","v":22.304999999999996},9.7583333333333329,13.143333333333333,null,{"$f":"'Combined Cycle Gas'!$D$8","v":318.30459770114948},{"$f":"Nuclear!$D$8","v":307.69444444444446},2.6675420000000001,8.456666666666667,11.391666666666666,4.5599999999999996,2667542]
["2018-08-16",22,45.77,0,null,{"$f":"M5509","v":34.973333333333336},22.238333333333333,36.216666666666669,null,{"$f":"'Combined Cycle Gas'!$D$8","v":318.30459770114948},{"$f":"Nuclear!$D$8","v":307.69444444444446},0,11.851666666666667,14.896666666666668,4.9283333333333337,0]
["2018-08-16",24,37.340000000000003,133,null,{"$f":"M5511","v":61.868333333333339},46.671666666666674,41.818333333333335,null,{"$f":"'Combined Cycle Gas'!$D$8","v":318.30459770114948},{"$f":"Nuclear!$D$8","v":307.69444444444446},0,22.304999999999996,9.7583333333333329,13.143333333333333,0]
["2018-08-17",3,27.89,902,null,{"$f":"M5514","v":112.78500000000001},87.115000000000009,3.2516666666666665,null,{"$f":"'Combined Cycle Gas'!$D$8","v":318.30459770114948},{"$f":"Nuclear!$D$8","v":307.69444444444446},0,45.20000000000001,33.731666666666669,47.156666666666666,0]
["2018-08-17",6,26.17,586,null,{"$f":"M5517","v":121.41500000000001},87.111666666666679,1.7550000000000001,null,{"$f":"'Combined Cycle Gas'!$D$8","v":318.30459770114948},{"$f":"Nuclear!$D$8","v":307.69444444444446},7.0164000000000004E-2,61.868333333333339,46.671666666666674,41.818333333333335,70164]
["2018-08-17",9,39.47,615,null,{"$f":"M5520","v":24.981666666666666},11.505000000000001,0.39833333333333337,null,{"$f":"'Combined Cycle Gas'!$D$8","v":318.30459770114948},{"$f":"Nuclear!$D$8","v":307.69444444444446},5.6023250000000004,112.78500000000001,87.115000000000009,3.2516666666666665,5602325]
["2018-08-17",13,54.06,222,null,{"$f":"M5524","v":2.1583333333333337},2.5149999999999997,0.80333333333333334,null,{"$f":"'Combined Cycle Gas'!$D$8","v":318.30459770114948},{"$f":"Nuclear!$D$8","v":307.69444444444446},6.1374849999999999,102.94166666666668,53.856666666666676,4.5816666666666661,6137485]
["2018-08-17",16,61.82,1303,null,{"$f":"M5527","v":1.0566666666666666},3.2733333333333334,0.69166666666666676,null,{"$f":"'Combined Cycle Gas'!$D$8","v":318.30459770114948},{"$f":"Nuclear!$D$8","v":307.69444444444446},5.3903639999999999,4.4449999999999994,5.5249999999999995,0.99666666666666659,5390364]
["2018-08-17",20,76.459999999999994,445,null,{"$f":"M5531","v":5.5383333333333331},3.1883333333333339,9.9500000000000011,null,{"$f":"'Combined Cycle Gas'!$D$8","v":318.30459770114948},{"$f":"Nuclear!$D$8","v":307.69444444444446},0,1.2066666666666668,1.3383333333333332,0.81833333333333336,0]
["2018-08-17",21,60.91,732,null,{"$f":"M5532","v":51.19},4.6466666666666674,1.3083333333333333,null,{"$f":"'Combined Cycle Gas'!$D$8","v":318.30459770114948},{"$f":"Nuclear!$D$8","v":307.69444444444446},0,1.0783333333333334,3.3599999999999994,0.75166666666666659,0]
["2018-08-18",3,25.94,1048,null,{"$f":"M5538","v":126.26666666666667},106.39500000000002,60.79666666666666,null,{"$f":"'Combined Cycle Gas'!$D$8","v":318.30459770114948},{"$f":"Nuclear!$D$8","v":307.69444444444446},0,51.19,4.6466666666666674,1.3083333333333333,0]
["2018-08-18",4,26.85,960,null,{"$f":"M5539","v":129.45000000000002},104.62333333333333,67.323333333333338,null,{"$f":"'Combined Cycle Gas'!$D$8","v":318.30459770114948},{"$f":"Nuclear!$D$8","v":307.69444444444446},0,28.841666666666669,3.5833333333333335,1.8933333333333335,0]
["2018-08-18",7,30.03,349,null,{"$f":"M5542","v":92.691666666666677},82.644999999999996,43.115000000000002,null,{"$f":"'Combined Cycle Gas'!$D$8","v":318.30459770114948},{"$f":"Nuclear!$D$8","v":307.69444444444446},3.000264,104.245,95.146666666666661,61.603333333333346,3000264]
["2018-08-18",10,29.82,754,null,{"$f":"M5545","v":19.268333333333334},20.806666666666668,21.07,null,{"$f":"'Combined Cycle Gas'!$D$8","v":318.30459770114948},{"$f":"Nuclear!$D$8","v":307.69444444444446},{"$f":"P5539/10^6","v":6.516127},129.45000000000002,104.62333333333333,67.323333333333338,6516127]
["2018-08-18",14,32.32,2431,null,{"$f":"M5549","v":9.8650000000000002},8.1,10.491666666666667,null,{"$f":"'Combined Cycle Gas'!$D$8","v":318.30459770114948},{"$f":"Nuclear!$D$8","v":307.69444444444446},5.4957799999999999,69.05,53.946666666666665,36.473333333333336,5495780]
["2018-08-18",18,39.75,1833,null,{"$f":"M5553","v":9.8516666666666666},7.9516666666666653,8.93,null,{"$f":"'Combined Cycle Gas'!$D$8","v":318.30459770114948},{"$f":"Nuclear!$D$8","v":307.69444444444446},2.6035949999999999,15.146666666666667,12.516666666666666,10.415000000000001,2603595]
["2018-08-18",22,29.29,1674,null,{"$f":"M5557","v":6.3500000000000005},29.061666666666667,55.895000000000003,null,{"$f":"'Combined Cycle Gas'!$D$8","v":318.30459770114948},{"$f":"Nuclear!$D$8","v":307.69444444444446},0,10.275,8.17,9.2733333333333334,0]
["2018-08-19",1,28.94,1878,null,{"$f":"M5560","v":3.77},4.9016666666666664,7.6766666666666659,null,{"$f":"'Combined Cycle Gas'!$D$8","v":318.30459770114948},{"$f":"Nuclear!$D$8","v":307.69444444444446},0,9.4766666666666666,11.301666666666668,9.9016666666666673,0]
["2018-08-19",4,26.11,1453,null,{"$f":"M5563","v":1.0416666666666667},1.5166666666666666,2.7283333333333335,null,{"$f":"'Combined Cycle Gas'!$D$8","v":318.30459770114948},{"$f":"Nuclear!$D$8","v":307.69444444444446},0,6.3500000000000005,29.061666666666667,55.895000000000003,0]
["2018-08-19",5,24.57,1653,null,{"$f":"M5564","v":1.335},1.5283333333333333,2.7033333333333331,null,{"$f":"'Combined Cycle Gas'!$D$8","v":318.30459770114948},{"$f":"Nuclear!$D$8","v":307.69444444444446},0,9.9416666666666682,17.036666666666665,41.723333333333329,0]
["2018-08-19",8,30.2,311,null,{"$f":"M5567","v":17.906666666666666},5.41,5.8649999999999993,null,{"$f":"'Combined Cycle Gas'!$D$8","v":318.30459770114948},{"$f":"Nuclear!$D$8","v":307.69444444444446},4.3018919999999996,2.2399999999999998,2.8583333333333329,7.0383333333333331,4301892]
["2018-08-19",12,27.19,2219,null,{"$f":"M5571","v":19.043333333333333},11.969999999999999,10.951666666666666,null,{"$f":"'Combined Cycle Gas'!$D$8","v":318.30459770114948},{"$f":"Nuclear!$D$8","v":307.69444444444446},6.376868,1.0883333333333332,1.57,2.7483333333333335,6376868]
["2018-08-19",15,35.68,1981,null,{"$f":"M5574","v":11.076666666666668},9.2050000000000001,6.0316666666666663,null,{"$f":"'Combined Cycle Gas'!$D$8","v":318.30459770114948},{"$f":"Nuclear!$D$8","v":307.69444444444446},5.8664339999999999,29.405000000000001,17.331666666666667,4.8400000000000007,5866434]
["2018-08-19",19,32.549999999999997,2306,null,{"$f":"M5578","v":10.521666666666667},4.1216666666666661,14.105000000000002,null,{"$f":"'Combined Cycle Gas'!$D$8","v":318.30459770114948},{"$f":"Nuclear!$D$8","v":307.69444444444446},2.5500000000000002E-4,10.681666666666667,10.123333333333333,3.9549999999999996,255]
["2018-08-19",23,40.28,625,null,{"$f":"M5582","v":21.931666666666661},31.971666666666668,20.088333333333335,null,{"$f":"'Combined Cycle Gas'!$D$8","v":318.30459770114948},{"$f":"Nuclear!$D$8","v":307.69444444444446},0,4.9666666666666659,3.7416666666666667,6.1366666666666667,0]
["2018-08-20",2,29.13,568,null,{"$f":"M5585","v":0},0,2.3633333333333337,null,{"$f":"'Combined Cycle Gas'!$D$8","v":318.30459770114948},{"$f":"Nuclear!$D$8","v":307.69444444444446},0,42.975000000000001,8.2983333333333338,1.7299999999999998,0]
["2018-08-20",5,27.69,686,null,{"$f":"M5588","v":0},0,0,null,{"$f":"'Combined Cycle Gas'!$D$8","v":318.30459770114948},{"$f":"Nuclear!$D$8","v":307.69444444444446},0,21.931666666666661,31.971666666666668,20.088333333333335,0]
["2018-08-20",6,34.450000000000003,174,null,{"$f":"M5589","v":0},0.22833333333333336,7.3333333333333334E-2,null,{"$f":"'Combined Cycle Gas'!$D$8","v":318.30459770114948},{"$f":"Nuclear!$D$8","v":307.69444444444446},0,14.035000000000002,21.238333333333333,18.233333333333331,0]
["2018-08-20",9,39.479999999999997,0,null,{"$f":"M5592","v":0},0,0,null,{"$f":"'Combined Cycle Gas'!$D$8","v":318.30459770114948},{"$f":"Nuclear!$D$8","v":307.69444444444446},5.408709,0,0.40166666666666667,1,5408709]
["2018-08-20",12,40.51,968,null,{"$f":"M5595","v":20.346666666666668},32.778333333333329,62.91,null,{"$f":"'Combined Cycle Gas'!$D$8","v":318.30459770114948},{"$f":"Nuclear!$D$8","v":307.69444444444446},6.217822,0,0.22833333333333336,7.3333333333333334E-2,6217822]
["2018-08-20",17,45.61,1890,null,{"$f":"M5600","v":35.318333333333335},1.6283333333333332,10.013333333333334,null,{"$f":"'Combined Cycle Gas'!$D$8","v":318.30459770114948},{"$f":"Nuclear!$D$8","v":307.69444444444446},4.5148440000000001,16.396666666666668,16.855,4.6550000000000002,4514844]
["2018-08-20",20,41.07,1706,null,{"$f":"M5603","v":0.36333333333333329},2,5.07,null,{"$f":"'Combined Cycle Gas'!$D$8","v":318.30459770114948},{"$f":"Nuclear!$D$8","v":307.69444444444446},0,31.27666666666666,36.936666666666667,61.888333333333343,0]
["2018-08-20",24,27.43,2132,null,{"$f":"M5607","v":1.6833333333333336},3.22,18.688333333333333,null,{"$f":"'Combined Cycle Gas'!$D$8","v":318.30459770114948},{"$f":"Nuclear!$D$8","v":307.69444444444446},0,6.288333333333334,1.7866666666666671,4.7549999999999999,0]
["2018-08-21",3,28.3,1449,null,{"$f":"M5610","v":0},3.1416666666666671,21.911666666666665,null,{"$f":"'Combined Cycle Gas'!$D$8","v":318.30459770114948},{"$f":"Nuclear!$D$8","v":307.69444444444446},0,0.01,2.1016666666666666,6.2216666666666676,0]
["2018-08-21",6,24.88,1347,null,{"$f":"M5613","v":5.1633333333333331},15.406666666666666,5.7366666666666672,null,{"$f":"'Combined Cycle Gas'!$D$8","v":318.30459770114948},{"$f":"Nuclear!$D$8","v":307.69444444444446},1.1E-5,1.6833333333333336,3.22,18.688333333333333,11]
["2018-08-21",9,40.03,362,null,{"$f":"M5616","v":22.49},2.42,0,null,{"$f":"'Combined Cycle Gas'!$D$8","v":318.30459770114948},{"$f":"Nuclear!$D$8","v":307.69444444444446},5.7141019999999996,0,3.1416666666666671,21.911666666666665,5714102]
["2018-08-21",11,41.59,0,null,{"$f":"M5618","v":20.65666666666667},2.5433333333333334,0.64500000000000002,null,{"$f":"'Combined Cycle Gas'!$D$8","v":318.30459770114948},{"$f":"Nuclear!$D$8","v":307.69444444444446},6.2225760000000001,0.40166666666666667,11.611666666666666,13.969999999999999,6222576]
["2018-08-21",15,68.34,930,null,{"$f":"M5622","v":28.103333333333335},15.26,7.6949999999999994,null,{"$f":"'Combined Cycle Gas'!$D$8","v":318.30459770114948},{"$f":"Nuclear!$D$8","v":307.69444444444446},6.05565,22.49,2.42,0,6055650]
["2018-08-21",18,46.26,0,null,{"$f":"M5625","v":2.5249999999999999},1.5166666666666666,2.5733333333333333,null,{"$f":"'Combined Cycle Gas'!$D$8","v":318.30459770114948},{"$f":"Nuclear!$D$8","v":307.69444444444446},2.5516890000000001,32.373333333333335,2.2900000000000005,1.18,2551689]
["2018-08-21",21,53.47,323,null,{"$f":"M5628","v":9.4700000000000006},4.6783333333333337,19.18,null,{"$f":"'Combined Cycle Gas'!$D$8","v":318.30459770114948},{"$f":"Nuclear!$D$8","v":307.69444444444446},0,28.103333333333335,15.26,7.6949999999999994,0]
["2018-08-22",1,36.520000000000003,499,null,{"$f":"M5632","v":3.0683333333333334},3.43,0,null,{"$f":"'Combined Cycle Gas'!$D$8","v":318.30459770114948},{"$f":"Nuclear!$D$8","v":307.69444444444446},0,1.8116666666666665,0.70333333333333325,22.061666666666667,0]
["2018-08-22",4,32.89,51,null,{"$f":"M5635","v":0.59666666666666668},1.05,0.67499999999999993,null,{"$f":"'Combined Cycle Gas'!$D$8","v":318.30459770114948},{"$f":"Nuclear!$D$8","v":307.69444444444446},0,23.555000000000003,4.7149999999999999,13.851666666666665,0]
["2018-08-22",6,29.19,0,null,{"$f":"M5637","v":2.1833333333333331},0.42666666666666669,0.92666666666666642,null,{"$f":"'Combined Cycle Gas'!$D$8","v":318.30459770114948},{"$f":"Nuclear!$D$8","v":307.69444444444446},0,2.5483333333333333,11.949999999999998,0.57333333333333336,0]
["2018-08-22",9,39.43,0,null,{"$f":"M5640","v":32.6},25.82833333333333,0.67666666666666675,null,{"$f":"'Combined Cycle Gas'!$D$8","v":318.30459770114948},{"$f":"Nuclear!$D$8","v":307.69444444444446},4.7426389999999996,3.7449999999999997,1.1583333333333332,0,4742639]
["2018-08-22",12,53.59,0,null,{"$f":"M5643","v":8.1316666666666659},3.8850000000000002,4.3716666666666661,null,{"$f":"'Combined Cycle Gas'!$D$8","v":318.30459770114948},{"$f":"Nuclear!$D$8","v":307.69444444444446},5.2119330000000001,2.1833333333333331,0.42666666666666669,0.92666666666666642,5211933]
["2018-08-22",16,44.67,0,null,{"$f":"M5647","v":13.278333333333334},5.6566666666666663,4.4416666666666673,null,{"$f":"'Combined Cycle Gas'!$D$8","v":318.30459770114948},{"$f":"Nuclear!$D$8","v":307.69444444444446},4.63809,27.400000000000006,7.87,0.42666666666666669,4638090]
["2018-08-22",19,42.71,66,null,{"$f":"M5650","v":21.53833333333333},13.568333333333333,8.2433333333333323,null,{"$f":"'Combined Cycle Gas'!$D$8","v":318.30459770114948},{"$f":"Nuclear!$D$8","v":307.69444444444446},0,9.3783333333333321,3.7800000000000007,4.3183333333333334,0]
["2018-08-22",22,40.11,1554,null,{"$f":"M5653","v":19.058333333333334},23.033333333333331,6.2133333333333338,null,{"$f":"'Combined Cycle Gas'!$D$8","v":318.30459770114948},{"$f":"Nuclear!$D$8","v":307.69444444444446},0,13.278333333333334,5.6566666666666663,4.4416666666666673,0]
["2018-08-23",3,32.630000000000003,508,null,{"$f":"M5658","v":46.949999999999996},15.923333333333334,39.958333333333329,null,{"$f":"'Combined Cycle Gas'!$D$8","v":318.30459770114948},{"$f":"Nuclear!$D$8","v":307.69444444444446},0,22.355,45.766666666666673,3.7000000000000006,0]
["2018-08-23",6,27.04,288,null,{"$f":"M5661","v":34.643333333333338},35.201666666666661,24.133333333333336,null,{"$f":"'Combined Cycle Gas'!$D$8","v":318.30459770114948},{"$f":"Nuclear!$D$8","v":307.69444444444446},0,14.01,2.4499999999999997,20.411666666666665,0]
["2018-08-23",7,29.13,288,null,{"$f":"M5662","v":20.099999999999998},18.605,18.768333333333334,null,{"$f":"'Combined Cycle Gas'!$D$8","v":318.30459770114948},{"$f":"Nuclear!$D$8","v":307.69444444444446},6.816E-3,23.388333333333335,5.8483333333333336,24.533333333333331,6816]
["2018-08-23",10,39.57,0,null,{"$f":"M5665","v":1.05},1.4783333333333333,1.4550000000000001,null,{"$f":"'Combined Cycle Gas'!$D$8","v":318.30459770114948},{"$f":"Nuclear!$D$8","v":307.69444444444446},2.348147,50.1,19.164999999999999,37.390000000000008,2348147]
["2018-08-23",13,40.78,0,null,{"$f":"M5668","v":3.4266666666666672},3.2583333333333333,6.3916666666666666,null,{"$f":"'Combined Cycle Gas'!$D$8","v":318.30459770114948},{"$f":"Nuclear!$D$8","v":307.69444444444446},2.409764,20.099999999999998,18.605,18.768333333333334,2409764]
["2018-08-23",17,41.62,0,null,{"$f":"M5672","v":2.9533333333333336},3.0983333333333332,3.9550000000000001,null,{"$f":"'Combined Cycle Gas'!$D$8","v":318.30459770114948},{"$f":"Nuclear!$D$8","v":307.69444444444446},1.26759,2.0249999999999999,3.3966666666666661,1.5033333333333332,1267590]
["2018-08-23",20,45.31,0,null,{"$f":"M5675","v":15.733333333333333},17.658333333333335,17.959999999999997,null,{"$f":"'Combined Cycle Gas'!$D$8","v":318.30459770114948},{"$f":"Nuclear!$D$8","v":307.69444444444446},0,3.5466666666666669,4.2300000000000004,6.748333333333334,0]
["2018-08-23",24,29.32,431,null,{"$f":"M5679","v":41.24},28.653333333333332,24.133333333333336,null,{"$f":"'Combined Cycle Gas'!$D$8","v":318.30459770114948},{"$f":"Nuclear!$D$8","v":307.69444444444446},0,1.8050000000000004,3.8566666666666669,4.7150000000000007,0]
["2018-08-24",4,29.89,235,null,{"$f":"M5683","v":58.703333333333326},31.136666666666667,22.021666666666665,null,{"$f":"'Combined Cycle Gas'!$D$8","v":318.30459770114948},{"$f":"Nuclear!$D$8","v":307.69444444444446},0,33.563333333333333,46.011666666666663,11.575000000000001,0]
["2018-08-24",7,29.11,109,null,{"$f":"M5686","v":26.481666666666666},10.511666666666665,6.9316666666666675,null,{"$f":"'Combined Cycle Gas'!$D$8","v":318.30459770114948},{"$f":"Nuclear!$D$8","v":307.69444444444446},1.789682,48.284999999999997,37.973333333333336,16.569999999999997,1789682]
["2018-08-24",8,29.19,37,null,{"$f":"M5687","v":26.158333333333335},0.84666666666666668,0.79,null,{"$f":"'Combined Cycle Gas'!$D$8","v":318.30459770114948},{"$f":"Nuclear!$D$8","v":307.69444444444446},4.4680270000000002,47.743333333333339,42.148333333333333,12.57,4468027]
["2018-08-24",11,39.549999999999997,0,null,{"$f":"M5690","v":2.0350000000000001},1.0333333333333334,0.87999999999999989,null,{"$f":"'Combined Cycle Gas'!$D$8","v":318.30459770114948},{"$f":"Nuclear!$D$8","v":307.69444444444446},5.6951130000000001,47.801666666666669,22.616666666666664,16.72,5695113]
["2018-08-24",14,48.79,0,null,{"$f":"M5693","v":1.6466666666666667},1.6449999999999998,0.95833333333333337,null,{"$f":"'Combined Cycle Gas'!$D$8","v":318.30459770114948},{"$f":"Nuclear!$D$8","v":307.69444444444446},4.3591920000000002,26.158333333333335,0.84666666666666668,0.79,4359192]
["2018-08-24",18,64.569999999999993,87,null,{"$f":"M5697","v":1.5516666666666665},1.2133333333333332,4.8600000000000003,null,{"$f":"'Combined Cycle Gas'!$D$8","v":318.30459770114948},{"$f":"Nuclear!$D$8","v":307.69444444444446},2.9994200000000002,1.4266666666666667,1.1683333333333332,0.91166666666666663,2999420]
["2018-08-24",21,38.03,412,null,{"$f":"M5700","v":2.3983333333333334},8.4366666666666656,19.536666666666665,null,{"$f":"'Combined Cycle Gas'!$D$8","v":318.30459770114948},{"$f":"Nuclear!$D$8","v":307.69444444444446},0,1.6516666666666666,1.38,1.2849999999999999,0]
["2018-08-25",2,24.97,1436,null,{"$f":"M5705","v":48.223333333333329},93.263333333333321,70.058333333333323,null,{"$f":"'Combined Cycle Gas'!$D$8","v":318.30459770114948},{"$f":"Nuclear!$D$8","v":307.69444444444446},0,1.5199999999999998,2.5399999999999996,10.113333333333332,0]
["2018-08-25",5,24.89,1437,null,{"$f":"M5708","v":49.703333333333326},84.451666666666668,63.061666666666675,null,{"$f":"'Combined Cycle Gas'!$D$8","v":318.30459770114948},{"$f":"Nuclear!$D$8","v":307.69444444444446},0,3.5216666666666669,30.581666666666667,40.858333333333334,0]
["2018-08-25",8,27.17,1155,null,{"$f":"M5711","v":21.738333333333333},15.683333333333332,21.99,null,{"$f":"'Combined Cycle Gas'!$D$8","v":318.30459770114948},{"$f":"Nuclear!$D$8","v":307.69444444444446},4.1094210000000002,48.223333333333329,93.263333333333321,70.058333333333323,4109421]
["2018-08-25",9,25.23,653,null,{"$f":"M5712","v":12.666666666666666},13.163333333333334,11.228333333333333,null,{"$f":"'Combined Cycle Gas'!$D$8","v":318.30459770114948},{"$f":"Nuclear!$D$8","v":307.69444444444446},5.543622,57.788333333333334,86.728333333333339,70.795000000000002,5543622]
["2018-08-25",12,37.94,0,null,{"$f":"M5715","v":3.2433333333333336},2.6616666666666666,1.58,null,{"$f":"'Combined Cycle Gas'!$D$8","v":318.30459770114948},{"$f":"Nuclear!$D$8","v":307.69444444444446},5.9690130000000003,33.991666666666667,66.725000000000009,48.984999999999992,5969013]
["2018-08-25",18,38.79,1088,null,{"$f":"M5721","v":14.191666666666668},3.3616666666666668,2.2583333333333333,null,{"$f":"'Combined Cycle Gas'!$D$8","v":318.30459770114948},{"$f":"Nuclear!$D$8","v":307.69444444444446},1.883902,3.2433333333333336,2.6616666666666666,1.58,1883902]
["2018-08-25",20,36.619999999999997,908,null,{"$f":"M5723","v":3.773333333333333},3.2316666666666669,2.48,null,{"$f":"'Combined Cycle Gas'!$D$8","v":318.30459770114948},{"$f":"Nuclear!$D$8","v":307.69444444444446},0,4.08,2.973333333333334,7.5716666666666681,0]
["2018-08-25",23,24.07,490,null,{"$f":"M5726","v":20.068333333333332},12.253333333333332,29.299999999999997,null,{"$f":"'Combined Cycle Gas'!$D$8","v":318.30459770114948},{"$f":"Nuclear!$D$8","v":307.69444444444446},0,3.75,3.7016666666666667,2.9533333333333331,0]
["2018-08-26",3,27.23,846,null,{"$f":"M5730","v":92.751666666666665},94.765000000000001,61.704999999999991,null,{"$f":"'Combined Cycle Gas'!$D$8","v":318.30459770114948},{"$f":"Nuclear!$D$8","v":307.69444444444446},0,8.1266666666666669,4.3666666666666663,6.31,0]
["2018-08-26",6,24.84,1947,null,{"$f":"M5733","v":41.809999999999995},57.893333333333338,73.540000000000006,null,{"$f":"'Combined Cycle Gas'!$D$8","v":318.30459770114948},{"$f":"Nuclear!$D$8","v":307.69444444444446},0,76.009999999999991,50.068333333333328,44.811666666666667,0]
["2018-08-26",9,29.5,633,null,{"$f":"M5736","v":13.106666666666664},12.698333333333332,15.583333333333334,null,{"$f":"'Combined Cycle Gas'!$D$8","v":318.30459770114948},{"$f":"Nuclear!$D$8","v":307.69444444444446},5.676323,92.751666666666665,94.765000000000001,61.704999999999991,5676323]
["2018-08-26",10,29.92,334,null,{"$f":"M5737","v":5.7233333333333336},9.92,13.998333333333335,null,{"$f":"'Combined Cycle Gas'!$D$8","v":318.30459770114948},{"$f":"Nuclear!$D$8","v":307.69444444444446},{"$f":"P5731/10^6","v":6.0535209999999999},69.873333333333321,84.48833333333333,61.586666666666673,6053521]
["2018-08-26",15,39.5,116,null,{"$f":"M5742","v":5.4316666666666658},4.7733333333333334,4.1083333333333334,null,{"$f":"'Combined Cycle Gas'!$D$8","v":318.30459770114948},{"$f":"Nuclear!$D$8","v":307.69444444444446},5.1997400000000003,13.106666666666664,12.698333333333332,15.583333333333334,5199740]
["2018-08-26",18,26.18,1691,null,{"$f":"M5745","v":29.23},21.721666666666668,8.83,null,{"$f":"'Combined Cycle Gas'!$D$8","v":318.30459770114948},{"$f":"Nuclear!$D$8","v":307.69444444444446},1.952494,5.0583333333333336,7.333333333333333,40.483333333333334,1952494]
["2018-08-26",21,24.48,2072,null,{"$f":"M5748","v":51.733333333333341},37.074999999999996,16.021666666666665,null,{"$f":"'Combined Cycle Gas'!$D$8","v":318.30459770114948},{"$f":"Nuclear!$D$8","v":307.69444444444446},0,5.4316666666666658,4.7733333333333334,4.1083333333333334,0]
["2018-08-26",24,23.15,2900,null,{"$f":"M5751","v":80.376666666666665},99.736666666666665,91.643333333333331,null,{"$f":"'Combined Cycle Gas'!$D$8","v":318.30459770114948},{"$f":"Nuclear!$D$8","v":307.69444444444446},0,29.23,21.721666666666668,8.83,0]
["2018-08-27",4,32.58,1094,null,{"$f":"M5755","v":107.185},104.07333333333334,86.014999999999986,null,{"$f":"'Combined Cycle Gas'!$D$8","v":318.30459770114948},{"$f":"Nuclear!$D$8","v":307.69444444444446},0,58.228333333333332,54.266666666666673,24.060000000000002,0]
["2018-08-27",7,28.95,312,null,{"$f":"M5758","v":35.76},54.856666666666662,55.064999999999998,null,{"$f":"'Combined Cycle Gas'!$D$8","v":318.30459770114948},{"$f":"Nuclear!$D$8","v":307.69444444444446},1.406296,121.73,103.58333333333333,90.86,1406296]
["2018-08-27",10,38.549999999999997,0,null,{"$f":"M5761","v":5.6849999999999996},19.866666666666664,24.7,null,{"$f":"'Combined Cycle Gas'!$D$8","v":318.30459770114948},{"$f":"Nuclear!$D$8","v":307.69444444444446},5.5345800000000001,107.185,104.07333333333334,86.014999999999986,5534580]
["2018-08-27",12,44.68,0,null,{"$f":"M5763","v":3.1749999999999994},4.1083333333333343,3.1950000000000003,null,{"$f":"'Combined Cycle Gas'!$D$8","v":318.30459770114948},{"$f":"Nuclear!$D$8","v":307.69444444444446},4.4231759999999998,47.623333333333335,68.751666666666679,60.268333333333324,4423176]
["2018-08-27",15,48.37,0,null,{"$f":"M5766","v":3.8316666666666666},4.0516666666666667,4.5983333333333336,null,{"$f":"'Combined Cycle Gas'!$D$8","v":318.30459770114948},{"$f":"Nuclear!$D$8","v":307.69444444444446},0.89131700000000003,13.561666666666667,17.650000000000002,36.411666666666669,891317]
["2018-08-27",19,34.619999999999997,1366,null,{"$f":"M5770","v":14.564999999999998},4.6099999999999994,5.4233333333333329,null,{"$f":"'Combined Cycle Gas'!$D$8","v":318.30459770114948},{"$f":"Nuclear!$D$8","v":307.69444444444446},0,3.3233333333333337,3.9266666666666659,9.5116666666666667,0]
["2018-08-27",22,38.42,897,null,{"$f":"M5773","v":86.491666666666674},78.009999999999991,26.573333333333334,null,{"$f":"'Combined Cycle Gas'!$D$8","v":318.30459770114948},{"$f":"Nuclear!$D$8","v":307.69444444444446},0,6.9349999999999996,21.014999999999997,6.7366666666666672,0]
["2018-08-28",1,24.91,1389,null,{"$f":"M5776","v":78.545000000000002},73.891666666666666,42.578333333333333,null,{"$f":"'Combined Cycle Gas'!$D$8","v":318.30459770114948},{"$f":"Nuclear!$D$8","v":307.69444444444446},0,14.564999999999998,4.6099999999999994,5.4233333333333329,0]
["2018-08-28",5,27.25,16,null,{"$f":"M5780","v":45.541666666666664},48.26,79.444999999999993,null,{"$f":"'Combined Cycle Gas'!$D$8","v":318.30459770114948},{"$f":"Nuclear!$D$8","v":307.69444444444446},0,75.813333333333333,72.806666666666672,34.458333333333336,0]
["2018-08-28",9,29.94,31,null,{"$f":"M5784","v":7.0683333333333342},30.196666666666669,34.93333333333333,null,{"$f":"'Combined Cycle Gas'!$D$8","v":318.30459770114948},{"$f":"Nuclear!$D$8","v":307.69444444444446},5.9433530000000001,60.831666666666656,88.024999999999991,82.86,5943353]
["2018-08-28",12,39.9,0,null,{"$f":"M5787","v":22.641666666666662},21.495000000000001,19.73,null,{"$f":"'Combined Cycle Gas'!$D$8","v":318.30459770114948},{"$f":"Nuclear!$D$8","v":307.69444444444446},7.0224549999999999,14.131666666666666,35.695,66.584999999999994,7022455]
["2018-08-28",13,34.770000000000003,0,null,{"$f":"M5788","v":29.021666666666665},33.528333333333336,7.3299999999999992,null,{"$f":"'Combined Cycle Gas'!$D$8","v":318.30459770114948},{"$f":"Nuclear!$D$8","v":307.69444444444446},5.6122480000000001,13.335000000000001,34.5,75.816666666666677,5612248]
["2018-08-28",16,35.22,0,null,{"$f":"M5791","v":8.9083333333333332},24.138333333333332,21.931666666666668,null,{"$f":"'Combined Cycle Gas'!$D$8","v":318.30459770114948},{"$f":"Nuclear!$D$8","v":307.69444444444446},6.3376780000000004,23.276666666666667,22.403333333333336,15.966666666666669,6337678]
["2018-08-28",20,39.659999999999997,0,null,{"$f":"M5795","v":36.148333333333333},30.473333333333329,69.348333333333343,null,{"$f":"'Combined Cycle Gas'!$D$8","v":318.30459770114948},{"$f":"Nuclear!$D$8","v":307.69444444444446},0,25.441666666666666,31.219999999999995,19.023333333333333,0]
["2018-08-28",23,34.479999999999997,0,null,{"$f":"M5798","v":75.796666666666667},61.56333333333334,65.49666666666667,null,{"$f":"'Combined Cycle Gas'!$D$8","v":318.30459770114948},{"$f":"Nuclear!$D$8","v":307.69444444444446},0,7.088333333333332,18.356666666666666,21.891666666666666,0]
["2018-08-29",2,27.18,418,null,{"$f":"M5801","v":35.890000000000008},18.626666666666669,23.035,null,{"$f":"'Combined Cycle Gas'!$D$8","v":318.30459770114948},{"$f":"Nuclear!$D$8","v":307.69444444444446},{"$f":"P5795/10^6","v":0},36.148333333333333,30.473333333333329,69.348333333333343,0]
["2018-08-29",6,27.91,149,null,{"$f":"M5805","v":3.2599999999999993},3.0683333333333334,2.7183333333333333,null,{"$f":"'Combined Cycle Gas'!$D$8","v":318.30459770114948},{"$f":"Nuclear!$D$8","v":307.69444444444446},2.2269000000000001E-2,60.451666666666661,44.044999999999995,61.091666666666669,22269]
["2018-08-29",10,39.04,0,null,{"$f":"M5809","v":3.6333333333333329},3.6233333333333335,3.2600000000000002,null,{"$f":"'Combined Cycle Gas'!$D$8","v":318.30459770114948},{"$f":"Nuclear!$D$8","v":307.69444444444446},7.057156,6.05,3.06,19.11,7057156]
["2018-08-29",11,39.75,0,null,{"$f":"M5810","v":4.0866666666666669},4.418333333333333,6.3033333333333337,null,{"$f":"'Combined Cycle Gas'!$D$8","v":318.30459770114948},{"$f":"Nuclear!$D$8","v":307.69444444444446},7.1018169999999996,3.7216666666666662,3.3816666666666664,4.2150000000000007,7101817]
["2018-08-29",14,35.28,0,null,{"$f":"M5813","v":16.726666666666667},29.529999999999998,7.3516666666666666,null,{"$f":"'Combined Cycle Gas'!$D$8","v":318.30459770114948},{"$f":"Nuclear!$D$8","v":307.69444444444446},6.9777319999999996,3.25,3.0983333333333332,1.611666666666667,6977732]
["2018-08-29",17,31.15,411,null,{"$f":"M5816","v":35.94},67.48,34.706666666666671,null,{"$f":"'Combined Cycle Gas'!$D$8","v":318.30459770114948},{"$f":"Nuclear!$D$8","v":307.69444444444446},5.3044979999999997,4.0866666666666669,4.418333333333333,6.3033333333333337,5304498]
["2018-08-29",21,39.700000000000003,0,null,{"$f":"M5820","v":35.118333333333332},39.513333333333328,3.16,null,{"$f":"'Combined Cycle Gas'!$D$8","v":318.30459770114948},{"$f":"Nuclear!$D$8","v":307.69444444444446},0,21.735000000000003,29.716666666666669,9.6150000000000002,0]
["2018-08-29",23,39.67,0,null,{"$f":"M5822","v":14.678333333333333},5.5183333333333335,3.8883333333333336,null,{"$f":"'Combined Cycle Gas'!$D$8","v":318.30459770114948},{"$f":"Nuclear!$D$8","v":307.69444444444446},0,35.94,67.48,34.706666666666671,0]
["2018-08-30",4,27.66,304,null,{"$f":"M5827","v":14.578333333333333},6.7616666666666667,4.1616666666666662,null,{"$f":"'Combined Cycle Gas'!$D$8","v":318.30459770114948},{"$f":"Nuclear!$D$8","v":307.69444444444446},0,13.958333333333334,10.123333333333333,5.2783333333333324,0]
["2018-08-30",8,38.409999999999997,600,null,{"$f":"M5831","v":5.208333333333333},4.293333333333333,4.38,null,{"$f":"'Combined Cycle Gas'!$D$8","v":318.30459770114948},{"$f":"Nuclear!$D$8","v":307.69444444444446},4.8164819999999997,7.7149999999999999,3.5066666666666664,3.6566666666666663,4816482]
["2018-08-30",11,35.69,599,null,{"$f":"M5834","v":5.23},4.2649999999999997,5.8416666666666659,null,{"$f":"'Combined Cycle Gas'!$D$8","v":318.30459770114948},{"$f":"Nuclear!$D$8","v":307.69444444444446},6.4931559999999999,25.828333333333337,7.1499999999999995,4.9850000000000003,6493156]
["2018-08-30",12,35.799999999999997,568,null,{"$f":"M5835","v":9.1950000000000003},6.0983333333333336,4.9916666666666663,null,{"$f":"'Combined Cycle Gas'!$D$8","v":318.30459770114948},{"$f":"Nuclear!$D$8","v":307.69444444444446},6.6217680000000003,21.135000000000002,6.4316666666666675,4.5116666666666667,6621768]
["2018-08-30",15,38.54,380,null,{"$f":"M5838","v":15.906666666666666},10.565,12.768333333333333,null,{"$f":"'Combined Cycle Gas'!$D$8","v":318.30459770114948},{"$f":"Nuclear!$D$8","v":307.69444444444446},6.2778070000000001,4.6366666666666667,4.2683333333333335,4.4033333333333333,6277807]
["2018-08-30",18,35.1,473,null,{"$f":"M5841","v":29.958333333333332},12.328333333333333,7.8599999999999994,null,{"$f":"'Combined Cycle Gas'!$D$8","v":318.30459770114948},{"$f":"Nuclear!$D$8","v":307.69444444444446},2.3909479999999999,9.1950000000000003,6.0983333333333336,4.9916666666666663,2390948]
["2018-08-30",24,26.07,653,null,{"$f":"M5847","v":31.344999999999999},12.334999999999999,8.3183333333333334,null,{"$f":"'Combined Cycle Gas'!$D$8","v":318.30459770114948},{"$f":"Nuclear!$D$8","v":307.69444444444446},0,29.958333333333332,12.328333333333333,7.8599999999999994,0]
["2018-08-31",2,27.67,481,null,{"$f":"M5849","v":64.061666666666667},38.666666666666671,11.238333333333332,null,{"$f":"'Combined Cycle Gas'!$D$8","v":318.30459770114948},{"$f":"Nuclear!$D$8","v":307.69444444444446},0,29.51,5.581666666666667,5.6333333333333329,0]
["2018-08-31",5,30.1,237,null,{"$f":"M5852","v":23.504999999999999},12.875,1.67,null,{"$f":"'Combined Cycle Gas'!$D$8","v":318.30459770114948},{"$f":"Nuclear!$D$8","v":307.69444444444446},0,26.78833333333333,12.645000000000001,7.2433333333333332,0]
["2018-08-31",9,39.68,0,null,{"$f":"M5856","v":8.586666666666666},3.83,1.7633333333333336,null,{"$f":"'Combined Cycle Gas'!$D$8","v":318.30459770114948},{"$f":"Nuclear!$D$8","v":307.69444444444446},6.3506280000000004,80.533333333333317,37.014999999999993,8.3166666666666682,6350628]
["2018-08-31",12,39.57,0,null,{"$f":"M5859","v":10.36},3.5733333333333337,3.9483333333333328,null,{"$f":"'Combined Cycle Gas'!$D$8","v":318.30459770114948},{"$f":"Nuclear!$D$8","v":307.69444444444446},6.3862430000000003,7.2749999999999995,4.331666666666667,2.1616666666666671,6386243]
["2018-08-31",13,39.56,0,null,{"$f":"M5860","v":15.623333333333333},5.461666666666666,3.7099999999999995,null,{"$f":"'Combined Cycle Gas'!$D$8","v":318.30459770114948},{"$f":"Nuclear!$D$8","v":307.69444444444446},6.0573180000000004,19.62,10.908333333333331,4.2133333333333338,6057318]
["2018-08-31",16,40.17,0,null,{"$f":"M5863","v":9.0350000000000019},4.4449999999999994,4.2500000000000009,null,{"$f":"'Combined Cycle Gas'!$D$8","v":318.30459770114948},{"$f":"Nuclear!$D$8","v":307.69444444444446},6.0600870000000002,3.7466666666666666,3.83,1.6800000000000004,6060087]
["2018-08-31",21,39.61,610,null,{"$f":"M5868","v":27.094999999999999},11.461666666666668,53.125,null,{"$f":"'Combined Cycle Gas'!$D$8","v":318.30459770114948},{"$f":"Nuclear!$D$8","v":307.69444444444446},0,9.9016666666666655,8.7516666666666669,15.473333333333334,0]
["2018-08-31",24,24.09,1100,null,{"$f":"M5871","v":30.004999999999999},8.4550000000000001,2.3750000000000004,null,{"$f":"'Combined Cycle Gas'!$D$8","v":318.30459770114948},{"$f":"Nuclear!$D$8","v":307.69444444444446},0,8.4883333333333333,5.5366666666666662,1.7400000000000002,0]
["2018-09-01",3,24.81,1185,null,{"$f":"M5874","v":21.646666666666665},78.868333333333339,67.13666666666667,null,{"$f":"'Combined Cycle Gas'!$D$8","v":318.30459770114948},{"$f":"Nuclear!$D$8","v":307.69444444444446},0,27.094999999999999,11.461666666666668,53.125,0]
["2018-09-01",7,28.26,1782,null,{"$f":"M5878","v":2.6816666666666666},2.2066666666666666,11.583333333333336,null,{"$f":"'Combined Cycle Gas'!$D$8","v":318.30459770114948},{"$f":"Nuclear!$D$8","v":307.69444444444446},0.12684999999999999,15.196666666666667,7.003333333333333,28.218333333333334,126850]
["2018-09-01",10,33.22,1417,null,{"$f":"M5881","v":7.5883333333333338},2.5416666666666665,1.3033333333333332,null,{"$f":"'Combined Cycle Gas'!$D$8","v":318.30459770114948},{"$f":"Nuclear!$D$8","v":307.69444444444446},1.9805919999999999,20.083333333333332,50.436666666666667,42.231666666666662,1980592]
["2018-09-01",13,36.47,1342,null,{"$f":"M5884","v":14.424999999999999},3.7650000000000001,2.3183333333333334,null,{"$f":"'Combined Cycle Gas'!$D$8","v":318.30459770114948},{"$f":"Nuclear!$D$8","v":307.69444444444446},5.7405020000000002,2.6816666666666666,2.2066666666666666,11.583333333333336,5740502]
["2018-09-01",14,36.520000000000003,1269,null,{"$f":"M5885","v":3.8016666666666659},7.8966666666666656,5.6550000000000002,null,{"$f":"'Combined Cycle Gas'!$D$8","v":318.30459770114948},{"$f":"Nuclear!$D$8","v":307.69444444444446},6.5883700000000003,2.9016666666666668,2.3266666666666667,9.5183333333333326,6588370]
["2018-09-01",18,34.799999999999997,1885,null,{"$f":"M5889","v":2.2600000000000002},46.629999999999995,7.708333333333333,null,{"$f":"'Combined Cycle Gas'!$D$8","v":318.30459770114948},{"$f":"Nuclear!$D$8","v":307.69444444444446},1.3036589999999999,3.0033333333333334,2.8516666666666666,1.4416666666666667,1303659]
["2018-09-01",21,37.42,1212,null,{"$f":"M5892","v":2.7016666666666662},24.491666666666664,24.706666666666667,null,{"$f":"'Combined Cycle Gas'!$D$8","v":318.30459770114948},{"$f":"Nuclear!$D$8","v":307.69444444444446},0,9.3616666666666664,3.6633333333333336,19.385000000000002,0]
["2018-09-02",1,27.55,2805,null,{"$f":"M5896","v":7.6816666666666675},6.4283333333333346,21.95,null,{"$f":"'Combined Cycle Gas'!$D$8","v":318.30459770114948},{"$f":"Nuclear!$D$8","v":307.69444444444446},0,7.3166666666666664,45.663333333333334,18.013333333333332,0]
["2018-09-02",4,24.89,2565,null,{"$f":"M5899","v":4.5383333333333331},3.5266666666666668,0.93333333333333324,null,{"$f":"'Combined Cycle Gas'!$D$8","v":318.30459770114948},{"$f":"Nuclear!$D$8","v":307.69444444444446},0,3.7666666666666671,11.773333333333333,28.693333333333332,0]
["2018-09-02",8,32.76,1867,null,{"$f":"M5903","v":2.0933333333333333},1.33,0.61166666666666669,null,{"$f":"'Combined Cycle Gas'!$D$8","v":318.30459770114948},{"$f":"Nuclear!$D$8","v":307.69444444444446},5.6391419999999997,5.2049999999999992,2.6066666666666669,9.8666666666666689,5639142]
["2018-09-02",11,29.24,1535,null,{"$f":"M5906","v":6.3350000000000009},3.0100000000000002,0.74666666666666659,null,{"$f":"'Combined Cycle Gas'!$D$8","v":318.30459770114948},{"$f":"Nuclear!$D$8","v":307.69444444444446},7.1397719999999998,2.2683333333333331,1.3049999999999999,0.96333333333333337,7139772]
["2018-09-02",15,41.61,1517,null,{"$f":"M5910","v":9.5283333333333342},5.61,1.33,null,{"$f":"'Combined Cycle Gas'!$D$8","v":318.30459770114948},{"$f":"Nuclear!$D$8","v":307.69444444444446},6.7216620000000002,2.5883333333333334,1.4049999999999996,0.64,6721662]
["2018-09-02",16,33.97,1338,null,{"$f":"M5911","v":12.659999999999998},7.4316666666666658,4.5433333333333339,null,{"$f":"'Combined Cycle Gas'!$D$8","v":318.30459770114948},{"$f":"Nuclear!$D$8","v":307.69444444444446},6.4706720000000004,4.915,1.8,0.72000000000000008,6470672]
["2018-09-02",19,31.11,1740,null,{"$f":"M5914","v":35.876666666666672},18.686666666666667,11.101666666666667,null,{"$f":"'Combined Cycle Gas'!$D$8","v":318.30459770114948},{"$f":"Nuclear!$D$8","v":307.69444444444446},1.0116E-2,15.691666666666668,6.9249999999999998,0.92666666666666664,10116]
["2018-09-02",23,30.94,3031,null,{"$f":"M5918","v":64.414999999999992},24.223333333333333,14.353333333333332,null,{"$f":"'Combined Cycle Gas'!$D$8","v":318.30459770114948},{"$f":"Nuclear!$D$8","v":307.69444444444446},0,22.85166666666667,9.65,8.3866666666666667,0]
["2018-09-03",2,31.25,1411,null,{"$f":"M5921","v":38.32833333333334},21.266666666666666,1.9833333333333332,null,{"$f":"'Combined Cycle Gas'!$D$8","v":318.30459770114948},{"$f":"Nuclear!$D$8","v":307.69444444444446},0,45.330000000000005,10.343333333333332,16.908333333333331,0]
["2018-09-03",5,32.659999999999997,636,null,{"$f":"M5924","v":2.6116666666666664},2.8533333333333335,1.2833333333333334,null,{"$f":"'Combined Cycle Gas'!$D$8","v":318.30459770114948},{"$f":"Nuclear!$D$8","v":307.69444444444446},0,64.414999999999992,24.223333333333333,14.353333333333332,0]
["2018-09-03",9,48.57,400,null,{"$f":"M5928","v":2.5666666666666669},1.7433333333333334,1.1166666666666669,null,{"$f":"'Combined Cycle Gas'!$D$8","v":318.30459770114948},{"$f":"Nuclear!$D$8","v":307.69444444444446},1.0374840000000001,33.736666666666665,4.1100000000000003,4.6766666666666667,1037484]
["2018-09-03",12,53.01,241,null,{"$f":"M5931","v":2.9},2.2999999999999998,1.343333333333333,null,{"$f":"'Combined Cycle Gas'!$D$8","v":318.30459770114948},{"$f":"Nuclear!$D$8","v":307.69444444444446},2.816986,2.5566666666666666,4.4683333333333328,1.2583333333333333,2816986]
["2018-09-03",16,43.78,456,null,{"$f":"M5935","v":3.5016666666666665},4.663333333333334,1.7100000000000002,null,{"$f":"'Combined Cycle Gas'!$D$8","v":318.30459770114948},{"$f":"Nuclear!$D$8","v":307.69444444444446},5.4699179999999998,2.6833333333333336,1.8950000000000002,1.135,5469918]
["2018-09-03",17,43.97,154,null,{"$f":"M5936","v":8.0666666666666682},7.3283333333333331,4.291666666666667,null,{"$f":"'Combined Cycle Gas'!$D$8","v":318.30459770114948},{"$f":"Nuclear!$D$8","v":307.69444444444446},3.7464529999999998,2.7133333333333334,1.87,1.2166666666666666,3746453]
["2018-09-03",20,75.44,596,null,{"$f":"M5939","v":49.498333333333335},27.783333333333331,29.05,null,{"$f":"'Combined Cycle Gas'!$D$8","v":318.30459770114948},{"$f":"Nuclear!$D$8","v":307.69444444444446},0,4.1416666666666666,3.2833333333333332,1.2300000000000002,0]
["2018-09-03",24,4.38,1842,null,{"$f":"M5943","v":13.933333333333335},12.100000000000001,12.863333333333335,null,{"$f":"'Combined Cycle Gas'!$D$8","v":318.30459770114948},{"$f":"Nuclear!$D$8","v":307.69444444444446},0,9.4450000000000003,13.331666666666669,7.2633333333333328,0]
["2018-09-04",3,20.53,1289,null,{"$f":"M5946","v":19.408333333333335},2.65,8.5216666666666665,null,{"$f":"'Combined Cycle Gas'!$D$8","v":318.30459770114948},{"$f":"Nuclear!$D$8","v":307.69444444444446},0,53.341666666666669,24.38,32.93833333333334,0]
["2018-09-04",5,29.2,1141,null,{"$f":"M5948","v":5.6016666666666666},1.66,2.3800000000000003,null,{"$f":"'Combined Cycle Gas'!$D$8","v":318.30459770114948},{"$f":"Nuclear!$D$8","v":307.69444444444446},0,24.948333333333334,17.588333333333335,19.478333333333335,0]
["2018-09-04",11,47.84,1347,null,{"$f":"M5954","v":7.128333333333333},1.8600000000000003,2.2149999999999999,null,{"$f":"'Combined Cycle Gas'!$D$8","v":318.30459770114948},{"$f":"Nuclear!$D$8","v":307.69444444444446},5.5892400000000002,5.6016666666666666,1.66,2.3800000000000003,5589240]
["2018-09-04",14,39.78,251,null,{"$f":"M5957","v":4.378333333333333},1.9583333333333333,9.3416666666666668,null,{"$f":"'Combined Cycle Gas'!$D$8","v":318.30459770114948},{"$f":"Nuclear!$D$8","v":307.69444444444446},5.9012560000000001,2.3883333333333336,1.7383333333333333,1.3733333333333337,5901256]
["2018-09-04",17,39.54,176,null,{"$f":"M5960","v":5.8183333333333325},3.3483333333333332,1.7366666666666664,null,{"$f":"'Combined Cycle Gas'!$D$8","v":318.30459770114948},{"$f":"Nuclear!$D$8","v":307.69444444444446},2.8536760000000001,7.128333333333333,1.8600000000000003,2.2149999999999999,2853676]
["2018-09-04",18,39.619999999999997,0,null,{"$f":"M5961","v":14.255000000000001},4.8266666666666671,3.8566666666666669,null,{"$f":"'Combined Cycle Gas'!$D$8","v":318.30459770114948},{"$f":"Nuclear!$D$8","v":307.69444444444446},1.2086319999999999,4.9183333333333339,1.8266666666666664,3.2783333333333329,1208632]
["2018-09-04",21,40.43,0,null,{"$f":"M5964","v":62.923333333333325},17.018333333333334,8.4433333333333334,null,{"$f":"'Combined Cycle Gas'!$D$8","v":318.30459770114948},{"$f":"Nuclear!$D$8","v":307.69444444444446},0,3.4533333333333331,2.415,2.395,0]
["2018-09-05",1,29.83,11,null,{"$f":"M5968","v":44.711666666666666},6.2183333333333337,5.3883333333333328,null,{"$f":"'Combined Cycle Gas'!$D$8","v":318.30459770114948},{"$f":"Nuclear!$D$8","v":307.69444444444446},0,20.084999999999997,7.6333333333333329,4.3266666666666671,0]
["2018-09-05",6,27.93,41,null,{"$f":"M5973","v":2.52},1.9366666666666665,1.5366666666666668,null,{"$f":"'Combined Cycle Gas'!$D$8","v":318.30459770114948},{"$f":"Nuclear!$D$8","v":307.69444444444446},0,49.5,14.875000000000002,16.914999999999999,0]
["2018-09-05",8,40.96,0,null,{"$f":"M5975","v":2.5216666666666669},1.9166666666666667,1.4949999999999999,null,{"$f":"'Combined Cycle Gas'!$D$8","v":318.30459770114948},{"$f":"Nuclear!$D$8","v":307.69444444444446},1.4387110000000001,17.906666666666666,2.0049999999999994,1.51,1438711]
["2018-09-05",12,40.340000000000003,0,null,{"$f":"M5979","v":2.9000000000000004},1.9916666666666665,2,null,{"$f":"'Combined Cycle Gas'!$D$8","v":318.30459770114948},{"$f":"Nuclear!$D$8","v":307.69444444444446},2.8184100000000001,2.52,1.9366666666666665,1.5366666666666668,2818410]
["2018-09-05",15,53.05,366,null,{"$f":"M5982","v":2.9966666666666666},4.7050000000000001,6.8283333333333331,null,{"$f":"'Combined Cycle Gas'!$D$8","v":318.30459770114948},{"$f":"Nuclear!$D$8","v":307.69444444444446},2.9717709999999999,2.5333333333333332,1.9550000000000001,1.4616666666666667,2971771]
["2018-09-05",16,41.09,78,null,{"$f":"M5983","v":4.6833333333333327},6.5,13.53,null,{"$f":"'Combined Cycle Gas'!$D$8","v":318.30459770114948},{"$f":"Nuclear!$D$8","v":307.69444444444446},3.579777,2.6066666666666669,2.0116666666666667,1.5083333333333335,3579777]
["2018-09-05",19,40.57,0,null,{"$f":"M5986","v":19.668333333333333},45.313333333333333,18.62,null,{"$f":"'Combined Cycle Gas'!$D$8","v":318.30459770114948},{"$f":"Nuclear!$D$8","v":307.69444444444446},1E-3,3.4116666666666666,2.0383333333333331,2.2083333333333335,1000]
["2018-09-05",23,33.450000000000003,416,null,{"$f":"M5990","v":38.475000000000001},20.268333333333334,14.274999999999999,null,{"$f":"'Combined Cycle Gas'!$D$8","v":318.30459770114948},{"$f":"Nuclear!$D$8","v":307.69444444444446},0,11.656666666666666,7.5766666666666653,15.743333333333332,0]
["2018-09-06",3,25.91,315,null,{"$f":"M5994","v":69.286666666666662},27.491666666666671,11.613333333333332,null,{"$f":"'Combined Cycle Gas'!$D$8","v":318.30459770114948},{"$f":"Nuclear!$D$8","v":307.69444444444446},0,52.095000000000006,30.685000000000002,21.793333333333333,0]
["2018-09-06",6,27.23,0,null,{"$f":"M5997","v":25.703333333333333},4.07,1.1449999999999998,null,{"$f":"'Combined Cycle Gas'!$D$8","v":318.30459770114948},{"$f":"Nuclear!$D$8","v":307.69444444444446},0,56.034999999999997,19.551666666666666,12.533333333333333,0]
["2018-09-06",9,39.61,0,null,{"$f":"M6000","v":2.21},1.7683333333333333,1.2983333333333333,null,{"$f":"'Combined Cycle Gas'!$D$8","v":318.30459770114948},{"$f":"Nuclear!$D$8","v":307.69444444444446},6.0040380000000004,69.286666666666662,27.491666666666671,11.613333333333332,6004038]
["2018-09-06",13,41.14,0,null,{"$f":"M6004","v":2.5783333333333336},2.6233333333333331,1.4383333333333335,null,{"$f":"'Combined Cycle Gas'!$D$8","v":318.30459770114948},{"$f":"Nuclear!$D$8","v":307.69444444444446},4.7765279999999999,8.8166666666666664,1.6016666666666666,1.1299999999999999,4776528]
["2018-09-06",16,41.76,0,null,{"$f":"M6007","v":8.5866666666666678},4.0333333333333332,1.6950000000000001,null,{"$f":"'Combined Cycle Gas'!$D$8","v":318.30459770114948},{"$f":"Nuclear!$D$8","v":307.69444444444446},4.7018079999999998,2.56,1.7550000000000001,1.2016666666666669,4701808]
["2018-09-06",17,42.38,0,null,{"$f":"M6008","v":6.6616666666666662},2.1466666666666665,1.6166666666666669,null,{"$f":"'Combined Cycle Gas'!$D$8","v":318.30459770114948},{"$f":"Nuclear!$D$8","v":307.69444444444446},3.8792,2.1349999999999998,1.9433333333333336,1.4149999999999998,3879200]
["2018-09-06",20,41.22,240,null,{"$f":"M6011","v":8.4683333333333337},8.2366666666666664,21.166666666666668,null,{"$f":"'Combined Cycle Gas'!$D$8","v":318.30459770114948},{"$f":"Nuclear!$D$8","v":307.69444444444446},0,3.9349999999999992,5.8633333333333333,1.5,0]
["2018-09-06",24,21.13,0,null,{"$f":"M6015","v":23.891666666666669},20.059999999999999,25.899999999999995,null,{"$f":"'Combined Cycle Gas'!$D$8","v":318.30459770114948},{"$f":"Nuclear!$D$8","v":307.69444444444446},0,6.7866666666666662,1.2633333333333334,1.9916666666666669,0]
["2018-09-07",4,26.16,2,null,{"$f":"M6019","v":11.229999999999999},14.755000000000001,34.691666666666663,null,{"$f":"'Combined Cycle Gas'!$D$8","v":318.30459770114948},{"$f":"Nuclear!$D$8","v":307.69444444444446},0,18.785,13.683333333333335,13.035000000000002,0]
["2018-09-07",7,39.72,13,null,{"$f":"M6022","v":14.98666666666667},1.6016666666666668,4.3583333333333334,null,{"$f":"'Combined Cycle Gas'!$D$8","v":318.30459770114948},{"$f":"Nuclear!$D$8","v":307.69444444444446},0.72163200000000005,12.24,21.549999999999997,36.384999999999998,721632]
["2018-09-07",11,39.08,0,null,{"$f":"M6026","v":0.92166666666666652},1.0983333333333334,0.70333333333333325,null,{"$f":"'Combined Cycle Gas'!$D$8","v":318.30459770114948},{"$f":"Nuclear!$D$8","v":307.69444444444446},5.4498119999999997,5.0233333333333334,6.0083333333333329,21.03833333333333,5449812]
["2018-09-07",14,40.409999999999997,0,null,{"$f":"M6029","v":3.1416666666666671},4.7783333333333333,3.74,null,{"$f":"'Combined Cycle Gas'!$D$8","v":318.30459770114948},{"$f":"Nuclear!$D$8","v":307.69444444444446},5.8147840000000004,12.021666666666667,1.0516666666666665,0.68500000000000016,5814784]
["2018-09-07",17,41.07,0,null,{"$f":"M6032","v":9.2516666666666652},1.5616666666666668,1.3216666666666665,null,{"$f":"'Combined Cycle Gas'!$D$8","v":318.30459770114948},{"$f":"Nuclear!$D$8","v":307.69444444444446},3.7876509999999999,0.92166666666666652,1.0983333333333334,0.70333333333333325,3787651]
["2018-09-07",21,40.22,291,null,{"$f":"M6036","v":45.001666666666665},33.195,4.581666666666667,null,{"$f":"'Combined Cycle Gas'!$D$8","v":318.30459770114948},{"$f":"Nuclear!$D$8","v":307.69444444444446},0,2.2100000000000004,2.63,1.7450000000000001,0]
["2018-09-07",22,39.67,337,null,{"$f":"M6037","v":69.948333333333338},45.24,1.9883333333333333,null,{"$f":"'Combined Cycle Gas'!$D$8","v":318.30459770114948},{"$f":"Nuclear!$D$8","v":307.69444444444446},0,1.885,2.8466666666666662,1.8266666666666664,0]
["2018-09-08",1,26.08,617,null,{"$f":"M6040","v":125.80166666666666},94.701666666666668,76.84,null,{"$f":"'Combined Cycle Gas'!$D$8","v":318.30459770114948},{"$f":"Nuclear!$D$8","v":307.69444444444446},0,27.506666666666664,19.465,2.8733333333333335,0]
["2018-09-08",5,24.81,736,null,{"$f":"M6044","v":31.123333333333335},42.013333333333328,55.771666666666668,null,{"$f":"'Combined Cycle Gas'!$D$8","v":318.30459770114948},{"$f":"Nuclear!$D$8","v":307.69444444444446},0,102.80000000000001,78.026666666666657,11.49,0]
["2018-09-08",8,29.89,459,null,{"$f":"M6047","v":0.32500000000000001},0.80333333333333334,0.18666666666666668,null,{"$f":"'Combined Cycle Gas'!$D$8","v":318.30459770114948},{"$f":"Nuclear!$D$8","v":307.69444444444446},5.1196099999999998,127.46666666666665,87.821666666666673,88.684999999999988,5119610]
["2018-09-08",12,36.049999999999997,85,null,{"$f":"M6051","v":0.03},0.92666666666666642,0.81666666666666676,null,{"$f":"'Combined Cycle Gas'!$D$8","v":318.30459770114948},{"$f":"Nuclear!$D$8","v":307.69444444444446},5.9779640000000001,4.1633333333333331,14.975000000000001,31.548333333333332,5977964]
["2018-09-08",14,37.159999999999997,277,null,{"$f":"M6053","v":0.40833333333333338},1.31,0.79333333333333333,null,{"$f":"'Combined Cycle Gas'!$D$8","v":318.30459770114948},{"$f":"Nuclear!$D$8","v":307.69444444444446},5.7670240000000002,0.32500000000000001,0.80333333333333334,0.18666666666666668,5767024]
["2018-09-08",19,40.1,432,null,{"$f":"M6058","v":5.9366666666666674},5.7850000000000001,4.915,null,{"$f":"'Combined Cycle Gas'!$D$8","v":318.30459770114948},{"$f":"Nuclear!$D$8","v":307.69444444444446},4.4700000000000002E-4,0.12499999999999999,0.90166666666666673,12.018333333333333,447]
["2018-09-08",20,40.15,627,null,{"$f":"M6059","v":5.4133333333333331},12.043333333333331,3.0866666666666664,null,{"$f":"'Combined Cycle Gas'!$D$8","v":318.30459770114948},{"$f":"Nuclear!$D$8","v":307.69444444444446},0,0.40833333333333338,1.31,0.79333333333333333,0]
["2018-09-08",23,25.49,1177,null,{"$f":"M6062","v":15.898333333333333},7.1033333333333326,22.765000000000004,null,{"$f":"'Combined Cycle Gas'!$D$8","v":318.30459770114948},{"$f":"Nuclear!$D$8","v":307.69444444444446},0,0.34999999999999992,36.414999999999999,1.3933333333333335,0]
["2018-09-09",2,21.73,1364,null,{"$f":"M6065","v":26.961666666666662},40.023333333333333,1.9183333333333332,null,{"$f":"'Combined Cycle Gas'!$D$8","v":318.30459770114948},{"$f":"Nuclear!$D$8","v":307.69444444444446},0,5.4133333333333331,12.043333333333331,3.0866666666666664,0]
["2018-09-09",6,26.14,1424,null,{"$f":"M6069","v":38.351666666666667},37.299999999999997,12.291666666666666,null,{"$f":"'Combined Cycle Gas'!$D$8","v":318.30459770114948},{"$f":"Nuclear!$D$8","v":307.69444444444446},0,28.733333333333331,21.45,2.8033333333333332,0]
["2018-09-09",9,25.76,459,null,{"$f":"M6072","v":15.375000000000002},6.6633333333333331,8.6,null,{"$f":"'Combined Cycle Gas'!$D$8","v":318.30459770114948},{"$f":"Nuclear!$D$8","v":307.69444444444446},6.497662,33.048333333333339,37.331666666666671,2.1833333333333336,6497662]
["2018-09-09",11,28.65,348,null,{"$f":"M6074","v":6.4616666666666669},4.1383333333333336,4.08,null,{"$f":"'Combined Cycle Gas'!$D$8","v":318.30459770114948},{"$f":"Nuclear!$D$8","v":307.69444444444446},6.9433100000000003,48.583333333333336,37.623333333333335,9.66,6943310]
["2018-09-09",17,37.090000000000003,1228,null,{"$f":"M6080","v":14.608333333333333},16.658333333333331,3.7149999999999999,null,{"$f":"'Combined Cycle Gas'!$D$8","v":318.30459770114948},{"$f":"Nuclear!$D$8","v":307.69444444444446},4.9798819999999999,6.4616666666666669,4.1383333333333336,4.08,4979882]
["2018-09-09",20,27.71,2563,null,{"$f":"M6083","v":128.63333333333333},83.286666666666662,45.193333333333335,null,{"$f":"'Combined Cycle Gas'!$D$8","v":318.30459770114948},{"$f":"Nuclear!$D$8","v":307.69444444444446},0,3.72,4.3283333333333331,42.238333333333337,0]
["2018-09-09",21,27.61,2152,null,{"$f":"M6084","v":108.95666666666666},82.868333333333339,40.828333333333333,null,{"$f":"'Combined Cycle Gas'!$D$8","v":318.30459770114948},{"$f":"Nuclear!$D$8","v":307.69444444444446},0,7.5583333333333336,3.2850000000000001,6.0516666666666667,0]
["2018-09-09",24,16.16,1294,null,{"$f":"M6087","v":89.098333333333343},79.073333333333338,48.52,null,{"$f":"'Combined Cycle Gas'!$D$8","v":318.30459770114948},{"$f":"Nuclear!$D$8","v":307.69444444444446},0,59.78,3.5016666666666665,2.61,0]
["2018-09-10",4,25.86,1511,null,{"$f":"M6091","v":128.97666666666666},98.086666666666659,74.456666666666663,null,{"$f":"'Combined Cycle Gas'!$D$8","v":318.30459770114948},{"$f":"Nuclear!$D$8","v":307.69444444444446},0,58.835000000000001,69.311666666666682,37.03,0]
["2018-09-10",7,39.18,968,null,{"$f":"M6094","v":64.268333333333331},76.760000000000005,52.524999999999999,null,{"$f":"'Combined Cycle Gas'!$D$8","v":318.30459770114948},{"$f":"Nuclear!$D$8","v":307.69444444444446},0.425035,85.990000000000009,67.516666666666666,63.013333333333343,425035]
["2018-09-10",12,33.49,745,null,{"$f":"M6099","v":10.81},11.946666666666667,19.216666666666665,null,{"$f":"'Combined Cycle Gas'!$D$8","v":318.30459770114948},{"$f":"Nuclear!$D$8","v":307.69444444444446},2.1044170000000002,95.87833333333333,87.48,63.661666666666669,2104417]
["2018-09-10",15,38.56,225,null,{"$f":"M6102","v":10.831666666666665},10.288333333333334,15.045000000000002,null,{"$f":"'Combined Cycle Gas'!$D$8","v":318.30459770114948},{"$f":"Nuclear!$D$8","v":307.69444444444446},1.071272,26.431666666666668,18.568333333333332,31.833333333333339,1071272]
["2018-09-10",18,38.6,288,null,{"$f":"M6105","v":61.07},24.218333333333334,27.556666666666668,null,{"$f":"'Combined Cycle Gas'!$D$8","v":318.30459770114948},{"$f":"Nuclear!$D$8","v":307.69444444444446},6.8099999999999996E-4,10.81,11.946666666666667,19.216666666666665,681]
["2018-09-10",21,27.2,1416,null,{"$f":"M6108","v":110.07499999999999},72.24499999999999,47.47,null,{"$f":"'Combined Cycle Gas'!$D$8","v":318.30459770114948},{"$f":"Nuclear!$D$8","v":307.69444444444446},0,10.831666666666665,10.288333333333334,15.045000000000002,0]
["2018-09-10",22,37.04,1644,null,{"$f":"M6109","v":36.39},81.736666666666665,64.673333333333332,null,{"$f":"'Combined Cycle Gas'!$D$8","v":318.30459770114948},{"$f":"Nuclear!$D$8","v":307.69444444444446},0,7.7116666666666669,39.061666666666667,9.0533333333333328,0]
["2018-09-11",1,24.1,2408,null,{"$f":"M6112","v":142.05666666666664},94.671666666666667,45.593333333333334,null,{"$f":"'Combined Cycle Gas'!$D$8","v":318.30459770114948},{"$f":"Nuclear!$D$8","v":307.69444444444446},0,65.326666666666668,31.753333333333341,26.795000000000002,0]
["2018-09-11",5,22.92,2412,null,{"$f":"M6116","v":134.71333333333334},106.08666666666669,68.459999999999994,null,{"$f":"'Combined Cycle Gas'!$D$8","v":318.30459770114948},{"$f":"Nuclear!$D$8","v":307.69444444444446},0,112.63833333333334,62.785000000000004,63.121666666666663,0]
["2018-09-11",9,39.19,556,null,{"$f":"M6120","v":38.479999999999997},48.323333333333331,33.766666666666673,null,{"$f":"'Combined Cycle Gas'!$D$8","v":318.30459770114948},{"$f":"Nuclear!$D$8","v":307.69444444444446},0.57203700000000002,148.78833333333333,109.70166666666665,86.305000000000007,572037]
["2018-09-11",12,37.53,81,null,{"$f":"M6123","v":23.823333333333334},16.75,13.038333333333334,null,{"$f":"'Combined Cycle Gas'!$D$8","v":318.30459770114948},{"$f":"Nuclear!$D$8","v":307.69444444444446},2.8179020000000001,122.73666666666666,108.52166666666666,66.88,2817902]
["2018-09-11",16,34.659999999999997,432,null,{"$f":"M6127","v":31.321666666666669},17.049999999999997,12.483333333333334,null,{"$f":"'Combined Cycle Gas'!$D$8","v":318.30459770114948},{"$f":"Nuclear!$D$8","v":307.69444444444446},1.6168290000000001,28.625,31.355,29.608333333333334,1616829]
["2018-09-11",19,31.06,1524,null,{"$f":"M6130","v":52.548333333333339},30.613333333333333,27.548333333333332,null,{"$f":"'Combined Cycle Gas'!$D$8","v":318.30459770114948},{"$f":"Nuclear!$D$8","v":307.69444444444446},0,26.503333333333334,18.466666666666669,12.106666666666667,0]
["2018-09-11",22,33.64,1969,null,{"$f":"M6133","v":133.80666666666667},95.961666666666659,77.106666666666669,null,{"$f":"'Combined Cycle Gas'!$D$8","v":318.30459770114948},{"$f":"Nuclear!$D$8","v":307.69444444444446},0,31.321666666666669,17.049999999999997,12.483333333333334,0]
["2018-09-11",23,14.7,2558,null,{"$f":"M6134","v":135.67999999999998},101.29833333333335,84.185000000000002,null,{"$f":"'Combined Cycle Gas'!$D$8","v":318.30459770114948},{"$f":"Nuclear!$D$8","v":307.69444444444446},0,36.235000000000007,14.805,10.846666666666666,0]
["2018-09-12",2,29.29,859,null,{"$f":"M6137","v":142.50500000000002},105.87333333333333,96.59666666666665,null,{"$f":"'Combined Cycle Gas'!$D$8","v":318.30459770114948},{"$f":"Nuclear!$D$8","v":307.69444444444446},0,77.2,57.509999999999991,30.28,0]
["2018-09-12",7,39.200000000000003,527,null,{"$f":"M6142","v":133.22499999999999},102.73666666666668,88.475000000000009,null,{"$f":"'Combined Cycle Gas'!$D$8","v":318.30459770114948},{"$f":"Nuclear!$D$8","v":307.69444444444446},7.4426999999999993E-2,134.79999999999998,102.40166666666666,83.039999999999992,74427]
["2018-09-12",10,41.86,260,null,{"$f":"M6145","v":60.511666666666677},68.98,81.043333333333337,null,{"$f":"'Combined Cycle Gas'!$D$8","v":318.30459770114948},{"$f":"Nuclear!$D$8","v":307.69444444444446},2.1415679999999999,141.93500000000003,103.73,96.021666666666661,2141568]
["2018-09-12",13,41.58,31,null,{"$f":"M6148","v":36.50333333333333},63.276666666666664,35.093333333333327,null,{"$f":"'Combined Cycle Gas'!$D$8","v":318.30459770114948},{"$f":"Nuclear!$D$8","v":307.69444444444446},2.8393929999999998,133.22499999999999,102.73666666666668,88.475000000000009,2839393]
["2018-09-12",17,51.56,369,null,{"$f":"M6152","v":127.28666666666668},99.766666666666666,80.865000000000009,null,{"$f":"'Combined Cycle Gas'!$D$8","v":318.30459770114948},{"$f":"Nuclear!$D$8","v":307.69444444444446},1.5270140000000001,45.226666666666667,42.735000000000007,64.211666666666673,1527014]
["2018-09-12",20,52.09,192,null,{"$f":"M6155","v":133.57166666666669},101.75833333333333,91.514999999999986,null,{"$f":"'Combined Cycle Gas'!$D$8","v":318.30459770114948},{"$f":"Nuclear!$D$8","v":307.69444444444446},0,14.225000000000001,60.19,41.878333333333337,0]
["2018-09-12",23,37.61,137,null,{"$f":"M6158","v":133.67500000000001},98.914999999999978,93.125,null,{"$f":"'Combined Cycle Gas'!$D$8","v":318.30459770114948},{"$f":"Nuclear!$D$8","v":307.69444444444446},0,127.28666666666668,99.766666666666666,80.865000000000009,0]
["2018-09-13",1,26.12,89,null,{"$f":"M6160","v":128.98666666666668},95.970000000000013,92.241666666666674,null,{"$f":"'Combined Cycle Gas'!$D$8","v":318.30459770114948},{"$f":"Nuclear!$D$8","v":307.69444444444446},0,134.60666666666665,103.12833333333333,91.008333333333326,0]
["2018-09-13",4,29.35,794,null,{"$f":"M6163","v":89.986666666666665},82.763333333333321,79.325000000000003,null,{"$f":"'Combined Cycle Gas'!$D$8","v":318.30459770114948},{"$f":"Nuclear!$D$8","v":307.69444444444446},0,130.10833333333332,99.385000000000005,91.658333333333346,0]
["2018-09-13",8,40.71,623,null,{"$f":"M6167","v":3.7083333333333335},6.53,33.081666666666671,null,{"$f":"'Combined Cycle Gas'!$D$8","v":318.30459770114948},{"$f":"Nuclear!$D$8","v":307.69444444444446},5.0782280000000002,121.37,92.308333333333323,86.143333333333331,5078228]
["2018-09-13",11,41.24,42,null,{"$f":"M6170","v":9.2983333333333338},4.6816666666666675,9.5266666666666655,null,{"$f":"'Combined Cycle Gas'!$D$8","v":318.30459770114948},{"$f":"Nuclear!$D$8","v":307.69444444444446},6.8657209999999997,71.946666666666673,38.26,61.425000000000004,6865721]
["2018-09-13",14,42.62,9,null,{"$f":"M6173","v":8.8550000000000004},4.9433333333333325,18.993333333333332,null,{"$f":"'Combined Cycle Gas'!$D$8","v":318.30459770114948},{"$f":"Nuclear!$D$8","v":307.69444444444446},6.5659210000000003,3.7083333333333335,6.53,33.081666666666671,6565921]
["2018-09-13",18,40.69,662,null,{"$f":"M6177","v":33.006666666666668},21.47,24.47666666666667,null,{"$f":"'Combined Cycle Gas'!$D$8","v":318.30459770114948},{"$f":"Nuclear!$D$8","v":307.69444444444446},2.2223410000000001,9.3333333333333339,6.7583333333333329,7.9216666666666669,2222341]
["2018-09-13",20,39.700000000000003,374,null,{"$f":"M6179","v":57.314999999999998},28.656666666666666,51.316666666666663,null,{"$f":"'Combined Cycle Gas'!$D$8","v":318.30459770114948},{"$f":"Nuclear!$D$8","v":307.69444444444446},0,8.8550000000000004,4.9433333333333325,18.993333333333332,0]
["2018-09-13",23,34.380000000000003,345,null,{"$f":"M6182","v":82.024999999999991},30.546666666666667,34.568333333333335,null,{"$f":"'Combined Cycle Gas'!$D$8","v":318.30459770114948},{"$f":"Nuclear!$D$8","v":307.69444444444446},0,20.88,14.153333333333334,16.900000000000002,0]
["2018-09-14",2,27.32,72,null,{"$f":"M6185","v":114.41833333333334},67.428333333333327,29.954999999999998,null,{"$f":"'Combined Cycle Gas'!$D$8","v":318.30459770114948},{"$f":"Nuclear!$D$8","v":307.69444444444446},{"$f":"P6179/10^6","v":0},57.314999999999998,28.656666666666666,51.316666666666663,0]
["2018-09-14",5,29.2,252,null,{"$f":"M6188","v":75.773333333333326},48.548333333333325,12.946666666666667,null,{"$f":"'Combined Cycle Gas'!$D$8","v":318.30459770114948},{"$f":"Nuclear!$D$8","v":307.69444444444446},0,82.024999999999991,30.546666666666667,34.568333333333335,0]
["2018-09-14",9,39.659999999999997,3,null,{"$f":"M6192","v":2.3183333333333334},2.0966666666666667,2.6033333333333335,null,{"$f":"'Combined Cycle Gas'!$D$8","v":318.30459770114948},{"$f":"Nuclear!$D$8","v":307.69444444444446},3.8736950000000001,101.23166666666667,72,26.295000000000002,3873695]
["2018-09-14",12,40.299999999999997,0,null,{"$f":"M6195","v":4.0566666666666666},6.5216666666666656,4.99,null,{"$f":"'Combined Cycle Gas'!$D$8","v":318.30459770114948},{"$f":"Nuclear!$D$8","v":307.69444444444446},6.6981919999999997,33.309999999999995,31.97,9.4866666666666664,6698192]
["2018-09-14",16,40.82,0,null,{"$f":"M6199","v":15.683333333333332},11.463333333333333,8.4916666666666654,null,{"$f":"'Combined Cycle Gas'!$D$8","v":318.30459770114948},{"$f":"Nuclear!$D$8","v":307.69444444444446},5.5149239999999997,2.0933333333333333,2.2916666666666665,2.33,5514924]
["2018-09-14",17,41.42,0,null,{"$f":"M6200","v":21.891666666666669},9.0583333333333318,16.38,null,{"$f":"'Combined Cycle Gas'!$D$8","v":318.30459770114948},{"$f":"Nuclear!$D$8","v":307.69444444444446},4.0274720000000004,2.0216666666666665,4.1900000000000004,3.3483333333333332,4027472]
["2018-09-14",23,23.24,1183,null,{"$f":"M6206","v":52.156666666666666},15.295000000000002,16.771666666666665,null,{"$f":"'Combined Cycle Gas'!$D$8","v":318.30459770114948},{"$f":"Nuclear!$D$8","v":307.69444444444446},0,21.891666666666669,9.0583333333333318,16.38,0]
["2018-09-14",24,0.02,1183,null,{"$f":"M6207","v":49.633333333333333},20.046666666666663,20.175000000000001,null,{"$f":"'Combined Cycle Gas'!$D$8","v":318.30459770114948},{"$f":"Nuclear!$D$8","v":307.69444444444446},0,27.266666666666666,13.756666666666666,20.444999999999997,0]
["2018-09-15",3,20.399999999999999,1843,null,{"$f":"M6210","v":36.140000000000008},27.256666666666671,22.658333333333331,null,{"$f":"'Combined Cycle Gas'!$D$8","v":318.30459770114948},{"$f":"Nuclear!$D$8","v":307.69444444444446},0,29.933333333333334,22.846666666666664,31.508333333333336,0]
["2018-09-15",6,24.86,1386,null,{"$f":"M6213","v":64.325000000000003},47.053333333333335,38.370000000000005,null,{"$f":"'Combined Cycle Gas'!$D$8","v":318.30459770114948},{"$f":"Nuclear!$D$8","v":307.69444444444446},0,49.633333333333333,20.046666666666663,20.175000000000001,0]
["2018-09-15",10,30.1,621,null,{"$f":"M6217","v":4.0266666666666664},3.8883333333333332,4.5283333333333333,null,{"$f":"'Combined Cycle Gas'!$D$8","v":318.30459770114948},{"$f":"Nuclear!$D$8","v":307.69444444444446},5.5163200000000003,39.975000000000001,51.47,35.69166666666667,5516320]
["2018-09-15",14,39.42,459,null,{"$f":"M6221","v":4.041666666666667},4.1900000000000004,4.3016666666666659,null,{"$f":"'Combined Cycle Gas'!$D$8","v":318.30459770114948},{"$f":"Nuclear!$D$8","v":307.69444444444446},6.8364079999999996,19.396666666666665,13.473333333333334,13.339999999999998,6836408]
["2018-09-15",18,40.92,310,null,{"$f":"M6225","v":3.5683333333333334},3.56,11.228333333333333,null,{"$f":"'Combined Cycle Gas'!$D$8","v":318.30459770114948},{"$f":"Nuclear!$D$8","v":307.69444444444446},1.9913380000000001,4.1966666666666672,4.3083333333333336,4.1566666666666672,1991338]
["2018-09-15",21,36.409999999999997,1823,null,{"$f":"M6228","v":4.4883333333333333},19.521666666666665,34.733333333333327,null,{"$f":"'Combined Cycle Gas'!$D$8","v":318.30459770114948},{"$f":"Nuclear!$D$8","v":307.69444444444446},0,4.0250000000000004,4.001666666666666,4.6983333333333333,0]
["2018-09-15",24,1.02,2774,null,{"$f":"M6231","v":16.2},6.0049999999999999,31.216666666666665,null,{"$f":"'Combined Cycle Gas'!$D$8","v":318.30459770114948},{"$f":"Nuclear!$D$8","v":307.69444444444446},0,3.5683333333333334,3.56,11.228333333333333,0]
["2018-09-16",1,26.94,3256,null,{"$f":"M6232","v":14.751666666666667},3.6550000000000007,34.081666666666671,null,{"$f":"'Combined Cycle Gas'!$D$8","v":318.30459770114948},{"$f":"Nuclear!$D$8","v":307.69444444444446},0,7.0233333333333334,6.4549999999999992,23.125,0]
["2018-09-16",4,24.85,2888,null,{"$f":"M6235","v":22.466666666666669},6.29,19.996666666666666,null,{"$f":"'Combined Cycle Gas'!$D$8","v":318.30459770114948},{"$f":"Nuclear!$D$8","v":307.69444444444446},0,10.600000000000001,11.436666666666667,23.49,0]
["2018-09-16",7,25.93,2878,null,{"$f":"M6238","v":25.616666666666664},3.2016666666666667,5.9166666666666652,null,{"$f":"'Combined Cycle Gas'!$D$8","v":318.30459770114948},{"$f":"Nuclear!$D$8","v":307.69444444444446},2.9017059999999999,14.751666666666667,3.6550000000000007,34.081666666666671,2901706]
["2018-09-16",11,27.23,2331,null,{"$f":"M6242","v":3.6850000000000001},2.2949999999999999,2.6133333333333333,null,{"$f":"'Combined Cycle Gas'!$D$8","v":318.30459770114948},{"$f":"Nuclear!$D$8","v":307.69444444444446},6.617928,17.338333333333331,5.535000000000001,22.599999999999998,6617928]
["2018-09-16",15,31.9,2924,null,{"$f":"M6246","v":1.9333333333333333},1.8033333333333335,2.2799999999999998,null,{"$f":"'Combined Cycle Gas'!$D$8","v":318.30459770114948},{"$f":"Nuclear!$D$8","v":307.69444444444446},6.0460940000000001,12.233333333333334,2.0950000000000002,2.4150000000000005,6046094]
["2018-09-16",19,42.53,2462,null,{"$f":"M6250","v":1.9299999999999997},1.4133333333333333,2.4716666666666671,null,{"$f":"'Combined Cycle Gas'!$D$8","v":318.30459770114948},{"$f":"Nuclear!$D$8","v":307.69444444444446},0,3.6583333333333337,1.8916666666666666,2.6799999999999997,0]
["2018-09-16",22,26.76,2980,null,{"$f":"M6253","v":1.4683333333333335},2.5583333333333331,2.4616666666666664,null,{"$f":"'Combined Cycle Gas'!$D$8","v":318.30459770114948},{"$f":"Nuclear!$D$8","v":307.69444444444446},0,1.9133333333333333,1.7699999999999998,2.2516666666666669,0]
["2018-09-17",1,26.1,3467,null,{"$f":"M6256","v":14.535000000000002},6.6183333333333332,7.3116666666666665,null,{"$f":"'Combined Cycle Gas'!$D$8","v":318.30459770114948},{"$f":"Nuclear!$D$8","v":307.69444444444446},0,1.9299999999999997,1.4133333333333333,2.4716666666666671,0]
["2018-09-17",2,24.75,3466,null,{"$f":"M6257","v":34.898333333333333},25.650000000000002,17.765000000000001,null,{"$f":"'Combined Cycle Gas'!$D$8","v":318.30459770114948},{"$f":"Nuclear!$D$8","v":307.69444444444446},0,1.5833333333333333,1.4033333333333333,2.5466666666666669,0]
["2018-09-17",8,39.200000000000003,2835,null,{"$f":"M6263","v":60.29},48.29,30.538333333333338,null,{"$f":"'Combined Cycle Gas'!$D$8","v":318.30459770114948},{"$f":"Nuclear!$D$8","v":307.69444444444446},5.1735150000000001,34.898333333333333,25.650000000000002,17.765000000000001,5173515]
["2018-09-17",10,38.549999999999997,2801,null,{"$f":"M6265","v":31.136666666666667},41.46,20.059999999999999,null,{"$f":"'Combined Cycle Gas'!$D$8","v":318.30459770114948},{"$f":"Nuclear!$D$8","v":307.69444444444446},6.0703620000000003,75.253333333333345,80.911666666666676,33.000000000000007,6070362]
["2018-09-17",13,38.19,2979,null,{"$f":"M6268","v":11.433333333333332},11.886666666666665,9.033333333333335,null,{"$f":"'Combined Cycle Gas'!$D$8","v":318.30459770114948},{"$f":"Nuclear!$D$8","v":307.69444444444446},5.4021499999999998,57.723333333333329,51.726666666666667,33.081666666666671,5402150]
["2018-09-17",16,38,2979,null,{"$f":"M6271","v":21.58666666666667},10.293333333333335,10.798333333333334,null,{"$f":"'Combined Cycle Gas'!$D$8","v":318.30459770114948},{"$f":"Nuclear!$D$8","v":307.69444444444446},5.0153679999999996,31.136666666666667,41.46,20.059999999999999,5015368]
["2018-09-17",20,38.33,2980,null,{"$f":"M6275","v":75.153333333333322},48.888333333333328,18.105000000000004,null,{"$f":"'Combined Cycle Gas'!$D$8","v":318.30459770114948},{"$f":"Nuclear!$D$8","v":307.69444444444446},0,11.326666666666668,15.065,8.6816666666666666,0]
["2018-09-17",23,20.22,2980,null,{"$f":"M6278","v":126.11833333333334},99.503333333333345,88.375,null,{"$f":"'Combined Cycle Gas'!$D$8","v":318.30459770114948},{"$f":"Nuclear!$D$8","v":307.69444444444446},0,37.508333333333333,27.171666666666667,14.831666666666665,0]
["2018-09-18",2,21.63,2992,null,{"$f":"M6281","v":133.82500000000002},101.70666666666666,102.44500000000001,null,{"$f":"'Combined Cycle Gas'!$D$8","v":318.30459770114948},{"$f":"Nuclear!$D$8","v":307.69444444444446},0,75.153333333333322,48.888333333333328,18.105000000000004,0]
["2018-09-18",5,24.79,3466,null,{"$f":"M6284","v":138.81},103.21166666666666,98.186666666666682,null,{"$f":"'Combined Cycle Gas'!$D$8","v":318.30459770114948},{"$f":"Nuclear!$D$8","v":307.69444444444446},0,126.11833333333334,99.503333333333345,88.375,0]
["2018-09-18",7,38.9,3464,null,{"$f":"M6286","v":107.31},98.839999999999989,85.639999999999986,null,{"$f":"'Combined Cycle Gas'!$D$8","v":318.30459770114948},{"$f":"Nuclear!$D$8","v":307.69444444444446},2.6484719999999999,133.60500000000002,100.72666666666665,100.31666666666666,2648472]
["2018-09-18",11,39.020000000000003,2864,null,{"$f":"M6290","v":74.459999999999994},80.566666666666677,60.754999999999995,null,{"$f":"'Combined Cycle Gas'!$D$8","v":318.30459770114948},{"$f":"Nuclear!$D$8","v":307.69444444444446},6.4119450000000002,138.81,103.21166666666666,98.186666666666682,6411945]
["2018-09-18",14,39.43,2979,null,{"$f":"M6293","v":107.77666666666669},78.983333333333334,72.336666666666659,null,{"$f":"'Combined Cycle Gas'!$D$8","v":318.30459770114948},{"$f":"Nuclear!$D$8","v":307.69444444444446},6.3544289999999997,91.258333333333326,78.084999999999994,66.23833333333333,6354429]
["2018-09-18",17,39.380000000000003,2979,null,{"$f":"M6296","v":112.96999999999998},31.375,24.218333333333334,null,{"$f":"'Combined Cycle Gas'!$D$8","v":318.30459770114948},{"$f":"Nuclear!$D$8","v":307.69444444444446},4.5567739999999999,74.459999999999994,80.566666666666677,60.754999999999995,4556774]
["2018-09-18",21,39.979999999999997,2789,null,{"$f":"M6300","v":56.205000000000005},32.44166666666667,38.193333333333328,null,{"$f":"'Combined Cycle Gas'!$D$8","v":318.30459770114948},{"$f":"Nuclear!$D$8","v":307.69444444444446},0,48.251666666666665,33.24666666666667,80.894999999999996,0]
["2018-09-18",24,27.28,2663,null,{"$f":"M6303","v":16.053333333333335},13.961666666666666,32.534999999999997,null,{"$f":"'Combined Cycle Gas'!$D$8","v":318.30459770114948},{"$f":"Nuclear!$D$8","v":307.69444444444446},0,92.418333333333337,49.271666666666668,21.675000000000001,0]
["2018-09-19",2,24.91,3313,null,{"$f":"M6305","v":18.666666666666668},3.3733333333333335,11.731666666666667,null,{"$f":"'Combined Cycle Gas'!$D$8","v":318.30459770114948},{"$f":"Nuclear!$D$8","v":307.69444444444446},0,61.926666666666669,37.844999999999999,51.011666666666663,0]
["2018-09-19",5,28.25,3182,null,{"$f":"M6308","v":49.418333333333329},28.356666666666666,23.071666666666669,null,{"$f":"'Combined Cycle Gas'!$D$8","v":318.30459770114948},{"$f":"Nuclear!$D$8","v":307.69444444444446},0,16.536666666666669,11.365,31.405000000000001,0]
["2018-09-19",8,40.17,2893,null,{"$f":"M6311","v":19.156666666666666},10.766666666666666,18.496666666666666,null,{"$f":"'Combined Cycle Gas'!$D$8","v":318.30459770114948},{"$f":"Nuclear!$D$8","v":307.69444444444446},4.6449259999999999,18.666666666666668,3.3733333333333335,11.731666666666667,4644926]
["2018-09-19",12,44.28,626,null,{"$f":"M6315","v":17.638333333333332},7.1516666666666664,11.338333333333333,null,{"$f":"'Combined Cycle Gas'!$D$8","v":318.30459770114948},{"$f":"Nuclear!$D$8","v":307.69444444444446},6.1710710000000004,67.766666666666666,30.211666666666662,27.61,6171071]
["2018-09-19",15,44.37,0,null,{"$f":"M6318","v":19.226666666666667},15.718333333333334,16.926666666666666,null,{"$f":"'Combined Cycle Gas'!$D$8","v":318.30459770114948},{"$f":"Nuclear!$D$8","v":307.69444444444446},5.84328,17.771666666666668,7.9583333333333348,12.651666666666669,5843280]
["2018-09-19",18,53.06,259,null,{"$f":"M6321","v":50.081666666666671},44.103333333333332,30.75333333333333,null,{"$f":"'Combined Cycle Gas'!$D$8","v":318.30459770114948},{"$f":"Nuclear!$D$8","v":307.69444444444446},1.7745880000000001,17.638333333333332,7.1516666666666664,11.338333333333333,1774588]
["2018-09-19",23,40.340000000000003,244,null,{"$f":"M6326","v":75.149999999999991},49.063333333333333,55.954999999999991,null,{"$f":"'Combined Cycle Gas'!$D$8","v":318.30459770114948},{"$f":"Nuclear!$D$8","v":307.69444444444446},0,15.78,16.333333333333332,22.243333333333329,0]
["2018-09-20",2,30.44,3,null,{"$f":"M6329","v":94.25},54.271666666666668,59.283333333333331,null,{"$f":"'Combined Cycle Gas'!$D$8","v":318.30459770114948},{"$f":"Nuclear!$D$8","v":307.69444444444446},0,97.438333333333333,63.281666666666673,52.044999999999995,0]
["2018-09-20",3,30.13,7,null,{"$f":"M6330","v":105.10166666666667},52.18,60.37166666666667,null,{"$f":"'Combined Cycle Gas'!$D$8","v":318.30459770114948},{"$f":"Nuclear!$D$8","v":307.69444444444446},0,113.94,55.1,44.485000000000007,0]
["2018-09-20",6,27.93,53,null,{"$f":"M6333","v":89.248333333333335},34.686666666666667,24.341666666666669,null,{"$f":"'Combined Cycle Gas'!$D$8","v":318.30459770114948},{"$f":"Nuclear!$D$8","v":307.69444444444446},0,88.984999999999999,44.821666666666665,58.316666666666663,0]
["2018-09-20",9,40.729999999999997,655,null,{"$f":"M6336","v":1.3383333333333336},0.42833333333333329,0.34666666666666668,null,{"$f":"'Combined Cycle Gas'!$D$8","v":318.30459770114948},{"$f":"Nuclear!$D$8","v":307.69444444444446},6.5588340000000001,105.10166666666667,52.18,60.37166666666667,6558834]
["2018-09-20",13,39.520000000000003,0,null,{"$f":"M6340","v":20.355},0.96666666666666679,4.7050000000000001,null,{"$f":"'Combined Cycle Gas'!$D$8","v":318.30459770114948},{"$f":"Nuclear!$D$8","v":307.69444444444446},4.5588090000000001,58.20000000000001,21.084999999999997,14.046666666666669,4558809]
["2018-09-20",16,40.29,0,null,{"$f":"M6343","v":9.3516666666666666},3.7383333333333333,3.2716666666666665,null,{"$f":"'Combined Cycle Gas'!$D$8","v":318.30459770114948},{"$f":"Nuclear!$D$8","v":307.69444444444446},5.8636010000000001,1.0816666666666668,0.73333333333333328,2.8716666666666666,5863601]
["2018-09-20",20,39.450000000000003,0,null,{"$f":"M6347","v":33.249999999999993},21.671666666666667,44.445,null,{"$f":"'Combined Cycle Gas'!$D$8","v":318.30459770114948},{"$f":"Nuclear!$D$8","v":307.69444444444446},0,12.723333333333331,3.4299999999999997,6.12,0]
["2018-09-20",24,1,145,null,{"$f":"M6351","v":35.33},23.03,5.7966666666666669,null,{"$f":"'Combined Cycle Gas'!$D$8","v":318.30459770114948},{"$f":"Nuclear!$D$8","v":307.69444444444446},0,29.133333333333336,16.32,18.010000000000002,0]
["2018-09-21",3,29.22,503,null,{"$f":"M6354","v":21.721666666666664},18.776666666666667,5.7783333333333333,null,{"$f":"'Combined Cycle Gas'!$D$8","v":318.30459770114948},{"$f":"Nuclear!$D$8","v":307.69444444444446},0,34.529999999999994,13.065,33.826666666666668,0]
["2018-09-21",4,27.93,389,null,{"$f":"M6355","v":33.491666666666667},30.044999999999998,26.364999999999998,null,{"$f":"'Combined Cycle Gas'!$D$8","v":318.30459770114948},{"$f":"Nuclear!$D$8","v":307.69444444444446},0,31.498333333333335,10.783333333333333,18.074999999999999,0]
["2018-09-21",7,39.200000000000003,314,null,{"$f":"M6358","v":135.12833333333333},90.908333333333346,60.485000000000007,null,{"$f":"'Combined Cycle Gas'!$D$8","v":318.30459770114948},{"$f":"Nuclear!$D$8","v":307.69444444444446},0.20924100000000001,36.141666666666673,23.314999999999998,7.625,209241]
["2018-09-21",10,40.31,33,null,{"$f":"M6361","v":47.29},20.13,16,null,{"$f":"'Combined Cycle Gas'!$D$8","v":318.30459770114948},{"$f":"Nuclear!$D$8","v":307.69444444444446},1.944529,33.491666666666667,30.044999999999998,26.364999999999998,1944529]
["2018-09-21",14,39.6,1604,null,{"$f":"M6365","v":31.841666666666669},19.898333333333333,17.614999999999998,null,{"$f":"'Combined Cycle Gas'!$D$8","v":318.30459770114948},{"$f":"Nuclear!$D$8","v":307.69444444444446},5.8343299999999996,138.19499999999999,84.975000000000009,48.129999999999995,5834330]
["2018-09-21",17,39.47,1088,null,{"$f":"M6368","v":49.669999999999995},32.053333333333335,18.486666666666668,null,{"$f":"'Combined Cycle Gas'!$D$8","v":318.30459770114948},{"$f":"Nuclear!$D$8","v":307.69444444444446},1.261584,31.824999999999999,16.606666666666666,16.36,1261584]
["2018-09-21",22,32.07,2659,null,{"$f":"M6373","v":151.26333333333332},110.86499999999999,106.58,null,{"$f":"'Combined Cycle Gas'!$D$8","v":318.30459770114948},{"$f":"Nuclear!$D$8","v":307.69444444444446},0,38.089999999999996,23.165000000000003,16.38,0]
["2018-09-22",1,24.98,3210,null,{"$f":"M6376","v":151.31999999999996},110.26666666666667,109.6366666666667,null,{"$f":"'Combined Cycle Gas'!$D$8","v":318.30459770114948},{"$f":"Nuclear!$D$8","v":307.69444444444446},0,131.63333333333335,90.27166666666669,50.831666666666671,0]
["2018-09-22",4,21.75,3068,null,{"$f":"M6379","v":150.79},112.52,108.46833333333335,null,{"$f":"'Combined Cycle Gas'!$D$8","v":318.30459770114948},{"$f":"Nuclear!$D$8","v":307.69444444444446},0,151.26333333333332,110.86499999999999,106.58,0]
["2018-09-22",5,21.75,3068,null,{"$f":"M6380","v":150.76166666666666},112.14333333333336,108.80166666666666,null,{"$f":"'Combined Cycle Gas'!$D$8","v":318.30459770114948},{"$f":"Nuclear!$D$8","v":307.69444444444446},0,151.31999999999996,112.08999999999999,106.89333333333333,0]
["2018-09-22",8,25.98,3466,null,{"$f":"M6383","v":149.71},109.67166666666668,107.53666666666665,null,{"$f":"'Combined Cycle Gas'!$D$8","v":318.30459770114948},{"$f":"Nuclear!$D$8","v":307.69444444444446},0.68790099999999998,151.31999999999996,108.67333333333335,109.79833333333333,687901]
["2018-09-22",14,24.76,2979,null,{"$f":"M6389","v":116.38333333333334},97.446666666666673,99.986666666666665,null,{"$f":"'Combined Cycle Gas'!$D$8","v":318.30459770114948},{"$f":"Nuclear!$D$8","v":307.69444444444446},2.7111670000000001,149.71,109.67166666666668,107.53666666666665,2711167]
["2018-09-22",16,36.24,2138,null,{"$f":"M6391","v":138.08166666666668},107.59833333333331,99.046666666666667,null,{"$f":"'Combined Cycle Gas'!$D$8","v":318.30459770114948},{"$f":"Nuclear!$D$8","v":307.69444444444446},1.356476,144.13833333333332,104.18166666666666,105.65833333333335,1356476]
["2018-09-22",19,30.73,2979,null,{"$f":"M6394","v":147.62833333333333},111.83833333333332,103.69166666666666,null,{"$f":"'Combined Cycle Gas'!$D$8","v":318.30459770114948},{"$f":"Nuclear!$D$8","v":307.69444444444446},0,104.96999999999998,95.610000000000014,103.81833333333333,0]
["2018-09-22",23,8.7899999999999991,2980,null,{"$f":"M6398","v":148.08833333333334},112.52,108.74166666666667,null,{"$f":"'Combined Cycle Gas'!$D$8","v":318.30459770114948},{"$f":"Nuclear!$D$8","v":307.69444444444446},0,142.13833333333332,107.52666666666666,106.795,0]
["2018-09-23",2,22.95,3249,null,{"$f":"M6401","v":149.34},109.44,104.18333333333334,null,{"$f":"'Combined Cycle Gas'!$D$8","v":318.30459770114948},{"$f":"Nuclear!$D$8","v":307.69444444444446},0,148.94000000000003,112.21999999999998,103.27499999999999,0]
["2018-09-23",5,23.64,3320,null,{"$f":"M6404","v":111.295},100.66166666666668,100.56,null,{"$f":"'Combined Cycle Gas'!$D$8","v":318.30459770114948},{"$f":"Nuclear!$D$8","v":307.69444444444446},0,148.08833333333334,112.52,108.74166666666667,0]
["2018-09-23",6,23.09,3464,null,{"$f":"M6405","v":100.41833333333334},97.47499999999998,90.221666666666678,null,{"$f":"'Combined Cycle Gas'!$D$8","v":318.30459770114948},{"$f":"Nuclear!$D$8","v":307.69444444444446},0,150.23833333333332,110.88,108.54666666666667,0]
["2018-09-23",11,15.19,2979,null,{"$f":"M6410","v":76.293333333333337},68.98833333333333,49.556666666666672,null,{"$f":"'Combined Cycle Gas'!$D$8","v":318.30459770114948},{"$f":"Nuclear!$D$8","v":307.69444444444446},1.998051,111.295,100.66166666666668,100.56,1998051]
["2018-09-23",13,24.92,2979,null,{"$f":"M6412","v":111.29666666666667},80.8,55.838333333333331,null,{"$f":"'Combined Cycle Gas'!$D$8","v":318.30459770114948},{"$f":"Nuclear!$D$8","v":307.69444444444446},2.1010599999999999,88.213333333333324,93.535000000000011,66.75,2101060]
["2018-09-23",17,29.52,2769,null,{"$f":"M6416","v":133.89833333333334},96.978333333333339,86.08,null,{"$f":"'Combined Cycle Gas'!$D$8","v":318.30459770114948},{"$f":"Nuclear!$D$8","v":307.69444444444446},0.30676300000000001,76.293333333333337,68.98833333333333,49.556666666666672,306763]
["2018-09-23",20,38.270000000000003,0,null,{"$f":"M6419","v":136.51500000000001},99.488333333333344,101.375,null,{"$f":"'Combined Cycle Gas'!$D$8","v":318.30459770114948},{"$f":"Nuclear!$D$8","v":307.69444444444446},0,113.51499999999999,76.351666666666674,65.011666666666656,0]
["2018-09-23",24,24.86,0,null,{"$f":"M6423","v":129.59333333333333},92.001666666666665,96.221666666666678,null,{"$f":"'Combined Cycle Gas'!$D$8","v":318.30459770114948},{"$f":"Nuclear!$D$8","v":307.69444444444446},0,133.81,97.759999999999991,94.046666666666667,0]
["2018-09-24",3,23.66,909,null,{"$f":"M6426","v":105.12666666666667},39.438333333333333,72.935000000000002,null,{"$f":"'Combined Cycle Gas'!$D$8","v":318.30459770114948},{"$f":"Nuclear!$D$8","v":307.69444444444446},0,131.99666666666667,100.79333333333334,99.206666666666663,0]
["2018-09-24",4,21.26,1545,null,{"$f":"M6427","v":68.941666666666663},6.6333333333333337,54.57166666666668,null,{"$f":"'Combined Cycle Gas'!$D$8","v":318.30459770114948},{"$f":"Nuclear!$D$8","v":307.69444444444446},0,130.00666666666669,98.281666666666652,95.90666666666668,0]
["2018-09-24",8,39.61,951,null,{"$f":"M6431","v":20.610000000000003},10.456666666666669,25.375,null,{"$f":"'Combined Cycle Gas'!$D$8","v":318.30459770114948},{"$f":"Nuclear!$D$8","v":307.69444444444446},2.1707999999999998,108.38666666666667,91.804999999999993,88.508333333333326,2170800]
["2018-09-24",11,41.05,0,null,{"$f":"M6434","v":21.540000000000003},13.965000000000002,17.974999999999998,null,{"$f":"'Combined Cycle Gas'!$D$8","v":318.30459770114948},{"$f":"Nuclear!$D$8","v":307.69444444444446},3.3228200000000001,32.908333333333331,17.239999999999998,8.9016666666666655,3322820]
["2018-09-24",15,38.799999999999997,0,null,{"$f":"M6438","v":22.353333333333335},34.493333333333332,55.193333333333328,null,{"$f":"'Combined Cycle Gas'!$D$8","v":318.30459770114948},{"$f":"Nuclear!$D$8","v":307.69444444444446},6.0748139999999999,32.551666666666669,33.474999999999994,20.004999999999999,6074814]
["2018-09-24",18,40.22,59,null,{"$f":"M6441","v":32.120000000000005},64.308333333333323,37.103333333333332,null,{"$f":"'Combined Cycle Gas'!$D$8","v":318.30459770114948},{"$f":"Nuclear!$D$8","v":307.69444444444446},{"$f":"P6435/10^6","v":4.6303999999999998E-2},52.68333333333333,10.790000000000001,23.043333333333337,46304]
["2018-09-24",21,38.840000000000003,989,null,{"$f":"M6444","v":79.963333333333338},46.314999999999998,33.78,null,{"$f":"'Combined Cycle Gas'!$D$8","v":318.30459770114948},{"$f":"Nuclear!$D$8","v":307.69444444444446},0,22.353333333333335,34.493333333333332,55.193333333333328,0]
["2018-09-25",1,21.73,1555,null,{"$f":"M6448","v":15.340000000000002},15.216666666666667,13.281666666666666,null,{"$f":"'Combined Cycle Gas'!$D$8","v":318.30459770114948},{"$f":"Nuclear!$D$8","v":307.69444444444446},0,48.905000000000001,71.248333333333335,51.826666666666661,0]
["2018-09-25",5,26.22,1267,null,{"$f":"M6452","v":29.098333333333333},4.876666666666666,5.37,null,{"$f":"'Combined Cycle Gas'!$D$8","v":318.30459770114948},{"$f":"Nuclear!$D$8","v":307.69444444444446},0,55.686666666666667,44.571666666666665,40.458333333333336,0]
["2018-09-25",8,39.61,1473,null,{"$f":"M6455","v":7.8533333333333326},5.0183333333333335,6.0366666666666662,null,{"$f":"'Combined Cycle Gas'!$D$8","v":318.30459770114948},{"$f":"Nuclear!$D$8","v":307.69444444444446},5.7378210000000003,7.6500000000000012,13.406666666666666,9.5616666666666674,5737821]
["2018-09-25",9,41.05,1195,null,{"$f":"M6456","v":11.061666666666666},7.3766666666666678,6.4983333333333322,null,{"$f":"'Combined Cycle Gas'!$D$8","v":318.30459770114948},{"$f":"Nuclear!$D$8","v":307.69444444444446},6.8476559999999997,9.6750000000000007,5.5216666666666656,7.55,6847656]
["2018-09-25",12,28.55,2362,null,{"$f":"M6459","v":10.068333333333333},5.2250000000000005,6.3816666666666668,null,{"$f":"'Combined Cycle Gas'!$D$8","v":318.30459770114948},{"$f":"Nuclear!$D$8","v":307.69444444444446},7.399578,14.286666666666667,4.625,5.5150000000000006,7399578]
["2018-09-25",16,25.32,2577,null,{"$f":"M6463","v":19.625},11.358333333333334,10.326666666666666,null,{"$f":"'Combined Cycle Gas'!$D$8","v":318.30459770114948},{"$f":"Nuclear!$D$8","v":307.69444444444446},6.4516780000000002,13.326666666666666,7.1683333333333339,6.666666666666667,6451678]
["2018-09-25",19,29.61,1846,null,{"$f":"M6466","v":22.463333333333335},9.6133333333333351,22.234999999999999,null,{"$f":"'Combined Cycle Gas'!$D$8","v":318.30459770114948},{"$f":"Nuclear!$D$8","v":307.69444444444446},0,13.184999999999997,5.6016666666666666,8.6433333333333326,0]
["2018-09-25",22,32.42,2477,null,{"$f":"M6469","v":13.668333333333335},5.21,26.866666666666671,null,{"$f":"'Combined Cycle Gas'!$D$8","v":318.30459770114948},{"$f":"Nuclear!$D$8","v":307.69444444444446},0,19.625,11.358333333333334,10.326666666666666,0]
["2018-09-26",2,22.93,2403,null,{"$f":"M6473","v":11.341666666666669},7.048333333333332,7.2316666666666682,null,{"$f":"'Combined Cycle Gas'!$D$8","v":318.30459770114948},{"$f":"Nuclear!$D$8","v":307.69444444444446},0,15.835000000000001,8.1916666666666682,37.248333333333335,0]
["2018-09-26",6,34.119999999999997,745,null,{"$f":"M6477","v":8.6283333333333339},5.3183333333333334,6.7250000000000014,null,{"$f":"'Combined Cycle Gas'!$D$8","v":318.30459770114948},{"$f":"Nuclear!$D$8","v":307.69444444444446},0,31.196666666666669,7.6749999999999998,33.44,0]
["2018-09-26",7,39.61,744,null,{"$f":"M6478","v":8.6749999999999989},5.335,6.7400000000000011,null,{"$f":"'Combined Cycle Gas'!$D$8","v":318.30459770114948},{"$f":"Nuclear!$D$8","v":307.69444444444446},0.12554599999999999,14.314999999999998,11.271666666666667,20.048333333333332,125546]
["2018-09-26",10,40.6,267,null,{"$f":"M6481","v":8.9416666666666664},5.4499999999999993,6.9933333333333323,null,{"$f":"'Combined Cycle Gas'!$D$8","v":318.30459770114948},{"$f":"Nuclear!$D$8","v":307.69444444444446},4.2201029999999999,8.8716666666666679,5.3250000000000002,6.6966666666666681,4220103]
["2018-09-26",13,40.46,210,null,{"$f":"M6484","v":11.468333333333334},6.2966666666666669,10.176666666666668,null,{"$f":"'Combined Cycle Gas'!$D$8","v":318.30459770114948},{"$f":"Nuclear!$D$8","v":307.69444444444446},6.8459640000000004,8.6749999999999989,5.335,6.7400000000000011,6845964]
["2018-09-26",17,40.53,0,null,{"$f":"M6488","v":11.326666666666666},7.5716666666666654,9.086666666666666,null,{"$f":"'Combined Cycle Gas'!$D$8","v":318.30459770114948},{"$f":"Nuclear!$D$8","v":307.69444444444446},3.8796810000000002,9.5966666666666676,5.75,7.3583333333333334,3879681]
["2018-09-26",19,40.22,0,null,{"$f":"M6490","v":26.594999999999999},35.406666666666666,9.5849999999999991,null,{"$f":"'Combined Cycle Gas'!$D$8","v":318.30459770114948},{"$f":"Nuclear!$D$8","v":307.69444444444446},0,11.468333333333334,6.2966666666666669,10.176666666666668,0]
["2018-09-26",24,24.94,226,null,{"$f":"M6495","v":24.173333333333332},33.106666666666662,24.995000000000005,null,{"$f":"'Combined Cycle Gas'!$D$8","v":318.30459770114948},{"$f":"Nuclear!$D$8","v":307.69444444444446},0,20.453333333333333,13.701666666666668,8.6133333333333351,0]
["2018-09-27",4,1.02,1919,null,{"$f":"M6499","v":21.8},29.36,21.676666666666666,null,{"$f":"'Combined Cycle Gas'!$D$8","v":318.30459770114948},{"$f":"Nuclear!$D$8","v":307.69444444444446},0,33.881666666666668,54.423333333333325,11.443333333333333,0]
["2018-09-27",7,39.61,1598,null,{"$f":"M6502","v":31.625},60.498333333333335,45.401666666666664,null,{"$f":"'Combined Cycle Gas'!$D$8","v":318.30459770114948},{"$f":"Nuclear!$D$8","v":307.69444444444446},0.98907199999999995,26.275000000000002,36.758333333333333,37.111666666666672,989072]
["2018-09-27",8,34.69,895,null,{"$f":"M6503","v":33.005000000000003},51.486666666666672,49.32166666666668,null,{"$f":"'Combined Cycle Gas'!$D$8","v":318.30459770114948},{"$f":"Nuclear!$D$8","v":307.69444444444446},3.8992800000000001,24.580000000000002,38.428333333333335,39.448333333333331,3899280]
["2018-09-27",11,40.81,0,null,{"$f":"M6506","v":27.58},17.875000000000004,16.190000000000001,null,{"$f":"'Combined Cycle Gas'!$D$8","v":318.30459770114948},{"$f":"Nuclear!$D$8","v":307.69444444444446},6.7566540000000002,34.655000000000001,40.578333333333333,21.706666666666663,6756654]
["2018-09-27",14,48.22,290,null,{"$f":"M6509","v":40.4},23.790000000000003,17.864999999999998,null,{"$f":"'Combined Cycle Gas'!$D$8","v":318.30459770114948},{"$f":"Nuclear!$D$8","v":307.69444444444446},6.2649530000000002,33.005000000000003,51.486666666666672,49.32166666666668,6264953]
["2018-09-27",20,41.64,0,null,{"$f":"M6515","v":113.61666666666666},89.984999999999999,94.356666666666683,null,{"$f":"'Combined Cycle Gas'!$D$8","v":318.30459770114948},{"$f":"Nuclear!$D$8","v":307.69444444444446},0,40.4,23.790000000000003,17.864999999999998,0]
["2018-09-27",22,39.869999999999997,583,null,{"$f":"M6517","v":129.52833333333334},97.875,94.776666666666657,null,{"$f":"'Combined Cycle Gas'!$D$8","v":318.30459770114948},{"$f":"Nuclear!$D$8","v":307.69444444444446},0,38.621666666666663,32.81,25.326666666666664,0]
["2018-09-28",1,27.21,515,null,{"$f":"M6520","v":68.193333333333328},66.493333333333339,94.853333333333339,null,{"$f":"'Combined Cycle Gas'!$D$8","v":318.30459770114948},{"$f":"Nuclear!$D$8","v":307.69444444444446},0,81.806666666666658,85.283333333333317,90.173333333333332,0]
["2018-09-28",5,29.22,154,null,{"$f":"M6524","v":17.563333333333336},62.259999999999991,12.315,null,{"$f":"'Combined Cycle Gas'!$D$8","v":318.30459770114948},{"$f":"Nuclear!$D$8","v":307.69444444444446},0,119.045,97.22499999999998,95.536666666666676,0]
["2018-09-28",8,40.21,126,null,{"$f":"M6527","v":38.954999999999998},30.123333333333335,28.626666666666676,null,{"$f":"'Combined Cycle Gas'!$D$8","v":318.30459770114948},{"$f":"Nuclear!$D$8","v":307.69444444444446},5.5737310000000004,38.170000000000009,27.225000000000005,63.646666666666668,5573731]
["2018-09-28",9,40.22,43,null,{"$f":"M6528","v":25.758333333333329},19.275000000000002,21.716666666666669,null,{"$f":"'Combined Cycle Gas'!$D$8","v":318.30459770114948},{"$f":"Nuclear!$D$8","v":307.69444444444446},6.7681279999999999,21.063333333333336,15.420000000000002,29.114999999999998,6768128]
["2018-09-28",12,40.92,0,null,{"$f":"M6531","v":81.716666666666654},60.626666666666665,73.784999999999997,null,{"$f":"'Combined Cycle Gas'!$D$8","v":318.30459770114948},{"$f":"Nuclear!$D$8","v":307.69444444444446},7.2343770000000003,44.943333333333335,44.813333333333333,25.25,7234377]
["2018-09-28",17,41.46,0,null,{"$f":"M6536","v":131.16},85.341666666666654,67.308333333333323,null,{"$f":"'Combined Cycle Gas'!$D$8","v":318.30459770114948},{"$f":"Nuclear!$D$8","v":307.69444444444446},4.4426540000000001,63.123333333333328,45.708333333333336,53.511666666666663,4442654]
["2018-09-28",20,40.869999999999997,0,null,{"$f":"M6539","v":110.21333333333335},57.783333333333339,72.156666666666666,null,{"$f":"'Combined Cycle Gas'!$D$8","v":318.30459770114948},{"$f":"Nuclear!$D$8","v":307.69444444444446},0,133.85000000000002,92.181666666666672,40.62833333333333,0]
["2018-09-28",23,28.94,25,null,{"$f":"M6542","v":32.54666666666666},16.574999999999999,38.886666666666663,null,{"$f":"'Combined Cycle Gas'!$D$8","v":318.30459770114948},{"$f":"Nuclear!$D$8","v":307.69444444444446},0,131.16,85.341666666666654,67.308333333333323,0]
["2018-09-29",3,28.64,0,null,{"$f":"M6546","v":6.4216666666666677},4.2016666666666662,29.026666666666667,null,{"$f":"'Combined Cycle Gas'!$D$8","v":318.30459770114948},{"$f":"Nuclear!$D$8","v":307.69444444444446},0,85.358333333333334,39.868333333333332,70.813333333333318,0]
["2018-09-29",6,29.88,317,null,{"$f":"M6549","v":7.2816666666666663},4.3566666666666674,4.8,null,{"$f":"'Combined Cycle Gas'!$D$8","v":318.30459770114948},{"$f":"Nuclear!$D$8","v":307.69444444444446},0,22.186666666666667,9.8083333333333336,20.551666666666666,0]
["2018-09-29",9,27.24,828,null,{"$f":"M6552","v":5.6116666666666672},4.1166666666666671,4.7933333333333339,null,{"$f":"'Combined Cycle Gas'!$D$8","v":318.30459770114948},{"$f":"Nuclear!$D$8","v":307.69444444444446},1.201125,6.4216666666666677,4.2016666666666662,29.026666666666667,1201125]
["2018-09-29",10,31.34,505,null,{"$f":"M6553","v":7.1683333333333321},4.6583333333333332,4.9716666666666667,null,{"$f":"'Combined Cycle Gas'!$D$8","v":318.30459770114948},{"$f":"Nuclear!$D$8","v":307.69444444444446},1.790899,5.7149999999999999,4.1483333333333325,23.948333333333334,1790899]
["2018-09-29",14,31.63,388,null,{"$f":"M6557","v":12.663333333333334},7.4733333333333327,12.916666666666666,null,{"$f":"'Combined Cycle Gas'!$D$8","v":318.30459770114948},{"$f":"Nuclear!$D$8","v":307.69444444444446},2.2394050000000001,5.2566666666666668,4.0866666666666669,4.8,2239405]
["2018-09-29",17,39.61,296,null,{"$f":"M6560","v":15.019999999999998},13.908333333333333,13.520000000000001,null,{"$f":"'Combined Cycle Gas'!$D$8","v":318.30459770114948},{"$f":"Nuclear!$D$8","v":307.69444444444446},0.35275400000000001,12.283333333333331,8.6116666666666664,6.73,352754]
["2018-09-29",21,32.22,780,null,{"$f":"M6564","v":31.330000000000002},55.126666666666665,19.428333333333335,null,{"$f":"'Combined Cycle Gas'!$D$8","v":318.30459770114948},{"$f":"Nuclear!$D$8","v":307.69444444444446},0,16.111666666666668,7.5066666666666677,17.03833333333333,0]
["2018-09-29",24,23.08,1709,null,{"$f":"M6567","v":118.87333333333332},103.88333333333333,90.88333333333334,null,{"$f":"'Combined Cycle Gas'!$D$8","v":318.30459770114948},{"$f":"Nuclear!$D$8","v":307.69444444444446},0,21.018333333333331,47.363333333333337,12.806666666666667,0]
["2018-09-30",4,29.87,869,null,{"$f":"M6571","v":119.27333333333335},98.676666666666677,106.66166666666668,null,{"$f":"'Combined Cycle Gas'!$D$8","v":318.30459770114948},{"$f":"Nuclear!$D$8","v":307.69444444444446},0,85.913333333333341,66.046666666666667,31.563333333333333,0]
["2018-09-30",7,27.93,14,null,{"$f":"M6574","v":76.388333333333335},82.283333333333331,101.10166666666669,null,{"$f":"'Combined Cycle Gas'!$D$8","v":318.30459770114948},{"$f":"Nuclear!$D$8","v":307.69444444444446},8.5079999999999999E-3,125.47666666666667,105.34833333333336,103.37833333333334,8508]
["2018-09-30",11,29.88,28,null,{"$f":"M6578","v":38.360000000000007},51.25333333333333,29.824999999999999,null,{"$f":"'Combined Cycle Gas'!$D$8","v":318.30459770114948},{"$f":"Nuclear!$D$8","v":307.69444444444446},3.7920600000000002,108.22000000000001,95.766666666666666,103.69333333333334,3792060]
["2018-09-30",12,31.82,100,null,{"$f":"M6579","v":43.936666666666667},49.968333333333334,35.765000000000001,null,{"$f":"'Combined Cycle Gas'!$D$8","v":318.30459770114948},{"$f":"Nuclear!$D$8","v":307.69444444444446},4.8212419999999998,84.904999999999987,84.614999999999995,101.85166666666667,4821242]
["2018-09-30",15,32.31,207,null,{"$f":"M6582","v":56.298333333333325},49.058333333333337,61.713333333333331,null,{"$f":"'Combined Cycle Gas'!$D$8","v":318.30459770114948},{"$f":"Nuclear!$D$8","v":307.69444444444446},2.0305049999999998,33.271666666666668,58.98,54.928333333333335,2030505]
["2018-09-30",18,41.23,449,null,{"$f":"M6585","v":61.765000000000008},64.87,63.719999999999992,null,{"$f":"'Combined Cycle Gas'!$D$8","v":318.30459770114948},{"$f":"Nuclear!$D$8","v":307.69444444444446},3.3333000000000002E-2,43.936666666666667,49.968333333333334,35.765000000000001,33333]
["2018-09-30",22,21.49,2782,null,{"$f":"M6589","v":123.77166666666669},100.95,30.118333333333329,null,{"$f":"'Combined Cycle Gas'!$D$8","v":318.30459770114948},{"$f":"Nuclear!$D$8","v":307.69444444444446},0,43.403333333333336,44.879999999999995,56.910000000000004,0]
["2018-10-01",1,23.26,2874,null,{"$f":"M6592","v":71.766666666666666},59.538333333333334,10.705,null,{"$f":"'Combined Cycle Gas'!$D$8","v":318.30459770114948},{"$f":"Nuclear!$D$8","v":307.69444444444446},0,102.48,92.546666666666667,37.729999999999997,0]
["2018-10-01",4,27.1,3317,null,{"$f":"M6595","v":6.6766666666666667},7.3016666666666667,7.6250000000000009,null,{"$f":"'Combined Cycle Gas'!$D$8","v":318.30459770114948},{"$f":"Nuclear!$D$8","v":307.69444444444446},0,123.77166666666669,100.95,30.118333333333329,0]
["2018-10-01",9,40.340000000000003,1527,null,{"$f":"M6600","v":5.3983333333333334},4.3099999999999996,4.8116666666666665,null,{"$f":"'Combined Cycle Gas'!$D$8","v":318.30459770114948},{"$f":"Nuclear!$D$8","v":307.69444444444446},1.2455270000000001,28.799999999999997,9.5483333333333338,11.040000000000001,1245527]
["2018-10-01",12,48.52,223,null,{"$f":"M6603","v":5.2566666666666668},5.0366666666666662,7.2266666666666657,null,{"$f":"'Combined Cycle Gas'!$D$8","v":318.30459770114948},{"$f":"Nuclear!$D$8","v":307.69444444444446},2.680507,6.1550000000000002,4.4666666666666668,4.8083333333333327,2680507]
["2018-10-01",13,38.909999999999997,0,null,{"$f":"M6604","v":6.1033333333333344},4.9400000000000004,8.3316666666666652,null,{"$f":"'Combined Cycle Gas'!$D$8","v":318.30459770114948},{"$f":"Nuclear!$D$8","v":307.69444444444446},2.4936159999999998,5.458333333333333,4.3950000000000005,4.794999999999999,2493616]
["2018-10-01",16,39.04,0,null,{"$f":"M6607","v":8.4300000000000015},4.2283333333333335,7.833333333333333,null,{"$f":"'Combined Cycle Gas'!$D$8","v":318.30459770114948},{"$f":"Nuclear!$D$8","v":307.69444444444446},1.3828579999999999,5.3566666666666665,4.2816666666666663,4.8533333333333326,1382858]
["2018-10-01",20,39.130000000000003,0,null,{"$f":"M6611","v":25.475000000000005},14.833333333333334,21.518333333333331,null,{"$f":"'Combined Cycle Gas'!$D$8","v":318.30459770114948},{"$f":"Nuclear!$D$8","v":307.69444444444446},0,6.0716666666666663,4.793333333333333,8.5849999999999991,0]
["2018-10-01",23,32.42,962,null,{"$f":"M6614","v":37.543333333333329},32.130000000000003,11.938333333333333,null,{"$f":"'Combined Cycle Gas'!$D$8","v":318.30459770114948},{"$f":"Nuclear!$D$8","v":307.69444444444446},0,11.96,4.7249999999999996,6.1883333333333326,0]
["2018-10-02",1,23.07,514,null,{"$f":"M6616","v":30.215},24.796666666666667,4.2883333333333331,null,{"$f":"'Combined Cycle Gas'!$D$8","v":318.30459770114948},{"$f":"Nuclear!$D$8","v":307.69444444444446},0,15.173333333333332,6.5766666666666653,19.41,0]
["2018-10-02",7,42.24,163,null,{"$f":"M6622","v":104.86166666666668},55.083333333333336,39.550000000000004,null,{"$f":"'Combined Cycle Gas'!$D$8","v":318.30459770114948},{"$f":"Nuclear!$D$8","v":307.69444444444446},3.7019999999999997E-2,30.215,24.796666666666667,4.2883333333333331,37020]
["2018-10-02",10,42.43,1,null,{"$f":"M6625","v":42.986666666666672},15.414999999999999,9.0350000000000001,null,{"$f":"'Combined Cycle Gas'!$D$8","v":318.30459770114948},{"$f":"Nuclear!$D$8","v":307.69444444444446},2.1484230000000002,81.715000000000018,33.696666666666665,12.486666666666666,2148423]
["2018-10-02",13,28.46,0,null,{"$f":"M6628","v":6.1166666666666671},4.9633333333333338,7.6916666666666655,null,{"$f":"'Combined Cycle Gas'!$D$8","v":318.30459770114948},{"$f":"Nuclear!$D$8","v":307.69444444444446},2.7024330000000001,104.86166666666668,55.083333333333336,39.550000000000004,2702433]
["2018-10-02",14,31.78,0,null,{"$f":"M6629","v":5.4649999999999999},4.7350000000000003,7.4916666666666663,null,{"$f":"'Combined Cycle Gas'!$D$8","v":318.30459770114948},{"$f":"Nuclear!$D$8","v":307.69444444444446},2.551056,127.27999999999999,72.688333333333333,51.276666666666664,2551056]
["2018-10-02",17,38.94,0,null,{"$f":"M6632","v":5.9216666666666669},4.6466666666666674,7.3,null,{"$f":"'Combined Cycle Gas'!$D$8","v":318.30459770114948},{"$f":"Nuclear!$D$8","v":307.69444444444446},1.5113E-2,15.083333333333336,8.5216666666666665,7.9733333333333336,15113]
["2018-10-02",21,26.11,1617,null,{"$f":"M6636","v":20.826666666666668},35.85,46.285000000000004,null,{"$f":"'Combined Cycle Gas'!$D$8","v":318.30459770114948},{"$f":"Nuclear!$D$8","v":307.69444444444446},0,5.376666666666666,4.6983333333333333,8.0649999999999995,0]
["2018-10-03",2,16.170000000000002,2446,null,{"$f":"M6641","v":97.5},99.420000000000016,100.04666666666667,null,{"$f":"'Combined Cycle Gas'!$D$8","v":318.30459770114948},{"$f":"Nuclear!$D$8","v":307.69444444444446},0,18.175000000000001,43.983333333333327,37.283333333333331,0]
["2018-10-03",4,21.47,2444,null,{"$f":"M6643","v":95.008333333333326},93.966666666666683,91.201666666666668,null,{"$f":"'Combined Cycle Gas'!$D$8","v":318.30459770114948},{"$f":"Nuclear!$D$8","v":307.69444444444446},0,34.17,46.031666666666666,62.238333333333337,0]
["2018-10-03",8,28.43,2629,null,{"$f":"M6647","v":53.51},71.626666666666665,67.976666666666659,null,{"$f":"'Combined Cycle Gas'!$D$8","v":318.30459770114948},{"$f":"Nuclear!$D$8","v":307.69444444444446},4.7317819999999999,97.5,99.420000000000016,100.04666666666667,4731782]
["2018-10-03",11,34.68,1856,null,{"$f":"M6650","v":3.8783333333333334},5.6066666666666665,9.8683333333333341,null,{"$f":"'Combined Cycle Gas'!$D$8","v":318.30459770114948},{"$f":"Nuclear!$D$8","v":307.69444444444446},7.443632,87.600000000000009,90.144999999999996,74.905000000000001,7443632]
["2018-10-03",12,29.89,2115,null,{"$f":"M6651","v":4.876666666666666},2.375,5.1866666666666665,null,{"$f":"'Combined Cycle Gas'!$D$8","v":318.30459770114948},{"$f":"Nuclear!$D$8","v":307.69444444444446},7.5713739999999996,75.753333333333345,81.818333333333342,74.026666666666657,7571374]
["2018-10-03",15,34.520000000000003,2221,null,{"$f":"M6654","v":3.5133333333333332},2.5233333333333339,2.5916666666666672,null,{"$f":"'Combined Cycle Gas'!$D$8","v":318.30459770114948},{"$f":"Nuclear!$D$8","v":307.69444444444446},6.9289319999999996,23.83,25.506666666666671,58.068333333333328,6928932]
["2018-10-03",19,46.6,1866,null,{"$f":"M6658","v":20.045000000000002},9.3566666666666674,22.131666666666664,null,{"$f":"'Combined Cycle Gas'!$D$8","v":318.30459770114948},{"$f":"Nuclear!$D$8","v":307.69444444444446},0,4.335,2.3766666666666665,3.7349999999999999,0]
["2018-10-03",23,15.13,3013,null,{"$f":"M6662","v":26.473333333333333},37.883333333333333,70.274999999999991,null,{"$f":"'Combined Cycle Gas'!$D$8","v":318.30459770114948},{"$f":"Nuclear!$D$8","v":307.69444444444446},0,3.3716666666666666,3.3333333333333335,5.5483333333333329,0]
["2018-10-04",2,7.0000000000000007E-2,2921,null,{"$f":"M6665","v":49.868333333333332},53.646666666666668,57.06,null,{"$f":"'Combined Cycle Gas'!$D$8","v":318.30459770114948},{"$f":"Nuclear!$D$8","v":307.69444444444446},0,10.6,24.473333333333333,26.310000000000002,0]
["2018-10-04",5,24.79,3069,null,{"$f":"M6668","v":37.36333333333333},38.133333333333333,43.708333333333336,null,{"$f":"'Combined Cycle Gas'!$D$8","v":318.30459770114948},{"$f":"Nuclear!$D$8","v":307.69444444444446},0,26.473333333333333,37.883333333333333,70.274999999999991,0]
["2018-10-04",9,28.9,1386,null,{"$f":"M6672","v":4.9033333333333333},13.343333333333334,7.5133333333333328,null,{"$f":"'Combined Cycle Gas'!$D$8","v":318.30459770114948},{"$f":"Nuclear!$D$8","v":307.69444444444446},5.7964310000000001,48.786666666666669,43.984999999999992,45.226666666666667,5796431]
["2018-10-04",12,41.05,166,null,{"$f":"M6675","v":11.866666666666667},1.5466666666666669,2.8783333333333334,null,{"$f":"'Combined Cycle Gas'!$D$8","v":318.30459770114948},{"$f":"Nuclear!$D$8","v":307.69444444444446},7.1826189999999999,33.333333333333336,32.68666666666666,33.035000000000004,7182619]
["2018-10-04",13,38.89,0,null,{"$f":"M6676","v":9.793333333333333},1.7999999999999998,5.2649999999999997,null,{"$f":"'Combined Cycle Gas'!$D$8","v":318.30459770114948},{"$f":"Nuclear!$D$8","v":307.69444444444446},7.1594949999999997,28.628333333333334,25.506666666666671,39.824999999999996,7159495]
["2018-10-04",16,38.729999999999997,205,null,{"$f":"M6679","v":3.5849999999999995},1.905,8.2200000000000006,null,{"$f":"'Combined Cycle Gas'!$D$8","v":318.30459770114948},{"$f":"Nuclear!$D$8","v":307.69444444444446},5.4373509999999996,3.6466666666666669,5.123333333333334,3.1766666666666663,5437351]
["2018-10-04",20,38.36,1048,null,{"$f":"M6683","v":13.93},26.49,23.643333333333334,null,{"$f":"'Combined Cycle Gas'!$D$8","v":318.30459770114948},{"$f":"Nuclear!$D$8","v":307.69444444444446},0,7.5016666666666678,1.8866666666666667,4.9083333333333332,0]
["2018-10-04",24,0.02,2928,null,{"$f":"M6687","v":15.373333333333333},32.169999999999995,61.326666666666675,null,{"$f":"'Combined Cycle Gas'!$D$8","v":318.30459770114948},{"$f":"Nuclear!$D$8","v":307.69444444444446},0,10.006666666666666,13.656666666666666,16.940000000000001,0]
["2018-10-05",3,21.28,2910,null,{"$f":"M6690","v":34.113333333333337},50.593333333333334,68.375000000000014,null,{"$f":"'Combined Cycle Gas'!$D$8","v":318.30459770114948},{"$f":"Nuclear!$D$8","v":307.69444444444446},0,14.213333333333333,43.703333333333326,21.915000000000003,0]
["2018-10-05",6,0.03,2775,null,{"$f":"M6693","v":15.981666666666664},13.554999999999994,2.1933333333333334,null,{"$f":"'Combined Cycle Gas'!$D$8","v":318.30459770114948},{"$f":"Nuclear!$D$8","v":307.69444444444446},0,15.373333333333333,32.169999999999995,61.326666666666675,0]
["2018-10-05",10,38.44,1537,null,{"$f":"M6697","v":33.703333333333333},2.0733333333333337,5.0366666666666662,null,{"$f":"'Combined Cycle Gas'!$D$8","v":318.30459770114948},{"$f":"Nuclear!$D$8","v":307.69444444444446},{"$f":"P6691/10^6","v":6.906593},18.065000000000001,15.328333333333331,41.063333333333333,6906593]
["2018-10-05",13,42.19,1002,null,{"$f":"M6700","v":10.856666666666667},2.5099999999999998,7.78,null,{"$f":"'Combined Cycle Gas'!$D$8","v":318.30459770114948},{"$f":"Nuclear!$D$8","v":307.69444444444446},6.7152580000000004,20.896666666666665,9.6516666666666655,2.6083333333333334,6715258]
["2018-10-05",17,38.46,1533,null,{"$f":"M6704","v":17.051666666666666},25.705000000000002,6.126666666666666,null,{"$f":"'Combined Cycle Gas'!$D$8","v":318.30459770114948},{"$f":"Nuclear!$D$8","v":307.69444444444446},2.741752,23.813333333333333,2.3350000000000004,6.411666666666668,2741752]
["2018-10-05",18,28.9,1805,null,{"$f":"M6705","v":66.27},10.121666666666664,32.205000000000005,null,{"$f":"'Combined Cycle Gas'!$D$8","v":318.30459770114948},{"$f":"Nuclear!$D$8","v":307.69444444444446},2.6981000000000002E-2,14.969999999999999,3.9883333333333337,6.9383333333333326,26981]
["2018-10-05",21,19.600000000000001,2905,null,{"$f":"M6708","v":91.679999999999993},43.518333333333338,55.548333333333325,null,{"$f":"'Combined Cycle Gas'!$D$8","v":318.30459770114948},{"$f":"Nuclear!$D$8","v":307.69444444444446},0,14.295,1.9116666666666671,8.6650000000000009,0]
["2018-10-06",1,26.07,2859,null,{"$f":"M6712","v":33.681666666666665},26.623333333333335,31.25333333333333,null,{"$f":"'Combined Cycle Gas'!$D$8","v":318.30459770114948},{"$f":"Nuclear!$D$8","v":307.69444444444446},0,75.850000000000009,23.216666666666669,56.873333333333335,0]
["2018-10-06",4,24.86,2448,null,{"$f":"M6715","v":75.905000000000015},47.103333333333332,40.685000000000002,null,{"$f":"'Combined Cycle Gas'!$D$8","v":318.30459770114948},{"$f":"Nuclear!$D$8","v":307.69444444444446},0,83.968333333333334,57.561666666666667,31.733333333333331,0]
["2018-10-06",8,26,2695,null,{"$f":"M6719","v":75.571666666666658},82.388333333333335,71.928333333333327,null,{"$f":"'Combined Cycle Gas'!$D$8","v":318.30459770114948},{"$f":"Nuclear!$D$8","v":307.69444444444446},5.3199430000000003,44.286666666666669,26.645,39.223333333333336,5319943]
["2018-10-06",10,21.75,2237,null,{"$f":"M6721","v":51.433333333333337},48.523333333333333,22.301666666666666,null,{"$f":"'Combined Cycle Gas'!$D$8","v":318.30459770114948},{"$f":"Nuclear!$D$8","v":307.69444444444446},7.061744,75.905000000000015,47.103333333333332,40.685000000000002,7061744]
["2018-10-06",15,31.33,620,null,{"$f":"M6726","v":77.673333333333332},56.161666666666662,30.294999999999998,null,{"$f":"'Combined Cycle Gas'!$D$8","v":318.30459770114948},{"$f":"Nuclear!$D$8","v":307.69444444444446},6.92591,58.764999999999993,57.088333333333331,47.81,6925910]
["2018-10-06",16,34.96,526,null,{"$f":"M6727","v":101.87833333333333},71.704999999999984,34.49666666666667,null,{"$f":"'Combined Cycle Gas'!$D$8","v":318.30459770114948},{"$f":"Nuclear!$D$8","v":307.69444444444446},6.0748160000000002,51.433333333333337,48.523333333333333,22.301666666666666,6074816]
["2018-10-06",19,41.11,324,null,{"$f":"M6730","v":125.24333333333334},91.136666666666656,85.986666666666679,null,{"$f":"'Combined Cycle Gas'!$D$8","v":318.30459770114948},{"$f":"Nuclear!$D$8","v":307.69444444444446},0,61.016666666666659,41.809999999999995,27.141666666666666,0]
["2018-10-06",22,25.78,304,null,{"$f":"M6733","v":123.55833333333334},80.48,100.66500000000001,null,{"$f":"'Combined Cycle Gas'!$D$8","v":318.30459770114948},{"$f":"Nuclear!$D$8","v":307.69444444444446},0,101.87833333333333,71.704999999999984,34.49666666666667,0]
["2018-10-07",2,28.26,506,null,{"$f":"M6737","v":97.571666666666673},66.105000000000004,74.836666666666659,null,{"$f":"'Combined Cycle Gas'!$D$8","v":318.30459770114948},{"$f":"Nuclear!$D$8","v":307.69444444444446},0,117.92666666666668,88.323333333333338,94.53166666666668,0]
["2018-10-07",5,27.13,790,null,{"$f":"M6740","v":129.66166666666666},97.285000000000011,80.951666666666668,null,{"$f":"'Combined Cycle Gas'!$D$8","v":318.30459770114948},{"$f":"Nuclear!$D$8","v":307.69444444444446},0,119.31333333333332,81.726666666666674,100.12833333333333,0]
["2018-10-07",7,29.56,448,null,{"$f":"M6742","v":125.58333333333336},81.718333333333348,71.454999999999998,null,{"$f":"'Combined Cycle Gas'!$D$8","v":318.30459770114948},{"$f":"Nuclear!$D$8","v":307.69444444444446},2.8803480000000001,99.963333333333324,70.498333333333321,79.178333333333327,2880348]
["2018-10-07",13,28.79,0,null,{"$f":"M6748","v":7.1583333333333341},11.531666666666666,19.77333333333333,null,{"$f":"'Combined Cycle Gas'!$D$8","v":318.30459770114948},{"$f":"Nuclear!$D$8","v":307.69444444444446},5.3149569999999997,125.58333333333336,81.718333333333348,71.454999999999998,5314957]
["2018-10-07",16,26.78,852,null,{"$f":"M6751","v":47.75333333333333},32.138333333333328,27.310000000000002,null,{"$f":"'Combined Cycle Gas'!$D$8","v":318.30459770114948},{"$f":"Nuclear!$D$8","v":307.69444444444446},4.391273,8.1250000000000018,8.7250000000000014,21.16,4391273]
["2018-10-07",17,28.31,1107,null,{"$f":"M6752","v":77.471666666666678},35.381666666666668,34.096666666666664,null,{"$f":"'Combined Cycle Gas'!$D$8","v":318.30459770114948},{"$f":"Nuclear!$D$8","v":307.69444444444446},2.201206,6.6416666666666666,9.3766666666666669,11.906666666666668,2201206]
["2018-10-07",20,27.2,1846,null,{"$f":"M6755","v":80.954999999999998},71.758333333333326,79.126666666666679,null,{"$f":"'Combined Cycle Gas'!$D$8","v":318.30459770114948},{"$f":"Nuclear!$D$8","v":307.69444444444446},0,10.131666666666668,15.173333333333332,22.451666666666664,0]
["2018-10-07",24,20.48,2520,null,{"$f":"M6759","v":57.623333333333335},50.110000000000007,80.493333333333325,null,{"$f":"'Combined Cycle Gas'!$D$8","v":318.30459770114948},{"$f":"Nuclear!$D$8","v":307.69444444444446},0,94.501666666666665,44.31,53.044999999999995,0]
["2018-10-08",4,25.22,2642,null,{"$f":"M6763","v":52.940000000000005},65.013333333333335,44.926666666666669,null,{"$f":"'Combined Cycle Gas'!$D$8","v":318.30459770114948},{"$f":"Nuclear!$D$8","v":307.69444444444446},0,89.893333333333331,65.908333333333346,87.676666666666677,0]
["2018-10-08",7,39.35,2705,null,{"$f":"M6766","v":89.350000000000009},67.431666666666658,44.81,null,{"$f":"'Combined Cycle Gas'!$D$8","v":318.30459770114948},{"$f":"Nuclear!$D$8","v":307.69444444444446},1.0082000000000001E-2,36.51166666666667,50.856666666666662,79.461666666666659,10082]
["2018-10-08",11,38.92,1704,null,{"$f":"M6770","v":3.4783333333333339},1.6466666666666665,5.2766666666666664,null,{"$f":"'Combined Cycle Gas'!$D$8","v":318.30459770114948},{"$f":"Nuclear!$D$8","v":307.69444444444446},1.283836,75.934999999999988,87.825000000000003,56.285000000000004,1283836]
["2018-10-08",14,27.21,3012,null,{"$f":"M6773","v":3.7933333333333334},3.4433333333333329,2.7666666666666662,null,{"$f":"'Combined Cycle Gas'!$D$8","v":318.30459770114948},{"$f":"Nuclear!$D$8","v":307.69444444444446},5.0988540000000002,54.393333333333338,30.795000000000005,39.063333333333333,5098854]
["2018-10-08",17,27.34,3012,null,{"$f":"M6776","v":5.2566666666666668},5.6466666666666656,9.9799999999999986,null,{"$f":"'Combined Cycle Gas'!$D$8","v":318.30459770114948},{"$f":"Nuclear!$D$8","v":307.69444444444446},4.0465200000000001,3.4783333333333339,1.6466666666666665,5.2766666666666664,4046520]
["2018-10-08",18,27.34,3013,null,{"$f":"M6777","v":5.9933333333333332},4.7016666666666671,26.905000000000001,null,{"$f":"'Combined Cycle Gas'!$D$8","v":318.30459770114948},{"$f":"Nuclear!$D$8","v":307.69444444444446},0.15703500000000001,3.5333333333333337,1.6983333333333333,5.9116666666666662,157035]
["2018-10-08",21,27.34,3013,null,{"$f":"M6780","v":11.456666666666669},3.5200000000000009,39.479999999999997,null,{"$f":"'Combined Cycle Gas'!$D$8","v":318.30459770114948},{"$f":"Nuclear!$D$8","v":307.69444444444446},0,4.1083333333333334,5.7766666666666664,4.248333333333334,0]
["2018-10-09",1,16.21,2767,null,{"$f":"M6784","v":4.4933333333333332},1.6233333333333331,30.400000000000002,null,{"$f":"'Combined Cycle Gas'!$D$8","v":318.30459770114948},{"$f":"Nuclear!$D$8","v":307.69444444444446},0,6.3616666666666655,2.7983333333333333,33.478333333333332,0]
["2018-10-09",5,24.79,3011,null,{"$f":"M6788","v":6.4516666666666671},2.4,23.67,null,{"$f":"'Combined Cycle Gas'!$D$8","v":318.30459770114948},{"$f":"Nuclear!$D$8","v":307.69444444444446},0,3.043333333333333,2.5583333333333336,38.131666666666668,0]
["2018-10-09",8,29.88,2705,null,{"$f":"M6791","v":11.073333333333332},2.0466666666666669,16.163333333333334,null,{"$f":"'Combined Cycle Gas'!$D$8","v":318.30459770114948},{"$f":"Nuclear!$D$8","v":307.69444444444446},1.0093540000000001,7.6766666666666667,1.718333333333333,28.361666666666665,1009354]
["2018-10-09",12,29.64,3012,null,{"$f":"M6795","v":5.2133333333333338},2.17,3.3850000000000002,null,{"$f":"'Combined Cycle Gas'!$D$8","v":318.30459770114948},{"$f":"Nuclear!$D$8","v":307.69444444444446},7.0498440000000002,6.4916666666666671,1.9333333333333336,15.031666666666666,7049844]
["2018-10-09",15,29.15,3012,null,{"$f":"M6798","v":3.3433333333333333},4.2016666666666671,3.6016666666666666,null,{"$f":"'Combined Cycle Gas'!$D$8","v":318.30459770114948},{"$f":"Nuclear!$D$8","v":307.69444444444446},5.5781039999999997,5.1350000000000007,1.9583333333333333,3.5150000000000001,5578104]
["2018-10-09",18,28,3013,null,{"$f":"M6801","v":8.2750000000000004},3.8633333333333328,3.3916666666666671,null,{"$f":"'Combined Cycle Gas'!$D$8","v":318.30459770114948},{"$f":"Nuclear!$D$8","v":307.69444444444446},8.1323999999999994E-2,5.2133333333333338,2.17,3.3850000000000002,81324]
["2018-10-09",19,27.93,3013,null,{"$f":"M6802","v":14.270000000000001},3.4983333333333335,3.44,null,{"$f":"'Combined Cycle Gas'!$D$8","v":318.30459770114948},{"$f":"Nuclear!$D$8","v":307.69444444444446},0,4.1399999999999997,3.2449999999999997,3.6383333333333332,0]
["2018-10-09",22,34.24,2901,null,{"$f":"M6805","v":18.02},5.0549999999999997,3.7283333333333335,null,{"$f":"'Combined Cycle Gas'!$D$8","v":318.30459770114948},{"$f":"Nuclear!$D$8","v":307.69444444444446},0,3.3033333333333332,3.6233333333333331,3.4966666666666675,0]
["2018-10-10",3,24.94,2474,null,{"$f":"M6810","v":3.5483333333333333},2.1433333333333335,3.7283333333333331,null,{"$f":"'Combined Cycle Gas'!$D$8","v":318.30459770114948},{"$f":"Nuclear!$D$8","v":307.69444444444446},0,17.428333333333331,4.33,3.5816666666666666,0]
["2018-10-10",6,29.89,2629,null,{"$f":"M6813","v":3.8066666666666671},2.4900000000000002,3.8499999999999996,null,{"$f":"'Combined Cycle Gas'!$D$8","v":318.30459770114948},{"$f":"Nuclear!$D$8","v":307.69444444444446},0,11.315,5.2700000000000005,4.3683333333333332,0]
["2018-10-10",9,38.26,1974,null,{"$f":"M6816","v":3.8950000000000009},2.3816666666666668,3.94,null,{"$f":"'Combined Cycle Gas'!$D$8","v":318.30459770114948},{"$f":"Nuclear!$D$8","v":307.69444444444446},5.4039999999999999,3.5483333333333333,2.1433333333333335,3.7283333333333331,5404000]
["2018-10-10",13,39.79,122,null,{"$f":"M6820","v":6.6950000000000003},2.8833333333333333,4.58,null,{"$f":"'Combined Cycle Gas'!$D$8","v":318.30459770114948},{"$f":"Nuclear!$D$8","v":307.69444444444446},4.7664619999999998,3.7633333333333336,2.3216666666666659,3.8566666666666669,4766462]
["2018-10-10",16,39.950000000000003,555,null,{"$f":"M6823","v":4.5250000000000004},2.86,12.158333333333333,null,{"$f":"'Combined Cycle Gas'!$D$8","v":318.30459770114948},{"$f":"Nuclear!$D$8","v":307.69444444444446},2.6794889999999998,4.0116666666666667,2.4733333333333332,4.1183333333333332,2679489]
["2018-10-10",19,28.89,2257,null,{"$f":"M6826","v":37.525000000000006},23.145,7.6816666666666658,null,{"$f":"'Combined Cycle Gas'!$D$8","v":318.30459770114948},{"$f":"Nuclear!$D$8","v":307.69444444444446},0,6.6950000000000003,2.8833333333333333,4.58,0]
["2018-10-10",21,33.340000000000003,1633,null,{"$f":"M6828","v":56.754999999999995},37.859999999999992,13.255000000000001,null,{"$f":"'Combined Cycle Gas'!$D$8","v":318.30459770114948},{"$f":"Nuclear!$D$8","v":307.69444444444446},0,4.7416666666666663,2.7750000000000004,7.27,0]
["2018-10-10",24,26.27,1631,null,{"$f":"M6831","v":82.118333333333325},58.858333333333341,69.899999999999991,null,{"$f":"'Combined Cycle Gas'!$D$8","v":318.30459770114948},{"$f":"Nuclear!$D$8","v":307.69444444444446},0,27.52,17.338333333333335,6.7783333333333333,0]
["2018-10-11",4,24.94,1916,null,{"$f":"M6835","v":91.600000000000009},76.151666666666657,47.51,null,{"$f":"'Combined Cycle Gas'!$D$8","v":318.30459770114948},{"$f":"Nuclear!$D$8","v":307.69444444444446},0,69.783333333333317,46.56,37.895000000000003,0]
["2018-10-11",7,39.28,1033,null,{"$f":"M6838","v":84.723333333333329},86.969999999999985,80.954999999999998,null,{"$f":"'Combined Cycle Gas'!$D$8","v":318.30459770114948},{"$f":"Nuclear!$D$8","v":307.69444444444446},0,89.036666666666676,77.716666666666669,86.773333333333312,0]
["2018-10-11",10,39.83,802,null,{"$f":"M6841","v":91.206666666666663},89.61,85.23833333333333,null,{"$f":"'Combined Cycle Gas'!$D$8","v":318.30459770114948},{"$f":"Nuclear!$D$8","v":307.69444444444446},1.3853869999999999,91.600000000000009,76.151666666666657,47.51,1385387]
["2018-10-11",14,39.97,0,null,{"$f":"M6845","v":110.36166666666668},100.875,87.149999999999991,null,{"$f":"'Combined Cycle Gas'!$D$8","v":318.30459770114948},{"$f":"Nuclear!$D$8","v":307.69444444444446},5.1614959999999996,79.786666666666662,87.824999999999989,85.37833333333333,5161496]
["2018-10-11",16,40.01,0,null,{"$f":"M6847","v":130.435},100.05000000000001,94.543333333333337,null,{"$f":"'Combined Cycle Gas'!$D$8","v":318.30459770114948},{"$f":"Nuclear!$D$8","v":307.69444444444446},4.1207219999999998,91.206666666666663,89.61,85.23833333333333,4120722]
["2018-10-11",19,40,0,null,{"$f":"M6850","v":105.55500000000001},76.454999999999998,84.695000000000007,null,{"$f":"'Combined Cycle Gas'!$D$8","v":318.30459770114948},{"$f":"Nuclear!$D$8","v":307.69444444444446},0,100.56166666666667,96.328333333333333,82.013333333333321,0]
["2018-10-11",22,38.11,401,null,{"$f":"M6853","v":120.61499999999999},91.72166666666665,88.553333333333342,null,{"$f":"'Combined Cycle Gas'!$D$8","v":318.30459770114948},{"$f":"Nuclear!$D$8","v":307.69444444444446},0,130.435,100.05000000000001,94.543333333333337,0]
["2018-10-12",1,27.33,314,null,{"$f":"M6856","v":56.365000000000002},57.293333333333329,91.486666666666679,null,{"$f":"'Combined Cycle Gas'!$D$8","v":318.30459770114948},{"$f":"Nuclear!$D$8","v":307.69444444444446},0,105.55500000000001,76.454999999999998,84.695000000000007,0]
["2018-10-12",5,29.26,351,null,{"$f":"M6860","v":12.63},32.661666666666669,21.270000000000003,null,{"$f":"'Combined Cycle Gas'!$D$8","v":318.30459770114948},{"$f":"Nuclear!$D$8","v":307.69444444444446},0,91.843333333333348,62.693333333333328,93.746666666666655,0]
["2018-10-12",8,38.92,120,null,{"$f":"M6863","v":19.77},3.8300000000000005,5.68,null,{"$f":"'Combined Cycle Gas'!$D$8","v":318.30459770114948},{"$f":"Nuclear!$D$8","v":307.69444444444446},1.072964,37.701666666666675,35.648333333333333,71.36999999999999,1072964]
["2018-10-12",11,40.53,27,null,{"$f":"M6866","v":5.2733333333333334},6.4783333333333326,13.478333333333333,null,{"$f":"'Combined Cycle Gas'!$D$8","v":318.30459770114948},{"$f":"Nuclear!$D$8","v":307.69444444444446},3.1902249999999999,12.63,32.661666666666669,21.270000000000003,3190225]
["2018-10-12",13,41.7,0,null,{"$f":"M6868","v":29.808333333333334},22.203333333333333,50.348333333333329,null,{"$f":"'Combined Cycle Gas'!$D$8","v":318.30459770114948},{"$f":"Nuclear!$D$8","v":307.69444444444446},4.7622939999999998,19.196666666666669,13.496666666666668,8.6750000000000007,4762294]
["2018-10-12",19,41.61,35,null,{"$f":"M6874","v":31.026666666666671},6.7799999999999985,24.691666666666666,null,{"$f":"'Combined Cycle Gas'!$D$8","v":318.30459770114948},{"$f":"Nuclear!$D$8","v":307.69444444444446},0,29.808333333333334,22.203333333333333,50.348333333333329,0]
["2018-10-12",20,42.91,233,null,{"$f":"M6875","v":28.006666666666664},3.4033333333333338,28.498333333333331,null,{"$f":"'Combined Cycle Gas'!$D$8","v":318.30459770114948},{"$f":"Nuclear!$D$8","v":307.69444444444446},0,31.398333333333337,24.42166666666667,59.844999999999999,0]
["2018-10-12",23,33.909999999999997,106,null,{"$f":"M6878","v":7.91},3.1816666666666666,11.266666666666666,null,{"$f":"'Combined Cycle Gas'!$D$8","v":318.30459770114948},{"$f":"Nuclear!$D$8","v":307.69444444444446},0,54.006666666666661,29.778333333333336,39.589999999999996,0]
["2018-10-13",2,29.29,44,null,{"$f":"M6881","v":4.8183333333333334},3.145,4.43,null,{"$f":"'Combined Cycle Gas'!$D$8","v":318.30459770114948},{"$f":"Nuclear!$D$8","v":307.69444444444446},0,28.006666666666664,3.4033333333333338,28.498333333333331,0]
["2018-10-13",6,30.66,718,null,{"$f":"M6885","v":4.7},3.16,4.2700000000000005,null,{"$f":"'Combined Cycle Gas'!$D$8","v":318.30459770114948},{"$f":"Nuclear!$D$8","v":307.69444444444446},0,21.346666666666668,4.2216666666666667,5.6933333333333325,0]
["2018-10-13",10,30.04,618,null,{"$f":"M6889","v":11.056666666666667},5.5850000000000009,5.3066666666666658,null,{"$f":"'Combined Cycle Gas'!$D$8","v":318.30459770114948},{"$f":"Nuclear!$D$8","v":307.69444444444446},{"$f":"P6883/10^6","v":3.4706139999999999},4.6833333333333336,3.1533333333333338,4.1166666666666663,3470614]
["2018-10-13",14,34.130000000000003,349,null,{"$f":"M6893","v":30.296666666666667},18.736666666666665,47.114999999999988,null,{"$f":"'Combined Cycle Gas'!$D$8","v":318.30459770114948},{"$f":"Nuclear!$D$8","v":307.69444444444446},6.1764809999999999,4.9366666666666665,3.1916666666666664,4.9483333333333333,6176481]
["2018-10-13",17,39.369999999999997,146,null,{"$f":"M6896","v":45.296666666666674},27.988333333333333,42.37,null,{"$f":"'Combined Cycle Gas'!$D$8","v":318.30459770114948},{"$f":"Nuclear!$D$8","v":307.69444444444446},2.1254200000000001,7.1916666666666664,6.8466666666666667,11.5,2125420]
["2018-10-13",20,39.450000000000003,464,null,{"$f":"M6899","v":87.15333333333335},61.831666666666671,42.733333333333327,null,{"$f":"'Combined Cycle Gas'!$D$8","v":318.30459770114948},{"$f":"Nuclear!$D$8","v":307.69444444444446},0,30.296666666666667,18.736666666666665,47.114999999999988,0]
["2018-10-13",21,34.15,653,null,{"$f":"M6900","v":60.254999999999995},69.190000000000012,36.443333333333335,null,{"$f":"'Combined Cycle Gas'!$D$8","v":318.30459770114948},{"$f":"Nuclear!$D$8","v":307.69444444444446},0,25.851666666666663,21.833333333333332,47.293333333333329,0]
["2018-10-13",24,26.41,743,null,{"$f":"M6903","v":75.809999999999988},70.611666666666665,71.38,null,{"$f":"'Combined Cycle Gas'!$D$8","v":318.30459770114948},{"$f":"Nuclear!$D$8","v":307.69444444444446},0,54.02,30.401666666666667,40.383333333333333,0]
["2018-10-14",3,27.16,1654,null,{"$f":"M6906","v":74.896666666666661},71.143333333333331,101.16500000000001,null,{"$f":"'Combined Cycle Gas'!$D$8","v":318.30459770114948},{"$f":"Nuclear!$D$8","v":307.69444444444446},0,60.254999999999995,69.190000000000012,36.443333333333335,0]
["2018-10-14",7,30.36,243,null,{"$f":"M6910","v":28.216666666666669},13.479999999999999,29.025000000000002,null,{"$f":"'Combined Cycle Gas'!$D$8","v":318.30459770114948},{"$f":"Nuclear!$D$8","v":307.69444444444446},1.2839940000000001,74.783333333333346,72.704999999999998,90.433333333333323,1283994]
["2018-10-14",11,33.42,10,null,{"$f":"M6914","v":3.0249999999999999},2.27,15.271666666666668,null,{"$f":"'Combined Cycle Gas'!$D$8","v":318.30459770114948},{"$f":"Nuclear!$D$8","v":307.69444444444446},7.4629890000000003,67.513333333333335,61.256666666666682,73.393333333333345,7462989]
["2018-10-14",15,34.61,70,null,{"$f":"M6918","v":21.438333333333333},18.636666666666663,25.383333333333329,null,{"$f":"'Combined Cycle Gas'!$D$8","v":318.30459770114948},{"$f":"Nuclear!$D$8","v":307.69444444444446},6.2571979999999998,3.2183333333333337,2.2200000000000002,3.5366666666666666,6257198]
["2018-10-14",18,41.54,74,null,{"$f":"M6921","v":49.911666666666662},2.9049999999999998,27.428333333333331,null,{"$f":"'Combined Cycle Gas'!$D$8","v":318.30459770114948},{"$f":"Nuclear!$D$8","v":307.69444444444446},3.4099999999999999E-4,2.8016666666666672,3.5616666666666661,26.403333333333332,341]
["2018-10-14",21,41.2,979,null,{"$f":"M6924","v":65.571666666666673},59.361666666666672,67.518333333333331,null,{"$f":"'Combined Cycle Gas'!$D$8","v":318.30459770114948},{"$f":"Nuclear!$D$8","v":307.69444444444446},0,21.438333333333333,18.636666666666663,25.383333333333329,0]
["2018-10-14",22,39.450000000000003,1138,null,{"$f":"M6925","v":50.443333333333328},20.061666666666664,61.278333333333336,null,{"$f":"'Combined Cycle Gas'!$D$8","v":318.30459770114948},{"$f":"Nuclear!$D$8","v":307.69444444444446},0,11.248333333333335,9.9450000000000003,21.101666666666663,0]
["2018-10-15",4,27.06,2083,null,{"$f":"M6931","v":0.83499999999999996},0.70000000000000007,1.8866666666666665,null,{"$f":"'Combined Cycle Gas'!$D$8","v":318.30459770114948},{"$f":"Nuclear!$D$8","v":307.69444444444446},0,50.443333333333328,20.061666666666664,61.278333333333336,0]
["2018-10-15",6,29.55,2188,null,{"$f":"M6933","v":0.56833333333333336},0.53500000000000003,1.7299999999999998,null,{"$f":"'Combined Cycle Gas'!$D$8","v":318.30459770114948},{"$f":"Nuclear!$D$8","v":307.69444444444446},0,12.793333333333331,1.4566666666666668,2.5416666666666665,0]
["2018-10-15",9,39.049999999999997,375,null,{"$f":"M6936","v":0.44666666666666671},0.29333333333333333,1.5433333333333332,null,{"$f":"'Combined Cycle Gas'!$D$8","v":318.30459770114948},{"$f":"Nuclear!$D$8","v":307.69444444444446},6.8365900000000002,0.97166666666666668,0.79,2.2383333333333333,6836590]
["2018-10-15",12,38.85,63,null,{"$f":"M6939","v":2.5000000000000005E-2},0.24,1.4716666666666667,null,{"$f":"'Combined Cycle Gas'!$D$8","v":318.30459770114948},{"$f":"Nuclear!$D$8","v":307.69444444444446},7.5251330000000003,0.56833333333333336,0.53500000000000003,1.7299999999999998,7525133]
["2018-10-15",16,38.83,0,null,{"$f":"M6943","v":5.0249999999999995},0.23500000000000001,1.4233333333333331,null,{"$f":"'Combined Cycle Gas'!$D$8","v":318.30459770114948},{"$f":"Nuclear!$D$8","v":307.69444444444446},6.268948,0.11333333333333334,0.25166666666666665,1.5416666666666667,6268948]
["2018-10-15",19,39.880000000000003,0,null,{"$f":"M6946","v":93.416666666666671},49.123333333333335,16.216666666666665,null,{"$f":"'Combined Cycle Gas'!$D$8","v":318.30459770114948},{"$f":"Nuclear!$D$8","v":307.69444444444446},0,5.8333333333333327E-2,0.21666666666666667,1.3716666666666668,0]
["2018-10-15",22,37.67,1514,null,{"$f":"M6949","v":114.7},54.139999999999993,0.92499999999999993,null,{"$f":"'Combined Cycle Gas'!$D$8","v":318.30459770114948},{"$f":"Nuclear!$D$8","v":307.69444444444446},0,5.0249999999999995,0.23500000000000001,1.4233333333333331,0]
["2018-10-16",1,27.54,1305,null,{"$f":"M6952","v":137.64666666666668},102.765,58.623333333333342,null,{"$f":"'Combined Cycle Gas'!$D$8","v":318.30459770114948},{"$f":"Nuclear!$D$8","v":307.69444444444446},0,93.416666666666671,49.123333333333335,16.216666666666665,0]
["2018-10-16",3,27.24,1272,null,{"$f":"M6954","v":138.37166666666667},102.49833333333333,44.761666666666677,null,{"$f":"'Combined Cycle Gas'!$D$8","v":318.30459770114948},{"$f":"Nuclear!$D$8","v":307.69444444444446},0,74.498333333333335,37.666666666666664,2.4333333333333331,0]
["2018-10-16",7,41.53,855,null,{"$f":"M6958","v":146.15833333333333},104.83333333333331,77.538333333333341,null,{"$f":"'Combined Cycle Gas'!$D$8","v":318.30459770114948},{"$f":"Nuclear!$D$8","v":307.69444444444446},2.10324,137.64666666666668,102.765,58.623333333333342,2103240]
["2018-10-16",10,47.15,464,null,{"$f":"M6961","v":134.37333333333336},104.94499999999999,72.87,null,{"$f":"'Combined Cycle Gas'!$D$8","v":318.30459770114948},{"$f":"Nuclear!$D$8","v":307.69444444444446},6.9212949999999998,136.83666666666667,102.09833333333334,41.050000000000004,6921295]
["2018-10-16",13,40.65,649,null,{"$f":"M6964","v":142.86833333333331},98.006666666666661,89.975000000000009,null,{"$f":"'Combined Cycle Gas'!$D$8","v":318.30459770114948},{"$f":"Nuclear!$D$8","v":307.69444444444446},7.0833320000000004,146.15833333333333,104.83333333333331,77.538333333333341,7083332]
["2018-10-16",17,28.31,1985,null,{"$f":"M6968","v":134.79},87.983333333333334,106.99166666666667,null,{"$f":"'Combined Cycle Gas'!$D$8","v":318.30459770114948},{"$f":"Nuclear!$D$8","v":307.69444444444446},3.8374440000000001,141.49666666666667,103.44999999999999,98.171666666666667,3837444]
["2018-10-16",20,27.33,3013,null,{"$f":"M6971","v":140.10833333333332},19.055000000000003,108.69166666666666,null,{"$f":"'Combined Cycle Gas'!$D$8","v":318.30459770114948},{"$f":"Nuclear!$D$8","v":307.69444444444446},0,137.04833333333332,102.98166666666667,103.42833333333333,0]
["2018-10-16",22,27.4,3013,null,{"$f":"M6973","v":141.23000000000002},23.21166666666667,109.13833333333334,null,{"$f":"'Combined Cycle Gas'!$D$8","v":318.30459770114948},{"$f":"Nuclear!$D$8","v":307.69444444444446},0,137.98333333333335,98.32,107.09166666666668,0]
["2018-10-17",1,23.61,2855,null,{"$f":"M6976","v":145.51166666666668},60.485000000000007,85.24,null,{"$f":"'Combined Cycle Gas'!$D$8","v":318.30459770114948},{"$f":"Nuclear!$D$8","v":307.69444444444446},0,133.285,44.658333333333331,107.76333333333332,0]
["2018-10-17",4,30.7,747,null,{"$f":"M6979","v":149.78333333333333},111.19833333333334,108.205,null,{"$f":"'Combined Cycle Gas'!$D$8","v":318.30459770114948},{"$f":"Nuclear!$D$8","v":307.69444444444446},0,141.23000000000002,23.21166666666667,109.13833333333334,0]
["2018-10-17",8,40.14,822,null,{"$f":"M6983","v":126.20166666666665},110.45333333333332,106.67,null,{"$f":"'Combined Cycle Gas'!$D$8","v":318.30459770114948},{"$f":"Nuclear!$D$8","v":307.69444444444446},5.3425830000000003,148.49166666666667,93.803333333333342,95.346666666666678,5342583]
["2018-10-17",11,40.479999999999997,186,null,{"$f":"M6986","v":72.418333333333337},66.771666666666661,83.76,null,{"$f":"'Combined Cycle Gas'!$D$8","v":318.30459770114948},{"$f":"Nuclear!$D$8","v":307.69444444444446},7.1746059999999998,149.69833333333335,112.09666666666665,109.09333333333331,7174606]
["2018-10-17",14,42.3,410,null,{"$f":"M6989","v":70.121666666666655},42.783333333333339,56.544999999999995,null,{"$f":"'Combined Cycle Gas'!$D$8","v":318.30459770114948},{"$f":"Nuclear!$D$8","v":307.69444444444446},7.1103019999999999,126.20166666666665,110.45333333333332,106.67,7110302]
["2018-10-17",19,36.020000000000003,496,null,{"$f":"M6994","v":61.183333333333337},35.946666666666665,21.26,null,{"$f":"'Combined Cycle Gas'!$D$8","v":318.30459770114948},{"$f":"Nuclear!$D$8","v":307.69444444444446},0,72.581666666666663,64.16,68.621666666666655,0]
["2018-10-17",22,42.26,1626,null,{"$f":"M6997","v":47.216666666666669},43.574999999999996,37.756666666666661,null,{"$f":"'Combined Cycle Gas'!$D$8","v":318.30459770114948},{"$f":"Nuclear!$D$8","v":307.69444444444446},0,63.605000000000011,27.324999999999999,25.515000000000001,0]
["2018-10-17",23,35,1513,null,{"$f":"M6998","v":36.104999999999997},26.998333333333335,33.731666666666662,null,{"$f":"'Combined Cycle Gas'!$D$8","v":318.30459770114948},{"$f":"Nuclear!$D$8","v":307.69444444444446},0,68.50833333333334,26.37,14.734999999999999,0]
["2018-10-18",2,25.93,1012,null,{"$f":"M7001","v":12.468333333333334},17.106666666666666,19.330000000000002,null,{"$f":"'Combined Cycle Gas'!$D$8","v":318.30459770114948},{"$f":"Nuclear!$D$8","v":307.69444444444446},0,49.943333333333335,41.064999999999998,27.141666666666666,0]
["2018-10-18",5,25.94,1804,null,{"$f":"M7004","v":11.921666666666667},15.613333333333335,11.815,null,{"$f":"'Combined Cycle Gas'!$D$8","v":318.30459770114948},{"$f":"Nuclear!$D$8","v":307.69444444444446},0,36.104999999999997,26.998333333333335,33.731666666666662,0]
["2018-10-18",9,41.43,295,null,{"$f":"M7008","v":12.14},6.9883333333333342,5.9766666666666666,null,{"$f":"'Combined Cycle Gas'!$D$8","v":318.30459770114948},{"$f":"Nuclear!$D$8","v":307.69444444444446},5.6593859999999996,9.9816666666666656,13.119999999999997,12.203333333333333,5659386]
["2018-10-18",12,42.23,295,null,{"$f":"M7011","v":11.61},7.0350000000000001,6.1166666666666671,null,{"$f":"'Combined Cycle Gas'!$D$8","v":318.30459770114948},{"$f":"Nuclear!$D$8","v":307.69444444444446},6.8015559999999997,18.423333333333336,15.086666666666666,16.558333333333334,6801556]
["2018-10-18",16,29.49,1779,null,{"$f":"M7015","v":11.778333333333334},7.246666666666667,6.2549999999999999,null,{"$f":"'Combined Cycle Gas'!$D$8","v":318.30459770114948},{"$f":"Nuclear!$D$8","v":307.69444444444446},4.8765320000000001,12.048333333333334,7.2116666666666669,5.9283333333333337,4876532]
["2018-10-18",20,38.700000000000003,839,null,{"$f":"M7019","v":13.836666666666666},12.211666666666668,20.526666666666667,null,{"$f":"'Combined Cycle Gas'!$D$8","v":318.30459770114948},{"$f":"Nuclear!$D$8","v":307.69444444444446},0,11.886666666666665,7.07,6.1033333333333344,0]
["2018-10-18",23,25.63,1217,null,{"$f":"M7022","v":32.796666666666674},45.783333333333331,50.985000000000007,null,{"$f":"'Combined Cycle Gas'!$D$8","v":318.30459770114948},{"$f":"Nuclear!$D$8","v":307.69444444444446},0,11.713333333333333,7.8283333333333331,9.0233333333333334,0]
["2018-10-18",24,23.65,1493,null,{"$f":"M7023","v":46.873333333333335},54.56666666666667,60.366666666666667,null,{"$f":"'Combined Cycle Gas'!$D$8","v":318.30459770114948},{"$f":"Nuclear!$D$8","v":307.69444444444446},0,11.700000000000001,7.8633333333333333,26.158333333333331,0]
["2018-10-19",3,24.69,1801,null,{"$f":"M7026","v":55.428333333333335},42.653333333333336,55.483333333333327,null,{"$f":"'Combined Cycle Gas'!$D$8","v":318.30459770114948},{"$f":"Nuclear!$D$8","v":307.69444444444446},0,32.218333333333334,33.99,29.304999999999996,0]
["2018-10-19",6,27.58,1632,null,{"$f":"M7029","v":21.106666666666666},16.445,2.5666666666666669,null,{"$f":"'Combined Cycle Gas'!$D$8","v":318.30459770114948},{"$f":"Nuclear!$D$8","v":307.69444444444446},0,46.873333333333335,54.56666666666667,60.366666666666667,0]
["2018-10-19",10,38.64,662,null,{"$f":"M7033","v":31.70333333333333},24.27333333333333,8.5449999999999999,null,{"$f":"'Combined Cycle Gas'!$D$8","v":318.30459770114948},{"$f":"Nuclear!$D$8","v":307.69444444444446},7.1800139999999999,48.673333333333339,33.31333333333334,29.915000000000003,7180014]
["2018-10-19",13,41.4,64,null,{"$f":"M7036","v":17.143333333333334},0.48666666666666664,5.418333333333333,null,{"$f":"'Combined Cycle Gas'!$D$8","v":318.30459770114948},{"$f":"Nuclear!$D$8","v":307.69444444444446},7.7166800000000002,36.074999999999996,23.555000000000003,19.400000000000002,7716680]
["2018-10-19",17,41.7,0,null,{"$f":"M7040","v":25.193333333333332},8.7966666666666651,14.958333333333334,null,{"$f":"'Combined Cycle Gas'!$D$8","v":318.30459770114948},{"$f":"Nuclear!$D$8","v":307.69444444444446},4.0267900000000001,15.103333333333332,5.498333333333334,2.7349999999999994,4026790]
["2018-10-19",21,38.75,333,null,{"$f":"M7044","v":84.663333333333341},30.126666666666669,34.998333333333335,null,{"$f":"'Combined Cycle Gas'!$D$8","v":318.30459770114948},{"$f":"Nuclear!$D$8","v":307.69444444444446},0,82.836666666666659,17.736666666666668,15.994999999999999,0]
["2018-10-19",24,26.09,672,null,{"$f":"M7047","v":54.511666666666663},13.131666666666668,75.759999999999991,null,{"$f":"'Combined Cycle Gas'!$D$8","v":318.30459770114948},{"$f":"Nuclear!$D$8","v":307.69444444444446},0,5.753333333333333,1.8166666666666664,10.92,0]
["2018-10-20",1,33.11,707,null,{"$f":"M7048","v":49.785000000000004},15.674999999999997,87.573333333333338,null,{"$f":"'Combined Cycle Gas'!$D$8","v":318.30459770114948},{"$f":"Nuclear!$D$8","v":307.69444444444446},0,29.78,13.219999999999999,33.061666666666667,0]
["2018-10-20",4,27.55,1979,null,{"$f":"M7051","v":26.328333333333337},4.3533333333333335,22.28833333333333,null,{"$f":"'Combined Cycle Gas'!$D$8","v":318.30459770114948},{"$f":"Nuclear!$D$8","v":307.69444444444446},0,80.858333333333334,23.7,26.158333333333335,0]
["2018-10-20",10,27.52,2160,null,{"$f":"M7057","v":2.4933333333333336},1.3249999999999997,10.215000000000002,null,{"$f":"'Combined Cycle Gas'!$D$8","v":318.30459770114948},{"$f":"Nuclear!$D$8","v":307.69444444444446},7.5372659999999998,26.328333333333337,4.3533333333333335,22.28833333333333,7537266]
["2018-10-20",12,28.85,1528,null,{"$f":"M7059","v":8.0050000000000008},2.5300000000000002,23.97333333333334,null,{"$f":"'Combined Cycle Gas'!$D$8","v":318.30459770114948},{"$f":"Nuclear!$D$8","v":307.69444444444446},7.7479360000000002,15.221666666666666,1.27,9.8716666666666644,7747936]
["2018-10-20",15,33.42,1090,null,{"$f":"M7062","v":6.9450000000000003},3.6549999999999998,13.244999999999999,null,{"$f":"'Combined Cycle Gas'!$D$8","v":318.30459770114948},{"$f":"Nuclear!$D$8","v":307.69444444444446},7.0694869999999996,2.8616666666666668,1.3083333333333333,8.6366666666666685,7069487]
["2018-10-20",19,40.020000000000003,237,null,{"$f":"M7066","v":6.1716666666666669},3.3166666666666669,19.608333333333331,null,{"$f":"'Combined Cycle Gas'!$D$8","v":318.30459770114948},{"$f":"Nuclear!$D$8","v":307.69444444444446},0,9.51,4.083333333333333,15.478333333333333,0]
["2018-10-20",22,29.36,0,null,{"$f":"M7069","v":6.38},4.2216666666666667,8.7533333333333321,null,{"$f":"'Combined Cycle Gas'!$D$8","v":318.30459770114948},{"$f":"Nuclear!$D$8","v":307.69444444444446},0,9.8050000000000015,3.3349999999999995,10.996666666666668,0]
["2018-10-21",1,27.93,128,null,{"$f":"M7072","v":7.4050000000000002},5.1116666666666664,9.0733333333333324,null,{"$f":"'Combined Cycle Gas'!$D$8","v":318.30459770114948},{"$f":"Nuclear!$D$8","v":307.69444444444446},0,6.1716666666666669,3.3166666666666669,19.608333333333331,0]
["2018-10-21",2,27.91,114,null,{"$f":"M7073","v":7.2666666666666666},6.5200000000000005,9.4649999999999999,null,{"$f":"'Combined Cycle Gas'!$D$8","v":318.30459770114948},{"$f":"Nuclear!$D$8","v":307.69444444444446},0,5.3049999999999997,3.49,14.078333333333335,0]
["2018-10-21",7,26.45,829,null,{"$f":"M7078","v":22.451666666666668},13.453333333333333,23.213333333333335,null,{"$f":"'Combined Cycle Gas'!$D$8","v":318.30459770114948},{"$f":"Nuclear!$D$8","v":307.69444444444446},6.0000000000000002E-6,7.4050000000000002,5.1116666666666664,9.0733333333333324,6]
["2018-10-21",9,29.67,393,null,{"$f":"M7080","v":20.451666666666664},9.0733333333333324,14.805000000000001,null,{"$f":"'Combined Cycle Gas'!$D$8","v":318.30459770114948},{"$f":"Nuclear!$D$8","v":307.69444444444446},0.64595199999999997,7.7599999999999989,6.6466666666666674,10.021666666666667,645952]
["2018-10-21",13,32.99,402,null,{"$f":"M7084","v":7.2349999999999994},7.1783333333333319,10.298333333333332,null,{"$f":"'Combined Cycle Gas'!$D$8","v":318.30459770114948},{"$f":"Nuclear!$D$8","v":307.69444444444446},1.9555549999999999,22.451666666666668,13.453333333333333,23.213333333333335,1955555]
["2018-10-21",16,35.450000000000003,401,null,{"$f":"M7087","v":17.473333333333333},10.283333333333333,11.516666666666667,null,{"$f":"'Combined Cycle Gas'!$D$8","v":318.30459770114948},{"$f":"Nuclear!$D$8","v":307.69444444444446},4.4832770000000002,7.4183333333333339,5.0716666666666663,10.133333333333333,4483277]
["2018-10-21",20,43.68,35,null,{"$f":"M7091","v":114.12833333333333},91.073333333333338,60.759999999999991,null,{"$f":"'Combined Cycle Gas'!$D$8","v":318.30459770114948},{"$f":"Nuclear!$D$8","v":307.69444444444446},0,7.5650000000000004,7.5033333333333339,10.608333333333333,0]
["2018-10-21",23,38.03,61,null,{"$f":"M7094","v":125.55499999999999},97.646666666666661,97.686666666666667,null,{"$f":"'Combined Cycle Gas'!$D$8","v":318.30459770114948},{"$f":"Nuclear!$D$8","v":307.69444444444446},0,44.591666666666669,26.053333333333338,16.411666666666665,0]
["2018-10-21",24,29.98,224,null,{"$f":"M7095","v":121.98500000000001},97.001666666666665,98.418333333333308,null,{"$f":"'Combined Cycle Gas'!$D$8","v":318.30459770114948},{"$f":"Nuclear!$D$8","v":307.69444444444446},0,88.410000000000011,75.403333333333336,28.935000000000002,0]
["2018-10-22",4,27.24,1968,null,{"$f":"M7099","v":69.583333333333329},61.511666666666656,91.075000000000003,null,{"$f":"'Combined Cycle Gas'!$D$8","v":318.30459770114948},{"$f":"Nuclear!$D$8","v":307.69444444444446},0,126.41166666666668,97.716666666666654,95.278333333333322,0]
["2018-10-22",7,40.08,1484,null,{"$f":"M7102","v":11.828333333333333},3.8450000000000002,30.943333333333332,null,{"$f":"'Combined Cycle Gas'!$D$8","v":318.30459770114948},{"$f":"Nuclear!$D$8","v":307.69444444444446},0,119.65833333333335,95.396666666666661,104.50666666666666,0]
["2018-10-22",11,42.21,0,null,{"$f":"M7106","v":7.8049999999999997},10.621666666666666,20.873333333333335,null,{"$f":"'Combined Cycle Gas'!$D$8","v":318.30459770114948},{"$f":"Nuclear!$D$8","v":307.69444444444446},7.2648630000000001,52.85,45.731666666666676,80.59333333333332,7264863]
["2018-10-22",14,41.03,480,null,{"$f":"M7109","v":37.36},30.268333333333331,27.933333333333334,null,{"$f":"'Combined Cycle Gas'!$D$8","v":318.30459770114948},{"$f":"Nuclear!$D$8","v":307.69444444444446},6.9809320000000001,13.208333333333334,6.796666666666666,25.638333333333332,6980932]
["2018-10-22",17,40.07,0,null,{"$f":"M7112","v":45.903333333333336},49.488333333333337,47.136666666666663,null,{"$f":"'Combined Cycle Gas'!$D$8","v":318.30459770114948},{"$f":"Nuclear!$D$8","v":307.69444444444446},3.8790960000000001,7.8049999999999997,10.621666666666666,20.873333333333335,3879096]
["2018-10-22",21,38.380000000000003,1755,null,{"$f":"M7116","v":101.33999999999999},77.616666666666674,71.25,null,{"$f":"'Combined Cycle Gas'!$D$8","v":318.30459770114948},{"$f":"Nuclear!$D$8","v":307.69444444444446},0,44.184999999999995,34.581666666666663,40.031666666666666,0]
["2018-10-23",1,27.2,1473,null,{"$f":"M7120","v":61.886666666666677},35.411666666666669,48.634999999999998,null,{"$f":"'Combined Cycle Gas'!$D$8","v":318.30459770114948},{"$f":"Nuclear!$D$8","v":307.69444444444446},0,71.981666666666669,62.376666666666672,75.14,0]
["2018-10-23",4,3.59,3013,null,{"$f":"M7123","v":6.4600000000000009},3.9850000000000008,10.969999999999999,null,{"$f":"'Combined Cycle Gas'!$D$8","v":318.30459770114948},{"$f":"Nuclear!$D$8","v":307.69444444444446},0,78.103333333333325,63.536666666666662,59.42166666666666,0]
["2018-10-23",5,20.48,3013,null,{"$f":"M7124","v":6.4416666666666664},4.0133333333333328,10.256666666666666,null,{"$f":"'Combined Cycle Gas'!$D$8","v":318.30459770114948},{"$f":"Nuclear!$D$8","v":307.69444444444446},0,74.31,66.179999999999993,50.156666666666673,0]
["2018-10-23",8,34.14,2885,null,{"$f":"M7127","v":24.118333333333336},25.876666666666665,47.919999999999995,null,{"$f":"'Combined Cycle Gas'!$D$8","v":318.30459770114948},{"$f":"Nuclear!$D$8","v":307.69444444444446},4.0043119999999996,29.343333333333334,21.28166666666667,32.875,4004312]
["2018-10-23",12,31.13,3012,null,{"$f":"M7131","v":54.933333333333337},44.401666666666664,48.918333333333329,null,{"$f":"'Combined Cycle Gas'!$D$8","v":318.30459770114948},{"$f":"Nuclear!$D$8","v":307.69444444444446},7.0916240000000004,6.4683333333333337,6.2266666666666666,10.696666666666665,7091624]
["2018-10-23",15,38.520000000000003,2247,null,{"$f":"M7134","v":85.52},61.653333333333336,66.674999999999997,null,{"$f":"'Combined Cycle Gas'!$D$8","v":318.30459770114948},{"$f":"Nuclear!$D$8","v":307.69444444444446},5.9167899999999998,34.81666666666667,26.691666666666663,32.83,5916790]
["2018-10-23",18,38.92,1395,null,{"$f":"M7137","v":69.438333333333318},62.523333333333333,50.148333333333333,null,{"$f":"'Combined Cycle Gas'!$D$8","v":318.30459770114948},{"$f":"Nuclear!$D$8","v":307.69444444444446},0,54.933333333333337,44.401666666666664,48.918333333333329,0]
["2018-10-23",22,49.53,25,null,{"$f":"M7141","v":57.196666666666658},53.653333333333329,21.761666666666667,null,{"$f":"'Combined Cycle Gas'!$D$8","v":318.30459770114948},{"$f":"Nuclear!$D$8","v":307.69444444444446},0,78.588333333333338,58.531666666666666,60.805000000000007,0]
["2018-10-24",2,30.97,0,null,{"$f":"M7145","v":64.348333333333343},26.984999999999999,40.126666666666665,null,{"$f":"'Combined Cycle Gas'!$D$8","v":318.30459770114948},{"$f":"Nuclear!$D$8","v":307.69444444444446},{"$f":"P7139/10^6","v":0},30.47,36.776666666666664,25.373333333333335,0]
["2018-10-24",5,29.24,341,null,{"$f":"M7148","v":39.133333333333333},20.364999999999998,42.754999999999995,null,{"$f":"'Combined Cycle Gas'!$D$8","v":318.30459770114948},{"$f":"Nuclear!$D$8","v":307.69444444444446},0,52.57833333333334,59.263333333333343,20.168333333333333,0]
["2018-10-24",6,37.86,400,null,{"$f":"M7149","v":28.659999999999997},13.791666666666666,42.01,null,{"$f":"'Combined Cycle Gas'!$D$8","v":318.30459770114948},{"$f":"Nuclear!$D$8","v":307.69444444444446},0,33.811666666666667,59.736666666666679,22.261666666666667,0]
["2018-10-24",9,40.9,0,null,{"$f":"M7152","v":7.3066666666666675},4.753333333333333,10.910000000000002,null,{"$f":"'Combined Cycle Gas'!$D$8","v":318.30459770114948},{"$f":"Nuclear!$D$8","v":307.69444444444446},6.0671530000000002,43.428333333333335,19.705000000000002,44.043333333333329,6067153]
["2018-10-24",13,48.23,0,null,{"$f":"M7156","v":21.98},15.065,19.650000000000002,null,{"$f":"'Combined Cycle Gas'!$D$8","v":318.30459770114948},{"$f":"Nuclear!$D$8","v":307.69444444444446},5.4683739999999998,19.455000000000002,9.4716666666666658,19.035,5468374]
["2018-10-24",15,48.91,0,null,{"$f":"M7158","v":21.673333333333336},15.508333333333333,19.388333333333335,null,{"$f":"'Combined Cycle Gas'!$D$8","v":318.30459770114948},{"$f":"Nuclear!$D$8","v":307.69444444444446},3.8495089999999998,7.3066666666666675,4.753333333333333,10.910000000000002,3849509]
["2018-10-24",20,40.04,0,null,{"$f":"M7163","v":10.896666666666667},5.708333333333333,16.035,null,{"$f":"'Combined Cycle Gas'!$D$8","v":318.30459770114948},{"$f":"Nuclear!$D$8","v":307.69444444444446},0,22.868333333333336,16.713333333333335,17.279999999999998,0]
["2018-10-24",24,28.37,407,null,{"$f":"M7167","v":11.961666666666666},8.2649999999999988,11.305,null,{"$f":"'Combined Cycle Gas'!$D$8","v":318.30459770114948},{"$f":"Nuclear!$D$8","v":307.69444444444446},0,20.99,15.783333333333337,18.818333333333332,0]
["2018-10-25",3,23.09,2812,null,{"$f":"M7170","v":32.593333333333334},11.418333333333331,12.611666666666666,null,{"$f":"'Combined Cycle Gas'!$D$8","v":318.30459770114948},{"$f":"Nuclear!$D$8","v":307.69444444444446},0,10.981666666666667,5.7966666666666669,19.736666666666668,0]
["2018-10-25",4,24.9,3036,null,{"$f":"M7171","v":16.495000000000001},9.7350000000000012,11.654999999999999,null,{"$f":"'Combined Cycle Gas'!$D$8","v":318.30459770114948},{"$f":"Nuclear!$D$8","v":307.69444444444446},0,8.8083333333333336,6.3999999999999995,21.283333333333335,0]
["2018-10-25",7,38.65,2525,null,{"$f":"M7174","v":16.03833333333333},6.9516666666666671,11.886666666666665,null,{"$f":"'Combined Cycle Gas'!$D$8","v":318.30459770114948},{"$f":"Nuclear!$D$8","v":307.69444444444446},5.1900000000000004E-4,9.0333333333333332,6.2733333333333334,11.275,519]
["2018-10-25",10,39.979999999999997,678,null,{"$f":"M7177","v":11.518333333333336},7.621666666666667,12.451666666666666,null,{"$f":"'Combined Cycle Gas'!$D$8","v":318.30459770114948},{"$f":"Nuclear!$D$8","v":307.69444444444446},0.68252900000000005,16.495000000000001,9.7350000000000012,11.654999999999999,682529]
["2018-10-25",16,40.020000000000003,0,null,{"$f":"M7183","v":11.153333333333334},12.395000000000001,12.915000000000001,null,{"$f":"'Combined Cycle Gas'!$D$8","v":318.30459770114948},{"$f":"Nuclear!$D$8","v":307.69444444444446},4.1939460000000004,11.518333333333336,7.621666666666667,12.451666666666666,4193946]
["2018-10-25",18,40.26,0,null,{"$f":"M7185","v":37.596666666666664},19.343333333333334,45.406666666666666,null,{"$f":"'Combined Cycle Gas'!$D$8","v":318.30459770114948},{"$f":"Nuclear!$D$8","v":307.69444444444446},0,10.455,8.0066666666666677,12.799999999999999,0]
["2018-10-25",21,33.74,1613,null,{"$f":"M7188","v":83.776666666666657},90.600000000000023,12.131666666666668,null,{"$f":"'Combined Cycle Gas'!$D$8","v":318.30459770114948},{"$f":"Nuclear!$D$8","v":307.69444444444446},0,12.363333333333335,11.038333333333334,12.808333333333332,0]
["2018-10-26",1,21.31,2127,null,{"$f":"M7192","v":146.39666666666665},104.83333333333333,65.143333333333331,null,{"$f":"'Combined Cycle Gas'!$D$8","v":318.30459770114948},{"$f":"Nuclear!$D$8","v":307.69444444444446},0,58.041666666666664,47.169999999999995,32.796666666666667,0]
["2018-10-26",4,24.86,2601,null,{"$f":"M7195","v":138.08000000000001},97.701666666666668,69.454999999999998,null,{"$f":"'Combined Cycle Gas'!$D$8","v":318.30459770114948},{"$f":"Nuclear!$D$8","v":307.69444444444446},0,82.415000000000006,91.151666666666685,12.416666666666666,0]
["2018-10-26",5,24.9,2693,null,{"$f":"M7196","v":132.17333333333332},38.431666666666665,86.496666666666655,null,{"$f":"'Combined Cycle Gas'!$D$8","v":318.30459770114948},{"$f":"Nuclear!$D$8","v":307.69444444444446},0,115.31666666666666,90.04,14.508333333333333,0]
["2018-10-26",8,40.99,1064,null,{"$f":"M7199","v":129.95999999999998},53.718333333333327,51.18333333333333,null,{"$f":"'Combined Cycle Gas'!$D$8","v":318.30459770114948},{"$f":"Nuclear!$D$8","v":307.69444444444446},3.6646969999999999,149.45333333333335,107.34833333333334,76.11,3664697]
["2018-10-26",13,39.979999999999997,1155,null,{"$f":"M7204","v":64.396666666666675},41.118333333333332,36.158333333333331,null,{"$f":"'Combined Cycle Gas'!$D$8","v":318.30459770114948},{"$f":"Nuclear!$D$8","v":307.69444444444446},6.1046230000000001,125.79666666666667,96.064999999999998,63.031666666666673,6104623]
["2018-10-26",16,41.05,311,null,{"$f":"M7207","v":70.99666666666667},84.27833333333335,89.954999999999998,null,{"$f":"'Combined Cycle Gas'!$D$8","v":318.30459770114948},{"$f":"Nuclear!$D$8","v":307.69444444444446},4.7905680000000004,87.263333333333321,82.970000000000013,42.773333333333333,4790568]
["2018-10-26",19,40.119999999999997,0,null,{"$f":"M7210","v":134.04},102.79666666666667,109.49000000000001,null,{"$f":"'Combined Cycle Gas'!$D$8","v":318.30459770114948},{"$f":"Nuclear!$D$8","v":307.69444444444446},0,64.396666666666675,41.118333333333332,36.158333333333331,0]
["2018-10-26",23,26.88,1502,null,{"$f":"M7214","v":139.95666666666668},98.48,108.09499999999998,null,{"$f":"'Combined Cycle Gas'!$D$8","v":318.30459770114948},{"$f":"Nuclear!$D$8","v":307.69444444444446},0,77.648333333333326,75.828333333333333,105.47333333333331,0]
["2018-10-27",2,16.25,2098,null,{"$f":"M7217","v":149.76666666666665},111.00833333333333,109.58833333333335,null,{"$f":"'Combined Cycle Gas'!$D$8","v":318.30459770114948},{"$f":"Nuclear!$D$8","v":307.69444444444446},0,141.93000000000004,105.59666666666668,110.19000000000001,0]
["2018-10-27",5,27.57,2154,null,{"$f":"M7220","v":146.39833333333334},109.22833333333334,110.19000000000001,null,{"$f":"'Combined Cycle Gas'!$D$8","v":318.30459770114948},{"$f":"Nuclear!$D$8","v":307.69444444444446},0,139.95666666666668,98.48,108.09499999999998,0]
["2018-10-27",6,29.21,1516,null,{"$f":"M7221","v":147.93499999999997},110.87833333333333,110.08499999999999,null,{"$f":"'Combined Cycle Gas'!$D$8","v":318.30459770114948},{"$f":"Nuclear!$D$8","v":307.69444444444446},0,144.06333333333333,102.90499999999999,110.19000000000001,0]
["2018-10-27",10,32.86,868,null,{"$f":"M7225","v":149.52166666666665},111.12166666666667,101.43833333333333,null,{"$f":"'Combined Cycle Gas'!$D$8","v":318.30459770114948},{"$f":"Nuclear!$D$8","v":307.69444444444446},7.2756210000000001,151.31999999999996,112.47166666666665,110.19000000000001,7275621]
["2018-10-27",13,38.74,470,null,{"$f":"M7228","v":148.57},109.65333333333335,109.59500000000001,null,{"$f":"'Combined Cycle Gas'!$D$8","v":318.30459770114948},{"$f":"Nuclear!$D$8","v":307.69444444444446},7.381742,149.01833333333335,110.61500000000001,110.03333333333332,7381742]
["2018-10-27",17,39.520000000000003,63,null,{"$f":"M7232","v":150.45833333333334},109.73833333333333,107.49333333333333,null,{"$f":"'Combined Cycle Gas'!$D$8","v":318.30459770114948},{"$f":"Nuclear!$D$8","v":307.69444444444446},1.7804390000000001,150.08333333333334,111.86999999999999,104.54333333333334,1780439]
["2018-10-27",20,39.71,429,null,{"$f":"M7235","v":151.14166666666665},112.52,109.16500000000001,null,{"$f":"'Combined Cycle Gas'!$D$8","v":318.30459770114948},{"$f":"Nuclear!$D$8","v":307.69444444444446},0,149.04333333333332,112.52,109.82833333333333,0]
["2018-10-27",24,22.65,1269,null,{"$f":"M7239","v":134.47166666666669},82.826666666666668,102.33833333333335,null,{"$f":"'Combined Cycle Gas'!$D$8","v":318.30459770114948},{"$f":"Nuclear!$D$8","v":307.69444444444446},0,150.13499999999999,111.27,106.74166666666667,0]
["2018-10-28",3,21.29,2496,null,{"$f":"M7242","v":86.84333333333332},46.461666666666666,98.713333333333324,null,{"$f":"'Combined Cycle Gas'!$D$8","v":318.30459770114948},{"$f":"Nuclear!$D$8","v":307.69444444444446},0,151.29833333333332,112.52,109.84333333333335,0]
["2018-10-28",7,27.64,435,null,{"$f":"M7246","v":71.941666666666677},37.156666666666666,72.11,null,{"$f":"'Combined Cycle Gas'!$D$8","v":318.30459770114948},{"$f":"Nuclear!$D$8","v":307.69444444444446},1.2596E-2,116.19833333333331,68.225000000000009,97.228333333333339,12596]
["2018-10-28",8,31.35,254,null,{"$f":"M7247","v":81.448333333333338},32.955000000000005,65.42,null,{"$f":"'Combined Cycle Gas'!$D$8","v":318.30459770114948},{"$f":"Nuclear!$D$8","v":307.69444444444446},1.4543349999999999,93.77,49.973333333333329,91.631666666666661,1454335]
["2018-10-28",11,37.03,150,null,{"$f":"M7250","v":39.195},33.020000000000003,89.93,null,{"$f":"'Combined Cycle Gas'!$D$8","v":318.30459770114948},{"$f":"Nuclear!$D$8","v":307.69444444444446},6.1985580000000002,61.953333333333326,33.486666666666672,77.233333333333334,6198558]
["2018-10-28",14,28.3,2430,null,{"$f":"M7253","v":63.591666666666669},39.618333333333332,78.588333333333352,null,{"$f":"'Combined Cycle Gas'!$D$8","v":318.30459770114948},{"$f":"Nuclear!$D$8","v":307.69444444444446},6.5106979999999997,81.448333333333338,32.955000000000005,65.42,6510698]
["2018-10-28",18,36.549999999999997,3077,null,{"$f":"M7257","v":100.04},65.274999999999991,84.834999999999994,null,{"$f":"'Combined Cycle Gas'!$D$8","v":318.30459770114948},{"$f":"Nuclear!$D$8","v":307.69444444444446},0,34.293333333333329,26.531666666666666,77.491666666666674,0]
["2018-10-28",21,30.53,3204,null,{"$f":"M7260","v":67.444999999999993},81.868333333333325,93.836666666666687,null,{"$f":"'Combined Cycle Gas'!$D$8","v":318.30459770114948},{"$f":"Nuclear!$D$8","v":307.69444444444446},0,58.214999999999996,44.981666666666662,87.648333333333326,0]
["2018-10-28",24,23.45,3204,null,{"$f":"M7263","v":102.27499999999999},76.964999999999989,89.158333333333346,null,{"$f":"'Combined Cycle Gas'!$D$8","v":318.30459770114948},{"$f":"Nuclear!$D$8","v":307.69444444444446},0,100.04,65.274999999999991,84.834999999999994,0]
["2018-10-29",5,24.18,3013,null,{"$f":"M7268","v":71.28},77.098333333333343,89.918333333333337,null,{"$f":"'Combined Cycle Gas'!$D$8","v":318.30459770114948},{"$f":"Nuclear!$D$8","v":307.69444444444446},0,103.82833333333332,84.116666666666674,93.185000000000002,0]
["2018-10-29",8,39.47,2590,null,{"$f":"M7271","v":83.536666666666676},75.935000000000002,83.531666666666666,null,{"$f":"'Combined Cycle Gas'!$D$8","v":318.30459770114948},{"$f":"Nuclear!$D$8","v":307.69444444444446},1.2587839999999999,85.866666666666674,83.598333333333343,88.841666666666654,1258784]
["2018-10-29",9,40.94,2342,null,{"$f":"M7272","v":84.324999999999989},66.740000000000009,68.786666666666662,null,{"$f":"'Combined Cycle Gas'!$D$8","v":318.30459770114948},{"$f":"Nuclear!$D$8","v":307.69444444444446},5.0252739999999996,77.126666666666665,82.826666666666668,89.24666666666667,5025274]
["2018-10-29",12,28.81,2958,null,{"$f":"M7275","v":57.42499999999999},38.178333333333335,54.923333333333325,null,{"$f":"'Combined Cycle Gas'!$D$8","v":318.30459770114948},{"$f":"Nuclear!$D$8","v":307.69444444444446},1.3755710000000001,75.118333333333325,73.714999999999989,91.086666666666659,1375571]
["2018-10-29",16,26.77,3012,null,{"$f":"M7279","v":36.833333333333336},29.061666666666671,22.60166666666667,null,{"$f":"'Combined Cycle Gas'!$D$8","v":318.30459770114948},{"$f":"Nuclear!$D$8","v":307.69444444444446},0.50564799999999999,71.125000000000014,40.806666666666665,63.803333333333342,505648]
["2018-10-29",19,39.159999999999997,2194,null,{"$f":"M7282","v":48.223333333333336},70.73,55.02,null,{"$f":"'Combined Cycle Gas'!$D$8","v":318.30459770114948},{"$f":"Nuclear!$D$8","v":307.69444444444446},0,66.904999999999987,38.365000000000002,49.151666666666664,0]
["2018-10-29",21,42.17,1385,null,{"$f":"M7284","v":97.089999999999989},66.156666666666666,70.341666666666654,null,{"$f":"'Combined Cycle Gas'!$D$8","v":318.30459770114948},{"$f":"Nuclear!$D$8","v":307.69444444444446},0,46.838333333333331,27.03833333333333,27.633333333333329,0]
["2018-10-30",3,24.95,1035,null,{"$f":"M7290","v":91.646666666666661},77.768333333333331,46.57,null,{"$f":"'Combined Cycle Gas'!$D$8","v":318.30459770114948},{"$f":"Nuclear!$D$8","v":307.69444444444446},0,97.089999999999989,66.156666666666666,70.341666666666654,0]
["2018-10-30",6,26.93,1633,null,{"$f":"M7293","v":45.198333333333345},57.768333333333338,44.645000000000003,null,{"$f":"'Combined Cycle Gas'!$D$8","v":318.30459770114948},{"$f":"Nuclear!$D$8","v":307.69444444444446},0,98.05,78.27,83.678333333333342,0]
["2018-10-30",9,27.62,1948,null,{"$f":"M7296","v":41.968333333333334},49.368333333333332,21.151666666666667,null,{"$f":"'Combined Cycle Gas'!$D$8","v":318.30459770114948},{"$f":"Nuclear!$D$8","v":307.69444444444446},3.4957199999999999,91.646666666666661,77.768333333333331,46.57,3495720]
["2018-10-30",10,30.08,1685,null,{"$f":"M7297","v":22.728333333333335},36.11,14.180000000000001,null,{"$f":"'Combined Cycle Gas'!$D$8","v":318.30459770114948},{"$f":"Nuclear!$D$8","v":307.69444444444446},5.4919419999999999,80.071666666666658,74.911666666666662,46.52,5491942]
["2018-10-30",13,37.96,1051,null,{"$f":"M7300","v":27.78},18.026666666666667,12.408333333333333,null,{"$f":"'Combined Cycle Gas'!$D$8","v":318.30459770114948},{"$f":"Nuclear!$D$8","v":307.69444444444446},6.0921419999999999,42.990000000000009,55.719999999999992,42.801666666666669,6092142]
["2018-10-30",17,43.31,99,null,{"$f":"M7304","v":71.818333333333328},62.223333333333329,50.455000000000005,null,{"$f":"'Combined Cycle Gas'!$D$8","v":318.30459770114948},{"$f":"Nuclear!$D$8","v":307.69444444444446},0.953268,20.503333333333334,18.986666666666665,14.586666666666668,953268]
["2018-10-30",22,49.18,125,null,{"$f":"M7309","v":125.63833333333334},90.068333333333342,93.248333333333335,null,{"$f":"'Combined Cycle Gas'!$D$8","v":318.30459770114948},{"$f":"Nuclear!$D$8","v":307.69444444444446},0,54.604999999999997,36.723333333333336,43.458333333333336,0]
["2018-10-30",24,24.65,726,null,{"$f":"M7311","v":128.77833333333334},91.453333333333333,96.076666666666668,null,{"$f":"'Combined Cycle Gas'!$D$8","v":318.30459770114948},{"$f":"Nuclear!$D$8","v":307.69444444444446},0,119.04166666666667,82.878333333333345,81,0]
["2018-10-31",4,24.95,1093,null,{"$f":"M7315","v":103.705},87.39,93.491666666666674,null,{"$f":"'Combined Cycle Gas'!$D$8","v":318.30459770114948},{"$f":"Nuclear!$D$8","v":307.69444444444446},0,125.63833333333334,90.068333333333342,93.248333333333335,0]
["2018-10-31",7,42.39,569,null,{"$f":"M7318","v":89.681666666666672},67.696666666666673,83.74666666666667,null,{"$f":"'Combined Cycle Gas'!$D$8","v":318.30459770114948},{"$f":"Nuclear!$D$8","v":307.69444444444446},8.8959999999999994E-3,125.86833333333333,88.748333333333335,95.043333333333337,8896]
["2018-10-31",10,42.37,345,null,{"$f":"M7321","v":47.108333333333341},49.508333333333326,54.973333333333329,null,{"$f":"'Combined Cycle Gas'!$D$8","v":318.30459770114948},{"$f":"Nuclear!$D$8","v":307.69444444444446},5.6257159999999997,103.705,87.39,93.491666666666674,5625716]
["2018-10-31",11,43.44,28,null,{"$f":"M7322","v":30.661666666666665},23.513333333333335,38.104999999999997,null,{"$f":"'Combined Cycle Gas'!$D$8","v":318.30459770114948},{"$f":"Nuclear!$D$8","v":307.69444444444446},5.5346570000000002,90.538333333333341,76.551666666666662,91.346666666666678,5534657]
["2018-10-31",15,31.29,1119,null,{"$f":"M7326","v":24.731666666666669},19.631666666666668,18.103333333333335,null,{"$f":"'Combined Cycle Gas'!$D$8","v":318.30459770114948},{"$f":"Nuclear!$D$8","v":307.69444444444446},3.9687350000000001,71.484999999999999,64.433333333333337,78.101666666666659,3968735]
["2018-10-31",19,36.08,1370,null,{"$f":"M7330","v":53.633333333333333},17.164999999999999,42.206666666666671,null,{"$f":"'Combined Cycle Gas'!$D$8","v":318.30459770114948},{"$f":"Nuclear!$D$8","v":307.69444444444446},0,25.24,27.033333333333331,11.353333333333332,0]
["2018-10-31",22,29.7,3013,null,{"$f":"M7333","v":39.666666666666664},27.518333333333331,17.77,null,{"$f":"'Combined Cycle Gas'!$D$8","v":318.30459770114948},{"$f":"Nuclear!$D$8","v":307.69444444444446},0,23.333333333333332,19.13,21.364999999999998,0]
["2018-11-01",1,20.49,3013,null,{"$f":"M7336","v":27.580000000000002},45.264999999999993,10.200000000000001,null,{"$f":"'Combined Cycle Gas'!$D$8","v":318.30459770114948},{"$f":"Nuclear!$D$8","v":307.69444444444446},0,53.633333333333333,17.164999999999999,42.206666666666671,0]
["2018-11-01",5,24.18,3331,null,{"$f":"M7340","v":35.169999999999995},22.684999999999999,21.544999999999998,null,{"$f":"'Combined Cycle Gas'!$D$8","v":318.30459770114948},{"$f":"Nuclear!$D$8","v":307.69444444444446},0,33.778333333333329,37.793333333333329,12.278333333333334,0]
["2018-11-01",8,24.95,3013,null,{"$f":"M7343","v":63.471666666666671},52.12,62.31666666666667,null,{"$f":"'Combined Cycle Gas'!$D$8","v":318.30459770114948},{"$f":"Nuclear!$D$8","v":307.69444444444446},0.152892,22.551666666666666,34.634999999999998,10.061666666666666,152892]
["2018-11-01",9,25.1,3012,null,{"$f":"M7344","v":44.411666666666662},46.555,60.751666666666665,null,{"$f":"'Combined Cycle Gas'!$D$8","v":318.30459770114948},{"$f":"Nuclear!$D$8","v":307.69444444444446},0.11226899999999999,21.941666666666666,28.23,10.25,112269]
["2018-11-01",12,29.24,1337,null,{"$f":"M7347","v":34.176666666666669},42.916666666666664,26.336666666666662,null,{"$f":"'Combined Cycle Gas'!$D$8","v":318.30459770114948},{"$f":"Nuclear!$D$8","v":307.69444444444446},6.3757039999999998,47.853333333333332,29.721666666666668,38.61,6375704]
["2018-11-01",16,39.64,98,null,{"$f":"M7351","v":45.68},51.748333333333335,30.475000000000005,null,{"$f":"'Combined Cycle Gas'!$D$8","v":318.30459770114948},{"$f":"Nuclear!$D$8","v":307.69444444444446},5.2255760000000002,45.588333333333338,45.641666666666673,50.706666666666656,5225576]
["2018-11-01",20,20.78,2047,null,{"$f":"M7355","v":60.356666666666662},40.32,37.12166666666667,null,{"$f":"'Combined Cycle Gas'!$D$8","v":318.30459770114948},{"$f":"Nuclear!$D$8","v":307.69444444444446},0,22.515000000000001,25.855,35.03,0]
["2018-11-01",23,21.66,3087,null,{"$f":"M7358","v":88.233333333333334},44.145000000000003,49.436666666666667,null,{"$f":"'Combined Cycle Gas'!$D$8","v":318.30459770114948},{"$f":"Nuclear!$D$8","v":307.69444444444446},0,51.346666666666664,56.988333333333337,59.908333333333331,0]
["2018-11-02",2,27.13,2045,null,{"$f":"M7361","v":93.899999999999991},52.055000000000007,36.351666666666667,null,{"$f":"'Combined Cycle Gas'!$D$8","v":318.30459770114948},{"$f":"Nuclear!$D$8","v":307.69444444444446},0,60.356666666666662,40.32,37.12166666666667,0]
["2018-11-02",6,24.95,1993,null,{"$f":"M7365","v":93.345000000000013},53.263333333333343,42.883333333333326,null,{"$f":"'Combined Cycle Gas'!$D$8","v":318.30459770114948},{"$f":"Nuclear!$D$8","v":307.69444444444446},0,98.653333333333322,46.478333333333346,43.41,0]
["2018-11-02",9,31.34,878,null,{"$f":"M7368","v":98.333333333333329},64.12,29.268333333333334,null,{"$f":"'Combined Cycle Gas'!$D$8","v":318.30459770114948},{"$f":"Nuclear!$D$8","v":307.69444444444446},6.3337580000000004,89.65333333333335,49.68,30.951666666666668,6333758]
["2018-11-02",11,35.06,245,null,{"$f":"M7370","v":75.918333333333322},42.12,18.524999999999999,null,{"$f":"'Combined Cycle Gas'!$D$8","v":318.30459770114948},{"$f":"Nuclear!$D$8","v":307.69444444444446},7.2684800000000003,80.441666666666663,47.721666666666664,36.055,7268480]
["2018-11-02",14,29.63,0,null,{"$f":"M7373","v":61.589999999999996},45.098333333333336,32.520000000000003,null,{"$f":"'Combined Cycle Gas'!$D$8","v":318.30459770114948},{"$f":"Nuclear!$D$8","v":307.69444444444446},7.0265719999999998,120.33666666666666,72.131666666666675,49.993333333333332,7026572]
["2018-11-02",17,30.85,0,null,{"$f":"M7376","v":89.256666666666661},66.931666666666672,58.708333333333336,null,{"$f":"'Combined Cycle Gas'!$D$8","v":318.30459770114948},{"$f":"Nuclear!$D$8","v":307.69444444444446},2.4939439999999999,75.918333333333322,42.12,18.524999999999999,2493944]
["2018-11-02",21,27.36,701,null,{"$f":"M7380","v":106.28000000000002},61.663333333333334,77.215000000000003,null,{"$f":"'Combined Cycle Gas'!$D$8","v":318.30459770114948},{"$f":"Nuclear!$D$8","v":307.69444444444446},0,80.708333333333329,53.838333333333331,45.901666666666671,0]
["2018-11-02",24,21.09,1231,null,{"$f":"M7383","v":103.27999999999999},69.581666666666663,69.928333333333327,null,{"$f":"'Combined Cycle Gas'!$D$8","v":318.30459770114948},{"$f":"Nuclear!$D$8","v":307.69444444444446},0,105.07000000000001,72.306666666666672,69.13,0]
["2018-11-03",4,29.5,704,null,{"$f":"M7387","v":70.903333333333336},35.68,9.8516666666666666,null,{"$f":"'Combined Cycle Gas'!$D$8","v":318.30459770114948},{"$f":"Nuclear!$D$8","v":307.69444444444446},0,98.041666666666671,58.883333333333333,65.058333333333323,0]
["2018-11-03",6,31.3,206,null,{"$f":"M7389","v":64.438333333333347},28.441666666666666,5.1749999999999998,null,{"$f":"'Combined Cycle Gas'!$D$8","v":318.30459770114948},{"$f":"Nuclear!$D$8","v":307.69444444444446},0,103.27999999999999,69.581666666666663,69.928333333333327,0]
["2018-11-03",11,40.46,0,null,{"$f":"M7394","v":27.804999999999996},19.534999999999997,6.5733333333333333,null,{"$f":"'Combined Cycle Gas'!$D$8","v":318.30459770114948},{"$f":"Nuclear!$D$8","v":307.69444444444446},6.64621,71.885000000000005,36.391666666666666,5.2716666666666674,6646210]
["2018-11-03",12,41.63,6,null,{"$f":"M7395","v":23.405000000000001},18.936666666666664,5.6449999999999996,null,{"$f":"'Combined Cycle Gas'!$D$8","v":318.30459770114948},{"$f":"Nuclear!$D$8","v":307.69444444444446},6.8245659999999999,64.438333333333347,28.441666666666666,5.1749999999999998,6824566]
["2018-11-03",15,34.4,202,null,{"$f":"M7398","v":22.303333333333331},15.878333333333332,9.5516666666666676,null,{"$f":"'Combined Cycle Gas'!$D$8","v":318.30459770114948},{"$f":"Nuclear!$D$8","v":307.69444444444446},6.1723109999999997,44.330000000000005,11.81,5.1716666666666669,6172311]
["2018-11-03",18,37.380000000000003,186,null,{"$f":"M7401","v":26.578333333333337},22.078333333333333,12.725,null,{"$f":"'Combined Cycle Gas'!$D$8","v":318.30459770114948},{"$f":"Nuclear!$D$8","v":307.69444444444446},{"$f":"P7395/10^6","v":0},23.405000000000001,18.936666666666664,5.6449999999999996,0]
["2018-11-03",22,41.27,24,null,{"$f":"M7405","v":77.50500000000001},40.961666666666666,9.6983333333333324,null,{"$f":"'Combined Cycle Gas'!$D$8","v":318.30459770114948},{"$f":"Nuclear!$D$8","v":307.69444444444446},0,20.079999999999998,13.755000000000001,9.9716666666666658,0]
["2018-11-04",1,27.63,305,null,{"$f":"M7408","v":111.91500000000001},82.954999999999998,23.801666666666666,null,{"$f":"'Combined Cycle Gas'!$D$8","v":318.30459770114948},{"$f":"Nuclear!$D$8","v":307.69444444444446},0,32.228333333333332,21.75,18.216666666666665,0]
["2018-11-04",3,30.82,720,null,{"$f":"M7410","v":119.63166666666666},60.533333333333331,11.108333333333334,null,{"$f":"'Combined Cycle Gas'!$D$8","v":318.30459770114948},{"$f":"Nuclear!$D$8","v":307.69444444444446},0,62.861666666666672,28.013333333333332,18.051666666666666,0]
["2018-11-04",9,27.57,1270,null,{"$f":"M7416","v":143.56166666666664},102.85000000000001,43.833333333333336,null,{"$f":"'Combined Cycle Gas'!$D$8","v":318.30459770114948},{"$f":"Nuclear!$D$8","v":307.69444444444446},0.94395600000000002,119.63166666666666,60.533333333333331,11.108333333333334,943956]
["2018-11-04",12,29.97,718,null,{"$f":"M7419","v":37.096666666666671},16.543333333333333,11.711666666666666,null,{"$f":"'Combined Cycle Gas'!$D$8","v":318.30459770114948},{"$f":"Nuclear!$D$8","v":307.69444444444446},1.4613259999999999,141.07499999999999,67.193333333333342,12.028333333333334,1461326]
["2018-11-04",13,27.38,1006,null,{"$f":"M7420","v":22.131666666666664},12.63,11.121666666666668,null,{"$f":"'Combined Cycle Gas'!$D$8","v":318.30459770114948},{"$f":"Nuclear!$D$8","v":307.69444444444446},2.0656659999999998,143.42833333333331,98.553333333333327,22.233333333333334,2065666]
["2018-11-04",16,29.13,1351,null,{"$f":"M7423","v":19.169999999999998},12.225,12.841666666666669,null,{"$f":"'Combined Cycle Gas'!$D$8","v":318.30459770114948},{"$f":"Nuclear!$D$8","v":307.69444444444446},0.70774300000000001,132.39000000000001,67.906666666666666,24.204999999999998,707743]
["2018-11-04",19,27.98,1457,null,{"$f":"M7426","v":78.838333333333324},49.978333333333332,31.448333333333338,null,{"$f":"'Combined Cycle Gas'!$D$8","v":318.30459770114948},{"$f":"Nuclear!$D$8","v":307.69444444444446},0,22.131666666666664,12.63,11.121666666666668,0]
["2018-11-04",24,27.12,2958,null,{"$f":"M7431","v":137.72500000000002},105.91166666666668,100.545,null,{"$f":"'Combined Cycle Gas'!$D$8","v":318.30459770114948},{"$f":"Nuclear!$D$8","v":307.69444444444446},0,52.811666666666667,28.049999999999997,26.44,0]
["2018-11-05",3,24.87,2957,null,{"$f":"M7434","v":142.78166666666667},104.63833333333334,103.86833333333334,null,{"$f":"'Combined Cycle Gas'!$D$8","v":318.30459770114948},{"$f":"Nuclear!$D$8","v":307.69444444444446},0,141.39333333333335,102.31666666666666,47.678333333333342,0]
["2018-11-05",7,27.42,2910,null,{"$f":"M7438","v":132.05333333333331},101.01833333333333,69.766666666666666,null,{"$f":"'Combined Cycle Gas'!$D$8","v":318.30459770114948},{"$f":"Nuclear!$D$8","v":307.69444444444446},0,139.16,103.47000000000001,103.35666666666664,0]
["2018-11-05",10,27,3012,null,{"$f":"M7441","v":129.94499999999999},68.318333333333328,26.106666666666669,null,{"$f":"'Combined Cycle Gas'!$D$8","v":318.30459770114948},{"$f":"Nuclear!$D$8","v":307.69444444444446},3.2016650000000002,144.80499999999998,102.40499999999999,97.024999999999991,3201665]
["2018-11-05",13,27.07,3012,null,{"$f":"M7444","v":14.843333333333334},8.9783333333333335,5.0049999999999999,null,{"$f":"'Combined Cycle Gas'!$D$8","v":318.30459770114948},{"$f":"Nuclear!$D$8","v":307.69444444444446},6.1162039999999998,132.05333333333331,101.01833333333333,69.766666666666666,6116204]
["2018-11-05",14,27.15,3012,null,{"$f":"M7445","v":13.565},8.4966666666666679,4.7416666666666671,null,{"$f":"'Combined Cycle Gas'!$D$8","v":318.30459770114948},{"$f":"Nuclear!$D$8","v":307.69444444444446},6.3369419999999996,135.42166666666665,100.52166666666669,55.540000000000013,6336942]
["2018-11-05",17,27.12,3012,null,{"$f":"M7448","v":28.313333333333333},16.445,7.75,null,{"$f":"'Combined Cycle Gas'!$D$8","v":318.30459770114948},{"$f":"Nuclear!$D$8","v":307.69444444444446},4.8700000000000002E-4,59.634999999999998,14.288333333333334,9.3916666666666675,487]
["2018-11-05",21,25.85,2992,null,{"$f":"M7452","v":133.99333333333334},99.358333333333334,56.650000000000006,null,{"$f":"'Combined Cycle Gas'!$D$8","v":318.30459770114948},{"$f":"Nuclear!$D$8","v":307.69444444444446},0,13.21,8.9466666666666672,4.7883333333333331,0]
["2018-11-06",1,24.32,2967,null,{"$f":"M7456","v":138.33666666666667},105.96666666666665,92.73,null,{"$f":"'Combined Cycle Gas'!$D$8","v":318.30459770114948},{"$f":"Nuclear!$D$8","v":307.69444444444446},0,69.03166666666668,54.985000000000007,21.685000000000002,0]
["2018-11-06",4,27.91,1908,null,{"$f":"M7459","v":135.50666666666666},102.82333333333332,93.033333333333317,null,{"$f":"'Combined Cycle Gas'!$D$8","v":318.30459770114948},{"$f":"Nuclear!$D$8","v":307.69444444444446},0,135.25666666666666,103.11333333333334,67.025000000000006,0]
["2018-11-06",8,40.6,963,null,{"$f":"M7463","v":136.64666666666668},99.875,69.088333333333324,null,{"$f":"'Combined Cycle Gas'!$D$8","v":318.30459770114948},{"$f":"Nuclear!$D$8","v":307.69444444444446},3.277E-3,133.81333333333333,100.50166666666667,91.884999999999991,3277]
["2018-11-06",11,43.08,330,null,{"$f":"M7466","v":117.63166666666666},87.834999999999994,23.724999999999998,null,{"$f":"'Combined Cycle Gas'!$D$8","v":318.30459770114948},{"$f":"Nuclear!$D$8","v":307.69444444444446},2.0352960000000002,136.31999999999996,102.17833333333334,90.484999999999999,2035296]
["2018-11-06",14,43.16,0,null,{"$f":"M7469","v":96.658333333333346},75.691666666666663,9.0716666666666672,null,{"$f":"'Combined Cycle Gas'!$D$8","v":318.30459770114948},{"$f":"Nuclear!$D$8","v":307.69444444444446},6.3351480000000002,136.64666666666668,99.875,69.088333333333324,6335148]
["2018-11-06",15,43.16,0,null,{"$f":"M7470","v":114.43666666666665},86.763333333333321,11.611666666666666,null,{"$f":"'Combined Cycle Gas'!$D$8","v":318.30459770114948},{"$f":"Nuclear!$D$8","v":307.69444444444446},5.9271760000000002,132.155,100.27833333333335,59.724999999999994,5927176]
["2018-11-06",18,34.07,0,null,{"$f":"M7473","v":137.97333333333333},100.44833333333332,48.063333333333333,null,{"$f":"'Combined Cycle Gas'!$D$8","v":318.30459770114948},{"$f":"Nuclear!$D$8","v":307.69444444444446},0,124.07666666666667,80.319999999999993,6.376666666666666,0]
["2018-11-06",23,32.35,672,null,{"$f":"M7478","v":132.06833333333336},101.59499999999998,95.62833333333333,null,{"$f":"'Combined Cycle Gas'!$D$8","v":318.30459770114948},{"$f":"Nuclear!$D$8","v":307.69444444444446},0,133.72999999999999,95.99499999999999,38.283333333333339,0]
["2018-11-07",2,29.25,246,null,{"$f":"M7481","v":128.535},98.54,90.135000000000005,null,{"$f":"'Combined Cycle Gas'!$D$8","v":318.30459770114948},{"$f":"Nuclear!$D$8","v":307.69444444444446},0,131.79333333333332,102.36333333333334,77.948333333333338,0]
["2018-11-07",5,29.25,576,null,{"$f":"M7484","v":125.74333333333334},95.855000000000004,77.683333333333337,null,{"$f":"'Combined Cycle Gas'!$D$8","v":318.30459770114948},{"$f":"Nuclear!$D$8","v":307.69444444444446},0,132.06833333333336,101.59499999999998,95.62833333333333,0]
["2018-11-07",9,38.33,340,null,{"$f":"M7488","v":109.87833333333333},96.304999999999993,88.305000000000007,null,{"$f":"'Combined Cycle Gas'!$D$8","v":318.30459770114948},{"$f":"Nuclear!$D$8","v":307.69444444444446},0.41595799999999999,128.63166666666669,94.641666666666652,87.925000000000011,415958]
["2018-11-07",12,43.44,99,null,{"$f":"M7491","v":24.416666666666668},13.086666666666666,34.346666666666664,null,{"$f":"'Combined Cycle Gas'!$D$8","v":318.30459770114948},{"$f":"Nuclear!$D$8","v":307.69444444444446},7.0539610000000001,126.77833333333332,98.713333333333324,83.971666666666664,7053961]
["2018-11-07",15,39.54,0,null,{"$f":"M7494","v":13.895000000000001},10.435,4.121666666666667,null,{"$f":"'Combined Cycle Gas'!$D$8","v":318.30459770114948},{"$f":"Nuclear!$D$8","v":307.69444444444446},6.3858449999999998,109.87833333333333,96.304999999999993,88.305000000000007,6385845]
["2018-11-07",17,39.47,0,null,{"$f":"M7496","v":13.770000000000001},29.958333333333332,4.3966666666666665,null,{"$f":"'Combined Cycle Gas'!$D$8","v":318.30459770114948},{"$f":"Nuclear!$D$8","v":307.69444444444446},2.886533,81.656666666666666,67.858333333333334,49.883333333333333,2886533]
["2018-11-07",20,39.39,0,null,{"$f":"M7499","v":48.238333333333337},11.301666666666668,4.9866666666666664,null,{"$f":"'Combined Cycle Gas'!$D$8","v":318.30459770114948},{"$f":"Nuclear!$D$8","v":307.69444444444446},0,11.888333333333334,10.678333333333333,4.6883333333333326,0]
["2018-11-07",24,29.27,568,null,{"$f":"M7503","v":71.821666666666658},31.16,19.904999999999998,null,{"$f":"'Combined Cycle Gas'!$D$8","v":318.30459770114948},{"$f":"Nuclear!$D$8","v":307.69444444444446},0,15.389999999999999,17.405000000000001,4.5116666666666667,0]
["2018-11-08",3,27.3,991,null,{"$f":"M7506","v":18.118333333333332},12.966666666666667,35.68333333333333,null,{"$f":"'Combined Cycle Gas'!$D$8","v":318.30459770114948},{"$f":"Nuclear!$D$8","v":307.69444444444446},0,86.87166666666667,17.88,11.428333333333335,0]
["2018-11-08",6,29.94,1603,null,{"$f":"M7509","v":41.113333333333337},17.948333333333334,54.17499999999999,null,{"$f":"'Combined Cycle Gas'!$D$8","v":318.30459770114948},{"$f":"Nuclear!$D$8","v":307.69444444444446},0,71.821666666666658,31.16,19.904999999999998,0]
["2018-11-08",10,29.97,1346,null,{"$f":"M7513","v":50.673333333333325},33.210000000000008,57.998333333333335,null,{"$f":"'Combined Cycle Gas'!$D$8","v":318.30459770114948},{"$f":"Nuclear!$D$8","v":307.69444444444446},6.4932939999999997,18.375,13.790000000000001,52.906666666666666,6493294]
["2018-11-08",12,29.98,1292,null,{"$f":"M7515","v":55.001666666666672},44.091666666666669,41.383333333333333,null,{"$f":"'Combined Cycle Gas'!$D$8","v":318.30459770114948},{"$f":"Nuclear!$D$8","v":307.69444444444446},6.7673300000000003,41.113333333333337,17.948333333333334,54.17499999999999,6767330]
["2018-11-08",15,43.15,606,null,{"$f":"M7518","v":19.033333333333335},16.46166666666667,21.95,null,{"$f":"'Combined Cycle Gas'!$D$8","v":318.30459770114948},{"$f":"Nuclear!$D$8","v":307.69444444444446},5.267112,56.026666666666671,32.771666666666668,66.19,5267112]
["2018-11-08",18,39.67,163,null,{"$f":"M7521","v":30.833333333333332},15.843333333333334,40.043333333333329,null,{"$f":"'Combined Cycle Gas'!$D$8","v":318.30459770114948},{"$f":"Nuclear!$D$8","v":307.69444444444446},0,55.001666666666672,44.091666666666669,41.383333333333333,0]
["2018-11-08",21,43.05,69,null,{"$f":"M7524","v":94.92},32.235000000000007,27.491666666666664,null,{"$f":"'Combined Cycle Gas'!$D$8","v":318.30459770114948},{"$f":"Nuclear!$D$8","v":307.69444444444446},0,19.033333333333335,16.46166666666667,21.95,0]
["2018-11-09",1,27.64,429,null,{"$f":"M7528","v":67.286666666666662},67.751666666666679,48.995000000000005,null,{"$f":"'Combined Cycle Gas'!$D$8","v":318.30459770114948},{"$f":"Nuclear!$D$8","v":307.69444444444446},0,34.428333333333335,21.121666666666666,47.745000000000005,0]
["2018-11-09",4,24.94,2117,null,{"$f":"M7531","v":92.18},84.213333333333338,30.31,null,{"$f":"'Combined Cycle Gas'!$D$8","v":318.30459770114948},{"$f":"Nuclear!$D$8","v":307.69444444444446},0,97.653333333333322,45.681666666666672,27.154999999999998,0]
["2018-11-09",9,29.11,1935,null,{"$f":"M7536","v":26.08},44.434999999999995,39.583333333333336,null,{"$f":"'Combined Cycle Gas'!$D$8","v":318.30459770114948},{"$f":"Nuclear!$D$8","v":307.69444444444446},0.40099400000000002,91.07,90.626666666666665,49.77,400994]
["2018-11-09",12,41.59,379,null,{"$f":"M7539","v":15.826666666666666},13.479999999999999,8.5883333333333329,null,{"$f":"'Combined Cycle Gas'!$D$8","v":318.30459770114948},{"$f":"Nuclear!$D$8","v":307.69444444444446},1.940858,62.236666666666672,61.18,9.2866666666666671,1940858]
["2018-11-09",15,31.47,247,null,{"$f":"M7542","v":15.25},18.8,9.6216666666666679,null,{"$f":"'Combined Cycle Gas'!$D$8","v":318.30459770114948},{"$f":"Nuclear!$D$8","v":307.69444444444446},1.2905409999999999,26.08,44.434999999999995,39.583333333333336,1290541]
["2018-11-09",16,29.69,328,null,{"$f":"M7543","v":15.653333333333331},26.446666666666669,13.315,null,{"$f":"'Combined Cycle Gas'!$D$8","v":318.30459770114948},{"$f":"Nuclear!$D$8","v":307.69444444444446},4.3696580000000003,15.526666666666666,29.386666666666667,16.088333333333331,4369658]
["2018-11-09",19,42.31,2,null,{"$f":"M7546","v":29.298333333333336},24.054999999999996,21.483333333333331,null,{"$f":"'Combined Cycle Gas'!$D$8","v":318.30459770114948},{"$f":"Nuclear!$D$8","v":307.69444444444446},0,15.44,13.443333333333333,8.6933333333333334,0]
["2018-11-09",22,40.83,26,null,{"$f":"M7549","v":89.306666666666672},70.778333333333336,54.76,null,{"$f":"'Combined Cycle Gas'!$D$8","v":318.30459770114948},{"$f":"Nuclear!$D$8","v":307.69444444444446},0,15.653333333333331,26.446666666666669,13.315,0]
["2018-11-10",2,21.33,1125,null,{"$f":"M7553","v":72.858333333333334},65.900000000000006,35.256666666666668,null,{"$f":"'Combined Cycle Gas'!$D$8","v":318.30459770114948},{"$f":"Nuclear!$D$8","v":307.69444444444446},0,47.446666666666665,26.02333333333333,18.069999999999997,0]
["2018-11-10",6,27.91,1743,null,{"$f":"M7557","v":27.116666666666664},36.756666666666668,7.5699999999999994,null,{"$f":"'Combined Cycle Gas'!$D$8","v":318.30459770114948},{"$f":"Nuclear!$D$8","v":307.69444444444446},0,64.38666666666667,78.055000000000007,40.033333333333339,0]
["2018-11-10",10,29.91,648,null,{"$f":"M7561","v":17.388333333333335},19.568333333333332,20.121666666666666,null,{"$f":"'Combined Cycle Gas'!$D$8","v":318.30459770114948},{"$f":"Nuclear!$D$8","v":307.69444444444446},6.6325969999999996,49.044999999999995,43.223333333333336,16.846666666666668,6632597]
["2018-11-10",13,42.15,11,null,{"$f":"M7564","v":14.711666666666666},22.633333333333336,16.986666666666668,null,{"$f":"'Combined Cycle Gas'!$D$8","v":318.30459770114948},{"$f":"Nuclear!$D$8","v":307.69444444444446},6.67835,24.928333333333338,29.443333333333332,7.5033333333333339,6678350]
["2018-11-10",16,41.81,112,null,{"$f":"M7567","v":45.400000000000006},34.87833333333333,36.076666666666661,null,{"$f":"'Combined Cycle Gas'!$D$8","v":318.30459770114948},{"$f":"Nuclear!$D$8","v":307.69444444444446},5.3096779999999999,17.388333333333335,19.568333333333332,20.121666666666666,5309678]
["2018-11-10",17,41.74,238,null,{"$f":"M7568","v":68.766666666666666},48.335000000000001,54.183333333333337,null,{"$f":"'Combined Cycle Gas'!$D$8","v":318.30459770114948},{"$f":"Nuclear!$D$8","v":307.69444444444446},2.625969,13.556666666666667,15.098333333333334,17.228333333333332,2625969]
["2018-11-10",20,34.43,241,null,{"$f":"M7571","v":135.26333333333335},81.451666666666668,98.223333333333343,null,{"$f":"'Combined Cycle Gas'!$D$8","v":318.30459770114948},{"$f":"Nuclear!$D$8","v":307.69444444444446},0,25.580000000000002,14.203333333333333,27.646666666666665,0]
["2018-11-10",23,24.71,2334,null,{"$f":"M7574","v":133.80500000000001},84.156666666666666,99.673333333333332,null,{"$f":"'Combined Cycle Gas'!$D$8","v":318.30459770114948},{"$f":"Nuclear!$D$8","v":307.69444444444446},0,68.766666666666666,48.335000000000001,54.183333333333337,0]
["2018-11-11",3,24.85,2042,null,{"$f":"M7578","v":114.10833333333333},86.165000000000006,97.476666666666674,null,{"$f":"'Combined Cycle Gas'!$D$8","v":318.30459770114948},{"$f":"Nuclear!$D$8","v":307.69444444444446},0,128.87833333333333,85.644999999999996,103.82166666666667,0]
["2018-11-11",7,27.51,355,null,{"$f":"M7582","v":43.330000000000005},51.728333333333332,66.885000000000005,null,{"$f":"'Combined Cycle Gas'!$D$8","v":318.30459770114948},{"$f":"Nuclear!$D$8","v":307.69444444444446},0,131.75666666666666,81.906666666666652,99.030000000000015,0]
["2018-11-11",11,30.35,417,null,{"$f":"M7586","v":31.28},12.44,34.37833333333333,null,{"$f":"'Combined Cycle Gas'!$D$8","v":318.30459770114948},{"$f":"Nuclear!$D$8","v":307.69444444444446},6.3673830000000002,61.056666666666665,51.055,71.561666666666653,6367383]
["2018-11-11",14,40.28,87,null,{"$f":"M7589","v":28.799999999999997},20.321666666666665,34.131666666666668,null,{"$f":"'Combined Cycle Gas'!$D$8","v":318.30459770114948},{"$f":"Nuclear!$D$8","v":307.69444444444446},6.0479599999999998,42.711666666666666,45.338333333333331,69.215000000000003,6047960]
["2018-11-11",17,42.11,24,null,{"$f":"M7592","v":50.781666666666673},30.50333333333333,32.609999999999992,null,{"$f":"'Combined Cycle Gas'!$D$8","v":318.30459770114948},{"$f":"Nuclear!$D$8","v":307.69444444444446},0.15458,31.28,12.44,34.37833333333333,154580]
["2018-11-11",18,43.42,58,null,{"$f":"M7593","v":80.411666666666676},51.401666666666671,44.16,null,{"$f":"'Combined Cycle Gas'!$D$8","v":318.30459770114948},{"$f":"Nuclear!$D$8","v":307.69444444444446},{"$f":"P7587/10^6","v":0},29.833333333333332,12.448333333333332,36.891666666666673,0]
["2018-11-11",24,27.93,693,null,{"$f":"M7599","v":59.563333333333333},45.286666666666662,22.7,null,{"$f":"'Combined Cycle Gas'!$D$8","v":318.30459770114948},{"$f":"Nuclear!$D$8","v":307.69444444444446},0,80.411666666666676,51.401666666666671,44.16,0]
["2018-11-12",1,27.3,1176,null,{"$f":"M7600","v":68.068333333333342},46.784999999999997,40.9,null,{"$f":"'Combined Cycle Gas'!$D$8","v":318.30459770114948},{"$f":"Nuclear!$D$8","v":307.69444444444446},0,85.384999999999991,52.646666666666675,47.094999999999992,0]
["2018-11-12",5,24.95,2475,null,{"$f":"M7604","v":43.163333333333334},33.234999999999999,14.92,null,{"$f":"'Combined Cycle Gas'!$D$8","v":318.30459770114948},{"$f":"Nuclear!$D$8","v":307.69444444444446},0,67.98,44.368333333333332,15.325000000000001,0]
["2018-11-12",8,38.380000000000003,1506,null,{"$f":"M7607","v":21.318333333333332},19.168333333333333,28.03833333333333,null,{"$f":"'Combined Cycle Gas'!$D$8","v":318.30459770114948},{"$f":"Nuclear!$D$8","v":307.69444444444446},4.4050840000000004,70.668333333333337,48.463333333333331,45.801666666666655,4405084]
["2018-11-12",12,27.57,2010,null,{"$f":"M7611","v":14.435},11.13,7.7899999999999991,null,{"$f":"'Combined Cycle Gas'!$D$8","v":318.30459770114948},{"$f":"Nuclear!$D$8","v":307.69444444444446},7.3764060000000002,36.11333333333333,22.87,23.665000000000003,7376406]
["2018-11-12",15,26.65,2887,null,{"$f":"M7614","v":17.150000000000002},12.856666666666667,7.3866666666666667,null,{"$f":"'Combined Cycle Gas'!$D$8","v":318.30459770114948},{"$f":"Nuclear!$D$8","v":307.69444444444446},6.7105880000000004,13.165000000000001,12.568333333333335,29.036666666666672,6710588]
["2018-11-12",18,47.38,1572,null,{"$f":"M7617","v":15.723333333333334},11.729999999999999,12.358333333333334,null,{"$f":"'Combined Cycle Gas'!$D$8","v":318.30459770114948},{"$f":"Nuclear!$D$8","v":307.69444444444446},0,14.435,11.13,7.7899999999999991,0]
["2018-11-12",21,31.39,394,null,{"$f":"M7620","v":82.12166666666667},51.443333333333328,19.579999999999998,null,{"$f":"'Combined Cycle Gas'!$D$8","v":318.30459770114948},{"$f":"Nuclear!$D$8","v":307.69444444444446},0,17.150000000000002,12.856666666666667,7.3866666666666667,0]
["2018-11-12",23,29.94,708,null,{"$f":"M7622","v":72.193333333333328},47.905000000000001,68.785000000000011,null,{"$f":"'Combined Cycle Gas'!$D$8","v":318.30459770114948},{"$f":"Nuclear!$D$8","v":307.69444444444446},0,14.285000000000002,12.055,9.2666666666666675,0]
["2018-11-13",3,27.65,687,null,{"$f":"M7626","v":72.00833333333334},18.786666666666665,12.954999999999998,null,{"$f":"'Combined Cycle Gas'!$D$8","v":318.30459770114948},{"$f":"Nuclear!$D$8","v":307.69444444444446},0,82.12166666666667,51.443333333333328,19.579999999999998,0]
["2018-11-13",6,36.39,14,null,{"$f":"M7629","v":10.573333333333332},10.358333333333333,6.081666666666667,null,{"$f":"'Combined Cycle Gas'!$D$8","v":318.30459770114948},{"$f":"Nuclear!$D$8","v":307.69444444444446},0,65.165000000000006,43.5,65.276666666666671,0]
["2018-11-13",9,37.49,1162,null,{"$f":"M7632","v":14.111666666666666},10.82,8.4966666666666679,null,{"$f":"'Combined Cycle Gas'!$D$8","v":318.30459770114948},{"$f":"Nuclear!$D$8","v":307.69444444444446},2.568165,72.00833333333334,18.786666666666665,12.954999999999998,2568165]
["2018-11-13",13,29.48,2230,null,{"$f":"M7636","v":11.876666666666665},10.601666666666667,6.0683333333333325,null,{"$f":"'Combined Cycle Gas'!$D$8","v":318.30459770114948},{"$f":"Nuclear!$D$8","v":307.69444444444446},7.2053580000000004,10.733333333333334,10.151666666666666,7.0116666666666658,7205358]
["2018-11-13",16,27.19,2683,null,{"$f":"M7639","v":10.51},10.125,7.4450000000000003,null,{"$f":"'Combined Cycle Gas'!$D$8","v":318.30459770114948},{"$f":"Nuclear!$D$8","v":307.69444444444446},5.5370239999999997,10.943333333333335,11.058333333333335,6.4116666666666662,5537024]
["2018-11-13",18,25.28,3013,null,{"$f":"M7641","v":20.551666666666666},13.516666666666667,8.081666666666667,null,{"$f":"'Combined Cycle Gas'!$D$8","v":318.30459770114948},{"$f":"Nuclear!$D$8","v":307.69444444444446},0,10.83,10.333333333333334,6.1016666666666666,0]
["2018-11-13",21,44.15,3256,null,{"$f":"M7644","v":15.551666666666668},12.126666666666667,6.8666666666666671,null,{"$f":"'Combined Cycle Gas'!$D$8","v":318.30459770114948},{"$f":"Nuclear!$D$8","v":307.69444444444446},0,10.411666666666667,10.368333333333332,11.88,0]
["2018-11-13",24,25.37,3074,null,{"$f":"M7647","v":19.466666666666665},14.433333333333335,5.8150000000000004,null,{"$f":"'Combined Cycle Gas'!$D$8","v":318.30459770114948},{"$f":"Nuclear!$D$8","v":307.69444444444446},0,20.551666666666666,13.516666666666667,8.081666666666667,0]
["2018-11-14",4,27.57,3500,null,{"$f":"M7651","v":8.7766666666666673},8.9149999999999991,5.6283333333333339,null,{"$f":"'Combined Cycle Gas'!$D$8","v":318.30459770114948},{"$f":"Nuclear!$D$8","v":307.69444444444446},0,18.113333333333333,12.618333333333332,7.0433333333333339,0]
["2018-11-14",7,36.090000000000003,3098,null,{"$f":"M7654","v":9.2366666666666664},8.0549999999999997,6.0533333333333337,null,{"$f":"'Combined Cycle Gas'!$D$8","v":318.30459770114948},{"$f":"Nuclear!$D$8","v":307.69444444444446},6.7932999999999993E-2,16.598333333333333,13.560000000000002,5.5249999999999995,67933]
["2018-11-14",10,29.15,3012,null,{"$f":"M7657","v":21.01},21.983333333333334,9.1150000000000002,null,{"$f":"'Combined Cycle Gas'!$D$8","v":318.30459770114948},{"$f":"Nuclear!$D$8","v":307.69444444444446},{"$f":"P7651/10^6","v":7.0719539999999999},8.7766666666666673,8.9149999999999991,5.6283333333333339,7071954]
["2018-11-14",15,33.049999999999997,2319,null,{"$f":"M7662","v":30.033333333333331},8.0116666666666667,8.1283333333333339,null,{"$f":"'Combined Cycle Gas'!$D$8","v":318.30459770114948},{"$f":"Nuclear!$D$8","v":307.69444444444446},6.3696619999999999,29.060000000000002,26.468333333333334,17.205000000000002,6369662]
["2018-11-14",18,33.950000000000003,2172,null,{"$f":"M7665","v":125.43833333333333},96.018333333333331,24.96166666666667,null,{"$f":"'Combined Cycle Gas'!$D$8","v":318.30459770114948},{"$f":"Nuclear!$D$8","v":307.69444444444446},0,13.478333333333333,10.140000000000002,7.7633333333333328,0]
["2018-11-14",19,27.81,2872,null,{"$f":"M7666","v":135.91666666666666},95.728333333333339,44.524999999999999,null,{"$f":"'Combined Cycle Gas'!$D$8","v":318.30459770114948},{"$f":"Nuclear!$D$8","v":307.69444444444446},0,19.108333333333331,13.931666666666667,6.9316666666666658,0]
["2018-11-14",22,33.159999999999997,2626,null,{"$f":"M7669","v":138.155},93.016666666666666,95.863333333333344,null,{"$f":"'Combined Cycle Gas'!$D$8","v":318.30459770114948},{"$f":"Nuclear!$D$8","v":307.69444444444446},0,39.881666666666668,22.528333333333336,11.111666666666666,0]
["2018-11-15",1,27.57,2091,null,{"$f":"M7672","v":139.34166666666667},101.68666666666667,33.383333333333326,null,{"$f":"'Combined Cycle Gas'!$D$8","v":318.30459770114948},{"$f":"Nuclear!$D$8","v":307.69444444444446},0,135.91666666666666,95.728333333333339,44.524999999999999,0]
["2018-11-15",5,31.05,975,null,{"$f":"M7676","v":142.83833333333334},102.86166666666666,76.72,null,{"$f":"'Combined Cycle Gas'!$D$8","v":318.30459770114948},{"$f":"Nuclear!$D$8","v":307.69444444444446},0,138.40166666666667,57.971666666666664,97.803333333333342,0]
["2018-11-15",8,40.96,90,null,{"$f":"M7679","v":145.03333333333333},102.48166666666667,95.821666666666673,null,{"$f":"'Combined Cycle Gas'!$D$8","v":318.30459770114948},{"$f":"Nuclear!$D$8","v":307.69444444444446},1.518907,140.20666666666668,107.54333333333334,75.993333333333339,1518907]
["2018-11-15",12,41.5,105,null,{"$f":"M7683","v":138.36833333333334},110.49333333333333,96.44,null,{"$f":"'Combined Cycle Gas'!$D$8","v":318.30459770114948},{"$f":"Nuclear!$D$8","v":307.69444444444446},7.3728379999999998,144.845,107.43499999999999,91.758333333333326,7372838]
["2018-11-15",16,29.77,2280,null,{"$f":"M7687","v":65.091666666666669},29.303333333333338,59.07833333333334,null,{"$f":"'Combined Cycle Gas'!$D$8","v":318.30459770114948},{"$f":"Nuclear!$D$8","v":307.69444444444446},1.461819,142.04333333333332,110.33499999999999,91.678333333333327,1461819]
["2018-11-15",19,41.38,1071,null,{"$f":"M7690","v":130.08333333333334},93.530000000000015,58.341666666666661,null,{"$f":"'Combined Cycle Gas'!$D$8","v":318.30459770114948},{"$f":"Nuclear!$D$8","v":307.69444444444446},0,119.66166666666668,97.056666666666658,103.44499999999998,0]
["2018-11-15",20,41,1567,null,{"$f":"M7691","v":111.65500000000002},84.648333333333326,61.913333333333327,null,{"$f":"'Combined Cycle Gas'!$D$8","v":318.30459770114948},{"$f":"Nuclear!$D$8","v":307.69444444444446},0,31.694999999999997,37.918333333333337,104.61000000000001,0]
["2018-11-15",23,39.96,2116,null,{"$f":"M7694","v":111.67333333333333},83.266666666666666,88.12166666666667,null,{"$f":"'Combined Cycle Gas'!$D$8","v":318.30459770114948},{"$f":"Nuclear!$D$8","v":307.69444444444446},0,87.71,84.311666666666667,21.448333333333334,0]
["2018-11-16",2,27.64,2227,null,{"$f":"M7697","v":71.754999999999995},62.544999999999995,71.763333333333335,null,{"$f":"'Combined Cycle Gas'!$D$8","v":318.30459770114948},{"$f":"Nuclear!$D$8","v":307.69444444444446},0,111.65500000000002,84.648333333333326,61.913333333333327,0]
["2018-11-16",5,32.07,1646,null,{"$f":"M7700","v":134.39833333333331},104.83999999999999,78.896666666666675,null,{"$f":"'Combined Cycle Gas'!$D$8","v":318.30459770114948},{"$f":"Nuclear!$D$8","v":307.69444444444446},0,111.67333333333333,83.266666666666666,88.12166666666667,0]
["2018-11-16",10,41.39,1116,null,{"$f":"M7705","v":135.59333333333331},106.685,102.70833333333333,null,{"$f":"'Combined Cycle Gas'!$D$8","v":318.30459770114948},{"$f":"Nuclear!$D$8","v":307.69444444444446},2.1772909999999999,115.74666666666667,99.564999999999998,47.971666666666671,2177291]
["2018-11-16",13,43.14,1360,null,{"$f":"M7708","v":145.87666666666669},109.97666666666667,87.533333333333346,null,{"$f":"'Combined Cycle Gas'!$D$8","v":318.30459770114948},{"$f":"Nuclear!$D$8","v":307.69444444444446},1.6025450000000001,136.465,109.14499999999998,103.69166666666666,1602545]
["2018-11-16",17,32.869999999999997,2860,null,{"$f":"M7712","v":130.32333333333332},86.590000000000018,103.34166666666665,null,{"$f":"'Combined Cycle Gas'!$D$8","v":318.30459770114948},{"$f":"Nuclear!$D$8","v":307.69444444444446},1.1073550000000001,147.22666666666666,111.29,95.678333333333342,1107355]
["2018-11-16",20,34.4,3013,null,{"$f":"M7715","v":70.956666666666663},38.99666666666667,99.063333333333333,null,{"$f":"'Combined Cycle Gas'!$D$8","v":318.30459770114948},{"$f":"Nuclear!$D$8","v":307.69444444444446},0,145.97,108.57666666666667,102.27333333333331,0]
["2018-11-16",21,40.81,3013,null,{"$f":"M7716","v":84.413333333333341},59.26,94.929999999999993,null,{"$f":"'Combined Cycle Gas'!$D$8","v":318.30459770114948},{"$f":"Nuclear!$D$8","v":307.69444444444446},0,140.29666666666665,102.92166666666667,106.34833333333334,0]
["2018-11-16",24,24.81,3500,null,{"$f":"M7719","v":68.584999999999994},37.984999999999999,55.001666666666665,null,{"$f":"'Combined Cycle Gas'!$D$8","v":318.30459770114948},{"$f":"Nuclear!$D$8","v":307.69444444444446},0,123.51833333333336,91.606666666666669,107.39333333333333,0]
["2018-11-17",6,27.17,3499,null,{"$f":"M7725","v":18.29666666666667},6.6283333333333339,16.123333333333331,null,{"$f":"'Combined Cycle Gas'!$D$8","v":318.30459770114948},{"$f":"Nuclear!$D$8","v":307.69444444444446},0,68.584999999999994,37.984999999999999,55.001666666666665,0]
["2018-11-17",8,27.9,3499,null,{"$f":"M7727","v":32.698333333333331},11.909999999999998,10.438333333333333,null,{"$f":"'Combined Cycle Gas'!$D$8","v":318.30459770114948},{"$f":"Nuclear!$D$8","v":307.69444444444446},0.91844700000000001,55.04,23.76,48.51,918447]
["2018-11-17",11,31.94,3012,null,{"$f":"M7730","v":7.0933333333333328},5.8016666666666667,2.8350000000000004,null,{"$f":"'Combined Cycle Gas'!$D$8","v":318.30459770114948},{"$f":"Nuclear!$D$8","v":307.69444444444446},3.1267839999999998,22.286666666666665,9.1650000000000009,24.841666666666665,3126784]
["2018-11-17",15,42.06,2840,null,{"$f":"M7734","v":8.5733333333333324},6.4850000000000003,3.44,null,{"$f":"'Combined Cycle Gas'!$D$8","v":318.30459770114948},{"$f":"Nuclear!$D$8","v":307.69444444444446},6.161556,15.638333333333335,5.6633333333333331,3.0366666666666666,6161556]
["2018-11-17",18,41.3,3086,null,{"$f":"M7737","v":13.421666666666667},6.9749999999999988,7.326666666666668,null,{"$f":"'Combined Cycle Gas'!$D$8","v":318.30459770114948},{"$f":"Nuclear!$D$8","v":307.69444444444446},0,7.3000000000000007,5.8716666666666661,3.1999999999999997,0]
["2018-11-17",21,43.93,1247,null,{"$f":"M7740","v":14.31},7.7683333333333318,3.8983333333333334,null,{"$f":"'Combined Cycle Gas'!$D$8","v":318.30459770114948},{"$f":"Nuclear!$D$8","v":307.69444444444446},0,8.5733333333333324,6.4850000000000003,3.44,0]
["2018-11-17",22,42.29,967,null,{"$f":"M7741","v":19.71833333333333},14.603333333333332,3.9116666666666666,null,{"$f":"'Combined Cycle Gas'!$D$8","v":318.30459770114948},{"$f":"Nuclear!$D$8","v":307.69444444444446},0,8.8733333333333348,6.6383333333333345,3.4583333333333335,0]
["2018-11-18",3,31.51,902,null,{"$f":"M7746","v":19.803333333333338},13.263333333333334,4.1483333333333334,null,{"$f":"'Combined Cycle Gas'!$D$8","v":318.30459770114948},{"$f":"Nuclear!$D$8","v":307.69444444444446},0,14.31,7.7683333333333318,3.8983333333333334,0]
["2018-11-18",5,32.659999999999997,296,null,{"$f":"M7748","v":10.595000000000001},8.1,4.4683333333333328,null,{"$f":"'Combined Cycle Gas'!$D$8","v":318.30459770114948},{"$f":"Nuclear!$D$8","v":307.69444444444446},0,28.03833333333333,27.053333333333338,3.9916666666666667,0]
["2018-11-18",9,38.36,363,null,{"$f":"M7752","v":17.228333333333332},22.911666666666665,25.58,null,{"$f":"'Combined Cycle Gas'!$D$8","v":318.30459770114948},{"$f":"Nuclear!$D$8","v":307.69444444444446},3.2568E-2,19.803333333333338,13.263333333333334,4.1483333333333334,32568]
["2018-11-18",12,40.32,354,null,{"$f":"M7755","v":19.36},16.296666666666663,11.425000000000002,null,{"$f":"'Combined Cycle Gas'!$D$8","v":318.30459770114948},{"$f":"Nuclear!$D$8","v":307.69444444444446},1.1649830000000001,9.663333333333334,7.1400000000000006,4.083333333333333,1164983]
["2018-11-18",16,40.57,1464,null,{"$f":"M7759","v":22.138333333333335},23.241666666666664,22.619999999999994,null,{"$f":"'Combined Cycle Gas'!$D$8","v":318.30459770114948},{"$f":"Nuclear!$D$8","v":307.69444444444446},0.47866700000000001,12.911666666666667,16.650000000000002,15.081666666666665,478667]
["2018-11-18",19,43.69,1440,null,{"$f":"M7762","v":59.04666666666666},30.123333333333331,35.896666666666661,null,{"$f":"'Combined Cycle Gas'!$D$8","v":318.30459770114948},{"$f":"Nuclear!$D$8","v":307.69444444444446},0,26.733333333333334,16.290000000000003,11.295,0]
["2018-11-18",20,41.29,2178,null,{"$f":"M7763","v":72.908333333333331},43.141666666666673,39.22,null,{"$f":"'Combined Cycle Gas'!$D$8","v":318.30459770114948},{"$f":"Nuclear!$D$8","v":307.69444444444446},0,31.433333333333337,12.701666666666668,16.2,0]
["2018-11-18",24,32.450000000000003,2385,null,{"$f":"M7767","v":80.051666666666662},43.333333333333336,33.306666666666665,null,{"$f":"'Combined Cycle Gas'!$D$8","v":318.30459770114948},{"$f":"Nuclear!$D$8","v":307.69444444444446},0,45.99,30.114999999999998,36.300000000000004,0]
["2018-11-19",3,31.51,1013,null,{"$f":"M7770","v":65.500000000000014},30.568333333333328,20.298333333333332,null,{"$f":"'Combined Cycle Gas'!$D$8","v":318.30459770114948},{"$f":"Nuclear!$D$8","v":307.69444444444446},0,95.605000000000004,30.833333333333329,41.873333333333328,0]
["2018-11-19",6,31.27,2839,null,{"$f":"M7773","v":43.913333333333334},20.118333333333336,9.1066666666666656,null,{"$f":"'Combined Cycle Gas'!$D$8","v":318.30459770114948},{"$f":"Nuclear!$D$8","v":307.69444444444446},0,80.051666666666662,43.333333333333336,33.306666666666665,0]
["2018-11-19",10,40.68,1779,null,{"$f":"M7777","v":43.99},25.5,12.958333333333334,null,{"$f":"'Combined Cycle Gas'!$D$8","v":318.30459770114948},{"$f":"Nuclear!$D$8","v":307.69444444444446},1.5554509999999999,55.826666666666675,30.849999999999998,13.020000000000001,1555451]
["2018-11-19",13,40.89,681,null,{"$f":"M7780","v":26.611666666666668},18.431666666666668,17.385000000000002,null,{"$f":"'Combined Cycle Gas'!$D$8","v":318.30459770114948},{"$f":"Nuclear!$D$8","v":307.69444444444446},5.7266519999999996,51.986666666666657,27.09,13.626666666666665,5726652]
["2018-11-19",17,42.86,0,null,{"$f":"M7784","v":27.321666666666669},19.093333333333334,17.509999999999998,null,{"$f":"'Combined Cycle Gas'!$D$8","v":318.30459770114948},{"$f":"Nuclear!$D$8","v":307.69444444444446},2.213406,35.291666666666671,23.678333333333331,17.083333333333332,2213406]
["2018-11-19",21,42.58,0,null,{"$f":"M7788","v":79.206666666666649},43.835000000000008,26.426666666666666,null,{"$f":"'Combined Cycle Gas'!$D$8","v":318.30459770114948},{"$f":"Nuclear!$D$8","v":307.69444444444446},0,26.626666666666665,29.015000000000004,7.1649999999999991,0]
["2018-11-19",24,31.56,346,null,{"$f":"M7791","v":63.023333333333333},32.543333333333329,14.713333333333333,null,{"$f":"'Combined Cycle Gas'!$D$8","v":318.30459770114948},{"$f":"Nuclear!$D$8","v":307.69444444444446},0,47.449999999999996,32.281666666666666,28.686666666666664,0]
["2018-11-20",1,31.7,299,null,{"$f":"M7792","v":59.580000000000005},35.156666666666673,22.899999999999995,null,{"$f":"'Combined Cycle Gas'!$D$8","v":318.30459770114948},{"$f":"Nuclear!$D$8","v":307.69444444444446},0,72.798333333333332,40.576666666666668,28.223333333333333,0]
["2018-11-20",4,29.22,1645,null,{"$f":"M7795","v":52.464999999999996},23.248333333333335,25.52,null,{"$f":"'Combined Cycle Gas'!$D$8","v":318.30459770114948},{"$f":"Nuclear!$D$8","v":307.69444444444446},0,61.111666666666657,38.333333333333336,19.53166666666667,0]
["2018-11-20",8,46.84,464,null,{"$f":"M7799","v":23.821666666666669},13.573333333333332,13.398333333333333,null,{"$f":"'Combined Cycle Gas'!$D$8","v":318.30459770114948},{"$f":"Nuclear!$D$8","v":307.69444444444446},3.2980000000000002E-3,45.473333333333336,23.99666666666667,22.28,3298]
["2018-11-20",11,40.909999999999997,886,null,{"$f":"M7802","v":65.256666666666661},32.401666666666664,14.258333333333333,null,{"$f":"'Combined Cycle Gas'!$D$8","v":318.30459770114948},{"$f":"Nuclear!$D$8","v":307.69444444444446},1.6128480000000001,40.423333333333325,19.996666666666666,20.543333333333333,1612848]
["2018-11-20",14,25.92,1670,null,{"$f":"M7805","v":61.786666666666662},43.965000000000003,19.489999999999998,null,{"$f":"'Combined Cycle Gas'!$D$8","v":318.30459770114948},{"$f":"Nuclear!$D$8","v":307.69444444444446},1.4357899999999999,23.821666666666669,13.573333333333332,13.398333333333333,1435790]
["2018-11-20",18,34.54,336,null,{"$f":"M7809","v":76.791666666666671},45.268333333333338,29.286666666666672,null,{"$f":"'Combined Cycle Gas'!$D$8","v":318.30459770114948},{"$f":"Nuclear!$D$8","v":307.69444444444446},0,71.553333333333327,33.788333333333334,18.436666666666667,0]
["2018-11-20",22,38.799999999999997,861,null,{"$f":"M7813","v":69.234999999999999},34.369999999999997,45.393333333333338,null,{"$f":"'Combined Cycle Gas'!$D$8","v":318.30459770114948},{"$f":"Nuclear!$D$8","v":307.69444444444446},0,60.064999999999998,59.739999999999988,28.670000000000005,0]
["2018-11-21",1,27.93,417,null,{"$f":"M7816","v":97.105000000000004},48.395000000000003,70.311666666666667,null,{"$f":"'Combined Cycle Gas'!$D$8","v":318.30459770114948},{"$f":"Nuclear!$D$8","v":307.69444444444446},0,51.814999999999998,22.841666666666665,11.33,0]
["2018-11-21",2,27.64,289,null,{"$f":"M7817","v":85.76166666666667},55.576666666666675,72.188333333333333,null,{"$f":"'Combined Cycle Gas'!$D$8","v":318.30459770114948},{"$f":"Nuclear!$D$8","v":307.69444444444446},0,31.685000000000002,16.231666666666666,15.299999999999999,0]
["2018-11-21",5,28.14,179,null,{"$f":"M7820","v":48.593333333333334},42.164999999999999,64.688333333333333,null,{"$f":"'Combined Cycle Gas'!$D$8","v":318.30459770114948},{"$f":"Nuclear!$D$8","v":307.69444444444446},0,65.471666666666664,30.62,48.486666666666672,0]
["2018-11-21",9,29.86,176,null,{"$f":"M7824","v":38.311666666666667},18.741666666666664,14.08,null,{"$f":"'Combined Cycle Gas'!$D$8","v":318.30459770114948},{"$f":"Nuclear!$D$8","v":307.69444444444446},0.948627,73.911666666666662,53.691666666666663,69,948627]
["2018-11-21",11,29.97,227,null,{"$f":"M7826","v":15.81},10.565,8.5649999999999995,null,{"$f":"'Combined Cycle Gas'!$D$8","v":318.30459770114948},{"$f":"Nuclear!$D$8","v":307.69444444444446},1.8657239999999999,48.593333333333334,42.164999999999999,64.688333333333333,1865724]
["2018-11-21",16,33.07,0,null,{"$f":"M7831","v":36.630000000000003},34.301666666666669,29.873333333333331,null,{"$f":"'Combined Cycle Gas'!$D$8","v":318.30459770114948},{"$f":"Nuclear!$D$8","v":307.69444444444446},0.47825099999999998,15.654999999999999,10.613333333333333,8.509999999999998,478251]
["2018-11-21",20,34.54,0,null,{"$f":"M7835","v":119.18333333333334},84.974999999999994,81.565000000000012,null,{"$f":"'Combined Cycle Gas'!$D$8","v":318.30459770114948},{"$f":"Nuclear!$D$8","v":307.69444444444446},0,30.328333333333333,20.080000000000002,17.418333333333333,0]
["2018-11-21",23,37.24,52,null,{"$f":"M7838","v":116.935},77.618333333333325,90.313333333333333,null,{"$f":"'Combined Cycle Gas'!$D$8","v":318.30459770114948},{"$f":"Nuclear!$D$8","v":307.69444444444446},0,41.550000000000004,40.218333333333334,46.305,0]
["2018-11-21",24,27.39,50,null,{"$f":"M7839","v":131.08500000000001},79.318333333333328,99.981666666666669,null,{"$f":"'Combined Cycle Gas'!$D$8","v":318.30459770114948},{"$f":"Nuclear!$D$8","v":307.69444444444446},0,71.33,56.058333333333337,68.34,0]
["2018-11-22",3,27.2,996,null,{"$f":"M7842","v":109.80666666666666},78.771666666666661,84.321666666666673,null,{"$f":"'Combined Cycle Gas'!$D$8","v":318.30459770114948},{"$f":"Nuclear!$D$8","v":307.69444444444446},0,119.04166666666667,95.52,80.766666666666666,0]
["2018-11-22",6,27.91,1133,null,{"$f":"M7845","v":65.626666666666665},22.321666666666669,45.138333333333328,null,{"$f":"'Combined Cycle Gas'!$D$8","v":318.30459770114948},{"$f":"Nuclear!$D$8","v":307.69444444444446},0,131.08500000000001,79.318333333333328,99.981666666666669,0]
["2018-11-22",12,27.61,2458,null,{"$f":"M7851","v":48.358333333333327},15.463333333333333,15.526666666666666,null,{"$f":"'Combined Cycle Gas'!$D$8","v":318.30459770114948},{"$f":"Nuclear!$D$8","v":307.69444444444446},1.506292,65.626666666666665,22.321666666666669,45.138333333333328,1506292]
["2018-11-22",14,25.45,2930,null,{"$f":"M7853","v":52.678333333333335},13.453333333333333,11.738333333333335,null,{"$f":"'Combined Cycle Gas'!$D$8","v":318.30459770114948},{"$f":"Nuclear!$D$8","v":307.69444444444446},1.0817369999999999,88.536666666666676,51.563333333333333,65.963333333333324,1081737]
["2018-11-22",17,25.86,3005,null,{"$f":"M7856","v":37.341666666666669},25.078333333333333,29.253333333333334,null,{"$f":"'Combined Cycle Gas'!$D$8","v":318.30459770114948},{"$f":"Nuclear!$D$8","v":307.69444444444446},0,44.973333333333336,14.921666666666667,25.481666666666666,0]
["2018-11-22",21,22.71,3013,null,{"$f":"M7860","v":85.811666666666667},74.33,75.594999999999999,null,{"$f":"'Combined Cycle Gas'!$D$8","v":318.30459770114948},{"$f":"Nuclear!$D$8","v":307.69444444444446},0,28.301666666666666,10.541666666666666,14.125,0]
["2018-11-22",24,16.2,3038,null,{"$f":"M7863","v":75.868333333333339},36.138333333333328,34.43,null,{"$f":"'Combined Cycle Gas'!$D$8","v":318.30459770114948},{"$f":"Nuclear!$D$8","v":307.69444444444446},0,67.596666666666664,41.054999999999993,44.121666666666663,0]
["2018-11-23",1,18.579999999999998,3051,null,{"$f":"M7864","v":67.470000000000013},38.369999999999997,39.028333333333336,null,{"$f":"'Combined Cycle Gas'!$D$8","v":318.30459770114948},{"$f":"Nuclear!$D$8","v":307.69444444444446},0,89.568333333333342,67.058333333333337,60.968333333333341,0]
["2018-11-23",5,26.08,3219,null,{"$f":"M7868","v":89.195000000000007},74.806666666666672,47.85,null,{"$f":"'Combined Cycle Gas'!$D$8","v":318.30459770114948},{"$f":"Nuclear!$D$8","v":307.69444444444446},0,60.668333333333329,46.863333333333337,59.638333333333343,0]
["2018-11-23",8,29.05,1563,null,{"$f":"M7871","v":50.5},51.94166666666667,38.006666666666668,null,{"$f":"'Combined Cycle Gas'!$D$8","v":318.30459770114948},{"$f":"Nuclear!$D$8","v":307.69444444444446},1.7311E-2,75.843333333333334,49.011666666666663,53.651666666666671,17311]
["2018-11-23",12,41.84,462,null,{"$f":"M7875","v":14.671666666666667},9.7866666666666653,10.138333333333334,null,{"$f":"'Combined Cycle Gas'!$D$8","v":318.30459770114948},{"$f":"Nuclear!$D$8","v":307.69444444444446},6.9035950000000001,50.408333333333324,52.775000000000006,43.733333333333327,6903595]
["2018-11-23",15,47.53,59,null,{"$f":"M7878","v":14.588333333333333},10.6,9.875,null,{"$f":"'Combined Cycle Gas'!$D$8","v":318.30459770114948},{"$f":"Nuclear!$D$8","v":307.69444444444446},6.4554299999999998,32.425000000000004,31.419999999999998,23.256666666666661,6455430]
["2018-11-23",18,49.56,4,null,{"$f":"M7881","v":19.488333333333333},15.571666666666665,23.209999999999997,null,{"$f":"'Combined Cycle Gas'!$D$8","v":318.30459770114948},{"$f":"Nuclear!$D$8","v":307.69444444444446},0,14.671666666666667,9.7866666666666653,10.138333333333334,0]
["2018-11-23",22,27.81,1031,null,{"$f":"M7885","v":60.636666666666663},38.35,43.75333333333333,null,{"$f":"'Combined Cycle Gas'!$D$8","v":318.30459770114948},{"$f":"Nuclear!$D$8","v":307.69444444444446},0,14.228333333333333,11.449999999999998,9.9700000000000006,0]
["2018-11-24",1,26.08,1375,null,{"$f":"M7888","v":37.365000000000002},24.941666666666666,22.846666666666668,null,{"$f":"'Combined Cycle Gas'!$D$8","v":318.30459770114948},{"$f":"Nuclear!$D$8","v":307.69444444444446},0,28.958333333333332,23.551666666666666,35.718333333333334,0]
["2018-11-24",2,24.94,1311,null,{"$f":"M7889","v":17.046666666666667},8.9933333333333323,10.825000000000001,null,{"$f":"'Combined Cycle Gas'!$D$8","v":318.30459770114948},{"$f":"Nuclear!$D$8","v":307.69444444444446},0,38.168333333333329,27.721666666666668,41.6,0]
["2018-11-24",6,29.78,1158,null,{"$f":"M7893","v":12.621666666666668},8.5516666666666676,21.73,null,{"$f":"'Combined Cycle Gas'!$D$8","v":318.30459770114948},{"$f":"Nuclear!$D$8","v":307.69444444444446},0,40.853333333333332,25.961666666666662,32.255000000000003,0]
["2018-11-24",9,29.69,811,null,{"$f":"M7896","v":137.005},53.558333333333337,52.451666666666661,null,{"$f":"'Combined Cycle Gas'!$D$8","v":318.30459770114948},{"$f":"Nuclear!$D$8","v":307.69444444444446},4.5995039999999996,19.195000000000004,13.144999999999998,9.5683333333333334,4599504]
["2018-11-24",13,45.27,41,null,{"$f":"M7900","v":23.83666666666667},14.466666666666669,10.816666666666668,null,{"$f":"'Combined Cycle Gas'!$D$8","v":318.30459770114948},{"$f":"Nuclear!$D$8","v":307.69444444444446},6.439038,46.526666666666664,16.538333333333334,42.305,6439038]
["2018-11-24",16,41.16,210,null,{"$f":"M7903","v":16.84},12.435,10.388333333333334,null,{"$f":"'Combined Cycle Gas'!$D$8","v":318.30459770114948},{"$f":"Nuclear!$D$8","v":307.69444444444446},3.3816109999999999,119.30166666666668,37.853333333333332,36.06333333333334,3381611]
["2018-11-24",20,43.62,178,null,{"$f":"M7907","v":70.256666666666675},23.408333333333335,14.566666666666668,null,{"$f":"'Combined Cycle Gas'!$D$8","v":318.30459770114948},{"$f":"Nuclear!$D$8","v":307.69444444444446},0,18.055,13.68,10.586666666666668,0]
["2018-11-24",23,29.59,103,null,{"$f":"M7910","v":113.80833333333334},96.660000000000011,77.688333333333333,null,{"$f":"'Combined Cycle Gas'!$D$8","v":318.30459770114948},{"$f":"Nuclear!$D$8","v":307.69444444444446},0,25.074999999999999,12.771666666666667,10.481666666666666,0]
["2018-11-25",3,27.46,538,null,{"$f":"M7914","v":141.53166666666667},106.71499999999999,98.923333333333332,null,{"$f":"'Combined Cycle Gas'!$D$8","v":318.30459770114948},{"$f":"Nuclear!$D$8","v":307.69444444444446},0,103.50333333333333,47.109999999999992,25.408333333333331,0]
["2018-11-25",4,27.91,424,null,{"$f":"M7915","v":136.20000000000002},108.52166666666665,98.086666666666659,null,{"$f":"'Combined Cycle Gas'!$D$8","v":318.30459770114948},{"$f":"Nuclear!$D$8","v":307.69444444444446},0,114.19666666666667,83.86999999999999,46.341666666666669,0]
["2018-11-25",7,29.8,64,null,{"$f":"M7918","v":98.44},87.598333333333315,84.846666666666664,null,{"$f":"'Combined Cycle Gas'!$D$8","v":318.30459770114948},{"$f":"Nuclear!$D$8","v":307.69444444444446},1.5799999999999999E-4,126.22833333333334,107.22833333333334,101.825,158]
["2018-11-25",10,38.950000000000003,127,null,{"$f":"M7921","v":74.339999999999989},77.881666666666675,83.156666666666652,null,{"$f":"'Combined Cycle Gas'!$D$8","v":318.30459770114948},{"$f":"Nuclear!$D$8","v":307.69444444444446},1.6816869999999999,136.20000000000002,108.52166666666665,98.086666666666659,1681687]
["2018-11-25",14,35.43,681,null,{"$f":"M7925","v":12.88},18.074999999999999,16.596666666666664,null,{"$f":"'Combined Cycle Gas'!$D$8","v":318.30459770114948},{"$f":"Nuclear!$D$8","v":307.69444444444446},1.58938,107.01166666666666,90.190000000000012,91.674999999999997,1589380]
["2018-11-25",17,38.409999999999997,401,null,{"$f":"M7928","v":21.006666666666664},19.666666666666668,31.801666666666666,null,{"$f":"'Combined Cycle Gas'!$D$8","v":318.30459770114948},{"$f":"Nuclear!$D$8","v":307.69444444444446},0.83987900000000004,40.368333333333332,62.555000000000007,62.155000000000001,839879]
["2018-11-25",20,27.34,2155,null,{"$f":"M7931","v":71.165000000000006},57.601666666666667,32.743333333333332,null,{"$f":"'Combined Cycle Gas'!$D$8","v":318.30459770114948},{"$f":"Nuclear!$D$8","v":307.69444444444446},0,12.88,18.074999999999999,16.596666666666664,0]
["2018-11-26",1,27.14,3294,null,{"$f":"M7936","v":101.26833333333333},95.083333333333329,76.765000000000001,null,{"$f":"'Combined Cycle Gas'!$D$8","v":318.30459770114948},{"$f":"Nuclear!$D$8","v":307.69444444444446},0,74.236666666666665,46.684999999999995,43.603333333333332,0]
["2018-11-26",4,27.58,3087,null,{"$f":"M7939","v":106.8},81.301666666666662,67.83,null,{"$f":"'Combined Cycle Gas'!$D$8","v":318.30459770114948},{"$f":"Nuclear!$D$8","v":307.69444444444446},0,106.19499999999999,90.268333333333331,45.341666666666661,0]
["2018-11-26",5,27.54,3428,null,{"$f":"M7940","v":74.731666666666669},57.528333333333336,49.563333333333333,null,{"$f":"'Combined Cycle Gas'!$D$8","v":318.30459770114948},{"$f":"Nuclear!$D$8","v":307.69444444444446},0,117.28166666666665,94.393333333333331,62.336666666666666,0]
["2018-11-26",8,37.42,2690,null,{"$f":"M7943","v":52.783333333333331},29.775000000000002,30.611666666666665,null,{"$f":"'Combined Cycle Gas'!$D$8","v":318.30459770114948},{"$f":"Nuclear!$D$8","v":307.69444444444446},1.3145E-2,91.8,90.804999999999993,68.598333333333315,13145]
["2018-11-26",12,41.42,1089,null,{"$f":"M7947","v":3.438333333333333},2.8683333333333327,3.3833333333333333,null,{"$f":"'Combined Cycle Gas'!$D$8","v":318.30459770114948},{"$f":"Nuclear!$D$8","v":307.69444444444446},5.1790969999999996,27.991666666666671,27.439999999999998,32.506666666666668,5179097]
["2018-11-26",15,42.49,257,null,{"$f":"M7950","v":3.1483333333333334},1.7666666666666666,3.063333333333333,null,{"$f":"'Combined Cycle Gas'!$D$8","v":318.30459770114948},{"$f":"Nuclear!$D$8","v":307.69444444444446},0.12037299999999999,56.151666666666671,61.768333333333338,28.716666666666669,120373]
["2018-11-26",17,42.63,86,null,{"$f":"M7952","v":15.575000000000001},2.9083333333333332,5.2766666666666664,null,{"$f":"'Combined Cycle Gas'!$D$8","v":318.30459770114948},{"$f":"Nuclear!$D$8","v":307.69444444444446},1.358387,4.8366666666666669,13.506666666666666,3.7883333333333336,1358387]
["2018-11-26",23,33.92,262,null,{"$f":"M7958","v":34.17},34.185000000000002,15.853333333333333,null,{"$f":"'Combined Cycle Gas'!$D$8","v":318.30459770114948},{"$f":"Nuclear!$D$8","v":307.69444444444446},0,15.575000000000001,2.9083333333333332,5.2766666666666664,0]
["2018-11-27",2,28.96,1489,null,{"$f":"M7961","v":93.8},80.916666666666671,52.076666666666675,null,{"$f":"'Combined Cycle Gas'!$D$8","v":318.30459770114948},{"$f":"Nuclear!$D$8","v":307.69444444444446},0,31.181666666666668,26.360000000000003,15.170000000000002,0]
["2018-11-27",5,28.75,1942,null,{"$f":"M7964","v":87.363333333333344},72.373333333333321,58.586666666666673,null,{"$f":"'Combined Cycle Gas'!$D$8","v":318.30459770114948},{"$f":"Nuclear!$D$8","v":307.69444444444446},0,34.17,34.185000000000002,15.853333333333333,0]
["2018-11-27",6,35.229999999999997,1858,null,{"$f":"M7965","v":73.006666666666675},55.688333333333333,42.476666666666667,null,{"$f":"'Combined Cycle Gas'!$D$8","v":318.30459770114948},{"$f":"Nuclear!$D$8","v":307.69444444444446},0,48.506666666666668,43.953333333333326,19.276666666666671,0]
["2018-11-27",9,42.56,1051,null,{"$f":"M7968","v":100.00333333333333},74.651666666666657,66.791666666666671,null,{"$f":"'Combined Cycle Gas'!$D$8","v":318.30459770114948},{"$f":"Nuclear!$D$8","v":307.69444444444446},3.599882,101.54333333333334,89.433333333333323,63.593333333333334,3599882]
["2018-11-27",13,44.21,0,null,{"$f":"M7972","v":14.893333333333333},12.318333333333333,11.671666666666667,null,{"$f":"'Combined Cycle Gas'!$D$8","v":318.30459770114948},{"$f":"Nuclear!$D$8","v":307.69444444444446},6.6481019999999997,77.434999999999988,67.989999999999995,52.359999999999992,6648102]
["2018-11-27",18,44.79,135,null,{"$f":"M7977","v":36.279999999999994},33.391666666666666,43.728333333333332,null,{"$f":"'Combined Cycle Gas'!$D$8","v":318.30459770114948},{"$f":"Nuclear!$D$8","v":307.69444444444446},{"$f":"P7971/10^6","v":0},19.958333333333332,20.066666666666666,17.580000000000002,0]
["2018-11-27",20,42.57,1933,null,{"$f":"M7979","v":100.40166666666666},65.996666666666655,53.028333333333336,null,{"$f":"'Combined Cycle Gas'!$D$8","v":318.30459770114948},{"$f":"Nuclear!$D$8","v":307.69444444444446},0,13.003333333333336,10.196666666666667,9.9566666666666688,0]
["2018-11-27",24,27.24,2258,null,{"$f":"M7983","v":131.43833333333333},104.10666666666667,98.608333333333348,null,{"$f":"'Combined Cycle Gas'!$D$8","v":318.30459770114948},{"$f":"Nuclear!$D$8","v":307.69444444444446},0,36.279999999999994,33.391666666666666,43.728333333333332,0]
["2018-11-28",3,23.89,2626,null,{"$f":"M7986","v":148.89666666666668},109.27499999999999,96.490000000000009,null,{"$f":"'Combined Cycle Gas'!$D$8","v":318.30459770114948},{"$f":"Nuclear!$D$8","v":307.69444444444446},0,98.87166666666667,86.71833333333332,55.353333333333332,0]
["2018-11-28",6,27.16,2896,null,{"$f":"M7989","v":144.16166666666666},109.02,96.401666666666657,null,{"$f":"'Combined Cycle Gas'!$D$8","v":318.30459770114948},{"$f":"Nuclear!$D$8","v":307.69444444444446},0,131.43833333333333,104.10666666666667,98.608333333333348,0]
["2018-11-28",7,41.15,2724,null,{"$f":"M7990","v":142.93333333333334},107.05499999999999,79.89,null,{"$f":"'Combined Cycle Gas'!$D$8","v":318.30459770114948},{"$f":"Nuclear!$D$8","v":307.69444444444446},0,137.47,106.47000000000001,99.473333333333343,0]
["2018-11-28",11,42.47,1065,null,{"$f":"M7994","v":48.001666666666665},50.314999999999998,70.88333333333334,null,{"$f":"'Combined Cycle Gas'!$D$8","v":318.30459770114948},{"$f":"Nuclear!$D$8","v":307.69444444444446},1.4424729999999999,145.88166666666666,110.43333333333335,107.09166666666665,1442473]
["2018-11-28",15,33.840000000000003,1489,null,{"$f":"M7998","v":60.085000000000001},53.976666666666667,53.126666666666665,null,{"$f":"'Combined Cycle Gas'!$D$8","v":318.30459770114948},{"$f":"Nuclear!$D$8","v":307.69444444444446},0.37930700000000001,121.66166666666668,105.06,82.143333333333331,379307]
["2018-11-28",18,41.41,1038,null,{"$f":"M8001","v":62.061666666666667},44.681666666666665,54.889999999999993,null,{"$f":"'Combined Cycle Gas'!$D$8","v":318.30459770114948},{"$f":"Nuclear!$D$8","v":307.69444444444446},0,33.525000000000006,39.051666666666669,67.783333333333331,0]
["2018-11-28",21,26.47,2970,null,{"$f":"M8004","v":122.29333333333334},95.139999999999986,94.08,null,{"$f":"'Combined Cycle Gas'!$D$8","v":318.30459770114948},{"$f":"Nuclear!$D$8","v":307.69444444444446},0,60.085000000000001,53.976666666666667,53.126666666666665,0]
["2018-11-29",1,27.65,2747,null,{"$f":"M8008","v":145.75333333333333},108.21833333333335,102.995,null,{"$f":"'Combined Cycle Gas'!$D$8","v":318.30459770114948},{"$f":"Nuclear!$D$8","v":307.69444444444446},0,87.096666666666678,53.455000000000005,66.423333333333332,0]
["2018-11-29",4,31.84,903,null,{"$f":"M8011","v":139.57500000000002},108.88,100.11,null,{"$f":"'Combined Cycle Gas'!$D$8","v":318.30459770114948},{"$f":"Nuclear!$D$8","v":307.69444444444446},0,129.30666666666667,96.58,102.04,0]
["2018-11-29",5,36.51,793,null,{"$f":"M8012","v":138.465},106.73333333333333,100.17166666666667,null,{"$f":"'Combined Cycle Gas'!$D$8","v":318.30459770114948},{"$f":"Nuclear!$D$8","v":307.69444444444446},0,138.53666666666666,104.29,104.32166666666667,0]
["2018-11-29",8,43.63,310,null,{"$f":"M8015","v":137.77833333333334},102.25999999999999,100.69500000000001,null,{"$f":"'Combined Cycle Gas'!$D$8","v":318.30459770114948},{"$f":"Nuclear!$D$8","v":307.69444444444446},2.8183769999999999,145.35999999999999,111.29,105.89999999999999,2818377]
["2018-11-29",12,43.45,129,null,{"$f":"M8019","v":69.070000000000007},39.125,80.518333333333331,null,{"$f":"'Combined Cycle Gas'!$D$8","v":318.30459770114948},{"$f":"Nuclear!$D$8","v":307.69444444444446},7.3280180000000001,128.00666666666666,105.54333333333334,98.92,7328018]
["2018-11-29",16,41.21,1545,null,{"$f":"M8023","v":93.50333333333333},51.228333333333332,34.964999999999996,null,{"$f":"'Combined Cycle Gas'!$D$8","v":318.30459770114948},{"$f":"Nuclear!$D$8","v":307.69444444444446},4.6582920000000003,123.07333333333332,102.16833333333334,95.078333333333333,4658292]
["2018-11-29",19,28.77,2152,null,{"$f":"M8026","v":128.86833333333334},95.37,86.136666666666656,null,{"$f":"'Combined Cycle Gas'!$D$8","v":318.30459770114948},{"$f":"Nuclear!$D$8","v":307.69444444444446},0,53.958333333333336,32.93333333333333,60.918333333333329,0]
["2018-11-29",22,37.799999999999997,3013,null,{"$f":"M8029","v":133.62333333333333},101.65499999999999,72.690000000000012,null,{"$f":"'Combined Cycle Gas'!$D$8","v":318.30459770114948},{"$f":"Nuclear!$D$8","v":307.69444444444446},0,93.50333333333333,51.228333333333332,34.964999999999996,0]
["2018-11-30",2,24.78,3013,null,{"$f":"M8033","v":124.30500000000001},99.936666666666667,94.556666666666672,null,{"$f":"'Combined Cycle Gas'!$D$8","v":318.30459770114948},{"$f":"Nuclear!$D$8","v":307.69444444444446},0,136.45500000000001,103.05333333333334,86.841666666666654,0]
["2018-11-30",5,29.2,3500,null,{"$f":"M8036","v":136.34833333333333},97.743333333333339,96.464999999999989,null,{"$f":"'Combined Cycle Gas'!$D$8","v":318.30459770114948},{"$f":"Nuclear!$D$8","v":307.69444444444446},0,128.29500000000002,106.73500000000001,77.660000000000011,0]
["2018-11-30",7,40.96,3013,null,{"$f":"M8038","v":84.814999999999998},82.548333333333332,83.413333333333341,null,{"$f":"'Combined Cycle Gas'!$D$8","v":318.30459770114948},{"$f":"Nuclear!$D$8","v":307.69444444444446},0,120.60666666666667,99.254999999999995,91.986666666666665,0]
["2018-11-30",10,40.99,2970,null,{"$f":"M8041","v":111.22000000000001},75.038333333333341,91.211666666666659,null,{"$f":"'Combined Cycle Gas'!$D$8","v":318.30459770114948},{"$f":"Nuclear!$D$8","v":307.69444444444446},{"$f":"P8035/10^6","v":6.0885100000000003},130.73166666666668,100.255,100.90666666666665,6088510]
["2018-11-30",13,33.869999999999997,2966,null,{"$f":"M8044","v":83.248333333333335},70.961666666666659,95.254999999999995,null,{"$f":"'Combined Cycle Gas'!$D$8","v":318.30459770114948},{"$f":"Nuclear!$D$8","v":307.69444444444446},5.5680379999999996,84.814999999999998,82.548333333333332,83.413333333333341,5568038]
["2018-11-30",17,41.04,2650,null,{"$f":"M8048","v":95.24666666666667},86.720000000000013,82.261666666666656,null,{"$f":"'Combined Cycle Gas'!$D$8","v":318.30459770114948},{"$f":"Nuclear!$D$8","v":307.69444444444446},0.24226700000000001,105.19,82.563333333333347,92.848333333333315,242267]
["2018-11-30",20,33.630000000000003,3013,null,{"$f":"M8051","v":136.45333333333335},102.63333333333333,98.313333333333333,null,{"$f":"'Combined Cycle Gas'!$D$8","v":318.30459770114948},{"$f":"Nuclear!$D$8","v":307.69444444444446},0,87.556666666666658,76.15666666666668,89.566666666666663,0]
["2018-11-30",23,20.3,2783,null,{"$f":"M8054","v":137.20000000000002},103.255,99.139999999999986,null,{"$f":"'Combined Cycle Gas'!$D$8","v":318.30459770114948},{"$f":"Nuclear!$D$8","v":307.69444444444446},0,95.24666666666667,86.720000000000013,82.261666666666656,0]
["2018-12-01",2,30.24,2237,null,{"$f":"M8057","v":136.05166666666665},100.515,98.333333333333329,null,{"$f":"'Combined Cycle Gas'!$D$8","v":318.30459770114948},{"$f":"Nuclear!$D$8","v":307.69444444444446},0,136.45333333333335,102.63333333333333,98.313333333333333,0]
["2018-12-01",7,33.770000000000003,3062,null,{"$f":"M8062","v":140.61500000000001},101.41666666666667,100.96,null,{"$f":"'Combined Cycle Gas'!$D$8","v":318.30459770114948},{"$f":"Nuclear!$D$8","v":307.69444444444446},0,135.86666666666665,102.51333333333332,98.073333333333323,0]
["2018-12-01",8,31.51,3176,null,{"$f":"M8063","v":139.90666666666667},100.90333333333335,99.923333333333332,null,{"$f":"'Combined Cycle Gas'!$D$8","v":318.30459770114948},{"$f":"Nuclear!$D$8","v":307.69444444444446},5.1500000000000005E-4,136.05166666666665,100.515,98.333333333333329,515]
["2018-12-01",11,34.659999999999997,2497,null,{"$f":"M8066","v":121.27833333333335},84.063333333333333,101.73666666666666,null,{"$f":"'Combined Cycle Gas'!$D$8","v":318.30459770114948},{"$f":"Nuclear!$D$8","v":307.69444444444446},5.119929,136.87499999999997,100.78166666666665,102.19833333333334,5119929]
["2018-12-01",14,27.46,2492,null,{"$f":"M8069","v":63.271666666666668},43.294999999999995,88.199999999999989,null,{"$f":"'Combined Cycle Gas'!$D$8","v":318.30459770114948},{"$f":"Nuclear!$D$8","v":307.69444444444446},5.9468139999999998,139.90666666666667,100.90333333333335,99.923333333333332,5946814]
["2018-12-01",18,34.31,1856,null,{"$f":"M8073","v":15.291666666666666},13.049999999999999,51.341666666666669,null,{"$f":"'Combined Cycle Gas'!$D$8","v":318.30459770114948},{"$f":"Nuclear!$D$8","v":307.69444444444446},0,91.094999999999985,54.881666666666661,97.506666666666661,0]
["2018-12-01",21,27.21,2970,null,{"$f":"M8076","v":22.118333333333336},9.6,28.871666666666666,null,{"$f":"'Combined Cycle Gas'!$D$8","v":318.30459770114948},{"$f":"Nuclear!$D$8","v":307.69444444444446},0,36.00333333333333,29.985000000000003,69.364999999999995,0]
["2018-12-01",23,26.79,3049,null,{"$f":"M8078","v":22.995000000000001},8.3266666666666662,12.458333333333334,null,{"$f":"'Combined Cycle Gas'!$D$8","v":318.30459770114948},{"$f":"Nuclear!$D$8","v":307.69444444444446},0,16.329999999999998,15.368333333333331,48.841666666666669,0]
["2018-12-02",5,31.34,3214,null,{"$f":"M8084","v":64.089999999999989},34.401666666666664,4.6483333333333334,null,{"$f":"'Combined Cycle Gas'!$D$8","v":318.30459770114948},{"$f":"Nuclear!$D$8","v":307.69444444444446},0,22.995000000000001,8.3266666666666662,12.458333333333334,0]
["2018-12-02",8,28.71,2997,null,{"$f":"M8087","v":52.140000000000008},43.366666666666667,37.30833333333333,null,{"$f":"'Combined Cycle Gas'!$D$8","v":318.30459770114948},{"$f":"Nuclear!$D$8","v":307.69444444444446},1.4734339999999999,62.836666666666666,24.863333333333333,12.368333333333332,1473434]
["2018-12-02",9,31.79,2620,null,{"$f":"M8088","v":36.660000000000004},41.7,28.375,null,{"$f":"'Combined Cycle Gas'!$D$8","v":318.30459770114948},{"$f":"Nuclear!$D$8","v":307.69444444444446},4.3000600000000002,79.431666666666672,35.313333333333333,9.6166666666666671,4300060]
["2018-12-02",12,33.57,2252,null,{"$f":"M8091","v":7.166666666666667},7.8416666666666659,4.7733333333333334,null,{"$f":"'Combined Cycle Gas'!$D$8","v":318.30459770114948},{"$f":"Nuclear!$D$8","v":307.69444444444446},5.8524940000000001,53.43,39.986666666666672,6.9849999999999994,5852494]
["2018-12-02",15,30.32,2211,null,{"$f":"M8094","v":6.53},8.6666666666666661,4.998333333333334,null,{"$f":"'Combined Cycle Gas'!$D$8","v":318.30459770114948},{"$f":"Nuclear!$D$8","v":307.69444444444446},6.0924529999999999,36.660000000000004,41.7,28.375,6092453]
["2018-12-02",20,51.77,747,null,{"$f":"M8099","v":54.400000000000006},47.51,31.939999999999998,null,{"$f":"'Combined Cycle Gas'!$D$8","v":318.30459770114948},{"$f":"Nuclear!$D$8","v":307.69444444444446},0,8.2416666666666671,7.669999999999999,4.8866666666666667,0]
["2018-12-02",23,44.21,637,null,{"$f":"M8102","v":41.356666666666662},22.52,34.47,null,{"$f":"'Combined Cycle Gas'!$D$8","v":318.30459770114948},{"$f":"Nuclear!$D$8","v":307.69444444444446},0,13.871666666666664,15.13833333333333,9.01,0]
["2018-12-03",3,30.28,2260,null,{"$f":"M8106","v":66.275000000000006},49.521666666666668,20.646666666666665,null,{"$f":"'Combined Cycle Gas'!$D$8","v":318.30459770114948},{"$f":"Nuclear!$D$8","v":307.69444444444446},0,73.016666666666666,46.098333333333329,30.431666666666668,0]
["2018-12-03",6,36.57,2873,null,{"$f":"M8109","v":5.7316666666666665},3.61,4.8016666666666667,null,{"$f":"'Combined Cycle Gas'!$D$8","v":318.30459770114948},{"$f":"Nuclear!$D$8","v":307.69444444444446},0,46.724999999999994,28.7,29.693333333333332,0]
["2018-12-03",9,42.44,830,null,{"$f":"M8112","v":6.1183333333333332},6.45,12.81,null,{"$f":"'Combined Cycle Gas'!$D$8","v":318.30459770114948},{"$f":"Nuclear!$D$8","v":307.69444444444446},2.3474999999999999E-2,66.275000000000006,49.521666666666668,20.646666666666665,23475]
["2018-12-03",10,42.5,602,null,{"$f":"M8113","v":7.0016666666666678},5.5883333333333338,11.623333333333335,null,{"$f":"'Combined Cycle Gas'!$D$8","v":318.30459770114948},{"$f":"Nuclear!$D$8","v":307.69444444444446},0.29889100000000002,51.949999999999996,27.168333333333337,6.2749999999999986,298891]
["2018-12-03",13,42.87,349,null,{"$f":"M8116","v":17.388333333333335},14.145000000000001,6.34,null,{"$f":"'Combined Cycle Gas'!$D$8","v":318.30459770114948},{"$f":"Nuclear!$D$8","v":307.69444444444446},1.862182,5.44,3.7466666666666661,5.2049999999999992,1862182]
["2018-12-03",17,44.84,89,null,{"$f":"M8120","v":104.69999999999999},61.765000000000008,28.706666666666667,null,{"$f":"'Combined Cycle Gas'!$D$8","v":318.30459770114948},{"$f":"Nuclear!$D$8","v":307.69444444444446},6.587E-3,7.8500000000000005,6.0566666666666675,6.1183333333333332,6587]
["2018-12-03",21,33.25,898,null,{"$f":"M8124","v":117.20833333333333},63.116666666666667,71.396666666666661,null,{"$f":"'Combined Cycle Gas'!$D$8","v":318.30459770114948},{"$f":"Nuclear!$D$8","v":307.69444444444446},0,37.340000000000003,25.466666666666669,7.375,0]
["2018-12-03",24,29.27,830,null,{"$f":"M8127","v":124.14666666666665},65.528333333333336,70.226666666666674,null,{"$f":"'Combined Cycle Gas'!$D$8","v":318.30459770114948},{"$f":"Nuclear!$D$8","v":307.69444444444446},0,129.87333333333333,80.906666666666652,56.291666666666679,0]
["2018-12-04",4,29.22,481,null,{"$f":"M8131","v":102.67333333333333},47.358333333333327,58.766666666666659,null,{"$f":"'Combined Cycle Gas'!$D$8","v":318.30459770114948},{"$f":"Nuclear!$D$8","v":307.69444444444446},0,118.31333333333333,54.49666666666667,76.948333333333338,0]
["2018-12-04",7,42.56,676,null,{"$f":"M8134","v":36.831666666666671},8.7016666666666662,13.101666666666665,null,{"$f":"'Combined Cycle Gas'!$D$8","v":318.30459770114948},{"$f":"Nuclear!$D$8","v":307.69444444444446},0,117.17333333333333,61.389999999999993,63.491666666666667,0]
["2018-12-04",10,43.96,183,null,{"$f":"M8137","v":6.9283333333333319},3.6949999999999998,7.211666666666666,null,{"$f":"'Combined Cycle Gas'!$D$8","v":318.30459770114948},{"$f":"Nuclear!$D$8","v":307.69444444444446},1.705201,102.67333333333333,47.358333333333327,58.766666666666659,1705201]
["2018-12-04",11,42.66,216,null,{"$f":"M8138","v":6.7316666666666665},4.043333333333333,6.1950000000000003,null,{"$f":"'Combined Cycle Gas'!$D$8","v":318.30459770114948},{"$f":"Nuclear!$D$8","v":307.69444444444446},0.97137799999999996,81.751666666666651,33.948333333333338,43.216666666666669,971378]
["2018-12-04",14,29.47,958,null,{"$f":"M8141","v":6.7983333333333329},5.0516666666666667,6.503333333333333,null,{"$f":"'Combined Cycle Gas'!$D$8","v":318.30459770114948},{"$f":"Nuclear!$D$8","v":307.69444444444446},0.83940300000000001,21.51,5.1583333333333341,14.75,839403]
["2018-12-04",19,31.22,617,null,{"$f":"M8146","v":14.593333333333334},8.7716666666666665,37.143333333333338,null,{"$f":"'Combined Cycle Gas'!$D$8","v":318.30459770114948},{"$f":"Nuclear!$D$8","v":307.69444444444446},0,7.1316666666666677,4.8866666666666667,7.2683333333333335,0]
["2018-12-04",22,42.48,0,null,{"$f":"M8149","v":27.51},40.518333333333338,53.993333333333332,null,{"$f":"'Combined Cycle Gas'!$D$8","v":318.30459770114948},{"$f":"Nuclear!$D$8","v":307.69444444444446},0,6.748333333333334,5.125,6.669999999999999,0]
["2018-12-05",1,29.27,243,null,{"$f":"M8152","v":64.106666666666669},49.37166666666667,101.25,null,{"$f":"'Combined Cycle Gas'!$D$8","v":318.30459770114948},{"$f":"Nuclear!$D$8","v":307.69444444444446},0,14.593333333333334,8.7716666666666665,37.143333333333338,0]
["2018-12-05",5,33.770000000000003,68,null,{"$f":"M8156","v":38.658333333333331},15.523333333333335,57.708333333333336,null,{"$f":"'Combined Cycle Gas'!$D$8","v":318.30459770114948},{"$f":"Nuclear!$D$8","v":307.69444444444446},0,44.449999999999996,46.91,84.431666666666672,0]
["2018-12-05",8,44.83,0,null,{"$f":"M8159","v":7.251666666666666},3.7916666666666661,6.6533333333333324,null,{"$f":"'Combined Cycle Gas'!$D$8","v":318.30459770114948},{"$f":"Nuclear!$D$8","v":307.69444444444446},4.6508000000000001E-2,64.2,48.13,102.52666666666666,46508]
["2018-12-05",11,44.01,0,null,{"$f":"M8162","v":8.9016666666666673},5.4483333333333333,6.4483333333333333,null,{"$f":"'Combined Cycle Gas'!$D$8","v":318.30459770114948},{"$f":"Nuclear!$D$8","v":307.69444444444446},3.5717500000000002,38.658333333333331,15.523333333333335,57.708333333333336,3571750]
["2018-12-05",13,44,186,null,{"$f":"M8164","v":9.7516666666666669},6.22,6.54,null,{"$f":"'Combined Cycle Gas'!$D$8","v":318.30459770114948},{"$f":"Nuclear!$D$8","v":307.69444444444446},4.518878,7.19,3.8000000000000003,12.493333333333334,4518878]
["2018-12-05",16,36.85,322,null,{"$f":"M8167","v":9.5650000000000013},10.021666666666667,8.6983333333333324,null,{"$f":"'Combined Cycle Gas'!$D$8","v":318.30459770114948},{"$f":"Nuclear!$D$8","v":307.69444444444446},6.7226999999999995E-2,10.196666666666667,5.64,13.623333333333333,67227]
["2018-12-05",20,30.95,695,null,{"$f":"M8171","v":65.088333333333324},73.678333333333327,82.381666666666661,null,{"$f":"'Combined Cycle Gas'!$D$8","v":318.30459770114948},{"$f":"Nuclear!$D$8","v":307.69444444444446},0,9.81,6.7450000000000001,6.7166666666666659,0]
["2018-12-05",23,25.86,2742,null,{"$f":"M8174","v":74.086666666666659},95.698333333333323,93.923333333333332,null,{"$f":"'Combined Cycle Gas'!$D$8","v":318.30459770114948},{"$f":"Nuclear!$D$8","v":307.69444444444446},0,8.9899999999999984,15.941666666666668,19.204999999999998,0]
["2018-12-06",2,25,2967,null,{"$f":"M8177","v":129.67833333333334},103.50000000000001,105.62666666666668,null,{"$f":"'Combined Cycle Gas'!$D$8","v":318.30459770114948},{"$f":"Nuclear!$D$8","v":307.69444444444446},0,65.088333333333324,73.678333333333327,82.381666666666661,0]
["2018-12-06",6,33.22,1935,null,{"$f":"M8181","v":128.86500000000001},106.35166666666667,105.22500000000001,null,{"$f":"'Combined Cycle Gas'!$D$8","v":318.30459770114948},{"$f":"Nuclear!$D$8","v":307.69444444444446},0,94.03166666666668,101.44666666666666,93.646666666666647,0]
["2018-12-06",8,43.5,1808,null,{"$f":"M8183","v":120.83},102.99166666666667,105.56333333333333,null,{"$f":"'Combined Cycle Gas'!$D$8","v":318.30459770114948},{"$f":"Nuclear!$D$8","v":307.69444444444446},2.2649189999999999,129.67833333333334,103.50000000000001,105.62666666666668,2264919]
["2018-12-06",11,44.33,460,null,{"$f":"M8186","v":43.889999999999993},65.396666666666661,90.533333333333317,null,{"$f":"'Combined Cycle Gas'!$D$8","v":318.30459770114948},{"$f":"Nuclear!$D$8","v":307.69444444444446},7.3856130000000002,137.39333333333332,106.22499999999998,107.11999999999999,7385613]
["2018-12-06",14,44.99,7,null,{"$f":"M8189","v":27.780000000000005},64.608333333333334,39.344999999999999,null,{"$f":"'Combined Cycle Gas'!$D$8","v":318.30459770114948},{"$f":"Nuclear!$D$8","v":307.69444444444446},7.5467789999999999,120.83,102.99166666666667,105.56333333333333,7546779]
["2018-12-06",17,42.46,0,null,{"$f":"M8192","v":29.016666666666669},86.043333333333337,67.273333333333341,null,{"$f":"'Combined Cycle Gas'!$D$8","v":318.30459770114948},{"$f":"Nuclear!$D$8","v":307.69444444444446},2.3195540000000001,43.889999999999993,65.396666666666661,90.533333333333317,2319554]
["2018-12-06",21,27.34,1050,null,{"$f":"M8196","v":117.96833333333335},98.530000000000015,96.838333333333324,null,{"$f":"'Combined Cycle Gas'!$D$8","v":318.30459770114948},{"$f":"Nuclear!$D$8","v":307.69444444444446},0,32.11,76.536666666666662,43.830000000000005,0]
["2018-12-06",24,25.29,2976,null,{"$f":"M8199","v":75.513333333333335},31.601666666666659,88.46,null,{"$f":"'Combined Cycle Gas'!$D$8","v":318.30459770114948},{"$f":"Nuclear!$D$8","v":307.69444444444446},0,59.288333333333334,97.25333333333333,84.891666666666666,0]
["2018-12-07",5,29.84,2777,null,{"$f":"M8204","v":52.74666666666667},11.920000000000002,75.194999999999993,null,{"$f":"'Combined Cycle Gas'!$D$8","v":318.30459770114948},{"$f":"Nuclear!$D$8","v":307.69444444444446},0,103.83333333333333,60.494999999999997,97.686666666666667,0]
["2018-12-07",8,60.28,1080,null,{"$f":"M8207","v":8.7566666666666677},4.2766666666666664,40.975000000000001,null,{"$f":"'Combined Cycle Gas'!$D$8","v":318.30459770114948},{"$f":"Nuclear!$D$8","v":307.69444444444446},1.8629500000000001,30.03,4.4416666666666664,68.75333333333333,1862950]
["2018-12-07",11,42.28,826,null,{"$f":"M8210","v":62.428333333333342},57.191666666666663,33.331666666666663,null,{"$f":"'Combined Cycle Gas'!$D$8","v":318.30459770114948},{"$f":"Nuclear!$D$8","v":307.69444444444446},5.2198260000000003,52.74666666666667,11.920000000000002,75.194999999999993,5219826]
["2018-12-07",12,40.31,541,null,{"$f":"M8211","v":99.49666666666667},72.16,53.01,null,{"$f":"'Combined Cycle Gas'!$D$8","v":318.30459770114948},{"$f":"Nuclear!$D$8","v":307.69444444444446},6.5244920000000004,46.743333333333339,8.08,65.52000000000001,6524492]
["2018-12-07",15,41.17,206,null,{"$f":"M8214","v":125.96833333333332},95.625,81.403333333333336,null,{"$f":"'Combined Cycle Gas'!$D$8","v":318.30459770114948},{"$f":"Nuclear!$D$8","v":307.69444444444446},1.1115539999999999,12.94,8.2733333333333334,48.053333333333342,1111554]
["2018-12-07",18,42.65,85,null,{"$f":"M8217","v":132.42000000000002},97.778333333333322,88.009999999999991,null,{"$f":"'Combined Cycle Gas'!$D$8","v":318.30459770114948},{"$f":"Nuclear!$D$8","v":307.69444444444446},0,99.49666666666667,72.16,53.01,0]
["2018-12-07",22,42.48,0,null,{"$f":"M8221","v":125.57166666666667},83.961666666666659,80.893333333333331,null,{"$f":"'Combined Cycle Gas'!$D$8","v":318.30459770114948},{"$f":"Nuclear!$D$8","v":307.69444444444446},0,126.59166666666665,97.135000000000005,84.051666666666662,0]
["2018-12-08",2,21.84,2956,null,{"$f":"M8225","v":95.786666666666648},59.568333333333335,32.059999999999995,null,{"$f":"'Combined Cycle Gas'!$D$8","v":318.30459770114948},{"$f":"Nuclear!$D$8","v":307.69444444444446},0,132.02166666666668,96.25,82.335000000000008,0]
["2018-12-08",6,31.56,2055,null,{"$f":"M8229","v":21.151666666666667},11.193333333333333,6.5450000000000008,null,{"$f":"'Combined Cycle Gas'!$D$8","v":318.30459770114948},{"$f":"Nuclear!$D$8","v":307.69444444444446},0,112.78333333333332,67.50333333333333,43.56,0]
["2018-12-08",9,42.52,630,null,{"$f":"M8232","v":10.886666666666665},5.668333333333333,6.6049999999999995,null,{"$f":"'Combined Cycle Gas'!$D$8","v":318.30459770114948},{"$f":"Nuclear!$D$8","v":307.69444444444446},0.18543499999999999,94.856666666666669,57.711666666666673,28.061666666666664,185435]
["2018-12-08",12,33.85,223,null,{"$f":"M8235","v":11.263333333333334},5.9883333333333333,6.8533333333333326,null,{"$f":"'Combined Cycle Gas'!$D$8","v":318.30459770114948},{"$f":"Nuclear!$D$8","v":307.69444444444446},1.8729579999999999,21.151666666666667,11.193333333333333,6.5450000000000008,1872958]
["2018-12-08",13,29.98,18,null,{"$f":"M8236","v":11.466666666666667},6.1733333333333329,6.7216666666666667,null,{"$f":"'Combined Cycle Gas'!$D$8","v":318.30459770114948},{"$f":"Nuclear!$D$8","v":307.69444444444446},1.8015019999999999,28.099999999999998,18.760000000000002,15.465000000000002,1801502]
["2018-12-08",16,29.08,242,null,{"$f":"M8239","v":13.1},8.2716666666666665,7.0216666666666674,null,{"$f":"'Combined Cycle Gas'!$D$8","v":318.30459770114948},{"$f":"Nuclear!$D$8","v":307.69444444444446},0.69789699999999999,10.933333333333332,5.7683333333333335,6.745000000000001,697897]
["2018-12-08",19,44.41,0,null,{"$f":"M8242","v":13.111666666666666},7.4099999999999993,7.3150000000000004,null,{"$f":"'Combined Cycle Gas'!$D$8","v":318.30459770114948},{"$f":"Nuclear!$D$8","v":307.69444444444446},0,11.466666666666667,6.1733333333333329,6.7216666666666667,0]
["2018-12-08",23,34.15,50,null,{"$f":"M8246","v":13.016666666666666},8.4266666666666676,17.028333333333332,null,{"$f":"'Combined Cycle Gas'!$D$8","v":318.30459770114948},{"$f":"Nuclear!$D$8","v":307.69444444444446},0,12.85,8.1266666666666652,7.288333333333334,0]
["2018-12-09",3,28.46,2264,null,{"$f":"M8250","v":14.306666666666667},8.3149999999999995,13.168333333333335,null,{"$f":"'Combined Cycle Gas'!$D$8","v":318.30459770114948},{"$f":"Nuclear!$D$8","v":307.69444444444446},0,12.358333333333334,6.8050000000000006,7.5099999999999989,0]
["2018-12-09",7,34.44,1126,null,{"$f":"M8254","v":26.53},15.336666666666666,32.538333333333334,null,{"$f":"'Combined Cycle Gas'!$D$8","v":318.30459770114948},{"$f":"Nuclear!$D$8","v":307.69444444444446},0,12.895000000000001,7.2033333333333331,6.9916666666666671,0]
["2018-12-09",10,46.12,281,null,{"$f":"M8257","v":55.213333333333338},56.811666666666667,29.78833333333333,null,{"$f":"'Combined Cycle Gas'!$D$8","v":318.30459770114948},{"$f":"Nuclear!$D$8","v":307.69444444444446},7.2220979999999999,16.098333333333333,9.3650000000000002,19.623333333333335,7222098]
["2018-12-09",13,39.25,2,null,{"$f":"M8260","v":23.24},17.89,15.030000000000001,null,{"$f":"'Combined Cycle Gas'!$D$8","v":318.30459770114948},{"$f":"Nuclear!$D$8","v":307.69444444444446},7.7564460000000004,26.53,15.336666666666666,32.538333333333334,7756446]
["2018-12-09",14,38.47,14,null,{"$f":"M8261","v":23.438333333333333},16.433333333333334,13.368333333333334,null,{"$f":"'Combined Cycle Gas'!$D$8","v":318.30459770114948},{"$f":"Nuclear!$D$8","v":307.69444444444446},7.5525789999999997,38.336666666666666,20.231666666666666,36.728333333333332,7552579]
["2018-12-09",20,42.51,823,null,{"$f":"M8267","v":96.088333333333324},90.34333333333332,82.588333333333324,null,{"$f":"'Combined Cycle Gas'!$D$8","v":318.30459770114948},{"$f":"Nuclear!$D$8","v":307.69444444444446},0,23.438333333333333,16.433333333333334,13.368333333333334,0]
["2018-12-09",21,34.72,1489,null,{"$f":"M8268","v":128.85},99.13,102.84833333333334,null,{"$f":"'Combined Cycle Gas'!$D$8","v":318.30459770114948},{"$f":"Nuclear!$D$8","v":307.69444444444446},0,23.681666666666661,15.643333333333333,13.301666666666668,0]
["2018-12-10",1,26.81,3411,null,{"$f":"M8272","v":123.255},100.39166666666665,101.53000000000002,null,{"$f":"'Combined Cycle Gas'!$D$8","v":318.30459770114948},{"$f":"Nuclear!$D$8","v":307.69444444444446},0,56.335000000000001,63.951666666666661,77.165000000000006,0]
["2018-12-10",4,26.02,3387,null,{"$f":"M8275","v":93.736666666666665},90.138333333333321,77.215000000000003,null,{"$f":"'Combined Cycle Gas'!$D$8","v":318.30459770114948},{"$f":"Nuclear!$D$8","v":307.69444444444446},0,118.32666666666667,102.88333333333333,108.075,0]
["2018-12-10",8,51.15,2798,null,{"$f":"M8279","v":51.613333333333323},39.836666666666666,27.28833333333333,null,{"$f":"'Combined Cycle Gas'!$D$8","v":318.30459770114948},{"$f":"Nuclear!$D$8","v":307.69444444444446},3.5002070000000001,117.01333333333336,97.614999999999995,94.856666666666669,3500207]
["2018-12-10",11,28.6,2546,null,{"$f":"M8282","v":77.346666666666664},28.798333333333332,10.711666666666666,null,{"$f":"'Combined Cycle Gas'!$D$8","v":318.30459770114948},{"$f":"Nuclear!$D$8","v":307.69444444444446},7.3551919999999997,64.85499999999999,71.131666666666661,46.111666666666672,7355192]
["2018-12-10",14,40.49,1325,null,{"$f":"M8285","v":19.341666666666669},10.626666666666667,7.4966666666666661,null,{"$f":"'Combined Cycle Gas'!$D$8","v":318.30459770114948},{"$f":"Nuclear!$D$8","v":307.69444444444446},7.2256030000000004,51.613333333333323,39.836666666666666,27.28833333333333,7225603]
["2018-12-10",17,41.25,1659,null,{"$f":"M8288","v":37.213333333333331},37.44166666666667,42.484999999999999,null,{"$f":"'Combined Cycle Gas'!$D$8","v":318.30459770114948},{"$f":"Nuclear!$D$8","v":307.69444444444446},2.104962,77.346666666666664,28.798333333333332,10.711666666666666,2104962]
["2018-12-10",19,44.34,1631,null,{"$f":"M8290","v":110.31666666666666},65.5,66.158333333333331,null,{"$f":"'Combined Cycle Gas'!$D$8","v":318.30459770114948},{"$f":"Nuclear!$D$8","v":307.69444444444446},0,31.386666666666667,9.961666666666666,7.9433333333333325,0]
["2018-12-10",23,28.87,2700,null,{"$f":"M8294","v":98.768333333333331},91.445000000000007,84.59333333333332,null,{"$f":"'Combined Cycle Gas'!$D$8","v":318.30459770114948},{"$f":"Nuclear!$D$8","v":307.69444444444446},0,37.213333333333331,37.44166666666667,42.484999999999999,0]
["2018-12-11",2,27.52,3457,null,{"$f":"M8297","v":125.395},101.49833333333332,96.728333333333339,null,{"$f":"'Combined Cycle Gas'!$D$8","v":318.30459770114948},{"$f":"Nuclear!$D$8","v":307.69444444444446},{"$f":"P8291/10^6","v":0},114.46499999999999,75.61999999999999,56.654999999999994,0]
["2018-12-11",5,27.35,3456,null,{"$f":"M8300","v":118.74166666666666},94.828333333333319,61.956666666666656,null,{"$f":"'Combined Cycle Gas'!$D$8","v":318.30459770114948},{"$f":"Nuclear!$D$8","v":307.69444444444446},0,98.768333333333331,91.445000000000007,84.59333333333332,0]
["2018-12-11",9,42.62,2982,null,{"$f":"M8304","v":91.883333333333326},82.49166666666666,24.945000000000004,null,{"$f":"'Combined Cycle Gas'!$D$8","v":318.30459770114948},{"$f":"Nuclear!$D$8","v":307.69444444444446},0.38874199999999998,125.97166666666665,100.44166666666666,93.791666666666671,388742]
["2018-12-11",10,41.84,2911,null,{"$f":"M8305","v":76.798333333333332},71.323333333333338,33.331666666666671,null,{"$f":"'Combined Cycle Gas'!$D$8","v":318.30459770114948},{"$f":"Nuclear!$D$8","v":307.69444444444446},2.0249329999999999,127.48166666666667,99.181666666666658,79.98833333333333,2024933]
["2018-12-11",14,29.96,2667,null,{"$f":"M8309","v":18.506666666666664},11.713333333333333,5.1149999999999993,null,{"$f":"'Combined Cycle Gas'!$D$8","v":318.30459770114948},{"$f":"Nuclear!$D$8","v":307.69444444444446},4.892576,88.233333333333334,83.783333333333331,22.171666666666663,4892576]
["2018-12-11",15,29.53,2933,null,{"$f":"M8310","v":27.446666666666669},13.854999999999999,6.13,null,{"$f":"'Combined Cycle Gas'!$D$8","v":318.30459770114948},{"$f":"Nuclear!$D$8","v":307.69444444444446},3.7006160000000001,91.883333333333326,82.49166666666666,24.945000000000004,3700616]
["2018-12-11",16,29.52,2969,null,{"$f":"M8311","v":51.688333333333333},17.918333333333333,9.2266666666666666,null,{"$f":"'Combined Cycle Gas'!$D$8","v":318.30459770114948},{"$f":"Nuclear!$D$8","v":307.69444444444446},0.31298700000000002,76.798333333333332,71.323333333333338,33.331666666666671,312987]
["2018-12-11",17,30.08,2890,null,{"$f":"M8312","v":60.093333333333334},44.26,19.34,null,{"$f":"'Combined Cycle Gas'!$D$8","v":318.30459770114948},{"$f":"Nuclear!$D$8","v":307.69444444444446},2.52E-4,55.255000000000003,38.468333333333334,8.3566666666666674,252]
["2018-12-11",18,26.58,2725,null,{"$f":"M8313","v":92.026666666666657},78.239999999999995,36.068333333333335,null,{"$f":"'Combined Cycle Gas'!$D$8","v":318.30459770114948},{"$f":"Nuclear!$D$8","v":307.69444444444446},0,34.07,22.824999999999999,5.1883333333333335,0]
["2018-12-11",19,43.35,2656,null,{"$f":"M8314","v":109.645},83.649999999999991,22.743333333333329,null,{"$f":"'Combined Cycle Gas'!$D$8","v":318.30459770114948},{"$f":"Nuclear!$D$8","v":307.69444444444446},0,14.563333333333333,11.92,5.1616666666666671,0]
["2018-12-11",20,32.049999999999997,2831,null,{"$f":"M8315","v":120.32000000000001},90.673333333333332,22.73,null,{"$f":"'Combined Cycle Gas'!$D$8","v":318.30459770114948},{"$f":"Nuclear!$D$8","v":307.69444444444446},0,18.506666666666664,11.713333333333333,5.1149999999999993,0]
["2018-12-11",21,23.57,2970,null,{"$f":"M8316","v":124.54833333333333},93.92,39.760000000000005,null,{"$f":"'Combined Cycle Gas'!$D$8","v":318.30459770114948},{"$f":"Nuclear!$D$8","v":307.69444444444446},0,27.446666666666669,13.854999999999999,6.13,0]
["2018-12-11",22,40.130000000000003,2970,null,{"$f":"M8317","v":123.77833333333331},94.798333333333332,62.354999999999997,null,{"$f":"'Combined Cycle Gas'!$D$8","v":318.30459770114948},{"$f":"Nuclear!$D$8","v":307.69444444444446},0,51.688333333333333,17.918333333333333,9.2266666666666666,0]
["2018-12-11",23,32.520000000000003,2970,null,{"$f":"M8318","v":123.05833333333334},94.701666666666668,82.163333333333341,null,{"$f":"'Combined Cycle Gas'!$D$8","v":318.30459770114948},{"$f":"Nuclear!$D$8","v":307.69444444444446},0,60.093333333333334,44.26,19.34,0]
["2018-12-11",24,27.07,3015,null,{"$f":"M8319","v":126.13333333333333},95.10333333333331,92.375,null,{"$f":"'Combined Cycle Gas'!$D$8","v":318.30459770114948},{"$f":"Nuclear!$D$8","v":307.69444444444446},0,92.026666666666657,78.239999999999995,36.068333333333335,0]
["2018-12-12",1,25.92,3331,null,{"$f":"M8320","v":127.11333333333334},93.23,101.87833333333333,null,{"$f":"'Combined Cycle Gas'!$D$8","v":318.30459770114948},{"$f":"Nuclear!$D$8","v":307.69444444444446},0,109.645,83.649999999999991,22.743333333333329,0]
["2018-12-12",2,29.25,2938,null,{"$f":"M8321","v":127.11666666666666},91.728333333333339,101.63,null,{"$f":"'Combined Cycle Gas'!$D$8","v":318.30459770114948},{"$f":"Nuclear!$D$8","v":307.69444444444446},0,120.32000000000001,90.673333333333332,22.73,0]
["2018-12-12",3,28.96,2877,null,{"$f":"M8322","v":124.81666666666666},94.564999999999998,102.065,null,{"$f":"'Combined Cycle Gas'!$D$8","v":318.30459770114948},{"$f":"Nuclear!$D$8","v":307.69444444444446},0,124.54833333333333,93.92,39.760000000000005,0]
["2018-12-12",4,31.62,2191,null,{"$f":"M8323","v":128.49666666666667},95.12,103.17666666666666,null,{"$f":"'Combined Cycle Gas'!$D$8","v":318.30459770114948},{"$f":"Nuclear!$D$8","v":307.69444444444446},0,123.77833333333331,94.798333333333332,62.354999999999997,0]
["2018-12-12",5,35.380000000000003,1630,null,{"$f":"M8324","v":128.64500000000001},96.191666666666663,99.894999999999996,null,{"$f":"'Combined Cycle Gas'!$D$8","v":318.30459770114948},{"$f":"Nuclear!$D$8","v":307.69444444444446},0,123.05833333333334,94.701666666666668,82.163333333333341,0]
["2018-12-12",6,42.78,1423,null,{"$f":"M8325","v":125.995},95.233333333333334,94.86,null,{"$f":"'Combined Cycle Gas'!$D$8","v":318.30459770114948},{"$f":"Nuclear!$D$8","v":307.69444444444446},0,126.13333333333333,95.10333333333331,92.375,0]
["2018-12-12",7,42.49,1150,null,{"$f":"M8326","v":124.25166666666667},95.006666666666661,91.233333333333334,null,{"$f":"'Combined Cycle Gas'!$D$8","v":318.30459770114948},{"$f":"Nuclear!$D$8","v":307.69444444444446},0,127.11333333333334,93.23,101.87833333333333,0]
["2018-12-12",8,49.1,994,null,{"$f":"M8327","v":121.12666666666665},95.603333333333339,91.451666666666668,null,{"$f":"'Combined Cycle Gas'!$D$8","v":318.30459770114948},{"$f":"Nuclear!$D$8","v":307.69444444444446},3.5399999999999999E-4,127.11666666666666,91.728333333333339,101.63,354]
["2018-12-12",9,42.62,683,null,{"$f":"M8328","v":124.34833333333331},93.990000000000009,94.716666666666654,null,{"$f":"'Combined Cycle Gas'!$D$8","v":318.30459770114948},{"$f":"Nuclear!$D$8","v":307.69444444444446},0.56523599999999996,124.81666666666666,94.564999999999998,102.065,565236]
["2018-12-12",10,41.06,359,null,{"$f":"M8329","v":124.62166666666667},94.458333333333329,95.458333333333329,null,{"$f":"'Combined Cycle Gas'!$D$8","v":318.30459770114948},{"$f":"Nuclear!$D$8","v":307.69444444444446},1.000696,128.49666666666667,95.12,103.17666666666666,1000696]
["2018-12-12",11,43.14,0,null,{"$f":"M8330","v":123.23666666666666},98.041666666666671,95.983333333333334,null,{"$f":"'Combined Cycle Gas'!$D$8","v":318.30459770114948},{"$f":"Nuclear!$D$8","v":307.69444444444446},1.5916570000000001,128.64500000000001,96.191666666666663,99.894999999999996,1591657]
["2018-12-12",12,42.81,0,null,{"$f":"M8331","v":125.51333333333332},94.248333333333335,95.77833333333335,null,{"$f":"'Combined Cycle Gas'!$D$8","v":318.30459770114948},{"$f":"Nuclear!$D$8","v":307.69444444444446},0.92613400000000001,125.995,95.233333333333334,94.86,926134]
["2018-12-12",13,42.7,0,null,{"$f":"M8332","v":125.64666666666669},94.695000000000007,97.198333333333323,null,{"$f":"'Combined Cycle Gas'!$D$8","v":318.30459770114948},{"$f":"Nuclear!$D$8","v":307.69444444444446},1.046721,124.25166666666667,95.006666666666661,91.233333333333334,1046721]
["2018-12-12",14,42.7,0,null,{"$f":"M8333","v":125.7},88.63,94.410000000000011,null,{"$f":"'Combined Cycle Gas'!$D$8","v":318.30459770114948},{"$f":"Nuclear!$D$8","v":307.69444444444446},1.722243,121.12666666666665,95.603333333333339,91.451666666666668,1722243]
["2018-12-12",15,42.71,2,null,{"$f":"M8334","v":127.815},92.314999999999998,98.386666666666656,null,{"$f":"'Combined Cycle Gas'!$D$8","v":318.30459770114948},{"$f":"Nuclear!$D$8","v":307.69444444444446},1.5078450000000001,124.34833333333331,93.990000000000009,94.716666666666654,1507845]
["2018-12-12",16,43.04,22,null,{"$f":"M8335","v":123.92166666666667},89.13,99.116666666666674,null,{"$f":"'Combined Cycle Gas'!$D$8","v":318.30459770114948},{"$f":"Nuclear!$D$8","v":307.69444444444446},0.50597300000000001,124.62166666666667,94.458333333333329,95.458333333333329,505973]
["2018-12-12",17,42.71,22,null,{"$f":"M8336","v":99.291666666666671},92.21,101.19499999999999,null,{"$f":"'Combined Cycle Gas'!$D$8","v":318.30459770114948},{"$f":"Nuclear!$D$8","v":307.69444444444446},2.434E-3,123.23666666666666,98.041666666666671,95.983333333333334,2434]
["2018-12-12",18,33.76,158,null,{"$f":"M8337","v":98.126666666666665},95.144999999999996,100.96833333333332,null,{"$f":"'Combined Cycle Gas'!$D$8","v":318.30459770114948},{"$f":"Nuclear!$D$8","v":307.69444444444446},0,125.51333333333332,94.248333333333335,95.77833333333335,0]
["2018-12-12",19,41.53,455,null,{"$f":"M8338","v":118.83166666666666},93.470000000000013,100.92166666666667,null,{"$f":"'Combined Cycle Gas'!$D$8","v":318.30459770114948},{"$f":"Nuclear!$D$8","v":307.69444444444446},0,125.64666666666669,94.695000000000007,97.198333333333323,0]
["2018-12-12",20,34.270000000000003,1322,null,{"$f":"M8339","v":113.72333333333334},94.615000000000009,102.14666666666666,null,{"$f":"'Combined Cycle Gas'!$D$8","v":318.30459770114948},{"$f":"Nuclear!$D$8","v":307.69444444444446},0,125.7,88.63,94.410000000000011,0]
["2018-12-12",21,27.15,2301,null,{"$f":"M8340","v":88.433333333333337},83.233333333333334,101.84999999999998,null,{"$f":"'Combined Cycle Gas'!$D$8","v":318.30459770114948},{"$f":"Nuclear!$D$8","v":307.69444444444446},0,127.815,92.314999999999998,98.386666666666656,0]
["2018-12-12",22,34.619999999999997,2580,null,{"$f":"M8341","v":70.341666666666654},74.288333333333341,103.86,null,{"$f":"'Combined Cycle Gas'!$D$8","v":318.30459770114948},{"$f":"Nuclear!$D$8","v":307.69444444444446},0,123.92166666666667,89.13,99.116666666666674,0]
["2018-12-12",23,29.97,2877,null,{"$f":"M8342","v":64.394999999999996},47.556666666666665,102.91500000000002,null,{"$f":"'Combined Cycle Gas'!$D$8","v":318.30459770114948},{"$f":"Nuclear!$D$8","v":307.69444444444446},0,99.291666666666671,92.21,101.19499999999999,0]
["2018-12-12",24,24.95,2964,null,{"$f":"M8343","v":80.623333333333321},18.84,97.899999999999991,null,{"$f":"'Combined Cycle Gas'!$D$8","v":318.30459770114948},{"$f":"Nuclear!$D$8","v":307.69444444444446},0,98.126666666666665,95.144999999999996,100.96833333333332,0]
["2018-12-13",1,24.63,3367,null,{"$f":"M8344","v":54.826666666666675},21.529999999999998,78.431666666666672,null,{"$f":"'Combined Cycle Gas'!$D$8","v":318.30459770114948},{"$f":"Nuclear!$D$8","v":307.69444444444446},0,118.83166666666666,93.470000000000013,100.92166666666667,0]
["2018-12-13",2,26.08,3158,null,{"$f":"M8345","v":27.283333333333331},36.163333333333334,85.501666666666665,null,{"$f":"'Combined Cycle Gas'!$D$8","v":318.30459770114948},{"$f":"Nuclear!$D$8","v":307.69444444444446},0,113.72333333333334,94.615000000000009,102.14666666666666,0]
["2018-12-13",3,27.17,2951,null,{"$f":"M8346","v":12.543333333333331},14.838333333333333,83.036666666666676,null,{"$f":"'Combined Cycle Gas'!$D$8","v":318.30459770114948},{"$f":"Nuclear!$D$8","v":307.69444444444446},0,88.433333333333337,83.233333333333334,101.84999999999998,0]
["2018-12-13",4,27.52,2890,null,{"$f":"M8347","v":11.414999999999999},7.77,73.134999999999991,null,{"$f":"'Combined Cycle Gas'!$D$8","v":318.30459770114948},{"$f":"Nuclear!$D$8","v":307.69444444444446},0,70.341666666666654,74.288333333333341,103.86,0]
["2018-12-13",5,28.75,3048,null,{"$f":"M8348","v":11.518333333333333},9.1083333333333343,57.610000000000007,null,{"$f":"'Combined Cycle Gas'!$D$8","v":318.30459770114948},{"$f":"Nuclear!$D$8","v":307.69444444444446},0,64.394999999999996,47.556666666666665,102.91500000000002,0]
["2018-12-13",6,41.36,2545,null,{"$f":"M8349","v":13.540000000000001},8.39,27.233333333333334,null,{"$f":"'Combined Cycle Gas'!$D$8","v":318.30459770114948},{"$f":"Nuclear!$D$8","v":307.69444444444446},0,80.623333333333321,18.84,97.899999999999991,0]
["2018-12-13",7,40.99,2130,null,{"$f":"M8350","v":16.55},8.9300000000000015,25.093333333333334,null,{"$f":"'Combined Cycle Gas'!$D$8","v":318.30459770114948},{"$f":"Nuclear!$D$8","v":307.69444444444446},0,54.826666666666675,21.529999999999998,78.431666666666672,0]
["2018-12-13",8,40.92,2139,null,{"$f":"M8351","v":15.345000000000001},8.0483333333333338,21.92,null,{"$f":"'Combined Cycle Gas'!$D$8","v":318.30459770114948},{"$f":"Nuclear!$D$8","v":307.69444444444446},0,27.283333333333331,36.163333333333334,85.501666666666665,0]
["2018-12-13",9,38.590000000000003,2393,null,{"$f":"M8352","v":12.115},7.5783333333333331,7.1833333333333336,null,{"$f":"'Combined Cycle Gas'!$D$8","v":318.30459770114948},{"$f":"Nuclear!$D$8","v":307.69444444444446},0.92905499999999996,12.543333333333331,14.838333333333333,83.036666666666676,929055]
["2018-12-13",10,40.96,2181,null,{"$f":"M8353","v":11.835000000000001},8.7466666666666661,6.2049999999999992,null,{"$f":"'Combined Cycle Gas'!$D$8","v":318.30459770114948},{"$f":"Nuclear!$D$8","v":307.69444444444446},0.27725300000000003,11.414999999999999,7.77,73.134999999999991,277253]
["2018-12-13",11,38.020000000000003,1789,null,{"$f":"M8354","v":14.26},8.6916666666666647,5.8933333333333335,null,{"$f":"'Combined Cycle Gas'!$D$8","v":318.30459770114948},{"$f":"Nuclear!$D$8","v":307.69444444444446},0.90568000000000004,11.518333333333333,9.1083333333333343,57.610000000000007,905680]
["2018-12-13",12,27.65,2239,null,{"$f":"M8355","v":14.468333333333332},7.8466666666666676,10.228333333333333,null,{"$f":"'Combined Cycle Gas'!$D$8","v":318.30459770114948},{"$f":"Nuclear!$D$8","v":307.69444444444446},1.0501510000000001,13.540000000000001,8.39,27.233333333333334,1050151]
["2018-12-13",13,27.65,2565,null,{"$f":"M8356","v":17.073333333333334},10.44,14.253333333333332,null,{"$f":"'Combined Cycle Gas'!$D$8","v":318.30459770114948},{"$f":"Nuclear!$D$8","v":307.69444444444446},1.1287739999999999,16.55,8.9300000000000015,25.093333333333334,1128774]
["2018-12-13",14,27.58,2600,null,{"$f":"M8357","v":13.090000000000003},8.9683333333333319,10.608333333333333,null,{"$f":"'Combined Cycle Gas'!$D$8","v":318.30459770114948},{"$f":"Nuclear!$D$8","v":307.69444444444446},0.631795,15.345000000000001,8.0483333333333338,21.92,631795]
["2018-12-13",15,24.95,2939,null,{"$f":"M8358","v":12.498333333333335},7.7816666666666672,7.5583333333333336,null,{"$f":"'Combined Cycle Gas'!$D$8","v":318.30459770114948},{"$f":"Nuclear!$D$8","v":307.69444444444446},0.25292999999999999,12.115,7.5783333333333331,7.1833333333333336,252930]
["2018-12-13",16,26.1,2846,null,{"$f":"M8359","v":14.045},10.738333333333335,6.4533333333333331,null,{"$f":"'Combined Cycle Gas'!$D$8","v":318.30459770114948},{"$f":"Nuclear!$D$8","v":307.69444444444446},0.66047999999999996,11.835000000000001,8.7466666666666661,6.2049999999999992,660480]
["2018-12-13",17,29.19,2823,null,{"$f":"M8360","v":18.125},18.751666666666665,10.994999999999999,null,{"$f":"'Combined Cycle Gas'!$D$8","v":318.30459770114948},{"$f":"Nuclear!$D$8","v":307.69444444444446},3.3799999999999998E-4,14.26,8.6916666666666647,5.8933333333333335,338]
["2018-12-13",18,27.54,2287,null,{"$f":"M8361","v":21.36},26.745000000000005,14.734999999999999,null,{"$f":"'Combined Cycle Gas'!$D$8","v":318.30459770114948},{"$f":"Nuclear!$D$8","v":307.69444444444446},{"$f":"P8355/10^6","v":0},14.468333333333332,7.8466666666666676,10.228333333333333,0]
["2018-12-13",19,30.57,1849,null,{"$f":"M8362","v":14.128333333333332},13.593333333333332,10.843333333333334,null,{"$f":"'Combined Cycle Gas'!$D$8","v":318.30459770114948},{"$f":"Nuclear!$D$8","v":307.69444444444446},0,17.073333333333334,10.44,14.253333333333332,0]
["2018-12-13",20,33.799999999999997,1440,null,{"$f":"M8363","v":10.343333333333332},7.3049999999999997,5.6933333333333325,null,{"$f":"'Combined Cycle Gas'!$D$8","v":318.30459770114948},{"$f":"Nuclear!$D$8","v":307.69444444444446},0,13.090000000000003,8.9683333333333319,10.608333333333333,0]
["2018-12-13",21,40.97,662,null,{"$f":"M8364","v":10.738333333333335},7.7766666666666664,5.291666666666667,null,{"$f":"'Combined Cycle Gas'!$D$8","v":318.30459770114948},{"$f":"Nuclear!$D$8","v":307.69444444444446},0,12.498333333333335,7.7816666666666672,7.5583333333333336,0]
["2018-12-13",22,43.21,181,null,{"$f":"M8365","v":11.336666666666666},10.528333333333334,10.803333333333335,null,{"$f":"'Combined Cycle Gas'!$D$8","v":318.30459770114948},{"$f":"Nuclear!$D$8","v":307.69444444444446},0,14.045,10.738333333333335,6.4533333333333331,0]
["2018-12-13",23,32.020000000000003,223,null,{"$f":"M8366","v":16.231666666666669},16.55,18.038333333333334,null,{"$f":"'Combined Cycle Gas'!$D$8","v":318.30459770114948},{"$f":"Nuclear!$D$8","v":307.69444444444446},0,18.125,18.751666666666665,10.994999999999999,0]
["2018-12-13",24,27.21,679,null,{"$f":"M8367","v":17.48},25.668333333333337,30.73,null,{"$f":"'Combined Cycle Gas'!$D$8","v":318.30459770114948},{"$f":"Nuclear!$D$8","v":307.69444444444446},0,21.36,26.745000000000005,14.734999999999999,0]
["2018-12-14",1,31.02,1195,null,{"$f":"M8368","v":19.603333333333335},30.161666666666665,52.068333333333335,null,{"$f":"'Combined Cycle Gas'!$D$8","v":318.30459770114948},{"$f":"Nuclear!$D$8","v":307.69444444444446},0,14.128333333333332,13.593333333333332,10.843333333333334,0]
["2018-12-14",2,28.95,1419,null,{"$f":"M8369","v":42.631666666666668},36.271666666666668,62.748333333333335,null,{"$f":"'Combined Cycle Gas'!$D$8","v":318.30459770114948},{"$f":"Nuclear!$D$8","v":307.69444444444446},0,10.343333333333332,7.3049999999999997,5.6933333333333325,0]
["2018-12-14",3,29.88,1119,null,{"$f":"M8370","v":65.638333333333321},48.995000000000005,60.903333333333329,null,{"$f":"'Combined Cycle Gas'!$D$8","v":318.30459770114948},{"$f":"Nuclear!$D$8","v":307.69444444444446},0,10.738333333333335,7.7766666666666664,5.291666666666667,0]
["2018-12-14",4,24.87,1256,null,{"$f":"M8371","v":80.099999999999994},69.638333333333335,65.946666666666673,null,{"$f":"'Combined Cycle Gas'!$D$8","v":318.30459770114948},{"$f":"Nuclear!$D$8","v":307.69444444444446},0,11.336666666666666,10.528333333333334,10.803333333333335,0]
["2018-12-14",5,27.58,1445,null,{"$f":"M8372","v":79.861666666666665},62.936666666666667,63.03,null,{"$f":"'Combined Cycle Gas'!$D$8","v":318.30459770114948},{"$f":"Nuclear!$D$8","v":307.69444444444446},0,16.231666666666669,16.55,18.038333333333334,0]
["2018-12-14",6,31,2042,null,{"$f":"M8373","v":72.838333333333324},51.145000000000003,58.641666666666673,null,{"$f":"'Combined Cycle Gas'!$D$8","v":318.30459770114948},{"$f":"Nuclear!$D$8","v":307.69444444444446},0,17.48,25.668333333333337,30.73,0]
["2018-12-14",7,42.8,1220,null,{"$f":"M8374","v":70.521666666666661},55.199999999999996,50,null,{"$f":"'Combined Cycle Gas'!$D$8","v":318.30459770114948},{"$f":"Nuclear!$D$8","v":307.69444444444446},0,19.603333333333335,30.161666666666665,52.068333333333335,0]
["2018-12-14",8,40.92,817,null,{"$f":"M8375","v":63.730000000000011},53.681666666666672,57.183333333333337,null,{"$f":"'Combined Cycle Gas'!$D$8","v":318.30459770114948},{"$f":"Nuclear!$D$8","v":307.69444444444446},2.1450000000000002E-3,42.631666666666668,36.271666666666668,62.748333333333335,2145]
["2018-12-14",9,31.91,1584,null,{"$f":"M8376","v":68.428333333333342},57.548333333333339,67.208333333333329,null,{"$f":"'Combined Cycle Gas'!$D$8","v":318.30459770114948},{"$f":"Nuclear!$D$8","v":307.69444444444446},0.356684,65.638333333333321,48.995000000000005,60.903333333333329,356684]
["2018-12-14",10,33.39,1662,null,{"$f":"M8377","v":53.326666666666661},42.728333333333332,39.651666666666664,null,{"$f":"'Combined Cycle Gas'!$D$8","v":318.30459770114948},{"$f":"Nuclear!$D$8","v":307.69444444444446},1.4560120000000001,80.099999999999994,69.638333333333335,65.946666666666673,1456012]
["2018-12-14",11,41.26,1031,null,{"$f":"M8378","v":43.576666666666661},40.15,26.991666666666664,null,{"$f":"'Combined Cycle Gas'!$D$8","v":318.30459770114948},{"$f":"Nuclear!$D$8","v":307.69444444444446},1.6729480000000001,79.861666666666665,62.936666666666667,63.03,1672948]
["2018-12-14",12,41.09,707,null,{"$f":"M8379","v":40.666666666666664},41.333333333333329,24.481666666666666,null,{"$f":"'Combined Cycle Gas'!$D$8","v":318.30459770114948},{"$f":"Nuclear!$D$8","v":307.69444444444446},1.902048,72.838333333333324,51.145000000000003,58.641666666666673,1902048]
["2018-12-14",13,38.86,426,null,{"$f":"M8380","v":37.768333333333338},42.890000000000008,25.203333333333333,null,{"$f":"'Combined Cycle Gas'!$D$8","v":318.30459770114948},{"$f":"Nuclear!$D$8","v":307.69444444444446},1.901416,70.521666666666661,55.199999999999996,50,1901416]
["2018-12-14",14,37.35,46,null,{"$f":"M8381","v":36.006666666666661},43.906666666666666,31.165000000000003,null,{"$f":"'Combined Cycle Gas'!$D$8","v":318.30459770114948},{"$f":"Nuclear!$D$8","v":307.69444444444446},1.883632,63.730000000000011,53.681666666666672,57.183333333333337,1883632]
["2018-12-14",15,32.75,15,null,{"$f":"M8382","v":38.121666666666663},55.69,33.19166666666667,null,{"$f":"'Combined Cycle Gas'!$D$8","v":318.30459770114948},{"$f":"Nuclear!$D$8","v":307.69444444444446},1.3809819999999999,68.428333333333342,57.548333333333339,67.208333333333329,1380982]
["2018-12-14",16,34,210,null,{"$f":"M8383","v":30.02},73.404999999999987,46.346666666666671,null,{"$f":"'Combined Cycle Gas'!$D$8","v":318.30459770114948},{"$f":"Nuclear!$D$8","v":307.69444444444446},0.36504199999999998,53.326666666666661,42.728333333333332,39.651666666666664,365042]
["2018-12-14",17,41.42,699,null,{"$f":"M8384","v":30.993333333333329},88.733333333333334,65.064999999999998,null,{"$f":"'Combined Cycle Gas'!$D$8","v":318.30459770114948},{"$f":"Nuclear!$D$8","v":307.69444444444446},2.7060000000000001E-3,43.576666666666661,40.15,26.991666666666664,2706]
["2018-12-14",18,44.27,148,null,{"$f":"M8385","v":89.266666666666666},99.22166666666665,90.364999999999995,null,{"$f":"'Combined Cycle Gas'!$D$8","v":318.30459770114948},{"$f":"Nuclear!$D$8","v":307.69444444444446},0,40.666666666666664,41.333333333333329,24.481666666666666,0]
["2018-12-14",19,44.48,0,null,{"$f":"M8386","v":83.67},70.816666666666677,82.27,null,{"$f":"'Combined Cycle Gas'!$D$8","v":318.30459770114948},{"$f":"Nuclear!$D$8","v":307.69444444444446},0,37.768333333333338,42.890000000000008,25.203333333333333,0]
["2018-12-14",20,43.96,0,null,{"$f":"M8387","v":73.685000000000002},80.681666666666658,84.576666666666668,null,{"$f":"'Combined Cycle Gas'!$D$8","v":318.30459770114948},{"$f":"Nuclear!$D$8","v":307.69444444444446},0,36.006666666666661,43.906666666666666,31.165000000000003,0]
["2018-12-14",21,43.38,0,null,{"$f":"M8388","v":116.61},102.23166666666667,96.63,null,{"$f":"'Combined Cycle Gas'!$D$8","v":318.30459770114948},{"$f":"Nuclear!$D$8","v":307.69444444444446},0,38.121666666666663,55.69,33.19166666666667,0]
["2018-12-14",22,43.17,174,null,{"$f":"M8389","v":126.52833333333332},103.59500000000003,99.50333333333333,null,{"$f":"'Combined Cycle Gas'!$D$8","v":318.30459770114948},{"$f":"Nuclear!$D$8","v":307.69444444444446},0,30.02,73.404999999999987,46.346666666666671,0]
["2018-12-14",23,28.84,303,null,{"$f":"M8390","v":126.77999999999999},100.54166666666667,100.27,null,{"$f":"'Combined Cycle Gas'!$D$8","v":318.30459770114948},{"$f":"Nuclear!$D$8","v":307.69444444444446},0,30.993333333333329,88.733333333333334,65.064999999999998,0]
["2018-12-14",24,23.66,1253,null,{"$f":"M8391","v":106.59000000000002},92.26166666666667,91.3,null,{"$f":"'Combined Cycle Gas'!$D$8","v":318.30459770114948},{"$f":"Nuclear!$D$8","v":307.69444444444446},0,89.266666666666666,99.22166666666665,90.364999999999995,0]
["2018-12-15",1,27.22,2497,null,{"$f":"M8392","v":98.643333333333331},83.833333333333329,70.431666666666658,null,{"$f":"'Combined Cycle Gas'!$D$8","v":318.30459770114948},{"$f":"Nuclear!$D$8","v":307.69444444444446},0,83.67,70.816666666666677,82.27,0]
["2018-12-15",2,29.24,1881,null,{"$f":"M8393","v":89.654999999999987},80.774999999999991,67.683333333333323,null,{"$f":"'Combined Cycle Gas'!$D$8","v":318.30459770114948},{"$f":"Nuclear!$D$8","v":307.69444444444446},0,73.685000000000002,80.681666666666658,84.576666666666668,0]
["2018-12-15",3,30.14,1277,null,{"$f":"M8394","v":95.021666666666661},82.12166666666667,72.058333333333351,null,{"$f":"'Combined Cycle Gas'!$D$8","v":318.30459770114948},{"$f":"Nuclear!$D$8","v":307.69444444444446},0,116.61,102.23166666666667,96.63,0]
["2018-12-15",4,29.15,1447,null,{"$f":"M8395","v":91.266666666666666},72.76166666666667,78.081666666666663,null,{"$f":"'Combined Cycle Gas'!$D$8","v":318.30459770114948},{"$f":"Nuclear!$D$8","v":307.69444444444446},0,126.52833333333332,103.59500000000003,99.50333333333333,0]
["2018-12-15",5,29.29,1656,null,{"$f":"M8396","v":91.603333333333339},67.408333333333331,81.473333333333343,null,{"$f":"'Combined Cycle Gas'!$D$8","v":318.30459770114948},{"$f":"Nuclear!$D$8","v":307.69444444444446},0,126.77999999999999,100.54166666666667,100.27,0]
["2018-12-15",6,34.74,1190,null,{"$f":"M8397","v":83.231666666666669},54.434999999999995,76.224999999999994,null,{"$f":"'Combined Cycle Gas'!$D$8","v":318.30459770114948},{"$f":"Nuclear!$D$8","v":307.69444444444446},0,106.59000000000002,92.26166666666667,91.3,0]
["2018-12-15",7,30.32,946,null,{"$f":"M8398","v":80.00333333333333},60.550000000000004,60.451666666666675,null,{"$f":"'Combined Cycle Gas'!$D$8","v":318.30459770114948},{"$f":"Nuclear!$D$8","v":307.69444444444446},0,98.643333333333331,83.833333333333329,70.431666666666658,0]
["2018-12-15",8,44.26,938,null,{"$f":"M8399","v":72.963333333333324},72.65666666666668,69.976666666666674,null,{"$f":"'Combined Cycle Gas'!$D$8","v":318.30459770114948},{"$f":"Nuclear!$D$8","v":307.69444444444446},7.0100000000000002E-4,89.654999999999987,80.774999999999991,67.683333333333323,701]
["2018-12-15",9,42.72,833,null,{"$f":"M8400","v":57.956666666666671},78.385000000000005,77.483333333333334,null,{"$f":"'Combined Cycle Gas'!$D$8","v":318.30459770114948},{"$f":"Nuclear!$D$8","v":307.69444444444446},1.937513,95.021666666666661,82.12166666666667,72.058333333333351,1937513]
["2018-12-15",10,47.89,657,null,{"$f":"M8401","v":44.401666666666671},65.99666666666667,71.46833333333332,null,{"$f":"'Combined Cycle Gas'!$D$8","v":318.30459770114948},{"$f":"Nuclear!$D$8","v":307.69444444444446},5.324872,91.266666666666666,72.76166666666667,78.081666666666663,5324872]
["2018-12-15",11,39.92,585,null,{"$f":"M8402","v":30.664999999999996},50.966666666666669,63.188333333333333,null,{"$f":"'Combined Cycle Gas'!$D$8","v":318.30459770114948},{"$f":"Nuclear!$D$8","v":307.69444444444446},4.4297339999999998,91.603333333333339,67.408333333333331,81.473333333333343,4429734]
["2018-12-15",12,35.97,103,null,{"$f":"M8403","v":34.656666666666666},34.646666666666668,49.685000000000002,null,{"$f":"'Combined Cycle Gas'!$D$8","v":318.30459770114948},{"$f":"Nuclear!$D$8","v":307.69444444444446},6.300052,83.231666666666669,54.434999999999995,76.224999999999994,6300052]
["2018-12-15",13,27.93,0,null,{"$f":"M8404","v":20.453333333333333},12.448333333333336,38.869999999999997,null,{"$f":"'Combined Cycle Gas'!$D$8","v":318.30459770114948},{"$f":"Nuclear!$D$8","v":307.69444444444446},6.410164,80.00333333333333,60.550000000000004,60.451666666666675,6410164]
["2018-12-15",14,27.88,86,null,{"$f":"M8405","v":12.855000000000002},5.2533333333333339,31.906666666666666,null,{"$f":"'Combined Cycle Gas'!$D$8","v":318.30459770114948},{"$f":"Nuclear!$D$8","v":307.69444444444446},6.0201560000000001,72.963333333333324,72.65666666666668,69.976666666666674,6020156]
["2018-12-15",15,27.93,85,null,{"$f":"M8406","v":12.761666666666665},4.8866666666666658,24.853333333333335,null,{"$f":"'Combined Cycle Gas'!$D$8","v":318.30459770114948},{"$f":"Nuclear!$D$8","v":307.69444444444446},6.0412679999999996,57.956666666666671,78.385000000000005,77.483333333333334,6041268]
["2018-12-15",16,28.95,38,null,{"$f":"M8407","v":18.084999999999997},3.8216666666666668,17.218333333333334,null,{"$f":"'Combined Cycle Gas'!$D$8","v":318.30459770114948},{"$f":"Nuclear!$D$8","v":307.69444444444446},5.1599880000000002,44.401666666666671,65.99666666666667,71.46833333333332,5159988]
["2018-12-15",17,34.130000000000003,0,null,{"$f":"M8408","v":22.373333333333335},3.9583333333333335,23.918333333333333,null,{"$f":"'Combined Cycle Gas'!$D$8","v":318.30459770114948},{"$f":"Nuclear!$D$8","v":307.69444444444446},2.2483650000000002,30.664999999999996,50.966666666666669,63.188333333333333,2248365]
["2018-12-15",18,49.89,2,null,{"$f":"M8409","v":30.563333333333333},5.5166666666666657,39.641666666666666,null,{"$f":"'Combined Cycle Gas'!$D$8","v":318.30459770114948},{"$f":"Nuclear!$D$8","v":307.69444444444446},0,34.656666666666666,34.646666666666668,49.685000000000002,0]
["2018-12-15",19,51.14,431,null,{"$f":"M8410","v":16.014999999999997},4.3033333333333337,38.035000000000004,null,{"$f":"'Combined Cycle Gas'!$D$8","v":318.30459770114948},{"$f":"Nuclear!$D$8","v":307.69444444444446},0,20.453333333333333,12.448333333333336,38.869999999999997,0]
["2018-12-15",20,46.32,929,null,{"$f":"M8411","v":4.416666666666667},3.105,24.040000000000003,null,{"$f":"'Combined Cycle Gas'!$D$8","v":318.30459770114948},{"$f":"Nuclear!$D$8","v":307.69444444444446},0,12.855000000000002,5.2533333333333339,31.906666666666666,0]
["2018-12-15",21,32.229999999999997,1394,null,{"$f":"M8412","v":3.9600000000000004},3.4416666666666664,7.9716666666666667,null,{"$f":"'Combined Cycle Gas'!$D$8","v":318.30459770114948},{"$f":"Nuclear!$D$8","v":307.69444444444446},0,12.761666666666665,4.8866666666666658,24.853333333333335,0]
["2018-12-15",22,26.06,1584,null,{"$f":"M8413","v":3.9833333333333329},6.4466666666666681,10.728333333333333,null,{"$f":"'Combined Cycle Gas'!$D$8","v":318.30459770114948},{"$f":"Nuclear!$D$8","v":307.69444444444446},0,18.084999999999997,3.8216666666666668,17.218333333333334,0]
["2018-12-15",23,24.94,2161,null,{"$f":"M8414","v":3.0366666666666666},12.089999999999998,9.7249999999999996,null,{"$f":"'Combined Cycle Gas'!$D$8","v":318.30459770114948},{"$f":"Nuclear!$D$8","v":307.69444444444446},0,22.373333333333335,3.9583333333333335,23.918333333333333,0]
["2018-12-15",24,21.76,2578,null,{"$f":"M8415","v":4.668333333333333},20.98,2.2949999999999995,null,{"$f":"'Combined Cycle Gas'!$D$8","v":318.30459770114948},{"$f":"Nuclear!$D$8","v":307.69444444444446},0,30.563333333333333,5.5166666666666657,39.641666666666666,0]
["2018-12-16",1,28.67,3044,null,{"$f":"M8416","v":3.6283333333333325},18.399999999999999,2.2300000000000004,null,{"$f":"'Combined Cycle Gas'!$D$8","v":318.30459770114948},{"$f":"Nuclear!$D$8","v":307.69444444444446},0,16.014999999999997,4.3033333333333337,38.035000000000004,0]
["2018-12-16",2,27.17,2986,null,{"$f":"M8417","v":12.546666666666667},26.360000000000003,2.8249999999999997,null,{"$f":"'Combined Cycle Gas'!$D$8","v":318.30459770114948},{"$f":"Nuclear!$D$8","v":307.69444444444446},0,4.416666666666667,3.105,24.040000000000003,0]
["2018-12-16",3,27.7,2793,null,{"$f":"M8418","v":39.244999999999997},29.484999999999996,7.621666666666667,null,{"$f":"'Combined Cycle Gas'!$D$8","v":318.30459770114948},{"$f":"Nuclear!$D$8","v":307.69444444444446},0,3.9600000000000004,3.4416666666666664,7.9716666666666667,0]
["2018-12-16",4,27.21,2870,null,{"$f":"M8419","v":54.591666666666669},32.475000000000001,30.59,null,{"$f":"'Combined Cycle Gas'!$D$8","v":318.30459770114948},{"$f":"Nuclear!$D$8","v":307.69444444444446},0,3.9833333333333329,6.4466666666666681,10.728333333333333,0]
["2018-12-16",5,28.31,2809,null,{"$f":"M8420","v":62.960000000000008},59.393333333333338,49.091666666666661,null,{"$f":"'Combined Cycle Gas'!$D$8","v":318.30459770114948},{"$f":"Nuclear!$D$8","v":307.69444444444446},0,3.0366666666666666,12.089999999999998,9.7249999999999996,0]
["2018-12-16",6,29.58,2679,null,{"$f":"M8421","v":70.323333333333338},68.091666666666669,57.826666666666661,null,{"$f":"'Combined Cycle Gas'!$D$8","v":318.30459770114948},{"$f":"Nuclear!$D$8","v":307.69444444444446},0,4.668333333333333,20.98,2.2949999999999995,0]
["2018-12-16",7,27.93,1614,null,{"$f":"M8422","v":88.493333333333339},77.275000000000006,61.49666666666667,null,{"$f":"'Combined Cycle Gas'!$D$8","v":318.30459770114948},{"$f":"Nuclear!$D$8","v":307.69444444444446},0,3.6283333333333325,18.399999999999999,2.2300000000000004,0]
["2018-12-16",8,35.6,873,null,{"$f":"M8423","v":103.10833333333333},93.501666666666665,59.673333333333339,null,{"$f":"'Combined Cycle Gas'!$D$8","v":318.30459770114948},{"$f":"Nuclear!$D$8","v":307.69444444444446},5.3300000000000005E-4,12.546666666666667,26.360000000000003,2.8249999999999997,533]
["2018-12-16",9,42.1,599,null,{"$f":"M8424","v":101.565},101.23666666666666,81.256666666666675,null,{"$f":"'Combined Cycle Gas'!$D$8","v":318.30459770114948},{"$f":"Nuclear!$D$8","v":307.69444444444446},0.77917800000000004,39.244999999999997,29.484999999999996,7.621666666666667,779178]
["2018-12-16",10,40.909999999999997,690,null,{"$f":"M8425","v":89.268333333333331},97.79,91.466666666666654,null,{"$f":"'Combined Cycle Gas'!$D$8","v":318.30459770114948},{"$f":"Nuclear!$D$8","v":307.69444444444446},{"$f":"P8419/10^6","v":1.276081},54.591666666666669,32.475000000000001,30.59,1276081]
["2018-12-16",11,32.83,673,null,{"$f":"M8426","v":50.508333333333347},70.963333333333338,79.385000000000005,null,{"$f":"'Combined Cycle Gas'!$D$8","v":318.30459770114948},{"$f":"Nuclear!$D$8","v":307.69444444444446},2.223052,62.960000000000008,59.393333333333338,49.091666666666661,2223052]
["2018-12-16",12,34.76,197,null,{"$f":"M8427","v":29.561666666666667},42.116666666666674,53.446666666666665,null,{"$f":"'Combined Cycle Gas'!$D$8","v":318.30459770114948},{"$f":"Nuclear!$D$8","v":307.69444444444446},6.0780589999999997,70.323333333333338,68.091666666666669,57.826666666666661,6078059]
["2018-12-16",13,34.68,70,null,{"$f":"M8428","v":29.81},31.666666666666661,36.261666666666663,null,{"$f":"'Combined Cycle Gas'!$D$8","v":318.30459770114948},{"$f":"Nuclear!$D$8","v":307.69444444444446},5.7656910000000003,88.493333333333339,77.275000000000006,61.49666666666667,5765691]
["2018-12-16",14,30.04,141,null,{"$f":"M8429","v":32.015000000000001},31.038333333333338,36.831666666666671,null,{"$f":"'Combined Cycle Gas'!$D$8","v":318.30459770114948},{"$f":"Nuclear!$D$8","v":307.69444444444446},6.6139049999999999,103.10833333333333,93.501666666666665,59.673333333333339,6613905]
["2018-12-16",15,29.97,150,null,{"$f":"M8430","v":43.416666666666664},44.178333333333335,50.81666666666667,null,{"$f":"'Combined Cycle Gas'!$D$8","v":318.30459770114948},{"$f":"Nuclear!$D$8","v":307.69444444444446},5.8917159999999997,101.565,101.23666666666666,81.256666666666675,5891716]
["2018-12-16",16,33.28,115,null,{"$f":"M8431","v":55.791666666666664},54.359999999999992,78.023333333333326,null,{"$f":"'Combined Cycle Gas'!$D$8","v":318.30459770114948},{"$f":"Nuclear!$D$8","v":307.69444444444446},5.047104,89.268333333333331,97.79,91.466666666666654,5047104]
["2018-12-16",17,41.42,173,null,{"$f":"M8432","v":93.365000000000009},73.721666666666664,103.99333333333333,null,{"$f":"'Combined Cycle Gas'!$D$8","v":318.30459770114948},{"$f":"Nuclear!$D$8","v":307.69444444444446},9.9150000000000002E-3,50.508333333333347,70.963333333333338,79.385000000000005,9915]
["2018-12-16",18,47.58,201,null,{"$f":"M8433","v":126.15166666666669},99.026666666666657,103.83499999999999,null,{"$f":"'Combined Cycle Gas'!$D$8","v":318.30459770114948},{"$f":"Nuclear!$D$8","v":307.69444444444446},0,29.561666666666667,42.116666666666674,53.446666666666665,0]
["2018-12-16",19,51.15,650,null,{"$f":"M8434","v":130.57499999999999},100.63833333333332,102.45499999999998,null,{"$f":"'Combined Cycle Gas'!$D$8","v":318.30459770114948},{"$f":"Nuclear!$D$8","v":307.69444444444446},0,29.81,31.666666666666661,36.261666666666663,0]
["2018-12-16",20,41.42,1502,null,{"$f":"M8435","v":128.73166666666665},102.87,104.85666666666667,null,{"$f":"'Combined Cycle Gas'!$D$8","v":318.30459770114948},{"$f":"Nuclear!$D$8","v":307.69444444444446},0,32.015000000000001,31.038333333333338,36.831666666666671,0]
["2018-12-16",21,28.67,2045,null,{"$f":"M8436","v":131.965},105.03833333333334,104.49166666666667,null,{"$f":"'Combined Cycle Gas'!$D$8","v":318.30459770114948},{"$f":"Nuclear!$D$8","v":307.69444444444446},0,43.416666666666664,44.178333333333335,50.81666666666667,0]
["2018-12-16",22,39.56,1996,null,{"$f":"M8437","v":128.19833333333332},107.43833333333335,105.89333333333333,null,{"$f":"'Combined Cycle Gas'!$D$8","v":318.30459770114948},{"$f":"Nuclear!$D$8","v":307.69444444444446},0,55.791666666666664,54.359999999999992,78.023333333333326,0]
["2018-12-16",23,32.590000000000003,1996,null,{"$f":"M8438","v":123.18833333333333},104.49000000000001,106.39166666666667,null,{"$f":"'Combined Cycle Gas'!$D$8","v":318.30459770114948},{"$f":"Nuclear!$D$8","v":307.69444444444446},0,93.365000000000009,73.721666666666664,103.99333333333333,0]
["2018-12-16",24,30.31,1771,null,{"$f":"M8439","v":116.71833333333332},102.60666666666667,109.11,null,{"$f":"'Combined Cycle Gas'!$D$8","v":318.30459770114948},{"$f":"Nuclear!$D$8","v":307.69444444444446},0,126.15166666666669,99.026666666666657,103.83499999999999,0]
["2018-12-17",1,27.58,1446,null,{"$f":"M8440","v":118.62833333333333},107.46333333333332,107.57833333333333,null,{"$f":"'Combined Cycle Gas'!$D$8","v":318.30459770114948},{"$f":"Nuclear!$D$8","v":307.69444444444446},0,130.57499999999999,100.63833333333332,102.45499999999998,0]
["2018-12-17",2,28.96,1613,null,{"$f":"M8441","v":122.36000000000001},109.32166666666667,103.12,null,{"$f":"'Combined Cycle Gas'!$D$8","v":318.30459770114948},{"$f":"Nuclear!$D$8","v":307.69444444444446},0,128.73166666666665,102.87,104.85666666666667,0]
["2018-12-17",3,27.58,1871,null,{"$f":"M8442","v":124.61499999999999},109.73500000000001,104.12,null,{"$f":"'Combined Cycle Gas'!$D$8","v":318.30459770114948},{"$f":"Nuclear!$D$8","v":307.69444444444446},0,131.965,105.03833333333334,104.49166666666667,0]
["2018-12-17",4,28.95,1699,null,{"$f":"M8443","v":121.08333333333333},106.64166666666667,103.48,null,{"$f":"'Combined Cycle Gas'!$D$8","v":318.30459770114948},{"$f":"Nuclear!$D$8","v":307.69444444444446},0,128.19833333333332,107.43833333333335,105.89333333333333,0]
["2018-12-17",5,28.8,1657,null,{"$f":"M8444","v":105.62333333333333},101.20166666666667,100.23666666666668,null,{"$f":"'Combined Cycle Gas'!$D$8","v":318.30459770114948},{"$f":"Nuclear!$D$8","v":307.69444444444446},0,123.18833333333333,104.49000000000001,106.39166666666667,0]
["2018-12-17",6,37.729999999999997,1027,null,{"$f":"M8445","v":92.675000000000011},94.96833333333332,98.043333333333337,null,{"$f":"'Combined Cycle Gas'!$D$8","v":318.30459770114948},{"$f":"Nuclear!$D$8","v":307.69444444444446},0,116.71833333333332,102.60666666666667,109.11,0]
["2018-12-17",7,42.42,358,null,{"$f":"M8446","v":89.344999999999985},91.673333333333332,100.90999999999998,null,{"$f":"'Combined Cycle Gas'!$D$8","v":318.30459770114948},{"$f":"Nuclear!$D$8","v":307.69444444444446},0,118.62833333333333,107.46333333333332,107.57833333333333,0]
["2018-12-17",8,51.64,481,null,{"$f":"M8447","v":74.723333333333343},83.085000000000008,97.858333333333348,null,{"$f":"'Combined Cycle Gas'!$D$8","v":318.30459770114948},{"$f":"Nuclear!$D$8","v":307.69444444444446},2.7461509999999998,122.36000000000001,109.32166666666667,103.12,2746151]
["2018-12-17",9,30.09,279,null,{"$f":"M8448","v":86.204999999999998},83.288333333333341,99.873333333333335,null,{"$f":"'Combined Cycle Gas'!$D$8","v":318.30459770114948},{"$f":"Nuclear!$D$8","v":307.69444444444446},5.3265159999999998,124.61499999999999,109.73500000000001,104.12,5326516]
["2018-12-17",10,29.16,0,null,{"$f":"M8449","v":86.995000000000005},89.538333333333341,95.894999999999996,null,{"$f":"'Combined Cycle Gas'!$D$8","v":318.30459770114948},{"$f":"Nuclear!$D$8","v":307.69444444444446},6.2059249999999997,121.08333333333333,106.64166666666667,103.48,6205925]
["2018-12-17",11,26.15,0,null,{"$f":"M8450","v":59.93333333333333},74.103333333333339,66.664999999999992,null,{"$f":"'Combined Cycle Gas'!$D$8","v":318.30459770114948},{"$f":"Nuclear!$D$8","v":307.69444444444446},6.6347120000000004,105.62333333333333,101.20166666666667,100.23666666666668,6634712]
["2018-12-17",12,27.13,0,null,{"$f":"M8451","v":26.333333333333339},56.923333333333339,39.448333333333331,null,{"$f":"'Combined Cycle Gas'!$D$8","v":318.30459770114948},{"$f":"Nuclear!$D$8","v":307.69444444444446},6.7250959999999997,92.675000000000011,94.96833333333332,98.043333333333337,6725096]
["2018-12-17",13,48.83,0,null,{"$f":"M8452","v":17.645000000000003},50.12,25.52333333333333,null,{"$f":"'Combined Cycle Gas'!$D$8","v":318.30459770114948},{"$f":"Nuclear!$D$8","v":307.69444444444446},6.6623739999999998,89.344999999999985,91.673333333333332,100.90999999999998,6662374]
["2018-12-17",14,34.590000000000003,0,null,{"$f":"M8453","v":20.143333333333331},33.648333333333333,22.686666666666664,null,{"$f":"'Combined Cycle Gas'!$D$8","v":318.30459770114948},{"$f":"Nuclear!$D$8","v":307.69444444444446},6.2792479999999999,74.723333333333343,83.085000000000008,97.858333333333348,6279248]
["2018-12-17",15,34.549999999999997,0,null,{"$f":"M8454","v":19.258333333333333},23.189999999999998,28.838333333333335,null,{"$f":"'Combined Cycle Gas'!$D$8","v":318.30459770114948},{"$f":"Nuclear!$D$8","v":307.69444444444446},5.6240740000000002,86.204999999999998,83.288333333333341,99.873333333333335,5624074]
["2018-12-17",16,37.69,315,null,{"$f":"M8455","v":17.741666666666667},26.001666666666665,42.346666666666671,null,{"$f":"'Combined Cycle Gas'!$D$8","v":318.30459770114948},{"$f":"Nuclear!$D$8","v":307.69444444444446},1.8917170000000001,86.995000000000005,89.538333333333341,95.894999999999996,1891717]
["2018-12-17",17,41.57,315,null,{"$f":"M8456","v":34.358333333333327},39.964999999999996,70.575000000000003,null,{"$f":"'Combined Cycle Gas'!$D$8","v":318.30459770114948},{"$f":"Nuclear!$D$8","v":307.69444444444446},1.684496,59.93333333333333,74.103333333333339,66.664999999999992,1684496]
["2018-12-17",18,26.09,367,null,{"$f":"M8457","v":76.818333333333328},67.61999999999999,89.029999999999987,null,{"$f":"'Combined Cycle Gas'!$D$8","v":318.30459770114948},{"$f":"Nuclear!$D$8","v":307.69444444444446},0,26.333333333333339,56.923333333333339,39.448333333333331,0]
["2018-12-17",19,30.91,1212,null,{"$f":"M8458","v":106.435},79.710000000000022,91.468333333333348,null,{"$f":"'Combined Cycle Gas'!$D$8","v":318.30459770114948},{"$f":"Nuclear!$D$8","v":307.69444444444446},0,17.645000000000003,50.12,25.52333333333333,0]
["2018-12-17",20,30.73,1695,null,{"$f":"M8459","v":103.75166666666667},90.921666666666681,96.333333333333329,null,{"$f":"'Combined Cycle Gas'!$D$8","v":318.30459770114948},{"$f":"Nuclear!$D$8","v":307.69444444444446},0,20.143333333333331,33.648333333333333,22.686666666666664,0]
["2018-12-17",21,21.75,2156,null,{"$f":"M8460","v":107.745},97.71,98.848333333333343,null,{"$f":"'Combined Cycle Gas'!$D$8","v":318.30459770114948},{"$f":"Nuclear!$D$8","v":307.69444444444446},0,19.258333333333333,23.189999999999998,28.838333333333335,0]
["2018-12-17",22,27.53,2574,null,{"$f":"M8461","v":112.16833333333334},100.39666666666669,98.143333333333331,null,{"$f":"'Combined Cycle Gas'!$D$8","v":318.30459770114948},{"$f":"Nuclear!$D$8","v":307.69444444444446},0,17.741666666666667,26.001666666666665,42.346666666666671,0]
["2018-12-17",23,26.55,2536,null,{"$f":"M8462","v":107.25999999999999},97.995000000000005,98.714999999999989,null,{"$f":"'Combined Cycle Gas'!$D$8","v":318.30459770114948},{"$f":"Nuclear!$D$8","v":307.69444444444446},0,34.358333333333327,39.964999999999996,70.575000000000003,0]
["2018-12-17",24,25.21,2886,null,{"$f":"M8463","v":103.42166666666667},96.12166666666667,99.591666666666683,null,{"$f":"'Combined Cycle Gas'!$D$8","v":318.30459770114948},{"$f":"Nuclear!$D$8","v":307.69444444444446},0,76.818333333333328,67.61999999999999,89.029999999999987,0]
["2018-12-18",1,23.91,3364,null,{"$f":"M8464","v":97.631666666666661},93.068333333333328,96.58,null,{"$f":"'Combined Cycle Gas'!$D$8","v":318.30459770114948},{"$f":"Nuclear!$D$8","v":307.69444444444446},0,106.435,79.710000000000022,91.468333333333348,0]
["2018-12-18",2,24.89,3362,null,{"$f":"M8465","v":105.05666666666667},92.108333333333334,95.181666666666672,null,{"$f":"'Combined Cycle Gas'!$D$8","v":318.30459770114948},{"$f":"Nuclear!$D$8","v":307.69444444444446},0,103.75166666666667,90.921666666666681,96.333333333333329,0]
["2018-12-18",3,24.95,3362,null,{"$f":"M8466","v":102.29833333333333},91.004999999999995,95.836666666666659,null,{"$f":"'Combined Cycle Gas'!$D$8","v":318.30459770114948},{"$f":"Nuclear!$D$8","v":307.69444444444446},0,107.745,97.71,98.848333333333343,0]
["2018-12-18",4,24.95,3350,null,{"$f":"M8467","v":89.921666666666667},79.565000000000012,86.226666666666674,null,{"$f":"'Combined Cycle Gas'!$D$8","v":318.30459770114948},{"$f":"Nuclear!$D$8","v":307.69444444444446},0,112.16833333333334,100.39666666666669,98.143333333333331,0]
["2018-12-18",5,25.94,3246,null,{"$f":"M8468","v":76.77},63.774999999999999,63.494999999999997,null,{"$f":"'Combined Cycle Gas'!$D$8","v":318.30459770114948},{"$f":"Nuclear!$D$8","v":307.69444444444446},0,107.25999999999999,97.995000000000005,98.714999999999989,0]
["2018-12-18",6,29.18,2606,null,{"$f":"M8469","v":52.193333333333328},45.493333333333339,40.46,null,{"$f":"'Combined Cycle Gas'!$D$8","v":318.30459770114948},{"$f":"Nuclear!$D$8","v":307.69444444444446},0,103.42166666666667,96.12166666666667,99.591666666666683,0]
["2018-12-18",7,27.15,2344,null,{"$f":"M8470","v":41.015000000000008},42.633333333333333,34.39,null,{"$f":"'Combined Cycle Gas'!$D$8","v":318.30459770114948},{"$f":"Nuclear!$D$8","v":307.69444444444446},0,97.631666666666661,93.068333333333328,96.58,0]
["2018-12-18",8,29.32,2504,null,{"$f":"M8471","v":42.738333333333337},46.723333333333329,39.031666666666666,null,{"$f":"'Combined Cycle Gas'!$D$8","v":318.30459770114948},{"$f":"Nuclear!$D$8","v":307.69444444444446},2.8551199999999999,105.05666666666667,92.108333333333334,95.181666666666672,2855120]
["2018-12-18",9,24.6,2814,null,{"$f":"M8472","v":36.853333333333332},46.17166666666666,31.203333333333333,null,{"$f":"'Combined Cycle Gas'!$D$8","v":318.30459770114948},{"$f":"Nuclear!$D$8","v":307.69444444444446},5.6360070000000002,102.29833333333333,91.004999999999995,95.836666666666659,5636007]
["2018-12-18",10,23.98,2486,null,{"$f":"M8473","v":11.406666666666666},28.286666666666665,18.169999999999998,null,{"$f":"'Combined Cycle Gas'!$D$8","v":318.30459770114948},{"$f":"Nuclear!$D$8","v":307.69444444444446},6.4220959999999998,89.921666666666667,79.565000000000012,86.226666666666674,6422096]
["2018-12-18",11,46.02,1801,null,{"$f":"M8474","v":4.1666666666666664E-2},6.5616666666666665,0.93,null,{"$f":"'Combined Cycle Gas'!$D$8","v":318.30459770114948},{"$f":"Nuclear!$D$8","v":307.69444444444446},6.8418039999999998,76.77,63.774999999999999,63.494999999999997,6841804]
["2018-12-18",12,33.909999999999997,738,null,{"$f":"M8475","v":0.54},0,0,null,{"$f":"'Combined Cycle Gas'!$D$8","v":318.30459770114948},{"$f":"Nuclear!$D$8","v":307.69444444444446},6.9945380000000004,52.193333333333328,45.493333333333339,40.46,6994538]
["2018-12-18",13,34.51,426,null,{"$f":"M8476","v":0},0,0,null,{"$f":"'Combined Cycle Gas'!$D$8","v":318.30459770114948},{"$f":"Nuclear!$D$8","v":307.69444444444446},6.5432730000000001,41.015000000000008,42.633333333333333,34.39,6543273]
["2018-12-18",14,38.630000000000003,216,null,{"$f":"M8477","v":0},0,0,null,{"$f":"'Combined Cycle Gas'!$D$8","v":318.30459770114948},{"$f":"Nuclear!$D$8","v":307.69444444444446},6.6756849999999996,42.738333333333337,46.723333333333329,39.031666666666666,6675685]
["2018-12-18",15,44.69,107,null,{"$f":"M8478","v":0},0,0,null,{"$f":"'Combined Cycle Gas'!$D$8","v":318.30459770114948},{"$f":"Nuclear!$D$8","v":307.69444444444446},6.1055830000000002,36.853333333333332,46.17166666666666,31.203333333333333,6105583]
["2018-12-18",16,44.11,40,null,{"$f":"M8479","v":0},0.02,0,null,{"$f":"'Combined Cycle Gas'!$D$8","v":318.30459770114948},{"$f":"Nuclear!$D$8","v":307.69444444444446},4.3942420000000002,11.406666666666666,28.286666666666665,18.169999999999998,4394242]
["2018-12-18",17,47.01,54,null,{"$f":"M8480","v":0},0,0,null,{"$f":"'Combined Cycle Gas'!$D$8","v":318.30459770114948},{"$f":"Nuclear!$D$8","v":307.69444444444446},0.97285100000000002,4.1666666666666664E-2,6.5616666666666665,0.93,972851]
["2018-12-18",18,24.88,0,null,{"$f":"M8481","v":0},0,0.52333333333333332,null,{"$f":"'Combined Cycle Gas'!$D$8","v":318.30459770114948},{"$f":"Nuclear!$D$8","v":307.69444444444446},0,0.54,0,0,0]
["2018-12-18",19,30.21,152,null,{"$f":"M8482","v":0},0,1.3516666666666666,null,{"$f":"'Combined Cycle Gas'!$D$8","v":318.30459770114948},{"$f":"Nuclear!$D$8","v":307.69444444444446},0,0,0,0,0]
["2018-12-18",20,30.98,1083,null,{"$f":"M8483","v":0},0,6.6866666666666665,null,{"$f":"'Combined Cycle Gas'!$D$8","v":318.30459770114948},{"$f":"Nuclear!$D$8","v":307.69444444444446},0,0,0,0,0]
["2018-12-18",21,24.77,1036,null,{"$f":"M8484","v":1.1366666666666667},3.8083333333333336,9.0033333333333339,null,{"$f":"'Combined Cycle Gas'!$D$8","v":318.30459770114948},{"$f":"Nuclear!$D$8","v":307.69444444444446},0,0,0,0,0]
["2018-12-18",22,34.22,1135,null,{"$f":"M8485","v":11.275},6.3033333333333346,8.4666666666666668,null,{"$f":"'Combined Cycle Gas'!$D$8","v":318.30459770114948},{"$f":"Nuclear!$D$8","v":307.69444444444446},0,0,0.02,0,0]
["2018-12-18",23,28.97,1375,null,{"$f":"M8486","v":12.700000000000001},8.6049999999999986,0.6366666666666666,null,{"$f":"'Combined Cycle Gas'!$D$8","v":318.30459770114948},{"$f":"Nuclear!$D$8","v":307.69444444444446},0,0,0,0,0]
["2018-12-18",24,27.58,1406,null,{"$f":"M8487","v":11.961666666666668},5.6000000000000005,0,null,{"$f":"'Combined Cycle Gas'!$D$8","v":318.30459770114948},{"$f":"Nuclear!$D$8","v":307.69444444444446},0,0,0,0.52333333333333332,0]
["2018-12-19",1,28.75,1091,null,{"$f":"M8488","v":11.455},4.3683333333333332,0,null,{"$f":"'Combined Cycle Gas'!$D$8","v":318.30459770114948},{"$f":"Nuclear!$D$8","v":307.69444444444446},0,0,0,1.3516666666666666,0]
["2018-12-19",2,27.67,987,null,{"$f":"M8489","v":5.6449999999999996},9.4949999999999992,0,null,{"$f":"'Combined Cycle Gas'!$D$8","v":318.30459770114948},{"$f":"Nuclear!$D$8","v":307.69444444444446},{"$f":"P8483/10^6","v":0},0,0,6.6866666666666665,0]
["2018-12-19",3,27.63,950,null,{"$f":"M8490","v":3.5700000000000003},4.6316666666666668,0,null,{"$f":"'Combined Cycle Gas'!$D$8","v":318.30459770114948},{"$f":"Nuclear!$D$8","v":307.69444444444446},0,1.1366666666666667,3.8083333333333336,9.0033333333333339,0]
["2018-12-19",4,27.66,1017,null,{"$f":"M8491","v":27.971666666666668},6.2733333333333334,0.51500000000000001,null,{"$f":"'Combined Cycle Gas'!$D$8","v":318.30459770114948},{"$f":"Nuclear!$D$8","v":307.69444444444446},0,11.275,6.3033333333333346,8.4666666666666668,0]
["2018-12-19",5,32.08,767,null,{"$f":"M8492","v":41.235000000000007},11.200000000000001,8.34,null,{"$f":"'Combined Cycle Gas'!$D$8","v":318.30459770114948},{"$f":"Nuclear!$D$8","v":307.69444444444446},0,12.700000000000001,8.6049999999999986,0.6366666666666666,0]
["2018-12-19",6,34.75,468,null,{"$f":"M8493","v":41.944999999999993},14.800000000000002,14.123333333333333,null,{"$f":"'Combined Cycle Gas'!$D$8","v":318.30459770114948},{"$f":"Nuclear!$D$8","v":307.69444444444446},0,11.961666666666668,5.6000000000000005,0,0]
["2018-12-19",7,34.450000000000003,462,null,{"$f":"M8494","v":43.268333333333338},17.886666666666667,10.75,null,{"$f":"'Combined Cycle Gas'!$D$8","v":318.30459770114948},{"$f":"Nuclear!$D$8","v":307.69444444444446},0,11.455,4.3683333333333332,0,0]
["2018-12-19",8,43.84,198,null,{"$f":"M8495","v":61.881666666666668},29,14.766666666666667,null,{"$f":"'Combined Cycle Gas'!$D$8","v":318.30459770114948},{"$f":"Nuclear!$D$8","v":307.69444444444446},2.8234870000000001,5.6449999999999996,9.4949999999999992,0,2823487]
["2018-12-19",9,51.36,54,null,{"$f":"M8496","v":53.001666666666665},25.893333333333331,16.796666666666667,null,{"$f":"'Combined Cycle Gas'!$D$8","v":318.30459770114948},{"$f":"Nuclear!$D$8","v":307.69444444444446},4.6420450000000004,3.5700000000000003,4.6316666666666668,0,4642045]
["2018-12-19",10,49.73,50,null,{"$f":"M8497","v":52.416666666666679},24.234999999999999,8.5166666666666657,null,{"$f":"'Combined Cycle Gas'!$D$8","v":318.30459770114948},{"$f":"Nuclear!$D$8","v":307.69444444444446},2.887499,27.971666666666668,6.2733333333333334,0.51500000000000001,2887499]
["2018-12-19",11,38.94,177,null,{"$f":"M8498","v":40.366666666666667},17.91,5.0149999999999997,null,{"$f":"'Combined Cycle Gas'!$D$8","v":318.30459770114948},{"$f":"Nuclear!$D$8","v":307.69444444444446},1.1854359999999999,41.235000000000007,11.200000000000001,8.34,1185436]
["2018-12-19",12,45.24,42,null,{"$f":"M8499","v":14.701666666666668},7.3066666666666658,2.1583333333333337,null,{"$f":"'Combined Cycle Gas'!$D$8","v":318.30459770114948},{"$f":"Nuclear!$D$8","v":307.69444444444446},2.032076,41.944999999999993,14.800000000000002,14.123333333333333,2032076]
["2018-12-19",13,44.64,1,null,{"$f":"M8500","v":5.5116666666666667},3.3833333333333333,0.93499999999999994,null,{"$f":"'Combined Cycle Gas'!$D$8","v":318.30459770114948},{"$f":"Nuclear!$D$8","v":307.69444444444446},1.4220489999999999,43.268333333333338,17.886666666666667,10.75,1422049]
["2018-12-19",14,45.12,0,null,{"$f":"M8501","v":3.4350000000000005},3.44,2.1566666666666667,null,{"$f":"'Combined Cycle Gas'!$D$8","v":318.30459770114948},{"$f":"Nuclear!$D$8","v":307.69444444444446},1.138674,61.881666666666668,29,14.766666666666667,1138674]
["2018-12-19",15,34.82,0,null,{"$f":"M8502","v":3.9449999999999998},6.9333333333333336,3.4516666666666667,null,{"$f":"'Combined Cycle Gas'!$D$8","v":318.30459770114948},{"$f":"Nuclear!$D$8","v":307.69444444444446},2.8297829999999999,53.001666666666665,25.893333333333331,16.796666666666667,2829783]
["2018-12-19",16,34.76,0,null,{"$f":"M8503","v":9.8233333333333324},17.173333333333336,7.0766666666666671,null,{"$f":"'Combined Cycle Gas'!$D$8","v":318.30459770114948},{"$f":"Nuclear!$D$8","v":307.69444444444446},1.720323,52.416666666666679,24.234999999999999,8.5166666666666657,1720323]
["2018-12-19",17,36.840000000000003,28,null,{"$f":"M8504","v":40.378333333333337},33.085000000000001,14.449999999999998,null,{"$f":"'Combined Cycle Gas'!$D$8","v":318.30459770114948},{"$f":"Nuclear!$D$8","v":307.69444444444446},0.14490700000000001,40.366666666666667,17.91,5.0149999999999997,144907]
["2018-12-19",18,34.72,0,null,{"$f":"M8505","v":78.206666666666663},35.243333333333332,23.09,null,{"$f":"'Combined Cycle Gas'!$D$8","v":318.30459770114948},{"$f":"Nuclear!$D$8","v":307.69444444444446},0,14.701666666666668,7.3066666666666658,2.1583333333333337,0]
["2018-12-19",19,27.65,758,null,{"$f":"M8506","v":71.493333333333325},29.091666666666665,31.764999999999997,null,{"$f":"'Combined Cycle Gas'!$D$8","v":318.30459770114948},{"$f":"Nuclear!$D$8","v":307.69444444444446},0,5.5116666666666667,3.3833333333333333,0.93499999999999994,0]
["2018-12-19",20,29.18,1254,null,{"$f":"M8507","v":61.656666666666666},29.563333333333336,27.64833333333333,null,{"$f":"'Combined Cycle Gas'!$D$8","v":318.30459770114948},{"$f":"Nuclear!$D$8","v":307.69444444444446},0,3.4350000000000005,3.44,2.1566666666666667,0]
["2018-12-19",21,27.96,1394,null,{"$f":"M8508","v":57.566666666666663},15.735000000000001,17.353333333333335,null,{"$f":"'Combined Cycle Gas'!$D$8","v":318.30459770114948},{"$f":"Nuclear!$D$8","v":307.69444444444446},0,3.9449999999999998,6.9333333333333336,3.4516666666666667,0]
["2018-12-19",22,28.75,1360,null,{"$f":"M8509","v":48.163333333333334},24.301666666666666,5.7649999999999997,null,{"$f":"'Combined Cycle Gas'!$D$8","v":318.30459770114948},{"$f":"Nuclear!$D$8","v":307.69444444444446},0,9.8233333333333324,17.173333333333336,7.0766666666666671,0]
["2018-12-19",23,27.23,1527,null,{"$f":"M8510","v":46.46},25.67,1.2383333333333333,null,{"$f":"'Combined Cycle Gas'!$D$8","v":318.30459770114948},{"$f":"Nuclear!$D$8","v":307.69444444444446},0,40.378333333333337,33.085000000000001,14.449999999999998,0]
["2018-12-19",24,27.65,1035,null,{"$f":"M8511","v":29.46166666666667},19.471666666666668,2.94,null,{"$f":"'Combined Cycle Gas'!$D$8","v":318.30459770114948},{"$f":"Nuclear!$D$8","v":307.69444444444446},0,78.206666666666663,35.243333333333332,23.09,0]
["2018-12-20",1,33.869999999999997,911,null,{"$f":"M8512","v":31.10166666666667},22.055000000000003,6.6916666666666664,null,{"$f":"'Combined Cycle Gas'!$D$8","v":318.30459770114948},{"$f":"Nuclear!$D$8","v":307.69444444444446},0,71.493333333333325,29.091666666666665,31.764999999999997,0]
["2018-12-20",2,30.89,1189,null,{"$f":"M8513","v":60.089999999999996},29.861666666666668,10.593333333333332,null,{"$f":"'Combined Cycle Gas'!$D$8","v":318.30459770114948},{"$f":"Nuclear!$D$8","v":307.69444444444446},0,61.656666666666666,29.563333333333336,27.64833333333333,0]
["2018-12-20",3,31.72,1161,null,{"$f":"M8514","v":113.58166666666666},63.524999999999999,27.928333333333331,null,{"$f":"'Combined Cycle Gas'!$D$8","v":318.30459770114948},{"$f":"Nuclear!$D$8","v":307.69444444444446},0,57.566666666666663,15.735000000000001,17.353333333333335,0]
["2018-12-20",4,27.59,745,null,{"$f":"M8515","v":147.63499999999999},90.240000000000009,40.836666666666666,null,{"$f":"'Combined Cycle Gas'!$D$8","v":318.30459770114948},{"$f":"Nuclear!$D$8","v":307.69444444444446},0,48.163333333333334,24.301666666666666,5.7649999999999997,0]
["2018-12-20",5,30.04,549,null,{"$f":"M8516","v":149.81333333333336},93.211666666666659,55.776666666666664,null,{"$f":"'Combined Cycle Gas'!$D$8","v":318.30459770114948},{"$f":"Nuclear!$D$8","v":307.69444444444446},0,46.46,25.67,1.2383333333333333,0]
["2018-12-20",6,33.97,739,null,{"$f":"M8517","v":147.76666666666668},111.22499999999998,45.636666666666663,null,{"$f":"'Combined Cycle Gas'!$D$8","v":318.30459770114948},{"$f":"Nuclear!$D$8","v":307.69444444444446},0,29.46166666666667,19.471666666666668,2.94,0]
["2018-12-20",7,33.840000000000003,223,null,{"$f":"M8518","v":146.44499999999996},110.86666666666667,67.01166666666667,null,{"$f":"'Combined Cycle Gas'!$D$8","v":318.30459770114948},{"$f":"Nuclear!$D$8","v":307.69444444444446},0,31.10166666666667,22.055000000000003,6.6916666666666664,0]
["2018-12-20",8,32.51,586,null,{"$f":"M8519","v":146.85500000000002},110.32666666666667,89.163333333333341,null,{"$f":"'Combined Cycle Gas'!$D$8","v":318.30459770114948},{"$f":"Nuclear!$D$8","v":307.69444444444446},0.182226,60.089999999999996,29.861666666666668,10.593333333333332,182226]
["2018-12-20",9,31.78,631,null,{"$f":"M8520","v":147.41999999999999},109.72499999999998,95.054999999999993,null,{"$f":"'Combined Cycle Gas'!$D$8","v":318.30459770114948},{"$f":"Nuclear!$D$8","v":307.69444444444446},3.9975679999999998,113.58166666666666,63.524999999999999,27.928333333333331,3997568]
["2018-12-20",10,36.19,198,null,{"$f":"M8521","v":145.60166666666666},109.45,102.85333333333334,null,{"$f":"'Combined Cycle Gas'!$D$8","v":318.30459770114948},{"$f":"Nuclear!$D$8","v":307.69444444444446},4.7910740000000001,147.63499999999999,90.240000000000009,40.836666666666666,4791074]
["2018-12-20",11,34.96,38,null,{"$f":"M8522","v":144.54166666666666},109.01166666666666,98.779999999999987,null,{"$f":"'Combined Cycle Gas'!$D$8","v":318.30459770114948},{"$f":"Nuclear!$D$8","v":307.69444444444446},6.1465480000000001,149.81333333333336,93.211666666666659,55.776666666666664,6146548]
["2018-12-20",12,33.44,0,null,{"$f":"M8523","v":149.07666666666668},108.14833333333333,80.088333333333324,null,{"$f":"'Combined Cycle Gas'!$D$8","v":318.30459770114948},{"$f":"Nuclear!$D$8","v":307.69444444444446},4.0979840000000003,147.76666666666668,111.22499999999998,45.636666666666663,4097984]
["2018-12-20",13,32.46,0,null,{"$f":"M8524","v":146.76},94.413333333333341,60.666666666666664,null,{"$f":"'Combined Cycle Gas'!$D$8","v":318.30459770114948},{"$f":"Nuclear!$D$8","v":307.69444444444446},6.9248979999999998,146.44499999999996,110.86666666666667,67.01166666666667,6924898]
["2018-12-20",14,31.85,0,null,{"$f":"M8525","v":118.38333333333333},77.403333333333322,42.685000000000002,null,{"$f":"'Combined Cycle Gas'!$D$8","v":318.30459770114948},{"$f":"Nuclear!$D$8","v":307.69444444444446},6.5842320000000001,146.85500000000002,110.32666666666667,89.163333333333341,6584232]
["2018-12-20",15,30.03,0,null,{"$f":"M8526","v":116.59166666666668},71.278333333333322,39.775000000000006,null,{"$f":"'Combined Cycle Gas'!$D$8","v":318.30459770114948},{"$f":"Nuclear!$D$8","v":307.69444444444446},5.7756639999999999,147.41999999999999,109.72499999999998,95.054999999999993,5775664]
["2018-12-20",16,30.06,82,null,{"$f":"M8527","v":120.235},75.096666666666678,54.736666666666679,null,{"$f":"'Combined Cycle Gas'!$D$8","v":318.30459770114948},{"$f":"Nuclear!$D$8","v":307.69444444444446},5.4781250000000004,145.60166666666666,109.45,102.85333333333334,5478125]
["2018-12-20",17,33.159999999999997,359,null,{"$f":"M8528","v":133.04666666666665},100.40166666666666,89.888333333333321,null,{"$f":"'Combined Cycle Gas'!$D$8","v":318.30459770114948},{"$f":"Nuclear!$D$8","v":307.69444444444446},2.2086939999999999,144.54166666666666,109.01166666666666,98.779999999999987,2208694]
["2018-12-20",18,30.53,498,null,{"$f":"M8529","v":140.49166666666667},108.73166666666668,101.17833333333333,null,{"$f":"'Combined Cycle Gas'!$D$8","v":318.30459770114948},{"$f":"Nuclear!$D$8","v":307.69444444444446},0,149.07666666666668,108.14833333333333,80.088333333333324,0]
["2018-12-20",19,31.75,531,null,{"$f":"M8530","v":142.50166666666667},109.04166666666667,101.29333333333334,null,{"$f":"'Combined Cycle Gas'!$D$8","v":318.30459770114948},{"$f":"Nuclear!$D$8","v":307.69444444444446},0,146.76,94.413333333333341,60.666666666666664,0]
["2018-12-20",20,32.69,282,null,{"$f":"M8531","v":140.78666666666666},108.96999999999998,102.875,null,{"$f":"'Combined Cycle Gas'!$D$8","v":318.30459770114948},{"$f":"Nuclear!$D$8","v":307.69444444444446},0,118.38333333333333,77.403333333333322,42.685000000000002,0]
["2018-12-20",21,42.28,78,null,{"$f":"M8532","v":142.44499999999999},110.69666666666667,99.97833333333331,null,{"$f":"'Combined Cycle Gas'!$D$8","v":318.30459770114948},{"$f":"Nuclear!$D$8","v":307.69444444444446},0,116.59166666666668,71.278333333333322,39.775000000000006,0]
["2018-12-20",22,37.36,151,null,{"$f":"M8533","v":143.93499999999997},110.61666666666667,103.52000000000002,null,{"$f":"'Combined Cycle Gas'!$D$8","v":318.30459770114948},{"$f":"Nuclear!$D$8","v":307.69444444444446},0,120.235,75.096666666666678,54.736666666666679,0]
["2018-12-20",23,26.76,543,null,{"$f":"M8534","v":146.83333333333334},111.08,101.96333333333332,null,{"$f":"'Combined Cycle Gas'!$D$8","v":318.30459770114948},{"$f":"Nuclear!$D$8","v":307.69444444444446},0,133.04666666666665,100.40166666666666,89.888333333333321,0]
["2018-12-20",24,27.21,961,null,{"$f":"M8535","v":149.45166666666668},111.33499999999999,88.61333333333333,null,{"$f":"'Combined Cycle Gas'!$D$8","v":318.30459770114948},{"$f":"Nuclear!$D$8","v":307.69444444444446},0,140.49166666666667,108.73166666666668,101.17833333333333,0]
["2018-12-21",1,31.85,1128,null,{"$f":"M8536","v":144.24999999999997},111.17166666666668,84.073333333333338,null,{"$f":"'Combined Cycle Gas'!$D$8","v":318.30459770114948},{"$f":"Nuclear!$D$8","v":307.69444444444446},0,142.50166666666667,109.04166666666667,101.29333333333334,0]
["2018-12-21",2,30.98,907,null,{"$f":"M8537","v":145.52166666666668},110.67000000000002,103.50999999999999,null,{"$f":"'Combined Cycle Gas'!$D$8","v":318.30459770114948},{"$f":"Nuclear!$D$8","v":307.69444444444446},0,140.78666666666666,108.96999999999998,102.875,0]
["2018-12-21",3,31.18,735,null,{"$f":"M8538","v":146.69666666666663},111.37,103.31,null,{"$f":"'Combined Cycle Gas'!$D$8","v":318.30459770114948},{"$f":"Nuclear!$D$8","v":307.69444444444446},0,142.44499999999999,110.69666666666667,99.97833333333331,0]
["2018-12-21",4,29.96,872,null,{"$f":"M8539","v":141.13333333333335},111.13,103.39500000000002,null,{"$f":"'Combined Cycle Gas'!$D$8","v":318.30459770114948},{"$f":"Nuclear!$D$8","v":307.69444444444446},0,143.93499999999997,110.61666666666667,103.52000000000002,0]
["2018-12-21",5,31.64,813,null,{"$f":"M8540","v":141.86500000000001},110.01666666666667,89.37,null,{"$f":"'Combined Cycle Gas'!$D$8","v":318.30459770114948},{"$f":"Nuclear!$D$8","v":307.69444444444446},0,146.83333333333334,111.08,101.96333333333332,0]
["2018-12-21",6,40.36,834,null,{"$f":"M8541","v":141.53},108.22500000000001,86.433333333333351,null,{"$f":"'Combined Cycle Gas'!$D$8","v":318.30459770114948},{"$f":"Nuclear!$D$8","v":307.69444444444446},0,149.45166666666668,111.33499999999999,88.61333333333333,0]
["2018-12-21",7,33.4,293,null,{"$f":"M8542","v":141.73666666666668},107.89166666666665,82.993333333333325,null,{"$f":"'Combined Cycle Gas'!$D$8","v":318.30459770114948},{"$f":"Nuclear!$D$8","v":307.69444444444446},0,144.24999999999997,111.17166666666668,84.073333333333338,0]
["2018-12-21",8,40.08,176,null,{"$f":"M8543","v":142.47833333333332},108.80499999999999,82.951666666666668,null,{"$f":"'Combined Cycle Gas'!$D$8","v":318.30459770114948},{"$f":"Nuclear!$D$8","v":307.69444444444446},3.5599999999999998E-4,145.52166666666668,110.67000000000002,103.50999999999999,356]
["2018-12-21",9,38,8,null,{"$f":"M8544","v":142.62833333333333},108.86000000000001,95.03166666666668,null,{"$f":"'Combined Cycle Gas'!$D$8","v":318.30459770114948},{"$f":"Nuclear!$D$8","v":307.69444444444446},2.7886000000000001E-2,146.69666666666663,111.37,103.31,27886]
["2018-12-21",10,35.340000000000003,0,null,{"$f":"M8545","v":143.39666666666668},108.49333333333334,89.725000000000009,null,{"$f":"'Combined Cycle Gas'!$D$8","v":318.30459770114948},{"$f":"Nuclear!$D$8","v":307.69444444444446},1.1090500000000001,141.13333333333335,111.13,103.39500000000002,1109050]
["2018-12-21",11,42.57,330,null,{"$f":"M8546","v":122.31333333333332},105.81833333333333,82.7,null,{"$f":"'Combined Cycle Gas'!$D$8","v":318.30459770114948},{"$f":"Nuclear!$D$8","v":307.69444444444446},1.385669,141.86500000000001,110.01666666666667,89.37,1385669]
["2018-12-21",12,36.840000000000003,330,null,{"$f":"M8547","v":100.35666666666668},109.95833333333336,90.088333333333324,null,{"$f":"'Combined Cycle Gas'!$D$8","v":318.30459770114948},{"$f":"Nuclear!$D$8","v":307.69444444444446},1.6703479999999999,141.53,108.22500000000001,86.433333333333351,1670348]
["2018-12-21",13,33.6,330,null,{"$f":"M8548","v":97.616666666666674},97.463333333333324,93.138333333333335,null,{"$f":"'Combined Cycle Gas'!$D$8","v":318.30459770114948},{"$f":"Nuclear!$D$8","v":307.69444444444446},1.787358,141.73666666666668,107.89166666666665,82.993333333333325,1787358]
["2018-12-21",14,33.82,330,null,{"$f":"M8549","v":114.07333333333332},65.593333333333334,71.703333333333333,null,{"$f":"'Combined Cycle Gas'!$D$8","v":318.30459770114948},{"$f":"Nuclear!$D$8","v":307.69444444444446},1.6378429999999999,142.47833333333332,108.80499999999999,82.951666666666668,1637843]
["2018-12-21",15,33.96,199,null,{"$f":"M8550","v":120.83999999999999},78.42,54.056666666666672,null,{"$f":"'Combined Cycle Gas'!$D$8","v":318.30459770114948},{"$f":"Nuclear!$D$8","v":307.69444444444446},1.583175,142.62833333333333,108.86000000000001,95.03166666666668,1583175]
["2018-12-21",16,34.57,63,null,{"$f":"M8551","v":135.91666666666666},94.556666666666658,57.798333333333325,null,{"$f":"'Combined Cycle Gas'!$D$8","v":318.30459770114948},{"$f":"Nuclear!$D$8","v":307.69444444444446},0.41318899999999997,143.39666666666668,108.49333333333334,89.725000000000009,413189]
["2018-12-21",17,43.35,139,null,{"$f":"M8552","v":144.45333333333335},101.83333333333333,69.476666666666674,null,{"$f":"'Combined Cycle Gas'!$D$8","v":318.30459770114948},{"$f":"Nuclear!$D$8","v":307.69444444444446},9.0300000000000005E-4,122.31333333333332,105.81833333333333,82.7,903]
["2018-12-21",18,42.45,29,null,{"$f":"M8553","v":142.33333333333334},103.69499999999999,65.804999999999993,null,{"$f":"'Combined Cycle Gas'!$D$8","v":318.30459770114948},{"$f":"Nuclear!$D$8","v":307.69444444444446},{"$f":"P8547/10^6","v":0},100.35666666666668,109.95833333333336,90.088333333333324,0]
["2018-12-21",19,42.68,29,null,{"$f":"M8554","v":146.23000000000002},106.50333333333333,84.56,null,{"$f":"'Combined Cycle Gas'!$D$8","v":318.30459770114948},{"$f":"Nuclear!$D$8","v":307.69444444444446},0,97.616666666666674,97.463333333333324,93.138333333333335,0]
["2018-12-21",20,42.57,29,null,{"$f":"M8555","v":146.44666666666669},107.68,84.133333333333326,null,{"$f":"'Combined Cycle Gas'!$D$8","v":318.30459770114948},{"$f":"Nuclear!$D$8","v":307.69444444444446},0,114.07333333333332,65.593333333333334,71.703333333333333,0]
["2018-12-21",21,42.4,63,null,{"$f":"M8556","v":143.94166666666666},106.46333333333331,67.644999999999996,null,{"$f":"'Combined Cycle Gas'!$D$8","v":318.30459770114948},{"$f":"Nuclear!$D$8","v":307.69444444444446},0,120.83999999999999,78.42,54.056666666666672,0]
["2018-12-21",22,42.73,52,null,{"$f":"M8557","v":141.90166666666667},105.90499999999999,45.17166666666666,null,{"$f":"'Combined Cycle Gas'!$D$8","v":318.30459770114948},{"$f":"Nuclear!$D$8","v":307.69444444444446},0,135.91666666666666,94.556666666666658,57.798333333333325,0]
["2018-12-21",23,32.4,62,null,{"$f":"M8558","v":142.80499999999998},107.44,46.046666666666674,null,{"$f":"'Combined Cycle Gas'!$D$8","v":318.30459770114948},{"$f":"Nuclear!$D$8","v":307.69444444444446},0,144.45333333333335,101.83333333333333,69.476666666666674,0]
["2018-12-21",24,29.8,148,null,{"$f":"M8559","v":147.90166666666664},108.395,58.37833333333333,null,{"$f":"'Combined Cycle Gas'!$D$8","v":318.30459770114948},{"$f":"Nuclear!$D$8","v":307.69444444444446},0,142.33333333333334,103.69499999999999,65.804999999999993,0]
["2018-12-22",1,33.08,102,null,{"$f":"M8560","v":145.81000000000003},106.95833333333333,66.508333333333326,null,{"$f":"'Combined Cycle Gas'!$D$8","v":318.30459770114948},{"$f":"Nuclear!$D$8","v":307.69444444444446},0,146.23000000000002,106.50333333333333,84.56,0]
["2018-12-22",2,31.78,6,null,{"$f":"M8561","v":148.82666666666665},108.625,88.018333333333331,null,{"$f":"'Combined Cycle Gas'!$D$8","v":318.30459770114948},{"$f":"Nuclear!$D$8","v":307.69444444444446},0,146.44666666666669,107.68,84.133333333333326,0]
["2018-12-22",3,31.35,11,null,{"$f":"M8562","v":151.06833333333333},108.22500000000001,99.658333333333346,null,{"$f":"'Combined Cycle Gas'!$D$8","v":318.30459770114948},{"$f":"Nuclear!$D$8","v":307.69444444444446},0,143.94166666666666,106.46333333333331,67.644999999999996,0]
["2018-12-22",4,32.78,17,null,{"$f":"M8563","v":148.76833333333332},104.36166666666666,103.33333333333333,null,{"$f":"'Combined Cycle Gas'!$D$8","v":318.30459770114948},{"$f":"Nuclear!$D$8","v":307.69444444444446},0,141.90166666666667,105.90499999999999,45.17166666666666,0]
["2018-12-22",5,33.04,15,null,{"$f":"M8564","v":148.52166666666668},107.91500000000001,102.69500000000001,null,{"$f":"'Combined Cycle Gas'!$D$8","v":318.30459770114948},{"$f":"Nuclear!$D$8","v":307.69444444444446},0,142.80499999999998,107.44,46.046666666666674,0]
["2018-12-22",6,33.270000000000003,36,null,{"$f":"M8565","v":146.85833333333332},106.67166666666667,89.445000000000007,null,{"$f":"'Combined Cycle Gas'!$D$8","v":318.30459770114948},{"$f":"Nuclear!$D$8","v":307.69444444444446},0,147.90166666666664,108.395,58.37833333333333,0]
["2018-12-22",7,33.44,60,null,{"$f":"M8566","v":148.82333333333335},103.515,96.71833333333332,null,{"$f":"'Combined Cycle Gas'!$D$8","v":318.30459770114948},{"$f":"Nuclear!$D$8","v":307.69444444444446},0,145.81000000000003,106.95833333333333,66.508333333333326,0]
["2018-12-22",8,42.21,217,null,{"$f":"M8567","v":144.28333333333333},99.601666666666674,106.14333333333332,null,{"$f":"'Combined Cycle Gas'!$D$8","v":318.30459770114948},{"$f":"Nuclear!$D$8","v":307.69444444444446},2.243798,148.82666666666665,108.625,88.018333333333331,2243798]
["2018-12-22",9,34.5,656,null,{"$f":"M8568","v":135.51},101.84166666666665,102.47000000000001,null,{"$f":"'Combined Cycle Gas'!$D$8","v":318.30459770114948},{"$f":"Nuclear!$D$8","v":307.69444444444446},5.288214,151.06833333333333,108.22500000000001,99.658333333333346,5288214]
["2018-12-22",10,42.66,551,null,{"$f":"M8569","v":127.81666666666668},100.20833333333333,66.924999999999997,null,{"$f":"'Combined Cycle Gas'!$D$8","v":318.30459770114948},{"$f":"Nuclear!$D$8","v":307.69444444444446},6.3791609999999999,148.76833333333332,104.36166666666666,103.33333333333333,6379161]
["2018-12-22",11,42.93,194,null,{"$f":"M8570","v":116.02999999999999},99.15000000000002,61.941666666666663,null,{"$f":"'Combined Cycle Gas'!$D$8","v":318.30459770114948},{"$f":"Nuclear!$D$8","v":307.69444444444446},6.8362080000000001,148.52166666666668,107.91500000000001,102.69500000000001,6836208]
["2018-12-22",12,39.81,59,null,{"$f":"M8571","v":95.501666666666679},83.035000000000011,61.551666666666669,null,{"$f":"'Combined Cycle Gas'!$D$8","v":318.30459770114948},{"$f":"Nuclear!$D$8","v":307.69444444444446},7.0120959999999997,146.85833333333332,106.67166666666667,89.445000000000007,7012096]
["2018-12-22",13,29.21,211,null,{"$f":"M8572","v":86.40333333333335},93.58,62.136666666666663,null,{"$f":"'Combined Cycle Gas'!$D$8","v":318.30459770114948},{"$f":"Nuclear!$D$8","v":307.69444444444446},6.9399040000000003,148.82333333333335,103.515,96.71833333333332,6939904]
["2018-12-22",14,27.93,497,null,{"$f":"M8573","v":100.44666666666666},94.478333333333339,44.375,null,{"$f":"'Combined Cycle Gas'!$D$8","v":318.30459770114948},{"$f":"Nuclear!$D$8","v":307.69444444444446},6.86252,144.28333333333333,99.601666666666674,106.14333333333332,6862520]
["2018-12-22",15,29.77,261,null,{"$f":"M8574","v":90.90333333333335},66.86999999999999,51.95333333333334,null,{"$f":"'Combined Cycle Gas'!$D$8","v":318.30459770114948},{"$f":"Nuclear!$D$8","v":307.69444444444446},6.3709509999999998,135.51,101.84166666666665,102.47000000000001,6370951]
["2018-12-22",16,27.93,431,null,{"$f":"M8575","v":76.248333333333335},54.568333333333328,50.09,null,{"$f":"'Combined Cycle Gas'!$D$8","v":318.30459770114948},{"$f":"Nuclear!$D$8","v":307.69444444444446},4.8136380000000001,127.81666666666668,100.20833333333333,66.924999999999997,4813638]
["2018-12-22",17,30.09,430,null,{"$f":"M8576","v":64.44},26.655000000000001,59.794999999999995,null,{"$f":"'Combined Cycle Gas'!$D$8","v":318.30459770114948},{"$f":"Nuclear!$D$8","v":307.69444444444446},0.30331999999999998,116.02999999999999,99.15000000000002,61.941666666666663,303320]
["2018-12-22",18,44.91,549,null,{"$f":"M8577","v":71.025000000000006},18.59,67.411666666666676,null,{"$f":"'Combined Cycle Gas'!$D$8","v":318.30459770114948},{"$f":"Nuclear!$D$8","v":307.69444444444446},0,95.501666666666679,83.035000000000011,61.551666666666669,0]
["2018-12-22",19,44.12,131,null,{"$f":"M8578","v":56.193333333333335},9.0966666666666676,42.153333333333336,null,{"$f":"'Combined Cycle Gas'!$D$8","v":318.30459770114948},{"$f":"Nuclear!$D$8","v":307.69444444444446},0,86.40333333333335,93.58,62.136666666666663,0]
["2018-12-22",20,39.78,233,null,{"$f":"M8579","v":56.566666666666663},9.2233333333333345,33.071666666666665,null,{"$f":"'Combined Cycle Gas'!$D$8","v":318.30459770114948},{"$f":"Nuclear!$D$8","v":307.69444444444446},0,100.44666666666666,94.478333333333339,44.375,0]
["2018-12-22",21,31.78,773,null,{"$f":"M8580","v":68.501666666666665},13.750000000000002,26.696666666666669,null,{"$f":"'Combined Cycle Gas'!$D$8","v":318.30459770114948},{"$f":"Nuclear!$D$8","v":307.69444444444446},0,90.90333333333335,66.86999999999999,51.95333333333334,0]
["2018-12-22",22,27.84,1308,null,{"$f":"M8581","v":54.663333333333334},14.854999999999999,22.073333333333334,null,{"$f":"'Combined Cycle Gas'!$D$8","v":318.30459770114948},{"$f":"Nuclear!$D$8","v":307.69444444444446},0,76.248333333333335,54.568333333333328,50.09,0]
["2018-12-22",23,23.67,1787,null,{"$f":"M8582","v":54.971666666666664},18.933333333333334,35.019999999999989,null,{"$f":"'Combined Cycle Gas'!$D$8","v":318.30459770114948},{"$f":"Nuclear!$D$8","v":307.69444444444446},0,64.44,26.655000000000001,59.794999999999995,0]
["2018-12-22",24,24.94,2434,null,{"$f":"M8583","v":47.081666666666671},17.646666666666665,33.848333333333336,null,{"$f":"'Combined Cycle Gas'!$D$8","v":318.30459770114948},{"$f":"Nuclear!$D$8","v":307.69444444444446},0,71.025000000000006,18.59,67.411666666666676,0]
["2018-12-23",1,31.4,2138,null,{"$f":"M8584","v":33.551666666666662},10.303333333333333,22.583333333333339,null,{"$f":"'Combined Cycle Gas'!$D$8","v":318.30459770114948},{"$f":"Nuclear!$D$8","v":307.69444444444446},0,56.193333333333335,9.0966666666666676,42.153333333333336,0]
["2018-12-23",2,29.92,1946,null,{"$f":"M8585","v":36.449999999999996},11.451666666666668,22.76,null,{"$f":"'Combined Cycle Gas'!$D$8","v":318.30459770114948},{"$f":"Nuclear!$D$8","v":307.69444444444446},0,56.566666666666663,9.2233333333333345,33.071666666666665,0]
["2018-12-23",3,30.21,1685,null,{"$f":"M8586","v":27.001666666666665},5.2416666666666663,14.17,null,{"$f":"'Combined Cycle Gas'!$D$8","v":318.30459770114948},{"$f":"Nuclear!$D$8","v":307.69444444444446},0,68.501666666666665,13.750000000000002,26.696666666666669,0]
["2018-12-23",4,31.37,1474,null,{"$f":"M8587","v":18.148333333333337},2.335,7.5733333333333333,null,{"$f":"'Combined Cycle Gas'!$D$8","v":318.30459770114948},{"$f":"Nuclear!$D$8","v":307.69444444444446},0,54.663333333333334,14.854999999999999,22.073333333333334,0]
["2018-12-23",5,31.36,1479,null,{"$f":"M8588","v":11.299999999999999},2.2383333333333333,5.3416666666666659,null,{"$f":"'Combined Cycle Gas'!$D$8","v":318.30459770114948},{"$f":"Nuclear!$D$8","v":307.69444444444446},0,54.971666666666664,18.933333333333334,35.019999999999989,0]
["2018-12-23",6,32.729999999999997,1553,null,{"$f":"M8589","v":9.66},2.148333333333333,2.8666666666666671,null,{"$f":"'Combined Cycle Gas'!$D$8","v":318.30459770114948},{"$f":"Nuclear!$D$8","v":307.69444444444446},0,47.081666666666671,17.646666666666665,33.848333333333336,0]
["2018-12-23",7,26.32,2387,null,{"$f":"M8590","v":6.9133333333333331},2.145,2.4066666666666667,null,{"$f":"'Combined Cycle Gas'!$D$8","v":318.30459770114948},{"$f":"Nuclear!$D$8","v":307.69444444444446},0,33.551666666666662,10.303333333333333,22.583333333333339,0]
["2018-12-23",8,29.09,2407,null,{"$f":"M8591","v":4.581666666666667},2.2083333333333335,2.5366666666666666,null,{"$f":"'Combined Cycle Gas'!$D$8","v":318.30459770114948},{"$f":"Nuclear!$D$8","v":307.69444444444446},4.2789999999999998E-3,36.449999999999996,11.451666666666668,22.76,4279]
["2018-12-23",9,28.54,2094,null,{"$f":"M8592","v":3.3450000000000002},2.2283333333333335,2.793333333333333,null,{"$f":"'Combined Cycle Gas'!$D$8","v":318.30459770114948},{"$f":"Nuclear!$D$8","v":307.69444444444446},1.3654189999999999,27.001666666666665,5.2416666666666663,14.17,1365419]
["2018-12-23",10,24.9,2239,null,{"$f":"M8593","v":3.7633333333333336},2.415,2.8233333333333337,null,{"$f":"'Combined Cycle Gas'!$D$8","v":318.30459770114948},{"$f":"Nuclear!$D$8","v":307.69444444444446},2.896099,18.148333333333337,2.335,7.5733333333333333,2896099]
["2018-12-23",11,22.84,2869,null,{"$f":"M8594","v":4.7316666666666665},2.6216666666666666,2.78,null,{"$f":"'Combined Cycle Gas'!$D$8","v":318.30459770114948},{"$f":"Nuclear!$D$8","v":307.69444444444446},1.6887799999999999,11.299999999999999,2.2383333333333333,5.3416666666666659,1688780]
["2018-12-23",12,24.92,2969,null,{"$f":"M8595","v":4.5466666666666669},2.6166666666666667,2.9116666666666666,null,{"$f":"'Combined Cycle Gas'!$D$8","v":318.30459770114948},{"$f":"Nuclear!$D$8","v":307.69444444444446},2.2473890000000001,9.66,2.148333333333333,2.8666666666666671,2247389]
["2018-12-23",13,24.92,2969,null,{"$f":"M8596","v":5.6266666666666678},2.9016666666666668,3.77,null,{"$f":"'Combined Cycle Gas'!$D$8","v":318.30459770114948},{"$f":"Nuclear!$D$8","v":307.69444444444446},2.6919520000000001,6.9133333333333331,2.145,2.4066666666666667,2691952]
["2018-12-23",14,24.95,2969,null,{"$f":"M8597","v":4.5883333333333329},2.9749999999999996,4.6233333333333331,null,{"$f":"'Combined Cycle Gas'!$D$8","v":318.30459770114948},{"$f":"Nuclear!$D$8","v":307.69444444444446},2.554675,4.581666666666667,2.2083333333333335,2.5366666666666666,2554675]
["2018-12-23",15,24.95,2969,null,{"$f":"M8598","v":5.6833333333333336},3.5783333333333331,7.9416666666666664,null,{"$f":"'Combined Cycle Gas'!$D$8","v":318.30459770114948},{"$f":"Nuclear!$D$8","v":307.69444444444446},4.3094299999999999,3.3450000000000002,2.2283333333333335,2.793333333333333,4309430]
["2018-12-23",16,24.95,2828,null,{"$f":"M8599","v":10.896666666666668},4.3416666666666668,10.278333333333334,null,{"$f":"'Combined Cycle Gas'!$D$8","v":318.30459770114948},{"$f":"Nuclear!$D$8","v":307.69444444444446},3.2055859999999998,3.7633333333333336,2.415,2.8233333333333337,3205586]
["2018-12-23",17,31.36,2185,null,{"$f":"M8600","v":17.723333333333333},5.59,12.021666666666667,null,{"$f":"'Combined Cycle Gas'!$D$8","v":318.30459770114948},{"$f":"Nuclear!$D$8","v":307.69444444444446},0.95743299999999998,4.7316666666666665,2.6216666666666666,2.78,957433]
["2018-12-23",18,39.950000000000003,2007,null,{"$f":"M8601","v":17.094999999999999},5.4316666666666658,15.449999999999998,null,{"$f":"'Combined Cycle Gas'!$D$8","v":318.30459770114948},{"$f":"Nuclear!$D$8","v":307.69444444444446},0,4.5466666666666669,2.6166666666666667,2.9116666666666666,0]
["2018-12-23",19,51.49,1035,null,{"$f":"M8602","v":21.855},5.6716666666666669,17.89833333333333,null,{"$f":"'Combined Cycle Gas'!$D$8","v":318.30459770114948},{"$f":"Nuclear!$D$8","v":307.69444444444446},0,5.6266666666666678,2.9016666666666668,3.77,0]
["2018-12-23",20,52.73,902,null,{"$f":"M8603","v":21.745000000000001},5.835,16.404999999999998,null,{"$f":"'Combined Cycle Gas'!$D$8","v":318.30459770114948},{"$f":"Nuclear!$D$8","v":307.69444444444446},0,4.5883333333333329,2.9749999999999996,4.6233333333333331,0]
["2018-12-23",21,41.34,1303,null,{"$f":"M8604","v":18.676666666666666},5.5433333333333339,10.433333333333334,null,{"$f":"'Combined Cycle Gas'!$D$8","v":318.30459770114948},{"$f":"Nuclear!$D$8","v":307.69444444444446},0,5.6833333333333336,3.5783333333333331,7.9416666666666664,0]
["2018-12-23",22,37.96,1951,null,{"$f":"M8605","v":26.571666666666669},6.0066666666666668,9.7683333333333344,null,{"$f":"'Combined Cycle Gas'!$D$8","v":318.30459770114948},{"$f":"Nuclear!$D$8","v":307.69444444444446},0,10.896666666666668,4.3416666666666668,10.278333333333334,0]
["2018-12-23",23,32.54,1906,null,{"$f":"M8606","v":27.283333333333335},6.0533333333333337,14.178333333333333,null,{"$f":"'Combined Cycle Gas'!$D$8","v":318.30459770114948},{"$f":"Nuclear!$D$8","v":307.69444444444446},0,17.723333333333333,5.59,12.021666666666667,0]
["2018-12-23",24,27.49,2152,null,{"$f":"M8607","v":33.955000000000005},9.5400000000000009,20.008333333333329,null,{"$f":"'Combined Cycle Gas'!$D$8","v":318.30459770114948},{"$f":"Nuclear!$D$8","v":307.69444444444446},0,17.094999999999999,5.4316666666666658,15.449999999999998,0]
["2018-12-24",1,30.22,2080,null,{"$f":"M8608","v":36.911666666666669},11.115,19.34,null,{"$f":"'Combined Cycle Gas'!$D$8","v":318.30459770114948},{"$f":"Nuclear!$D$8","v":307.69444444444446},0,21.855,5.6716666666666669,17.89833333333333,0]
["2018-12-24",2,33.72,1591,null,{"$f":"M8609","v":28.995000000000001},11.825000000000001,11.318333333333333,null,{"$f":"'Combined Cycle Gas'!$D$8","v":318.30459770114948},{"$f":"Nuclear!$D$8","v":307.69444444444446},0,21.745000000000001,5.835,16.404999999999998,0]
["2018-12-24",3,27.93,1902,null,{"$f":"M8610","v":34.866666666666667},14.62,6.8233333333333333,null,{"$f":"'Combined Cycle Gas'!$D$8","v":318.30459770114948},{"$f":"Nuclear!$D$8","v":307.69444444444446},0,18.676666666666666,5.5433333333333339,10.433333333333334,0]
["2018-12-24",4,27.47,2214,null,{"$f":"M8611","v":40.074999999999996},19.585000000000001,4.835,null,{"$f":"'Combined Cycle Gas'!$D$8","v":318.30459770114948},{"$f":"Nuclear!$D$8","v":307.69444444444446},0,26.571666666666669,6.0066666666666668,9.7683333333333344,0]
["2018-12-24",5,27.39,2451,null,{"$f":"M8612","v":16.460000000000004},13.94,2.6783333333333332,null,{"$f":"'Combined Cycle Gas'!$D$8","v":318.30459770114948},{"$f":"Nuclear!$D$8","v":307.69444444444446},0,27.283333333333335,6.0533333333333337,14.178333333333333,0]
["2018-12-24",6,33.979999999999997,1964,null,{"$f":"M8613","v":5.1316666666666668},5.14,1.5333333333333332,null,{"$f":"'Combined Cycle Gas'!$D$8","v":318.30459770114948},{"$f":"Nuclear!$D$8","v":307.69444444444446},0,33.955000000000005,9.5400000000000009,20.008333333333329,0]
["2018-12-24",7,33.69,1321,null,{"$f":"M8614","v":23.438333333333333},17.741666666666664,14.865,null,{"$f":"'Combined Cycle Gas'!$D$8","v":318.30459770114948},{"$f":"Nuclear!$D$8","v":307.69444444444446},0,36.911666666666669,11.115,19.34,0]
["2018-12-24",8,31.02,1312,null,{"$f":"M8615","v":32.138333333333335},25.02,21.501666666666665,null,{"$f":"'Combined Cycle Gas'!$D$8","v":318.30459770114948},{"$f":"Nuclear!$D$8","v":307.69444444444446},2.24E-4,28.995000000000001,11.825000000000001,11.318333333333333,224]
["2018-12-24",9,28.88,1451,null,{"$f":"M8616","v":33.443333333333335},24.504999999999995,10.833333333333334,null,{"$f":"'Combined Cycle Gas'!$D$8","v":318.30459770114948},{"$f":"Nuclear!$D$8","v":307.69444444444446},0.196024,34.866666666666667,14.62,6.8233333333333333,196024]
["2018-12-24",10,28.87,1655,null,{"$f":"M8617","v":24.53},23.078333333333333,7.8066666666666675,null,{"$f":"'Combined Cycle Gas'!$D$8","v":318.30459770114948},{"$f":"Nuclear!$D$8","v":307.69444444444446},{"$f":"P8611/10^6","v":1.1478060000000001},40.074999999999996,19.585000000000001,4.835,1147806]
["2018-12-24",11,40.89,912,null,{"$f":"M8618","v":15.069999999999999},10.979999999999999,3.51,null,{"$f":"'Combined Cycle Gas'!$D$8","v":318.30459770114948},{"$f":"Nuclear!$D$8","v":307.69444444444446},1.415214,16.460000000000004,13.94,2.6783333333333332,1415214]
["2018-12-24",12,39.799999999999997,421,null,{"$f":"M8619","v":4.7416666666666671},4.2783333333333333,3.0883333333333334,null,{"$f":"'Combined Cycle Gas'!$D$8","v":318.30459770114948},{"$f":"Nuclear!$D$8","v":307.69444444444446},1.6467590000000001,5.1316666666666668,5.14,1.5333333333333332,1646759]
["2018-12-24",13,45.44,66,null,{"$f":"M8620","v":4.8433333333333337},3.7616666666666667,2.8433333333333337,null,{"$f":"'Combined Cycle Gas'!$D$8","v":318.30459770114948},{"$f":"Nuclear!$D$8","v":307.69444444444446},1.7760039999999999,23.438333333333333,17.741666666666664,14.865,1776004]
["2018-12-24",14,44.22,10,null,{"$f":"M8621","v":5.456666666666667},3.98,3.2533333333333339,null,{"$f":"'Combined Cycle Gas'!$D$8","v":318.30459770114948},{"$f":"Nuclear!$D$8","v":307.69444444444446},1.504294,32.138333333333335,25.02,21.501666666666665,1504294]
["2018-12-24",15,43.07,0,null,{"$f":"M8622","v":6.9333333333333336},4.7333333333333325,4.3150000000000004,null,{"$f":"'Combined Cycle Gas'!$D$8","v":318.30459770114948},{"$f":"Nuclear!$D$8","v":307.69444444444446},1.0651280000000001,33.443333333333335,24.504999999999995,10.833333333333334,1065128]
["2018-12-24",16,42.63,0,null,{"$f":"M8623","v":21.891666666666666},7.1000000000000005,8.3333333333333339,null,{"$f":"'Combined Cycle Gas'!$D$8","v":318.30459770114948},{"$f":"Nuclear!$D$8","v":307.69444444444446},0.27400999999999998,24.53,23.078333333333333,7.8066666666666675,274010]
["2018-12-24",17,44.29,0,null,{"$f":"M8624","v":58.213333333333331},11.481666666666667,15.188333333333333,null,{"$f":"'Combined Cycle Gas'!$D$8","v":318.30459770114948},{"$f":"Nuclear!$D$8","v":307.69444444444446},0,15.069999999999999,10.979999999999999,3.51,0]
["2018-12-24",18,34.700000000000003,0,null,{"$f":"M8625","v":105.13666666666667},22.448333333333334,26.441666666666666,null,{"$f":"'Combined Cycle Gas'!$D$8","v":318.30459770114948},{"$f":"Nuclear!$D$8","v":307.69444444444446},0,4.7416666666666671,4.2783333333333333,3.0883333333333334,0]
["2018-12-24",19,34.82,0,null,{"$f":"M8626","v":129.81166666666667},52.241666666666667,60.681666666666672,null,{"$f":"'Combined Cycle Gas'!$D$8","v":318.30459770114948},{"$f":"Nuclear!$D$8","v":307.69444444444446},0,4.8433333333333337,3.7616666666666667,2.8433333333333337,0]
["2018-12-24",20,44.9,0,null,{"$f":"M8627","v":132.14666666666668},75.23,82.876666666666665,null,{"$f":"'Combined Cycle Gas'!$D$8","v":318.30459770114948},{"$f":"Nuclear!$D$8","v":307.69444444444446},0,5.456666666666667,3.98,3.2533333333333339,0]
["2018-12-24",21,39.79,0,null,{"$f":"M8628","v":132.86166666666665},86.089999999999989,78.03166666666668,null,{"$f":"'Combined Cycle Gas'!$D$8","v":318.30459770114948},{"$f":"Nuclear!$D$8","v":307.69444444444446},0,6.9333333333333336,4.7333333333333325,4.3150000000000004,0]
["2018-12-24",22,41.9,44,null,{"$f":"M8629","v":134.82666666666668},83.966666666666654,73.826666666666668,null,{"$f":"'Combined Cycle Gas'!$D$8","v":318.30459770114948},{"$f":"Nuclear!$D$8","v":307.69444444444446},0,21.891666666666666,7.1000000000000005,8.3333333333333339,0]
["2018-12-24",23,35.89,9,null,{"$f":"M8630","v":137.755},83.896666666666661,75.178333333333342,null,{"$f":"'Combined Cycle Gas'!$D$8","v":318.30459770114948},{"$f":"Nuclear!$D$8","v":307.69444444444446},0,58.213333333333331,11.481666666666667,15.188333333333333,0]
["2018-12-24",24,33.729999999999997,0,null,{"$f":"M8631","v":138.49833333333333},93.958333333333329,68.553333333333342,null,{"$f":"'Combined Cycle Gas'!$D$8","v":318.30459770114948},{"$f":"Nuclear!$D$8","v":307.69444444444446},0,105.13666666666667,22.448333333333334,26.441666666666666,0]
["2018-12-25",1,32.840000000000003,10,null,{"$f":"M8632","v":140.36666666666665},97.39,70.17,null,{"$f":"'Combined Cycle Gas'!$D$8","v":318.30459770114948},{"$f":"Nuclear!$D$8","v":307.69444444444446},0,129.81166666666667,52.241666666666667,60.681666666666672,0]
["2018-12-25",2,32.47,62,null,{"$f":"M8633","v":140.935},96.618333333333325,57.306666666666672,null,{"$f":"'Combined Cycle Gas'!$D$8","v":318.30459770114948},{"$f":"Nuclear!$D$8","v":307.69444444444446},0,132.14666666666668,75.23,82.876666666666665,0]
["2018-12-25",3,29.26,356,null,{"$f":"M8634","v":143.28666666666666},98.87833333333333,63.185000000000009,null,{"$f":"'Combined Cycle Gas'!$D$8","v":318.30459770114948},{"$f":"Nuclear!$D$8","v":307.69444444444446},0,132.86166666666665,86.089999999999989,78.03166666666668,0]
["2018-12-25",4,27.93,627,null,{"$f":"M8635","v":140.49833333333333},65.743333333333339,63.588333333333338,null,{"$f":"'Combined Cycle Gas'!$D$8","v":318.30459770114948},{"$f":"Nuclear!$D$8","v":307.69444444444446},0,134.82666666666668,83.966666666666654,73.826666666666668,0]
["2018-12-25",5,29.78,517,null,{"$f":"M8636","v":140.65666666666667},49.508333333333326,66.266666666666666,null,{"$f":"'Combined Cycle Gas'!$D$8","v":318.30459770114948},{"$f":"Nuclear!$D$8","v":307.69444444444446},0,137.755,83.896666666666661,75.178333333333342,0]
["2018-12-25",6,30.5,346,null,{"$f":"M8637","v":134.46},84.806666666666658,38.036666666666662,null,{"$f":"'Combined Cycle Gas'!$D$8","v":318.30459770114948},{"$f":"Nuclear!$D$8","v":307.69444444444446},0,138.49833333333333,93.958333333333329,68.553333333333342,0]
["2018-12-25",7,46.18,569,null,{"$f":"M8638","v":129.77833333333334},95.556666666666672,67.084999999999994,null,{"$f":"'Combined Cycle Gas'!$D$8","v":318.30459770114948},{"$f":"Nuclear!$D$8","v":307.69444444444446},0,140.36666666666665,97.39,70.17,0]
["2018-12-25",8,30.23,1025,null,{"$f":"M8639","v":138.04166666666666},97.106666666666669,83.031666666666666,null,{"$f":"'Combined Cycle Gas'!$D$8","v":318.30459770114948},{"$f":"Nuclear!$D$8","v":307.69444444444446},1.4925250000000001,140.935,96.618333333333325,57.306666666666672,1492525]
["2018-12-25",9,27.34,1243,null,{"$f":"M8640","v":135.34833333333336},95.780000000000015,83.483333333333334,null,{"$f":"'Combined Cycle Gas'!$D$8","v":318.30459770114948},{"$f":"Nuclear!$D$8","v":307.69444444444446},3.1412939999999998,143.28666666666666,98.87833333333333,63.185000000000009,3141294]
["2018-12-25",10,28.8,1192,null,{"$f":"M8641","v":129.69833333333332},97.328333333333333,92.611666666666679,null,{"$f":"'Combined Cycle Gas'!$D$8","v":318.30459770114948},{"$f":"Nuclear!$D$8","v":307.69444444444446},3.4313769999999999,140.49833333333333,65.743333333333339,63.588333333333338,3431377]
["2018-12-25",11,29.83,574,null,{"$f":"M8642","v":130.95333333333335},97.748333333333335,88.393333333333331,null,{"$f":"'Combined Cycle Gas'!$D$8","v":318.30459770114948},{"$f":"Nuclear!$D$8","v":307.69444444444446},6.0078860000000001,140.65666666666667,49.508333333333326,66.266666666666666,6007886]
["2018-12-25",12,29.99,167,null,{"$f":"M8643","v":131.95833333333334},100.05333333333333,74.266666666666666,null,{"$f":"'Combined Cycle Gas'!$D$8","v":318.30459770114948},{"$f":"Nuclear!$D$8","v":307.69444444444446},5.7564279999999997,134.46,84.806666666666658,38.036666666666662,5756428]
["2018-12-25",13,34.590000000000003,28,null,{"$f":"M8644","v":122.93},101.68833333333335,87.694999999999993,null,{"$f":"'Combined Cycle Gas'!$D$8","v":318.30459770114948},{"$f":"Nuclear!$D$8","v":307.69444444444446},6.4216220000000002,129.77833333333334,95.556666666666672,67.084999999999994,6421622]
["2018-12-25",14,33.93,73,null,{"$f":"M8645","v":109.61500000000001},95.995000000000005,91.023333333333326,null,{"$f":"'Combined Cycle Gas'!$D$8","v":318.30459770114948},{"$f":"Nuclear!$D$8","v":307.69444444444446},6.8340209999999999,138.04166666666666,97.106666666666669,83.031666666666666,6834021]
["2018-12-25",15,30.38,204,null,{"$f":"M8646","v":130.25},93.613333333333344,81.076666666666668,null,{"$f":"'Combined Cycle Gas'!$D$8","v":318.30459770114948},{"$f":"Nuclear!$D$8","v":307.69444444444446},5.8964280000000002,135.34833333333336,95.780000000000015,83.483333333333334,5896428]
["2018-12-25",16,33.950000000000003,204,null,{"$f":"M8647","v":129.55500000000001},98.084999999999994,88.276666666666657,null,{"$f":"'Combined Cycle Gas'!$D$8","v":318.30459770114948},{"$f":"Nuclear!$D$8","v":307.69444444444446},4.6684359999999998,129.69833333333332,97.328333333333333,92.611666666666679,4668436]
["2018-12-25",17,34.74,0,null,{"$f":"M8648","v":121.58833333333332},99.644999999999996,92.754999999999995,null,{"$f":"'Combined Cycle Gas'!$D$8","v":318.30459770114948},{"$f":"Nuclear!$D$8","v":307.69444444444446},1.4631970000000001,130.95333333333335,97.748333333333335,88.393333333333331,1463197]
["2018-12-25",18,28.76,0,null,{"$f":"M8649","v":115.37166666666667},97.384999999999991,93.71833333333332,null,{"$f":"'Combined Cycle Gas'!$D$8","v":318.30459770114948},{"$f":"Nuclear!$D$8","v":307.69444444444446},0,131.95833333333334,100.05333333333333,74.266666666666666,0]
["2018-12-25",19,30.04,0,null,{"$f":"M8650","v":103.38166666666667},99.201666666666668,95.600000000000009,null,{"$f":"'Combined Cycle Gas'!$D$8","v":318.30459770114948},{"$f":"Nuclear!$D$8","v":307.69444444444446},0,122.93,101.68833333333335,87.694999999999993,0]
["2018-12-25",20,31.4,0,null,{"$f":"M8651","v":103.24333333333334},100.45666666666666,90.723333333333315,null,{"$f":"'Combined Cycle Gas'!$D$8","v":318.30459770114948},{"$f":"Nuclear!$D$8","v":307.69444444444446},0,109.61500000000001,95.995000000000005,91.023333333333326,0]
["2018-12-25",21,32.08,0,null,{"$f":"M8652","v":127.67833333333333},98.004999999999995,84.61999999999999,null,{"$f":"'Combined Cycle Gas'!$D$8","v":318.30459770114948},{"$f":"Nuclear!$D$8","v":307.69444444444446},0,130.25,93.613333333333344,81.076666666666668,0]
["2018-12-25",22,40.799999999999997,0,null,{"$f":"M8653","v":99.183333333333337},95.386666666666656,85.891666666666652,null,{"$f":"'Combined Cycle Gas'!$D$8","v":318.30459770114948},{"$f":"Nuclear!$D$8","v":307.69444444444446},0,129.55500000000001,98.084999999999994,88.276666666666657,0]
["2018-12-25",23,32.409999999999997,22,null,{"$f":"M8654","v":113.35333333333334},92.114999999999995,89.853333333333339,null,{"$f":"'Combined Cycle Gas'!$D$8","v":318.30459770114948},{"$f":"Nuclear!$D$8","v":307.69444444444446},0,121.58833333333332,99.644999999999996,92.754999999999995,0]
["2018-12-25",24,29.89,148,null,{"$f":"M8655","v":99.978333333333339},85.899999999999991,87.706666666666663,null,{"$f":"'Combined Cycle Gas'!$D$8","v":318.30459770114948},{"$f":"Nuclear!$D$8","v":307.69444444444446},0,115.37166666666667,97.384999999999991,93.71833333333332,0]
["2018-12-26",1,27.65,550,null,{"$f":"M8656","v":93.836666666666659},59.91,80.28,null,{"$f":"'Combined Cycle Gas'!$D$8","v":318.30459770114948},{"$f":"Nuclear!$D$8","v":307.69444444444446},0,103.38166666666667,99.201666666666668,95.600000000000009,0]
["2018-12-26",2,27.65,930,null,{"$f":"M8657","v":82.711666666666659},48.471666666666664,79.349999999999994,null,{"$f":"'Combined Cycle Gas'!$D$8","v":318.30459770114948},{"$f":"Nuclear!$D$8","v":307.69444444444446},0,103.24333333333334,100.45666666666666,90.723333333333315,0]
["2018-12-26",3,27.34,1439,null,{"$f":"M8658","v":64.295000000000002},23.295000000000002,64.186666666666667,null,{"$f":"'Combined Cycle Gas'!$D$8","v":318.30459770114948},{"$f":"Nuclear!$D$8","v":307.69444444444446},0,127.67833333333333,98.004999999999995,84.61999999999999,0]
["2018-12-26",4,24.95,2112,null,{"$f":"M8659","v":50.080000000000005},26.716666666666665,52.838333333333331,null,{"$f":"'Combined Cycle Gas'!$D$8","v":318.30459770114948},{"$f":"Nuclear!$D$8","v":307.69444444444446},0,99.183333333333337,95.386666666666656,85.891666666666652,0]
["2018-12-26",5,24.79,2358,null,{"$f":"M8660","v":55.085000000000001},27.994999999999994,54.144999999999989,null,{"$f":"'Combined Cycle Gas'!$D$8","v":318.30459770114948},{"$f":"Nuclear!$D$8","v":307.69444444444446},0,113.35333333333334,92.114999999999995,89.853333333333339,0]
["2018-12-26",6,24.95,2805,null,{"$f":"M8661","v":60.948333333333331},39.196666666666665,71.808333333333323,null,{"$f":"'Combined Cycle Gas'!$D$8","v":318.30459770114948},{"$f":"Nuclear!$D$8","v":307.69444444444446},0,99.978333333333339,85.899999999999991,87.706666666666663,0]
["2018-12-26",7,23.28,2697,null,{"$f":"M8662","v":34.056666666666665},17.923333333333332,60.331666666666671,null,{"$f":"'Combined Cycle Gas'!$D$8","v":318.30459770114948},{"$f":"Nuclear!$D$8","v":307.69444444444446},0,93.836666666666659,59.91,80.28,0]
["2018-12-26",8,26.12,2483,null,{"$f":"M8663","v":21.74},10.23,53.566666666666663,null,{"$f":"'Combined Cycle Gas'!$D$8","v":318.30459770114948},{"$f":"Nuclear!$D$8","v":307.69444444444446},2.1430829999999998,82.711666666666659,48.471666666666664,79.349999999999994,2143083]
["2018-12-26",9,29.45,1430,null,{"$f":"M8664","v":24.076666666666668},12.203333333333333,42.964999999999996,null,{"$f":"'Combined Cycle Gas'!$D$8","v":318.30459770114948},{"$f":"Nuclear!$D$8","v":307.69444444444446},5.4345460000000001,64.295000000000002,23.295000000000002,64.186666666666667,5434546]
["2018-12-26",10,28.87,1134,null,{"$f":"M8665","v":18.143333333333334},7.8866666666666676,37.489999999999995,null,{"$f":"'Combined Cycle Gas'!$D$8","v":318.30459770114948},{"$f":"Nuclear!$D$8","v":307.69444444444446},6.5254380000000003,50.080000000000005,26.716666666666665,52.838333333333331,6525438]
["2018-12-26",11,29.25,753,null,{"$f":"M8666","v":13.398333333333333},9.2166666666666668,33.274999999999999,null,{"$f":"'Combined Cycle Gas'!$D$8","v":318.30459770114948},{"$f":"Nuclear!$D$8","v":307.69444444444446},7.0084059999999999,55.085000000000001,27.994999999999994,54.144999999999989,7008406]
["2018-12-26",12,34.130000000000003,53,null,{"$f":"M8667","v":19.273333333333337},13.494999999999999,37.160000000000004,null,{"$f":"'Combined Cycle Gas'!$D$8","v":318.30459770114948},{"$f":"Nuclear!$D$8","v":307.69444444444446},7.2925120000000003,60.948333333333331,39.196666666666665,71.808333333333323,7292512]
["2018-12-26",13,29.2,279,null,{"$f":"M8668","v":14.201666666666668},14.173333333333332,27.218333333333334,null,{"$f":"'Combined Cycle Gas'!$D$8","v":318.30459770114948},{"$f":"Nuclear!$D$8","v":307.69444444444446},7.3365859999999996,34.056666666666665,17.923333333333332,60.331666666666671,7336586]
["2018-12-26",14,36.15,918,null,{"$f":"M8669","v":8.3183333333333334},6.2149999999999999,11.475000000000001,null,{"$f":"'Combined Cycle Gas'!$D$8","v":318.30459770114948},{"$f":"Nuclear!$D$8","v":307.69444444444446},7.1026420000000003,21.74,10.23,53.566666666666663,7102642]
["2018-12-26",15,34.46,921,null,{"$f":"M8670","v":8.423333333333332},5.95,7.1966666666666663,null,{"$f":"'Combined Cycle Gas'!$D$8","v":318.30459770114948},{"$f":"Nuclear!$D$8","v":307.69444444444446},6.2328869999999998,24.076666666666668,12.203333333333333,42.964999999999996,6232887]
["2018-12-26",16,29.2,1329,null,{"$f":"M8671","v":8.43},8.1949999999999985,8.2633333333333336,null,{"$f":"'Combined Cycle Gas'!$D$8","v":318.30459770114948},{"$f":"Nuclear!$D$8","v":307.69444444444446},1.60802,18.143333333333334,7.8866666666666676,37.489999999999995,1608020]
["2018-12-26",17,27.65,1976,null,{"$f":"M8672","v":14.521666666666667},14.275,26.433333333333334,null,{"$f":"'Combined Cycle Gas'!$D$8","v":318.30459770114948},{"$f":"Nuclear!$D$8","v":307.69444444444446},1.6149770000000001,13.398333333333333,9.2166666666666668,33.274999999999999,1614977]
["2018-12-26",18,27.2,2059,null,{"$f":"M8673","v":36.984999999999999},21.158333333333335,35.276666666666664,null,{"$f":"'Combined Cycle Gas'!$D$8","v":318.30459770114948},{"$f":"Nuclear!$D$8","v":307.69444444444446},0,19.273333333333337,13.494999999999999,37.160000000000004,0]
["2018-12-26",19,27.24,2204,null,{"$f":"M8674","v":38.869999999999997},20.418333333333333,36.856666666666662,null,{"$f":"'Combined Cycle Gas'!$D$8","v":318.30459770114948},{"$f":"Nuclear!$D$8","v":307.69444444444446},0,14.201666666666668,14.173333333333332,27.218333333333334,0]
["2018-12-26",20,27.31,2827,null,{"$f":"M8675","v":32.718333333333334},19.22,39.758333333333333,null,{"$f":"'Combined Cycle Gas'!$D$8","v":318.30459770114948},{"$f":"Nuclear!$D$8","v":307.69444444444446},0,8.3183333333333334,6.2149999999999999,11.475000000000001,0]
["2018-12-26",21,21.25,2970,null,{"$f":"M8676","v":48.713333333333331},28.093333333333334,39.413333333333334,null,{"$f":"'Combined Cycle Gas'!$D$8","v":318.30459770114948},{"$f":"Nuclear!$D$8","v":307.69444444444446},0,8.423333333333332,5.95,7.1966666666666663,0]
["2018-12-26",22,24.13,2970,null,{"$f":"M8677","v":51.824999999999996},27.429999999999996,22.386666666666667,null,{"$f":"'Combined Cycle Gas'!$D$8","v":318.30459770114948},{"$f":"Nuclear!$D$8","v":307.69444444444446},0,8.43,8.1949999999999985,8.2633333333333336,0]
["2018-12-26",23,27.21,2970,null,{"$f":"M8678","v":40.608333333333327},17.434999999999999,16.850000000000001,null,{"$f":"'Combined Cycle Gas'!$D$8","v":318.30459770114948},{"$f":"Nuclear!$D$8","v":307.69444444444446},0,14.521666666666667,14.275,26.433333333333334,0]
["2018-12-26",24,25.84,3053,null,{"$f":"M8679","v":23.14833333333333},8.3849999999999998,10.855000000000002,null,{"$f":"'Combined Cycle Gas'!$D$8","v":318.30459770114948},{"$f":"Nuclear!$D$8","v":307.69444444444446},0,36.984999999999999,21.158333333333335,35.276666666666664,0]
["2018-12-27",1,27.14,3457,null,{"$f":"M8680","v":15.049999999999999},6.2716666666666674,7.1583333333333323,null,{"$f":"'Combined Cycle Gas'!$D$8","v":318.30459770114948},{"$f":"Nuclear!$D$8","v":307.69444444444446},0,38.869999999999997,20.418333333333333,36.856666666666662,0]
["2018-12-27",2,27.17,3457,null,{"$f":"M8681","v":9.451666666666668},6.376666666666666,5.62,null,{"$f":"'Combined Cycle Gas'!$D$8","v":318.30459770114948},{"$f":"Nuclear!$D$8","v":307.69444444444446},{"$f":"P8675/10^6","v":0},32.718333333333334,19.22,39.758333333333333,0]
["2018-12-27",3,27.15,3456,null,{"$f":"M8682","v":7.7600000000000007},5.78,5.73,null,{"$f":"'Combined Cycle Gas'!$D$8","v":318.30459770114948},{"$f":"Nuclear!$D$8","v":307.69444444444446},0,48.713333333333331,28.093333333333334,39.413333333333334,0]
["2018-12-27",4,27.24,3426,null,{"$f":"M8683","v":7.8483333333333327},5.8499999999999988,6.6366666666666667,null,{"$f":"'Combined Cycle Gas'!$D$8","v":318.30459770114948},{"$f":"Nuclear!$D$8","v":307.69444444444446},0,51.824999999999996,27.429999999999996,22.386666666666667,0]
["2018-12-27",5,29.49,3082,null,{"$f":"M8684","v":9.1783333333333346},6.1416666666666657,6.9750000000000005,null,{"$f":"'Combined Cycle Gas'!$D$8","v":318.30459770114948},{"$f":"Nuclear!$D$8","v":307.69444444444446},0,40.608333333333327,17.434999999999999,16.850000000000001,0]
["2018-12-27",6,30.36,2617,null,{"$f":"M8685","v":9.5216666666666665},6.0049999999999999,6.913333333333334,null,{"$f":"'Combined Cycle Gas'!$D$8","v":318.30459770114948},{"$f":"Nuclear!$D$8","v":307.69444444444446},0,23.14833333333333,8.3849999999999998,10.855000000000002,0]
["2018-12-27",7,30.73,2358,null,{"$f":"M8686","v":8.0166666666666675},5.9466666666666663,7.4933333333333332,null,{"$f":"'Combined Cycle Gas'!$D$8","v":318.30459770114948},{"$f":"Nuclear!$D$8","v":307.69444444444446},0,15.049999999999999,6.2716666666666674,7.1583333333333323,0]
["2018-12-27",8,29.56,2419,null,{"$f":"M8687","v":8.19},6.0633333333333326,6.3500000000000005,null,{"$f":"'Combined Cycle Gas'!$D$8","v":318.30459770114948},{"$f":"Nuclear!$D$8","v":307.69444444444446},3.0594779999999999,9.451666666666668,6.376666666666666,5.62,3059478]
["2018-12-27",9,32.74,1917,null,{"$f":"M8688","v":8.2966666666666651},6.3483333333333327,5.7933333333333339,null,{"$f":"'Combined Cycle Gas'!$D$8","v":318.30459770114948},{"$f":"Nuclear!$D$8","v":307.69444444444446},6.1688499999999999,7.7600000000000007,5.78,5.73,6168850]
["2018-12-27",10,34.44,1521,null,{"$f":"M8689","v":9.3233333333333324},6.6633333333333331,5.9616666666666669,null,{"$f":"'Combined Cycle Gas'!$D$8","v":318.30459770114948},{"$f":"Nuclear!$D$8","v":307.69444444444446},5.6678839999999999,7.8483333333333327,5.8499999999999988,6.6366666666666667,5667884]
["2018-12-27",11,34.6,1395,null,{"$f":"M8690","v":9.2283333333333335},6.8633333333333333,6.251666666666666,null,{"$f":"'Combined Cycle Gas'!$D$8","v":318.30459770114948},{"$f":"Nuclear!$D$8","v":307.69444444444446},4.6203079999999996,9.1783333333333346,6.1416666666666657,6.9750000000000005,4620308]
["2018-12-27",12,34.68,1286,null,{"$f":"M8691","v":9.5066666666666677},7.0500000000000007,6.3466666666666667,null,{"$f":"'Combined Cycle Gas'!$D$8","v":318.30459770114948},{"$f":"Nuclear!$D$8","v":307.69444444444446},6.0892400000000002,9.5216666666666665,6.0049999999999999,6.913333333333334,6089240]
["2018-12-27",13,34.53,1570,null,{"$f":"M8692","v":9.7249999999999996},7.1949999999999994,6.416666666666667,null,{"$f":"'Combined Cycle Gas'!$D$8","v":318.30459770114948},{"$f":"Nuclear!$D$8","v":307.69444444444446},6.584708,8.0166666666666675,5.9466666666666663,7.4933333333333332,6584708]
["2018-12-27",14,35.47,1689,null,{"$f":"M8693","v":10.115},7.4849999999999994,6.496666666666667,null,{"$f":"'Combined Cycle Gas'!$D$8","v":318.30459770114948},{"$f":"Nuclear!$D$8","v":307.69444444444446},6.5878550000000002,8.19,6.0633333333333326,6.3500000000000005,6587855]
["2018-12-27",15,34.69,1688,null,{"$f":"M8694","v":12.176666666666668},8.5066666666666659,6.5799999999999992,null,{"$f":"'Combined Cycle Gas'!$D$8","v":318.30459770114948},{"$f":"Nuclear!$D$8","v":307.69444444444446},5.762613,8.2966666666666651,6.3483333333333327,5.7933333333333339,5762613]
["2018-12-27",16,34.49,1849,null,{"$f":"M8695","v":16.516666666666669},9.3633333333333351,6.5683333333333325,null,{"$f":"'Combined Cycle Gas'!$D$8","v":318.30459770114948},{"$f":"Nuclear!$D$8","v":307.69444444444446},1.62548,9.3233333333333324,6.6633333333333331,5.9616666666666669,1625480]
["2018-12-27",17,34.58,1467,null,{"$f":"M8696","v":26.641666666666666},12.261666666666665,7.4383333333333326,null,{"$f":"'Combined Cycle Gas'!$D$8","v":318.30459770114948},{"$f":"Nuclear!$D$8","v":307.69444444444446},1.1842999999999999,9.2283333333333335,6.8633333333333333,6.251666666666666,1184300]
["2018-12-27",18,30.32,336,null,{"$f":"M8697","v":44.813333333333333},28.543333333333333,13.154999999999999,null,{"$f":"'Combined Cycle Gas'!$D$8","v":318.30459770114948},{"$f":"Nuclear!$D$8","v":307.69444444444446},0,9.5066666666666677,7.0500000000000007,6.3466666666666667,0]
["2018-12-27",19,44.86,0,null,{"$f":"M8698","v":53.274999999999999},24.806666666666668,10.28,null,{"$f":"'Combined Cycle Gas'!$D$8","v":318.30459770114948},{"$f":"Nuclear!$D$8","v":307.69444444444446},0,9.7249999999999996,7.1949999999999994,6.416666666666667,0]
["2018-12-27",20,44.88,0,null,{"$f":"M8699","v":61.811666666666667},32.166666666666664,11.450000000000001,null,{"$f":"'Combined Cycle Gas'!$D$8","v":318.30459770114948},{"$f":"Nuclear!$D$8","v":307.69444444444446},0,10.115,7.4849999999999994,6.496666666666667,0]
["2018-12-27",21,44.91,10,null,{"$f":"M8700","v":74.364999999999995},67.531666666666666,25.395,null,{"$f":"'Combined Cycle Gas'!$D$8","v":318.30459770114948},{"$f":"Nuclear!$D$8","v":307.69444444444446},0,12.176666666666668,8.5066666666666659,6.5799999999999992,0]
["2018-12-27",22,46.23,13,null,{"$f":"M8701","v":89.633333333333326},95.958333333333329,48.574999999999996,null,{"$f":"'Combined Cycle Gas'!$D$8","v":318.30459770114948},{"$f":"Nuclear!$D$8","v":307.69444444444446},0,16.516666666666669,9.3633333333333351,6.5683333333333325,0]
["2018-12-27",23,37.9,129,null,{"$f":"M8702","v":96.733333333333334},99.426666666666662,76.876666666666651,null,{"$f":"'Combined Cycle Gas'!$D$8","v":318.30459770114948},{"$f":"Nuclear!$D$8","v":307.69444444444446},0,26.641666666666666,12.261666666666665,7.4383333333333326,0]
["2018-12-27",24,32.82,612,null,{"$f":"M8703","v":127.47499999999998},103.48666666666668,84.893333333333331,null,{"$f":"'Combined Cycle Gas'!$D$8","v":318.30459770114948},{"$f":"Nuclear!$D$8","v":307.69444444444446},0,44.813333333333333,28.543333333333333,13.154999999999999,0]
["2018-12-28",1,32.74,886,null,{"$f":"M8704","v":142.405},108.67500000000001,97.220000000000013,null,{"$f":"'Combined Cycle Gas'!$D$8","v":318.30459770114948},{"$f":"Nuclear!$D$8","v":307.69444444444446},0,53.274999999999999,24.806666666666668,10.28,0]
["2018-12-28",2,32.89,640,null,{"$f":"M8705","v":142.85166666666666},110.86833333333334,101.14833333333333,null,{"$f":"'Combined Cycle Gas'!$D$8","v":318.30459770114948},{"$f":"Nuclear!$D$8","v":307.69444444444446},0,61.811666666666667,32.166666666666664,11.450000000000001,0]
["2018-12-28",3,32.57,1013,null,{"$f":"M8706","v":139.64999999999998},106.925,98.853333333333339,null,{"$f":"'Combined Cycle Gas'!$D$8","v":318.30459770114948},{"$f":"Nuclear!$D$8","v":307.69444444444446},0,74.364999999999995,67.531666666666666,25.395,0]
["2018-12-28",4,30.12,1802,null,{"$f":"M8707","v":146.59},107.36166666666666,100.60166666666667,null,{"$f":"'Combined Cycle Gas'!$D$8","v":318.30459770114948},{"$f":"Nuclear!$D$8","v":307.69444444444446},0,89.633333333333326,95.958333333333329,48.574999999999996,0]
["2018-12-28",5,30.12,2125,null,{"$f":"M8708","v":150.67999999999998},110.51166666666666,101.90833333333335,null,{"$f":"'Combined Cycle Gas'!$D$8","v":318.30459770114948},{"$f":"Nuclear!$D$8","v":307.69444444444446},0,96.733333333333334,99.426666666666662,76.876666666666651,0]
["2018-12-28",6,34.659999999999997,1875,null,{"$f":"M8709","v":146.06333333333333},111.79166666666667,102.75,null,{"$f":"'Combined Cycle Gas'!$D$8","v":318.30459770114948},{"$f":"Nuclear!$D$8","v":307.69444444444446},0,127.47499999999998,103.48666666666668,84.893333333333331,0]
["2018-12-28",7,35.159999999999997,1411,null,{"$f":"M8710","v":145.56333333333333},112.52,101.80666666666667,null,{"$f":"'Combined Cycle Gas'!$D$8","v":318.30459770114948},{"$f":"Nuclear!$D$8","v":307.69444444444446},0,142.405,108.67500000000001,97.220000000000013,0]
["2018-12-28",8,30.04,1710,null,{"$f":"M8711","v":148.62666666666667},112.52,103.27999999999999,null,{"$f":"'Combined Cycle Gas'!$D$8","v":318.30459770114948},{"$f":"Nuclear!$D$8","v":307.69444444444446},1.5999999999999999E-5,142.85166666666666,110.86833333333334,101.14833333333333,16]
["2018-12-28",9,38.31,1305,null,{"$f":"M8712","v":150.76166666666666},110.63999999999999,105.74166666666667,null,{"$f":"'Combined Cycle Gas'!$D$8","v":318.30459770114948},{"$f":"Nuclear!$D$8","v":307.69444444444446},1.326443,139.64999999999998,106.925,98.853333333333339,1326443]
["2018-12-28",10,29.24,1818,null,{"$f":"M8713","v":148.95833333333334},110.82,104.76666666666667,null,{"$f":"'Combined Cycle Gas'!$D$8","v":318.30459770114948},{"$f":"Nuclear!$D$8","v":307.69444444444446},2.4348079999999999,146.59,107.36166666666666,100.60166666666667,2434808]
["2018-12-28",11,34.03,1671,null,{"$f":"M8714","v":130.86166666666668},92.306666666666672,87.081666666666663,null,{"$f":"'Combined Cycle Gas'!$D$8","v":318.30459770114948},{"$f":"Nuclear!$D$8","v":307.69444444444446},4.6263420000000002,150.67999999999998,110.51166666666666,101.90833333333335,4626342]
["2018-12-28",12,43.73,735,null,{"$f":"M8715","v":80.326666666666668},67.766666666666666,61.796666666666674,null,{"$f":"'Combined Cycle Gas'!$D$8","v":318.30459770114948},{"$f":"Nuclear!$D$8","v":307.69444444444446},2.3835470000000001,146.06333333333333,111.79166666666667,102.75,2383547]
["2018-12-28",13,42.9,227,null,{"$f":"M8716","v":45.956666666666671},40.111666666666672,38.211666666666673,null,{"$f":"'Combined Cycle Gas'!$D$8","v":318.30459770114948},{"$f":"Nuclear!$D$8","v":307.69444444444446},4.4458690000000001,145.56333333333333,112.52,101.80666666666667,4445869]
["2018-12-28",14,40.9,37,null,{"$f":"M8717","v":40.880000000000003},30.330000000000002,31.8,null,{"$f":"'Combined Cycle Gas'!$D$8","v":318.30459770114948},{"$f":"Nuclear!$D$8","v":307.69444444444446},6.4892180000000002,148.62666666666667,112.52,103.27999999999999,6489218]
["2018-12-28",15,39.5,6,null,{"$f":"M8718","v":46.951666666666661},27.226666666666663,24.375,null,{"$f":"'Combined Cycle Gas'!$D$8","v":318.30459770114948},{"$f":"Nuclear!$D$8","v":307.69444444444446},6.5897680000000003,150.76166666666666,110.63999999999999,105.74166666666667,6589768]
["2018-12-28",16,39.25,37,null,{"$f":"M8719","v":57.895000000000003},23.293333333333333,18.930000000000003,null,{"$f":"'Combined Cycle Gas'!$D$8","v":318.30459770114948},{"$f":"Nuclear!$D$8","v":307.69444444444446},5.7327060000000003,148.95833333333334,110.82,104.76666666666667,5732706]
["2018-12-28",17,40.68,45,null,{"$f":"M8720","v":84.174999999999997},36.134999999999998,25.42,null,{"$f":"'Combined Cycle Gas'!$D$8","v":318.30459770114948},{"$f":"Nuclear!$D$8","v":307.69444444444446},2.8168530000000001,130.86166666666668,92.306666666666672,87.081666666666663,2816853]
["2018-12-28",18,44.98,33,null,{"$f":"M8721","v":128.92166666666665},84.851666666666674,32.01,null,{"$f":"'Combined Cycle Gas'!$D$8","v":318.30459770114948},{"$f":"Nuclear!$D$8","v":307.69444444444446},0,80.326666666666668,67.766666666666666,61.796666666666674,0]
["2018-12-28",19,44.97,0,null,{"$f":"M8722","v":140.53833333333333},106.67666666666666,30.554999999999996,null,{"$f":"'Combined Cycle Gas'!$D$8","v":318.30459770114948},{"$f":"Nuclear!$D$8","v":307.69444444444446},0,45.956666666666671,40.111666666666672,38.211666666666673,0]
["2018-12-28",20,44.9,195,null,{"$f":"M8723","v":143.76833333333335},109.11333333333333,44.348333333333336,null,{"$f":"'Combined Cycle Gas'!$D$8","v":318.30459770114948},{"$f":"Nuclear!$D$8","v":307.69444444444446},0,40.880000000000003,30.330000000000002,31.8,0]
["2018-12-28",21,39.22,1077,null,{"$f":"M8724","v":134.60166666666669},111.13833333333334,73.575000000000003,null,{"$f":"'Combined Cycle Gas'!$D$8","v":318.30459770114948},{"$f":"Nuclear!$D$8","v":307.69444444444446},0,46.951666666666661,27.226666666666663,24.375,0]
["2018-12-28",22,33.130000000000003,1684,null,{"$f":"M8725","v":141.63499999999999},109.10166666666667,89.765000000000001,null,{"$f":"'Combined Cycle Gas'!$D$8","v":318.30459770114948},{"$f":"Nuclear!$D$8","v":307.69444444444446},0,57.895000000000003,23.293333333333333,18.930000000000003,0]
["2018-12-28",23,27.79,2300,null,{"$f":"M8726","v":148.39000000000001},110.705,94.081666666666663,null,{"$f":"'Combined Cycle Gas'!$D$8","v":318.30459770114948},{"$f":"Nuclear!$D$8","v":307.69444444444446},0,84.174999999999997,36.134999999999998,25.42,0]
["2018-12-28",24,26.34,2901,null,{"$f":"M8727","v":148.94499999999999},112.40833333333332,87.694999999999993,null,{"$f":"'Combined Cycle Gas'!$D$8","v":318.30459770114948},{"$f":"Nuclear!$D$8","v":307.69444444444446},0,128.92166666666665,84.851666666666674,32.01,0]
["2018-12-29",1,27.7,2899,null,{"$f":"M8728","v":149.57499999999996},112.52,71.908333333333331,null,{"$f":"'Combined Cycle Gas'!$D$8","v":318.30459770114948},{"$f":"Nuclear!$D$8","v":307.69444444444446},0,140.53833333333333,106.67666666666666,30.554999999999996,0]
["2018-12-29",2,26.24,3079,null,{"$f":"M8729","v":151.31999999999996},112.435,78.191666666666663,null,{"$f":"'Combined Cycle Gas'!$D$8","v":318.30459770114948},{"$f":"Nuclear!$D$8","v":307.69444444444446},0,143.76833333333335,109.11333333333333,44.348333333333336,0]
["2018-12-29",3,27.14,3183,null,{"$f":"M8730","v":149.03},111.79666666666668,96.105000000000004,null,{"$f":"'Combined Cycle Gas'!$D$8","v":318.30459770114948},{"$f":"Nuclear!$D$8","v":307.69444444444446},0,134.60166666666669,111.13833333333334,73.575000000000003,0]
["2018-12-29",4,29.25,2753,null,{"$f":"M8731","v":148.215},110.32,88.101666666666645,null,{"$f":"'Combined Cycle Gas'!$D$8","v":318.30459770114948},{"$f":"Nuclear!$D$8","v":307.69444444444446},0,141.63499999999999,109.10166666666667,89.765000000000001,0]
["2018-12-29",5,34.26,2154,null,{"$f":"M8732","v":146.16833333333332},105.89166666666667,76.918333333333337,null,{"$f":"'Combined Cycle Gas'!$D$8","v":318.30459770114948},{"$f":"Nuclear!$D$8","v":307.69444444444446},0,148.39000000000001,110.705,94.081666666666663,0]
["2018-12-29",6,35.19,1721,null,{"$f":"M8733","v":143.96333333333331},104.70833333333333,68.716666666666669,null,{"$f":"'Combined Cycle Gas'!$D$8","v":318.30459770114948},{"$f":"Nuclear!$D$8","v":307.69444444444446},0,148.94499999999999,112.40833333333332,87.694999999999993,0]
["2018-12-29",7,38.99,1257,null,{"$f":"M8734","v":138.68166666666664},96.063333333333333,35.883333333333333,null,{"$f":"'Combined Cycle Gas'!$D$8","v":318.30459770114948},{"$f":"Nuclear!$D$8","v":307.69444444444446},0,149.57499999999996,112.52,71.908333333333331,0]
["2018-12-29",8,44.49,775,null,{"$f":"M8735","v":138.42333333333332},83.128333333333345,13.513333333333334,null,{"$f":"'Combined Cycle Gas'!$D$8","v":318.30459770114948},{"$f":"Nuclear!$D$8","v":307.69444444444446},1.013E-3,151.31999999999996,112.435,78.191666666666663,1013]
["2018-12-29",9,40.74,881,null,{"$f":"M8736","v":136.53833333333333},92.52166666666669,21.291666666666668,null,{"$f":"'Combined Cycle Gas'!$D$8","v":318.30459770114948},{"$f":"Nuclear!$D$8","v":307.69444444444446},0.29745300000000002,149.03,111.79666666666668,96.105000000000004,297453]
["2018-12-29",10,41.56,880,null,{"$f":"M8737","v":137.05499999999998},93.513333333333335,22.583333333333332,null,{"$f":"'Combined Cycle Gas'!$D$8","v":318.30459770114948},{"$f":"Nuclear!$D$8","v":307.69444444444446},1.517668,148.215,110.32,88.101666666666645,1517668]
["2018-12-29",11,43.92,814,null,{"$f":"M8738","v":128.87333333333333},68.644999999999996,12.693333333333333,null,{"$f":"'Combined Cycle Gas'!$D$8","v":318.30459770114948},{"$f":"Nuclear!$D$8","v":307.69444444444446},0.80932599999999999,146.16833333333332,105.89166666666667,76.918333333333337,809326]
["2018-12-29",12,46.34,423,null,{"$f":"M8739","v":88.410000000000011},22.36,9.5133333333333336,null,{"$f":"'Combined Cycle Gas'!$D$8","v":318.30459770114948},{"$f":"Nuclear!$D$8","v":307.69444444444446},1.6761699999999999,143.96333333333331,104.70833333333333,68.716666666666669,1676170]
["2018-12-29",13,43.53,119,null,{"$f":"M8740","v":29.736666666666668},8.6216666666666661,8.5233333333333317,null,{"$f":"'Combined Cycle Gas'!$D$8","v":318.30459770114948},{"$f":"Nuclear!$D$8","v":307.69444444444446},0.69530499999999995,138.68166666666664,96.063333333333333,35.883333333333333,695305]
["2018-12-29",14,40.07,42,null,{"$f":"M8741","v":19.651666666666667},6.6866666666666674,7.9050000000000002,null,{"$f":"'Combined Cycle Gas'!$D$8","v":318.30459770114948},{"$f":"Nuclear!$D$8","v":307.69444444444446},1.1598360000000001,138.42333333333332,83.128333333333345,13.513333333333334,1159836]
["2018-12-29",15,39.43,131,null,{"$f":"M8742","v":19.36},6.6833333333333336,7.8166666666666664,null,{"$f":"'Combined Cycle Gas'!$D$8","v":318.30459770114948},{"$f":"Nuclear!$D$8","v":307.69444444444446},0.26638400000000001,136.53833333333333,92.52166666666669,21.291666666666668,266384]
["2018-12-29",16,39.11,506,null,{"$f":"M8743","v":28.156666666666666},8.2650000000000006,7.7016666666666653,null,{"$f":"'Combined Cycle Gas'!$D$8","v":318.30459770114948},{"$f":"Nuclear!$D$8","v":307.69444444444446},6.3020999999999994E-2,137.05499999999998,93.513333333333335,22.583333333333332,63021]
["2018-12-29",17,42.03,616,null,{"$f":"M8744","v":60.896666666666668},20.066666666666666,7.82,null,{"$f":"'Combined Cycle Gas'!$D$8","v":318.30459770114948},{"$f":"Nuclear!$D$8","v":307.69444444444446},0,128.87333333333333,68.644999999999996,12.693333333333333,0]
["2018-12-29",18,44.22,616,null,{"$f":"M8745","v":125.77666666666666},62.388333333333321,18.488333333333333,null,{"$f":"'Combined Cycle Gas'!$D$8","v":318.30459770114948},{"$f":"Nuclear!$D$8","v":307.69444444444446},{"$f":"P8739/10^6","v":0},88.410000000000011,22.36,9.5133333333333336,0]
["2018-12-29",19,31.42,1071,null,{"$f":"M8746","v":138.43500000000003},68.356666666666669,22.919999999999998,null,{"$f":"'Combined Cycle Gas'!$D$8","v":318.30459770114948},{"$f":"Nuclear!$D$8","v":307.69444444444446},0,29.736666666666668,8.6216666666666661,8.5233333333333317,0]
["2018-12-29",20,31.01,1629,null,{"$f":"M8747","v":139.19499999999999},84.11999999999999,31.096666666666668,null,{"$f":"'Combined Cycle Gas'!$D$8","v":318.30459770114948},{"$f":"Nuclear!$D$8","v":307.69444444444446},0,19.651666666666667,6.6866666666666674,7.9050000000000002,0]
["2018-12-29",21,28.82,2218,null,{"$f":"M8748","v":137.37333333333333},101.09166666666665,49.9,null,{"$f":"'Combined Cycle Gas'!$D$8","v":318.30459770114948},{"$f":"Nuclear!$D$8","v":307.69444444444446},0,19.36,6.6833333333333336,7.8166666666666664,0]
["2018-12-29",22,36.92,2081,null,{"$f":"M8749","v":141.04},102.56,35.103333333333332,null,{"$f":"'Combined Cycle Gas'!$D$8","v":318.30459770114948},{"$f":"Nuclear!$D$8","v":307.69444444444446},0,28.156666666666666,8.2650000000000006,7.7016666666666653,0]
["2018-12-29",23,32.619999999999997,2326,null,{"$f":"M8750","v":142.39166666666665},99.821666666666673,35.015000000000001,null,{"$f":"'Combined Cycle Gas'!$D$8","v":318.30459770114948},{"$f":"Nuclear!$D$8","v":307.69444444444446},0,60.896666666666668,20.066666666666666,7.82,0]
["2018-12-29",24,26.03,2718,null,{"$f":"M8751","v":144.18000000000004},102.31,52.615000000000002,null,{"$f":"'Combined Cycle Gas'!$D$8","v":318.30459770114948},{"$f":"Nuclear!$D$8","v":307.69444444444446},0,125.77666666666666,62.388333333333321,18.488333333333333,0]
["2018-12-30",1,27.9,3283,null,{"$f":"M8752","v":148.095},105.33333333333333,71.024999999999991,null,{"$f":"'Combined Cycle Gas'!$D$8","v":318.30459770114948},{"$f":"Nuclear!$D$8","v":307.69444444444446},0,138.43500000000003,68.356666666666669,22.919999999999998,0]
["2018-12-30",2,27.65,3230,null,{"$f":"M8753","v":144.39333333333332},103.77,80.863333333333344,null,{"$f":"'Combined Cycle Gas'!$D$8","v":318.30459770114948},{"$f":"Nuclear!$D$8","v":307.69444444444446},0,139.19499999999999,84.11999999999999,31.096666666666668,0]
["2018-12-30",3,27.65,3282,null,{"$f":"M8754","v":141.51166666666666},103.86166666666668,89.268333333333331,null,{"$f":"'Combined Cycle Gas'!$D$8","v":318.30459770114948},{"$f":"Nuclear!$D$8","v":307.69444444444446},0,137.37333333333333,101.09166666666665,49.9,0]
["2018-12-30",4,27.65,3218,null,{"$f":"M8755","v":142.28},107.14333333333333,96.893333333333331,null,{"$f":"'Combined Cycle Gas'!$D$8","v":318.30459770114948},{"$f":"Nuclear!$D$8","v":307.69444444444446},0,141.04,102.56,35.103333333333332,0]
["2018-12-30",5,29.85,3176,null,{"$f":"M8756","v":140.09333333333333},105.25166666666667,95.748333333333321,null,{"$f":"'Combined Cycle Gas'!$D$8","v":318.30459770114948},{"$f":"Nuclear!$D$8","v":307.69444444444446},0,142.39166666666665,99.821666666666673,35.015000000000001,0]
["2018-12-30",6,29.8,3081,null,{"$f":"M8757","v":138.68166666666664},105.255,88.351666666666645,null,{"$f":"'Combined Cycle Gas'!$D$8","v":318.30459770114948},{"$f":"Nuclear!$D$8","v":307.69444444444446},0,144.18000000000004,102.31,52.615000000000002,0]
["2018-12-30",7,27.93,1700,null,{"$f":"M8758","v":138.14499999999998},105.045,69.238333333333344,null,{"$f":"'Combined Cycle Gas'!$D$8","v":318.30459770114948},{"$f":"Nuclear!$D$8","v":307.69444444444446},0,148.095,105.33333333333333,71.024999999999991,0]
["2018-12-30",8,35.19,1087,null,{"$f":"M8759","v":138.67666666666668},104.83166666666666,67.00500000000001,null,{"$f":"'Combined Cycle Gas'!$D$8","v":318.30459770114948},{"$f":"Nuclear!$D$8","v":307.69444444444446},0,144.39333333333332,103.77,80.863333333333344,0]
["2018-12-30",9,29.67,1394,null,{"$f":"M8760","v":140.05833333333334},104.58166666666666,61.365000000000009,null,{"$f":"'Combined Cycle Gas'!$D$8","v":318.30459770114948},{"$f":"Nuclear!$D$8","v":307.69444444444446},0.95837000000000006,141.51166666666666,103.86166666666668,89.268333333333331,958370]
["2018-12-30",10,28.34,1549,null,{"$f":"M8761","v":136.91666666666666},104.33666666666666,45.71,null,{"$f":"'Combined Cycle Gas'!$D$8","v":318.30459770114948},{"$f":"Nuclear!$D$8","v":307.69444444444446},1.37879,142.28,107.14333333333333,96.893333333333331,1378790]
["2018-12-30",11,28.43,1640,null,{"$f":"M8762","v":124.17999999999999},98.213333333333352,30.141666666666666,null,{"$f":"'Combined Cycle Gas'!$D$8","v":318.30459770114948},{"$f":"Nuclear!$D$8","v":307.69444444444446},1.9116340000000001,140.09333333333333,105.25166666666667,95.748333333333321,1911634]
["2018-12-30",12,27.57,1639,null,{"$f":"M8763","v":111.455},78.388333333333321,30.405000000000001,null,{"$f":"'Combined Cycle Gas'!$D$8","v":318.30459770114948},{"$f":"Nuclear!$D$8","v":307.69444444444446},2.3235610000000002,138.68166666666664,105.255,88.351666666666645,2323561]
["2018-12-30",13,27.57,1639,null,{"$f":"M8764","v":77.066666666666663},62.068333333333335,22.858333333333334,null,{"$f":"'Combined Cycle Gas'!$D$8","v":318.30459770114948},{"$f":"Nuclear!$D$8","v":307.69444444444446},2.3659150000000002,138.14499999999998,105.045,69.238333333333344,2365915]
["2018-12-30",14,27.58,1599,null,{"$f":"M8765","v":60.175000000000011},51.056666666666672,19.614999999999998,null,{"$f":"'Combined Cycle Gas'!$D$8","v":318.30459770114948},{"$f":"Nuclear!$D$8","v":307.69444444444446},1.8763700000000001,138.67666666666668,104.83166666666666,67.00500000000001,1876370]
["2018-12-30",15,27.58,1598,null,{"$f":"M8766","v":93.628333333333345},75.766666666666666,14.136666666666665,null,{"$f":"'Combined Cycle Gas'!$D$8","v":318.30459770114948},{"$f":"Nuclear!$D$8","v":307.69444444444446},1.677108,140.05833333333334,104.58166666666666,61.365000000000009,1677108]
["2018-12-30",16,27.58,1737,null,{"$f":"M8767","v":107.35333333333331},82.181666666666672,13.893333333333333,null,{"$f":"'Combined Cycle Gas'!$D$8","v":318.30459770114948},{"$f":"Nuclear!$D$8","v":307.69444444444446},1.0429280000000001,136.91666666666666,104.33666666666666,45.71,1042928]
["2018-12-30",17,26.42,2361,null,{"$f":"M8768","v":121.35166666666667},95.066666666666663,32.483333333333327,null,{"$f":"'Combined Cycle Gas'!$D$8","v":318.30459770114948},{"$f":"Nuclear!$D$8","v":307.69444444444446},1.7614000000000001E-2,124.17999999999999,98.213333333333352,30.141666666666666,17614]
["2018-12-30",18,26.11,2571,null,{"$f":"M8769","v":133.37833333333333},99.201666666666668,65.173333333333332,null,{"$f":"'Combined Cycle Gas'!$D$8","v":318.30459770114948},{"$f":"Nuclear!$D$8","v":307.69444444444446},0,111.455,78.388333333333321,30.405000000000001,0]
["2018-12-30",19,27.18,2274,null,{"$f":"M8770","v":135.18},99.11333333333333,79.004999999999995,null,{"$f":"'Combined Cycle Gas'!$D$8","v":318.30459770114948},{"$f":"Nuclear!$D$8","v":307.69444444444446},0,77.066666666666663,62.068333333333335,22.858333333333334,0]
["2018-12-30",20,26.65,1911,null,{"$f":"M8771","v":136.80333333333334},98.006666666666675,85.564999999999998,null,{"$f":"'Combined Cycle Gas'!$D$8","v":318.30459770114948},{"$f":"Nuclear!$D$8","v":307.69444444444446},0,60.175000000000011,51.056666666666672,19.614999999999998,0]
["2018-12-30",21,37.659999999999997,1510,null,{"$f":"M8772","v":138.16},99.796666666666667,85.71833333333332,null,{"$f":"'Combined Cycle Gas'!$D$8","v":318.30459770114948},{"$f":"Nuclear!$D$8","v":307.69444444444446},0,93.628333333333345,75.766666666666666,14.136666666666665,0]
["2018-12-30",22,21.72,2179,null,{"$f":"M8773","v":140.82500000000002},102.55,76.283333333333331,null,{"$f":"'Combined Cycle Gas'!$D$8","v":318.30459770114948},{"$f":"Nuclear!$D$8","v":307.69444444444446},0,107.35333333333331,82.181666666666672,13.893333333333333,0]
["2018-12-30",23,27.44,2177,null,{"$f":"M8774","v":140.96333333333334},97.11,76.228333333333339,null,{"$f":"'Combined Cycle Gas'!$D$8","v":318.30459770114948},{"$f":"Nuclear!$D$8","v":307.69444444444446},0,121.35166666666667,95.066666666666663,32.483333333333327,0]
["2018-12-30",24,34.54,1429,null,{"$f":"M8775","v":140.10666666666665},103.95333333333333,77.448333333333323,null,{"$f":"'Combined Cycle Gas'!$D$8","v":318.30459770114948},{"$f":"Nuclear!$D$8","v":307.69444444444446},0,133.37833333333333,99.201666666666668,65.173333333333332,0]
["2018-12-31",1,29.99,925,null,{"$f":"M8776","v":136.1216666666667},104.84166666666665,90.535000000000011,null,{"$f":"'Combined Cycle Gas'!$D$8","v":318.30459770114948},{"$f":"Nuclear!$D$8","v":307.69444444444446},0,135.18,99.11333333333333,79.004999999999995,0]
["2018-12-31",2,33.89,546,null,{"$f":"M8777","v":140.65666666666667},106.17999999999999,96.820000000000007,null,{"$f":"'Combined Cycle Gas'!$D$8","v":318.30459770114948},{"$f":"Nuclear!$D$8","v":307.69444444444446},0,136.80333333333334,98.006666666666675,85.564999999999998,0]
["2018-12-31",3,33.54,447,null,{"$f":"M8778","v":144.75166666666664},105.49666666666667,100.05666666666667,null,{"$f":"'Combined Cycle Gas'!$D$8","v":318.30459770114948},{"$f":"Nuclear!$D$8","v":307.69444444444446},0,138.16,99.796666666666667,85.71833333333332,0]
["2018-12-31",4,33.549999999999997,327,null,{"$f":"M8779","v":141.29166666666666},104.68333333333334,95.513333333333335,null,{"$f":"'Combined Cycle Gas'!$D$8","v":318.30459770114948},{"$f":"Nuclear!$D$8","v":307.69444444444446},0,140.82500000000002,102.55,76.283333333333331,0]
["2018-12-31",5,34.700000000000003,528,null,{"$f":"M8780","v":140.58666666666667},105.80999999999999,84.92,null,{"$f":"'Combined Cycle Gas'!$D$8","v":318.30459770114948},{"$f":"Nuclear!$D$8","v":307.69444444444446},0,140.96333333333334,97.11,76.228333333333339,0]
["2018-12-31",6,45.94,619,null,{"$f":"M8781","v":140.20666666666668},108.21166666666669,77.144999999999996,null,{"$f":"'Combined Cycle Gas'!$D$8","v":318.30459770114948},{"$f":"Nuclear!$D$8","v":307.69444444444446},0,140.10666666666665,103.95333333333333,77.448333333333323,0]
["2018-12-31",7,45.96,355,null,{"$f":"M8782","v":141.80333333333331},103.81833333333333,85.62166666666667,null,{"$f":"'Combined Cycle Gas'!$D$8","v":318.30459770114948},{"$f":"Nuclear!$D$8","v":307.69444444444446},0,136.1216666666667,104.84166666666665,90.535000000000011,0]
["2018-12-31",8,43.69,486,null,{"$f":"M8783","v":127.39833333333333},58.311666666666667,96.780000000000015,null,{"$f":"'Combined Cycle Gas'!$D$8","v":318.30459770114948},{"$f":"Nuclear!$D$8","v":307.69444444444446},0,140.65666666666667,106.17999999999999,96.820000000000007,0]
["2018-12-31",9,30.16,481,null,{"$f":"M8784","v":106.21},49.561666666666667,100.42166666666667,null,{"$f":"'Combined Cycle Gas'!$D$8","v":318.30459770114948},{"$f":"Nuclear!$D$8","v":307.69444444444446},0.69890300000000005,144.75166666666664,105.49666666666667,100.05666666666667,698903]
["2018-12-31",10,27.64,783,null,{"$f":"M8785","v":44.428333333333342},53.406666666666659,99.688333333333333,null,{"$f":"'Combined Cycle Gas'!$D$8","v":318.30459770114948},{"$f":"Nuclear!$D$8","v":307.69444444444446},1.378762,141.29166666666666,104.68333333333334,95.513333333333335,1378762]
["2018-12-31",11,29.24,963,null,{"$f":"M8786","v":46.856666666666662},64.605000000000004,107.15666666666668,null,{"$f":"'Combined Cycle Gas'!$D$8","v":318.30459770114948},{"$f":"Nuclear!$D$8","v":307.69444444444446},2.0286140000000001,140.58666666666667,105.80999999999999,84.92,2028614]
["2018-12-31",12,25.32,1887,null,{"$f":"M8787","v":38.153333333333336},82.928333333333327,103.16166666666668,null,{"$f":"'Combined Cycle Gas'!$D$8","v":318.30459770114948},{"$f":"Nuclear!$D$8","v":307.69444444444446},2.0517400000000001,140.20666666666668,108.21166666666669,77.144999999999996,2051740]
["2018-12-31",13,24.36,2969,null,{"$f":"M8788","v":43.443333333333335},72.204999999999998,101.11500000000001,null,{"$f":"'Combined Cycle Gas'!$D$8","v":318.30459770114948},{"$f":"Nuclear!$D$8","v":307.69444444444446},2.3320029999999998,141.80333333333331,103.81833333333333,85.62166666666667,2332003]
["2018-12-31",14,22.04,2969,null,{"$f":"M8789","v":42.610000000000007},84.416666666666671,88.021666666666661,null,{"$f":"'Combined Cycle Gas'!$D$8","v":318.30459770114948},{"$f":"Nuclear!$D$8","v":307.69444444444446},1.875969,127.39833333333333,58.311666666666667,96.780000000000015,1875969]
["2018-12-31",15,22.12,2969,null,{"$f":"M8790","v":37.763333333333335},85.581666666666663,85.31,null,{"$f":"'Combined Cycle Gas'!$D$8","v":318.30459770114948},{"$f":"Nuclear!$D$8","v":307.69444444444446},1.381389,106.21,49.561666666666667,100.42166666666667,1381389]
["2018-12-31",16,23.14,2969,null,{"$f":"M8791","v":103.83666666666666},99.448333333333338,78.933333333333323,null,{"$f":"'Combined Cycle Gas'!$D$8","v":318.30459770114948},{"$f":"Nuclear!$D$8","v":307.69444444444446},0.73892000000000002,44.428333333333342,53.406666666666659,99.688333333333333,738920]
["2018-12-31",17,25.56,2969,null,{"$f":"M8792","v":108.72833333333334},86.588333333333324,93.65333333333335,null,{"$f":"'Combined Cycle Gas'!$D$8","v":318.30459770114948},{"$f":"Nuclear!$D$8","v":307.69444444444446},8.9009999999999992E-3,46.856666666666662,64.605000000000004,107.15666666666668,8901]
["2018-12-31",18,13.85,2733,null,{"$f":"M8793","v":117.09000000000002},73.846666666666664,98.883333333333326,null,{"$f":"'Combined Cycle Gas'!$D$8","v":318.30459770114948},{"$f":"Nuclear!$D$8","v":307.69444444444446},0,38.153333333333336,82.928333333333327,103.16166666666668,0]
["2018-12-31",19,27.76,2664,null,{"$f":"M8794","v":107.25666666666666},79.213333333333324,99.326666666666668,null,{"$f":"'Combined Cycle Gas'!$D$8","v":318.30459770114948},{"$f":"Nuclear!$D$8","v":307.69444444444446},0,43.443333333333335,72.204999999999998,101.11500000000001,0]
["2018-12-31",20,26.1,2970,null,{"$f":"M8795","v":77.298333333333332},84.703333333333333,99.75333333333333,null,{"$f":"'Combined Cycle Gas'!$D$8","v":318.30459770114948},{"$f":"Nuclear!$D$8","v":307.69444444444446},0,42.610000000000007,84.416666666666671,88.021666666666661,0]
["2018-12-31",21,14.27,2970,null,{"$f":"M8796","v":106.65333333333335},97.100000000000009,95.326666666666654,null,{"$f":"'Combined Cycle Gas'!$D$8","v":318.30459770114948},{"$f":"Nuclear!$D$8","v":307.69444444444446},0,37.763333333333335,85.581666666666663,85.31,0]
["2018-12-31",22,24.88,2970,null,{"$f":"M8797","v":110.88333333333333},102.64833333333333,86.83,null,{"$f":"'Combined Cycle Gas'!$D$8","v":318.30459770114948},{"$f":"Nuclear!$D$8","v":307.69444444444446},0,103.83666666666666,99.448333333333338,78.933333333333323,0]
["2018-12-31",23,21.5,2970,null,{"$f":"M8798","v":100.08},82.016666666666666,95.203333333333319,null,{"$f":"'Combined Cycle Gas'!$D$8","v":318.30459770114948},{"$f":"Nuclear!$D$8","v":307.69444444444446},0,108.72833333333334,86.588333333333324,93.65333333333335,0]
["2018-12-31",24,24.15,2823,null,{"$f":"M8799","v":95.178333333333342},82.193333333333328,93.954999999999998,null,{"$f":"'Combined Cycle Gas'!$D$8","v":318.30459770114948},{"$f":"Nuclear!$D$8","v":307.69444444444446},0,117.09000000000002,73.846666666666664,98.883333333333326,0]
[null,null,null,null,null,null,null,null,null,null,null,null,107.25666666666666,79.213333333333324,99.326666666666668]
[null,null,null,null,null,null,null,null,null,null,null,null,77.298333333333332,84.703333333333333,99.75333333333333]
[null,null,null,null,null,null,null,null,null,null,null,null,106.65333333333335,97.100000000000009,95.326666666666654]
[null,null,null,null,null,null,null,null,null,null,null,null,110.88333333333333,102.64833333333333,86.83]
[null,null,null,null,null,null,null,null,null,null,null,null,100.08,82.016666666666666,95.203333333333319]
[null,null,null,null,null,null,null,null,null,null,null,null,95.178333333333342,82.193333333333328,93.954999999999998]
[null,null,null,null,null,null,null,null,null,null,null,null,80.611666666666665,67.330000000000013,69.901666666666657]
[null,null,null,null,null,null,null,null,null,null,null,null,62.676666666666677,29.395,60.048333333333339]
[null,null,null,null,null,null,null,null,null,null,null,null,29.02666666666666,9.6466666666666665,39.97]